Workbook

Sheet Jean
A1: Mars 2017 - Hugo
A3: Solde au 01/03/2017 | D3: 100 | F3: Dernière modification | I3: 42805
A5: Versements externes | H5: Charges | O5: Dépenses
A6: Date | B6: Intitulé | E6: Thérorique | F6: Réel | H6: Date | I6: Intitulé | L6: Thérorique | M6: Réel | O6: Date | P6: Intitulé | S6: Thérorique | T6: Réel
E7: 500 | L7: 354.09 | O7: 42797 | P7: Courses | S7: 10.52 | T7: 10.52
E8: 200 | F8: 200 | L8: 57.99 | O8: 42800 | P8: Quick | S8: 22.8 | T8: 22.8
E9: 10 | L9: 3.3 | M9: 3.3 | O9: 42800 | P9: Autoroute APRR | S9: 5.5 | T9: 5.5
E10: 200 | L10: 24.24 | M10: 24.16 | O10: 42801 | P10: Retrait espèces | S10: 70 | T10: 70
E11: 10 | F11: 7.92 | O11: 42801 | P11: Courses Super U | S11: 9.04 | T11: 9.04
E12: 100 | F12: 100 | O12: 42803 | P12: KFC | S12: 1.2 | T12: 1.2
E13: 20 | F13: 20 | O13: 42803 | P13: Subway | S13: 9.1 | T13: 9.1
O14: 42803 | P14: Courses Carrefour | S14: 22.37 | T14: 22.37
O15: 42803 | P15: KFC | S15: 18.85 | T15: 18.852
A19: Total | E19: =SUM(E7:E18) -> 1040 | F19: =SUM(F7:F18) -> 327.92 | H19: Total | L19: =SUM(L7:L18) -> 439.62 | M19: =SUM(M7:M18) -> 27.46
A21: Dépôt chèques / espèces | H21: Prélèvements/virements vers d'autres comptes
A22: Date | B22: Intitulé | E22: Thérorique | F22: Réel | H22: Date | I22: Intitulé | L22: Thérorique | M22: Réel
I23: Loyer Semur à Manon | L23: 270
H24: 42797 | I24: Compte dépôt | L24: 50 | M24: 50
I25: Liberty Gym | L25: 29.9
H26: 42768 | I26: Compte dépôt | L26: 20 | M26: 20
H27: 42804 | I27: Cdiscount (Télé Manon) | L27: 38.1 | M27: 38.1
A35: Total | E35: =SUM(E23:E34) -> 0 | F35: =SUM(F23:F34) -> 0 | H35: Total | L35: =SUM(L23:L34) -> 408 | M35: =SUM(M23:M34) -> 108.1
A37: Essence | H37: Tabac
A38: Date | B38: Intitulé | E38: Thérorique | F38: Réel | H38: Date | I38: Intitulé | L38: Thérorique | M38: Réel
A39: Calculatrice théorique | E39: =F61 -> 100 | H39: Calculatrice théorique | L39: =F62 -> 72
A40: 42801 | F40: 20.02 | H40: 42800 | I40: Petit dép | M40: 22.3
A41: 42802 | F41: 20.01 | H41: 42801 | I41: Le Rallye | M41: 21.7
A42: 42804 | F42: 5.03 | H42: 42804 | I42: Le Rallye | M42: 17
A57: Total | E57: =SUM(E39:E56) -> 100 | F57: =SUM(F39:F56) -> 45.06 | H57: Total | L57: =SUM(L39:L56) -> 72 | M57: =SUM(M39:M56) -> 61
A59: Calculatrice théorique [CT] | H59: Repas midi
A60: Intitulé | D60: Prix / Uni. | E60: Quantité | F60: Total | H60: Date | I60: Intitulé | L60: Thérorique | M60: Réel
A61: Essence | D61: 20 | E61: 5 | F61: =D61*E61 -> 100 | H61: Calculatrice théorique | L61: =F63 -> 63
A62: Tabac | D62: 12 | E62: 6 | F62: =D62*E62 -> 72 | H62: 42795 | I62: Géant Casino | M62: 2
A63: Repas midi | D63: 3.5 | E63: 18 | F63: =D63*E63 -> 63 | H63: 42796 | I63: Géant Casino | M63: 1.82
F64: =D64*E64 -> 0 | H64: 42801 | I64: Cafétéria FCI | M64: 10
F65: =D65*E65 -> 0
F66: =D66*E66 -> 0
F67: =D67*E67 -> 0
F68: =D68*E68 -> 0
F69: =D69*E69 -> 0
...

Sheet Monique
A1: Mars 2017 - Manon
A3: Solde au 01/03/2017 | D3: 100 | F3: Dernière modification | J3: =Jean!I3 -> 42805
A5: Versements externes | I5: Charges | Q5: Dépenses
A6: Date | B6: Intitulé | E6: Thérorique | F6: Réel | G6: Différence | I6: Date | J6: Intitulé | M6: Thérorique | N6: Réel | O6: Différence | Q6: Date | R6: Intitulé | U6: Thérorique | V6: Réel | W6: Différence
E7: 10 | F7: 10 | G7: =E7-F7 -> 0 | M7: 270.95 | O7: =M7-N7 -> 270.95 | U7: 35 | V7: 35 | W7: =U7-V7 -> 0
E8: 20 | G8: =E8-F8 -> 20 | M8: 5.25 | N8: 5.25 | O8: =M8-N8 -> 0 | U8: 12.86 | V8: 12.86 | W8: =U8-V8 -> 0
E9: 50 | F9: 40 | G9: =E9-F9 -> 10 | M9: 49.62 | O9: =M9-N9 -> 49.62 | U9: 9.63 | V9: 9.63 | W9: =U9-V9 -> 0
E10: 33.65 | F10: 33.65 | G10: =E10-F10 -> 0 | M10: 2.24 | N10: 2.26 | O10: =M10-N10 -> -0.02 | W10: =U10-V10 -> 0
G11: =E11-F11 -> 0 | M11: 3.23 | O11: =M11-N11 -> 3.23 | W11: =U11-V11 -> 0
G12: =E12-F12 -> 0 | M12: 117 | N12: 91.03 | O12: =M12-N12 -> 25.97 | W12: =U12-V12 -> 0
G13: =E13-F13 -> 0 | M13: 11.43 | N13: 11.43 | O13: =M13-N13 -> 0 | W13: =U13-V13 -> 0
G14: =E14-F14 -> 0 | O14: =M14-N14 -> 0 | W14: =U14-V14 -> 0
G15: =E15-F15 -> 0 | O15: =M15-N15 -> 0 | W15: =U15-V15 -> 0
G16: =E16-F16 -> 0 | O16: =M16-N16 -> 0 | W16: =U16-V16 -> 0
G17: =E17-F17 -> 0 | O17: =M17-N17 -> 0 | W17: =U17-V17 -> 0
G18: =E18-F18 -> 0 | O18: =M18-N18 -> 0 | W18: =U18-V18 -> 0
A19: Total | E19: =SUM(E7:E18) -> 113.65 | F19: =SUM(F7:F18) -> 83.65 | G19: =E19-F19 -> 30 | I19: Total | M19: =SUM(M7:M18) -> 459.72 | N19: =SUM(N7:N18) -> 109.97 | O19: =M19-N19 -> 349.75 | W19: =U19-V19 -> 0
W20: =U20-V20 -> 0
A21: Dépôt chèques / espèces | I21: Prélèvements/virements vers d'autres comptes | W21: =U21-V21 -> 0
A22: Date | B22: Intitulé | E22: Thérorique | F22: Réel | G22: Différence | I22: Date | J22: Intitulé | M22: Thérorique | N22: Réel | O22: Différence | W22: =U22-V22 -> 0
G23: =E23-F23 -> 0 | I23: 42799 | J23: Prêt voiture (Crédit Agricole) | M23: 54.72 | N23: 54.72 | O23: =M23-N23 -> 0 | W23: =U23-V23 -> 0
G24: =E24-F24 -> 0 | O24: =M24-N24 -> 0 | W24: =U24-V24 -> 0
G25: =E25-F25 -> 0 | O25: =M25-N25 -> 0 | W25: =U25-V25 -> 0
G26: =E26-F26 -> 0 | O26: =M26-N26 -> 0 | W26: =U26-V26 -> 0
G27: =E27-F27 -> 0 | O27: =M27-N27 -> 0 | W27: =U27-V27 -> 0
G28: =E28-F28 -> 0 | O28: =M28-N28 -> 0 | W28: =U28-V28 -> 0
G29: =E29-F29 -> 0 | O29: =M29-N29 -> 0 | W29: =U29-V29 -> 0
G30: =E30-F30 -> 0 | O30: =M30-N30 -> 0 | W30: =U30-V30 -> 0
G31: =E31-F31 -> 0 | O31: =M31-N31 -> 0 | W31: =U31-V31 -> 0
G32: =E32-F32 -> 0 | O32: =M32-N32 -> 0 | W32: =U32-V32 -> 0
G33: =E33-F33 -> 0 | O33: =M33-N33 -> 0 | W33: =U33-V33 -> 0
G34: =E34-F34 -> 0 | O34: =M34-N34 -> 0 | W34: =U34-V34 -> 0
A35: Total | E35: =SUM(E23:E34) -> 0 | F35: =SUM(F23:F34) -> 0 | G35: =E35-F35 -> 0 | I35: Total | M35: =SUM(M23:M34) -> 54.72 | N35: =SUM(N23:N34) -> 54.72 | O35: =M35-N35 -> 0 | W35: =U35-V35 -> 0
W36: =U36-V36 -> 0
A37: Essence | I37: Tabac | W37: =U37-V37 -> 0
A38: Date | B38: Intitulé | E38: Thérorique | F38: Réel | I38: Date | J38: Intitulé | M38: Thérorique | N38: Réel | W38: =U38-V38 -> 0
A39: Calculatrice théorique | E39: 50 | I39: Calculatrice théorique | M39: =F61 -> 72 | W39: =U39-V39 -> 0
F40: 20 | N40: 40 | W40: =U40-V40 -> 0
W41: =U41-V41 -> 0
W42: =U42-V42 -> 0
...

Sheet Totaux
B2: Jean | G2: Monique
C5: Théoriques | D5: Réels | H5: Théoriques | I5: Réels
B6: Entrées d'argent | C6: =Jean!E19+Jean!E35 -> 1040 | D6: =Jean!F19+Jean!F35 -> 327.92 | G6: Entrées d'argent | H6: =Monique!E19+Monique!E35 -> 113.65 | I6: =Monique!F19+Monique!F35 -> 83.65
B7: Sorties d'argent | C7: =Jean!L19+Jean!L35+Jean!E57+Jean!L57+Jean!L79+Jean!S75 -> 1252 | D7: =Jean!M19+Jean!M35+Jean!F57+Jean!M57+Jean!M79+Jean!T75 -> 424.822 | G7: Sorties d'argent | H7: =Monique!M19+Monique!M35+Monique!E57+Monique!M57+Monique!M79+Monique!U75+Monique!E93+Monique!M88 -> 974.43 | I7: =Monique!N19+Monique!N35+Monique!N57+Monique!F57+Monique!N79+Monique!V75+Monique!N88+Monique!F93 -> 0
B9: Reste théorique | G9: Reste théorique
B11: =((Jean!D3)+Totaux!C6)-(Totaux!C7) -> -112 | G11: =((Monique!D3)+Totaux!H6)-(Totaux!H7) -> -760.78
B14: Reste réel | G14: Reste réel
B16: =((Jean!D3)+Totaux!D6)-(Totaux!D7) -> 3.098 | G16: =((Monique!D3)+Totaux!I6)-(Totaux!I7) -> 563.86
B19: Différences | G19: Différences
B21: Intutilé | C21: Théorique | D21: Réel | E21: Différence | G21: Intutilé | H21: Théorique | I21: Réel | J21: Différence
C22: =Jean!E57 -> 100 | D22: =Jean!F57 -> 45.06 | E22: =C22-D22 -> 54.94 | H22: =Monique!E57 -> 50 | I22: =Monique!F57 -> 20 | J22: =H22-I22 -> 30
C23: =Jean!L57 -> 72 | D23: =Jean!M57 -> 61 | E23: =C23-D23 -> 11 | H23: =Monique!M57 -> 72 | I23: =Monique!N57 -> 40 | J23: =H23-I23 -> 32
C24: =Jean!L79 -> 63 | D24: =Jean!M79 -> 13.82 | E24: =C24-D24 -> 49.18 | H24: =Monique!M79 -> 45.5 | I24: =Monique!N79 -> 9.21 | J24: =H24-I24 -> 36.29
H25: =Monique!M83 -> 35 | I25: =Monique!N88 -> 0 | J25: =H25-I25 -> 0
H26: =Monique!E93 -> 200 | I26: =Monique!F93 -> 62.29 | J26: =H26-I26 -> 137.71
