Workbook
Name _113_: #REF!
Name _114_: #REF!
Name _115_: #REF!

Sheet Données
M3: MARS | R3: AVRIL | V3: MAI | AA3: JUIN | AE3: JUILLET | AI3: AOÛT | AN3: SEPTEMBRE | AR3: OCTOBRE | AV3: NOVEMBRE | BA3: DÉCEMBRE
B4: Février | C4: Mars | D4: Avril | E4: Mai | F4: Juin | G4: Juillet | H4: Août | I4: Septembre | J4: Octobre | K4: Novembre | L4: Décembre | M4: S9 | N4: S10 | O4: S11 | P4: S12 | Q4: S13 | R4: S14 | S4: S15 | T4: S16 | U4: S17 | V4: S18 | W4: S19 | X4: S20 | Y4: S21 | Z4: S22 | AA4: S23 | AB4: S24 | AC4: S25 | AD4: S26 | AE4: S27 | AF4: S28 | AG4: S29 | AH4: S30 | AI4: S31 | AJ4: S32 | AK4: S33 | AL4: S34 | AM4: S35 | AN4: S36 | AO4: S37 | AP4: S38 | AQ4: S39 | AR4: S40 | AS4: S41 | AT4: S42 | AU4: S43 | AV4: S44 | AW4: S45 | AX4: S46 | AY4: S47 | AZ4: S48 | BA4: S49 | BB4: S50 | BC4: S51
A5: DQ31
A6: NON RO Chgt Convoi | B6: =[1]Données!Q4 -> 0.075266081 | C6: =AVERAGE(M6:Q6) -> 0.023661924 | D6: =AVERAGE(R6:U6) -> 0 | E6: =AVERAGE(V6:Z6) -> 0 | F6: =AVERAGE(AA6:AD6) -> 0 | G6: =AVERAGE(AE6:AH6) -> 0 | H6: =AVERAGE(AI6:AM6) -> 0 | I6: =AVERAGE(AN6:AQ6) -> 0 | J6: =AVERAGE(AR6:AU6) -> 0 | K6: =AVERAGE(AV6:AZ6) -> 0 | L6: =AVERAGE(BA6:BC6) -> 0 | M6: =[1]Données!AJ4 -> 0.11830962 | N6: =[1]Données!AK4 -> 0 | O6: =[1]Données!AL4 -> 0 | P6: =[1]Données!AM4 -> 0 | Q6: =[1]Données!AN4 -> 0 | R6: =[1]Données!AO4 -> 0 | S6: =[1]Données!AP4 -> 0 | T6: =[1]Données!AQ4 -> 0 | ... BC6: =[1]Données!BZ4 -> 0
A7: Obj | B7: 0.108 | C7: =AVERAGE(M7:Q7) -> 0.108 | D7: =AVERAGE(R7:U7) -> 0.108 | E7: =AVERAGE(V7:Z7) -> 0.108 | F7: =AVERAGE(AA7:AD7) -> 0.108 | G7: =AVERAGE(AE7:AH7) -> 0.108 | H7: =AVERAGE(AI7:AM7) -> 0.108 | I7: =AVERAGE(AN7:AQ7) -> 0.108 | J7: =AVERAGE(AR7:AU7) -> 0.108 | K7: =AVERAGE(AV7:AZ7) -> 0.108 | L7: =AVERAGE(BA7:BC7) -> 0.108 | M7: 0.108 | N7: 0.108 | O7: 0.108 | P7: 0.108 | Q7: 0.108 | R7: 0.108 | S7: 0.108 | T7: 0.108 | U7: 0.108 | V7: 0.108 | W7: 0.108 | X7: 0.108 | Y7: 0.108 | Z7: 0.108 | AA7: 0.108 | AB7: 0.108 | AC7: 0.108 | AD7: 0.108 | AE7: 0.108 | AF7: 0.108 | AG7: 0.108 | AH7: 0.108 | AI7: 0.108 | AJ7: 0.108 | AK7: 0.108 | AL7: 0.108 | AM7: 0.108 | AN7: 0.108 | AO7: 0.108 | AP7: 0.108 | AQ7: 0.108 | AR7: 0.108 | AS7: 0.108 | AT7: 0.108 | AU7: 0.108 | AV7: 0.108 | AW7: 0.108 | AX7: 0.108 | AY7: 0.108 | AZ7: 0.108 | BA7: 0.108 | BB7: 0.108 | BC7: 0.108
A8: NON RO Chgt Bobine | B8: =[1]Données!Q6 -> 0.085891169 | C8: =AVERAGE(M8:Q8) -> 0.0056572285 | D8: =AVERAGE(R8:U8) -> 0 | E8: =AVERAGE(V8:Z8) -> 0 | F8: =AVERAGE(AA8:AD8) -> 0 | G8: =AVERAGE(AE8:AH8) -> 0 | H8: =AVERAGE(AI8:AM8) -> 0 | I8: =AVERAGE(AN8:AQ8) -> 0 | J8: =AVERAGE(AR8:AU8) -> 0 | K8: =AVERAGE(AV8:AZ8) -> 0 | L8: =AVERAGE(BA8:BC8) -> 0 | M8: =[1]Données!AJ6 -> 0.028286143 | N8: =[1]Données!AK6 -> 0 | O8: =[1]Données!AL6 -> 0 | P8: =[1]Données!AM6 -> 0 | Q8: =[1]Données!AN6 -> 0 | R8: =[1]Données!AO6 -> 0 | S8: =[1]Données!AP6 -> 0 | T8: =[1]Données!AQ6 -> 0 | ... BC8: =[1]Données!BZ6 -> 0
A9: Obj | B9: 0.1 | C9: =AVERAGE(M9:Q9) -> 0.1 | D9: =AVERAGE(R9:U9) -> 0.1 | E9: =AVERAGE(V9:Z9) -> 0.1 | F9: =AVERAGE(AA9:AD9) -> 0.1 | G9: =AVERAGE(AE9:AH9) -> 0.1 | H9: =AVERAGE(AI9:AM9) -> 0.1 | I9: =AVERAGE(AN9:AQ9) -> 0.1 | J9: =AVERAGE(AR9:AU9) -> 0.1 | K9: =AVERAGE(AV9:AZ9) -> 0.1 | L9: =AVERAGE(BA9:BC9) -> 0.1 | M9: 0.1 | N9: 0.1 | O9: 0.1 | P9: 0.1 | Q9: 0.1 | R9: 0.1 | S9: 0.1 | T9: 0.1 | U9: 0.1 | V9: 0.1 | W9: 0.1 | X9: 0.1 | Y9: 0.1 | Z9: 0.1 | AA9: 0.1 | AB9: 0.1 | AC9: 0.1 | AD9: 0.1 | AE9: 0.1 | AF9: 0.1 | AG9: 0.1 | AH9: 0.1 | AI9: 0.1 | AJ9: 0.1 | AK9: 0.1 | AL9: 0.1 | AM9: 0.1 | AN9: 0.1 | AO9: 0.1 | AP9: 0.1 | AQ9: 0.1 | AR9: 0.1 | AS9: 0.1 | AT9: 0.1 | AU9: 0.1 | AV9: 0.1 | AW9: 0.1 | AX9: 0.1 | AY9: 0.1 | AZ9: 0.1 | BA9: 0.1 | BB9: 0.1 | BC9: 0.1
A10: Tps moyen de changt de bobine | B10: =[1]Données!Q15 -> 15.261591 | C10: =AVERAGE(M10:Q10) -> 2.5 | D10: =AVERAGE(R10:U10) -> 0 | E10: =AVERAGE(V10:Z10) -> 0 | F10: =AVERAGE(AA10:AD10) -> 0 | G10: =AVERAGE(AE10:AH10) -> 0 | H10: =AVERAGE(AI10:AM10) -> 0 | I10: =AVERAGE(AN10:AQ10) -> 0 | J10: =AVERAGE(AR10:AU10) -> 0 | K10: =AVERAGE(AV10:AZ10) -> 0 | L10: =AVERAGE(BA10:BC10) -> 0 | M10: =[1]Données!AJ15 -> 12.5 | N10: =[1]Données!AK15 -> 0 | O10: =[1]Données!AL15 -> 0 | P10: =[1]Données!AM15 -> 0 | Q10: =[1]Données!AN15 -> 0 | R10: =[1]Données!AO15 -> 0 | S10: =[1]Données!AP15 -> 0 | T10: =[1]Données!AQ15 -> 0 | ... BC10: =[1]Données!BZ15 -> 0
A11: Obj | B11: 20 | C11: =AVERAGE(M11:Q11) -> 20 | D11: =AVERAGE(R11:U11) -> 20 | E11: =AVERAGE(V11:Z11) -> 20 | F11: =AVERAGE(AA11:AD11) -> 20 | G11: =AVERAGE(AE11:AH11) -> 20 | H11: =AVERAGE(AI11:AM11) -> 20 | I11: =AVERAGE(AN11:AQ11) -> 20 | J11: =AVERAGE(AR11:AU11) -> 20 | K11: =AVERAGE(AV11:AZ11) -> 20 | L11: =AVERAGE(BA11:BC11) -> 20 | M11: 20 | N11: 20 | O11: 20 | P11: 20 | Q11: 20 | R11: 20 | S11: 20 | T11: 20 | U11: 20 | V11: 20 | W11: 20 | X11: 20 | Y11: 20 | Z11: 20 | AA11: 20 | AB11: 20 | AC11: 20 | AD11: 20 | AE11: 20 | AF11: 20 | AG11: 20 | AH11: 20 | AI11: 20 | AJ11: 20 | AK11: 20 | AL11: 20 | AM11: 20 | AN11: 20 | AO11: 20 | AP11: 20 | AQ11: 20 | AR11: 20 | AS11: 20 | AT11: 20 | AU11: 20 | AV11: 20 | AW11: 20 | AX11: 20 | AY11: 20 | AZ11: 20 | BA11: 20 | BB11: 20 | BC11: 20
A12: Tps moyen de changt de convoi | B12: =[1]Données!Q18 -> 45.911667 | C12: =AVERAGE(M12:Q12) -> 10.7 | D12: =AVERAGE(R12:U12) -> 0 | E12: =AVERAGE(V12:Z12) -> 0 | F12: =AVERAGE(AA12:AD12) -> 0 | G12: =AVERAGE(AE12:AH12) -> 0 | H12: =AVERAGE(AI12:AM12) -> 0 | I12: =AVERAGE(AN12:AQ12) -> 0 | J12: =AVERAGE(AR12:AU12) -> 0 | K12: =AVERAGE(AV12:AZ12) -> 0 | L12: =AVERAGE(BA12:BC12) -> 0 | M12: =[1]Données!AJ18 -> 53.5 | N12: =[1]Données!AK18 -> 0 | O12: =[1]Données!AL18 -> 0 | P12: =[1]Données!AM18 -> 0 | Q12: =[1]Données!AN18 -> 0 | R12: =[1]Données!AO18 -> 0 | S12: =[1]Données!AP18 -> 0 | T12: =[1]Données!AQ18 -> 0 | ... BC12: =[1]Données!BZ18 -> 0
A13: Obj | B13: 45 | C13: =AVERAGE(M13:Q13) -> 45 | D13: =AVERAGE(R13:U13) -> 45 | E13: =AVERAGE(V13:Z13) -> 45 | F13: =AVERAGE(AA13:AD13) -> 45 | G13: =AVERAGE(AE13:AH13) -> 45 | H13: =AVERAGE(AI13:AM13) -> 45 | I13: =AVERAGE(AN13:AQ13) -> 45 | J13: =AVERAGE(AR13:AU13) -> 45 | K13: =AVERAGE(AV13:AZ13) -> 45 | L13: =AVERAGE(BA13:BC13) -> 45 | M13: 45 | N13: 45 | O13: 45 | P13: 45 | Q13: 45 | R13: 45 | S13: 45 | T13: 45 | U13: 45 | V13: 45 | W13: 45 | X13: 45 | Y13: 45 | Z13: 45 | AA13: 45 | AB13: 45 | AC13: 45 | AD13: 45 | AE13: 45 | AF13: 45 | AG13: 45 | AH13: 45 | AI13: 45 | AJ13: 45 | AK13: 45 | AL13: 45 | AM13: 45 | AN13: 45 | AO13: 45 | AP13: 45 | AQ13: 45 | AR13: 45 | AS13: 45 | AT13: 45 | AU13: 45 | AV13: 45 | AW13: 45 | AX13: 45 | AY13: 45 | AZ13: 45 | BA13: 45 | BB13: 45 | BC13: 45
A14: NON RO orga. Prod. | B14: =[1]Données!Q25 -> 0.021823226 | C14: =AVERAGE(M14:Q14) -> 0.0018974344 | D14: =AVERAGE(R14:U14) -> 0 | E14: =AVERAGE(V14:Z14) -> 0 | F14: =AVERAGE(AA14:AD14) -> 0 | G14: =AVERAGE(AE14:AH14) -> 0 | H14: =AVERAGE(AI14:AM14) -> 0 | I14: =AVERAGE(AN14:AQ14) -> 0 | J14: =AVERAGE(AR14:AU14) -> 0 | K14: =AVERAGE(AV14:AZ14) -> 0 | L14: =AVERAGE(BA14:BC14) -> 0 | M14: =[1]Données!AJ25 -> 0.0094871722 | N14: =[1]Données!AK25 -> 0 | O14: =[1]Données!AL25 -> 0 | P14: =[1]Données!AM25 -> 0 | Q14: =[1]Données!AN25 -> 0 | R14: =[1]Données!AO25 -> 0 | S14: =[1]Données!AP25 -> 0 | T14: =[1]Données!AQ25 -> 0 | ... BC14: =[1]Données!BZ25 -> 0
A15: Obj | B15: 0.002 | C15: =AVERAGE(M15:Q15) -> 0.002 | D15: =AVERAGE(R15:U15) -> 0.002 | E15: =AVERAGE(V15:Z15) -> 0.002 | F15: =AVERAGE(AA15:AD15) -> 0.002 | G15: =AVERAGE(AE15:AH15) -> 0.002 | H15: =AVERAGE(AI15:AM15) -> 0.002 | I15: =AVERAGE(AN15:AQ15) -> 0.002 | J15: =AVERAGE(AR15:AU15) -> 0.002 | K15: =AVERAGE(AV15:AZ15) -> 0.002 | L15: =AVERAGE(BA15:BC15) -> 0.002 | M15: 0.002 | N15: 0.002 | O15: 0.002 | P15: 0.002 | Q15: 0.002 | R15: 0.002 | S15: 0.002 | T15: 0.002 | U15: 0.002 | V15: 0.002 | W15: 0.002 | X15: 0.002 | Y15: 0.002 | Z15: 0.002 | AA15: 0.002 | AB15: 0.002 | AC15: 0.002 | AD15: 0.002 | AE15: 0.002 | AF15: 0.002 | AG15: 0.002 | AH15: 0.002 | AI15: 0.002 | AJ15: 0.002 | AK15: 0.002 | AL15: 0.002 | AM15: 0.002 | AN15: 0.002 | AO15: 0.002 | AP15: 0.002 | AQ15: 0.002 | AR15: 0.002 | AS15: 0.002 | AT15: 0.002 | AU15: 0.002 | AV15: 0.002 | AW15: 0.002 | AX15: 0.002 | AY15: 0.002 | AZ15: 0.002 | BA15: 0.002 | BB15: 0.002 | BC15: 0.002
A16: RO REALISE | B16: =[1]Données!Q33 -> 0.62746167 | C16: =AVERAGE(M16:Q16) -> 0.14386332 | D16: =AVERAGE(R16:U16) -> 0 | E16: =AVERAGE(V16:Z16) -> 0 | F16: =AVERAGE(AA16:AD16) -> 0 | G16: =AVERAGE(AE16:AH16) -> 0 | H16: =AVERAGE(AI16:AM16) -> 0 | I16: =AVERAGE(AN16:AQ16) -> 0 | J16: =AVERAGE(AR16:AU16) -> 0 | K16: =AVERAGE(AV16:AZ16) -> 0 | L16: =AVERAGE(BA16:BC16) -> 0 | M16: =[1]Données!AJ33 -> 0.71931661 | N16: =[1]Données!AK33 -> 0 | O16: =[1]Données!AL33 -> 0 | P16: =[1]Données!AM33 -> 0 | Q16: =[1]Données!AN33 -> 0 | R16: =[1]Données!AO33 -> 0 | S16: =[1]Données!AP33 -> 0 | T16: =[1]Données!AQ33 -> 0 | ... BC16: =[1]Données!BZ33 -> 0
A17: Obj | B17: 0.676 | C17: =AVERAGE(M17:Q17) -> 0.676 | D17: =AVERAGE(R17:U17) -> 0.676 | E17: =AVERAGE(V17:Z17) -> 0.676 | F17: =AVERAGE(AA17:AD17) -> 0.676 | G17: =AVERAGE(AE17:AH17) -> 0.676 | H17: =AVERAGE(AI17:AM17) -> 0.676 | I17: =AVERAGE(AN17:AQ17) -> 0.676 | J17: =AVERAGE(AR17:AU17) -> 0.676 | K17: =AVERAGE(AV17:AZ17) -> 0.676 | L17: =AVERAGE(BA17:BC17) -> 0.676 | M17: 0.676 | N17: 0.676 | O17: 0.676 | P17: 0.676 | Q17: 0.676 | R17: 0.676 | S17: 0.676 | T17: 0.676 | U17: 0.676 | V17: 0.676 | W17: 0.676 | X17: 0.676 | Y17: 0.676 | Z17: 0.676 | AA17: 0.676 | AB17: 0.676 | AC17: 0.676 | AD17: 0.676 | AE17: 0.676 | AF17: 0.676 | AG17: 0.676 | AH17: 0.676 | AI17: 0.676 | AJ17: 0.676 | AK17: 0.676 | AL17: 0.676 | AM17: 0.676 | AN17: 0.676 | AO17: 0.676 | AP17: 0.676 | AQ17: 0.676 | AR17: 0.676 | AS17: 0.676 | AT17: 0.676 | AU17: 0.676 | AV17: 0.676 | AW17: 0.676 | AX17: 0.676 | AY17: 0.676 | AZ17: 0.676 | BA17: 0.676 | BB17: 0.676 | BC17: 0.676
A19: DP37
A20: NON RO Chgt Convoi | M20: =[1]Données!AJ45 -> 0.08746435 | N20: =[1]Données!AK45 -> 0 | O20: =[1]Données!AL45 -> 0 | P20: =[1]Données!AM45 -> 0 | Q20: =[1]Données!AN45 -> 0 | R20: =[1]Données!AO45 -> 0 | S20: =[1]Données!AP45 -> 0 | T20: =[1]Données!AQ45 -> 0 | ... BC20: =[1]Données!BZ45 -> 0
A22: NON RO Chgt Bobine | M22: =[1]Données!AJ47 -> 0.061776834 | N22: =[1]Données!AK47 -> 0 | O22: =[1]Données!AL47 -> 0 | P22: =[1]Données!AM47 -> 0 | Q22: =[1]Données!AN47 -> 0 | R22: =[1]Données!AO47 -> 0 | S22: =[1]Données!AP47 -> 0 | T22: =[1]Données!AQ47 -> 0 | ... BC22: =[1]Données!BZ47 -> 0
A24: Tps moyen de changt de bobine | M24: =[1]Données!AJ56 -> 16.8 | N24: =[1]Données!AK56 -> 0 | O24: =[1]Données!AL56 -> 0 | P24: =[1]Données!AM56 -> 0 | Q24: =[1]Données!AN56 -> 0 | R24: =[1]Données!AO56 -> 0 | S24: =[1]Données!AP56 -> 0 | T24: =[1]Données!AQ56 -> 0 | ... BC24: =[1]Données!BZ56 -> 0
A26: Tps moyen de changt de convoi | M26: =[1]Données!AJ59 -> 50.5 | N26: =[1]Données!AK59 -> 0 | O26: =[1]Données!AL59 -> 0 | P26: =[1]Données!AM59 -> 0 | Q26: =[1]Données!AN59 -> 0 | R26: =[1]Données!AO59 -> 0 | S26: =[1]Données!AP59 -> 0 | T26: =[1]Données!AQ59 -> 0 | ... BC26: =[1]Données!BZ59 -> 0
A28: NON RO orga. Prod. | M28: =[1]Données!AJ66 -> 0.010783314 | N28: =[1]Données!AK66 -> 0 | O28: =[1]Données!AL66 -> 0 | P28: =[1]Données!AM66 -> 0 | Q28: =[1]Données!AN66 -> 0 | R28: =[1]Données!AO66 -> 0 | S28: =[1]Données!AP66 -> 0 | T28: =[1]Données!AQ66 -> 0 | ... BC28: =[1]Données!BZ66 -> 0
A29: RO REALISE | M29: =[1]Données!AJ74 -> 0.58808898 | N29: =[1]Données!AK74 -> 0 | O29: =[1]Données!AL74 -> 0 | P29: =[1]Données!AM74 -> 0 | Q29: =[1]Données!AN74 -> 0 | R29: =[1]Données!AO74 -> 0 | S29: =[1]Données!AP74 -> 0 | T29: =[1]Données!AQ74 -> 0 | ... BC29: =[1]Données!BZ74 -> 0
A31: LD11
A32: NON RO Chgt Convoi | M32: =[2]Données!AJ11 -> 0.1257568 | N32: =[2]Données!AK168 -> 0 | O32: =[2]Données!AL168 -> 0 | P32: =[2]Données!AM168 -> 0 | Q32: =[2]Données!AN168 -> 0 | R32: =[2]Données!AO168 -> 0 | S32: =[2]Données!AP168 -> 0 | T32: =[2]Données!AQ168 -> 0 | U32: =[2]Données!AR168 -> 0 | ... BC32: =[2]Données!BZ168 -> 0
A34: NON RO Chgt Bobine | M34: =[2]Données!AJ6 -> 0.047307817 | N34: =[2]Données!AK170 -> 0 | O34: =[2]Données!AL170 -> 0 | P34: =[2]Données!AM170 -> 0 | Q34: =[2]Données!AN170 -> 0 | R34: =[2]Données!AO170 -> 0 | S34: =[2]Données!AP170 -> 0 | T34: =[2]Données!AQ170 -> 0 | U34: =[2]Données!AR170 -> 0 | ... BC34: =[2]Données!BZ170 -> 0
A36: Tps moyen de changt de bobine | M36: =[2]Données!AJ15 -> 24.5 | N36: =[2]Données!AK179 -> 0 | O36: =[2]Données!AL179 -> 0 | P36: =[2]Données!AM179 -> 0 | Q36: =[2]Données!AN179 -> 0 | R36: =[2]Données!AO179 -> 0 | S36: =[2]Données!AP179 -> 0 | T36: =[2]Données!AQ179 -> 0 | U36: =[2]Données!AR179 -> 0 | ... BC36: =[2]Données!BZ179 -> 0
A38: Tps moyen de changt de convoi | M38: =[2]Données!AJ18 -> 45.9 | N38: =[2]Données!AK182 -> 0 | O38: =[2]Données!AL182 -> 0 | P38: =[2]Données!AM182 -> 0 | Q38: =[2]Données!AN182 -> 0 | R38: =[2]Données!AO182 -> 0 | S38: =[2]Données!AP182 -> 0 | T38: =[2]Données!AQ182 -> 0 | U38: =[2]Données!AR182 -> 0 | ... BC38: =[2]Données!BZ182 -> 0
A40: NON RO orga. Prod. | M40: =[2]Données!AJ25 -> 0.022869231 | N40: =[2]Données!AK189 -> 0 | O40: =[2]Données!AL189 -> 0 | P40: =[2]Données!AM189 -> 0 | Q40: =[2]Données!AN189 -> 0 | R40: =[2]Données!AO189 -> 0 | S40: =[2]Données!AP189 -> 0 | T40: =[2]Données!AQ189 -> 0 | U40: =[2]Données!AR189 -> 0 | ... BC40: =[2]Données!BZ189 -> 0
A41: RO REALISE | M41: =[2]Données!AJ33 -> 0.6547072 | N41: =[2]Données!AK197 -> 0 | O41: =[2]Données!AL197 -> 0 | P41: =[2]Données!AM197 -> 0 | Q41: =[2]Données!AN197 -> 0 | R41: =[2]Données!AO197 -> 0 | S41: =[2]Données!AP197 -> 0 | T41: =[2]Données!AQ197 -> 0 | U41: =[2]Données!AR197 -> 0 | ... BC41: =[2]Données!BZ197 -> 0
A43: LD12
A44: NON RO Chgt Convoi | M44: =[2]Données!AJ45 -> 0.040303207 | N44: =[2]Données!AK45 -> 0 | O44: =[2]Données!AL45 -> 0 | P44: =[2]Données!AM45 -> 0 | Q44: =[2]Données!AN45 -> 0 | R44: =[2]Données!AO45 -> 0 | S44: =[2]Données!AP45 -> 0 | T44: =[2]Données!AQ45 -> 0 | ... BC44: =[2]Données!BZ45 -> 0
A46: NON RO Chgt Bobine | M46: =[2]Données!AJ47 -> 0.11729847 | N46: =[2]Données!AK47 -> 0 | O46: =[2]Données!AL47 -> 0 | P46: =[2]Données!AM47 -> 0 | Q46: =[2]Données!AN47 -> 0 | R46: =[2]Données!AO47 -> 0 | S46: =[2]Données!AP47 -> 0 | T46: =[2]Données!AQ47 -> 0 | ... BC46: =[2]Données!BZ47 -> 0
A48: Tps moyen de changt de bobine | M48: =[2]Données!AJ56 -> 23.1 | N48: =[2]Données!AK56 -> 0 | O48: =[2]Données!AL56 -> 0 | P48: =[2]Données!AM56 -> 0 | Q48: =[2]Données!AN56 -> 0 | R48: =[2]Données!AO56 -> 0 | S48: =[2]Données!AP56 -> 0 | T48: =[2]Données!AQ56 -> 0 | ... BC48: =[2]Données!BZ56 -> 0
A50: Tps moyen de changt de convoi | M50: =[2]Données!AJ59 -> 70.7 | N50: =[2]Données!AK59 -> 0 | O50: =[2]Données!AL59 -> 0 | P50: =[2]Données!AM59 -> 0 | Q50: =[2]Données!AN59 -> 0 | R50: =[2]Données!AO59 -> 0 | S50: =[2]Données!AP59 -> 0 | T50: =[2]Données!AQ59 -> 0 | ... BC50: =[2]Données!BZ59 -> 0
A52: NON RO orga. Prod. | M52: =[2]Données!AJ66 -> 0.014012075 | N52: =[2]Données!AK66 -> 0 | O52: =[2]Données!AL66 -> 0 | P52: =[2]Données!AM66 -> 0 | Q52: =[2]Données!AN66 -> 0 | R52: =[2]Données!AO66 -> 0 | S52: =[2]Données!AP66 -> 0 | T52: =[2]Données!AQ66 -> 0 | ... BC52: =[2]Données!BZ66 -> 0
A54: RO REALISE | M54: =[2]Données!AJ74 -> 0.71302369 | N54: =[2]Données!AK74 -> 0 | O54: =[2]Données!AL74 -> 0 | P54: =[2]Données!AM74 -> 0 | Q54: =[2]Données!AN74 -> 0 | R54: =[2]Données!AO74 -> 0 | S54: =[2]Données!AP74 -> 0 | T54: =[2]Données!AQ74 -> 0 | ... BC54: =[2]Données!BZ74 -> 0

Sheet Remplissage
C1: MARS | AB1: AVRIL | AV1: MAI | BU1: JUIN | CO1: JUILLET | DI1: AOÛT | EH1: SEPTEMBRE | FB1: OCTOBRE | FV1: NOVEMBRE | GU1: DECEMBRE
C2: S9 | H2: S10 | M2: S11 | R2: S12 | W2: S13 | AB2: S14 | AG2: S15 | AL2: S16 | AQ2: S17 | AV2: S18 | BA2: S19 | BF2: S20 | BK2: S21 | BP2: S22 | BU2: S23 | BZ2: S24 | CE2: S25 | CJ2: S26 | CO2: S27 | CT2: S28 | CY2: S29 | DD2: S30 | DI2: S31 | DN2: S32 | DS2: S33 | DX2: S34 | EC2: S35 | EH2: S36 | EM2: S37 | ER2: S38 | EW2: S39 | FB2: S40 | FG2: S41 | FL2: S42 | FQ2: S43 | FV2: S44 | GA2: S45 | GF2: S46 | GK2: S47 | GP2: S48 | GU2: S49 | GZ2: S50 | HE2: S51
B3: janv. | C3: L | D3: M | E3: M | F3: J | G3: V | H3: L | I3: M | J3: M | K3: J | L3: V | M3: L | N3: M | O3: M | P3: J | Q3: V | R3: L | S3: M | T3: M | U3: J | V3: V | W3: L | X3: M | Y3: M | Z3: J | AA3: V | AB3: L | AC3: M | AD3: M | AE3: J | AF3: V | AG3: L | AH3: M | AI3: M | AJ3: J | AK3: V | AL3: L | AM3: M | AN3: M | AO3: J | AP3: V | AQ3: L | AR3: M | AS3: M | AT3: J | AU3: V | AV3: L | AW3: M | AX3: M | AY3: J | AZ3: V | BA3: L | BB3: M | BC3: M | BD3: J | BE3: V | BF3: L | BG3: M | BH3: M | BI3: J | BJ3: V | BK3: L | BL3: M | BM3: M | BN3: J | BO3: V | BP3: L | BQ3: M | BR3: M | BS3: J | BT3: V | BU3: L | BV3: M | BW3: M | BX3: J | BY3: V | BZ3: L | CA3: M | CB3: M | CC3: J | CD3: V | CE3: L | CF3: M | CG3: M | CH3: J | CI3: V | CJ3: L | CK3: M | CL3: M | CM3: J | CN3: V | CO3: L | CP3: M | CQ3: M | CR3: J | CS3: V | CT3: L | CU3: M | CV3: M | CW3: J | CX3: V | CY3: L | CZ3: M | DA3: M | DB3: J | DC3: V | DD3: L | DE3: M | DF3: M | DG3: J | DH3: V | DI3: L | DJ3: M | DK3: M | DL3: J | DM3: V | DN3: L | DO3: M | DP3: M | DQ3: J | DR3: V | DS3: L | DT3: M | DU3: M | DV3: J | DW3: V | DX3: L | DY3: M | DZ3: M | EA3: J | EB3: V | EC3: L | ED3: M | EE3: M | EF3: J | EG3: V | EH3: L | EI3: M | EJ3: M | EK3: J | EL3: V | EM3: L | EN3: M | EO3: M | EP3: J | EQ3: V | ER3: L | ES3: M | ET3: M | EU3: J | EV3: V | EW3: L | EX3: M | EY3: M | EZ3: J | FA3: V | FB3: L | FC3: M | FD3: M | FE3: J | FF3: V | FG3: L | FH3: M | FI3: M | FJ3: J | FK3: V | FL3: L | FM3: M | FN3: M | FO3: J | FP3: V | FQ3: L | FR3: M | FS3: M | FT3: J | FU3: V | FV3: L | FW3: M | FX3: M | FY3: J | FZ3: V | GA3: L | GB3: M | GC3: M | GD3: J | GE3: V | GF3: L | GG3: M | GH3: M | GI3: J | GJ3: V | GK3: L | GL3: M | GM3: M | GN3: J | GO3: V | GP3: L | GQ3: M | GR3: M | GS3: J | GT3: V | GU3: L | GV3: M | GW3: M | GX3: J | GY3: V | GZ3: L | HA3: M | HB3: M | HC3: J | HD3: V | HE3: L | HF3: M | HG3: M | HH3: J | HI3: V
A4: LD13 | B4: 0.069159097
A5: Temps arrêt OPERATEUR | B5: 0.082053135
A6: SOMME arrêt OPERATEUR | C6: =SUM(C5:G5) -> 0 | H6: =SUM(H5:L5) -> 0 | M6: =SUM(M5:Q5) -> 0 | R6: =SUM(R5:V5) -> 0 | W6: =SUM(W5:AA5) -> 0 | AB6: =SUM(AB5:AF5) -> 0 | AG6: =SUM(AG5:AK5) -> 0 | AL6: =SUM(AL5:AP5) -> 0 | AQ6: =SUM(AQ5:AU5) -> 0 | AV6: =SUM(AV5:AZ5) -> 0 | BA6: =SUM(BA5:BE5) -> 0 | BF6: =SUM(BF5:BJ5) -> 0 | BK6: =SUM(BK5:BO5) -> 0 | BP6: =SUM(BP5:BT5) -> 0 | BU6: =SUM(BU5:BY5) -> 0 | BZ6: =SUM(BZ5:CD5) -> 0 | CE6: =SUM(CE5:CI5) -> 0 | CJ6: =SUM(CJ5:CN5) -> 0 | CO6: =SUM(CO5:CS5) -> 0 | CT6: =SUM(CT5:CX5) -> 0 | CY6: =SUM(CY5:DC5) -> 0 | DD6: =SUM(DD5:DH5) -> 0 | DI6: =SUM(DI5:DM5) -> 0 | DN6: =SUM(DN5:DR5) -> 0 | DS6: =SUM(DS5:DW5) -> 0 | DX6: =SUM(DX5:EB5) -> 0 | EC6: =SUM(EC5:EG5) -> 0 | EH6: =SUM(EH5:EL5) -> 0 | EM6: =SUM(EM5:EQ5) -> 0 | ER6: =SUM(ER5:EV5) -> 0 | EW6: =SUM(EW5:FA5) -> 0 | FB6: =SUM(FB5:FF5) -> 0 | FG6: =SUM(FG5:FK5) -> 0 | FL6: =SUM(FL5:FP5) -> 0 | FQ6: =SUM(FQ5:FU5) -> 0 | FV6: =SUM(FV5:FZ5) -> 0 | GA6: =SUM(GA5:GE5) -> 0 | GF6: =SUM(GF5:GJ5) -> 0 | GK6: =SUM(GK5:GO5) -> 0 | GP6: =SUM(GP5:GT5) -> 0 | GU6: =SUM(GU5:GY5) -> 0 | GZ6: =SUM(GZ5:HD5) -> 0 | HE6: =SUM(HE5:HI5) -> 0
A7: Temps arrêt PREPARATION CONVOI | B7: 25.84707
A8: SOMME arrêt PREPARATION CONVOI | C8: =SUM(C7:G7) -> 0 | H8: =SUM(H7:L7) -> 0 | M8: =SUM(M7:Q7) -> 0 | R8: =SUM(R7:V7) -> 0 | W8: =SUM(W7:AA7) -> 0 | AB8: =SUM(AB7:AF7) -> 0 | AG8: =SUM(AG7:AK7) -> 0 | AL8: =SUM(AL7:AP7) -> 0 | AQ8: =SUM(AQ7:AU7) -> 0 | AV8: =SUM(AV7:AZ7) -> 0 | BA8: =SUM(BA7:BE7) -> 0 | BF8: =SUM(BF7:BJ7) -> 0 | BK8: =SUM(BK7:BO7) -> 0 | BP8: =SUM(BP7:BT7) -> 0 | BU8: =SUM(BU7:BY7) -> 0 | BZ8: =SUM(BZ7:CD7) -> 0 | CE8: =SUM(CE7:CI7) -> 0 | CJ8: =SUM(CJ7:CN7) -> 0 | CO8: =SUM(CO7:CS7) -> 0 | CT8: =SUM(CT7:CX7) -> 0 | CY8: =SUM(CY7:DC7) -> 0 | DD8: =SUM(DD7:DH7) -> 0 | DI8: =SUM(DI7:DM7) -> 0 | DN8: =SUM(DN7:DR7) -> 0 | DS8: =SUM(DS7:DW7) -> 0 | DX8: =SUM(DX7:EB7) -> 0 | EC8: =SUM(EC7:EG7) -> 0 | EH8: =SUM(EH7:EL7) -> 0 | EM8: =SUM(EM7:EQ7) -> 0 | ER8: =SUM(ER7:EV7) -> 0 | EW8: =SUM(EW7:FA7) -> 0 | FB8: =SUM(FB7:FF7) -> 0 | FG8: =SUM(FG7:FK7) -> 0 | FL8: =SUM(FL7:FP7) -> 0 | FQ8: =SUM(FQ7:FU7) -> 0 | FV8: =SUM(FV7:FZ7) -> 0 | GA8: =SUM(GA7:GE7) -> 0 | GF8: =SUM(GF7:GJ7) -> 0 | GK8: =SUM(GK7:GO7) -> 0 | GP8: =SUM(GP7:GT7) -> 0 | GU8: =SUM(GU7:GY7) -> 0 | GZ8: =SUM(GZ7:HD7) -> 0 | HE8: =SUM(HE7:HI7) -> 0
A10: LD14 | B10: 0.069159097
A11: Temps arrêt OPERATEUR | B11: 0.082053135
A12: SOMME arrêt OPERATEUR | C12: =SUM(C11:G11) -> 0 | H12: =SUM(H11:L11) -> 0 | M12: =SUM(M11:Q11) -> 0 | R12: =SUM(R11:V11) -> 0 | W12: =SUM(W11:AA11) -> 0 | AB12: =SUM(AB11:AF11) -> 0 | AG12: =SUM(AG11:AK11) -> 0 | AL12: =SUM(AL11:AP11) -> 0 | AQ12: =SUM(AQ11:AU11) -> 0 | AV12: =SUM(AV11:AZ11) -> 0 | BA12: =SUM(BA11:BE11) -> 0 | BF12: =SUM(BF11:BJ11) -> 0 | BK12: =SUM(BK11:BO11) -> 0 | BP12: =SUM(BP11:BT11) -> 0 | BU12: =SUM(BU11:BY11) -> 0 | BZ12: =SUM(BZ11:CD11) -> 0 | CE12: =SUM(CE11:CI11) -> 0 | CJ12: =SUM(CJ11:CN11) -> 0 | CO12: =SUM(CO11:CS11) -> 0 | CT12: =SUM(CT11:CX11) -> 0 | CY12: =SUM(CY11:DC11) -> 0 | DD12: =SUM(DD11:DH11) -> 0 | DI12: =SUM(DI11:DM11) -> 0 | DN12: =SUM(DN11:DR11) -> 0 | DS12: =SUM(DS11:DW11) -> 0 | DX12: =SUM(DX11:EB11) -> 0 | EC12: =SUM(EC11:EG11) -> 0 | EH12: =SUM(EH11:EL11) -> 0 | EM12: =SUM(EM11:EQ11) -> 0 | ER12: =SUM(ER11:EV11) -> 0 | EW12: =SUM(EW11:FA11) -> 0 | FB12: =SUM(FB11:FF11) -> 0 | FG12: =SUM(FG11:FK11) -> 0 | FL12: =SUM(FL11:FP11) -> 0 | FQ12: =SUM(FQ11:FU11) -> 0 | FV12: =SUM(FV11:FZ11) -> 0 | GA12: =SUM(GA11:GE11) -> 0 | GF12: =SUM(GF11:GJ11) -> 0 | GK12: =SUM(GK11:GO11) -> 0 | GP12: =SUM(GP11:GT11) -> 0 | GU12: =SUM(GU11:GY11) -> 0 | GZ12: =SUM(GZ11:HD11) -> 0 | HE12: =SUM(HE11:HI11) -> 0
A13: Temps arrêt PREPARATION CONVOI | B13: 25.84707
A14: SOMME arrêt PREPARATION CONVOI | C14: =SUM(C13:G13) -> 0 | H14: =SUM(H13:L13) -> 0 | M14: =SUM(M13:Q13) -> 0 | R14: =SUM(R13:V13) -> 0 | W14: =SUM(W13:AA13) -> 0 | AB14: =SUM(AB13:AF13) -> 0 | AG14: =SUM(AG13:AK13) -> 0 | AL14: =SUM(AL13:AP13) -> 0 | AQ14: =SUM(AQ13:AU13) -> 0 | AV14: =SUM(AV13:AZ13) -> 0 | BA14: =SUM(BA13:BE13) -> 0 | BF14: =SUM(BF13:BJ13) -> 0 | BK14: =SUM(BK13:BO13) -> 0 | BP14: =SUM(BP13:BT13) -> 0 | BU14: =SUM(BU13:BY13) -> 0 | BZ14: =SUM(BZ13:CD13) -> 0 | CE14: =SUM(CE13:CI13) -> 0 | CJ14: =SUM(CJ13:CN13) -> 0 | CO14: =SUM(CO13:CS13) -> 0 | CT14: =SUM(CT13:CX13) -> 0 | CY14: =SUM(CY13:DC13) -> 0 | DD14: =SUM(DD13:DH13) -> 0 | DI14: =SUM(DI13:DM13) -> 0 | DN14: =SUM(DN13:DR13) -> 0 | DS14: =SUM(DS13:DW13) -> 0 | DX14: =SUM(DX13:EB13) -> 0 | EC14: =SUM(EC13:EG13) -> 0 | EH14: =SUM(EH13:EL13) -> 0 | EM14: =SUM(EM13:EQ13) -> 0 | ER14: =SUM(ER13:EV13) -> 0 | EW14: =SUM(EW13:FA13) -> 0 | FB14: =SUM(FB13:FF13) -> 0 | FG14: =SUM(FG13:FK13) -> 0 | FL14: =SUM(FL13:FP13) -> 0 | FQ14: =SUM(FQ13:FU13) -> 0 | FV14: =SUM(FV13:FZ13) -> 0 | GA14: =SUM(GA13:GE13) -> 0 | GF14: =SUM(GF13:GJ13) -> 0 | GK14: =SUM(GK13:GO13) -> 0 | GP14: =SUM(GP13:GT13) -> 0 | GU14: =SUM(GU13:GY13) -> 0 | GZ14: =SUM(GZ13:HD13) -> 0 | HE14: =SUM(HE13:HI13) -> 0
A16: LD15 | B16: 0.069159097
A17: Temps arrêt OPERATEUR | B17: 0.082053135
A18: SOMME arrêt OPERATEUR | C18: =SUM(C17:G17) -> 0 | H18: =SUM(H17:L17) -> 0 | M18: =SUM(M17:Q17) -> 0 | R18: =SUM(R17:V17) -> 0 | W18: =SUM(W17:AA17) -> 0 | AB18: =SUM(AB17:AF17) -> 0 | AG18: =SUM(AG17:AK17) -> 0 | AL18: =SUM(AL17:AP17) -> 0 | AQ18: =SUM(AQ17:AU17) -> 0 | AV18: =SUM(AV17:AZ17) -> 0 | BA18: =SUM(BA17:BE17) -> 0 | BF18: =SUM(BF17:BJ17) -> 0 | BK18: =SUM(BK17:BO17) -> 0 | BP18: =SUM(BP17:BT17) -> 0 | BU18: =SUM(BU17:BY17) -> 0 | BZ18: =SUM(BZ17:CD17) -> 0 | CE18: =SUM(CE17:CI17) -> 0 | CJ18: =SUM(CJ17:CN17) -> 0 | CO18: =SUM(CO17:CS17) -> 0 | CT18: =SUM(CT17:CX17) -> 0 | CY18: =SUM(CY17:DC17) -> 0 | DD18: =SUM(DD17:DH17) -> 0 | DI18: =SUM(DI17:DM17) -> 0 | DN18: =SUM(DN17:DR17) -> 0 | DS18: =SUM(DS17:DW17) -> 0 | DX18: =SUM(DX17:EB17) -> 0 | EC18: =SUM(EC17:EG17) -> 0 | EH18: =SUM(EH17:EL17) -> 0 | EM18: =SUM(EM17:EQ17) -> 0 | ER18: =SUM(ER17:EV17) -> 0 | EW18: =SUM(EW17:FA17) -> 0 | FB18: =SUM(FB17:FF17) -> 0 | FG18: =SUM(FG17:FK17) -> 0 | FL18: =SUM(FL17:FP17) -> 0 | FQ18: =SUM(FQ17:FU17) -> 0 | FV18: =SUM(FV17:FZ17) -> 0 | GA18: =SUM(GA17:GE17) -> 0 | GF18: =SUM(GF17:GJ17) -> 0 | GK18: =SUM(GK17:GO17) -> 0 | GP18: =SUM(GP17:GT17) -> 0 | GU18: =SUM(GU17:GY17) -> 0 | GZ18: =SUM(GZ17:HD17) -> 0 | HE18: =SUM(HE17:HI17) -> 0
A19: Temps arrêt PREPARATION CONVOI | B19: 25.84707
A20: SOMME arrêt PREPARATION CONVOI | C20: =SUM(C19:G19) -> 0 | H20: =SUM(H19:L19) -> 0 | M20: =SUM(M19:Q19) -> 0 | R20: =SUM(R19:V19) -> 0 | W20: =SUM(W19:AA19) -> 0 | AB20: =SUM(AB19:AF19) -> 0 | AG20: =SUM(AG19:AK19) -> 0 | AL20: =SUM(AL19:AP19) -> 0 | AQ20: =SUM(AQ19:AU19) -> 0 | AV20: =SUM(AV19:AZ19) -> 0 | BA20: =SUM(BA19:BE19) -> 0 | BF20: =SUM(BF19:BJ19) -> 0 | BK20: =SUM(BK19:BO19) -> 0 | BP20: =SUM(BP19:BT19) -> 0 | BU20: =SUM(BU19:BY19) -> 0 | BZ20: =SUM(BZ19:CD19) -> 0 | CE20: =SUM(CE19:CI19) -> 0 | CJ20: =SUM(CJ19:CN19) -> 0 | CO20: =SUM(CO19:CS19) -> 0 | CT20: =SUM(CT19:CX19) -> 0 | CY20: =SUM(CY19:DC19) -> 0 | DD20: =SUM(DD19:DH19) -> 0 | DI20: =SUM(DI19:DM19) -> 0 | DN20: =SUM(DN19:DR19) -> 0 | DS20: =SUM(DS19:DW19) -> 0 | DX20: =SUM(DX19:EB19) -> 0 | EC20: =SUM(EC19:EG19) -> 0 | EH20: =SUM(EH19:EL19) -> 0 | EM20: =SUM(EM19:EQ19) -> 0 | ER20: =SUM(ER19:EV19) -> 0 | EW20: =SUM(EW19:FA19) -> 0 | FB20: =SUM(FB19:FF19) -> 0 | FG20: =SUM(FG19:FK19) -> 0 | FL20: =SUM(FL19:FP19) -> 0 | FQ20: =SUM(FQ19:FU19) -> 0 | FV20: =SUM(FV19:FZ19) -> 0 | GA20: =SUM(GA19:GE19) -> 0 | GF20: =SUM(GF19:GJ19) -> 0 | GK20: =SUM(GK19:GO19) -> 0 | GP20: =SUM(GP19:GT19) -> 0 | GU20: =SUM(GU19:GY19) -> 0 | GZ20: =SUM(GZ19:HD19) -> 0 | HE20: =SUM(HE19:HI19) -> 0
A22: LD16 | B22: 0.069159097
A23: Temps arrêt OPERATEUR | B23: 0.082053135
A24: SOMME arrêt OPERATEUR | C24: =SUM(C23:G23) -> 0 | H24: =SUM(H23:L23) -> 0 | M24: =SUM(M23:Q23) -> 0 | R24: =SUM(R23:V23) -> 0 | W24: =SUM(W23:AA23) -> 0 | AB24: =SUM(AB23:AF23) -> 0 | AG24: =SUM(AG23:AK23) -> 0 | AL24: =SUM(AL23:AP23) -> 0 | AQ24: =SUM(AQ23:AU23) -> 0 | AV24: =SUM(AV23:AZ23) -> 0 | BA24: =SUM(BA23:BE23) -> 0 | BF24: =SUM(BF23:BJ23) -> 0 | BK24: =SUM(BK23:BO23) -> 0 | BP24: =SUM(BP23:BT23) -> 0 | BU24: =SUM(BU23:BY23) -> 0 | BZ24: =SUM(BZ23:CD23) -> 0 | CE24: =SUM(CE23:CI23) -> 0 | CJ24: =SUM(CJ23:CN23) -> 0 | CO24: =SUM(CO23:CS23) -> 0 | CT24: =SUM(CT23:CX23) -> 0 | CY24: =SUM(CY23:DC23) -> 0 | DD24: =SUM(DD23:DH23) -> 0 | DI24: =SUM(DI23:DM23) -> 0 | DN24: =SUM(DN23:DR23) -> 0 | DS24: =SUM(DS23:DW23) -> 0 | DX24: =SUM(DX23:EB23) -> 0 | EC24: =SUM(EC23:EG23) -> 0 | EH24: =SUM(EH23:EL23) -> 0 | EM24: =SUM(EM23:EQ23) -> 0 | ER24: =SUM(ER23:EV23) -> 0 | EW24: =SUM(EW23:FA23) -> 0 | FB24: =SUM(FB23:FF23) -> 0 | FG24: =SUM(FG23:FK23) -> 0 | FL24: =SUM(FL23:FP23) -> 0 | FQ24: =SUM(FQ23:FU23) -> 0 | FV24: =SUM(FV23:FZ23) -> 0 | GA24: =SUM(GA23:GE23) -> 0 | GF24: =SUM(GF23:GJ23) -> 0 | GK24: =SUM(GK23:GO23) -> 0 | GP24: =SUM(GP23:GT23) -> 0 | GU24: =SUM(GU23:GY23) -> 0 | GZ24: =SUM(GZ23:HD23) -> 0 | HE24: =SUM(HE23:HI23) -> 0
A25: Temps arrêt PREPARATION CONVOI | B25: 25.84707
A26: SOMME arrêt PREPARATION CONVOI | C26: =SUM(C25:G25) -> 0 | H26: =SUM(H25:L25) -> 0 | M26: =SUM(M25:Q25) -> 0 | R26: =SUM(R25:V25) -> 0 | W26: =SUM(W25:AA25) -> 0 | AB26: =SUM(AB25:AF25) -> 0 | AG26: =SUM(AG25:AK25) -> 0 | AL26: =SUM(AL25:AP25) -> 0 | AQ26: =SUM(AQ25:AU25) -> 0 | AV26: =SUM(AV25:AZ25) -> 0 | BA26: =SUM(BA25:BE25) -> 0 | BF26: =SUM(BF25:BJ25) -> 0 | BK26: =SUM(BK25:BO25) -> 0 | BP26: =SUM(BP25:BT25) -> 0 | BU26: =SUM(BU25:BY25) -> 0 | BZ26: =SUM(BZ25:CD25) -> 0 | CE26: =SUM(CE25:CI25) -> 0 | CJ26: =SUM(CJ25:CN25) -> 0 | CO26: =SUM(CO25:CS25) -> 0 | CT26: =SUM(CT25:CX25) -> 0 | CY26: =SUM(CY25:DC25) -> 0 | DD26: =SUM(DD25:DH25) -> 0 | DI26: =SUM(DI25:DM25) -> 0 | DN26: =SUM(DN25:DR25) -> 0 | DS26: =SUM(DS25:DW25) -> 0 | DX26: =SUM(DX25:EB25) -> 0 | EC26: =SUM(EC25:EG25) -> 0 | EH26: =SUM(EH25:EL25) -> 0 | EM26: =SUM(EM25:EQ25) -> 0 | ER26: =SUM(ER25:EV25) -> 0 | EW26: =SUM(EW25:FA25) -> 0 | FB26: =SUM(FB25:FF25) -> 0 | FG26: =SUM(FG25:FK25) -> 0 | FL26: =SUM(FL25:FP25) -> 0 | FQ26: =SUM(FQ25:FU25) -> 0 | FV26: =SUM(FV25:FZ25) -> 0 | GA26: =SUM(GA25:GE25) -> 0 | GF26: =SUM(GF25:GJ25) -> 0 | GK26: =SUM(GK25:GO25) -> 0 | GP26: =SUM(GP25:GT25) -> 0 | GU26: =SUM(GU25:GY25) -> 0 | GZ26: =SUM(GZ25:HD25) -> 0 | HE26: =SUM(HE25:HI25) -> 0

Sheet Impression
A4: S10 | E4: RO - NON/RO MODULE 1
G11: 0
