Workbook
Name anneeclass: Accueil!$F$4
Name ct1_acquis: Personnel!$K$4:$K$25
Name ct1_pris: Personnel!$L$4:$L$25
Name ct2_acquis: Personnel!$O$4:$O$25
Name ct2_pris: Personnel!$P$4:$P$25
Name ct3_acquis: Personnel!$S$4:$S$25
Name ct3_pris: Personnel!$T$4:$T$25
Name DATE_DEB: '1ER MOIS'!$A$1
Name datedebutcycle: Matrice!$E$4
Name debut_am: Accueil!$H$8:$H$19
Name debut_matin: Accueil!$F$8:$F$19
Name debut_nuit: Accueil!$J$8:$J$19
Name droit_acquisn: Personnel!$H$4:$H$25
Name etp: Personnel!$D$4:$D$25
Name fin_am: Accueil!$I$8:$I$19
Name fin_matin: Accueil!$G$8:$G$19
Name fin_nuit: Accueil!$K$8:$K$19
Name joursferr: Accueil!$N$8:$N$19
Name mat_10: Matrice!$C$8:$I$17
Name mat_11: Matrice!$C$8:$I$18
Name mat_12: Matrice!$C$8:$I$19
Name mat_13: Matrice!$C$8:$I$20
Name mat_2: Matrice!$C$8:$I$9
Name mat_3: Matrice!$C$8:$I$10
Name mat_4: Matrice!$C$8:$I$11
Name mat_5: Matrice!$C$8:$I$12
Name mat_6: Matrice!$C$8:$I$13
Name mat_7: Matrice!$C$8:$I$14
Name mat_8: Matrice!$C$8:$I$15
Name mat_9: Matrice!$C$8:$I$16
Name matrice: [1]Matrice!$D$7:$J$13
Name nbre_roul: Matrice!$E$2
Name pris_congen: Personnel!$I$4:$I$25
Name val_mat: Matrice!$G$2

Sheet Accueil
F2: Cycle
F3: Début | G3: Fin
B4: Groupe : | E4: Années : | F4: 2018 | G4: 2019
N5: Génération des fériés automatisés
F6: Matin | H6: Après midi | J6: Nuit
B7: CODES | C7: LIBELLES | E7: SIGLES | F7: DEBUT | G7: FIN | H7: DEBUT | I7: FIN | J7: DEBUT | K7: FIN | L7: VALEUR | N7: =anneeclass -> 2018 | O7: FERIES | Q7: =G4 -> 2019
B8: L | C8: LEVER | E8: L | F8: 0.29166667 | G8: 0.375 | L8: =(fin_matin-debut_matin)+(fin_am-debut_am)+((24-debut_nuit)+fin_nuit) -> 24.083333 | N8: =DATE(F4,1,1) -> 43101 | O8: NOUVEL AN | Q8: =DATE(G4,1,1) -> 43466
B9: M | C9: MATIN | E9: M | F9: 0.29166667 | G9: 0.60416667 | L9: =(fin_matin-debut_matin)+(fin_am-debut_am)+((24-debut_nuit)+fin_nuit) -> 24.3125 | N9: =ROUND(DATE(F4,4,MOD(234-11*MOD(F4,19),30))/7,)*7-6 -> 43191 | O9: DIMANCHE Pâques | Q9: =ROUND(DATE(G4,4,MOD(234-11*MOD(G4,19),30))/7,)*7-6 -> 43576
B10: J | C10: JOURNEE | E10: J | F10: 0.45833333 | G10: 0.875 | L10: =(fin_matin-debut_matin)+(fin_am-debut_am)+((24-debut_nuit)+fin_nuit) -> 24.416667 | N10: =N9+1 -> 43192 | O10: LUNDI Pâques | Q10: =Q9+1 -> 43577
B11: 16S | C11: SOIREE | E11: 16S | H11: 0.66666667 | I11: 0.90972222 | L11: =(fin_matin-debut_matin)+(fin_am-debut_am)+((24-debut_nuit)+fin_nuit) -> 24.243056 | N11: =DATE(F4,5,1) -> 43221 | O11: 1ier MAI | Q11: =DATE(G4,5,1) -> 43586
B12: S | C12: SOIR | E12: S | H12: 0.58333333 | I12: 0.89583333 | L12: =(fin_matin-debut_matin)+(fin_am-debut_am)+((24-debut_nuit)+fin_nuit) -> 24.3125 | N12: =DATE(F4,5,8) -> 43228 | O12: HUIT MAI | Q12: =DATE(G4,5,8) -> 43593
B13: R | C13: REUNION | E13: R | F13: 0.39583333 | G13: 0.52083333 | L13: =(fin_matin-debut_matin)+(fin_am-debut_am)+((24-debut_nuit)+fin_nuit) -> 24.125 | N13: =N9+39 -> 43230 | O13: ASCENSION | Q13: =Q9+39 -> 43615
B14: MR | C14: MATIN+REUNION | E14: MR | F14: 0.29166667 | G14: 0.66666667 | L14: =(fin_matin-debut_matin)+(fin_am-debut_am)+((24-debut_nuit)+fin_nuit) -> 24.375 | N14: =N9+50 -> 43241 | O14: PENTECOTE | Q14: =Q9+50 -> 43626
B15: RS | C15: REUNION+SOIR | E15: RS | F15: 0.39583333 | G15: 0.5 | H15: 0.58333333 | I15: 0.89583333 | L15: =(fin_matin-debut_matin)+(fin_am-debut_am)+((24-debut_nuit)+fin_nuit) -> 24.416667 | N15: =DATE(F4,7,14) -> 43295 | O15: 14 JUILLET | Q15: =DATE(G4,7,14) -> 43660
B16: WM | C16: WEEKEND MATIN | E16: WM | F16: 0.29166667 | G16: 0.60416667 | L16: =(fin_matin-debut_matin)+(fin_am-debut_am)+((24-debut_nuit)+fin_nuit) -> 24.3125 | N16: =DATE(F4,8,15) -> 43327 | O16: 15 AOUT | Q16: =DATE(G4,8,15) -> 43692
B17: WJ | C17: WEEKEND JOURNEE | E17: WJ | H17: 0.45833333 | I17: 0.875 | L17: =(fin_matin-debut_matin)+(fin_am-debut_am)+((24-debut_nuit)+fin_nuit) -> 24.416667 | N17: =DATE(F4,11,1) -> 43405 | O17: 1ier NOVEMBRE | Q17: =DATE(G4,11,1) -> 43770
B18: WS | C18: WEEKEND SOIR | E18: WS | H18: 0.58333333 | I18: 0.89583333 | L18: =(fin_matin-debut_matin)+(fin_am-debut_am)+((24-debut_nuit)+fin_nuit) -> 24.3125 | N18: =DATE(F4,11,11) -> 43415 | O18: 11 NOVEMBRE | Q18: =DATE(G4,11,11) -> 43780
B19: N | C19: NUIT | E19: N | J19: 0.88541667 | K19: 0.30208333 | L19: =(fin_matin-debut_matin)+(fin_am-debut_am)+((24-debut_nuit)+fin_nuit) -> 23.416667 | N19: =DATE(F4,12,25) -> 43459 | O19: NOEL | Q19: =DATE(G4,12,25) -> 43824
B20: NE | C20: NUIT EUROPEENNE
B21: RH | C21: REPOS HEBDOMADAIRE
B22: CA | C22: CONGE ANNUEL
B23: CT | C23: CONGE TRIMESTRIEL
B24: F | C24: FORMATION
B25: AT | C25: ARRET TRAVAIL

Sheet Personnel
C1: Années | D1: =anneeclass -> 2018 | E1: =Accueil!G4 -> 2019
G2: CONGES ANNUELS N-1 | K2: CONGES TRIMESTRIEL | O2: CONGES TRIMESTRIELS | S2: CONGES TRIMESTRIEL | W2: CONGES ANNUELS N
B3: NOMS | C3: PRENOMS | D3: ETP | E3: Val J | G3: ACQUIS | H3: PRIS | I3: SOLDE | K3: ACQUIS | L3: PRIS | M3: SOLDE | O3: ACQUIS | P3: PRIS | Q3: SOLDE | S3: ACQUIS | T3: PRIS | U3: SOLDE | W3: ACQUIS | X3: PRIS | Y3: SOLDE
C4: BERNARD | E4: =(35*etp)/5 -> 0 | I4: =(droit_acquisn)-(pris_congen) -> 0 | M4: =ct1_acquis-ct1_pris -> 0 | Q4: =ct2_acquis- ct2_pris -> 0 | U4: =ct3_acquis-ct3_pris -> 0
C5: PAULETTE | E5: =(35*etp)/5 -> 0 | I5: =(droit_acquisn)-(pris_congen) -> 0 | M5: =ct1_acquis-ct1_pris -> 0 | Q5: =ct2_acquis- ct2_pris -> 0 | U5: =ct3_acquis-ct3_pris -> 0
C6: YVON | E6: =(35*etp)/5 -> 0 | I6: =(droit_acquisn)-(pris_congen) -> 0 | M6: =ct1_acquis-ct1_pris -> 0 | Q6: =ct2_acquis- ct2_pris -> 0 | U6: =ct3_acquis-ct3_pris -> 0
C7: MARCEL | E7: =(35*etp)/5 -> 0 | I7: =(droit_acquisn)-(pris_congen) -> 0 | M7: =ct1_acquis-ct1_pris -> 0 | Q7: =ct2_acquis- ct2_pris -> 0 | U7: =ct3_acquis-ct3_pris -> 0
C8: BEA | E8: =(35*etp)/5 -> 0 | I8: =(droit_acquisn)-(pris_congen) -> 0 | M8: =ct1_acquis-ct1_pris -> 0 | Q8: =ct2_acquis- ct2_pris -> 0 | U8: =ct3_acquis-ct3_pris -> 0
E9: =(35*etp)/5 -> 0 | I9: =(droit_acquisn)-(pris_congen) -> 0 | M9: =ct1_acquis-ct1_pris -> 0 | Q9: =ct2_acquis- ct2_pris -> 0 | U9: =ct3_acquis-ct3_pris -> 0
E10: =(35*etp)/5 -> 0 | I10: =(droit_acquisn)-(pris_congen) -> 0 | M10: =ct1_acquis-ct1_pris -> 0 | Q10: =ct2_acquis- ct2_pris -> 0 | U10: =ct3_acquis-ct3_pris -> 0
E11: =(35*etp)/5 -> 0 | I11: =(droit_acquisn)-(pris_congen) -> 0 | M11: =ct1_acquis-ct1_pris -> 0 | Q11: =ct2_acquis- ct2_pris -> 0 | U11: =ct3_acquis-ct3_pris -> 0
E12: =(35*etp)/5 -> 0 | I12: =(droit_acquisn)-(pris_congen) -> 0 | M12: =ct1_acquis-ct1_pris -> 0 | Q12: =ct2_acquis- ct2_pris -> 0 | U12: =ct3_acquis-ct3_pris -> 0
E13: =(35*etp)/5 -> 0 | I13: =(droit_acquisn)-(pris_congen) -> 0 | M13: =ct1_acquis-ct1_pris -> 0 | Q13: =ct2_acquis- ct2_pris -> 0 | U13: =ct3_acquis-ct3_pris -> 0
E14: =(35*etp)/5 -> 0 | I14: =(droit_acquisn)-(pris_congen) -> 0 | M14: =ct1_acquis-ct1_pris -> 0 | Q14: =ct2_acquis- ct2_pris -> 0 | U14: =ct3_acquis-ct3_pris -> 0
E15: =(35*etp)/5 -> 0 | I15: =(droit_acquisn)-(pris_congen) -> 0 | M15: =ct1_acquis-ct1_pris -> 0 | Q15: =ct2_acquis- ct2_pris -> 0 | U15: =ct3_acquis-ct3_pris -> 0
E16: =(35*etp)/5 -> 0 | I16: =(droit_acquisn)-(pris_congen) -> 0 | M16: =ct1_acquis-ct1_pris -> 0 | Q16: =ct2_acquis- ct2_pris -> 0 | U16: =ct3_acquis-ct3_pris -> 0
E17: =(35*etp)/5 -> 0 | I17: =(droit_acquisn)-(pris_congen) -> 0 | M17: =ct1_acquis-ct1_pris -> 0 | Q17: =ct2_acquis- ct2_pris -> 0 | U17: =ct3_acquis-ct3_pris -> 0
E18: =(35*etp)/5 -> 0 | I18: =(droit_acquisn)-(pris_congen) -> 0 | M18: =ct1_acquis-ct1_pris -> 0 | Q18: =ct2_acquis- ct2_pris -> 0 | U18: =ct3_acquis-ct3_pris -> 0
E19: =(35*etp)/5 -> 0 | I19: =(droit_acquisn)-(pris_congen) -> 0 | M19: =ct1_acquis-ct1_pris -> 0 | Q19: =ct2_acquis- ct2_pris -> 0 | U19: =ct3_acquis-ct3_pris -> 0
E20: =(35*etp)/5 -> 0 | I20: =(droit_acquisn)-(pris_congen) -> 0 | M20: =ct1_acquis-ct1_pris -> 0 | Q20: =ct2_acquis- ct2_pris -> 0 | U20: =ct3_acquis-ct3_pris -> 0
... E25: =(35*etp)/5 -> 0 | I25: =(droit_acquisn)-(pris_congen) -> 0 | M25: =ct1_acquis-ct1_pris -> 0 | Q25: =ct2_acquis- ct2_pris -> 0 | U25: =ct3_acquis-ct3_pris -> 0

Sheet Matrice
A1: x
B2: Indiquer nombre de semaines du roulement | E2: 6 | G2: =IF(nbre_roul=2,"mat_2",IF(nbre_roul=3,"mat_3",IF(nbre_roul=4,"mat_4",IF(nbre_roul=5,"mat_5",IF(nbre_roul=6,"mat_6",0))))) -> mat_6
B3: Indiquer le n° du mois du début du cycle | E3: 12
B4: Indiquer la date du début du cyle (xx/xx/xxxx) | E4: 41295
B5: Renseigner la matrice
C7: LUNDI | D7: MARDI | E7: MERCREDI | F7: JEUDI | G7: VENDREDI | H7: SAMEDI | I7: DIMANCHE
B8: SEMAINE 1 | C8: S | D8: S | E8: S | F8: S | G8: S | H8: RH | I8: RH
B9: SEMAINE 2 | C9: M | D9: M | E9: M | F9: M | G9: M | H9: RH | I9: RH
B10: SEMAINE 3 | C10: J | D10: J | E10: RH | F10: RH | H10: WS | I10: WS
B11: SEMAINE 4 | C11: S | D11: S | F11: J | G11: J | H11: RH | I11: RH
B12: SEMAINE 5 | C12: RH | D12: RH | E12: M | F12: M | G12: M | H12: WM | I12: WM
B13: SEMAINE 6 | C13: CA | D13: CA | E13: CA | F13: CA | G13: CA | H13: CA | I13: RH
B14: SEMAINE 7 | C14: CT | D14: CT | E14: CT | F14: CT | G14: CT | H14: CT | I14: RH
B15: SEMAINE 8 | C15: CT | D15: RS | E15: M | F15: S | G15: S | H15: WJ | I15: WJ
B16: SEMAINE 9
B17: SEMAINE 10
B18: SEMAINE 11
B19: SEMAINE 12
B20: SEMAINE 13
C24: Si nbre_roul =2 alors mat_2 | G24: 2 | H24: mat_2
C25: Si nbre_roul 3= alors mat_3 | G25: 3 | H25: mat_3
C26: Si nbre_roul =4 alors mat_4 | G26: 4 | H26: mat_4
G27: 5 | H27: mat_5
C28: etc. | G28: 6 | H28: mat_6
G29: 7 | H29: mat_7
G30: 8 | H30: mat_8
G31: 9 | H31: mat_9
G32: 10 | H32: mat_10
G33: 11 | H33: mat_11
G34: 12 | H34: mat_12
G35: 13 | H35: mat_13

Sheet 1ER MOIS
A1: =DATE(anneeclass,Matrice!E3,1) -> 43435
C2: =PROPER("mois de "&TEXT(DATE_DEB,"mmmm aaa")) -> Mois De Décembre 2018
B3: fériés | C3: =IF(ISNA(VLOOKUP(C$6,joursferr,1,FALSE)),FALSE,TRUE) -> FALSE | D3: =IF(ISNA(VLOOKUP(D$6,joursferr,1,FALSE)),FALSE,TRUE) -> FALSE | E3: =IF(ISNA(VLOOKUP(E$6,joursferr,1,FALSE)),FALSE,TRUE) -> FALSE | F3: =IF(ISNA(VLOOKUP(F$6,joursferr,1,FALSE)),FALSE,TRUE) -> FALSE | G3: =IF(ISNA(VLOOKUP(G$6,joursferr,1,FALSE)),FALSE,TRUE) -> FALSE | H3: =IF(ISNA(VLOOKUP(H$6,joursferr,1,FALSE)),FALSE,TRUE) -> FALSE | I3: =IF(ISNA(VLOOKUP(I$6,joursferr,1,FALSE)),FALSE,TRUE) -> FALSE | J3: =IF(ISNA(VLOOKUP(J$6,joursferr,1,FALSE)),FALSE,TRUE) -> FALSE | ... AG3: =IF(ISNA(VLOOKUP(AG$6,joursferr,1,FALSE)),FALSE,TRUE) -> FALSE
B4: semaine | C4: =MOD(QUOTIENT((C6-datedebutcycle),7),nbre_roul)+1 -> 6 | D4: =MOD(QUOTIENT((D6-datedebutcycle),7),nbre_roul)+1 -> 6 | E4: =MOD(QUOTIENT((E6-datedebutcycle),7),nbre_roul)+1 -> 1 | F4: =MOD(QUOTIENT((F6-datedebutcycle),7),nbre_roul)+1 -> 1 | G4: =MOD(QUOTIENT((G6-datedebutcycle),7),nbre_roul)+1 -> 1 | H4: =MOD(QUOTIENT((H6-datedebutcycle),7),nbre_roul)+1 -> 1 | I4: =MOD(QUOTIENT((I6-datedebutcycle),7),nbre_roul)+1 -> 1 | J4: =MOD(QUOTIENT((J6-datedebutcycle),7),nbre_roul)+1 -> 1 | ... AG4: =MOD(QUOTIENT((AG6-datedebutcycle),7),nbre_roul)+1 -> 5
B5: jjour | C5: =WEEKDAY(C6,2) -> 6 | D5: =WEEKDAY(D6,2) -> 7 | E5: =WEEKDAY(E6,2) -> 1 | F5: =WEEKDAY(F6,2) -> 2 | G5: =WEEKDAY(G6,2) -> 3 | H5: =WEEKDAY(H6,2) -> 4 | I5: =WEEKDAY(I6,2) -> 5 | J5: =WEEKDAY(J6,2) -> 6 | ... AG5: =WEEKDAY(AG6,2) -> 1
B6: =Accueil!C4 -> 0 | C6: =DATE_DEB -> 43435 | D6: =C6+1 -> 43436 | E6: =D6+1 -> 43437 | F6: =E6+1 -> 43438 | G6: =F6+1 -> 43439 | H6: =G6+1 -> 43440 | I6: =H6+1 -> 43441 | J6: =I6+1 -> 43442 | K6: =J6+1 -> 43443 | ... AG6: =AF6+1 -> 43465
B7: Noms | C7: =UPPER(LEFT(TEXT(C6,"jjj"),1)) -> S | D7: =UPPER(LEFT(TEXT(D6,"jjj"),1)) -> D | E7: =UPPER(LEFT(TEXT(E6,"jjj"),1)) -> L | F7: =UPPER(LEFT(TEXT(F6,"jjj"),1)) -> M | G7: =UPPER(LEFT(TEXT(G6,"jjj"),1)) -> M | H7: =UPPER(LEFT(TEXT(H6,"jjj"),1)) -> J | I7: =UPPER(LEFT(TEXT(I6,"jjj"),1)) -> V | J7: =UPPER(LEFT(TEXT(J6,"jjj"),1)) -> S | ... AG7: =UPPER(LEFT(TEXT(AG6,"jjj"),1)) -> L
B8: =Personnel!C4 -> BERNARD | C8: =INDEX(mat_6,MOD(C$4+ROW(B8)-ROW($B$8),nbre_roul)+1,C$5) -> RH | D8: =INDEX(mat_6,MOD(D$4+ROW(C8)-ROW($B$8),nbre_roul)+1,D$5) -> RH | E8: =INDEX(mat_6,MOD(E$4+ROW(D8)-ROW($B$8),nbre_roul)+1,E$5) -> M | F8: =INDEX(mat_6,MOD(F$4+ROW(E8)-ROW($B$8),nbre_roul)+1,F$5) -> M | G8: =INDEX(mat_6,MOD(G$4+ROW(F8)-ROW($B$8),nbre_roul)+1,G$5) -> M | H8: =INDEX(mat_6,MOD(H$4+ROW(G8)-ROW($B$8),nbre_roul)+1,H$5) -> M | I8: =INDEX(mat_6,MOD(I$4+ROW(H8)-ROW($B$8),nbre_roul)+1,I$5) -> M | J8: =INDEX(mat_6,MOD(J$4+ROW(I8)-ROW($B$8),nbre_roul)+1,J$5) -> RH | ... AG8: =INDEX(mat_6,MOD(AG$4+ROW(AF8)-ROW($B$8),nbre_roul)+1,AG$5) -> CA
B9: =Personnel!C5 -> PAULETTE | C9: =INDEX(mat_6,MOD(C$4+ROW(B9)-ROW($B$8),nbre_roul)+1,C$5) -> RH | D9: =INDEX(mat_6,MOD(D$4+ROW(C9)-ROW($B$8),nbre_roul)+1,D$5) -> RH | E9: =INDEX(mat_6,MOD(E$4+ROW(D9)-ROW($B$8),nbre_roul)+1,E$5) -> J | F9: =INDEX(mat_6,MOD(F$4+ROW(E9)-ROW($B$8),nbre_roul)+1,F$5) -> J | G9: =INDEX(mat_6,MOD(G$4+ROW(F9)-ROW($B$8),nbre_roul)+1,G$5) -> RH | H9: =INDEX(mat_6,MOD(H$4+ROW(G9)-ROW($B$8),nbre_roul)+1,H$5) -> RH | I9: =INDEX(mat_6,MOD(I$4+ROW(H9)-ROW($B$8),nbre_roul)+1,I$5) -> 0 | J9: =INDEX(mat_6,MOD(J$4+ROW(I9)-ROW($B$8),nbre_roul)+1,J$5) -> WS | ... AG9: =INDEX(mat_6,MOD(AG$4+ROW(AF9)-ROW($B$8),nbre_roul)+1,AG$5) -> S
B10: =Personnel!C6 -> YVON | C10: =INDEX(mat_6,MOD(C$4+ROW(B10)-ROW($B$8),nbre_roul)+1,C$5) -> WS | D10: =INDEX(mat_6,MOD(D$4+ROW(C10)-ROW($B$8),nbre_roul)+1,D$5) -> WS | E10: =INDEX(mat_6,MOD(E$4+ROW(D10)-ROW($B$8),nbre_roul)+1,E$5) -> S | F10: =INDEX(mat_6,MOD(F$4+ROW(E10)-ROW($B$8),nbre_roul)+1,F$5) -> S | G10: =INDEX(mat_6,MOD(G$4+ROW(F10)-ROW($B$8),nbre_roul)+1,G$5) -> 0 | H10: =INDEX(mat_6,MOD(H$4+ROW(G10)-ROW($B$8),nbre_roul)+1,H$5) -> J | I10: =INDEX(mat_6,MOD(I$4+ROW(H10)-ROW($B$8),nbre_roul)+1,I$5) -> J | J10: =INDEX(mat_6,MOD(J$4+ROW(I10)-ROW($B$8),nbre_roul)+1,J$5) -> RH | ... AG10: =INDEX(mat_6,MOD(AG$4+ROW(AF10)-ROW($B$8),nbre_roul)+1,AG$5) -> M
B11: =Personnel!C7 -> MARCEL | C11: =INDEX(mat_6,MOD(C$4+ROW(B11)-ROW($B$8),nbre_roul)+1,C$5) -> RH | D11: =INDEX(mat_6,MOD(D$4+ROW(C11)-ROW($B$8),nbre_roul)+1,D$5) -> RH | E11: =INDEX(mat_6,MOD(E$4+ROW(D11)-ROW($B$8),nbre_roul)+1,E$5) -> RH | F11: =INDEX(mat_6,MOD(F$4+ROW(E11)-ROW($B$8),nbre_roul)+1,F$5) -> RH | G11: =INDEX(mat_6,MOD(G$4+ROW(F11)-ROW($B$8),nbre_roul)+1,G$5) -> M | H11: =INDEX(mat_6,MOD(H$4+ROW(G11)-ROW($B$8),nbre_roul)+1,H$5) -> M | I11: =INDEX(mat_6,MOD(I$4+ROW(H11)-ROW($B$8),nbre_roul)+1,I$5) -> M | J11: =INDEX(mat_6,MOD(J$4+ROW(I11)-ROW($B$8),nbre_roul)+1,J$5) -> WM | ... AG11: =INDEX(mat_6,MOD(AG$4+ROW(AF11)-ROW($B$8),nbre_roul)+1,AG$5) -> J
B12: =Personnel!C8 -> BEA | C12: =INDEX(mat_6,MOD(C$4+ROW(B12)-ROW($B$8),nbre_roul)+1,C$5) -> WM | D12: =INDEX(mat_6,MOD(D$4+ROW(C12)-ROW($B$8),nbre_roul)+1,D$5) -> WM | E12: =INDEX(mat_6,MOD(E$4+ROW(D12)-ROW($B$8),nbre_roul)+1,E$5) -> CA | F12: =INDEX(mat_6,MOD(F$4+ROW(E12)-ROW($B$8),nbre_roul)+1,F$5) -> CA | G12: =INDEX(mat_6,MOD(G$4+ROW(F12)-ROW($B$8),nbre_roul)+1,G$5) -> CA | H12: =INDEX(mat_6,MOD(H$4+ROW(G12)-ROW($B$8),nbre_roul)+1,H$5) -> CA | I12: =INDEX(mat_6,MOD(I$4+ROW(H12)-ROW($B$8),nbre_roul)+1,I$5) -> CA | J12: =INDEX(mat_6,MOD(J$4+ROW(I12)-ROW($B$8),nbre_roul)+1,J$5) -> CA | ... AG12: =INDEX(mat_6,MOD(AG$4+ROW(AF12)-ROW($B$8),nbre_roul)+1,AG$5) -> S
B13: =Personnel!C9 -> 0 | C13: =INDEX(mat_6,MOD(C$4+ROW(B13)-ROW($B$8),nbre_roul)+1,C$5) -> CA | D13: =INDEX(mat_6,MOD(D$4+ROW(C13)-ROW($B$8),nbre_roul)+1,D$5) -> RH | E13: =INDEX(mat_6,MOD(E$4+ROW(D13)-ROW($B$8),nbre_roul)+1,E$5) -> S | F13: =INDEX(mat_6,MOD(F$4+ROW(E13)-ROW($B$8),nbre_roul)+1,F$5) -> S | G13: =INDEX(mat_6,MOD(G$4+ROW(F13)-ROW($B$8),nbre_roul)+1,G$5) -> S | H13: =INDEX(mat_6,MOD(H$4+ROW(G13)-ROW($B$8),nbre_roul)+1,H$5) -> S | I13: =INDEX(mat_6,MOD(I$4+ROW(H13)-ROW($B$8),nbre_roul)+1,I$5) -> S | J13: =INDEX(mat_6,MOD(J$4+ROW(I13)-ROW($B$8),nbre_roul)+1,J$5) -> RH | ... AG13: =INDEX(mat_6,MOD(AG$4+ROW(AF13)-ROW($B$8),nbre_roul)+1,AG$5) -> RH
B14: =Personnel!C10 -> 0
B15: =Personnel!C11 -> 0
B16: =Personnel!C12 -> 0
B17: =Personnel!C13 -> 0
B18: =Personnel!C14 -> 0
B19: =Personnel!C15 -> 0
B20: =Personnel!C16 -> 0
B21: =Personnel!C17 -> 0
B22: =Personnel!C18 -> 0
B23: =Personnel!C19 -> 0
B24: =Personnel!C20 -> 0
B25: =Personnel!C21 -> 0
... B29: =Personnel!C25 -> 0
