Workbook

Sheet feuille recueil
A1: 1.DISCRIMINATION | E1: 2.MEMORY | I1: 3.SPATIAL RELATION | M1: 4.FORM CONSTANCY | Q1: 5.SEQUENTIAL MEM
A2: Ex A | B2: 3 | E2: Ex C | F2: 3 | I2: Ex E | J2: 2 | M2: Ex G | N2: 3 | Q2: Ex I | R2: 2
A3: Ex B | B3: 5 | E3: Ex D | F3: 2 | I3: Ex F | J3: 4 | M3: Ex H | N3: 5 | Q3: Ex J | R3: 3
A4: 1 | B4: 3 | D4: =IF(B4=C4,1,0) -> 0 | E4: 17 | F4: 3 | H4: =IF(F4=G4,1,0) -> 0 | I4: 33 | J4: 1 | L4: =IF(J4=K4,1,0) -> 0 | M4: 49 | N4: 2 | P4: =IF(N4=O4,1,0) -> 0 | Q4: 65 | R4: 1 | T4: =IF(R4=S4,1,0) -> 0
A5: 2 | B5: 2 | D5: =IF(B5=C5,1,0) -> 0 | E5: 18 | F5: 1 | H5: =IF(F5=G5,1,0) -> 0 | I5: 34 | J5: 2 | L5: =IF(J5=K5,1,0) -> 0 | M5: 50 | N5: 1 | P5: =IF(N5=O5,1,0) -> 0 | Q5: 66 | R5: 4 | T5: =IF(R5=S5,1,0) -> 0
A6: 3 | B6: 3 | D6: =IF(B6=C6,1,0) -> 0 | E6: 19 | F6: 2 | H6: =IF(F6=G6,1,0) -> 0 | I6: 35 | J6: 5 | L6: =IF(J6=K6,1,0) -> 0 | M6: 51 | N6: 4 | P6: =IF(N6=O6,1,0) -> 0 | Q6: 67 | R6: 1 | T6: =IF(R6=S6,1,0) -> 0
A7: 4 | B7: 2 | D7: =IF(B7=C7,1,0) -> 0 | E7: 20 | F7: 2 | H7: =IF(F7=G7,1,0) -> 0 | I7: 36 | J7: 3 | L7: =IF(J7=K7,1,0) -> 0 | M7: 52 | N7: 4 | P7: =IF(N7=O7,1,0) -> 0 | Q7: 68 | R7: 4 | T7: =IF(R7=S7,1,0) -> 0
A8: 5 | B8: 1 | D8: =IF(B8=C8,1,0) -> 0 | E8: 21 | F8: 3 | H8: =IF(F8=G8,1,0) -> 0 | I8: 37 | J8: 3 | L8: =IF(J8=K8,1,0) -> 0 | M8: 53 | N8: 5 | P8: =IF(N8=O8,1,0) -> 0 | Q8: 69 | R8: 3 | T8: =IF(R8=S8,1,0) -> 0
A9: 6 | B9: 1 | D9: =IF(B9=C9,1,0) -> 0 | E9: 22 | F9: 2 | H9: =IF(F9=G9,1,0) -> 0 | I9: 38 | J9: 5 | L9: =IF(J9=K9,1,0) -> 0 | M9: 54 | N9: 3 | P9: =IF(N9=O9,1,0) -> 0 | Q9: 70 | R9: 1 | T9: =IF(R9=S9,1,0) -> 0
A10: 7 | B10: 5 | D10: =IF(B10=C10,1,0) -> 0 | E10: 23 | F10: 4 | H10: =IF(F10=G10,1,0) -> 0 | I10: 39 | J10: 1 | L10: =IF(J10=K10,1,0) -> 0 | M10: 55 | N10: 5 | P10: =IF(N10=O10,1,0) -> 0 | Q10: 71 | R10: 4 | T10: =IF(R10=S10,1,0) -> 0
A11: 8 | B11: 2 | D11: =IF(B11=C11,1,0) -> 0 | E11: 24 | F11: 1 | H11: =IF(F11=G11,1,0) -> 0 | I11: 40 | J11: 2 | L11: =IF(J11=K11,1,0) -> 0 | M11: 56 | N11: 4 | P11: =IF(N11=O11,1,0) -> 0 | Q11: 72 | R11: 2 | T11: =IF(R11=S11,1,0) -> 0
A12: 9 | B12: 4 | D12: =IF(B12=C12,1,0) -> 0 | E12: 25 | F12: 2 | H12: =IF(F12=G12,1,0) -> 0 | I12: 41 | J12: 2 | L12: =IF(J12=K12,1,0) -> 0 | M12: 57 | N12: 1 | P12: =IF(N12=O12,1,0) -> 0 | Q12: 73 | R12: 2 | T12: =IF(R12=S12,1,0) -> 0
A13: 10 | B13: 4 | D13: =IF(B13=C13,1,0) -> 0 | E13: 26 | F13: 1 | H13: =IF(F13=G13,1,0) -> 0 | I13: 42 | J13: 1 | L13: =IF(J13=K13,1,0) -> 0 | M13: 58 | N13: 5 | P13: =IF(N13=O13,1,0) -> 0 | Q13: 74 | R13: 3 | T13: =IF(R13=S13,1,0) -> 0
A14: 11 | B14: 5 | D14: =IF(B14=C14,1,0) -> 0 | E14: 27 | F14: 3 | H14: =IF(F14=G14,1,0) -> 0 | I14: 43 | J14: 4 | L14: =IF(J14=K14,1,0) -> 0 | M14: 59 | N14: 3 | P14: =IF(N14=O14,1,0) -> 0 | Q14: 75 | R14: 1 | T14: =IF(R14=S14,1,0) -> 0
A15: 12 | B15: 4 | D15: =IF(B15=C15,1,0) -> 0 | E15: 28 | F15: 4 | H15: =IF(F15=G15,1,0) -> 0 | I15: 44 | J15: 3 | L15: =IF(J15=K15,1,0) -> 0 | M15: 60 | N15: 2 | P15: =IF(N15=O15,1,0) -> 0 | Q15: 76 | R15: 3 | T15: =IF(R15=S15,1,0) -> 0
... A19: 16 | B19: 1 | D19: =IF(B19=C19,1,0) -> 0 | E19: 32 | F19: 1 | H19: =IF(F19=G19,1,0) -> 0 | I19: 48 | J19: 4 | L19: =IF(J19=K19,1,0) -> 0 | M19: 64 | N19: 2 | P19: =IF(N19=O19,1,0) -> 0 | Q19: 80 | R19: 4 | T19: =IF(R19=S19,1,0) -> 0
A20: Total Subtest 1 | D20: =SUM(D4:D19) -> 0 | E20: Total Subtest 2 | H20: =SUM(H4:H19) -> 0 | I20: Total Subtest 3 | L20: =SUM(L4:L19) -> 0 | M20: Total Subtest 4 | P20: =SUM(P4:P19) -> 0 | Q20: Total Subtest 5 | T20: =SUM(T4:T19) -> 0
A21: 6. FIGURE GROUND | E21: 7.VISUAL CLOSURE
A22: Ex K | B22: 2 | E22: Ex M | F22: 4
A23: Ex L | B23: 1 | E23: Ex N | F23: 2
A24: 81 | B24: 3 | D24: =IF(B24=C24,1,0) -> 0 | E24: 97 | F24: 2 | H24: =IF(F24=G24,1,0) -> 0 | J24: Date de naissance | N24: 40391
A25: 82 | B25: 2 | D25: =IF(B25=C25,1,0) -> 0 | E25: 98 | F25: 3 | H25: =IF(F25=G25,1,0) -> 0 | J25: Date du test | N25: 42582
A26: 83 | B26: 4 | D26: =IF(B26=C26,1,0) -> 0 | E26: 99 | F26: 1 | H26: =IF(F26=G26,1,0) -> 0 | J26: Age le jour du test | N26: =DATEDIF(N24,N25,"y")&" ans, "&DATEDIF(N24,N25,"ym")&" mois et "&DATEDIF(N24,N25,"md")&" jours" -> 5 ans, 11 mois et 30 jours
A27: 84 | B27: 1 | D27: =IF(B27=C27,1,0) -> 0 | E27: 100 | F27: 4 | H27: =IF(F27=G27,1,0) -> 0
A28: 85 | B28: 4 | D28: =IF(B28=C28,1,0) -> 0 | E28: 101 | F28: 2 | H28: =IF(F28=G28,1,0) -> 0 | J28: SUBTEST | L28: SUBTEST SCORES | T28: INDEX SCORES
A29: 86 | B29: 1 | D29: =IF(B29=C29,1,0) -> 0 | E29: 102 | F29: 2 | H29: =IF(F29=G29,1,0) -> 0 | L29: Raw Score | N29: Scaled Score | P29: percentiles | R29: Ecart-Type | T29: Overall | W29: Basic Processes | Z29: Sequencing | AC29: Complex Processes
A30: 87 | B30: 4 | D30: =IF(B30=C30,1,0) -> 0 | E30: 103 | F30: 3 | H30: =IF(F30=G30,1,0) -> 0 | J30: 1.DIS | L30: =D20 -> 0 | N30: 10 | P30: =VLOOKUP(N30,Sheet3!$A$3:$B$22,2,FALSE) -> 50 | R30: =(N30-10)/3 -> 0 | T30: =N30 -> 10 | W30: =N30 -> 10
A31: 88 | B31: 3 | D31: =IF(B31=C31,1,0) -> 0 | E31: 104 | F31: 4 | H31: =IF(F31=G31,1,0) -> 0 | J31: 2.MEM | L31: =H20 -> 0 | N31: 10 | P31: =VLOOKUP(N31,Sheet3!$A$3:$B$22,2,FALSE) -> 50 | R31: =(N31-10)/3 -> 0 | T31: =N31 -> 10 | W31: =N31 -> 10
A32: 89 | B32: 2 | D32: =IF(B32=C32,1,0) -> 0 | E32: 105 | F32: 1 | H32: =IF(F32=G32,1,0) -> 0 | J32: 3.SPA | L32: =L20 -> 0 | N32: 10 | P32: =VLOOKUP(N32,Sheet3!$A$3:$B$22,2,FALSE) -> 50 | R32: =(N32-10)/3 -> 0 | T32: =N32 -> 10 | W32: =N32 -> 10
A33: 90 | B33: 3 | D33: =IF(B33=C33,1,0) -> 0 | E33: 106 | F33: 4 | H33: =IF(F33=G33,1,0) -> 0 | J33: 4.CON | L33: =P20 -> 0 | N33: 10 | P33: =VLOOKUP(N33,Sheet3!$A$3:$B$22,2,FALSE) -> 50 | R33: =(N33-10)/3 -> 0 | T33: =N33 -> 10 | W33: =N33 -> 10
A34: 91 | B34: 1 | D34: =IF(B34=C34,1,0) -> 0 | E34: 107 | F34: 3 | H34: =IF(F34=G34,1,0) -> 0 | J34: 5.SEQ | L34: =T20 -> 0 | N34: 10 | P34: =VLOOKUP(N34,Sheet3!$A$3:$B$22,2,FALSE) -> 50 | R34: =(N34-10)/3 -> 0 | T34: =N34 -> 10 | Z34: =N34 -> 10
A35: 92 | B35: 2 | D35: =IF(B35=C35,1,0) -> 0 | E35: 108 | F35: 1 | H35: =IF(F35=G35,1,0) -> 0 | J35: 6.FGR | L35: =D40 -> 0 | N35: 10 | P35: =VLOOKUP(N35,Sheet3!$A$3:$B$22,2,FALSE) -> 50 | R35: =(N35-10)/3 -> 0 | T35: =N35 -> 10 | AC35: =N35 -> 10
A36: 93 | B36: 4 | D36: =IF(B36=C36,1,0) -> 0 | E36: 109 | F36: 4 | H36: =IF(F36=G36,1,0) -> 0 | J36: 7.CLO | L36: =H40 -> 0 | N36: 10 | P36: =VLOOKUP(N36,Sheet3!$A$3:$B$22,2,FALSE) -> 50 | R36: =(N36-10)/3 -> 0 | T36: =N36 -> 10 | AC36: =N36 -> 10
A37: 94 | B37: 3 | D37: =IF(B37=C37,1,0) -> 0 | E37: 110 | F37: 3 | H37: =IF(F37=G37,1,0) -> 0
A38: 95 | B38: 1 | D38: =IF(B38=C38,1,0) -> 0 | E38: 111 | F38: 1 | H38: =IF(F38=G38,1,0) -> 0 | J38: Sum of Scaled Scores | T38: =SUM(T30:T36) -> 70 | W38: =SUM(W30:W33) -> 40 | Z38: =N34 -> 10 | AC38: =SUM(AC35:AC36) -> 20
A39: 96 | B39: 2 | D39: =IF(B39=C39,1,0) -> 0 | E39: 112 | F39: 2 | H39: =IF(F39=G39,1,0) -> 0 | J39: Standard Scores | T39: =VLOOKUP(T38,'SCORES STANDARDS'!$A$1:$B$133,2,FALSE) -> 100 | W39: =VLOOKUP(W38,'conversion B S C'!$A$3:$B$78,2,FALSE) -> 100 | Z39: =VLOOKUP(Z38,'conversion B S C'!$D$3:$E$21,2,FALSE) -> 100 | AC39: =VLOOKUP(AC38,'conversion B S C'!$G$3:$H$40,2,FALSE) -> 100
A40: Total Subtest 6 | D40: =SUM(D24:D39) -> 0 | E40: Total Subtest 7 | H40: =SUM(H24:H39) -> 0 | J40: percentiles | T40: =VLOOKUP(T39,Sheet3!$D$3:$E$93,2,FALSE) -> 50 | W40: =VLOOKUP(W39,Sheet3!$D$3:$E$93,2,FALSE) -> 50 | Z40: =VLOOKUP(Z39,Sheet3!$D$3:$E$93,2,FALSE) -> 50 | AC40: =VLOOKUP(AC39,Sheet3!$D$3:$E$93,2,FALSE) -> 50
J41: Ecart-Type | T41: =(T39-100)/15 -> 0 | W41: =(W39-100)/15 -> 0 | Z41: =(Z39-100)/15 -> 0 | AC41: =(AC39-100)/15 -> 0
AJ43: index tout le tableau puis le raw score et l'age

Sheet Sheet3
A1: score | D1: overall
A2: Resultats | B2: Percentiles | D2: scores standards BSC | E2: Percentiles
A3: 0 | B3: 0 | D3: 55 | E3: <1
A4: 1 | B4: <1 | D4: 56 | E4: <1
A5: 2 | B5: <1 | D5: 57 | E5: <1
A6: 3 | B6: 1 | D6: 58 | E6: <1
A7: 4 | B7: 2 | D7: 59 | E7: <1
A8: 5 | B8: 5 | D8: 60 | E8: <1
A9: 6 | B9: 9 | D9: 61 | E9: <1
A10: 7 | B10: 16 | D10: 62 | E10: 1
A11: 8 | B11: 25 | D11: 63 | E11: 1
A12: 9 | B12: 37 | D12: 64 | E12: 1
A13: 10 | B13: 50 | D13: 65 | E13: 1
A14: 11 | B14: 63 | D14: 66 | E14: 1
A15: 12 | B15: 75 | D15: 67 | E15: 1
A16: 13 | B16: 84 | D16: 68 | E16: 2
A17: 14 | B17: 91 | D17: 69 | E17: 2
A18: 15 | B18: 95 | D18: 70 | E18: 2
A19: 16 | B19: 98 | D19: 71 | E19: 3
A20: 17 | B20: 99 | D20: 72 | E20: 3
A21: 18 | B21: 99.2 | D21: 73 | E21: 4
A22: 19 | B22: 99.4 | D22: 74 | E22: 4
D23: 75 | E23: 5
D24: 76 | E24: 5
D25: 77 | E25: 6
D26: 78 | E26: 7
D27: 79 | E27: 8
D28: 80 | E28: 9
D29: 81 | E29: 10
D30: 82 | E30: 11
D31: 83 | E31: 13
D32: 84 | E32: 14
D33: 85 | E33: 16
D34: 86 | E34: 18
... D93: 145 | E93: 99.7

Sheet SCORES STANDARDS
A1: 1 | B1: <55
A2: 2 | B2: <55
A3: 3 | B3: <55
A4: 4 | B4: <55
A5: 5 | B5: <55
A6: 6 | B6: <55
A7: 7 | B7: 55
A8: 8 | B8: 56
A9: 9 | B9: 56
A10: 10 | B10: 57
A11: 11 | B11: 57
A12: 12 | B12: 58
A13: 13 | B13: 59
A14: 14 | B14: 60
A15: 15 | B15: 60
A16: 16 | B16: 61
A17: 17 | B17: 62
A18: 18 | B18: 63
... A133: 133 | B133: 145

Sheet conversion B S C
A1: basic process | D1: sequencing | G1: complex process
A2: sum of scaled score | B2: standars scores | D2: sum of scaled score | E2: standars scores | G2: sum of scaled score | H2: standars scores
A3: 1 | B3: 51 | D3: 1 | E3: 55 | G3: 1 | H3: 52
A4: 2 | B4: 52 | D4: 2 | E4: 60 | G4: 2 | H4: 55
A5: 3 | B5: 54 | D5: 3 | E5: 65 | G5: 3 | H5: 58
A6: 4 | B6: 55 | D6: 4 | E6: 70 | G6: 4 | H6: 60
A7: 5 | B7: 56 | D7: 5 | E7: 75 | G7: 5 | H7: 62
A8: 6 | B8: 57 | D8: 6 | E8: 80 | G8: 6 | H8: 65
A9: 7 | B9: 59 | D9: 7 | E9: 85 | G9: 7 | H9: 68
A10: 8 | B10: 60 | D10: 8 | E10: 90 | G10: 8 | H10: 70
A11: 9 | B11: 61 | D11: 9 | E11: 95 | G11: 9 | H11: 73
A12: 10 | B12: 62 | D12: 10 | E12: 100 | G12: 10 | H12: 75
A13: 11 | B13: 64 | D13: 11 | E13: 105 | G13: 11 | H13: 78
A14: 12 | B14: 65 | D14: 12 | E14: 110 | G14: 12 | H14: 80
... A21: 19 | B21: 74 | D21: 19 | E21: 145 | G21: 19 | H21: 98
A22: 20 | B22: 75 | G22: 20 | H22: 100
A23: 21 | B23: 76 | G23: 21 | H23: 103
A24: 22 | B24: 77 | G24: 22 | H24: 105
A25: 23 | B25: 79 | G25: 23 | H25: 108
A26: 24 | B26: 80 | G26: 24 | H26: 110
A27: 25 | B27: 81 | G27: 25 | H27: 113
A28: 26 | B28: 83 | G28: 26 | H28: 115
A29: 27 | B29: 84 | G29: 27 | H29: 118
A30: 28 | B30: 85 | G30: 28 | H30: 120
A31: 29 | B31: 86 | G31: 29 | H31: 123
A32: 30 | B32: 88 | G32: 30 | H32: 125
A33: 31 | B33: 89 | G33: 31 | H33: 128
... A40: 38 | B40: 98 | G40: 38 | H40: 145
A41: 39 | B41: 99
A42: 40 | B42: 100
A43: 41 | B43: 101
A44: 42 | B44: 103
A45: 43 | B45: 104
A46: 44 | B46: 105
A47: 45 | B47: 106
A48: 46 | B48: 108
A49: 47 | B49: 109
A50: 48 | B50: 110
A51: 49 | B51: 111
A52: 50 | B52: 113
... A78: 76 | B78: 145

Sheet TRANCHE D'ÂGE
B2: Raw score | C2: 4 ans, 0 mois et 0 jour à 4 ans, 5 mois et 30 jours | D2: 4 ans, 6 mois et 0 jours à 4 ans, 11 mois et 30 jours | E2: 5 ans, 0 mois et 0 jour à 5 ans,5 mois et 30 jours | F2: 5 ans, 6 mois et 0 jour à 5 ans, 11 mois et 30 jours | G2: 6 ans, 0 mois et 0 jours à 6 ans, 5 mois et 30 jours | H2: 6 ans, 6 mois et 0 jours à 6 ans, 11 mois et 30 jours | I2: 7 ans, 0 mois et 0 jours à 7 ans, 5 mois et 30 jours | J2: 7 ans, 6 mois et 0 jours à 7 ans, 11 mois et 30 jours | K2: 8 ans, 0 mois et 30 jours à 8 ans, 5 mois et 30 jours | L2: 8 ans, 6 mois et 0 jours à 8 ans, 11 mois et 30 jours | M2: 9 ans, 0 mois et 0 jours à 9 ans, 5 mois et 30 jours | N2: 9 ans, 6 mois et 0 jours à 9 ans, 11 mois et 30 jours | O2: 10 ans, 0 mois et 0 jours à 10 ans, 11 mois et 30 jours | P2: 11 ans, 0 mois et 0 jours à 11 ans, 11 mois et 30 jours | Q2: 12 ans, 0 mois et 0 jours à 12 ans, 11 mois et 30 jours | R2: 13 ans, 0 mois et 0 jours à 13 ans, 11 mois et 30 jours | S2: 14 ans, 0 mois et 0 jours à 14 ans, 11 mois et 30 jours | T2: 15 ans, 0 mois et 0 jours à 15 ans, 11 mois et 30 jours | U2: 16 ans, 0 mois et 0 jours à 16 ans, 11 mois et 30 jours | V2: 17 ans, 0 mois et 0 jours à 17 ans, 11 mois et 30 jours | W2: 18 ans, 0 mois et 0 jours à 18 ans, 11 mois et 30 jours
A3: DIS | B3: 1 | C3: 7 | D3: 5 | E3: 4 | F3: 3 | G3: 3 | H3: 2 | I3: 2 | J3: 1 | K3: 1 | L3: 1 | M3: 0 | N3: 0 | O3: 0 | P3: 0 | Q3: 0 | R3: 0 | S3: 0 | T3: 0 | U3: 0 | V3: 0 | W3: 0
B4: 2 | C4: 8 | D4: 7 | E4: 6 | F4: 5 | G4: 4 | H4: 4 | I4: 3 | J4: 3 | K4: 2 | L4: 2 | M4: 1 | N4: 1 | O4: 0 | P4: 0 | Q4: 0 | R4: 0 | S4: 0 | T4: 0 | U4: 0 | V4: 0 | W4: 0
B5: 3 | C5: 9 | D5: 8 | E5: 7 | F5: 7 | G5: 6 | H5: 5 | I5: 5 | J5: 4 | K5: 4 | L5: 3 | M5: 3 | N5: 2 | O5: 1 | P5: 1 | Q5: 0 | R5: 0 | S5: 0 | T5: 0 | U5: 0 | V5: 0 | W5: 0
B6: 4 | C6: 10 | D6: 9 | E6: 8 | F6: 8 | G6: 7 | H6: 7 | I6: 6 | J6: 6 | K6: 5 | L6: 5 | M6: 4 | N6: 4 | O6: 3 | P6: 2 | Q6: 1 | R6: 1 | S6: 0 | T6: 0 | U6: 0 | V6: 0 | W6: 0
B7: 5 | C7: 11 | D7: 10 | E7: 10 | F7: 9 | G7: 8 | H7: 8 | I7: 7 | J7: 7 | K7: 6 | L7: 6 | M7: 5 | N7: 5 | O7: 4 | P7: 3 | Q7: 3 | R7: 2 | S7: 1 | T7: 1 | U7: 0 | V7: 0 | W7: 0
B8: 6 | C8: 12 | D8: 11 | E8: 11 | F8: 10 | G8: 10 | H8: 9 | I8: 8 | J8: 8 | K8: 7 | L8: 7 | M8: 6 | N8: 6 | O8: 5 | P8: 4 | Q8: 4 | R8: 3 | S8: 3 | T8: 2 | U8: 1 | V8: 1 | W8: 1
B9: 7 | C9: 13 | D9: 13 | E9: 12 | F9: 11 | G9: 11 | H9: 10 | I9: 9 | J9: 9 | K9: 8 | L9: 8 | M9: 7 | N9: 7 | O9: 6 | P9: 6 | Q9: 5 | R9: 5 | S9: 4 | T9: 3 | U9: 3 | V9: 2 | W9: 2
B10: 8 | C10: 14 | D10: 14 | E10: 13 | F10: 12 | G10: 12 | H10: 11 | I10: 10 | J10: 10 | K10: 9 | L10: 9 | M10: 8 | N10: 8 | O10: 7 | P10: 6 | Q10: 6 | R10: 5 | S10: 5 | T10: 4 | U10: 4 | V10: 3 | W10: 3
B11: 9 | C11: 16 | D11: 16 | E11: 15 | F11: 14 | G11: 13 | H11: 12 | I11: 12 | J11: 11 | K11: 10 | L11: 10 | M11: 9 | N11: 9 | O11: 8 | P11: 7 | Q11: 7 | R11: 6 | S11: 6 | T11: 5 | U11: 5 | V11: 4 | W11: 4
B12: 10 | C12: 17 | D12: 17 | E12: 16 | F12: 15 | G12: 14 | H12: 14 | I12: 13 | J12: 12 | K12: 12 | L12: 11 | M12: 11 | N12: 10 | O12: 9 | P12: 8 | Q12: 8 | R12: 7 | S12: 7 | T12: 6 | U12: 6 | V12: 5 | W12: 5
B13: 11 | C13: 18 | D13: 18 | E13: 18 | F13: 17 | G13: 16 | H13: 15 | I13: 14 | J13: 14 | K13: 13 | L13: 12 | M13: 12 | N13: 11 | O13: 10 | P13: 9 | Q13: 9 | R13: 8 | S13: 8 | T13: 7 | U13: 7 | V13: 6 | W13: 6
B14: 12 | C14: 19 | D14: 19 | E14: 19 | F14: 19 | G14: 18 | H14: 17 | I14: 16 | J14: 15 | K14: 15 | L14: 14 | M14: 13 | N14: 13 | O14: 12 | P14: 11 | Q14: 10 | R14: 10 | S14: 9 | T14: 9 | U14: 8 | V14: 8 | W14: 7
B15: 13 | C15: 19 | D15: 19 | E15: 19 | F15: 19 | G15: 19 | H15: 19 | I15: 18 | J15: 17 | K15: 16 | L15: 15 | M15: 15 | N15: 14 | O15: 13 | P15: 12 | Q15: 12 | R15: 11 | S15: 10 | T15: 10 | U15: 10 | V15: 9 | W15: 8
... B18: 16 | C18: 19 | D18: 19 | E18: 19 | F18: 19 | G18: 19 | H18: 19 | I18: 19 | J18: 19 | K18: 19 | L18: 19 | M18: 19 | N18: 19 | O18: 19 | P18: 18 | Q18: 18 | R18: 17 | S18: 17 | T18: 16 | U18: 16 | V18: 15 | W18: 14
A20: MEM | B20: 1 | C20: 6 | D20: 5 | E20: 3 | F20: 2 | G20: 2 | H20: 1 | I20: 1 | J20: 0 | K20: 0 | L20: 0 | M20: 0 | N20: 0 | O20: 0 | P20: 0 | Q20: 0 | R20: 0 | S20: 0 | T20: 0 | U20: 0 | V20: 0 | W20: 0
B21: 2 | C21: 7 | D21: 6 | E21: 5 | F21: 4 | G21: 3 | H21: 2 | I21: 2 | J21: 1 | K21: 1 | L21: 0 | M21: 0 | N21: 0 | O21: 0 | P21: 0 | Q21: 0 | R21: 0 | S21: 0 | T21: 0 | U21: 0 | V21: 0 | W21: 0
B22: 3 | C22: 9 | D22: 8 | E22: 7 | F22: 6 | G22: 5 | H22: 4 | I22: 3 | J22: 2 | K22: 2 | L22: 1 | M22: 1 | N22: 0 | O22: 0 | P22: 0 | Q22: 0 | R22: 0 | S22: 0 | T22: 0 | U22: 0 | V22: 0 | W22: 0
B23: 4 | C23: 10 | D23: 10 | E23: 8 | F23: 7 | G23: 6 | H23: 5 | I23: 4 | J23: 4 | K23: 3 | L23: 2 | M23: 2 | N23: 1 | O23: 1 | P23: 0 | Q23: 0 | R23: 0 | S23: 0 | T23: 0 | U23: 0 | V23: 0 | W23: 0
B24: 5 | C24: 11 | D24: 11 | E24: 10 | F24: 8 | G24: 7 | H24: 6 | I24: 6 | J24: 5 | K24: 4 | L24: 4 | M24: 3 | N24: 3 | O24: 2 | P24: 1 | Q24: 1 | R24: 0 | S24: 0 | T24: 0 | U24: 0 | V24: 0 | W24: 0
B25: 6 | C25: 12 | D25: 12 | E25: 11 | F25: 10 | G25: 9 | H25: 8 | I25: 7 | J25: 6 | K25: 5 | L25: 5 | M25: 4 | N25: 4 | O25: 3 | P25: 3 | Q25: 2 | R25: 1 | S25: 1 | T25: 0 | U25: 0 | V25: 0 | W25: 0
B26: 7 | C26: 13 | D26: 13 | E26: 12 | F26: 11 | G26: 10 | H26: 9 | I26: 8 | J26: 7 | K26: 7 | L26: 6 | M26: 5 | N26: 5 | O26: 4 | P26: 4 | Q26: 3 | R26: 2 | S26: 2 | T26: 1 | U26: 1 | V26: 0 | W26: 0
B27: 8 | C27: 15 | D27: 15 | E27: 13 | F27: 12 | G27: 11 | H27: 10 | I27: 9 | J27: 8 | K27: 8 | L27: 7 | M27: 7 | N27: 6 | O27: 6 | P27: 5 | Q27: 4 | R27: 3 | S27: 3 | T27: 2 | U27: 2 | V27: 1 | W27: 1
B28: 9 | C28: 16 | D28: 16 | E28: 15 | F28: 13 | G28: 12 | H28: 11 | I28: 10 | J28: 9 | K28: 9 | L28: 8 | M28: 8 | N28: 7 | O28: 7 | P28: 6 | Q28: 5 | R28: 5 | S28: 4 | T28: 3 | U28: 3 | V28: 2 | W28: 2
B29: 10 | C29: 17 | D29: 17 | E29: 16 | F29: 15 | G29: 14 | H29: 13 | I29: 12 | J29: 11 | K29: 10 | L29: 9 | M29: 9 | N29: 8 | O29: 8 | P29: 7 | Q29: 6 | R29: 6 | S29: 5 | T29: 5 | U29: 4 | V29: 4 | W29: 3
B30: 11 | C30: 18 | D30: 18 | E30: 17 | F30: 16 | G30: 15 | H30: 14 | I30: 13 | J30: 12 | K30: 11 | L30: 11 | M30: 10 | N30: 9 | O30: 9 | P30: 8 | Q30: 8 | R30: 7 | S30: 7 | T30: 6 | U30: 6 | V30: 5 | W30: 5
B31: 12 | C31: 19 | D31: 19 | E31: 18 | F31: 18 | G31: 17 | H31: 16 | I31: 15 | J31: 14 | K31: 13 | L31: 12 | M31: 12 | N31: 11 | O31: 10 | P31: 10 | Q31: 9 | R31: 8 | S31: 8 | T31: 7 | U31: 7 | V31: 6 | W31: 6
B32: 13 | C32: 19 | D32: 19 | E32: 19 | F32: 19 | G32: 18 | H32: 18 | I32: 17 | J32: 16 | K32: 15 | L32: 14 | M32: 14 | N32: 13 | O32: 12 | P32: 11 | Q32: 10 | R32: 10 | S32: 9 | T32: 9 | U32: 8 | V32: 8 | W32: 7
... B35: 16 | C35: 19 | D35: 19 | E35: 19 | F35: 19 | G35: 19 | H35: 19 | I35: 19 | J35: 19 | K35: 19 | L35: 19 | M35: 19 | N35: 18 | O35: 18 | P35: 17 | Q35: 17 | R35: 16 | S35: 16 | T35: 15 | U35: 15 | V35: 14 | W35: 14
A37: SPA | B37: 1 | C37: 8 | D37: 6 | E37: 5 | F37: 4 | G37: 3 | H37: 2 | I37: 1 | J37: 0 | K37: 0 | L37: 0 | M37: 0 | N37: 0 | O37: 0 | P37: 0 | Q37: 0 | R37: 0 | S37: 0 | T37: 0 | U37: 0 | V37: 0 | W37: 0
B38: 2 | C38: 9 | D38: 8 | E38: 7 | F38: 6 | G38: 5 | H38: 4 | I38: 3 | J38: 3 | K38: 2 | L38: 2 | M38: 1 | N38: 1 | O38: 1 | P38: 0 | Q38: 0 | R38: 0 | S38: 0 | T38: 0 | U38: 0 | V38: 0 | W38: 0
B39: 3 | C39: 10 | D39: 9 | E39: 8 | F39: 7 | G39: 6 | H39: 5 | I39: 5 | J39: 4 | K39: 4 | L39: 3 | M39: 3 | N39: 2 | O39: 2 | P39: 1 | Q39: 0 | R39: 0 | S39: 0 | T39: 0 | U39: 0 | V39: 0 | W39: 0
B40: 4 | C40: 11 | D40: 10 | E40: 9 | F40: 8 | G40: 7 | H40: 7 | I40: 6 | J40: 5 | K40: 5 | L40: 4 | M40: 4 | N40: 3 | O40: 3 | P40: 2 | Q40: 1 | R40: 0 | S40: 0 | T40: 0 | U40: 0 | V40: 0 | W40: 0
B41: 5 | C41: 12 | D41: 11 | E41: 10 | F41: 9 | G41: 8 | H41: 8 | I41: 7 | J41: 6 | K41: 6 | L41: 5 | M41: 5 | N41: 4 | O41: 4 | P41: 3 | Q41: 2 | R41: 1 | S41: 0 | T41: 0 | U41: 0 | V41: 0 | W41: 0
B42: 6 | C42: 13 | D42: 12 | E42: 11 | F42: 10 | G42: 9 | H42: 9 | I42: 8 | J42: 7 | K42: 7 | L42: 6 | M42: 6 | N42: 5 | O42: 5 | P42: 4 | Q42: 3 | R42: 2 | S42: 2 | T42: 1 | U42: 0 | V42: 0 | W42: 0
B43: 7 | C43: 14 | D43: 13 | E43: 12 | F43: 11 | G43: 10 | H43: 9 | I43: 9 | J43: 8 | K43: 7 | L43: 7 | M43: 6 | N43: 6 | O43: 5 | P43: 5 | Q43: 4 | R43: 3 | S43: 3 | T43: 2 | U43: 1 | V43: 0 | W43: 0
B44: 8 | C44: 15 | D44: 14 | E44: 13 | F44: 12 | G44: 11 | H44: 10 | I44: 10 | J44: 9 | K44: 8 | L44: 8 | M44: 7 | N44: 7 | O44: 6 | P44: 6 | Q44: 5 | R44: 4 | S44: 4 | T44: 3 | U44: 2 | V44: 1 | W44: 0
B45: 9 | C45: 16 | D45: 15 | E45: 14 | F45: 13 | G45: 12 | H45: 11 | I45: 11 | J45: 10 | K45: 9 | L45: 9 | M45: 8 | N45: 7 | O45: 7 | P45: 6 | Q45: 6 | R45: 5 | S45: 5 | T45: 4 | U45: 3 | V45: 2 | W45: 1
B46: 10 | C46: 17 | D46: 16 | E46: 15 | F46: 14 | G46: 13 | H46: 12 | I46: 12 | J46: 11 | K46: 10 | L46: 9 | M46: 9 | N46: 8 | O46: 8 | P46: 7 | Q46: 6 | R46: 6 | S46: 5 | T46: 5 | U46: 4 | V46: 4 | W46: 3
B47: 11 | C47: 18 | D47: 17 | E47: 16 | F47: 15 | G47: 14 | H47: 14 | I47: 13 | J47: 12 | K47: 11 | L47: 10 | M47: 10 | N47: 9 | O47: 9 | P47: 8 | Q47: 7 | R47: 7 | S47: 6 | T47: 6 | U47: 5 | V47: 5 | W47: 4
B48: 12 | C48: 19 | D48: 18 | E48: 17 | F48: 17 | G48: 16 | H48: 15 | I48: 14 | J48: 13 | K48: 13 | L48: 12 | M48: 11 | N48: 10 | O48: 10 | P48: 9 | Q48: 8 | R48: 8 | S48: 7 | T48: 7 | U48: 6 | V48: 6 | W48: 5
B49: 13 | C49: 19 | D49: 19 | E49: 19 | F49: 19 | G49: 18 | H49: 17 | I49: 16 | J49: 15 | K49: 14 | L49: 13 | M49: 12 | N49: 11 | O49: 11 | P49: 10 | Q49: 10 | R49: 9 | S49: 8 | T49: 8 | U49: 7 | V49: 7 | W49: 6
... B52: 16 | C52: 19 | D52: 19 | E52: 19 | F52: 19 | G52: 19 | H52: 19 | I52: 19 | J52: 19 | K52: 19 | L52: 19 | M52: 18 | N52: 18 | O52: 17 | P52: 16 | Q52: 16 | R52: 15 | S52: 15 | T52: 14 | U52: 13 | V52: 13 | W52: 11
A54: CON | B54: 1 | C54: 7 | D54: 5 | E54: 4 | F54: 3 | G54: 2 | H54: 2 | I54: 1 | J54: 1 | K54: 1 | L54: 1 | M54: 0 | N54: 0 | O54: 0 | P54: 0 | Q54: 0 | R54: 0 | S54: 0 | T54: 0 | U54: 0 | V54: 0 | W54: 0
B55: 2 | C55: 9 | D55: 7 | E55: 6 | F55: 5 | G55: 4 | H55: 4 | I55: 3 | J55: 2 | K55: 2 | L55: 2 | M55: 1 | N55: 1 | O55: 0 | P55: 0 | Q55: 0 | R55: 0 | S55: 0 | T55: 0 | U55: 0 | V55: 0 | W55: 0
B56: 3 | C56: 10 | D56: 9 | E56: 7 | F56: 6 | G56: 6 | H56: 5 | I56: 5 | J56: 4 | K56: 4 | L56: 3 | M56: 3 | N56: 2 | O56: 1 | P56: 1 | Q56: 0 | R56: 0 | S56: 0 | T56: 0 | U56: 0 | V56: 0 | W56: 0
B57: 4 | C57: 11 | D57: 10 | E57: 9 | F57: 8 | G57: 8 | H57: 7 | I57: 6 | J57: 5 | K57: 5 | L57: 4 | M57: 4 | N57: 4 | O57: 3 | P57: 2 | Q57: 1 | R57: 1 | S57: 1 | T57: 0 | U57: 0 | V57: 0 | W57: 0
B58: 5 | C58: 12 | D58: 11 | E58: 10 | F58: 10 | G58: 9 | H58: 8 | I58: 7 | J58: 7 | K58: 6 | L58: 6 | M58: 5 | N58: 5 | O58: 4 | P58: 3 | Q58: 3 | R58: 2 | S58: 2 | T58: 1 | U58: 1 | V58: 1 | W58: 0
B59: 6 | C59: 14 | D59: 13 | E59: 12 | F59: 11 | G59: 10 | H59: 9 | I59: 9 | J59: 8 | K59: 7 | L59: 7 | M59: 6 | N59: 6 | O59: 5 | P59: 5 | Q59: 4 | R59: 3 | S59: 3 | T59: 2 | U59: 2 | V59: 2 | W59: 1
B60: 7 | C60: 15 | D60: 14 | E60: 13 | F60: 12 | G60: 11 | H60: 11 | I60: 10 | J60: 9 | K60: 9 | L60: 8 | M60: 8 | N60: 7 | O60: 6 | P60: 6 | Q60: 5 | R60: 5 | S60: 4 | T60: 4 | U60: 3 | V60: 3 | W60: 2
B61: 8 | C61: 16 | D61: 15 | E61: 14 | F61: 14 | G61: 13 | H61: 12 | I61: 11 | J61: 10 | K61: 10 | L61: 9 | M61: 9 | N61: 8 | O61: 8 | P61: 7 | Q61: 6 | R61: 6 | S61: 5 | T61: 5 | U61: 5 | V61: 4 | W61: 4
B62: 9 | C62: 18 | D62: 17 | E62: 16 | F62: 15 | G62: 14 | H62: 13 | I62: 13 | J62: 12 | K62: 11 | L62: 10 | M62: 10 | N62: 9 | O62: 9 | P62: 8 | Q62: 8 | R62: 7 | S62: 7 | T62: 6 | U62: 6 | V62: 5 | W62: 5
B63: 10 | C63: 19 | D63: 18 | E63: 17 | F63: 16 | G63: 16 | H63: 15 | I63: 14 | J63: 13 | K63: 12 | L63: 12 | M63: 11 | N63: 10 | O63: 10 | P63: 9 | Q63: 9 | R63: 8 | S63: 8 | T63: 7 | U63: 7 | V63: 7 | W63: 6
B64: 11 | C64: 19 | D64: 19 | E64: 18 | F64: 18 | G64: 17 | H64: 16 | I64: 15 | J64: 15 | K64: 14 | L64: 13 | M64: 13 | N64: 12 | O64: 11 | P64: 10 | Q64: 10 | R64: 9 | S64: 9 | T64: 8 | U64: 8 | V64: 8 | W64: 7
B65: 12 | C65: 19 | D65: 19 | E65: 19 | F65: 19 | G65: 18 | H65: 18 | I65: 17 | J65: 16 | K65: 15 | L65: 15 | M65: 14 | N65: 14 | O65: 13 | P65: 12 | Q65: 11 | R65: 10 | S65: 10 | T65: 10 | U65: 9 | V65: 9 | W65: 8
B66: 13 | C66: 19 | D66: 19 | E66: 19 | F66: 19 | G66: 19 | H66: 19 | I66: 18 | J66: 18 | K66: 17 | L66: 17 | M66: 16 | N66: 15 | O66: 14 | P66: 14 | Q66: 13 | R66: 12 | S66: 11 | T66: 11 | U66: 10 | V66: 10 | W66: 10
... B69: 16 | C69: 19 | D69: 19 | E69: 19 | F69: 19 | G69: 19 | H69: 19 | I69: 19 | J69: 19 | K69: 19 | L69: 19 | M69: 19 | N69: 19 | O69: 19 | P69: 18 | Q69: 18 | R69: 18 | S69: 17 | T69: 17 | U69: 17 | V69: 16 | W69: 16
A71: SEQ | B71: 1 | C71: 9 | D71: 7 | E71: 6 | F71: 5 | G71: 4 | H71: 3 | I71: 2 | J71: 2 | K71: 1 | L71: 1 | M71: 1 | N71: 0 | O71: 0 | P71: 0 | Q71: 0 | R71: 0 | S71: 0 | T71: 0 | U71: 0 | V71: 0 | W71: 0
B72: 2 | C72: 10 | D72: 8 | E72: 7 | F72: 6 | G72: 5 | H72: 4 | I72: 4 | J72: 3 | K72: 3 | L72: 2 | M72: 2 | N72: 1 | O72: 1 | P72: 0 | Q72: 0 | R72: 0 | S72: 0 | T72: 0 | U72: 0 | V72: 0 | W72: 0
B73: 3 | C73: 11 | D73: 10 | E73: 9 | F73: 8 | G73: 7 | H73: 6 | I73: 5 | J73: 4 | K73: 4 | L73: 3 | M73: 3 | N73: 2 | O73: 2 | P73: 1 | Q73: 1 | R73: 1 | S73: 0 | T73: 0 | U73: 0 | V73: 0 | W73: 0
B74: 4 | C74: 12 | D74: 11 | E74: 10 | F74: 9 | G74: 8 | H74: 7 | I74: 6 | J74: 5 | K74: 5 | L74: 4 | M74: 4 | N74: 4 | O74: 3 | P74: 3 | Q74: 2 | R74: 2 | S74: 1 | T74: 1 | U74: 1 | V74: 0 | W74: 0
B75: 5 | C75: 13 | D75: 12 | E75: 11 | F75: 10 | G75: 9 | H75: 8 | I75: 7 | J75: 6 | K75: 6 | L75: 6 | M75: 5 | N75: 5 | O75: 4 | P75: 4 | Q75: 3 | R75: 3 | S75: 2 | T75: 2 | U75: 2 | V75: 1 | W75: 1
B76: 6 | C76: 14 | D76: 13 | E76: 12 | F76: 11 | G76: 10 | H76: 9 | I76: 8 | J76: 8 | K76: 7 | L76: 7 | M76: 6 | N76: 6 | O76: 5 | P76: 5 | Q76: 4 | R76: 4 | S76: 3 | T76: 3 | U76: 3 | V76: 2 | W76: 2
B77: 7 | C77: 15 | D77: 14 | E77: 13 | F77: 12 | G77: 11 | H77: 10 | I77: 9 | J77: 9 | K77: 8 | L77: 8 | M77: 7 | N77: 7 | O77: 6 | P77: 5 | Q77: 5 | R77: 5 | S77: 4 | T77: 4 | U77: 4 | V77: 3 | W77: 3
B78: 8 | C78: 17 | D78: 15 | E78: 14 | F78: 13 | G78: 12 | H78: 11 | I78: 10 | J78: 10 | K78: 9 | L78: 9 | M78: 8 | N78: 8 | O78: 7 | P78: 7 | Q78: 6 | R78: 6 | S78: 5 | T78: 5 | U78: 5 | V78: 4 | W78: 4
B79: 9 | C79: 18 | D79: 17 | E79: 15 | F79: 14 | G79: 13 | H79: 12 | I79: 11 | J79: 11 | K79: 10 | L79: 10 | M79: 9 | N79: 9 | O79: 8 | P79: 8 | Q79: 7 | R79: 7 | S79: 6 | T79: 6 | U79: 5 | V79: 5 | W79: 5
B80: 10 | C80: 19 | D80: 18 | E80: 17 | F80: 16 | G80: 14 | H80: 13 | I80: 13 | J80: 12 | K80: 11 | L80: 11 | M80: 10 | N80: 10 | O80: 9 | P80: 8 | Q80: 8 | R80: 7 | S80: 7 | T80: 7 | U80: 6 | V80: 6 | W80: 6
B81: 11 | C81: 19 | D81: 19 | E81: 18 | F81: 17 | G81: 16 | H81: 15 | I81: 14 | J81: 13 | K81: 12 | L81: 12 | M81: 11 | N81: 11 | O81: 10 | P81: 9 | Q81: 9 | R81: 8 | S81: 8 | T81: 8 | U81: 7 | V81: 7 | W81: 7
B82: 12 | C82: 19 | D82: 19 | E82: 19 | F82: 18 | G82: 17 | H82: 16 | I82: 15 | J82: 14 | K82: 14 | L82: 13 | M82: 12 | N82: 12 | O82: 11 | P82: 11 | Q82: 10 | R82: 10 | S82: 9 | T82: 9 | U82: 9 | V82: 8 | W82: 8
B83: 13 | C83: 19 | D83: 19 | E83: 19 | F83: 19 | G83: 18 | H83: 18 | I83: 17 | J83: 16 | K83: 15 | L83: 15 | M83: 14 | N83: 13 | O83: 13 | P83: 12 | Q83: 11 | R83: 11 | S83: 11 | T83: 10 | U83: 10 | V83: 10 | W83: 9
... B86: 16 | C86: 19 | D86: 19 | E86: 19 | F86: 19 | G86: 19 | H86: 19 | I86: 19 | J86: 19 | K86: 19 | L86: 19 | M86: 19 | N86: 19 | O86: 19 | P86: 18 | Q86: 18 | R86: 18 | S86: 17 | T86: 17 | U86: 16 | V86: 16 | W86: 15
A88: FIG | B88: 1 | C88: 8 | D88: 6 | E88: 4 | F88: 3 | G88: 3 | H88: 2 | I88: 2 | J88: 1 | K88: 1 | L88: 1 | M88: 0 | N88: 0 | O88: 0 | P88: 0 | Q88: 0 | R88: 0 | S88: 0 | T88: 0 | U88: 0 | V88: 0 | W88: 0
B89: 2 | C89: 10 | D89: 8 | E89: 7 | F89: 6 | G89: 5 | H89: 4 | I89: 4 | J89: 3 | K89: 2 | L89: 2 | M89: 2 | N89: 1 | O89: 1 | P89: 0 | Q89: 0 | R89: 0 | S89: 0 | T89: 0 | U89: 0 | V89: 0 | W89: 0
B90: 3 | C90: 11 | D90: 10 | E90: 8 | F90: 7 | G90: 6 | H90: 6 | I90: 5 | J90: 5 | K90: 4 | L90: 4 | M90: 3 | N90: 3 | O90: 2 | P90: 2 | Q90: 1 | R90: 0 | S90: 0 | T90: 0 | U90: 0 | V90: 0 | W90: 0
B91: 4 | C91: 12 | D91: 11 | E91: 10 | F91: 9 | G91: 8 | H91: 7 | I91: 6 | J91: 6 | K91: 5 | L91: 5 | M91: 4 | N91: 4 | O91: 3 | P91: 3 | Q91: 2 | R91: 2 | S91: 1 | T91: 1 | U91: 1 | V91: 0 | W91: 0
B92: 5 | C92: 13 | D92: 12 | E92: 11 | F92: 10 | G92: 9 | H92: 9 | I92: 8 | J92: 7 | K92: 6 | L92: 6 | M92: 5 | N92: 5 | O92: 4 | P92: 4 | Q92: 3 | R92: 3 | S92: 2 | T92: 2 | U92: 2 | V92: 1 | W92: 1
B93: 6 | C93: 14 | D93: 13 | E93: 12 | F93: 11 | G93: 11 | H93: 10 | I93: 9 | J93: 8 | K93: 8 | L93: 7 | M93: 7 | N93: 6 | O93: 5 | P93: 5 | Q93: 4 | R93: 4 | S93: 3 | T93: 3 | U93: 2 | V93: 2 | W93: 2
B94: 7 | C94: 16 | D94: 15 | E94: 14 | F94: 13 | G94: 12 | H94: 11 | I94: 10 | J94: 10 | K94: 9 | L94: 8 | M94: 8 | N94: 7 | O94: 6 | P94: 6 | Q94: 5 | R94: 5 | S94: 4 | T94: 4 | U94: 3 | V94: 3 | W94: 3
B95: 8 | C95: 18 | D95: 17 | E95: 16 | F95: 14 | G95: 13 | H95: 12 | I95: 12 | J95: 11 | K95: 10 | L95: 9 | M95: 9 | N95: 8 | O95: 8 | P95: 7 | Q95: 6 | R95: 6 | S95: 5 | T95: 5 | U95: 4 | V95: 4 | W95: 3
B96: 9 | C96: 19 | D96: 18 | E96: 17 | F96: 16 | G96: 15 | H96: 14 | I96: 13 | J96: 12 | K96: 11 | L96: 11 | M96: 10 | N96: 10 | O96: 9 | P96: 8 | Q96: 7 | R96: 7 | S96: 6 | T96: 6 | U96: 5 | V96: 5 | W96: 5
B97: 10 | C97: 19 | D97: 19 | E97: 19 | F97: 18 | G97: 17 | H97: 15 | I97: 13 | J97: 13 | K97: 13 | L97: 12 | M97: 11 | N97: 11 | O97: 10 | P97: 9 | Q97: 8 | R97: 8 | S97: 7 | T97: 7 | U97: 7 | V97: 6 | W97: 6
B98: 11 | C98: 19 | D98: 19 | E98: 19 | F98: 19 | G98: 18 | H98: 17 | I98: 16 | J98: 15 | K98: 14 | L98: 13 | M98: 13 | N98: 12 | O98: 11 | P98: 10 | Q98: 10 | R98: 9 | S98: 8 | T98: 8 | U98: 8 | V98: 7 | W98: 7
B99: 12 | C99: 19 | D99: 19 | E99: 19 | F99: 19 | G99: 19 | H99: 19 | I99: 18 | J99: 17 | K99: 16 | L99: 15 | M99: 14 | N99: 13 | O99: 12 | P99: 11 | Q99: 11 | R99: 10 | S99: 10 | T99: 9 | U99: 9 | V99: 8 | W99: 8
B100: 13 | C100: 19 | D100: 19 | E100: 19 | F100: 19 | G100: 19 | H100: 19 | I100: 19 | J100: 18 | K100: 18 | L100: 17 | M100: 16 | N100: 15 | O100: 14 | P100: 13 | Q100: 12 | R100: 12 | S100: 11 | T100: 10 | U100: 10 | V100: 9 | W100: 9
... B103: 16 | C103: 19 | D103: 19 | E103: 19 | F103: 19 | G103: 19 | H103: 19 | I103: 19 | J103: 19 | K103: 19 | L103: 19 | M103: 19 | N103: 19 | O103: 19 | P103: 19 | Q103: 19 | R103: 19 | S103: 18 | T103: 18 | U103: 17 | V103: 16 | W103: 16
A105: CLO | B105: 1 | C105: 8 | D105: 7 | E105: 6 | F105: 5 | G105: 4 | H105: 3 | I105: 3 | J105: 2 | K105: 2 | L105: 2 | M105: 1 | N105: 1 | O105: 1 | P105: 0 | Q105: 0 | R105: 0 | S105: 0 | T105: 0 | U105: 0 | V105: 0 | W105: 0
B106: 2 | C106: 9 | D106: 8 | E106: 7 | F106: 7 | G106: 6 | H106: 5 | I106: 5 | J106: 5 | K106: 4 | L106: 4 | M106: 3 | N106: 3 | O106: 2 | P106: 1 | Q106: 1 | R106: 1 | S106: 0 | T106: 0 | U106: 0 | V106: 0 | W106: 0
B107: 3 | C107: 10 | D107: 9 | E107: 9 | F107: 8 | G107: 8 | H107: 7 | I107: 7 | J107: 6 | K107: 6 | L107: 5 | M107: 5 | N107: 4 | O107: 4 | P107: 3 | Q107: 2 | R107: 2 | S107: 1 | T107: 1 | U107: 1 | V107: 0 | W107: 0
B108: 4 | C108: 11 | D108: 10 | E108: 10 | F108: 9 | G108: 9 | H108: 8 | I108: 8 | J108: 7 | K108: 7 | L108: 6 | M108: 6 | N108: 5 | O108: 5 | P108: 4 | Q108: 4 | R108: 3 | S108: 3 | T108: 2 | U108: 2 | V108: 1 | W108: 1
B109: 5 | C109: 12 | D109: 12 | E109: 11 | F109: 10 | G109: 10 | H109: 9 | I109: 9 | J109: 8 | K109: 8 | L109: 7 | M109: 7 | N109: 6 | O109: 6 | P109: 5 | Q109: 5 | R109: 4 | S109: 4 | T109: 3 | U109: 3 | V109: 2 | W109: 2
B110: 6 | C110: 13 | D110: 13 | E110: 12 | F110: 11 | G110: 11 | H110: 10 | I110: 10 | J110: 9 | K110: 9 | L110: 8 | M110: 8 | N110: 7 | O110: 7 | P110: 6 | Q110: 6 | R110: 5 | S110: 5 | T110: 4 | U110: 4 | V110: 3 | W110: 3
B111: 7 | C111: 15 | D111: 14 | E111: 14 | F111: 13 | G111: 12 | H111: 11 | I111: 11 | J111: 10 | K111: 10 | L111: 9 | M111: 9 | N111: 8 | O111: 8 | P111: 7 | Q111: 7 | R111: 6 | S111: 6 | T111: 5 | U111: 5 | V111: 4 | W111: 4
B112: 8 | C112: 16 | D112: 16 | E112: 15 | F112: 14 | G112: 13 | H112: 13 | I112: 12 | J112: 11 | K112: 11 | L112: 10 | M112: 10 | N112: 9 | O112: 9 | P112: 8 | Q112: 8 | R112: 7 | S112: 7 | T112: 6 | U112: 6 | V112: 5 | W112: 5
B113: 9 | C113: 17 | D113: 17 | E113: 16 | F113: 15 | G113: 14 | H113: 14 | I113: 13 | J113: 12 | K113: 12 | L113: 11 | M113: 11 | N113: 10 | O113: 9 | P113: 9 | Q113: 8 | R113: 8 | S113: 7 | T113: 7 | U113: 6 | V113: 6 | W113: 5
B114: 10 | C114: 18 | D114: 18 | E114: 17 | F114: 16 | G114: 16 | H114: 15 | I114: 14 | J114: 14 | K114: 13 | L114: 12 | M114: 12 | N114: 11 | O114: 10 | P114: 9 | Q114: 9 | R114: 8 | S114: 8 | T114: 7 | U114: 7 | V114: 6 | W114: 6
B115: 11 | C115: 19 | D115: 19 | E115: 18 | F115: 18 | G115: 17 | H115: 16 | I115: 16 | J115: 15 | K115: 14 | L115: 14 | M115: 13 | N115: 12 | O115: 11 | P115: 10 | Q115: 10 | R115: 9 | S115: 9 | T115: 8 | U115: 8 | V115: 7 | W115: 7
B116: 12 | C116: 19 | D116: 19 | E116: 19 | F116: 19 | G116: 18 | H116: 18 | I116: 17 | J116: 16 | K116: 16 | L116: 15 | M116: 14 | N116: 14 | O116: 13 | P116: 12 | Q116: 11 | R116: 10 | S116: 10 | T116: 9 | U116: 9 | V116: 8 | W116: 8
B117: 13 | C117: 19 | D117: 19 | E117: 19 | F117: 19 | G117: 19 | H117: 19 | I117: 19 | J117: 18 | K117: 17 | L117: 17 | M117: 16 | N117: 15 | O117: 14 | P117: 13 | Q117: 12 | R117: 11 | S117: 11 | T117: 10 | U117: 10 | V117: 9 | W117: 9
... B120: 16 | C120: 19 | D120: 19 | E120: 19 | F120: 19 | G120: 19 | H120: 19 | I120: 19 | J120: 19 | K120: 19 | L120: 19 | M120: 19 | N120: 19 | O120: 19 | P120: 19 | Q120: 18 | R120: 17 | S120: 17 | T120: 16 | U120: 16 | V120: 15 | W120: 14
