Workbook

Sheet Tarif horaire Heidelberg T
A1: CHARGES | D1: MONTANT | E1: FREQUENCE
A2: Amortissement materiel | D2: 853.2 | E2: AN | I2: Prix d'achat | J2: 2559.6
A3: Maintenance | D3: 250 | E3: AN
A4: Frais fixes | D4: 900.95 | E4: MOIS | I4: Taux d'interet amortissement (3ans) | J4: 0.0853
A5: Solvant et encre | D5: 435.82 | E5: AN
A6: petit outillage | D6: 450 | E6: AN | I6: Durée amortissement | J6: 3
A7: Consommables | D7: 76 | E7: AN
A8: Operateur | D8: 1
A9: Salaire operateur | D9: 66000 | E9: AN
A10: Heures travaillées | D10: 8.4 | E10: JOUR | I10: Amortisesment materiel horaire | J10: =J2/(D15*J6) -> 0.55201863
A11: Heures facturées | D11: =D10*0.8 -> 6.72 | E11: JOUR | I11: Frais financier horaires | J11: =(J2/2)*(J4/D15) -> 0.070630784
A12: Nb de jours ouvrables | D12: 230 | E12: AN | I12: Frais fixes horaires | J12: =(D4*12)/D15 -> 6.9949534
I13: Frais maintenance horaires | J13: =D3/D15 -> 0.16174948
I14: Frais outillage horaires | J14: =D6/D15 -> 0.29114907
A15: Nb heure utilisation | D15: =D11*D12 -> 1545.6 | E15: AN | I15: Frais encre & solvant horaires | J15: =D5/D15 -> 0.28197464
I16: Frais opérateur horaire | J16: =D9/D15 -> 42.701863
I18: TAUX HORAIRE MACHINE | J18: =SUM(J10:J16) -> 51.054339

Sheet Tarif horaire Massicot
A1: CHARGES | D1: MONTANT | E1: FREQUENCE
A2: Amortissement materiel | D2: =J2/3 -> 1141.6 | E2: AN | I2: Prix d'achat | J2: 3424.8
A3: Maintenance | D3: 1000 | E3: AN
A4: Frais fixes | D4: 900.95 | E4: MOIS | I4: Taux d'interet amortissement (3ans) | J4: 0.11416
A5: Operateur | D5: 1
A6: Salaire operateur | D6: 66000 | E6: AN | I6: Durée amortissement | J6: 3
A7: Heures travaillées | D7: 8.4 | E7: JOUR
A8: Heures facturées | D8: =D7*0.8 -> 6.72 | E8: JOUR
A9: Nb de jours ouvrables | D9: 230 | E9: AN
I10: Amortisesment materiel horaire | J10: =J2/(D12*J6) -> 0.73861284
I11: Frais financier horaires | J11: =(J2/2)*(J4/D12) -> 0.12648006
A12: Nb heure utilisation | D12: =D8*D9 -> 1545.6 | E12: AN | I12: Frais fixes horaires | J12: =(D4*12)/D12 -> 6.9949534
I13: Frais maintenance horaires | J13: =D3/D12 -> 0.64699793
I14: Frais opérateur horaire | J14: =D6/D12 -> 42.701863
I16: TAUX HORAIRE MACHINE | J16: =SUM(J10:J14) -> 51.208908

Sheet Tarif horaire operateur
A1: CHARGES
A2: Loyer atelier | B2: 180
A3: Remboursement adie 1 | B3: 128.12
A4: Remboursement adie 2 | B4: 145.83
A5: Remboursement prets famille | B5: 150
A6: Assurance | B6: 44
A7: Banque | B7: 30
A8: Impots CFE | B8: 23
A9: papier et matieres premieres | B9: 100
A10: frais administratifs | B10: 100
A11: TOTAL CHARGES FIXES | B11: =SUM(B2:B10) -> 900.95
B13: à l'heure | C13: à la minute
A14: Taux horaire operateur | B14: =(5500+B11)/169 -> 37.875444 | C14: =B14/60 -> 0.6312574

Sheet Papiers
A1: PAPIER | B1: Gamme | C1: Grammage | D1: Prix au 1000 feuilles | E1: Prix au 100 feuilles | F1: Prix à la feuille
A2: Fedrigoni | B2: Old mill | C2: 510 g | D2: 1917 | E2: =D2/10 -> 191.7 | F2: =D2/1000 -> 1.917
A3: Fedrigoni | B3: Old mill | C3: 350 g | D3: 1251 | E3: =D3/10 -> 125.1 | F3: =D3/1000 -> 1.251
A4: Fedrigoni | B4: Materica Gesso | C4: 360 g | D4: 1494 | E4: =D4/10 -> 149.4 | F4: =D4/1000 -> 1.494
A5: Fedrigoni | B5: Sirio WW | C5: 700 g | D5: 3057 | E5: =D5/10 -> 305.7 | F5: =D5/1000 -> 3.057 | L5: nb de feuilles | M5: variable | N5: total passes 100 f
K6: Passes ( gache machine) par calage | L6: 10 | N6: =L6 -> 10
K7: Passes variables (% au 100 f) | L7: 100 | M7: 0.08 | N7: =L7*M7 -> 8
M9: TOTAL | N9: =N6+N7 -> 18 | O9: passes
B14: Cartes de visite | C14: 10 x 10 cm | D14: 10 x 21 cm | E14: A6 (148 x 105 mm) | F14: A5 (210 x 148 mm) | G14: A4 (297 x 210 mm)
A15: Nb de formats (pré-prod) par feuilles | B15: 18 | C15: 15 | D15: 20 | E15: 20 | F15: 12 | G15: 8
A16: Nb de formats (fini) par feuilles | B16: 36 | C16: 30 | D16: 20 | E16: 20 | F16: 12 | G16: 8
A21: Nombre de feuilles 70*100 cm necessaires par format
A22: Nombres d'exemplaires voulu | B22: Cartes de visite | C22: 10 x 10 cm | D22: 10 x 21 cm | E22: A6 (148 x 105 mm) | F22: A5 (210 x 148 mm) | G22: A4 (297 x 210 mm)
A23: 50 | B23: =ROUNDUP((A23/B16),0) -> 2 | C23: =ROUNDUP((A23/C16),0) -> 2 | D23: =ROUNDUP((A23/D16),0) -> 3 | E23: =ROUNDUP((A23/E16),0) -> 3 | F23: =ROUNDUP((A23/F16),0) -> 5 | G23: =ROUNDUP((A23/G16),0) -> 7
A24: 100 | B24: =ROUNDUP((A24/B16),0) -> 3 | C24: =ROUNDUP((A24/C16),0) -> 4 | D24: =ROUNDUP((A24/D16),0) -> 5 | E24: =ROUNDUP((A24/E16),0) -> 5 | F24: =ROUNDUP((A24/F16),0) -> 9 | G24: =ROUNDUP((A24/G16),0) -> 13
A25: 200 | B25: =ROUNDUP((A25/B16),0) -> 6 | C25: =ROUNDUP((A25/C16),0) -> 7 | D25: =ROUNDUP((A25/D16),0) -> 10 | E25: =ROUNDUP((A25/E16),0) -> 10 | F25: =ROUNDUP((A25/F16),0) -> 17 | G25: =ROUNDUP((A25/G16),0) -> 25
A26: 300 | B26: =ROUNDUP((A26/B16),0) -> 9 | C26: =ROUNDUP((A26/C16),0) -> 10 | D26: =ROUNDUP((A26/D16),0) -> 15 | E26: =ROUNDUP((A26/E16),0) -> 15 | F26: =ROUNDUP((A26/F16),0) -> 25 | G26: =ROUNDUP((A26/G16),0) -> 38
A27: 400 | B27: =ROUNDUP((A27/B16),0) -> 12 | C27: =ROUNDUP((A27/C16),0) -> 14 | D27: =ROUNDUP((A27/D16),0) -> 20 | E27: =ROUNDUP((A27/E16),0) -> 20 | F27: =ROUNDUP((A27/F16),0) -> 34 | G27: =ROUNDUP((A27/G16),0) -> 50
A28: 500 | B28: =ROUNDUP((A28/B16),0) -> 14 | C28: =ROUNDUP((A28/C16),0) -> 17 | D28: =ROUNDUP((A28/D16),0) -> 25 | E28: =ROUNDUP((A28/E16),0) -> 25 | F28: =ROUNDUP((A28/F16),0) -> 42 | G28: =ROUNDUP((A28/G16),0) -> 63
A30: Coût FEDRIGONI OLD MILL 350g Par format & nb exemplaires
A31: Nombres d'exemplaires voulu | B31: Cartes de visite | C31: 10 x 10 cm | D31: 10 x 21 cm | E31: A6 (148 x 105 mm) | F31: A5 (210 x 148 mm) | G31: A4 (297 x 210 mm)
A32: 50 | B32: =B23*F3 -> 2.502 | C32: =C23*F3 -> 2.502 | D32: =D23*F3 -> 3.753 | E32: =E23*F3 -> 3.753 | F32: =F23*F3 -> 6.255 | G32: =G23*F3 -> 8.757
A33: 100 | B33: =B24*F3 -> 3.753 | C33: =C24*F3 -> 5.004 | D33: =D24*F3 -> 6.255 | E33: =E24*F3 -> 6.255 | F33: =F24*F3 -> 11.259 | G33: =G24*F3 -> 16.263
A34: 200 | B34: =B25*F3 -> 7.506 | C34: =C25*F3 -> 8.757 | D34: =D25*F3 -> 12.51 | E34: =E25*F3 -> 12.51 | F34: =F25*F3 -> 21.267 | G34: =G25*F3 -> 31.275
A35: 300 | B35: =B26*F3 -> 11.259 | C35: =C26*F3 -> 12.51 | D35: =D26*F3 -> 18.765 | E35: =E26*F3 -> 18.765 | F35: =F26*F3 -> 31.275 | G35: =G26*F3 -> 47.538
A36: 400 | B36: =B27*F3 -> 15.012 | C36: =C27*F3 -> 17.514 | D36: =D27*F3 -> 25.02 | E36: =E27*F3 -> 25.02 | F36: =F27*F3 -> 42.534 | G36: =G27*F3 -> 62.55
A37: 500 | B37: =B28*F3 -> 17.514 | C37: =C28*F3 -> 21.267 | D37: =D28*F3 -> 31.275 | E37: =E28*F3 -> 31.275 | F37: =F28*F3 -> 52.542 | G37: =G28*F3 -> 78.813
A39: coût feuille format pré-prod | B39: =F3/$B15 -> 0.0695 | C39: =F3/$C15 -> 0.0834 | D39: =F3/$D15 -> 0.06255 | E39: =F3/$E15 -> 0.06255 | F39: =F3/$F15 -> 0.10425 | G39: =F3/$G15 -> 0.156375
A40: coût passe par calage (10 fls) | B40: =B39*10 -> 0.695 | C40: =C39*10 -> 0.834 | D40: =D39*10 -> 0.6255 | E40: =E39*10 -> 0.6255 | F40: =F39*10 -> 1.0425 | G40: =G39*10 -> 1.56375
A42: Coût FEDRIGONI OLD MILL 510g Par format & nb exemplaires
A43: Nombres d'exemplaires voulu | B43: Cartes de visite | C43: 10 x 10 cm | D43: 10 x 21 cm | E43: A6 (148 x 105 mm) | F43: A5 (210 x 148 mm) | G43: A4 (297 x 210 mm)
A44: 50 | B44: =B23*F2 -> 3.834 | C44: =C23*F2 -> 3.834 | D44: =D23*F2 -> 5.751 | E44: =E23*F2 -> 5.751 | F44: =F23*F2 -> 9.585 | G44: =G23*F2 -> 13.419
A45: 100 | B45: =B24*F2 -> 5.751 | C45: =C24*F2 -> 7.668 | D45: =D24*F2 -> 9.585 | E45: =E24*F2 -> 9.585 | F45: =F24*F2 -> 17.253 | G45: =G24*F2 -> 24.921
A46: 200 | B46: =B25*F2 -> 11.502 | C46: =C25*F2 -> 13.419 | D46: =D25*F2 -> 19.17 | E46: =E25*F2 -> 19.17 | F46: =F25*F2 -> 32.589 | G46: =G25*F2 -> 47.925
A47: 300 | B47: =B26*F2 -> 17.253 | C47: =C26*F2 -> 19.17 | D47: =D26*F2 -> 28.755 | E47: =E26*F2 -> 28.755 | F47: =F26*F2 -> 47.925 | G47: =G26*F2 -> 72.846
A48: 400 | B48: =B27*F2 -> 23.004 | C48: =C27*F2 -> 26.838 | D48: =D27*F2 -> 38.34 | E48: =E27*F2 -> 38.34 | F48: =F27*F2 -> 65.178 | G48: =G27*F2 -> 95.85
A49: 500 | B49: =B28*F2 -> 26.838 | C49: =C28*F2 -> 32.589 | D49: =D28*F2 -> 47.925 | E49: =E28*F2 -> 47.925 | F49: =F28*F2 -> 80.514 | G49: =G28*F2 -> 120.771
A51: coût feuille format pré-prod | B51: =F2/$B$15 -> 0.1065 | C51: =F2/$C$15 -> 0.1278 | D51: =F2/$D$15 -> 0.09585 | E51: =F2/$E$15 -> 0.09585 | F51: =F2/$F$15 -> 0.15975 | G51: =F2/$G$15 -> 0.239625
A52: coût passe par calage (10 fls) | B52: =B51*10 -> 1.065 | C52: =C51*10 -> 1.278 | D52: =D51*10 -> 0.9585 | E52: =E51*10 -> 0.9585 | F52: =F51*10 -> 1.5975 | G52: =G51*10 -> 2.39625
A54: Coût FEDRIGONI MATERICA gesso 360g Par format & nb exemplaires
...

Sheet polymere & flashs
B2: Plaques PhotoPolymères | J2: FLASHS
B3: Cartes de visite | C3: 10 x 10 cm | D3: 10 x 21 cm | E3: A6 (148 x 105 mm) | F3: A5 (210 x 148 mm) | G3: A4 (297 x 210 mm) | I3: Format | J3: A4 | K3: A3 | L3: A2
A4: FORMAT PPP | B4: 29,7 x 8,8 | C4: 29,7 x 14 | D4: 14 x 25 | E4: 18,8 x 14,5 | F4: 25 x 18,8 | G4: 24x 32 | I4: Flash | J4: 8.28 | K4: 12.6 | L4: 22.68
A5: SURFACE PPP cm2 | B5: 261.36 | C5: 415.8 | D5: =14*25 -> 350 | E5: =18.8*14.5 -> 272.6 | F5: =25*18.8 -> 470 | G5: =24*32 -> 768 | I5: Frais de port | J5: 15.48 | K5: 15.48 | L5: 15.48
A6: Prix PPP | B6: =B5*K13 -> 3.13632 | C6: =415.8*K13 -> 4.9896 | D6: =350*K13 -> 4.2 | E6: =272.6*K13 -> 3.2712 | F6: =470*K13 -> 5.64 | G6: =768*K13 -> 9.216 | I6: prix flash total | J6: =J4+J5 -> 23.76 | K6: =K4+K5 -> 28.08 | L6: =L4+L5 -> 38.16
A7: Prix scotch | B7: =B5*$K$14 -> 0.0066323613 | C7: =C5*$K$14 -> 0.010551484 | D7: =D5*$K$14 -> 0.0088817204 | E7: =E5*$K$14 -> 0.0069175914 | F7: =F5*$K$14 -> 0.011926882 | G7: =G5*$K$14 -> 0.019489032
A8: PRIX TOTAL PPP | B8: =B6+B7 -> 3.1429524 | C8: =C6+C7 -> 5.0001515 | D8: =D6+D7 -> 4.2088817 | E8: =E6+E7 -> 3.2781176 | F8: =F6+F7 -> 5.6519269 | G8: =G6+G7 -> 9.235489
B12: Nombre d'imposition par format de flash | I12: FRAIS FIXES | J12: unité | K12: prix
D13: FORMATS | I13: PPP | J13: cm2 | K13: 0.012
A14: CALAGES COULEURS | B14: Cartes de visite | C14: 10 x 10 cm | D14: 10 x 21 cm | E14: A6 (148 x 105 mm) | F14: A5 (210 x 148 mm) | G14: A4 (297 x 210 mm) | I14: Scotch cm2 | J14: cm2 | K14: =35.4/1395000 -> 2.5376344e-05
A15: 1 couleur R° | B15: =J3 -> A4 | C15: =J3 -> A4 | D15: A4 | E15: A4 | F15: A4 | G15: A3
A16: 2 couleur R° | B16: =J3 -> A4 | C16: =K3 -> A3 | D16: A3 | E16: A2 | F16: A2 | G16: A2
A17: 3 couleur R° | B17: =K3 -> A3 | C17: 1A3 + 1A4 | D17: 1A3 + 1A4 | E17: 1 A2 + 1 A4 | F17: 1 A2 + 1 A4 | G17: 1 A2 + 1A3
A18: 1 couleur R°V° | B18: =J3 -> A4 | C18: A3 | D18: A3 | E18: A2 | F18: A2 | G18: A2
A19: 1 couleur R°V°+ 1 couleur V° | B19: =K3 -> A3 | C19: 1A3 + 1A4 | D19: 1A3 + 1A4 | E19: 1 A2 + 1 A4 | F19: 1 A2 + 1 A4 | G19: 1 A2 + 1A3
A20: 1 couleur R°V°+ 2 couleur V° | B20: =L3 -> A2 | C20: A2 | D20: A2 | E20: 2 A2 | F20: 2 A2 | G20: 2 A2
A21: 2 couleur R°V° | B21: =K3 -> A3 | C21: 1A3 + 1A4 | D21: 1A3 + 1A4 | E21: 1 A2 + 1 A4 | F21: 1 A2 + 1 A4 | G21: 1 A2 + 1A3
A22: 2 couleur R°V°+ 1 couleur V° | B22: =L3 -> A2 | C22: A2 | D22: A2 | E22: 2 A2 | F22: 2 A2 | G22: 2 A2
A23: 2 couleur R°V°+ 2 couleur V° | B23: 1 A4 + 1 A3 | C23: 1 A2 + 1 A4 | D23: 1 A2 + 1 A4 | E23: 2 A2 + 1 A4 | F23: 2 A2 + 1 A4 | G23: 2 A2 + 1 A3
A24: 3 couleur R°V° | B24: =L3 -> A2 | C24: A2 | D24: A2 | E24: 2 A2 | F24: 2 A2 | G24: 2 A2
A25: 3 couleur R°V°+ 1 couleur V° | B25: 1 A4 + 1 A3 | C25: 1 A2 + 1 A4 | D25: 1 A2 + 1 A4 | E25: 2 A2 + 1 A4 | F25: 2 A2 + 1 A4 | G25: 2 A2 + 1 A3
A26: 3 couleur R°V°+ 2 couleur V° | B26: 1 A4 + 1 A3 | C26: 1 A2 + 1 A3 | D26: 1 A2 + 1 A3 | E26: 3 A2 | F26: 3 A2 | G26: 3 A2
B29: Cout d'imposition par format de flash
D30: FORMATS
A31: CALAGES COULEURS | B31: Cartes de visite | C31: 10 x 10 cm | D31: 10 x 21 cm | E31: A6 (148 x 105 mm) | F31: A5 (210 x 148 mm) | G31: A4 (297 x 210 mm)
A32: 1 couleur R° | B32: =$J$6 -> 23.76 | C32: =$J$6 -> 23.76 | D32: =$J$6 -> 23.76 | E32: =$J$6 -> 23.76 | F32: =$J$6 -> 23.76 | G32: =K6 -> 28.08
A33: 2 couleur R° | B33: =J6 -> 23.76 | C33: =K6 -> 28.08 | D33: =K6 -> 28.08 | E33: =L6 -> 38.16 | F33: =L6 -> 38.16 | G33: =L6 -> 38.16
A34: 3 couleur R° | B34: =K6 -> 28.08 | C34: =K6+J4 -> 36.36 | D34: =K6+J4 -> 36.36 | E34: =L6+J4 -> 46.44 | F34: =L6+J4 -> 46.44 | G34: =L6+K4 -> 50.76
A35: 1 couleur R°V° | B35: =J6 -> 23.76 | C35: =K6 -> 28.08 | D35: =K6 -> 28.08 | E35: =L6 -> 38.16 | F35: =L6 -> 38.16 | G35: =L6 -> 38.16
A36: 1 couleur R°V°+ 1 couleur V° | B36: =K6 -> 28.08 | C36: =K6+J4 -> 36.36 | D36: =K6+J4 -> 36.36 | E36: =L6+J4 -> 46.44 | F36: =L6+J4 -> 46.44 | G36: =L6+K4 -> 50.76
A37: 1 couleur R°V°+ 2 couleur V° | B37: =$L$6 -> 38.16 | C37: =$L$6 -> 38.16 | D37: =$L$6 -> 38.16 | E37: =(2*$L$4)+$L$5 -> 60.84 | F37: =(2*$L$4)+$L$5 -> 60.84 | G37: =(2*$L$4)+$L$5 -> 60.84
A38: 2 couleur R°V° | B38: =K6 -> 28.08 | C38: =K6+J4 -> 36.36 | D38: =K6+J4 -> 36.36 | E38: =L6+J4 -> 46.44 | F38: =L6+J4 -> 46.44 | G38: =L6+K4 -> 50.76
A39: 2 couleur R°V°+ 1 couleur V° | B39: =$L$6 -> 38.16 | C39: =$L$6 -> 38.16 | D39: =$L$6 -> 38.16 | E39: =(2*$L$4)+$L$5 -> 60.84 | F39: =(2*$L$4)+$L$5 -> 60.84 | G39: =(2*$L$4)+$L$5 -> 60.84
A40: 2 couleur R°V°+ 2 couleur V° | B40: =K6+J4 -> 36.36 | C40: =L6+J4 -> 46.44 | D40: =L6+J4 -> 46.44 | E40: =(2*L4)+J6 -> 69.12 | F40: =(2*L4)+J6 -> 69.12 | G40: =(2*L4)+K6 -> 73.44
A41: 3 couleur R°V° | B41: =L6 -> 38.16 | C41: =L6 -> 38.16 | D41: =L6 -> 38.16 | E41: =(2*L4)+L5 -> 60.84 | F41: =(2*L4+L5) -> 60.84 | G41: =(2*L4+L5) -> 60.84
A42: 3 couleur R°V°+ 1 couleur V° | B42: =J6+K4 -> 36.36 | C42: =L6+J4 -> 46.44 | D42: =L6+J4 -> 46.44 | E42: =J6+(2*L4) -> 69.12 | F42: =E42 -> 69.12 | G42: =K6+(2*L4) -> 73.44
A43: 3 couleur R°V°+ 2 couleur V° | B43: =B42 -> 36.36 | C43: =L6+K4 -> 50.76 | D43: =C43 -> 50.76 | E43: =3*L4+L5 -> 83.52 | F43: =E43 -> 83.52 | G43: =(3*L4)+L5 -> 83.52
B46: Coût PPP par format et nb de couleur
D47: FORMATS
A48: CALAGES COULEURS | B48: Cartes de visite | C48: 10 x 10 cm | D48: 10 x 21 cm | E48: A6 (148 x 105 mm) | F48: A5 (210 x 148 mm) | G48: A4 (297 x 210 mm)
...

Sheet Temps d'éxé
A1: TEMPS D'EXECUTION | B1: Temps (en Mn) | C1: Coût horaire | D1: 1 couleur | E1: 2 couleurs | F1: 3 couleurs | G1: 4 couleurs | H1: 5 couleurs
A2: Recherche de teinte | B2: 35 | C2: =B2*'Tarif horaire operateur'!C14 -> 22.094009 | D2: =C2 -> 22.094009 | E2: =C2*2 -> 44.188018 | F2: =C2*3 -> 66.282027 | G2: =C2*4 -> 88.376036 | H2: =C2*5 -> 110.47004
A3: CAO Flash | B3: 10 | C3: =B3*'Tarif horaire operateur'!C14 -> 6.312574 | D3: =C3 -> 6.312574 | E3: =C3*2 -> 12.625148 | F3: =C3*3 -> 18.937722 | G3: =C3*4 -> 25.250296 | H3: =C3*5 -> 31.56287
A4: création plaque PPP | B4: 15 | C4: =B4*'Tarif horaire operateur'!C14 -> 9.4688609 | D4: =C4 -> 9.4688609 | E4: =C4*2 -> 18.937722 | F4: =C4*3 -> 28.406583 | G4: =C4*4 -> 37.875444 | H4: =C4*5 -> 47.344305
A5: Reglage machine | B5: 10 | C5: =B5*C18 -> 8.5090566 | D5: =C5 -> 8.5090566 | E5: =C5*2 -> 17.018113 | F5: =C5*3 -> 25.52717 | G5: =C5*4 -> 34.036226 | H5: =C5*5 -> 42.545283
A6: Calage | B6: 20 | C6: =B6*C18 -> 17.018113 | D6: =C6 -> 17.018113 | E6: =D6*2 -> 34.036226 | F6: =C6*3 -> 51.054339 | G6: =C6*4 -> 68.072453 | H6: =C6*5 -> 85.090566
A7: Roulage (pour 100 ex.) | B7: 5 | C7: =B7*C18 -> 4.2545283
A8: Nettoyage machine | B8: 15 | C8: =B8*C18 -> 12.763585 | D8: =C8 -> 12.763585 | E8: =C8*2 -> 25.52717 | F8: =C8*3 -> 38.290755 | G8: =C8*4 -> 51.054339 | H8: =C8*5 -> 63.817924
A10: Massicot pré-prod (100 ex.) | B10: 15 | C10: =B10*C19 -> 12.802227
A11: Faconnage final (100 ex.) | B11: 15 | C11: =B11*C19 -> 12.802227
A12: Prepa expedition
A13: TOTAL | D13: =SUM(D2:D8) -> 76.166198 | E13: =SUM(E2:E8) -> 152.3324 | F13: =SUM(F2:F8) -> 228.49859 | G13: =SUM(G2:G8) -> 304.66479 | H13: =SUM(H2:H8) -> 380.83099
B17: à l'heure | C17: à la minute
A18: Coût horaire platine | B18: ='Tarif horaire Heidelberg T'!J18 -> 51.054339 | C18: =B18/60 -> 0.85090566 | G18: RECTO/VERSO | I18: 0.51
A19: Coût horaire massicot | B19: ='Tarif horaire Massicot'!J16 -> 51.208908 | C19: =B19/60 -> 0.85348179 | G19: Coef multi | I19: 1.514
A20: Taux horaire operateur | B20: ='Tarif horaire operateur'!B14 -> 37.875444 | C20: ='Tarif horaire operateur'!C14 -> 0.6312574
A24: TEMPS ROULAGE par nb d'ex et couleur | B24: 50 ex. | C24: 100 ex. | D24: 200ex. | E24: 300ex. | F24: 400ex. | G24: 500ex.
A25: Roulage 1 couleur | B25: =C25/2 -> 2.1272641 | C25: =C7 -> 4.2545283 | D25: =C18*(2*B7) -> 8.5090566 | E25: =C18*(3*B7) -> 12.763585 | F25: =C18*(4*B7) -> 17.018113 | G25: =C18*(5*B7) -> 21.272641
A26: Roulage 2 couleurs | B26: =B25*2 -> 4.2545283 | C26: =C25*2 -> 8.5090566 | D26: =D25*2 -> 17.018113 | E26: =E25*2 -> 25.52717 | F26: =F25*2 -> 34.036226 | G26: =G25*2 -> 42.545283
A27: Roulage 3 couleurs | B27: =B25*3 -> 6.3817924 | C27: =C25*3 -> 12.763585 | D27: =D25*3 -> 25.52717 | E27: =E25*3 -> 38.290755 | F27: =F25*3 -> 51.054339 | G27: =G25*3 -> 63.817924
A28: Roulage 4 couleurs | B28: =B25*4 -> 8.5090566 | C28: =C25*4 -> 17.018113 | D28: =D25*4 -> 34.036226 | E28: =E25*4 -> 51.054339 | F28: =F25*4 -> 68.072453 | G28: =G25*4 -> 85.090566
A29: Roulage 5 couleurs | B29: =B25*5 -> 10.636321 | C29: =C25*5 -> 21.272641 | D29: =D25*5 -> 42.545283 | E29: =E25*5 -> 63.817924 | F29: =F25*5 -> 85.090566 | G29: =G25*5 -> 106.36321
A30: roulage 6 couleurs | B30: =B25*6 -> 12.763585 | C30: =C25*6 -> 25.52717 | D30: =D25*6 -> 51.054339 | E30: =E25*6 -> 76.581509 | F30: =F25*6 -> 102.10868 | G30: =G25*6 -> 127.63585
A38: Coût massicot
A39: type de coupe | B39: frais fixes | C39: unités | D39: coût au 1000
A40: equerrage seul | B40: =B10*C19 -> 12.802227 | C40: feuille | D40: 3
A41: equerrage + coupe 2 | B41: =25*C19 -> 21.337045 | C41: feuille | D41: 8.3
A42: equerrage + coupe 3,4,5,6 | B42: =30*C19 -> 25.604454 | C42: feuille | D42: 8.8

Sheet carte de visites
A1: Coût Éxé +roulage carte de visites | B1: 50 ex. | C1: 100 ex. | D1: 200 ex. | E1: 300 ex. | F1: 400 ex. | G1: 500 ex.
A2: 1 couleur R° | B2: ='Temps d''éxé'!D13+('Temps d''éxé'!B25/2) -> 77.22983 | C2: ='Temps d''éxé'!D13+('Temps d''éxé'!C25/2) -> 78.293462 | D2: ='Temps d''éxé'!D13+('Temps d''éxé'!D25/2) -> 80.420727 | E2: ='Temps d''éxé'!D13+('Temps d''éxé'!E25/2) -> 82.547991 | F2: ='Temps d''éxé'!D13+('Temps d''éxé'!F25/2) -> 84.675255 | G2: ='Temps d''éxé'!D13+('Temps d''éxé'!G25/2) -> 86.802519
A3: 2 couleur R° | B3: ='Temps d''éxé'!E13+('Temps d''éxé'!B26/2) -> 154.45966 | C3: ='Temps d''éxé'!E13+('Temps d''éxé'!C26/2) -> 156.58692 | D3: ='Temps d''éxé'!E13+('Temps d''éxé'!D26/2) -> 160.84145 | E3: ='Temps d''éxé'!E13+('Temps d''éxé'!E26/2) -> 165.09598 | F3: ='Temps d''éxé'!E13+('Temps d''éxé'!F26/2) -> 169.35051 | G3: ='Temps d''éxé'!E13+('Temps d''éxé'!G26/2) -> 173.60504 | J3: Nombre de couleur | K3: 1
A4: 3 couleur R° | B4: ='Temps d''éxé'!F13+('Temps d''éxé'!B27/2) -> 231.68949 | C4: ='Temps d''éxé'!F13+('Temps d''éxé'!C27/2) -> 234.88039 | D4: ='Temps d''éxé'!F13+('Temps d''éxé'!D27/2) -> 241.26218 | E4: ='Temps d''éxé'!F13+('Temps d''éxé'!E27/2) -> 247.64397 | F4: ='Temps d''éxé'!F13+('Temps d''éxé'!F27/2) -> 254.02576 | G4: ='Temps d''éxé'!F13+('Temps d''éxé'!G27/2) -> 260.40756 | K4: 2
A5: 1 couleur R°V° | B5: =B2*'Temps d''éxé'!I19 -> 116.92596 | C5: =C2*B15 -> 118.5363 | D5: =D2*B15 -> 121.75698 | E5: =E2*B15 -> 124.97766 | F5: =F2*B15 -> 128.19834 | G5: =G2*B15 -> 131.41901 | K5: 3
A6: 1 couleur R°V°+ 1 couleur V° | B6: =B3 -> 154.45966 | C6: =C3 -> 156.58692 | D6: =D3 -> 160.84145 | E6: =E3 -> 165.09598 | F6: =F3 -> 169.35051 | G6: =G3 -> 173.60504
A7: 1 couleur R°V°+ 2 couleur V° | B7: =B4 -> 231.68949 | C7: =C4 -> 234.88039 | D7: =D4 -> 241.26218 | E7: =E4 -> 247.64397 | F7: =F4 -> 254.02576 | G7: =G4 -> 260.40756
A8: 2 couleur R°V° | B8: =B3*B15 -> 233.85193 | C8: =C3*B15 -> 237.0726 | D8: =D3*B15 -> 243.51396 | E8: =E3*B15 -> 249.95532 | F8: =F3*B15 -> 256.39667 | G8: =G3*B15 -> 262.83803
A9: 2 couleur R°V°+ 1 couleur V° | B9: =B3 -> 154.45966 | C9: =C3 -> 156.58692 | D9: =D3 -> 160.84145 | E9: =E3 -> 165.09598 | F9: =F3 -> 169.35051 | G9: =G3 -> 173.60504
A10: 2 couleur R°V°+ 2 couleur V° | B10: =B4 -> 231.68949 | C10: =C4 -> 234.88039 | D10: =D4 -> 241.26218 | E10: =E4 -> 247.64397 | F10: =F4 -> 254.02576 | G10: =G4 -> 260.40756
A11: 3 couleur R°V° | B11: =B4*B15 -> 350.77789 | C11: =C4*B15 -> 355.60891 | D11: =D4*B15 -> 365.27094 | E11: =E4*B15 -> 374.93297 | F11: =F4*B15 -> 384.59501 | G11: =G4*B15 -> 394.25704
A12: 3 couleur R°V°+ 1 couleur V° | B12: =B11+B2 -> 428.00772 | C12: =C11+C2 -> 433.90237 | D12: =D11+D2 -> 445.69167 | E12: =E11+E2 -> 457.48096 | F12: =F11+F2 -> 469.27026 | G12: =G11+G2 -> 481.05956
A13: 3 couleur R°V°+ 2 couleur V° | B13: =B11+B3 -> 505.23755 | C13: =C11+C3 -> 512.19583 | D13: =D11+D3 -> 526.11239 | E13: =E11+E3 -> 540.02896 | F13: =F11+F3 -> 553.94552 | G13: =G11+G3 -> 567.86208 | J13: Nombre d'exemplaires | K13: 50
K14: 100
A15: Coef multi R°V° | B15: 1.514 | K15: 200
K16: 300
K17: 400
K18: 500
B19: Cartes de visite | C19: Coût
A20: Nombre d'exemplaires
A21: Passage de couleur
A22: Papier
A23: TOTAL | B23: =IF(B20=K13,,) -> 0

Sheet format 10x10
A1: Coût Éxé +roulageFORMAT 10x10 | B1: 50 ex. | C1: 100 ex. | D1: 200 ex. | E1: 300 ex. | F1: 400 ex. | G1: 500 ex.
A2: 1 couleur R° | B2: ='Temps d''éxé'!D13+('Temps d''éxé'!B25/2) -> 77.22983 | C2: ='Temps d''éxé'!D13+('Temps d''éxé'!C25/2) -> 78.293462 | D2: ='Temps d''éxé'!D13+('Temps d''éxé'!D25/2) -> 80.420727 | E2: ='Temps d''éxé'!D13+('Temps d''éxé'!E25/2) -> 82.547991 | F2: ='Temps d''éxé'!D13+('Temps d''éxé'!F25/2) -> 84.675255 | G2: ='Temps d''éxé'!D13+('Temps d''éxé'!G25/2) -> 86.802519
A3: 2 couleur R° | B3: ='Temps d''éxé'!E13+('Temps d''éxé'!B26/2) -> 154.45966 | C3: ='Temps d''éxé'!E13+('Temps d''éxé'!C26/2) -> 156.58692 | D3: ='Temps d''éxé'!E13+('Temps d''éxé'!D26/2) -> 160.84145 | E3: ='Temps d''éxé'!E13+('Temps d''éxé'!E26/2) -> 165.09598 | F3: ='Temps d''éxé'!E13+('Temps d''éxé'!F26/2) -> 169.35051 | G3: ='Temps d''éxé'!E13+('Temps d''éxé'!G26/2) -> 173.60504
A4: 3 couleur R° | B4: ='Temps d''éxé'!F13+('Temps d''éxé'!B27/2) -> 231.68949 | C4: ='Temps d''éxé'!F13+('Temps d''éxé'!C27/2) -> 234.88039 | D4: ='Temps d''éxé'!F13+('Temps d''éxé'!D27/2) -> 241.26218 | E4: ='Temps d''éxé'!F13+('Temps d''éxé'!E27/2) -> 247.64397 | F4: ='Temps d''éxé'!F13+('Temps d''éxé'!F27/2) -> 254.02576 | G4: ='Temps d''éxé'!F13+('Temps d''éxé'!G27/2) -> 260.40756
A5: 1 couleur R°V° | B5: =B2*'Temps d''éxé'!I19 -> 116.92596 | C5: =C2*B15 -> 118.5363 | D5: =D2*B15 -> 121.75698 | E5: =E2*B15 -> 124.97766 | F5: =F2*B15 -> 128.19834 | G5: =G2*B15 -> 131.41901
A6: 1 couleur R°V°+ 1 couleur V° | B6: =B3 -> 154.45966 | C6: =C3 -> 156.58692 | D6: =D3 -> 160.84145 | E6: =E3 -> 165.09598 | F6: =F3 -> 169.35051 | G6: =G3 -> 173.60504
A7: 1 couleur R°V°+ 2 couleur V° | B7: =B4 -> 231.68949 | C7: =C4 -> 234.88039 | D7: =D4 -> 241.26218 | E7: =E4 -> 247.64397 | F7: =F4 -> 254.02576 | G7: =G4 -> 260.40756
A8: 2 couleur R°V° | B8: =B3*B15 -> 233.85193 | C8: =C3*B15 -> 237.0726 | D8: =D3*B15 -> 243.51396 | E8: =E3*B15 -> 249.95532 | F8: =F3*B15 -> 256.39667 | G8: =G3*B15 -> 262.83803
A9: 2 couleur R°V°+ 1 couleur V° | B9: =B3 -> 154.45966 | C9: =C3 -> 156.58692 | D9: =D3 -> 160.84145 | E9: =E3 -> 165.09598 | F9: =F3 -> 169.35051 | G9: =G3 -> 173.60504
A10: 2 couleur R°V°+ 2 couleur V° | B10: =B4 -> 231.68949 | C10: =C4 -> 234.88039 | D10: =D4 -> 241.26218 | E10: =E4 -> 247.64397 | F10: =F4 -> 254.02576 | G10: =G4 -> 260.40756
A11: 3 couleur R°V° | B11: =B4*B15 -> 350.77789 | C11: =C4*B15 -> 355.60891 | D11: =D4*B15 -> 365.27094 | E11: =E4*B15 -> 374.93297 | F11: =F4*B15 -> 384.59501 | G11: =G4*B15 -> 394.25704
A12: 3 couleur R°V°+ 1 couleur V° | B12: =B11+B2 -> 428.00772 | C12: =C11+C2 -> 433.90237 | D12: =D11+D2 -> 445.69167 | E12: =E11+E2 -> 457.48096 | F12: =F11+F2 -> 469.27026 | G12: =G11+G2 -> 481.05956
A13: 3 couleur R°V°+ 2 couleur V° | B13: =B11+B3 -> 505.23755 | C13: =C11+C3 -> 512.19583 | D13: =D11+D3 -> 526.11239 | E13: =E11+E3 -> 540.02896 | F13: =F11+F3 -> 553.94552 | G13: =G11+G3 -> 567.86208
A15: Coef multi R°V° | B15: 1.514

Sheet Format 10 x 21
A1: Coût Éxé +roulageFORMAT 10x21 | B1: 50 ex. | C1: 100 ex. | D1: 200 ex. | E1: 300 ex. | F1: 400 ex. | G1: 500 ex.
A2: 1 couleur R° | B2: ='Temps d''éxé'!D13+'Temps d''éxé'!B25 -> 78.293462 | C2: ='Temps d''éxé'!D13+'Temps d''éxé'!C25 -> 80.420727 | D2: ='Temps d''éxé'!D13+'Temps d''éxé'!D25 -> 84.675255 | E2: ='Temps d''éxé'!D13+'Temps d''éxé'!E25 -> 88.929783 | F2: ='Temps d''éxé'!D13+'Temps d''éxé'!F25 -> 93.184311 | G2: ='Temps d''éxé'!D13+'Temps d''éxé'!G25 -> 97.43884
A3: 2 couleur R° | B3: ='Temps d''éxé'!E13+'Temps d''éxé'!B26 -> 156.58692 | C3: ='Temps d''éxé'!E13+'Temps d''éxé'!C26 -> 160.84145 | D3: ='Temps d''éxé'!E13+'Temps d''éxé'!D26 -> 169.35051 | E3: ='Temps d''éxé'!E13+'Temps d''éxé'!E26 -> 177.85957 | F3: ='Temps d''éxé'!E13+'Temps d''éxé'!F26 -> 186.36862 | G3: ='Temps d''éxé'!E13+'Temps d''éxé'!G26 -> 194.87768
A4: 3 couleur R° | B4: ='Temps d''éxé'!F13+'Temps d''éxé'!B27 -> 234.88039 | C4: ='Temps d''éxé'!F13+'Temps d''éxé'!C27 -> 241.26218 | D4: ='Temps d''éxé'!F13+'Temps d''éxé'!D27 -> 254.02576 | E4: ='Temps d''éxé'!F13+'Temps d''éxé'!E27 -> 266.78935 | F4: ='Temps d''éxé'!F13+('Temps d''éxé'!F27/2) -> 254.02576 | G4: ='Temps d''éxé'!F13+'Temps d''éxé'!G27 -> 292.31652
A5: 1 couleur R°V° | B5: =('Temps d''éxé'!D13+(2*'Temps d''éxé'!B25))*B15 -> 121.75698 | C5: =('Temps d''éxé'!D13+(2*'Temps d''éxé'!C25))*B15 -> 128.19834 | D5: =('Temps d''éxé'!D13+(2*'Temps d''éxé'!D25))*B15 -> 141.08105 | E5: =('Temps d''éxé'!D13+(2*'Temps d''éxé'!E25))*B15 -> 153.96376 | F5: =('Temps d''éxé'!D13+(2*'Temps d''éxé'!F25))*B15 -> 166.84647 | G5: =('Temps d''éxé'!D13+(2*'Temps d''éxé'!G25))*B15 -> 179.72918
A6: 1 couleur R°V°+ 1 couleur V° | B6: =B5+B2 -> 200.05044 | C6: =C5+C2 -> 208.61906 | D6: =D5+D2 -> 225.7563 | E6: =E5+E2 -> 242.89354 | F6: =F5+F2 -> 260.03078 | G6: =G5+G2 -> 277.16802
A7: 1 couleur R°V°+ 2 couleur V° | B7: =B5+B3 -> 278.3439 | C7: =C5+C3 -> 289.03979 | D7: =D5+D3 -> 310.43156 | E7: =E5+E3 -> 331.82333 | F7: =F5+F3 -> 353.21509 | G7: =G5+G3 -> 374.60686
A8: 2 couleur R°V° | B8: =('Temps d''éxé'!E13+(2*'Temps d''éxé'!B26))*B15 -> 243.51396 | C8: =('Temps d''éxé'!E13+(2*'Temps d''éxé'!C26))*B15 -> 256.39667 | D8: =('Temps d''éxé'!E13+(2*'Temps d''éxé'!D26))*B15 -> 282.1621 | E8: =('Temps d''éxé'!E13+(2*'Temps d''éxé'!E26))*B15 -> 307.92752 | F8: =('Temps d''éxé'!E13+(2*'Temps d''éxé'!F26))*B15 -> 333.69294 | G8: =('Temps d''éxé'!E13+(2*'Temps d''éxé'!G26))*B15 -> 359.45836
A9: 2 couleur R°V°+ 1 couleur V° | B9: =B8+B2 -> 321.80742 | C9: =C8+C2 -> 336.8174 | D9: =D8+D2 -> 366.83735 | E9: =E8+E2 -> 396.8573 | F9: =F8+F2 -> 426.87725 | G9: =G8+G2 -> 456.8972
A10: 2 couleur R°V°+ 2 couleur V° | B10: =B8+B3 -> 400.10089 | C10: =C8+C3 -> 417.23812 | D10: =D8+D3 -> 451.5126 | E10: =E8+E3 -> 485.78708 | F10: =F8+F3 -> 520.06156 | G10: =G8+G2 -> 456.8972
A11: 3 couleur R°V° | B11: =('Temps d''éxé'!F13+(2*'Temps d''éxé'!B27))*B15 -> 365.27094 | C11: =('Temps d''éxé'!F13+(2*'Temps d''éxé'!C27))*B15 -> 384.59501 | D11: =('Temps d''éxé'!F13+(2*'Temps d''éxé'!D27))*B15 -> 423.24314 | E11: =('Temps d''éxé'!F13+(2*'Temps d''éxé'!E27))*B15 -> 461.89128 | F11: =('Temps d''éxé'!F13+(2*'Temps d''éxé'!F27))*B15 -> 500.53941 | G11: =('Temps d''éxé'!F13+(2*'Temps d''éxé'!G27))*B15 -> 539.18755
A12: 3 couleur R°V°+ 1 couleur V° | B12: =B11+B2 -> 443.5644 | C12: =C11+C2 -> 465.01573 | D12: =D11+D2 -> 507.9184 | E12: =E11+E2 -> 550.82106 | F12: =F11+F2 -> 593.72372 | G12: =G11+G2 -> 636.62639
A13: 3 couleur R°V°+ 2 couleur V° | B13: =B11+B3 -> 521.85787 | C13: =C11+C3 -> 545.43646 | D13: =D11+D3 -> 592.59365 | E13: =E11+E3 -> 639.75084 | F13: =F11+F3 -> 686.90804 | G13: =G11+G3 -> 734.06523
A15: Coef multi R°V° | B15: 1.514

Sheet A6
A1: Coût Éxé +roulage FORMAT A6 | B1: 50 ex. | C1: 100 ex. | D1: 200 ex. | E1: 300 ex. | F1: 400 ex. | G1: 500 ex.
A2: 1 couleur R° | B2: ='Temps d''éxé'!D13+'Temps d''éxé'!B25 -> 78.293462 | C2: ='Temps d''éxé'!D13+'Temps d''éxé'!C25 -> 80.420727 | D2: ='Temps d''éxé'!D13+'Temps d''éxé'!D25 -> 84.675255 | E2: ='Temps d''éxé'!D13+'Temps d''éxé'!E25 -> 88.929783 | F2: ='Temps d''éxé'!D13+'Temps d''éxé'!F25 -> 93.184311 | G2: ='Temps d''éxé'!D13+'Temps d''éxé'!G25 -> 97.43884
A3: 2 couleur R° | B3: ='Temps d''éxé'!E13+'Temps d''éxé'!B26 -> 156.58692 | C3: ='Temps d''éxé'!E13+'Temps d''éxé'!C26 -> 160.84145 | D3: ='Temps d''éxé'!E13+'Temps d''éxé'!D26 -> 169.35051 | E3: ='Temps d''éxé'!E13+'Temps d''éxé'!E26 -> 177.85957 | F3: ='Temps d''éxé'!E13+'Temps d''éxé'!F26 -> 186.36862 | G3: ='Temps d''éxé'!E13+'Temps d''éxé'!G26 -> 194.87768
A4: 3 couleur R° | B4: ='Temps d''éxé'!F13+'Temps d''éxé'!B27 -> 234.88039 | C4: ='Temps d''éxé'!F13+'Temps d''éxé'!C27 -> 241.26218 | D4: ='Temps d''éxé'!F13+'Temps d''éxé'!D27 -> 254.02576 | E4: ='Temps d''éxé'!F13+'Temps d''éxé'!E27 -> 266.78935 | F4: ='Temps d''éxé'!F13+('Temps d''éxé'!F27/2) -> 254.02576 | G4: ='Temps d''éxé'!F13+'Temps d''éxé'!G27 -> 292.31652
A5: 1 couleur R°V° | B5: =('Temps d''éxé'!D13+(2*'Temps d''éxé'!B25))*B15 -> 121.75698 | C5: =('Temps d''éxé'!D13+(2*'Temps d''éxé'!C25))*B15 -> 128.19834 | D5: =('Temps d''éxé'!D13+(2*'Temps d''éxé'!D25))*B15 -> 141.08105 | E5: =('Temps d''éxé'!D13+(2*'Temps d''éxé'!E25))*B15 -> 153.96376 | F5: =('Temps d''éxé'!D13+(2*'Temps d''éxé'!F25))*B15 -> 166.84647 | G5: =('Temps d''éxé'!D13+(2*'Temps d''éxé'!G25))*B15 -> 179.72918
A6: 1 couleur R°V°+ 1 couleur V° | B6: =B5+B2 -> 200.05044 | C6: =C5+C2 -> 208.61906 | D6: =D5+D2 -> 225.7563 | E6: =E5+E2 -> 242.89354 | F6: =F5+F2 -> 260.03078 | G6: =G5+G2 -> 277.16802
A7: 1 couleur R°V°+ 2 couleur V° | B7: =B5+B3 -> 278.3439 | C7: =C5+C3 -> 289.03979 | D7: =D5+D3 -> 310.43156 | E7: =E5+E3 -> 331.82333 | F7: =F5+F3 -> 353.21509 | G7: =G5+G3 -> 374.60686
A8: 2 couleur R°V° | B8: =('Temps d''éxé'!E13+(2*'Temps d''éxé'!B26))*B15 -> 243.51396 | C8: =('Temps d''éxé'!E13+(2*'Temps d''éxé'!C26))*B15 -> 256.39667 | D8: =('Temps d''éxé'!E13+(2*'Temps d''éxé'!D26))*B15 -> 282.1621 | E8: =('Temps d''éxé'!E13+(2*'Temps d''éxé'!E26))*B15 -> 307.92752 | F8: =('Temps d''éxé'!E13+(2*'Temps d''éxé'!F26))*B15 -> 333.69294 | G8: =('Temps d''éxé'!E13+(2*'Temps d''éxé'!G26))*B15 -> 359.45836
A9: 2 couleur R°V°+ 1 couleur V° | B9: =B8+B2 -> 321.80742 | C9: =C8+C2 -> 336.8174 | D9: =D8+D2 -> 366.83735 | E9: =E8+E2 -> 396.8573 | F9: =F8+F2 -> 426.87725 | G9: =G8+G2 -> 456.8972
A10: 2 couleur R°V°+ 2 couleur V° | B10: =B8+B3 -> 400.10089 | C10: =C8+C3 -> 417.23812 | D10: =D8+D3 -> 451.5126 | E10: =E8+E3 -> 485.78708 | F10: =F8+F3 -> 520.06156 | G10: =G8+G2 -> 456.8972
A11: 3 couleur R°V° | B11: =('Temps d''éxé'!F13+(2*'Temps d''éxé'!B27))*B15 -> 365.27094 | C11: =('Temps d''éxé'!F13+(2*'Temps d''éxé'!C27))*B15 -> 384.59501 | D11: =('Temps d''éxé'!F13+(2*'Temps d''éxé'!D27))*B15 -> 423.24314 | E11: =('Temps d''éxé'!F13+(2*'Temps d''éxé'!E27))*B15 -> 461.89128 | F11: =('Temps d''éxé'!F13+(2*'Temps d''éxé'!F27))*B15 -> 500.53941 | G11: =('Temps d''éxé'!F13+(2*'Temps d''éxé'!G27))*B15 -> 539.18755
A12: 3 couleur R°V°+ 1 couleur V° | B12: =B11+B2 -> 443.5644 | C12: =C11+C2 -> 465.01573 | D12: =D11+D2 -> 507.9184 | E12: =E11+E2 -> 550.82106 | F12: =F11+F2 -> 593.72372 | G12: =G11+G2 -> 636.62639
A13: 3 couleur R°V°+ 2 couleur V° | B13: =B11+B3 -> 521.85787 | C13: =C11+C3 -> 545.43646 | D13: =D11+D3 -> 592.59365 | E13: =E11+E3 -> 639.75084 | F13: =F11+F3 -> 686.90804 | G13: =G11+G3 -> 734.06523
A15: Coef multi R°V° | B15: 1.514

Sheet A5
A1: Coût Éxé +roulage FORMAT A5 | B1: 50 ex. | C1: 100 ex. | D1: 200 ex. | E1: 300 ex. | F1: 400 ex. | G1: 500 ex.
A2: 1 couleur R° | B2: ='Temps d''éxé'!D13+'Temps d''éxé'!B25 -> 78.293462 | C2: ='Temps d''éxé'!D13+'Temps d''éxé'!C25 -> 80.420727 | D2: ='Temps d''éxé'!D13+'Temps d''éxé'!D25 -> 84.675255 | E2: ='Temps d''éxé'!D13+'Temps d''éxé'!E25 -> 88.929783 | F2: ='Temps d''éxé'!D13+'Temps d''éxé'!F25 -> 93.184311 | G2: ='Temps d''éxé'!D13+'Temps d''éxé'!G25 -> 97.43884
A3: 2 couleur R° | B3: ='Temps d''éxé'!E13+'Temps d''éxé'!B26 -> 156.58692 | C3: ='Temps d''éxé'!E13+'Temps d''éxé'!C26 -> 160.84145 | D3: ='Temps d''éxé'!E13+'Temps d''éxé'!D26 -> 169.35051 | E3: ='Temps d''éxé'!E13+'Temps d''éxé'!E26 -> 177.85957 | F3: ='Temps d''éxé'!E13+'Temps d''éxé'!F26 -> 186.36862 | G3: ='Temps d''éxé'!E13+'Temps d''éxé'!G26 -> 194.87768
A4: 3 couleur R° | B4: ='Temps d''éxé'!F13+'Temps d''éxé'!B27 -> 234.88039 | C4: ='Temps d''éxé'!F13+'Temps d''éxé'!C27 -> 241.26218 | D4: ='Temps d''éxé'!F13+'Temps d''éxé'!D27 -> 254.02576 | E4: ='Temps d''éxé'!F13+'Temps d''éxé'!E27 -> 266.78935 | F4: ='Temps d''éxé'!F13+('Temps d''éxé'!F27/2) -> 254.02576 | G4: ='Temps d''éxé'!F13+'Temps d''éxé'!G27 -> 292.31652
A5: 1 couleur R°V° | B5: =('Temps d''éxé'!D13+(2*'Temps d''éxé'!B25))*B15 -> 121.75698 | C5: =('Temps d''éxé'!D13+(2*'Temps d''éxé'!C25))*B15 -> 128.19834 | D5: =('Temps d''éxé'!D13+(2*'Temps d''éxé'!D25))*B15 -> 141.08105 | E5: =('Temps d''éxé'!D13+(2*'Temps d''éxé'!E25))*B15 -> 153.96376 | F5: =('Temps d''éxé'!D13+(2*'Temps d''éxé'!F25))*B15 -> 166.84647 | G5: =('Temps d''éxé'!D13+(2*'Temps d''éxé'!G25))*B15 -> 179.72918
A6: 1 couleur R°V°+ 1 couleur V° | B6: =B5+B2 -> 200.05044 | C6: =C5+C2 -> 208.61906 | D6: =D5+D2 -> 225.7563 | E6: =E5+E2 -> 242.89354 | F6: =F5+F2 -> 260.03078 | G6: =G5+G2 -> 277.16802
A7: 1 couleur R°V°+ 2 couleur V° | B7: =B5+B3 -> 278.3439 | C7: =C5+C3 -> 289.03979 | D7: =D5+D3 -> 310.43156 | E7: =E5+E3 -> 331.82333 | F7: =F5+F3 -> 353.21509 | G7: =G5+G3 -> 374.60686
A8: 2 couleur R°V° | B8: =('Temps d''éxé'!E13+(2*'Temps d''éxé'!B26))*B15 -> 243.51396 | C8: =('Temps d''éxé'!E13+(2*'Temps d''éxé'!C26))*B15 -> 256.39667 | D8: =('Temps d''éxé'!E13+(2*'Temps d''éxé'!D26))*B15 -> 282.1621 | E8: =('Temps d''éxé'!E13+(2*'Temps d''éxé'!E26))*B15 -> 307.92752 | F8: =('Temps d''éxé'!E13+(2*'Temps d''éxé'!F26))*B15 -> 333.69294 | G8: =('Temps d''éxé'!E13+(2*'Temps d''éxé'!G26))*B15 -> 359.45836
A9: 2 couleur R°V°+ 1 couleur V° | B9: =B8+B2 -> 321.80742 | C9: =C8+C2 -> 336.8174 | D9: =D8+D2 -> 366.83735 | E9: =E8+E2 -> 396.8573 | F9: =F8+F2 -> 426.87725 | G9: =G8+G2 -> 456.8972
A10: 2 couleur R°V°+ 2 couleur V° | B10: =B8+B3 -> 400.10089 | C10: =C8+C3 -> 417.23812 | D10: =D8+D3 -> 451.5126 | E10: =E8+E3 -> 485.78708 | F10: =F8+F3 -> 520.06156 | G10: =G8+G2 -> 456.8972
A11: 3 couleur R°V° | B11: =('Temps d''éxé'!F13+(2*'Temps d''éxé'!B27))*B15 -> 365.27094 | C11: =('Temps d''éxé'!F13+(2*'Temps d''éxé'!C27))*B15 -> 384.59501 | D11: =('Temps d''éxé'!F13+(2*'Temps d''éxé'!D27))*B15 -> 423.24314 | E11: =('Temps d''éxé'!F13+(2*'Temps d''éxé'!E27))*B15 -> 461.89128 | F11: =('Temps d''éxé'!F13+(2*'Temps d''éxé'!F27))*B15 -> 500.53941 | G11: =('Temps d''éxé'!F13+(2*'Temps d''éxé'!G27))*B15 -> 539.18755
A12: 3 couleur R°V°+ 1 couleur V° | B12: =B11+B2 -> 443.5644 | C12: =C11+C2 -> 465.01573 | D12: =D11+D2 -> 507.9184 | E12: =E11+E2 -> 550.82106 | F12: =F11+F2 -> 593.72372 | G12: =G11+G2 -> 636.62639
A13: 3 couleur R°V°+ 2 couleur V° | B13: =B11+B3 -> 521.85787 | C13: =C11+C3 -> 545.43646 | D13: =D11+D3 -> 592.59365 | E13: =E11+E3 -> 639.75084 | F13: =F11+F3 -> 686.90804 | G13: =G11+G3 -> 734.06523
A15: Coef multi R°V° | B15: 1.514

Sheet A4
A1: Coût Éxé +roulage FORMAT A4 | B1: 50 ex. | C1: 100 ex. | D1: 200 ex. | E1: 300 ex. | F1: 400 ex. | G1: 500 ex.
A2: 1 couleur R° | B2: 78.29 | C2: 80.42 | D2: 84.68 | E2: 88.93 | F2: 93.18 | G2: 97.44
A3: 2 couleur R° | B3: 156.59 | C3: 160.84 | D3: 169.35 | E3: 177.86 | F3: 186.37 | G3: 194.88
A4: 3 couleur R° | B4: 234.88 | C4: 241.26 | D4: 254.03 | E4: 266.79 | F4: 254.03 | G4: 292.32
A5: 1 couleur R°V° | B5: 121.76 | C5: 128.2 | D5: 141.08 | E5: 153.96 | F5: 166.85 | G5: 179.73
A6: 1 couleur R°V°+ 1 couleur V° | B6: 200.05 | C6: 208.62 | D6: 225.76 | E6: 242.89 | F6: 260.03 | G6: 277.17
A7: 1 couleur R°V°+ 2 couleur V° | B7: 278.34 | C7: 289.04 | D7: 310.43 | E7: 331.82 | F7: 353.22 | G7: 374.61
A8: 2 couleur R°V° | B8: 243.51 | C8: 256.4 | D8: 282.16 | E8: 307.93 | F8: 333.69 | G8: 359.46
A9: 2 couleur R°V°+ 1 couleur V° | B9: 321.81 | C9: 336.82 | D9: 366.84 | E9: 396.86 | F9: 426.88 | G9: 456.9
A10: 2 couleur R°V°+ 2 couleur V° | B10: 400.1 | C10: 417.24 | D10: 451.51 | E10: 485.79 | F10: 520.06 | G10: 456.9
A11: 3 couleur R°V° | B11: 365.27 | C11: 384.6 | D11: 423.24 | E11: 461.89 | F11: 500.54 | G11: 539.19
A12: 3 couleur R°V°+ 1 couleur V° | B12: 443.56 | C12: 465.02 | D12: 507.92 | E12: 550.82 | F12: 593.72 | G12: 636.63
A13: 3 couleur R°V°+ 2 couleur V° | B13: 521.86 | C13: 545.44 | D13: 592.59 | E13: 639.75 | F13: 686.91 | G13: 734.07
A15: Coef multi R°V° | B15: 1.514
