Workbook
Name SAPCrosstab1: 'WOC QUERY'!$A$2:$H$281

Sheet _com.sap.ip.bi.xl.hiddensheet

Sheet WOC
A1: PARAMETRE | D1: ACTUAL | E1: =D1 -> ACTUAL | F1: =D1 -> ACTUAL | G1: =F1 -> ACTUAL | H1: =F1 -> ACTUAL | I1: =F1 -> ACTUAL | L1: ACTUAL | M1: =L1 -> ACTUAL | N1: =L1 -> ACTUAL | Q1: L2AH / OP 2017 / Version 001 | R1: =Q1 -> L2AH / OP 2017 / Version 001 | S1: =Q1 -> L2AH / OP 2017 / Version 001 | V1: L2AH / FC1 2017 / Version 001 | W1: =V1 -> L2AH / FC1 2017 / Version 001 | X1: =V1 -> L2AH / FC1 2017 / Version 001 | AA1: L2AH / FC2 2017 / Version 001 | AB1: =AA1 -> L2AH / FC2 2017 / Version 001 | AC1: =AA1 -> L2AH / FC2 2017 / Version 001
D2: 2016 | E2: =D2 -> 2016 | F2: =D2 -> 2016 | G2: =F2 -> 2016 | H2: =F2 -> 2016 | I2: =F2 -> 2016 | L2: 2017 | M2: =L2 -> 2017 | N2: =L2 -> 2017 | Q2: 2017 | R2: =Q2 -> 2017 | S2: =Q2 -> 2017 | V2: 2017 | W2: =V2 -> 2017 | X2: =V2 -> 2017 | AA2: 2017 | AB2: =AA2 -> 2017 | AC2: =AA2 -> 2017
D3: 12 | E3: =D3 -> 12 | F3: =D3 -> 12 | G3: =F3 -> 12 | H3: =F3 -> 12 | I3: =F3 -> 12 | L3: 4 | M3: =L3 -> 4 | N3: =L3 -> 4 | Q3: 12 | R3: =Q3 -> 12 | S3: =Q3 -> 12 | V3: 12 | W3: =V3 -> 12 | X3: =V3 -> 12 | AA3: 12 | AB3: =AA3 -> 12 | AC3: =AA3 -> 12
D4: Gross Inventories | E4: Gross Trade receivables | F4: Advance payments received | G4: =F4 -> Advance payments received | H4: =F5 -> Deferred income | I4: =F6 -> Governm. Refund. Advan. | L4: Gross Inventories | M4: Gross Trade receivables | N4: Advance payments received | Q4: Gross Inventories | R4: Gross Trade receivables | S4: Advance payments received | V4: Gross Inventories | W4: Gross Trade receivables | X4: Advance payments received | AA4: Gross Inventories | AB4: Gross Trade receivables | AC4: Advance payments received
F5: Deferred income | N5: Deferred income | S5: Deferred income | X5: Deferred income | AC5: Deferred income
F6: Governm. Refund. Advan. | N6: Governm. Refund. Advan. | S6: Governm. Refund. Advan. | X6: Governm. Refund. Advan. | AC6: Governm. Refund. Advan.
B7: WoC | D7: Actuals 2016 | L7: Actuals as of April.17 | Q7: OP17 y17 | V7: FC1 17 | AA7: FC2 17
B8: in M€ | D8: Inv. | E8: Rec. | F8: Ad./Def. | J8: WoC | L8: Inv. | M8: Rec. | N8: Ad./Def. | O8: WoC | Q8: Inv. | R8: Rec. | S8: Ad./Def. | T8: WoC | V8: Inv. | W8: Rec. | X8: Ad./Def. | Y8: WoC | AA8: Inv. | AB8: Rec. | AC8: Ad./Def. | AD8: WoC
A10: Spares | B10: =A10 -> Spares | D10: {=SUM(IF(($A10='WOC QUERY'!$B$7:$B$1000)*(D$1='WOC QUERY'!$D$2:$BI$2)*(D$2='WOC QUERY'!$D$3:$BI$3)*(D$3='WOC QUERY'!$D$4:$BI$4)*(D$4='WOC QUERY'!$A$7:$A$1000),'WOC QUERY'!$D$7:$BI$1000))/COUNT(IF(($A10='WOC QUERY'!$B$7:$B$1000)*(D$1='WOC QUERY'!$D$2:$BI$2)*(D$2='WOC QUERY'!$D$3:$BI$3)*(D$3='WOC QUERY'!$D$4:$BI$4)*(D$4='WOC QUERY'!$A$7:$A$1000),'WOC QUERY'!$D$7:$BI$1000))} -> 731.37287 | E10: {=SUM(IF(($A10='WOC QUERY'!$B$7:$B$1000)*(E$1='WOC QUERY'!$D$2:$BI$2)*(E$2='WOC QUERY'!$D$3:$BI$3)*(E$3='WOC QUERY'!$D$4:$BI$4)*(E$4='WOC QUERY'!$A$7:$A$1000),'WOC QUERY'!$D$7:$BI$1000))/COUNT(IF(($A10='WOC QUERY'!$B$7:$B$1000)*(E$1='WOC QUERY'!$D$2:$BI$2)*(E$2='WOC QUERY'!$D$3:$BI$3)*(E$3='WOC QUERY'!$D$4:$BI$4)*(E$4='WOC QUERY'!$A$7:$A$1000),'WOC QUERY'!$D$7:$BI$1000))} -> 191.66371 | F10: =SUM(G10:I10) -> #DIV/0! | G10: {=SUM(IF(($A10='WOC QUERY'!$B$7:$B$1000)*(G$1='WOC QUERY'!$D$2:$BI$2)*(G$2='WOC QUERY'!$D$3:$BI$3)*(G$3='WOC QUERY'!$D$4:$BI$4)*(G$4='WOC QUERY'!$A$7:$A$1000),'WOC QUERY'!$D$7:$BI$1000))/COUNT(IF(($A10='WOC QUERY'!$B$7:$B$1000)*(G$1='WOC QUERY'!$D$2:$BI$2)*(G$2='WOC QUERY'!$D$3:$BI$3)*(G$3='WOC QUERY'!$D$4:$BI$4)*(G$4='WOC QUERY'!$A$7:$A$1000),'WOC QUERY'!$D$7:$BI$1000))} -> -51.769651 | H10: {=SUM(IF(($A10='WOC QUERY'!$B$7:$B$1000)*(H$1='WOC QUERY'!$D$2:$BI$2)*(H$2='WOC QUERY'!$D$3:$BI$3)*(H$3='WOC QUERY'!$D$4:$BI$4)*(H$4='WOC QUERY'!$A$7:$A$1000),'WOC QUERY'!$D$7:$BI$1000))/COUNT(IF(($A10='WOC QUERY'!$B$7:$B$1000)*(H$1='WOC QUERY'!$D$2:$BI$2)*(H$2='WOC QUERY'!$D$3:$BI$3)*(H$3='WOC QUERY'!$D$4:$BI$4)*(H$4='WOC QUERY'!$A$7:$A$1000),'WOC QUERY'!$D$7:$BI$1000))} -> -4.630923 | I10: {=SUM(IF(($A10='WOC QUERY'!$B$7:$B$1000)*(I$1='WOC QUERY'!$D$2:$BI$2)*(I$2='WOC QUERY'!$D$3:$BI$3)*(I$3='WOC QUERY'!$D$4:$BI$4)*(I$4='WOC QUERY'!$A$7:$A$1000),'WOC QUERY'!$D$7:$BI$1000))/COUNT(IF(($A10='WOC QUERY'!$B$7:$B$1000)*(I$1='WOC QUERY'!$D$2:$BI$2)*(I$2='WOC QUERY'!$D$3:$BI$3)*(I$3='WOC QUERY'!$D$4:$BI$4)*(I$4='WOC QUERY'!$A$7:$A$1000),'WOC QUERY'!$D$7:$BI$1000))} -> #DIV/0! | J10: =SUM(D10:F10) -> #DIV/0! | L10: {=SUM(IF(($A10='WOC QUERY'!$B$7:$B$1000)*(L$1='WOC QUERY'!$D$2:$BI$2)*(L$2='WOC QUERY'!$D$3:$BI$3)*(L$3='WOC QUERY'!$D$4:$BI$4)*(L$4='WOC QUERY'!$A$7:$A$1000),'WOC QUERY'!$D$7:$BI$1000))/COUNT(IF(($A10='WOC QUERY'!$B$7:$B$1000)*(L$1='WOC QUERY'!$D$2:$BI$2)*(L$2='WOC QUERY'!$D$3:$BI$3)*(L$3='WOC QUERY'!$D$4:$BI$4)*(L$4='WOC QUERY'!$A$7:$A$1000),'WOC QUERY'!$D$7:$BI$1000))} -> #DIV/0! | M10: {=SUM(IF(($A10='WOC QUERY'!$B$7:$B$1000)*(M$1='WOC QUERY'!$D$2:$BI$2)*(M$2='WOC QUERY'!$D$3:$BI$3)*(M$3='WOC QUERY'!$D$4:$BI$4)*(M$4='WOC QUERY'!$A$7:$A$1000),'WOC QUERY'!$D$7:$BI$1000))/COUNT(IF(($A10='WOC QUERY'!$B$7:$B$1000)*(M$1='WOC QUERY'!$D$2:$BI$2)*(M$2='WOC QUERY'!$D$3:$BI$3)*(M$3='WOC QUERY'!$D$4:$BI$4)*(M$4='WOC QUERY'!$A$7:$A$1000),'WOC QUERY'!$D$7:$BI$1000))} -> #DIV/0! | N10: {=SUM(IF(($A10='WOC QUERY'!$B$7:$B$1000)*(N$1='WOC QUERY'!$D$2:$BI$2)*(N$2='WOC QUERY'!$D$3:$BI$3)*(N$3='WOC QUERY'!$D$4:$BI$4)*(N$5='WOC QUERY'!$A$7:$A$1000)*(N$4='WOC QUERY'!$A$7:$A$1000)*(N$6='WOC QUERY'!$A$7:$A$1000),'WOC QUERY'!$D$7:$BI$1000))/COUNT(IF(($A10='WOC QUERY'!$B$7:$B$1000)*(N$1='WOC QUERY'!$D$2:$BI$2)*(N$2='WOC QUERY'!$D$3:$BI$3)*(N$3='WOC QUERY'!$D$4:$BI$4)*(N$5='WOC QUERY'!$A$7:$A$1000)*(N$4='WOC QUERY'!$A$7:$A$1000)*(N$6='WOC QUERY'!$A$7:$A$1000),'WOC QUERY'!$D$7:$BI$1000))} -> #DIV/0! | O10: =+SUM(L10:N10) -> #DIV/0! | Q10: {=SUM(IF(($A10='WOC QUERY'!$B$7:$B$1000)*(Q$1='WOC QUERY'!$D$2:$BI$2)*(Q$2='WOC QUERY'!$D$3:$BI$3)*(Q$3='WOC QUERY'!$D$4:$BI$4)*(Q$4='WOC QUERY'!$A$7:$A$1000),'WOC QUERY'!$D$7:$BI$1000))/COUNT(IF(($A10='WOC QUERY'!$B$7:$B$1000)*(Q$1='WOC QUERY'!$D$2:$BI$2)*(Q$2='WOC QUERY'!$D$3:$BI$3)*(Q$3='WOC QUERY'!$D$4:$BI$4)*(Q$4='WOC QUERY'!$A$7:$A$1000),'WOC QUERY'!$D$7:$BI$1000))} -> 702.91409 | R10: {=SUM(IF(($A10='WOC QUERY'!$B$7:$B$1000)*(R$1='WOC QUERY'!$D$2:$BI$2)*(R$2='WOC QUERY'!$D$3:$BI$3)*(R$3='WOC QUERY'!$D$4:$BI$4)*(R$4='WOC QUERY'!$A$7:$A$1000),'WOC QUERY'!$D$7:$BI$1000))/COUNT(IF(($A10='WOC QUERY'!$B$7:$B$1000)*(R$1='WOC QUERY'!$D$2:$BI$2)*(R$2='WOC QUERY'!$D$3:$BI$3)*(R$3='WOC QUERY'!$D$4:$BI$4)*(R$4='WOC QUERY'!$A$7:$A$1000),'WOC QUERY'!$D$7:$BI$1000))} -> 148.7341 | S10: {=SUM(IF(($A10='WOC QUERY'!$B$7:$B$1000)*(S$1='WOC QUERY'!$D$2:$BI$2)*(S$2='WOC QUERY'!$D$3:$BI$3)*(S$3='WOC QUERY'!$D$4:$BI$4)*(S$5='WOC QUERY'!$A$7:$A$1000)*(S$4='WOC QUERY'!$A$7:$A$1000)*(S$6='WOC QUERY'!$A$7:$A$1000),'WOC QUERY'!$D$7:$BI$1000))/COUNT(IF(($A10='WOC QUERY'!$B$7:$B$1000)*(S$1='WOC QUERY'!$D$2:$BI$2)*(S$2='WOC QUERY'!$D$3:$BI$3)*(S$3='WOC QUERY'!$D$4:$BI$4)*(S$5='WOC QUERY'!$A$7:$A$1000)*(S$4='WOC QUERY'!$A$7:$A$1000)*(S$6='WOC QUERY'!$A$7:$A$1000),'WOC QUERY'!$D$7:$BI$1000))} -> #DIV/0! | T10: =SUM(Q10:S10) -> #DIV/0! | V10: {=SUM(IF(($A10='WOC QUERY'!$B$7:$B$1000)*(V$1='WOC QUERY'!$D$2:$BI$2)*(V$2='WOC QUERY'!$D$3:$BI$3)*(V$3='WOC QUERY'!$D$4:$BI$4)*(V$4='WOC QUERY'!$A$7:$A$1000),'WOC QUERY'!$D$7:$BI$1000))/COUNT(IF(($A10='WOC QUERY'!$B$7:$B$1000)*(V$1='WOC QUERY'!$D$2:$BI$2)*(V$2='WOC QUERY'!$D$3:$BI$3)*(V$3='WOC QUERY'!$D$4:$BI$4)*(V$4='WOC QUERY'!$A$7:$A$1000),'WOC QUERY'!$D$7:$BI$1000))} -> 722.72721 | W10: {=SUM(IF(($A10='WOC QUERY'!$B$7:$B$1000)*(W$1='WOC QUERY'!$D$2:$BI$2)*(W$2='WOC QUERY'!$D$3:$BI$3)*(W$3='WOC QUERY'!$D$4:$BI$4)*(W$4='WOC QUERY'!$A$7:$A$1000),'WOC QUERY'!$D$7:$BI$1000))/COUNT(IF(($A10='WOC QUERY'!$B$7:$B$1000)*(W$1='WOC QUERY'!$D$2:$BI$2)*(W$2='WOC QUERY'!$D$3:$BI$3)*(W$3='WOC QUERY'!$D$4:$BI$4)*(W$4='WOC QUERY'!$A$7:$A$1000),'WOC QUERY'!$D$7:$BI$1000))} -> 152.17391 | X10: {=SUM(IF(($A10='WOC QUERY'!$B$7:$B$1000)*(X$1='WOC QUERY'!$D$2:$BI$2)*(X$2='WOC QUERY'!$D$3:$BI$3)*(X$3='WOC QUERY'!$D$4:$BI$4)*(X$5='WOC QUERY'!$A$7:$A$1000)*(X$4='WOC QUERY'!$A$7:$A$1000)*(X$6='WOC QUERY'!$A$7:$A$1000),'WOC QUERY'!$D$7:$BI$1000))/COUNT(IF(($A10='WOC QUERY'!$B$7:$B$1000)*(X$1='WOC QUERY'!$D$2:$BI$2)*(X$2='WOC QUERY'!$D$3:$BI$3)*(X$3='WOC QUERY'!$D$4:$BI$4)*(X$5='WOC QUERY'!$A$7:$A$1000)*(X$4='WOC QUERY'!$A$7:$A$1000)*(X$6='WOC QUERY'!$A$7:$A$1000),'WOC QUERY'!$D$7:$BI$1000))} -> #DIV/0! | Y10: =SUM(V10:X10) -> #DIV/0! | AA10: {=SUM(IF(($A10='WOC QUERY'!$B$7:$B$1000)*(AA$1='WOC QUERY'!$D$2:$BI$2)*(AA$2='WOC QUERY'!$D$3:$BI$3)*(AA$3='WOC QUERY'!$D$4:$BI$4)*(AA$4='WOC QUERY'!$A$7:$A$1000),'WOC QUERY'!$D$7:$BI$1000))/COUNT(IF(($A10='WOC QUERY'!$B$7:$B$1000)*(AA$1='WOC QUERY'!$D$2:$BI$2)*(AA$2='WOC QUERY'!$D$3:$BI$3)*(AA$3='WOC QUERY'!$D$4:$BI$4)*(AA$4='WOC QUERY'!$A$7:$A$1000),'WOC QUERY'!$D$7:$BI$1000))} -> #DIV/0! | AB10: {=SUM(IF(($A10='WOC QUERY'!$B$7:$B$1000)*(AB$1='WOC QUERY'!$D$2:$BI$2)*(AB$2='WOC QUERY'!$D$3:$BI$3)*(AB$3='WOC QUERY'!$D$4:$BI$4)*(AB$4='WOC QUERY'!$A$7:$A$1000),'WOC QUERY'!$D$7:$BI$1000))/COUNT(IF(($A10='WOC QUERY'!$B$7:$B$1000)*(AB$1='WOC QUERY'!$D$2:$BI$2)*(AB$2='WOC QUERY'!$D$3:$BI$3)*(AB$3='WOC QUERY'!$D$4:$BI$4)*(AB$4='WOC QUERY'!$A$7:$A$1000),'WOC QUERY'!$D$7:$BI$1000))} -> #DIV/0! | AC10: {=SUM(IF(($A10='WOC QUERY'!$B$7:$B$1000)*(AC$1='WOC QUERY'!$D$2:$BI$2)*(AC$2='WOC QUERY'!$D$3:$BI$3)*(AC$3='WOC QUERY'!$D$4:$BI$4)*(AC$5='WOC QUERY'!$A$7:$A$1000)*(AC$4='WOC QUERY'!$A$7:$A$1000)*(AC$6='WOC QUERY'!$A$7:$A$1000),'WOC QUERY'!$D$7:$BI$1000))/COUNT(IF(($A10='WOC QUERY'!$B$7:$B$1000)*(AC$1='WOC QUERY'!$D$2:$BI$2)*(AC$2='WOC QUERY'!$D$3:$BI$3)*(AC$3='WOC QUERY'!$D$4:$BI$4)*(AC$5='WOC QUERY'!$A$7:$A$1000)*(AC$4='WOC QUERY'!$A$7:$A$1000)*(AC$6='WOC QUERY'!$A$7:$A$1000),'WOC QUERY'!$D$7:$BI$1000))} -> #DIV/0! | AD10: =SUM(AA10:AC10) -> #DIV/0!
A11: MRO Component repairs & PBH | B11: =A11 -> MRO Component repairs & PBH | D11: {=SUM(IF(($A11='WOC QUERY'!$B$7:$B$1000)*(D$1='WOC QUERY'!$D$2:$BI$2)*(D$2='WOC QUERY'!$D$3:$BI$3)*(D$3='WOC QUERY'!$D$4:$BI$4)*(D$4='WOC QUERY'!$A$7:$A$1000),'WOC QUERY'!$D$7:$BI$1000))/COUNT(IF(($A11='WOC QUERY'!$B$7:$B$1000)*(D$1='WOC QUERY'!$D$2:$BI$2)*(D$2='WOC QUERY'!$D$3:$BI$3)*(D$3='WOC QUERY'!$D$4:$BI$4)*(D$4='WOC QUERY'!$A$7:$A$1000),'WOC QUERY'!$D$7:$BI$1000))} -> 189.99289 | E11: {=SUM(IF(($A11='WOC QUERY'!$B$7:$B$1000)*(E$1='WOC QUERY'!$D$2:$BI$2)*(E$2='WOC QUERY'!$D$3:$BI$3)*(E$3='WOC QUERY'!$D$4:$BI$4)*(E$4='WOC QUERY'!$A$7:$A$1000),'WOC QUERY'!$D$7:$BI$1000))/COUNT(IF(($A11='WOC QUERY'!$B$7:$B$1000)*(E$1='WOC QUERY'!$D$2:$BI$2)*(E$2='WOC QUERY'!$D$3:$BI$3)*(E$3='WOC QUERY'!$D$4:$BI$4)*(E$4='WOC QUERY'!$A$7:$A$1000),'WOC QUERY'!$D$7:$BI$1000))} -> 156.82325 | F11: =SUM(G11:I11) -> #DIV/0! | G11: {=SUM(IF(($A11='WOC QUERY'!$B$7:$B$1000)*(G$1='WOC QUERY'!$D$2:$BI$2)*(G$2='WOC QUERY'!$D$3:$BI$3)*(G$3='WOC QUERY'!$D$4:$BI$4)*(G$4='WOC QUERY'!$A$7:$A$1000),'WOC QUERY'!$D$7:$BI$1000))/COUNT(IF(($A11='WOC QUERY'!$B$7:$B$1000)*(G$1='WOC QUERY'!$D$2:$BI$2)*(G$2='WOC QUERY'!$D$3:$BI$3)*(G$3='WOC QUERY'!$D$4:$BI$4)*(G$4='WOC QUERY'!$A$7:$A$1000),'WOC QUERY'!$D$7:$BI$1000))} -> -121.40064 | H11: {=SUM(IF(($A11='WOC QUERY'!$B$7:$B$1000)*(H$1='WOC QUERY'!$D$2:$BI$2)*(H$2='WOC QUERY'!$D$3:$BI$3)*(H$3='WOC QUERY'!$D$4:$BI$4)*(H$4='WOC QUERY'!$A$7:$A$1000),'WOC QUERY'!$D$7:$BI$1000))/COUNT(IF(($A11='WOC QUERY'!$B$7:$B$1000)*(H$1='WOC QUERY'!$D$2:$BI$2)*(H$2='WOC QUERY'!$D$3:$BI$3)*(H$3='WOC QUERY'!$D$4:$BI$4)*(H$4='WOC QUERY'!$A$7:$A$1000),'WOC QUERY'!$D$7:$BI$1000))} -> -159.09574 | I11: {=SUM(IF(($A11='WOC QUERY'!$B$7:$B$1000)*(I$1='WOC QUERY'!$D$2:$BI$2)*(I$2='WOC QUERY'!$D$3:$BI$3)*(I$3='WOC QUERY'!$D$4:$BI$4)*(I$4='WOC QUERY'!$A$7:$A$1000),'WOC QUERY'!$D$7:$BI$1000))/COUNT(IF(($A11='WOC QUERY'!$B$7:$B$1000)*(I$1='WOC QUERY'!$D$2:$BI$2)*(I$2='WOC QUERY'!$D$3:$BI$3)*(I$3='WOC QUERY'!$D$4:$BI$4)*(I$4='WOC QUERY'!$A$7:$A$1000),'WOC QUERY'!$D$7:$BI$1000))} -> #DIV/0! | J11: =SUM(D11:F11) -> #DIV/0! | L11: {=SUM(IF(($A11='WOC QUERY'!$B$7:$B$1000)*(L$1='WOC QUERY'!$D$2:$BI$2)*(L$2='WOC QUERY'!$D$3:$BI$3)*(L$3='WOC QUERY'!$D$4:$BI$4)*(L$4='WOC QUERY'!$A$7:$A$1000),'WOC QUERY'!$D$7:$BI$1000))/COUNT(IF(($A11='WOC QUERY'!$B$7:$B$1000)*(L$1='WOC QUERY'!$D$2:$BI$2)*(L$2='WOC QUERY'!$D$3:$BI$3)*(L$3='WOC QUERY'!$D$4:$BI$4)*(L$4='WOC QUERY'!$A$7:$A$1000),'WOC QUERY'!$D$7:$BI$1000))} -> #DIV/0! | M11: {=SUM(IF(($A11='WOC QUERY'!$B$7:$B$1000)*(M$1='WOC QUERY'!$D$2:$BI$2)*(M$2='WOC QUERY'!$D$3:$BI$3)*(M$3='WOC QUERY'!$D$4:$BI$4)*(M$4='WOC QUERY'!$A$7:$A$1000),'WOC QUERY'!$D$7:$BI$1000))/COUNT(IF(($A11='WOC QUERY'!$B$7:$B$1000)*(M$1='WOC QUERY'!$D$2:$BI$2)*(M$2='WOC QUERY'!$D$3:$BI$3)*(M$3='WOC QUERY'!$D$4:$BI$4)*(M$4='WOC QUERY'!$A$7:$A$1000),'WOC QUERY'!$D$7:$BI$1000))} -> #DIV/0! | N11: {=SUM(IF(($A11='WOC QUERY'!$B$7:$B$1000)*(N$1='WOC QUERY'!$D$2:$BI$2)*(N$2='WOC QUERY'!$D$3:$BI$3)*(N$3='WOC QUERY'!$D$4:$BI$4)*(N$5='WOC QUERY'!$A$7:$A$1000)*(N$4='WOC QUERY'!$A$7:$A$1000)*(N$6='WOC QUERY'!$A$7:$A$1000),'WOC QUERY'!$D$7:$BI$1000))/COUNT(IF(($A11='WOC QUERY'!$B$7:$B$1000)*(N$1='WOC QUERY'!$D$2:$BI$2)*(N$2='WOC QUERY'!$D$3:$BI$3)*(N$3='WOC QUERY'!$D$4:$BI$4)*(N$5='WOC QUERY'!$A$7:$A$1000)*(N$4='WOC QUERY'!$A$7:$A$1000)*(N$6='WOC QUERY'!$A$7:$A$1000),'WOC QUERY'!$D$7:$BI$1000))} -> #DIV/0! | O11: =+SUM(L11:N11) -> #DIV/0! | Q11: {=SUM(IF(($A11='WOC QUERY'!$B$7:$B$1000)*(Q$1='WOC QUERY'!$D$2:$BI$2)*(Q$2='WOC QUERY'!$D$3:$BI$3)*(Q$3='WOC QUERY'!$D$4:$BI$4)*(Q$4='WOC QUERY'!$A$7:$A$1000),'WOC QUERY'!$D$7:$BI$1000))/COUNT(IF(($A11='WOC QUERY'!$B$7:$B$1000)*(Q$1='WOC QUERY'!$D$2:$BI$2)*(Q$2='WOC QUERY'!$D$3:$BI$3)*(Q$3='WOC QUERY'!$D$4:$BI$4)*(Q$4='WOC QUERY'!$A$7:$A$1000),'WOC QUERY'!$D$7:$BI$1000))} -> 196.64571 | R11: {=SUM(IF(($A11='WOC QUERY'!$B$7:$B$1000)*(R$1='WOC QUERY'!$D$2:$BI$2)*(R$2='WOC QUERY'!$D$3:$BI$3)*(R$3='WOC QUERY'!$D$4:$BI$4)*(R$4='WOC QUERY'!$A$7:$A$1000),'WOC QUERY'!$D$7:$BI$1000))/COUNT(IF(($A11='WOC QUERY'!$B$7:$B$1000)*(R$1='WOC QUERY'!$D$2:$BI$2)*(R$2='WOC QUERY'!$D$3:$BI$3)*(R$3='WOC QUERY'!$D$4:$BI$4)*(R$4='WOC QUERY'!$A$7:$A$1000),'WOC QUERY'!$D$7:$BI$1000))} -> 85.548981 | S11: {=SUM(IF(($A11='WOC QUERY'!$B$7:$B$1000)*(S$1='WOC QUERY'!$D$2:$BI$2)*(S$2='WOC QUERY'!$D$3:$BI$3)*(S$3='WOC QUERY'!$D$4:$BI$4)*(S$5='WOC QUERY'!$A$7:$A$1000)*(S$4='WOC QUERY'!$A$7:$A$1000)*(S$6='WOC QUERY'!$A$7:$A$1000),'WOC QUERY'!$D$7:$BI$1000))/COUNT(IF(($A11='WOC QUERY'!$B$7:$B$1000)*(S$1='WOC QUERY'!$D$2:$BI$2)*(S$2='WOC QUERY'!$D$3:$BI$3)*(S$3='WOC QUERY'!$D$4:$BI$4)*(S$5='WOC QUERY'!$A$7:$A$1000)*(S$4='WOC QUERY'!$A$7:$A$1000)*(S$6='WOC QUERY'!$A$7:$A$1000),'WOC QUERY'!$D$7:$BI$1000))} -> #DIV/0! | T11: =SUM(Q11:S11) -> #DIV/0! | V11: {=SUM(IF(($A11='WOC QUERY'!$B$7:$B$1000)*(V$1='WOC QUERY'!$D$2:$BI$2)*(V$2='WOC QUERY'!$D$3:$BI$3)*(V$3='WOC QUERY'!$D$4:$BI$4)*(V$4='WOC QUERY'!$A$7:$A$1000),'WOC QUERY'!$D$7:$BI$1000))/COUNT(IF(($A11='WOC QUERY'!$B$7:$B$1000)*(V$1='WOC QUERY'!$D$2:$BI$2)*(V$2='WOC QUERY'!$D$3:$BI$3)*(V$3='WOC QUERY'!$D$4:$BI$4)*(V$4='WOC QUERY'!$A$7:$A$1000),'WOC QUERY'!$D$7:$BI$1000))} -> 197.56304 | W11: {=SUM(IF(($A11='WOC QUERY'!$B$7:$B$1000)*(W$1='WOC QUERY'!$D$2:$BI$2)*(W$2='WOC QUERY'!$D$3:$BI$3)*(W$3='WOC QUERY'!$D$4:$BI$4)*(W$4='WOC QUERY'!$A$7:$A$1000),'WOC QUERY'!$D$7:$BI$1000))/COUNT(IF(($A11='WOC QUERY'!$B$7:$B$1000)*(W$1='WOC QUERY'!$D$2:$BI$2)*(W$2='WOC QUERY'!$D$3:$BI$3)*(W$3='WOC QUERY'!$D$4:$BI$4)*(W$4='WOC QUERY'!$A$7:$A$1000),'WOC QUERY'!$D$7:$BI$1000))} -> 92.602223 | X11: {=SUM(IF(($A11='WOC QUERY'!$B$7:$B$1000)*(X$1='WOC QUERY'!$D$2:$BI$2)*(X$2='WOC QUERY'!$D$3:$BI$3)*(X$3='WOC QUERY'!$D$4:$BI$4)*(X$5='WOC QUERY'!$A$7:$A$1000)*(X$4='WOC QUERY'!$A$7:$A$1000)*(X$6='WOC QUERY'!$A$7:$A$1000),'WOC QUERY'!$D$7:$BI$1000))/COUNT(IF(($A11='WOC QUERY'!$B$7:$B$1000)*(X$1='WOC QUERY'!$D$2:$BI$2)*(X$2='WOC QUERY'!$D$3:$BI$3)*(X$3='WOC QUERY'!$D$4:$BI$4)*(X$5='WOC QUERY'!$A$7:$A$1000)*(X$4='WOC QUERY'!$A$7:$A$1000)*(X$6='WOC QUERY'!$A$7:$A$1000),'WOC QUERY'!$D$7:$BI$1000))} -> #DIV/0! | Y11: =SUM(V11:X11) -> #DIV/0! | AA11: {=SUM(IF(($A11='WOC QUERY'!$B$7:$B$1000)*(AA$1='WOC QUERY'!$D$2:$BI$2)*(AA$2='WOC QUERY'!$D$3:$BI$3)*(AA$3='WOC QUERY'!$D$4:$BI$4)*(AA$4='WOC QUERY'!$A$7:$A$1000),'WOC QUERY'!$D$7:$BI$1000))/COUNT(IF(($A11='WOC QUERY'!$B$7:$B$1000)*(AA$1='WOC QUERY'!$D$2:$BI$2)*(AA$2='WOC QUERY'!$D$3:$BI$3)*(AA$3='WOC QUERY'!$D$4:$BI$4)*(AA$4='WOC QUERY'!$A$7:$A$1000),'WOC QUERY'!$D$7:$BI$1000))} -> #DIV/0! | AB11: {=SUM(IF(($A11='WOC QUERY'!$B$7:$B$1000)*(AB$1='WOC QUERY'!$D$2:$BI$2)*(AB$2='WOC QUERY'!$D$3:$BI$3)*(AB$3='WOC QUERY'!$D$4:$BI$4)*(AB$4='WOC QUERY'!$A$7:$A$1000),'WOC QUERY'!$D$7:$BI$1000))/COUNT(IF(($A11='WOC QUERY'!$B$7:$B$1000)*(AB$1='WOC QUERY'!$D$2:$BI$2)*(AB$2='WOC QUERY'!$D$3:$BI$3)*(AB$3='WOC QUERY'!$D$4:$BI$4)*(AB$4='WOC QUERY'!$A$7:$A$1000),'WOC QUERY'!$D$7:$BI$1000))} -> #DIV/0! | AC11: {=SUM(IF(($A11='WOC QUERY'!$B$7:$B$1000)*(AC$1='WOC QUERY'!$D$2:$BI$2)*(AC$2='WOC QUERY'!$D$3:$BI$3)*(AC$3='WOC QUERY'!$D$4:$BI$4)*(AC$5='WOC QUERY'!$A$7:$A$1000)*(AC$4='WOC QUERY'!$A$7:$A$1000)*(AC$6='WOC QUERY'!$A$7:$A$1000),'WOC QUERY'!$D$7:$BI$1000))/COUNT(IF(($A11='WOC QUERY'!$B$7:$B$1000)*(AC$1='WOC QUERY'!$D$2:$BI$2)*(AC$2='WOC QUERY'!$D$3:$BI$3)*(AC$3='WOC QUERY'!$D$4:$BI$4)*(AC$5='WOC QUERY'!$A$7:$A$1000)*(AC$4='WOC QUERY'!$A$7:$A$1000)*(AC$6='WOC QUERY'!$A$7:$A$1000),'WOC QUERY'!$D$7:$BI$1000))} -> #DIV/0! | AD11: =SUM(AA11:AC11) -> #DIV/0!
A12: MRO Aircraft | B12: =A12 -> MRO Aircraft | D12: {=SUM(IF(($A12='WOC QUERY'!$B$7:$B$1000)*(D$1='WOC QUERY'!$D$2:$BI$2)*(D$2='WOC QUERY'!$D$3:$BI$3)*(D$3='WOC QUERY'!$D$4:$BI$4)*(D$4='WOC QUERY'!$A$7:$A$1000),'WOC QUERY'!$D$7:$BI$1000))/COUNT(IF(($A12='WOC QUERY'!$B$7:$B$1000)*(D$1='WOC QUERY'!$D$2:$BI$2)*(D$2='WOC QUERY'!$D$3:$BI$3)*(D$3='WOC QUERY'!$D$4:$BI$4)*(D$4='WOC QUERY'!$A$7:$A$1000),'WOC QUERY'!$D$7:$BI$1000))} -> 64.074292 | E12: {=SUM(IF(($A12='WOC QUERY'!$B$7:$B$1000)*(E$1='WOC QUERY'!$D$2:$BI$2)*(E$2='WOC QUERY'!$D$3:$BI$3)*(E$3='WOC QUERY'!$D$4:$BI$4)*(E$4='WOC QUERY'!$A$7:$A$1000),'WOC QUERY'!$D$7:$BI$1000))/COUNT(IF(($A12='WOC QUERY'!$B$7:$B$1000)*(E$1='WOC QUERY'!$D$2:$BI$2)*(E$2='WOC QUERY'!$D$3:$BI$3)*(E$3='WOC QUERY'!$D$4:$BI$4)*(E$4='WOC QUERY'!$A$7:$A$1000),'WOC QUERY'!$D$7:$BI$1000))} -> 76.725741 | F12: =SUM(G12:I12) -> #DIV/0! | G12: {=SUM(IF(($A12='WOC QUERY'!$B$7:$B$1000)*(G$1='WOC QUERY'!$D$2:$BI$2)*(G$2='WOC QUERY'!$D$3:$BI$3)*(G$3='WOC QUERY'!$D$4:$BI$4)*(G$4='WOC QUERY'!$A$7:$A$1000),'WOC QUERY'!$D$7:$BI$1000))/COUNT(IF(($A12='WOC QUERY'!$B$7:$B$1000)*(G$1='WOC QUERY'!$D$2:$BI$2)*(G$2='WOC QUERY'!$D$3:$BI$3)*(G$3='WOC QUERY'!$D$4:$BI$4)*(G$4='WOC QUERY'!$A$7:$A$1000),'WOC QUERY'!$D$7:$BI$1000))} -> -85.014013 | H12: {=SUM(IF(($A12='WOC QUERY'!$B$7:$B$1000)*(H$1='WOC QUERY'!$D$2:$BI$2)*(H$2='WOC QUERY'!$D$3:$BI$3)*(H$3='WOC QUERY'!$D$4:$BI$4)*(H$4='WOC QUERY'!$A$7:$A$1000),'WOC QUERY'!$D$7:$BI$1000))/COUNT(IF(($A12='WOC QUERY'!$B$7:$B$1000)*(H$1='WOC QUERY'!$D$2:$BI$2)*(H$2='WOC QUERY'!$D$3:$BI$3)*(H$3='WOC QUERY'!$D$4:$BI$4)*(H$4='WOC QUERY'!$A$7:$A$1000),'WOC QUERY'!$D$7:$BI$1000))} -> -1.6949002 | I12: {=SUM(IF(($A12='WOC QUERY'!$B$7:$B$1000)*(I$1='WOC QUERY'!$D$2:$BI$2)*(I$2='WOC QUERY'!$D$3:$BI$3)*(I$3='WOC QUERY'!$D$4:$BI$4)*(I$4='WOC QUERY'!$A$7:$A$1000),'WOC QUERY'!$D$7:$BI$1000))/COUNT(IF(($A12='WOC QUERY'!$B$7:$B$1000)*(I$1='WOC QUERY'!$D$2:$BI$2)*(I$2='WOC QUERY'!$D$3:$BI$3)*(I$3='WOC QUERY'!$D$4:$BI$4)*(I$4='WOC QUERY'!$A$7:$A$1000),'WOC QUERY'!$D$7:$BI$1000))} -> #DIV/0! | J12: =SUM(D12:F12) -> #DIV/0! | L12: {=SUM(IF(($A12='WOC QUERY'!$B$7:$B$1000)*(L$1='WOC QUERY'!$D$2:$BI$2)*(L$2='WOC QUERY'!$D$3:$BI$3)*(L$3='WOC QUERY'!$D$4:$BI$4)*(L$4='WOC QUERY'!$A$7:$A$1000),'WOC QUERY'!$D$7:$BI$1000))/COUNT(IF(($A12='WOC QUERY'!$B$7:$B$1000)*(L$1='WOC QUERY'!$D$2:$BI$2)*(L$2='WOC QUERY'!$D$3:$BI$3)*(L$3='WOC QUERY'!$D$4:$BI$4)*(L$4='WOC QUERY'!$A$7:$A$1000),'WOC QUERY'!$D$7:$BI$1000))} -> #DIV/0! | M12: {=SUM(IF(($A12='WOC QUERY'!$B$7:$B$1000)*(M$1='WOC QUERY'!$D$2:$BI$2)*(M$2='WOC QUERY'!$D$3:$BI$3)*(M$3='WOC QUERY'!$D$4:$BI$4)*(M$4='WOC QUERY'!$A$7:$A$1000),'WOC QUERY'!$D$7:$BI$1000))/COUNT(IF(($A12='WOC QUERY'!$B$7:$B$1000)*(M$1='WOC QUERY'!$D$2:$BI$2)*(M$2='WOC QUERY'!$D$3:$BI$3)*(M$3='WOC QUERY'!$D$4:$BI$4)*(M$4='WOC QUERY'!$A$7:$A$1000),'WOC QUERY'!$D$7:$BI$1000))} -> #DIV/0! | N12: {=SUM(IF(($A12='WOC QUERY'!$B$7:$B$1000)*(N$1='WOC QUERY'!$D$2:$BI$2)*(N$2='WOC QUERY'!$D$3:$BI$3)*(N$3='WOC QUERY'!$D$4:$BI$4)*(N$5='WOC QUERY'!$A$7:$A$1000)*(N$4='WOC QUERY'!$A$7:$A$1000)*(N$6='WOC QUERY'!$A$7:$A$1000),'WOC QUERY'!$D$7:$BI$1000))/COUNT(IF(($A12='WOC QUERY'!$B$7:$B$1000)*(N$1='WOC QUERY'!$D$2:$BI$2)*(N$2='WOC QUERY'!$D$3:$BI$3)*(N$3='WOC QUERY'!$D$4:$BI$4)*(N$5='WOC QUERY'!$A$7:$A$1000)*(N$4='WOC QUERY'!$A$7:$A$1000)*(N$6='WOC QUERY'!$A$7:$A$1000),'WOC QUERY'!$D$7:$BI$1000))} -> #DIV/0! | O12: =+SUM(L12:N12) -> #DIV/0! | Q12: {=SUM(IF(($A12='WOC QUERY'!$B$7:$B$1000)*(Q$1='WOC QUERY'!$D$2:$BI$2)*(Q$2='WOC QUERY'!$D$3:$BI$3)*(Q$3='WOC QUERY'!$D$4:$BI$4)*(Q$4='WOC QUERY'!$A$7:$A$1000),'WOC QUERY'!$D$7:$BI$1000))/COUNT(IF(($A12='WOC QUERY'!$B$7:$B$1000)*(Q$1='WOC QUERY'!$D$2:$BI$2)*(Q$2='WOC QUERY'!$D$3:$BI$3)*(Q$3='WOC QUERY'!$D$4:$BI$4)*(Q$4='WOC QUERY'!$A$7:$A$1000),'WOC QUERY'!$D$7:$BI$1000))} -> 55.732117 | R12: {=SUM(IF(($A12='WOC QUERY'!$B$7:$B$1000)*(R$1='WOC QUERY'!$D$2:$BI$2)*(R$2='WOC QUERY'!$D$3:$BI$3)*(R$3='WOC QUERY'!$D$4:$BI$4)*(R$4='WOC QUERY'!$A$7:$A$1000),'WOC QUERY'!$D$7:$BI$1000))/COUNT(IF(($A12='WOC QUERY'!$B$7:$B$1000)*(R$1='WOC QUERY'!$D$2:$BI$2)*(R$2='WOC QUERY'!$D$3:$BI$3)*(R$3='WOC QUERY'!$D$4:$BI$4)*(R$4='WOC QUERY'!$A$7:$A$1000),'WOC QUERY'!$D$7:$BI$1000))} -> 62.697558 | S12: {=SUM(IF(($A12='WOC QUERY'!$B$7:$B$1000)*(S$1='WOC QUERY'!$D$2:$BI$2)*(S$2='WOC QUERY'!$D$3:$BI$3)*(S$3='WOC QUERY'!$D$4:$BI$4)*(S$5='WOC QUERY'!$A$7:$A$1000)*(S$4='WOC QUERY'!$A$7:$A$1000)*(S$6='WOC QUERY'!$A$7:$A$1000),'WOC QUERY'!$D$7:$BI$1000))/COUNT(IF(($A12='WOC QUERY'!$B$7:$B$1000)*(S$1='WOC QUERY'!$D$2:$BI$2)*(S$2='WOC QUERY'!$D$3:$BI$3)*(S$3='WOC QUERY'!$D$4:$BI$4)*(S$5='WOC QUERY'!$A$7:$A$1000)*(S$4='WOC QUERY'!$A$7:$A$1000)*(S$6='WOC QUERY'!$A$7:$A$1000),'WOC QUERY'!$D$7:$BI$1000))} -> #DIV/0! | T12: =SUM(Q12:S12) -> #DIV/0! | V12: {=SUM(IF(($A12='WOC QUERY'!$B$7:$B$1000)*(V$1='WOC QUERY'!$D$2:$BI$2)*(V$2='WOC QUERY'!$D$3:$BI$3)*(V$3='WOC QUERY'!$D$4:$BI$4)*(V$4='WOC QUERY'!$A$7:$A$1000),'WOC QUERY'!$D$7:$BI$1000))/COUNT(IF(($A12='WOC QUERY'!$B$7:$B$1000)*(V$1='WOC QUERY'!$D$2:$BI$2)*(V$2='WOC QUERY'!$D$3:$BI$3)*(V$3='WOC QUERY'!$D$4:$BI$4)*(V$4='WOC QUERY'!$A$7:$A$1000),'WOC QUERY'!$D$7:$BI$1000))} -> 62.761449 | W12: {=SUM(IF(($A12='WOC QUERY'!$B$7:$B$1000)*(W$1='WOC QUERY'!$D$2:$BI$2)*(W$2='WOC QUERY'!$D$3:$BI$3)*(W$3='WOC QUERY'!$D$4:$BI$4)*(W$4='WOC QUERY'!$A$7:$A$1000),'WOC QUERY'!$D$7:$BI$1000))/COUNT(IF(($A12='WOC QUERY'!$B$7:$B$1000)*(W$1='WOC QUERY'!$D$2:$BI$2)*(W$2='WOC QUERY'!$D$3:$BI$3)*(W$3='WOC QUERY'!$D$4:$BI$4)*(W$4='WOC QUERY'!$A$7:$A$1000),'WOC QUERY'!$D$7:$BI$1000))} -> 59.72831 | X12: {=SUM(IF(($A12='WOC QUERY'!$B$7:$B$1000)*(X$1='WOC QUERY'!$D$2:$BI$2)*(X$2='WOC QUERY'!$D$3:$BI$3)*(X$3='WOC QUERY'!$D$4:$BI$4)*(X$5='WOC QUERY'!$A$7:$A$1000)*(X$4='WOC QUERY'!$A$7:$A$1000)*(X$6='WOC QUERY'!$A$7:$A$1000),'WOC QUERY'!$D$7:$BI$1000))/COUNT(IF(($A12='WOC QUERY'!$B$7:$B$1000)*(X$1='WOC QUERY'!$D$2:$BI$2)*(X$2='WOC QUERY'!$D$3:$BI$3)*(X$3='WOC QUERY'!$D$4:$BI$4)*(X$5='WOC QUERY'!$A$7:$A$1000)*(X$4='WOC QUERY'!$A$7:$A$1000)*(X$6='WOC QUERY'!$A$7:$A$1000),'WOC QUERY'!$D$7:$BI$1000))} -> #DIV/0! | Y12: =SUM(V12:X12) -> #DIV/0! | AA12: {=SUM(IF(($A12='WOC QUERY'!$B$7:$B$1000)*(AA$1='WOC QUERY'!$D$2:$BI$2)*(AA$2='WOC QUERY'!$D$3:$BI$3)*(AA$3='WOC QUERY'!$D$4:$BI$4)*(AA$4='WOC QUERY'!$A$7:$A$1000),'WOC QUERY'!$D$7:$BI$1000))/COUNT(IF(($A12='WOC QUERY'!$B$7:$B$1000)*(AA$1='WOC QUERY'!$D$2:$BI$2)*(AA$2='WOC QUERY'!$D$3:$BI$3)*(AA$3='WOC QUERY'!$D$4:$BI$4)*(AA$4='WOC QUERY'!$A$7:$A$1000),'WOC QUERY'!$D$7:$BI$1000))} -> #DIV/0! | AB12: {=SUM(IF(($A12='WOC QUERY'!$B$7:$B$1000)*(AB$1='WOC QUERY'!$D$2:$BI$2)*(AB$2='WOC QUERY'!$D$3:$BI$3)*(AB$3='WOC QUERY'!$D$4:$BI$4)*(AB$4='WOC QUERY'!$A$7:$A$1000),'WOC QUERY'!$D$7:$BI$1000))/COUNT(IF(($A12='WOC QUERY'!$B$7:$B$1000)*(AB$1='WOC QUERY'!$D$2:$BI$2)*(AB$2='WOC QUERY'!$D$3:$BI$3)*(AB$3='WOC QUERY'!$D$4:$BI$4)*(AB$4='WOC QUERY'!$A$7:$A$1000),'WOC QUERY'!$D$7:$BI$1000))} -> #DIV/0! | AC12: {=SUM(IF(($A12='WOC QUERY'!$B$7:$B$1000)*(AC$1='WOC QUERY'!$D$2:$BI$2)*(AC$2='WOC QUERY'!$D$3:$BI$3)*(AC$3='WOC QUERY'!$D$4:$BI$4)*(AC$5='WOC QUERY'!$A$7:$A$1000)*(AC$4='WOC QUERY'!$A$7:$A$1000)*(AC$6='WOC QUERY'!$A$7:$A$1000),'WOC QUERY'!$D$7:$BI$1000))/COUNT(IF(($A12='WOC QUERY'!$B$7:$B$1000)*(AC$1='WOC QUERY'!$D$2:$BI$2)*(AC$2='WOC QUERY'!$D$3:$BI$3)*(AC$3='WOC QUERY'!$D$4:$BI$4)*(AC$5='WOC QUERY'!$A$7:$A$1000)*(AC$4='WOC QUERY'!$A$7:$A$1000)*(AC$6='WOC QUERY'!$A$7:$A$1000),'WOC QUERY'!$D$7:$BI$1000))} -> #DIV/0! | AD12: =SUM(AA12:AC12) -> #DIV/0!
A13: Military Support Center France | B13: =A13 -> Military Support Center France | D13: {=SUM(IF(($A13='WOC QUERY'!$B$7:$B$1000)*(D$1='WOC QUERY'!$D$2:$BI$2)*(D$2='WOC QUERY'!$D$3:$BI$3)*(D$3='WOC QUERY'!$D$4:$BI$4)*(D$4='WOC QUERY'!$A$7:$A$1000),'WOC QUERY'!$D$7:$BI$1000))/COUNT(IF(($A13='WOC QUERY'!$B$7:$B$1000)*(D$1='WOC QUERY'!$D$2:$BI$2)*(D$2='WOC QUERY'!$D$3:$BI$3)*(D$3='WOC QUERY'!$D$4:$BI$4)*(D$4='WOC QUERY'!$A$7:$A$1000),'WOC QUERY'!$D$7:$BI$1000))} -> 69.250327 | E13: {=SUM(IF(($A13='WOC QUERY'!$B$7:$B$1000)*(E$1='WOC QUERY'!$D$2:$BI$2)*(E$2='WOC QUERY'!$D$3:$BI$3)*(E$3='WOC QUERY'!$D$4:$BI$4)*(E$4='WOC QUERY'!$A$7:$A$1000),'WOC QUERY'!$D$7:$BI$1000))/COUNT(IF(($A13='WOC QUERY'!$B$7:$B$1000)*(E$1='WOC QUERY'!$D$2:$BI$2)*(E$2='WOC QUERY'!$D$3:$BI$3)*(E$3='WOC QUERY'!$D$4:$BI$4)*(E$4='WOC QUERY'!$A$7:$A$1000),'WOC QUERY'!$D$7:$BI$1000))} -> 129.80458 | F13: =SUM(G13:I13) -> #DIV/0! | G13: {=SUM(IF(($A13='WOC QUERY'!$B$7:$B$1000)*(G$1='WOC QUERY'!$D$2:$BI$2)*(G$2='WOC QUERY'!$D$3:$BI$3)*(G$3='WOC QUERY'!$D$4:$BI$4)*(G$4='WOC QUERY'!$A$7:$A$1000),'WOC QUERY'!$D$7:$BI$1000))/COUNT(IF(($A13='WOC QUERY'!$B$7:$B$1000)*(G$1='WOC QUERY'!$D$2:$BI$2)*(G$2='WOC QUERY'!$D$3:$BI$3)*(G$3='WOC QUERY'!$D$4:$BI$4)*(G$4='WOC QUERY'!$A$7:$A$1000),'WOC QUERY'!$D$7:$BI$1000))} -> -81.220565 | H13: {=SUM(IF(($A13='WOC QUERY'!$B$7:$B$1000)*(H$1='WOC QUERY'!$D$2:$BI$2)*(H$2='WOC QUERY'!$D$3:$BI$3)*(H$3='WOC QUERY'!$D$4:$BI$4)*(H$4='WOC QUERY'!$A$7:$A$1000),'WOC QUERY'!$D$7:$BI$1000))/COUNT(IF(($A13='WOC QUERY'!$B$7:$B$1000)*(H$1='WOC QUERY'!$D$2:$BI$2)*(H$2='WOC QUERY'!$D$3:$BI$3)*(H$3='WOC QUERY'!$D$4:$BI$4)*(H$4='WOC QUERY'!$A$7:$A$1000),'WOC QUERY'!$D$7:$BI$1000))} -> -41.032986 | I13: {=SUM(IF(($A13='WOC QUERY'!$B$7:$B$1000)*(I$1='WOC QUERY'!$D$2:$BI$2)*(I$2='WOC QUERY'!$D$3:$BI$3)*(I$3='WOC QUERY'!$D$4:$BI$4)*(I$4='WOC QUERY'!$A$7:$A$1000),'WOC QUERY'!$D$7:$BI$1000))/COUNT(IF(($A13='WOC QUERY'!$B$7:$B$1000)*(I$1='WOC QUERY'!$D$2:$BI$2)*(I$2='WOC QUERY'!$D$3:$BI$3)*(I$3='WOC QUERY'!$D$4:$BI$4)*(I$4='WOC QUERY'!$A$7:$A$1000),'WOC QUERY'!$D$7:$BI$1000))} -> #DIV/0! | J13: =SUM(D13:F13) -> #DIV/0! | L13: {=SUM(IF(($A13='WOC QUERY'!$B$7:$B$1000)*(L$1='WOC QUERY'!$D$2:$BI$2)*(L$2='WOC QUERY'!$D$3:$BI$3)*(L$3='WOC QUERY'!$D$4:$BI$4)*(L$4='WOC QUERY'!$A$7:$A$1000),'WOC QUERY'!$D$7:$BI$1000))/COUNT(IF(($A13='WOC QUERY'!$B$7:$B$1000)*(L$1='WOC QUERY'!$D$2:$BI$2)*(L$2='WOC QUERY'!$D$3:$BI$3)*(L$3='WOC QUERY'!$D$4:$BI$4)*(L$4='WOC QUERY'!$A$7:$A$1000),'WOC QUERY'!$D$7:$BI$1000))} -> #DIV/0! | M13: {=SUM(IF(($A13='WOC QUERY'!$B$7:$B$1000)*(M$1='WOC QUERY'!$D$2:$BI$2)*(M$2='WOC QUERY'!$D$3:$BI$3)*(M$3='WOC QUERY'!$D$4:$BI$4)*(M$4='WOC QUERY'!$A$7:$A$1000),'WOC QUERY'!$D$7:$BI$1000))/COUNT(IF(($A13='WOC QUERY'!$B$7:$B$1000)*(M$1='WOC QUERY'!$D$2:$BI$2)*(M$2='WOC QUERY'!$D$3:$BI$3)*(M$3='WOC QUERY'!$D$4:$BI$4)*(M$4='WOC QUERY'!$A$7:$A$1000),'WOC QUERY'!$D$7:$BI$1000))} -> #DIV/0! | N13: {=SUM(IF(($A13='WOC QUERY'!$B$7:$B$1000)*(N$1='WOC QUERY'!$D$2:$BI$2)*(N$2='WOC QUERY'!$D$3:$BI$3)*(N$3='WOC QUERY'!$D$4:$BI$4)*(N$5='WOC QUERY'!$A$7:$A$1000)*(N$4='WOC QUERY'!$A$7:$A$1000)*(N$6='WOC QUERY'!$A$7:$A$1000),'WOC QUERY'!$D$7:$BI$1000))/COUNT(IF(($A13='WOC QUERY'!$B$7:$B$1000)*(N$1='WOC QUERY'!$D$2:$BI$2)*(N$2='WOC QUERY'!$D$3:$BI$3)*(N$3='WOC QUERY'!$D$4:$BI$4)*(N$5='WOC QUERY'!$A$7:$A$1000)*(N$4='WOC QUERY'!$A$7:$A$1000)*(N$6='WOC QUERY'!$A$7:$A$1000),'WOC QUERY'!$D$7:$BI$1000))} -> #DIV/0! | O13: =+SUM(L13:N13) -> #DIV/0! | Q13: {=SUM(IF(($A13='WOC QUERY'!$B$7:$B$1000)*(Q$1='WOC QUERY'!$D$2:$BI$2)*(Q$2='WOC QUERY'!$D$3:$BI$3)*(Q$3='WOC QUERY'!$D$4:$BI$4)*(Q$4='WOC QUERY'!$A$7:$A$1000),'WOC QUERY'!$D$7:$BI$1000))/COUNT(IF(($A13='WOC QUERY'!$B$7:$B$1000)*(Q$1='WOC QUERY'!$D$2:$BI$2)*(Q$2='WOC QUERY'!$D$3:$BI$3)*(Q$3='WOC QUERY'!$D$4:$BI$4)*(Q$4='WOC QUERY'!$A$7:$A$1000),'WOC QUERY'!$D$7:$BI$1000))} -> 54.568327 | R13: {=SUM(IF(($A13='WOC QUERY'!$B$7:$B$1000)*(R$1='WOC QUERY'!$D$2:$BI$2)*(R$2='WOC QUERY'!$D$3:$BI$3)*(R$3='WOC QUERY'!$D$4:$BI$4)*(R$4='WOC QUERY'!$A$7:$A$1000),'WOC QUERY'!$D$7:$BI$1000))/COUNT(IF(($A13='WOC QUERY'!$B$7:$B$1000)*(R$1='WOC QUERY'!$D$2:$BI$2)*(R$2='WOC QUERY'!$D$3:$BI$3)*(R$3='WOC QUERY'!$D$4:$BI$4)*(R$4='WOC QUERY'!$A$7:$A$1000),'WOC QUERY'!$D$7:$BI$1000))} -> 122.54942 | S13: {=SUM(IF(($A13='WOC QUERY'!$B$7:$B$1000)*(S$1='WOC QUERY'!$D$2:$BI$2)*(S$2='WOC QUERY'!$D$3:$BI$3)*(S$3='WOC QUERY'!$D$4:$BI$4)*(S$5='WOC QUERY'!$A$7:$A$1000)*(S$4='WOC QUERY'!$A$7:$A$1000)*(S$6='WOC QUERY'!$A$7:$A$1000),'WOC QUERY'!$D$7:$BI$1000))/COUNT(IF(($A13='WOC QUERY'!$B$7:$B$1000)*(S$1='WOC QUERY'!$D$2:$BI$2)*(S$2='WOC QUERY'!$D$3:$BI$3)*(S$3='WOC QUERY'!$D$4:$BI$4)*(S$5='WOC QUERY'!$A$7:$A$1000)*(S$4='WOC QUERY'!$A$7:$A$1000)*(S$6='WOC QUERY'!$A$7:$A$1000),'WOC QUERY'!$D$7:$BI$1000))} -> #DIV/0! | T13: =SUM(Q13:S13) -> #DIV/0! | V13: {=SUM(IF(($A13='WOC QUERY'!$B$7:$B$1000)*(V$1='WOC QUERY'!$D$2:$BI$2)*(V$2='WOC QUERY'!$D$3:$BI$3)*(V$3='WOC QUERY'!$D$4:$BI$4)*(V$4='WOC QUERY'!$A$7:$A$1000),'WOC QUERY'!$D$7:$BI$1000))/COUNT(IF(($A13='WOC QUERY'!$B$7:$B$1000)*(V$1='WOC QUERY'!$D$2:$BI$2)*(V$2='WOC QUERY'!$D$3:$BI$3)*(V$3='WOC QUERY'!$D$4:$BI$4)*(V$4='WOC QUERY'!$A$7:$A$1000),'WOC QUERY'!$D$7:$BI$1000))} -> 64.468327 | W13: {=SUM(IF(($A13='WOC QUERY'!$B$7:$B$1000)*(W$1='WOC QUERY'!$D$2:$BI$2)*(W$2='WOC QUERY'!$D$3:$BI$3)*(W$3='WOC QUERY'!$D$4:$BI$4)*(W$4='WOC QUERY'!$A$7:$A$1000),'WOC QUERY'!$D$7:$BI$1000))/COUNT(IF(($A13='WOC QUERY'!$B$7:$B$1000)*(W$1='WOC QUERY'!$D$2:$BI$2)*(W$2='WOC QUERY'!$D$3:$BI$3)*(W$3='WOC QUERY'!$D$4:$BI$4)*(W$4='WOC QUERY'!$A$7:$A$1000),'WOC QUERY'!$D$7:$BI$1000))} -> 115.54942 | X13: {=SUM(IF(($A13='WOC QUERY'!$B$7:$B$1000)*(X$1='WOC QUERY'!$D$2:$BI$2)*(X$2='WOC QUERY'!$D$3:$BI$3)*(X$3='WOC QUERY'!$D$4:$BI$4)*(X$5='WOC QUERY'!$A$7:$A$1000)*(X$4='WOC QUERY'!$A$7:$A$1000)*(X$6='WOC QUERY'!$A$7:$A$1000),'WOC QUERY'!$D$7:$BI$1000))/COUNT(IF(($A13='WOC QUERY'!$B$7:$B$1000)*(X$1='WOC QUERY'!$D$2:$BI$2)*(X$2='WOC QUERY'!$D$3:$BI$3)*(X$3='WOC QUERY'!$D$4:$BI$4)*(X$5='WOC QUERY'!$A$7:$A$1000)*(X$4='WOC QUERY'!$A$7:$A$1000)*(X$6='WOC QUERY'!$A$7:$A$1000),'WOC QUERY'!$D$7:$BI$1000))} -> #DIV/0! | Y13: =SUM(V13:X13) -> #DIV/0! | AA13: {=SUM(IF(($A13='WOC QUERY'!$B$7:$B$1000)*(AA$1='WOC QUERY'!$D$2:$BI$2)*(AA$2='WOC QUERY'!$D$3:$BI$3)*(AA$3='WOC QUERY'!$D$4:$BI$4)*(AA$4='WOC QUERY'!$A$7:$A$1000),'WOC QUERY'!$D$7:$BI$1000))/COUNT(IF(($A13='WOC QUERY'!$B$7:$B$1000)*(AA$1='WOC QUERY'!$D$2:$BI$2)*(AA$2='WOC QUERY'!$D$3:$BI$3)*(AA$3='WOC QUERY'!$D$4:$BI$4)*(AA$4='WOC QUERY'!$A$7:$A$1000),'WOC QUERY'!$D$7:$BI$1000))} -> #DIV/0! | AB13: {=SUM(IF(($A13='WOC QUERY'!$B$7:$B$1000)*(AB$1='WOC QUERY'!$D$2:$BI$2)*(AB$2='WOC QUERY'!$D$3:$BI$3)*(AB$3='WOC QUERY'!$D$4:$BI$4)*(AB$4='WOC QUERY'!$A$7:$A$1000),'WOC QUERY'!$D$7:$BI$1000))/COUNT(IF(($A13='WOC QUERY'!$B$7:$B$1000)*(AB$1='WOC QUERY'!$D$2:$BI$2)*(AB$2='WOC QUERY'!$D$3:$BI$3)*(AB$3='WOC QUERY'!$D$4:$BI$4)*(AB$4='WOC QUERY'!$A$7:$A$1000),'WOC QUERY'!$D$7:$BI$1000))} -> #DIV/0! | AC13: {=SUM(IF(($A13='WOC QUERY'!$B$7:$B$1000)*(AC$1='WOC QUERY'!$D$2:$BI$2)*(AC$2='WOC QUERY'!$D$3:$BI$3)*(AC$3='WOC QUERY'!$D$4:$BI$4)*(AC$5='WOC QUERY'!$A$7:$A$1000)*(AC$4='WOC QUERY'!$A$7:$A$1000)*(AC$6='WOC QUERY'!$A$7:$A$1000),'WOC QUERY'!$D$7:$BI$1000))/COUNT(IF(($A13='WOC QUERY'!$B$7:$B$1000)*(AC$1='WOC QUERY'!$D$2:$BI$2)*(AC$2='WOC QUERY'!$D$3:$BI$3)*(AC$3='WOC QUERY'!$D$4:$BI$4)*(AC$5='WOC QUERY'!$A$7:$A$1000)*(AC$4='WOC QUERY'!$A$7:$A$1000)*(AC$6='WOC QUERY'!$A$7:$A$1000),'WOC QUERY'!$D$7:$BI$1000))} -> #DIV/0! | AD13: =SUM(AA13:AC13) -> #DIV/0!
A14: Military Support Center Germany | B14: =A14 -> Military Support Center Germany | D14: {=SUM(IF(($A14='WOC QUERY'!$B$7:$B$1000)*(D$1='WOC QUERY'!$D$2:$BI$2)*(D$2='WOC QUERY'!$D$3:$BI$3)*(D$3='WOC QUERY'!$D$4:$BI$4)*(D$4='WOC QUERY'!$A$7:$A$1000),'WOC QUERY'!$D$7:$BI$1000))/COUNT(IF(($A14='WOC QUERY'!$B$7:$B$1000)*(D$1='WOC QUERY'!$D$2:$BI$2)*(D$2='WOC QUERY'!$D$3:$BI$3)*(D$3='WOC QUERY'!$D$4:$BI$4)*(D$4='WOC QUERY'!$A$7:$A$1000),'WOC QUERY'!$D$7:$BI$1000))} -> 45.443727 | E14: {=SUM(IF(($A14='WOC QUERY'!$B$7:$B$1000)*(E$1='WOC QUERY'!$D$2:$BI$2)*(E$2='WOC QUERY'!$D$3:$BI$3)*(E$3='WOC QUERY'!$D$4:$BI$4)*(E$4='WOC QUERY'!$A$7:$A$1000),'WOC QUERY'!$D$7:$BI$1000))/COUNT(IF(($A14='WOC QUERY'!$B$7:$B$1000)*(E$1='WOC QUERY'!$D$2:$BI$2)*(E$2='WOC QUERY'!$D$3:$BI$3)*(E$3='WOC QUERY'!$D$4:$BI$4)*(E$4='WOC QUERY'!$A$7:$A$1000),'WOC QUERY'!$D$7:$BI$1000))} -> 33.47943 | F14: =SUM(G14:I14) -> -32.555973 | G14: {=SUM(IF(($A14='WOC QUERY'!$B$7:$B$1000)*(G$1='WOC QUERY'!$D$2:$BI$2)*(G$2='WOC QUERY'!$D$3:$BI$3)*(G$3='WOC QUERY'!$D$4:$BI$4)*(G$4='WOC QUERY'!$A$7:$A$1000),'WOC QUERY'!$D$7:$BI$1000))/COUNT(IF(($A14='WOC QUERY'!$B$7:$B$1000)*(G$1='WOC QUERY'!$D$2:$BI$2)*(G$2='WOC QUERY'!$D$3:$BI$3)*(G$3='WOC QUERY'!$D$4:$BI$4)*(G$4='WOC QUERY'!$A$7:$A$1000),'WOC QUERY'!$D$7:$BI$1000))} -> -33.532724 | H14: {=SUM(IF(($A14='WOC QUERY'!$B$7:$B$1000)*(H$1='WOC QUERY'!$D$2:$BI$2)*(H$2='WOC QUERY'!$D$3:$BI$3)*(H$3='WOC QUERY'!$D$4:$BI$4)*(H$4='WOC QUERY'!$A$7:$A$1000),'WOC QUERY'!$D$7:$BI$1000))/COUNT(IF(($A14='WOC QUERY'!$B$7:$B$1000)*(H$1='WOC QUERY'!$D$2:$BI$2)*(H$2='WOC QUERY'!$D$3:$BI$3)*(H$3='WOC QUERY'!$D$4:$BI$4)*(H$4='WOC QUERY'!$A$7:$A$1000),'WOC QUERY'!$D$7:$BI$1000))} -> 0 | I14: {=SUM(IF(($A14='WOC QUERY'!$B$7:$B$1000)*(I$1='WOC QUERY'!$D$2:$BI$2)*(I$2='WOC QUERY'!$D$3:$BI$3)*(I$3='WOC QUERY'!$D$4:$BI$4)*(I$4='WOC QUERY'!$A$7:$A$1000),'WOC QUERY'!$D$7:$BI$1000))/COUNT(IF(($A14='WOC QUERY'!$B$7:$B$1000)*(I$1='WOC QUERY'!$D$2:$BI$2)*(I$2='WOC QUERY'!$D$3:$BI$3)*(I$3='WOC QUERY'!$D$4:$BI$4)*(I$4='WOC QUERY'!$A$7:$A$1000),'WOC QUERY'!$D$7:$BI$1000))} -> 0.97675116 | J14: =SUM(D14:F14) -> 46.367184 | L14: {=SUM(IF(($A14='WOC QUERY'!$B$7:$B$1000)*(L$1='WOC QUERY'!$D$2:$BI$2)*(L$2='WOC QUERY'!$D$3:$BI$3)*(L$3='WOC QUERY'!$D$4:$BI$4)*(L$4='WOC QUERY'!$A$7:$A$1000),'WOC QUERY'!$D$7:$BI$1000))/COUNT(IF(($A14='WOC QUERY'!$B$7:$B$1000)*(L$1='WOC QUERY'!$D$2:$BI$2)*(L$2='WOC QUERY'!$D$3:$BI$3)*(L$3='WOC QUERY'!$D$4:$BI$4)*(L$4='WOC QUERY'!$A$7:$A$1000),'WOC QUERY'!$D$7:$BI$1000))} -> #DIV/0! | M14: {=SUM(IF(($A14='WOC QUERY'!$B$7:$B$1000)*(M$1='WOC QUERY'!$D$2:$BI$2)*(M$2='WOC QUERY'!$D$3:$BI$3)*(M$3='WOC QUERY'!$D$4:$BI$4)*(M$4='WOC QUERY'!$A$7:$A$1000),'WOC QUERY'!$D$7:$BI$1000))/COUNT(IF(($A14='WOC QUERY'!$B$7:$B$1000)*(M$1='WOC QUERY'!$D$2:$BI$2)*(M$2='WOC QUERY'!$D$3:$BI$3)*(M$3='WOC QUERY'!$D$4:$BI$4)*(M$4='WOC QUERY'!$A$7:$A$1000),'WOC QUERY'!$D$7:$BI$1000))} -> #DIV/0! | N14: {=SUM(IF(($A14='WOC QUERY'!$B$7:$B$1000)*(N$1='WOC QUERY'!$D$2:$BI$2)*(N$2='WOC QUERY'!$D$3:$BI$3)*(N$3='WOC QUERY'!$D$4:$BI$4)*(N$5='WOC QUERY'!$A$7:$A$1000)*(N$4='WOC QUERY'!$A$7:$A$1000)*(N$6='WOC QUERY'!$A$7:$A$1000),'WOC QUERY'!$D$7:$BI$1000))/COUNT(IF(($A14='WOC QUERY'!$B$7:$B$1000)*(N$1='WOC QUERY'!$D$2:$BI$2)*(N$2='WOC QUERY'!$D$3:$BI$3)*(N$3='WOC QUERY'!$D$4:$BI$4)*(N$5='WOC QUERY'!$A$7:$A$1000)*(N$4='WOC QUERY'!$A$7:$A$1000)*(N$6='WOC QUERY'!$A$7:$A$1000),'WOC QUERY'!$D$7:$BI$1000))} -> #DIV/0! | O14: =+SUM(L14:N14) -> #DIV/0! | Q14: {=SUM(IF(($A14='WOC QUERY'!$B$7:$B$1000)*(Q$1='WOC QUERY'!$D$2:$BI$2)*(Q$2='WOC QUERY'!$D$3:$BI$3)*(Q$3='WOC QUERY'!$D$4:$BI$4)*(Q$4='WOC QUERY'!$A$7:$A$1000),'WOC QUERY'!$D$7:$BI$1000))/COUNT(IF(($A14='WOC QUERY'!$B$7:$B$1000)*(Q$1='WOC QUERY'!$D$2:$BI$2)*(Q$2='WOC QUERY'!$D$3:$BI$3)*(Q$3='WOC QUERY'!$D$4:$BI$4)*(Q$4='WOC QUERY'!$A$7:$A$1000),'WOC QUERY'!$D$7:$BI$1000))} -> 50.42705 | R14: {=SUM(IF(($A14='WOC QUERY'!$B$7:$B$1000)*(R$1='WOC QUERY'!$D$2:$BI$2)*(R$2='WOC QUERY'!$D$3:$BI$3)*(R$3='WOC QUERY'!$D$4:$BI$4)*(R$4='WOC QUERY'!$A$7:$A$1000),'WOC QUERY'!$D$7:$BI$1000))/COUNT(IF(($A14='WOC QUERY'!$B$7:$B$1000)*(R$1='WOC QUERY'!$D$2:$BI$2)*(R$2='WOC QUERY'!$D$3:$BI$3)*(R$3='WOC QUERY'!$D$4:$BI$4)*(R$4='WOC QUERY'!$A$7:$A$1000),'WOC QUERY'!$D$7:$BI$1000))} -> 34.235989 | S14: {=SUM(IF(($A14='WOC QUERY'!$B$7:$B$1000)*(S$1='WOC QUERY'!$D$2:$BI$2)*(S$2='WOC QUERY'!$D$3:$BI$3)*(S$3='WOC QUERY'!$D$4:$BI$4)*(S$5='WOC QUERY'!$A$7:$A$1000)*(S$4='WOC QUERY'!$A$7:$A$1000)*(S$6='WOC QUERY'!$A$7:$A$1000),'WOC QUERY'!$D$7:$BI$1000))/COUNT(IF(($A14='WOC QUERY'!$B$7:$B$1000)*(S$1='WOC QUERY'!$D$2:$BI$2)*(S$2='WOC QUERY'!$D$3:$BI$3)*(S$3='WOC QUERY'!$D$4:$BI$4)*(S$5='WOC QUERY'!$A$7:$A$1000)*(S$4='WOC QUERY'!$A$7:$A$1000)*(S$6='WOC QUERY'!$A$7:$A$1000),'WOC QUERY'!$D$7:$BI$1000))} -> #DIV/0! | T14: =SUM(Q14:S14) -> #DIV/0! | V14: {=SUM(IF(($A14='WOC QUERY'!$B$7:$B$1000)*(V$1='WOC QUERY'!$D$2:$BI$2)*(V$2='WOC QUERY'!$D$3:$BI$3)*(V$3='WOC QUERY'!$D$4:$BI$4)*(V$4='WOC QUERY'!$A$7:$A$1000),'WOC QUERY'!$D$7:$BI$1000))/COUNT(IF(($A14='WOC QUERY'!$B$7:$B$1000)*(V$1='WOC QUERY'!$D$2:$BI$2)*(V$2='WOC QUERY'!$D$3:$BI$3)*(V$3='WOC QUERY'!$D$4:$BI$4)*(V$4='WOC QUERY'!$A$7:$A$1000),'WOC QUERY'!$D$7:$BI$1000))} -> 50.742934 | W14: {=SUM(IF(($A14='WOC QUERY'!$B$7:$B$1000)*(W$1='WOC QUERY'!$D$2:$BI$2)*(W$2='WOC QUERY'!$D$3:$BI$3)*(W$3='WOC QUERY'!$D$4:$BI$4)*(W$4='WOC QUERY'!$A$7:$A$1000),'WOC QUERY'!$D$7:$BI$1000))/COUNT(IF(($A14='WOC QUERY'!$B$7:$B$1000)*(W$1='WOC QUERY'!$D$2:$BI$2)*(W$2='WOC QUERY'!$D$3:$BI$3)*(W$3='WOC QUERY'!$D$4:$BI$4)*(W$4='WOC QUERY'!$A$7:$A$1000),'WOC QUERY'!$D$7:$BI$1000))} -> 34.429893 | X14: {=SUM(IF(($A14='WOC QUERY'!$B$7:$B$1000)*(X$1='WOC QUERY'!$D$2:$BI$2)*(X$2='WOC QUERY'!$D$3:$BI$3)*(X$3='WOC QUERY'!$D$4:$BI$4)*(X$5='WOC QUERY'!$A$7:$A$1000)*(X$4='WOC QUERY'!$A$7:$A$1000)*(X$6='WOC QUERY'!$A$7:$A$1000),'WOC QUERY'!$D$7:$BI$1000))/COUNT(IF(($A14='WOC QUERY'!$B$7:$B$1000)*(X$1='WOC QUERY'!$D$2:$BI$2)*(X$2='WOC QUERY'!$D$3:$BI$3)*(X$3='WOC QUERY'!$D$4:$BI$4)*(X$5='WOC QUERY'!$A$7:$A$1000)*(X$4='WOC QUERY'!$A$7:$A$1000)*(X$6='WOC QUERY'!$A$7:$A$1000),'WOC QUERY'!$D$7:$BI$1000))} -> #DIV/0! | Y14: =SUM(V14:X14) -> #DIV/0! | AA14: {=SUM(IF(($A14='WOC QUERY'!$B$7:$B$1000)*(AA$1='WOC QUERY'!$D$2:$BI$2)*(AA$2='WOC QUERY'!$D$3:$BI$3)*(AA$3='WOC QUERY'!$D$4:$BI$4)*(AA$4='WOC QUERY'!$A$7:$A$1000),'WOC QUERY'!$D$7:$BI$1000))/COUNT(IF(($A14='WOC QUERY'!$B$7:$B$1000)*(AA$1='WOC QUERY'!$D$2:$BI$2)*(AA$2='WOC QUERY'!$D$3:$BI$3)*(AA$3='WOC QUERY'!$D$4:$BI$4)*(AA$4='WOC QUERY'!$A$7:$A$1000),'WOC QUERY'!$D$7:$BI$1000))} -> #DIV/0! | AB14: {=SUM(IF(($A14='WOC QUERY'!$B$7:$B$1000)*(AB$1='WOC QUERY'!$D$2:$BI$2)*(AB$2='WOC QUERY'!$D$3:$BI$3)*(AB$3='WOC QUERY'!$D$4:$BI$4)*(AB$4='WOC QUERY'!$A$7:$A$1000),'WOC QUERY'!$D$7:$BI$1000))/COUNT(IF(($A14='WOC QUERY'!$B$7:$B$1000)*(AB$1='WOC QUERY'!$D$2:$BI$2)*(AB$2='WOC QUERY'!$D$3:$BI$3)*(AB$3='WOC QUERY'!$D$4:$BI$4)*(AB$4='WOC QUERY'!$A$7:$A$1000),'WOC QUERY'!$D$7:$BI$1000))} -> #DIV/0! | AC14: {=SUM(IF(($A14='WOC QUERY'!$B$7:$B$1000)*(AC$1='WOC QUERY'!$D$2:$BI$2)*(AC$2='WOC QUERY'!$D$3:$BI$3)*(AC$3='WOC QUERY'!$D$4:$BI$4)*(AC$5='WOC QUERY'!$A$7:$A$1000)*(AC$4='WOC QUERY'!$A$7:$A$1000)*(AC$6='WOC QUERY'!$A$7:$A$1000),'WOC QUERY'!$D$7:$BI$1000))/COUNT(IF(($A14='WOC QUERY'!$B$7:$B$1000)*(AC$1='WOC QUERY'!$D$2:$BI$2)*(AC$2='WOC QUERY'!$D$3:$BI$3)*(AC$3='WOC QUERY'!$D$4:$BI$4)*(AC$5='WOC QUERY'!$A$7:$A$1000)*(AC$4='WOC QUERY'!$A$7:$A$1000)*(AC$6='WOC QUERY'!$A$7:$A$1000),'WOC QUERY'!$D$7:$BI$1000))} -> #DIV/0! | AD14: =SUM(AA14:AC14) -> #DIV/0!
A15: Fix wings | B15: =A15 -> Fix wings | D15: {=SUM(IF(($A15='WOC QUERY'!$B$7:$B$1000)*(D$1='WOC QUERY'!$D$2:$BI$2)*(D$2='WOC QUERY'!$D$3:$BI$3)*(D$3='WOC QUERY'!$D$4:$BI$4)*(D$4='WOC QUERY'!$A$7:$A$1000),'WOC QUERY'!$D$7:$BI$1000))/COUNT(IF(($A15='WOC QUERY'!$B$7:$B$1000)*(D$1='WOC QUERY'!$D$2:$BI$2)*(D$2='WOC QUERY'!$D$3:$BI$3)*(D$3='WOC QUERY'!$D$4:$BI$4)*(D$4='WOC QUERY'!$A$7:$A$1000),'WOC QUERY'!$D$7:$BI$1000))} -> 5.7063764 | E15: {=SUM(IF(($A15='WOC QUERY'!$B$7:$B$1000)*(E$1='WOC QUERY'!$D$2:$BI$2)*(E$2='WOC QUERY'!$D$3:$BI$3)*(E$3='WOC QUERY'!$D$4:$BI$4)*(E$4='WOC QUERY'!$A$7:$A$1000),'WOC QUERY'!$D$7:$BI$1000))/COUNT(IF(($A15='WOC QUERY'!$B$7:$B$1000)*(E$1='WOC QUERY'!$D$2:$BI$2)*(E$2='WOC QUERY'!$D$3:$BI$3)*(E$3='WOC QUERY'!$D$4:$BI$4)*(E$4='WOC QUERY'!$A$7:$A$1000),'WOC QUERY'!$D$7:$BI$1000))} -> 10.186485 | F15: =SUM(G15:I15) -> #DIV/0! | G15: {=SUM(IF(($A15='WOC QUERY'!$B$7:$B$1000)*(G$1='WOC QUERY'!$D$2:$BI$2)*(G$2='WOC QUERY'!$D$3:$BI$3)*(G$3='WOC QUERY'!$D$4:$BI$4)*(G$4='WOC QUERY'!$A$7:$A$1000),'WOC QUERY'!$D$7:$BI$1000))/COUNT(IF(($A15='WOC QUERY'!$B$7:$B$1000)*(G$1='WOC QUERY'!$D$2:$BI$2)*(G$2='WOC QUERY'!$D$3:$BI$3)*(G$3='WOC QUERY'!$D$4:$BI$4)*(G$4='WOC QUERY'!$A$7:$A$1000),'WOC QUERY'!$D$7:$BI$1000))} -> #DIV/0! | H15: {=SUM(IF(($A15='WOC QUERY'!$B$7:$B$1000)*(H$1='WOC QUERY'!$D$2:$BI$2)*(H$2='WOC QUERY'!$D$3:$BI$3)*(H$3='WOC QUERY'!$D$4:$BI$4)*(H$4='WOC QUERY'!$A$7:$A$1000),'WOC QUERY'!$D$7:$BI$1000))/COUNT(IF(($A15='WOC QUERY'!$B$7:$B$1000)*(H$1='WOC QUERY'!$D$2:$BI$2)*(H$2='WOC QUERY'!$D$3:$BI$3)*(H$3='WOC QUERY'!$D$4:$BI$4)*(H$4='WOC QUERY'!$A$7:$A$1000),'WOC QUERY'!$D$7:$BI$1000))} -> -2.7795656 | I15: {=SUM(IF(($A15='WOC QUERY'!$B$7:$B$1000)*(I$1='WOC QUERY'!$D$2:$BI$2)*(I$2='WOC QUERY'!$D$3:$BI$3)*(I$3='WOC QUERY'!$D$4:$BI$4)*(I$4='WOC QUERY'!$A$7:$A$1000),'WOC QUERY'!$D$7:$BI$1000))/COUNT(IF(($A15='WOC QUERY'!$B$7:$B$1000)*(I$1='WOC QUERY'!$D$2:$BI$2)*(I$2='WOC QUERY'!$D$3:$BI$3)*(I$3='WOC QUERY'!$D$4:$BI$4)*(I$4='WOC QUERY'!$A$7:$A$1000),'WOC QUERY'!$D$7:$BI$1000))} -> #DIV/0! | J15: =SUM(D15:F15) -> #DIV/0! | L15: {=SUM(IF(($A15='WOC QUERY'!$B$7:$B$1000)*(L$1='WOC QUERY'!$D$2:$BI$2)*(L$2='WOC QUERY'!$D$3:$BI$3)*(L$3='WOC QUERY'!$D$4:$BI$4)*(L$4='WOC QUERY'!$A$7:$A$1000),'WOC QUERY'!$D$7:$BI$1000))/COUNT(IF(($A15='WOC QUERY'!$B$7:$B$1000)*(L$1='WOC QUERY'!$D$2:$BI$2)*(L$2='WOC QUERY'!$D$3:$BI$3)*(L$3='WOC QUERY'!$D$4:$BI$4)*(L$4='WOC QUERY'!$A$7:$A$1000),'WOC QUERY'!$D$7:$BI$1000))} -> #DIV/0! | M15: {=SUM(IF(($A15='WOC QUERY'!$B$7:$B$1000)*(M$1='WOC QUERY'!$D$2:$BI$2)*(M$2='WOC QUERY'!$D$3:$BI$3)*(M$3='WOC QUERY'!$D$4:$BI$4)*(M$4='WOC QUERY'!$A$7:$A$1000),'WOC QUERY'!$D$7:$BI$1000))/COUNT(IF(($A15='WOC QUERY'!$B$7:$B$1000)*(M$1='WOC QUERY'!$D$2:$BI$2)*(M$2='WOC QUERY'!$D$3:$BI$3)*(M$3='WOC QUERY'!$D$4:$BI$4)*(M$4='WOC QUERY'!$A$7:$A$1000),'WOC QUERY'!$D$7:$BI$1000))} -> #DIV/0! | N15: {=SUM(IF(($A15='WOC QUERY'!$B$7:$B$1000)*(N$1='WOC QUERY'!$D$2:$BI$2)*(N$2='WOC QUERY'!$D$3:$BI$3)*(N$3='WOC QUERY'!$D$4:$BI$4)*(N$5='WOC QUERY'!$A$7:$A$1000)*(N$4='WOC QUERY'!$A$7:$A$1000)*(N$6='WOC QUERY'!$A$7:$A$1000),'WOC QUERY'!$D$7:$BI$1000))/COUNT(IF(($A15='WOC QUERY'!$B$7:$B$1000)*(N$1='WOC QUERY'!$D$2:$BI$2)*(N$2='WOC QUERY'!$D$3:$BI$3)*(N$3='WOC QUERY'!$D$4:$BI$4)*(N$5='WOC QUERY'!$A$7:$A$1000)*(N$4='WOC QUERY'!$A$7:$A$1000)*(N$6='WOC QUERY'!$A$7:$A$1000),'WOC QUERY'!$D$7:$BI$1000))} -> #DIV/0! | O15: =+SUM(L15:N15) -> #DIV/0! | Q15: {=SUM(IF(($A15='WOC QUERY'!$B$7:$B$1000)*(Q$1='WOC QUERY'!$D$2:$BI$2)*(Q$2='WOC QUERY'!$D$3:$BI$3)*(Q$3='WOC QUERY'!$D$4:$BI$4)*(Q$4='WOC QUERY'!$A$7:$A$1000),'WOC QUERY'!$D$7:$BI$1000))/COUNT(IF(($A15='WOC QUERY'!$B$7:$B$1000)*(Q$1='WOC QUERY'!$D$2:$BI$2)*(Q$2='WOC QUERY'!$D$3:$BI$3)*(Q$3='WOC QUERY'!$D$4:$BI$4)*(Q$4='WOC QUERY'!$A$7:$A$1000),'WOC QUERY'!$D$7:$BI$1000))} -> 4.8916329 | R15: {=SUM(IF(($A15='WOC QUERY'!$B$7:$B$1000)*(R$1='WOC QUERY'!$D$2:$BI$2)*(R$2='WOC QUERY'!$D$3:$BI$3)*(R$3='WOC QUERY'!$D$4:$BI$4)*(R$4='WOC QUERY'!$A$7:$A$1000),'WOC QUERY'!$D$7:$BI$1000))/COUNT(IF(($A15='WOC QUERY'!$B$7:$B$1000)*(R$1='WOC QUERY'!$D$2:$BI$2)*(R$2='WOC QUERY'!$D$3:$BI$3)*(R$3='WOC QUERY'!$D$4:$BI$4)*(R$4='WOC QUERY'!$A$7:$A$1000),'WOC QUERY'!$D$7:$BI$1000))} -> 5.8174808 | S15: {=SUM(IF(($A15='WOC QUERY'!$B$7:$B$1000)*(S$1='WOC QUERY'!$D$2:$BI$2)*(S$2='WOC QUERY'!$D$3:$BI$3)*(S$3='WOC QUERY'!$D$4:$BI$4)*(S$5='WOC QUERY'!$A$7:$A$1000)*(S$4='WOC QUERY'!$A$7:$A$1000)*(S$6='WOC QUERY'!$A$7:$A$1000),'WOC QUERY'!$D$7:$BI$1000))/COUNT(IF(($A15='WOC QUERY'!$B$7:$B$1000)*(S$1='WOC QUERY'!$D$2:$BI$2)*(S$2='WOC QUERY'!$D$3:$BI$3)*(S$3='WOC QUERY'!$D$4:$BI$4)*(S$5='WOC QUERY'!$A$7:$A$1000)*(S$4='WOC QUERY'!$A$7:$A$1000)*(S$6='WOC QUERY'!$A$7:$A$1000),'WOC QUERY'!$D$7:$BI$1000))} -> #DIV/0! | T15: =SUM(Q15:S15) -> #DIV/0! | V15: {=SUM(IF(($A15='WOC QUERY'!$B$7:$B$1000)*(V$1='WOC QUERY'!$D$2:$BI$2)*(V$2='WOC QUERY'!$D$3:$BI$3)*(V$3='WOC QUERY'!$D$4:$BI$4)*(V$4='WOC QUERY'!$A$7:$A$1000),'WOC QUERY'!$D$7:$BI$1000))/COUNT(IF(($A15='WOC QUERY'!$B$7:$B$1000)*(V$1='WOC QUERY'!$D$2:$BI$2)*(V$2='WOC QUERY'!$D$3:$BI$3)*(V$3='WOC QUERY'!$D$4:$BI$4)*(V$4='WOC QUERY'!$A$7:$A$1000),'WOC QUERY'!$D$7:$BI$1000))} -> 5.5571612 | W15: {=SUM(IF(($A15='WOC QUERY'!$B$7:$B$1000)*(W$1='WOC QUERY'!$D$2:$BI$2)*(W$2='WOC QUERY'!$D$3:$BI$3)*(W$3='WOC QUERY'!$D$4:$BI$4)*(W$4='WOC QUERY'!$A$7:$A$1000),'WOC QUERY'!$D$7:$BI$1000))/COUNT(IF(($A15='WOC QUERY'!$B$7:$B$1000)*(W$1='WOC QUERY'!$D$2:$BI$2)*(W$2='WOC QUERY'!$D$3:$BI$3)*(W$3='WOC QUERY'!$D$4:$BI$4)*(W$4='WOC QUERY'!$A$7:$A$1000),'WOC QUERY'!$D$7:$BI$1000))} -> 8.3089748 | X15: {=SUM(IF(($A15='WOC QUERY'!$B$7:$B$1000)*(X$1='WOC QUERY'!$D$2:$BI$2)*(X$2='WOC QUERY'!$D$3:$BI$3)*(X$3='WOC QUERY'!$D$4:$BI$4)*(X$5='WOC QUERY'!$A$7:$A$1000)*(X$4='WOC QUERY'!$A$7:$A$1000)*(X$6='WOC QUERY'!$A$7:$A$1000),'WOC QUERY'!$D$7:$BI$1000))/COUNT(IF(($A15='WOC QUERY'!$B$7:$B$1000)*(X$1='WOC QUERY'!$D$2:$BI$2)*(X$2='WOC QUERY'!$D$3:$BI$3)*(X$3='WOC QUERY'!$D$4:$BI$4)*(X$5='WOC QUERY'!$A$7:$A$1000)*(X$4='WOC QUERY'!$A$7:$A$1000)*(X$6='WOC QUERY'!$A$7:$A$1000),'WOC QUERY'!$D$7:$BI$1000))} -> #DIV/0! | Y15: =SUM(V15:X15) -> #DIV/0! | AA15: {=SUM(IF(($A15='WOC QUERY'!$B$7:$B$1000)*(AA$1='WOC QUERY'!$D$2:$BI$2)*(AA$2='WOC QUERY'!$D$3:$BI$3)*(AA$3='WOC QUERY'!$D$4:$BI$4)*(AA$4='WOC QUERY'!$A$7:$A$1000),'WOC QUERY'!$D$7:$BI$1000))/COUNT(IF(($A15='WOC QUERY'!$B$7:$B$1000)*(AA$1='WOC QUERY'!$D$2:$BI$2)*(AA$2='WOC QUERY'!$D$3:$BI$3)*(AA$3='WOC QUERY'!$D$4:$BI$4)*(AA$4='WOC QUERY'!$A$7:$A$1000),'WOC QUERY'!$D$7:$BI$1000))} -> #DIV/0! | AB15: {=SUM(IF(($A15='WOC QUERY'!$B$7:$B$1000)*(AB$1='WOC QUERY'!$D$2:$BI$2)*(AB$2='WOC QUERY'!$D$3:$BI$3)*(AB$3='WOC QUERY'!$D$4:$BI$4)*(AB$4='WOC QUERY'!$A$7:$A$1000),'WOC QUERY'!$D$7:$BI$1000))/COUNT(IF(($A15='WOC QUERY'!$B$7:$B$1000)*(AB$1='WOC QUERY'!$D$2:$BI$2)*(AB$2='WOC QUERY'!$D$3:$BI$3)*(AB$3='WOC QUERY'!$D$4:$BI$4)*(AB$4='WOC QUERY'!$A$7:$A$1000),'WOC QUERY'!$D$7:$BI$1000))} -> #DIV/0! | AC15: {=SUM(IF(($A15='WOC QUERY'!$B$7:$B$1000)*(AC$1='WOC QUERY'!$D$2:$BI$2)*(AC$2='WOC QUERY'!$D$3:$BI$3)*(AC$3='WOC QUERY'!$D$4:$BI$4)*(AC$5='WOC QUERY'!$A$7:$A$1000)*(AC$4='WOC QUERY'!$A$7:$A$1000)*(AC$6='WOC QUERY'!$A$7:$A$1000),'WOC QUERY'!$D$7:$BI$1000))/COUNT(IF(($A15='WOC QUERY'!$B$7:$B$1000)*(AC$1='WOC QUERY'!$D$2:$BI$2)*(AC$2='WOC QUERY'!$D$3:$BI$3)*(AC$3='WOC QUERY'!$D$4:$BI$4)*(AC$5='WOC QUERY'!$A$7:$A$1000)*(AC$4='WOC QUERY'!$A$7:$A$1000)*(AC$6='WOC QUERY'!$A$7:$A$1000),'WOC QUERY'!$D$7:$BI$1000))} -> #DIV/0! | AD15: =SUM(AA15:AC15) -> #DIV/0!
A16: Multiservice contracts | B16: =A16 -> Multiservice contracts | D16: {=SUM(IF(($A16='WOC QUERY'!$B$7:$B$1000)*(D$1='WOC QUERY'!$D$2:$BI$2)*(D$2='WOC QUERY'!$D$3:$BI$3)*(D$3='WOC QUERY'!$D$4:$BI$4)*(D$4='WOC QUERY'!$A$7:$A$1000),'WOC QUERY'!$D$7:$BI$1000))/COUNT(IF(($A16='WOC QUERY'!$B$7:$B$1000)*(D$1='WOC QUERY'!$D$2:$BI$2)*(D$2='WOC QUERY'!$D$3:$BI$3)*(D$3='WOC QUERY'!$D$4:$BI$4)*(D$4='WOC QUERY'!$A$7:$A$1000),'WOC QUERY'!$D$7:$BI$1000))} -> 53.71755 | E16: {=SUM(IF(($A16='WOC QUERY'!$B$7:$B$1000)*(E$1='WOC QUERY'!$D$2:$BI$2)*(E$2='WOC QUERY'!$D$3:$BI$3)*(E$3='WOC QUERY'!$D$4:$BI$4)*(E$4='WOC QUERY'!$A$7:$A$1000),'WOC QUERY'!$D$7:$BI$1000))/COUNT(IF(($A16='WOC QUERY'!$B$7:$B$1000)*(E$1='WOC QUERY'!$D$2:$BI$2)*(E$2='WOC QUERY'!$D$3:$BI$3)*(E$3='WOC QUERY'!$D$4:$BI$4)*(E$4='WOC QUERY'!$A$7:$A$1000),'WOC QUERY'!$D$7:$BI$1000))} -> 32.859988 | F16: =SUM(G16:I16) -> #DIV/0! | G16: {=SUM(IF(($A16='WOC QUERY'!$B$7:$B$1000)*(G$1='WOC QUERY'!$D$2:$BI$2)*(G$2='WOC QUERY'!$D$3:$BI$3)*(G$3='WOC QUERY'!$D$4:$BI$4)*(G$4='WOC QUERY'!$A$7:$A$1000),'WOC QUERY'!$D$7:$BI$1000))/COUNT(IF(($A16='WOC QUERY'!$B$7:$B$1000)*(G$1='WOC QUERY'!$D$2:$BI$2)*(G$2='WOC QUERY'!$D$3:$BI$3)*(G$3='WOC QUERY'!$D$4:$BI$4)*(G$4='WOC QUERY'!$A$7:$A$1000),'WOC QUERY'!$D$7:$BI$1000))} -> -61.822646 | H16: {=SUM(IF(($A16='WOC QUERY'!$B$7:$B$1000)*(H$1='WOC QUERY'!$D$2:$BI$2)*(H$2='WOC QUERY'!$D$3:$BI$3)*(H$3='WOC QUERY'!$D$4:$BI$4)*(H$4='WOC QUERY'!$A$7:$A$1000),'WOC QUERY'!$D$7:$BI$1000))/COUNT(IF(($A16='WOC QUERY'!$B$7:$B$1000)*(H$1='WOC QUERY'!$D$2:$BI$2)*(H$2='WOC QUERY'!$D$3:$BI$3)*(H$3='WOC QUERY'!$D$4:$BI$4)*(H$4='WOC QUERY'!$A$7:$A$1000),'WOC QUERY'!$D$7:$BI$1000))} -> -1.2296104 | I16: {=SUM(IF(($A16='WOC QUERY'!$B$7:$B$1000)*(I$1='WOC QUERY'!$D$2:$BI$2)*(I$2='WOC QUERY'!$D$3:$BI$3)*(I$3='WOC QUERY'!$D$4:$BI$4)*(I$4='WOC QUERY'!$A$7:$A$1000),'WOC QUERY'!$D$7:$BI$1000))/COUNT(IF(($A16='WOC QUERY'!$B$7:$B$1000)*(I$1='WOC QUERY'!$D$2:$BI$2)*(I$2='WOC QUERY'!$D$3:$BI$3)*(I$3='WOC QUERY'!$D$4:$BI$4)*(I$4='WOC QUERY'!$A$7:$A$1000),'WOC QUERY'!$D$7:$BI$1000))} -> #DIV/0! | J16: =SUM(D16:F16) -> #DIV/0! | L16: {=SUM(IF(($A16='WOC QUERY'!$B$7:$B$1000)*(L$1='WOC QUERY'!$D$2:$BI$2)*(L$2='WOC QUERY'!$D$3:$BI$3)*(L$3='WOC QUERY'!$D$4:$BI$4)*(L$4='WOC QUERY'!$A$7:$A$1000),'WOC QUERY'!$D$7:$BI$1000))/COUNT(IF(($A16='WOC QUERY'!$B$7:$B$1000)*(L$1='WOC QUERY'!$D$2:$BI$2)*(L$2='WOC QUERY'!$D$3:$BI$3)*(L$3='WOC QUERY'!$D$4:$BI$4)*(L$4='WOC QUERY'!$A$7:$A$1000),'WOC QUERY'!$D$7:$BI$1000))} -> #DIV/0! | M16: {=SUM(IF(($A16='WOC QUERY'!$B$7:$B$1000)*(M$1='WOC QUERY'!$D$2:$BI$2)*(M$2='WOC QUERY'!$D$3:$BI$3)*(M$3='WOC QUERY'!$D$4:$BI$4)*(M$4='WOC QUERY'!$A$7:$A$1000),'WOC QUERY'!$D$7:$BI$1000))/COUNT(IF(($A16='WOC QUERY'!$B$7:$B$1000)*(M$1='WOC QUERY'!$D$2:$BI$2)*(M$2='WOC QUERY'!$D$3:$BI$3)*(M$3='WOC QUERY'!$D$4:$BI$4)*(M$4='WOC QUERY'!$A$7:$A$1000),'WOC QUERY'!$D$7:$BI$1000))} -> #DIV/0! | N16: {=SUM(IF(($A16='WOC QUERY'!$B$7:$B$1000)*(N$1='WOC QUERY'!$D$2:$BI$2)*(N$2='WOC QUERY'!$D$3:$BI$3)*(N$3='WOC QUERY'!$D$4:$BI$4)*(N$5='WOC QUERY'!$A$7:$A$1000)*(N$4='WOC QUERY'!$A$7:$A$1000)*(N$6='WOC QUERY'!$A$7:$A$1000),'WOC QUERY'!$D$7:$BI$1000))/COUNT(IF(($A16='WOC QUERY'!$B$7:$B$1000)*(N$1='WOC QUERY'!$D$2:$BI$2)*(N$2='WOC QUERY'!$D$3:$BI$3)*(N$3='WOC QUERY'!$D$4:$BI$4)*(N$5='WOC QUERY'!$A$7:$A$1000)*(N$4='WOC QUERY'!$A$7:$A$1000)*(N$6='WOC QUERY'!$A$7:$A$1000),'WOC QUERY'!$D$7:$BI$1000))} -> #DIV/0! | O16: =+SUM(L16:N16) -> #DIV/0! | Q16: {=SUM(IF(($A16='WOC QUERY'!$B$7:$B$1000)*(Q$1='WOC QUERY'!$D$2:$BI$2)*(Q$2='WOC QUERY'!$D$3:$BI$3)*(Q$3='WOC QUERY'!$D$4:$BI$4)*(Q$4='WOC QUERY'!$A$7:$A$1000),'WOC QUERY'!$D$7:$BI$1000))/COUNT(IF(($A16='WOC QUERY'!$B$7:$B$1000)*(Q$1='WOC QUERY'!$D$2:$BI$2)*(Q$2='WOC QUERY'!$D$3:$BI$3)*(Q$3='WOC QUERY'!$D$4:$BI$4)*(Q$4='WOC QUERY'!$A$7:$A$1000),'WOC QUERY'!$D$7:$BI$1000))} -> 30.842823 | R16: {=SUM(IF(($A16='WOC QUERY'!$B$7:$B$1000)*(R$1='WOC QUERY'!$D$2:$BI$2)*(R$2='WOC QUERY'!$D$3:$BI$3)*(R$3='WOC QUERY'!$D$4:$BI$4)*(R$4='WOC QUERY'!$A$7:$A$1000),'WOC QUERY'!$D$7:$BI$1000))/COUNT(IF(($A16='WOC QUERY'!$B$7:$B$1000)*(R$1='WOC QUERY'!$D$2:$BI$2)*(R$2='WOC QUERY'!$D$3:$BI$3)*(R$3='WOC QUERY'!$D$4:$BI$4)*(R$4='WOC QUERY'!$A$7:$A$1000),'WOC QUERY'!$D$7:$BI$1000))} -> 23.787068 | S16: {=SUM(IF(($A16='WOC QUERY'!$B$7:$B$1000)*(S$1='WOC QUERY'!$D$2:$BI$2)*(S$2='WOC QUERY'!$D$3:$BI$3)*(S$3='WOC QUERY'!$D$4:$BI$4)*(S$5='WOC QUERY'!$A$7:$A$1000)*(S$4='WOC QUERY'!$A$7:$A$1000)*(S$6='WOC QUERY'!$A$7:$A$1000),'WOC QUERY'!$D$7:$BI$1000))/COUNT(IF(($A16='WOC QUERY'!$B$7:$B$1000)*(S$1='WOC QUERY'!$D$2:$BI$2)*(S$2='WOC QUERY'!$D$3:$BI$3)*(S$3='WOC QUERY'!$D$4:$BI$4)*(S$5='WOC QUERY'!$A$7:$A$1000)*(S$4='WOC QUERY'!$A$7:$A$1000)*(S$6='WOC QUERY'!$A$7:$A$1000),'WOC QUERY'!$D$7:$BI$1000))} -> #DIV/0! | T16: =SUM(Q16:S16) -> #DIV/0! | V16: {=SUM(IF(($A16='WOC QUERY'!$B$7:$B$1000)*(V$1='WOC QUERY'!$D$2:$BI$2)*(V$2='WOC QUERY'!$D$3:$BI$3)*(V$3='WOC QUERY'!$D$4:$BI$4)*(V$4='WOC QUERY'!$A$7:$A$1000),'WOC QUERY'!$D$7:$BI$1000))/COUNT(IF(($A16='WOC QUERY'!$B$7:$B$1000)*(V$1='WOC QUERY'!$D$2:$BI$2)*(V$2='WOC QUERY'!$D$3:$BI$3)*(V$3='WOC QUERY'!$D$4:$BI$4)*(V$4='WOC QUERY'!$A$7:$A$1000),'WOC QUERY'!$D$7:$BI$1000))} -> 37.332153 | W16: {=SUM(IF(($A16='WOC QUERY'!$B$7:$B$1000)*(W$1='WOC QUERY'!$D$2:$BI$2)*(W$2='WOC QUERY'!$D$3:$BI$3)*(W$3='WOC QUERY'!$D$4:$BI$4)*(W$4='WOC QUERY'!$A$7:$A$1000),'WOC QUERY'!$D$7:$BI$1000))/COUNT(IF(($A16='WOC QUERY'!$B$7:$B$1000)*(W$1='WOC QUERY'!$D$2:$BI$2)*(W$2='WOC QUERY'!$D$3:$BI$3)*(W$3='WOC QUERY'!$D$4:$BI$4)*(W$4='WOC QUERY'!$A$7:$A$1000),'WOC QUERY'!$D$7:$BI$1000))} -> 25.491798 | X16: {=SUM(IF(($A16='WOC QUERY'!$B$7:$B$1000)*(X$1='WOC QUERY'!$D$2:$BI$2)*(X$2='WOC QUERY'!$D$3:$BI$3)*(X$3='WOC QUERY'!$D$4:$BI$4)*(X$5='WOC QUERY'!$A$7:$A$1000)*(X$4='WOC QUERY'!$A$7:$A$1000)*(X$6='WOC QUERY'!$A$7:$A$1000),'WOC QUERY'!$D$7:$BI$1000))/COUNT(IF(($A16='WOC QUERY'!$B$7:$B$1000)*(X$1='WOC QUERY'!$D$2:$BI$2)*(X$2='WOC QUERY'!$D$3:$BI$3)*(X$3='WOC QUERY'!$D$4:$BI$4)*(X$5='WOC QUERY'!$A$7:$A$1000)*(X$4='WOC QUERY'!$A$7:$A$1000)*(X$6='WOC QUERY'!$A$7:$A$1000),'WOC QUERY'!$D$7:$BI$1000))} -> #DIV/0! | Y16: =SUM(V16:X16) -> #DIV/0! | AA16: {=SUM(IF(($A16='WOC QUERY'!$B$7:$B$1000)*(AA$1='WOC QUERY'!$D$2:$BI$2)*(AA$2='WOC QUERY'!$D$3:$BI$3)*(AA$3='WOC QUERY'!$D$4:$BI$4)*(AA$4='WOC QUERY'!$A$7:$A$1000),'WOC QUERY'!$D$7:$BI$1000))/COUNT(IF(($A16='WOC QUERY'!$B$7:$B$1000)*(AA$1='WOC QUERY'!$D$2:$BI$2)*(AA$2='WOC QUERY'!$D$3:$BI$3)*(AA$3='WOC QUERY'!$D$4:$BI$4)*(AA$4='WOC QUERY'!$A$7:$A$1000),'WOC QUERY'!$D$7:$BI$1000))} -> #DIV/0! | AB16: {=SUM(IF(($A16='WOC QUERY'!$B$7:$B$1000)*(AB$1='WOC QUERY'!$D$2:$BI$2)*(AB$2='WOC QUERY'!$D$3:$BI$3)*(AB$3='WOC QUERY'!$D$4:$BI$4)*(AB$4='WOC QUERY'!$A$7:$A$1000),'WOC QUERY'!$D$7:$BI$1000))/COUNT(IF(($A16='WOC QUERY'!$B$7:$B$1000)*(AB$1='WOC QUERY'!$D$2:$BI$2)*(AB$2='WOC QUERY'!$D$3:$BI$3)*(AB$3='WOC QUERY'!$D$4:$BI$4)*(AB$4='WOC QUERY'!$A$7:$A$1000),'WOC QUERY'!$D$7:$BI$1000))} -> #DIV/0! | AC16: {=SUM(IF(($A16='WOC QUERY'!$B$7:$B$1000)*(AC$1='WOC QUERY'!$D$2:$BI$2)*(AC$2='WOC QUERY'!$D$3:$BI$3)*(AC$3='WOC QUERY'!$D$4:$BI$4)*(AC$5='WOC QUERY'!$A$7:$A$1000)*(AC$4='WOC QUERY'!$A$7:$A$1000)*(AC$6='WOC QUERY'!$A$7:$A$1000),'WOC QUERY'!$D$7:$BI$1000))/COUNT(IF(($A16='WOC QUERY'!$B$7:$B$1000)*(AC$1='WOC QUERY'!$D$2:$BI$2)*(AC$2='WOC QUERY'!$D$3:$BI$3)*(AC$3='WOC QUERY'!$D$4:$BI$4)*(AC$5='WOC QUERY'!$A$7:$A$1000)*(AC$4='WOC QUERY'!$A$7:$A$1000)*(AC$6='WOC QUERY'!$A$7:$A$1000),'WOC QUERY'!$D$7:$BI$1000))} -> #DIV/0! | AD16: =SUM(AA16:AC16) -> #DIV/0!
