Workbook

Sheet Menus Marie
A1: Menu du | D1: ='Saisie Menus'!$D$2 -> Mardi | F1: ='Saisie Menus'!$D$1 -> 41730
F2: Philippe | O2: Marie | W2: Isabelle | AF2: Total
A3: Hors d'œuvre | D3: ='Saisie Menus'!$D$4 -> SALADE NORVÉGIENNE
A5: Charcuterie | D5: ='Saisie Menus'!$D$5 -> SAUCISSON SEC
A8: Plat 1 | D8: ='Saisie Menus'!$D$6 -> CUISSE POULET VALLÉE D'AUGE
D10: ='Saisie Menus'!$D$7 -> JEUNES CAROTTES ÉTUVÉES
A13: Plat 2 | D13: ='Saisie Menus'!$D$8 -> MIJOTÉ DE PORC MARENGO
D15: ='Saisie Menus'!$D$9 -> PETITS POIS
A18: Fromage | D18: ='Saisie Menus'!$D$10 -> RONDELÉ NATURE FLEUR DE SEL
A20: Laitage | D20: ='Saisie Menus'!$D$11 -> FROMAGE BLANC SUCRÉ
A22: Dessert 1 | D22: ='Saisie Menus'!$D$12 -> COCKTAIL DE FRUITS AU SIROP
A24: Dessert 2 | D24: ='Saisie Menus'!D13 -> FRUIT
D27: CONSTANTES 1
A28: Hors d'œuvre | D28: ='Saisie Menus'!D14 -> CAROTTES RÂPÉES
D30: ='Saisie Menus'!D15 -> OEUFS NATURE (ENT)
A33: Potage | D33: ='Saisie Menus'!$D$16 -> POTAGE AUX LÉGUMES
A36: Salade | D36: ='Saisie Menus'!D29 -> .
A37: Composée
A39: Viandes | D39: ='Saisie Menus'!D17 -> HACHIS PARMENTIER
D41: ='Saisie Menus'!D18 -> JAMBON BLANC #
A43: Poisson | D43: ='Saisie Menus'!D19 -> PAVÉ DE POISSON SCE CRÈME
D45: ='Saisie Menus'!D20 -> LASAGNES À LA BOLOGNAISE
A48: Légumes | D48: ='Saisie Menus'!D21 -> SALADE MÉLANGÉE
D50: ='Saisie Menus'!D22 -> FRITES (FOUR)
D52: ='Saisie Menus'!D23 -> HARICOTS VERTS
D54: ='Saisie Menus'!D24 -> SPAGHETTIS
D56: CONSTANTES 2
A57: Potage | D57: POTAGE LEGUMES
D60: _ _ _ _ _ _ _ _ _ _
A63: Fromages | D63: CAMEMBERT
D65: YAOURT NATURE
A66: Laitage
D67: PETITS SUISSE NATURE
D69: CPE DE POMME
D72: Nombre de repas
D74: Validation Colonnes :
A75: Menu du | D75: ='Saisie Menus'!$H$2 -> Jeudi | G75: ='Saisie Menus'!$H$1 -> 41732
F76: Philippe | O76: Marie | W76: Isabelle | AF76: Total
A77: Hors d'œuvre | D77: ='Saisie Menus'!$H$4 -> RIZ NIÇOIS
A79: Charcuterie | D79: ='Saisie Menus'!$H$5 -> MORTADELLE
...

Sheet Saisie Menus
B1: 41729 | D1: =B1+1 -> 41730 | F1: =D1+1 -> 41731 | H1: =F1+1 -> 41732 | J1: =H1+1 -> 41733 | L1: =J1+1 -> 41734 | N1: =L1+1 -> 41735
B2: Lundi | D2: Mardi | F2: Mercredi | H2: Jeudi | J2: Vendredi | L2: Samedi | N2: Dimanche
A4: Hors d'œuvre | B4: PHILIPPE JOSEPHINE | D4: SALADE NORVÉGIENNE | F4: CHOU-ROUGE VINAIGRETTE | H4: RIZ NIÇOIS | J4: TABOULÉ | L4: POIREAUX VINAIGRETTE | N4: POMMES TERRE HUILE
A5: Charcuterie | B5: GALANTINE DE VOLAILLE | D5: SAUCISSON SEC | F5: Valérie | H5: MORTADELLE | J5: ANDOUILLE SAUCISSON AIL | L5: SALAMI | N5: PÂTÉ DE CAMPAGNE
A6: Viande 1 | B6: GIGOT JUS | D6: CUISSE POULET VALLÉE D'AUGE | F6: CERVELAS ORLOFF | H6: EMINCE POULET CHARCUTIERE | J6: PORTION POISSON SAFRAN | L6: POULE AU BLANC | N6: FILET POIS CUIT BRUNOISE
A7: Légumes 1 | B7: POMMES BOULANGÈRES | D7: JEUNES CAROTTES ÉTUVÉES | F7: GRATIN DE CHOU-FLEUR | H7: FLAGEOLETS | J7: RATATOUILLE | L7: RIZ CRÉOLE | N7: BOUQUETIÈRE
A8: Viande 2 | B8: FILET POISSON CUIT AURORE | D8: MIJOTÉ DE PORC MARENGO | F8: CURRY DE BOEUF | H8: TARTE PROVENÇALE | J8: JAMBONNEAU | L8: ECHINE PORC TOMATE | N8: PAUPIETTE DINDE ESTRAGON
A9: légumes 2 | B9: BROCOLIS | D9: PETITS POIS | F9: MINIS FARFALLES (PÂTES) | H9: SALADE MÉLANGÉE | J9: PURÉE | L9: BRUNOISE DE LÉGUMES | N9: SPAGHETTIS
A10: Fromage | B10: LE CARRE | D10: RONDELÉ NATURE FLEUR DE SEL | F10: CAMEMBERT | H10: BOURSIN AIL & FINES HERBES | J10: TOME NOIRE | L10: MIMOLETTE | N10: COULOMMIERS
A11: Laitage 1 | B11: YAOURT AROMATISÉ | D11: FROMAGE BLANC SUCRÉ | F11: YAOURT BULGY PULPE | H11: SUISSE SUCRÉ | J11: YAOURT SUCRÉ | L11: YAOURT AROMATISÉ | N11: SUISSE FRUITÉ
A12: Dessert 1 | B12: CREME DESSERT CARAMEL | D12: COCKTAIL DE FRUITS AU SIROP | F12: LIEGEOIS A LA VANILLE | H12: ÉCLAIR AU CHOCOLAT | J12: MOUSSE CHOCOLAT NOIR | L12: MILLE-FEUILLES | N12: RIZ AU LAIT CARAMEL
A13: Dessert 2 | B13: FRUIT | D13: FRUIT | F13: FRUIT | H13: FRUIT | J13: FRUIT | L13: FRUIT | N13: FRUIT
A14: H3 | B14: TOMATE (ENTIÈRE) | D14: CAROTTES RÂPÉES | F14: TOMATE (ENTIÈRE) | H14: CAROTTES RÂPÉES | J14: TOMATE (ENTIÈRE) | L14: CAROTTES RÂPÉES | N14: TOMATE (ENTIÈRE)
A15: H4 | B15: CUBES DE BETTERAVES | D15: OEUFS NATURE (ENT) | F15: CUBES DE BETTERAVES | H15: OEUFS NATURE (ENT) | J15: CUBES DE BETTERAVES | L15: OEUFS NATURE (ENT) | N15: CUBES DE BETTERAVES
... A24: L6 | B24: SPAGHETTIS | D24: SPAGHETTIS | F24: SPAGHETTIS | H24: PURÉE | J24: SPAGHETTIS | L24: PURÉE | N24: PURÉE
A29: Légumes 3 | B29: . | D29: . | F29: . | H29: . | J29: . | L29: . | N29: =B29 -> .
P33: Repas du : | Q33: =D1 -> 41730 | T33: Repas du : | U33: =H1 -> 41732
P35: Hors d'œuvre | Q35: =D4 -> SALADE NORVÉGIENNE | T35: Hors d'œuvre | U35: =H4 -> RIZ NIÇOIS
P36: Charcuterie | Q36: =D5 -> SAUCISSON SEC | T36: Charcuterie | U36: =H5 -> MORTADELLE
P38: Plat 1 | Q38: =D6 -> CUISSE POULET VALLÉE D'AUGE | T38: Plat 1 | U38: =H6 -> EMINCE POULET CHARCUTIERE
Q39: =D7 -> JEUNES CAROTTES ÉTUVÉES | U39: =H7 -> FLAGEOLETS
P41: Plat 2 | Q41: =D8 -> MIJOTÉ DE PORC MARENGO | T41: Plat 2 | U41: =H8 -> TARTE PROVENÇALE
Q42: =D9 -> PETITS POIS | U42: =H9 -> SALADE MÉLANGÉE
P44: Fromage | Q44: =D10 -> RONDELÉ NATURE FLEUR DE SEL | T44: Fromage | U44: =H10 -> BOURSIN AIL & FINES HERBES
P45: Laitage | Q45: =D11 -> FROMAGE BLANC SUCRÉ | T45: Laitage | U45: =H11 -> SUISSE SUCRÉ
P46: Dessert 1 | Q46: =D12 -> COCKTAIL DE FRUITS AU SIROP | T46: Dessert 1 | U46: =H12 -> ÉCLAIR AU CHOCOLAT
P47: Dessert 2 | Q47: =D13 -> FRUIT | T47: Dessert 2 | U47: =H13 -> FRUIT
P49: CONSTANTES 1 | T49: CONSTANTES 1
P51: Hors d'œuvre | Q51: =D14 -> CAROTTES RÂPÉES | T51: Hors d'œuvre | U51: =H14 -> CAROTTES RÂPÉES
Q52: =D15 -> OEUFS NATURE (ENT) | U52: =H15 -> OEUFS NATURE (ENT)
P54: Potage | Q54: =D16 -> POTAGE AUX LÉGUMES | T54: Potage | U54: =H16 -> POTAGE AUX POIREAUX
P56: Salade comp. | Q56: =D29 -> . | T56: Salade composée | U56: =H29 -> .
P58: Viandes / poisson | Q58: =D17 -> HACHIS PARMENTIER | T58: Viandes / poisson | U58: =H17 -> STEAK HACHÉ (CUIT)
Q59: =D18 -> JAMBON BLANC # | U59: =H18 -> JAMBON BLANC #
Q60: =D19 -> PAVÉ DE POISSON SCE CRÈME | U60: =H19 -> PAVÉ DE POISSON SCE CRÈME
Q61: =D20 -> LASAGNES À LA BOLOGNAISE | U61: =H20 -> LASAGNES À LA BOLOGNAISE
P63: Légumes | Q63: =D21 -> SALADE MÉLANGÉE | T63: Légumes | U63: =H21 -> RATATOUILLE
Q64: =D22 -> FRITES (FOUR) | U64: =H22 -> FRITES (FOUR)
Q65: =D23 -> HARICOTS VERTS | U65: =H23 -> HARICOTS VERTS
Q66: =D24 -> SPAGHETTIS | U66: =H24 -> PURÉE
...

Sheet Lun Mar Mer Jeu
A1: Lundi | E1: ='Saisie Menus'!B1 -> 41729 | G1: ='Saisie Menus'!P81 -> Repas du : | H1: Mardi | J1: ='Saisie Menus'!Q33 -> 41730 | P1: Mercredi | T1: =J1+1 -> 41731 | V1: =G1 -> Repas du : | W1: Jeudi | Y1: =T1+1 -> 41732 | AG1: =#REF! -> #REF! | AH1: =#REF! -> #REF! | AJ1: =#REF! -> #REF! | AK1: =#REF! -> #REF! | AO1: =#REF! -> #REF! | AP1: =#REF! -> #REF!
A2: N | B2: C | C2: D | K2: N | L2: C | M2: D | P2: N | Q2: C | R2: D | Z2: N | AA2: C | AB2: D | AD2: N | AE2: C | AF2: D | AL2: N | AM2: C | AN2: D | AQ2: N | AR2: C | AS2: D
D3: ='Saisie Menus'!Q83 -> PHILIPPE JOSEPHINE | G3: Entrées | H3: ='Saisie Menus'!Q35 -> SALADE NORVÉGIENNE | P3: 1 | S3: ='Saisie Menus'!U83 -> CHOU-ROUGE VINAIGRETTE | V3: Entrées | W3: ='Saisie Menus'!U35 -> RIZ NIÇOIS | AG3: =#REF! -> #REF! | AH3: =#REF! -> #REF! | AI3: =#REF! -> #REF! | AJ3: =#REF! -> #REF! | AK3: =#REF! -> #REF! | AO3: =#REF! -> #REF! | AP3: =#REF! -> #REF!
D4: ='Saisie Menus'!Q84 -> GALANTINE DE VOLAILLE | H4: ='Saisie Menus'!Q36 -> SAUCISSON SEC | S4: ='Saisie Menus'!U84 -> Valérie | W4: ='Saisie Menus'!U36 -> MORTADELLE | AG4: =#REF! -> #REF! | AH4: =#REF! -> #REF! | AI4: =#REF! -> #REF! | AJ4: =#REF! -> #REF! | AK4: =#REF! -> #REF! | AO4: =#REF! -> #REF! | AP4: =#REF! -> #REF!
D5: ='Saisie Menus'!Q86 -> GIGOT JUS | G5: Plat 1 | H5: ='Saisie Menus'!Q38 -> CUISSE POULET VALLÉE D'AUGE | S5: ='Saisie Menus'!U86 -> CERVELAS ORLOFF | V5: Plat 1 | W5: ='Saisie Menus'!U38 -> EMINCE POULET CHARCUTIERE | AG5: =#REF! -> #REF! | AH5: =#REF! -> #REF! | AI5: =#REF! -> #REF! | AJ5: =#REF! -> #REF! | AK5: =#REF! -> #REF! | AO5: =#REF! -> #REF! | AP5: =#REF! -> #REF!
D6: ='Saisie Menus'!Q87 -> POMMES BOULANGÈRES | H6: ='Saisie Menus'!Q39 -> JEUNES CAROTTES ÉTUVÉES | S6: ='Saisie Menus'!U87 -> GRATIN DE CHOU-FLEUR | W6: ='Saisie Menus'!U39 -> FLAGEOLETS | AG6: =#REF! -> #REF! | AH6: =#REF! -> #REF! | AI6: =#REF! -> #REF! | AJ6: =#REF! -> #REF! | AK6: =#REF! -> #REF! | AO6: =#REF! -> #REF! | AP6: =#REF! -> #REF!
D8: ='Saisie Menus'!Q89 -> FILET POISSON CUIT AURORE | G8: ='Saisie Menus'!P89 -> Plat 2 | H8: ='Saisie Menus'!Q41 -> MIJOTÉ DE PORC MARENGO | S8: ='Saisie Menus'!U89 -> CURRY DE BOEUF | V8: =G8 -> Plat 2 | W8: ='Saisie Menus'!U41 -> TARTE PROVENÇALE | AG8: =#REF! -> #REF! | AH8: =#REF! -> #REF! | AI8: =#REF! -> #REF! | AJ8: =#REF! -> #REF! | AK8: =#REF! -> #REF! | AO8: =#REF! -> #REF! | AP8: =#REF! -> #REF!
D9: ='Saisie Menus'!Q90 -> BROCOLIS | H9: ='Saisie Menus'!Q42 -> PETITS POIS | P9: 1 | S9: ='Saisie Menus'!U90 -> MINIS FARFALLES (PÂTES) | W9: ='Saisie Menus'!U42 -> SALADE MÉLANGÉE | AG9: =#REF! -> #REF! | AH9: =#REF! -> #REF! | AI9: =#REF! -> #REF! | AJ9: =#REF! -> #REF! | AK9: =#REF! -> #REF! | AO9: =#REF! -> #REF! | AP9: =#REF! -> #REF!
D11: ='Saisie Menus'!Q92 -> LE CARRE | G11: ='Saisie Menus'!P92 -> Fromage | H11: ='Saisie Menus'!Q44 -> RONDELÉ NATURE FLEUR DE SEL | P11: 1 | S11: ='Saisie Menus'!U92 -> CAMEMBERT | V11: =G11 -> Fromage | W11: ='Saisie Menus'!U44 -> BOURSIN AIL & FINES HERBES | AG11: =#REF! -> #REF! | AH11: =#REF! -> #REF! | AI11: =#REF! -> #REF! | AJ11: =#REF! -> #REF! | AK11: =#REF! -> #REF! | AO11: =#REF! -> #REF! | AP11: =#REF! -> #REF!
D12: ='Saisie Menus'!Q93 -> YAOURT AROMATISÉ | G12: ='Saisie Menus'!P93 -> Laitage | H12: ='Saisie Menus'!Q45 -> FROMAGE BLANC SUCRÉ | P12: 1 | S12: ='Saisie Menus'!U93 -> YAOURT BULGY PULPE | V12: =G12 -> Laitage | W12: ='Saisie Menus'!U45 -> SUISSE SUCRÉ | AG12: =#REF! -> #REF! | AH12: =#REF! -> #REF! | AI12: =#REF! -> #REF! | AJ12: =#REF! -> #REF! | AK12: =#REF! -> #REF! | AO12: =#REF! -> #REF! | AP12: =#REF! -> #REF!
D13: ='Saisie Menus'!Q94 -> CREME DESSERT CARAMEL | G13: ='Saisie Menus'!P94 -> Dessert 1 | H13: ='Saisie Menus'!Q46 -> COCKTAIL DE FRUITS AU SIROP | P13: 1 | Q13: 1 | S13: ='Saisie Menus'!U94 -> LIEGEOIS A LA VANILLE | V13: =G13 -> Dessert 1 | W13: ='Saisie Menus'!U46 -> ÉCLAIR AU CHOCOLAT | AG13: =#REF! -> #REF! | AH13: =#REF! -> #REF! | AI13: =#REF! -> #REF! | AJ13: =#REF! -> #REF! | AK13: =#REF! -> #REF! | AO13: =#REF! -> #REF! | AP13: =#REF! -> #REF!
D14: ='Saisie Menus'!Q95 -> FRUIT | G14: ='Saisie Menus'!P95 -> Dessert 2 | H14: ='Saisie Menus'!Q47 -> FRUIT | S14: ='Saisie Menus'!U95 -> FRUIT | V14: =G14 -> Dessert 2 | W14: ='Saisie Menus'!U47 -> FRUIT | AG14: =#REF! -> #REF! | AH14: =#REF! -> #REF! | AI14: =#REF! -> #REF! | AJ14: =#REF! -> #REF! | AK14: =#REF! -> #REF! | AO14: =#REF! -> #REF! | AP14: =#REF! -> #REF!
D15: CONSTANTES 1 | S15: CONSTANTES 1 | AG15: =#REF! -> #REF! | AH15: =#REF! -> #REF! | AI15: =#REF! -> #REF! | AJ15: =#REF! -> #REF! | AK15: =#REF! -> #REF! | AO15: =#REF! -> #REF! | AP15: =#REF! -> #REF!
D16: ='Saisie Menus'!Q99 -> TOMATE (ENTIÈRE) | G16: Entrées | H16: ='Saisie Menus'!Q51 -> CAROTTES RÂPÉES | S16: ='Saisie Menus'!U99 -> TOMATE (ENTIÈRE) | V16: Entrées | W16: ='Saisie Menus'!U51 -> CAROTTES RÂPÉES | AG16: =#REF! -> #REF! | AH16: =#REF! -> #REF! | AI16: =#REF! -> #REF! | AJ16: =#REF! -> #REF! | AK16: =#REF! -> #REF! | AO16: =#REF! -> #REF! | AP16: =#REF! -> #REF!
D17: ='Saisie Menus'!Q100 -> CUBES DE BETTERAVES | H17: ='Saisie Menus'!Q52 -> OEUFS NATURE (ENT) | S17: ='Saisie Menus'!U100 -> CUBES DE BETTERAVES | W17: ='Saisie Menus'!U52 -> OEUFS NATURE (ENT) | AG17: =#REF! -> #REF! | AH17: =#REF! -> #REF! | AI17: =#REF! -> #REF! | AJ17: =#REF! -> #REF! | AK17: =#REF! -> #REF! | AO17: =#REF! -> #REF! | AP17: =#REF! -> #REF!
D19: ='Saisie Menus'!Q102 -> POTAGE AUX COURGETTES | G19: ='Saisie Menus'!P102 -> Potage | H19: ='Saisie Menus'!Q54 -> POTAGE AUX LÉGUMES | S19: ='Saisie Menus'!U102 -> POTAGE AUX CAROTTES | V19: =G19 -> Potage | W19: ='Saisie Menus'!U54 -> POTAGE AUX POIREAUX | AG19: =#REF! -> #REF! | AH19: =#REF! -> #REF! | AI19: =#REF! -> #REF! | AJ19: =#REF! -> #REF! | AK19: =#REF! -> #REF! | AO19: =#REF! -> #REF! | AP19: =#REF! -> #REF!
D21: ='Saisie Menus'!Q104 -> . | G21: ='Saisie Menus'!P104 -> Salade comp. | H21: ='Saisie Menus'!Q56 -> . | S21: ='Saisie Menus'!U104 -> . | V21: =G21 -> Salade comp. | W21: ='Saisie Menus'!U56 -> . | AG21: =#REF! -> #REF! | AH21: =#REF! -> #REF! | AI21: =#REF! -> #REF! | AJ21: =#REF! -> #REF! | AK21: =#REF! -> #REF! | AO21: =#REF! -> #REF! | AP21: =#REF! -> #REF!
D23: ='Saisie Menus'!Q106 -> OMELETTE AU FROMAGE | G23: Viande | H23: ='Saisie Menus'!Q58 -> HACHIS PARMENTIER | S23: ='Saisie Menus'!U106 -> STEAK (CUIT) | V23: Viande | W23: ='Saisie Menus'!U58 -> STEAK HACHÉ (CUIT) | AG23: =#REF! -> #REF! | AH23: =#REF! -> #REF! | AI23: =#REF! -> #REF! | AJ23: =#REF! -> #REF! | AK23: =#REF! -> #REF! | AO23: =#REF! -> #REF! | AP23: =#REF! -> #REF!
D24: ='Saisie Menus'!Q107 -> JAMBON BLANC # | H24: ='Saisie Menus'!Q59 -> JAMBON BLANC # | S24: ='Saisie Menus'!U107 -> JAMBON BLANC # | W24: ='Saisie Menus'!U59 -> JAMBON BLANC # | AG24: =#REF! -> #REF! | AH24: =#REF! -> #REF! | AI24: =#REF! -> #REF! | AJ24: =#REF! -> #REF! | AK24: =#REF! -> #REF! | AO24: =#REF! -> #REF! | AP24: =#REF! -> #REF!
D25: ='Saisie Menus'!Q108 -> PAVÉ DE POISSON SCE CRÈME | G25: Poisson | H25: ='Saisie Menus'!Q60 -> PAVÉ DE POISSON SCE CRÈME | S25: ='Saisie Menus'!U108 -> PAVÉ DE POISSON SCE CRÈME | V25: Poisson | W25: ='Saisie Menus'!U60 -> PAVÉ DE POISSON SCE CRÈME | AG25: =#REF! -> #REF! | AH25: =#REF! -> #REF! | AI25: =#REF! -> #REF! | AJ25: =#REF! -> #REF! | AK25: =#REF! -> #REF! | AO25: =#REF! -> #REF! | AP25: =#REF! -> #REF!
D26: ='Saisie Menus'!Q109 -> LASAGNES À LA BOLOGNAISE | H26: ='Saisie Menus'!Q61 -> LASAGNES À LA BOLOGNAISE | S26: ='Saisie Menus'!U109 -> LASAGNES À LA BOLOGNAISE | W26: ='Saisie Menus'!U61 -> LASAGNES À LA BOLOGNAISE | AG26: =#REF! -> #REF! | AH26: =#REF! -> #REF! | AI26: =#REF! -> #REF! | AJ26: =#REF! -> #REF! | AK26: =#REF! -> #REF! | AO26: =#REF! -> #REF! | AP26: =#REF! -> #REF!
D28: ='Saisie Menus'!Q111 -> CAROTTES ÉTUVÉES | G28: ='Saisie Menus'!P111 -> Légumes | H28: ='Saisie Menus'!Q63 -> SALADE MÉLANGÉE | S28: ='Saisie Menus'!U111 -> SALADE MÉLANGÉE | V28: =G28 -> Légumes | W28: ='Saisie Menus'!U63 -> RATATOUILLE | AG28: =#REF! -> #REF! | AH28: =#REF! -> #REF! | AI28: =#REF! -> #REF! | AJ28: =#REF! -> #REF! | AK28: =#REF! -> #REF! | AO28: =#REF! -> #REF! | AP28: =#REF! -> #REF!
D29: ='Saisie Menus'!Q112 -> FRITES (FOUR) | H29: ='Saisie Menus'!Q64 -> FRITES (FOUR) | S29: ='Saisie Menus'!U112 -> FRITES (FOUR) | W29: ='Saisie Menus'!U64 -> FRITES (FOUR) | AG29: =#REF! -> #REF! | AH29: =#REF! -> #REF! | AI29: =#REF! -> #REF! | AJ29: =#REF! -> #REF! | AK29: =#REF! -> #REF! | AO29: =#REF! -> #REF! | AP29: =#REF! -> #REF!
D30: ='Saisie Menus'!Q113 -> HARICOTS VERTS | H30: ='Saisie Menus'!Q65 -> HARICOTS VERTS | S30: ='Saisie Menus'!U113 -> HARICOTS VERTS | W30: ='Saisie Menus'!U65 -> HARICOTS VERTS | AG30: =#REF! -> #REF! | AH30: =#REF! -> #REF! | AI30: =#REF! -> #REF! | AJ30: =#REF! -> #REF! | AK30: =#REF! -> #REF! | AO30: =#REF! -> #REF! | AP30: =#REF! -> #REF!
D31: ='Saisie Menus'!Q114 -> SPAGHETTIS | H31: ='Saisie Menus'!Q66 -> SPAGHETTIS | S31: ='Saisie Menus'!U114 -> SPAGHETTIS | W31: ='Saisie Menus'!U66 -> PURÉE | AG31: =#REF! -> #REF! | AH31: =#REF! -> #REF! | AI31: =#REF! -> #REF! | AJ31: =#REF! -> #REF! | AK31: =#REF! -> #REF! | AO31: =#REF! -> #REF! | AP31: =#REF! -> #REF!
D32: CONSTANTES 2 | S32: CONSTANTES 2 | AG32: =#REF! -> #REF! | AH32: =#REF! -> #REF! | AI32: =#REF! -> #REF! | AJ32: =#REF! -> #REF! | AK32: =#REF! -> #REF! | AO32: =#REF! -> #REF! | AP32: =#REF! -> #REF!
D33: _ _ _ _ _ _ _ _ _ _ | G33: ='Saisie Menus'!P118 -> Potage | H33: _ _ _ _ _ _ _ _ _ _ | Q33: 1 | S33: _ _ _ _ _ _ _ _ _ _ | V33: =G33 -> Potage | W33: _ _ _ _ _ _ _ _ _ _ | AG33: =#REF! -> #REF! | AH33: =#REF! -> #REF! | AI33: =#REF! -> #REF! | AJ33: =#REF! -> #REF! | AK33: =#REF! -> #REF! | AO33: =#REF! -> #REF! | AP33: =#REF! -> #REF!
D34: ='Saisie Menus'!Q118 -> POTAGE LEGUMES | H34: ='Saisie Menus'!Q70 -> POTAGE LEGUMES | S34: ='Saisie Menus'!U118 -> POTAGE LEGUMES | W34: ='Saisie Menus'!U70 -> POTAGE LEGUMES | AG34: =#REF! -> #REF! | AH34: =#REF! -> #REF! | AI34: =#REF! -> #REF! | AJ34: =#REF! -> #REF! | AK34: =#REF! -> #REF! | AO34: =#REF! -> #REF! | AP34: =#REF! -> #REF!
D36: ='Saisie Menus'!Q124 -> CAMEMBERT | H36: ='Saisie Menus'!Q76 -> CAMEMBERT | S36: ='Saisie Menus'!U124 -> CAMEMBERT | W36: ='Saisie Menus'!U76 -> CAMEMBERT | AG36: =#REF! -> #REF! | AI36: =#REF! -> #REF! | AJ36: =#REF! -> #REF! | AO36: =#REF! -> #REF!
D37: ='Saisie Menus'!Q125 -> YAOURT NATURE | G37: Fromage | H37: ='Saisie Menus'!Q77 -> YAOURT NATURE | S37: ='Saisie Menus'!U125 -> YAOURT NATURE | V37: Fromage | W37: ='Saisie Menus'!U77 -> YAOURT NATURE | AG37: =#REF! -> #REF! | AJ37: =#REF! -> #REF! | AO37: =#REF! -> #REF!
D38: ='Saisie Menus'!Q126 -> PETITS SUISSE NATURE | G38: Laitages | H38: ='Saisie Menus'!Q78 -> PETITS SUISSE NATURE | R38: 1 | S38: ='Saisie Menus'!U126 -> PETITS SUISSE NATURE | V38: Laitages | W38: ='Saisie Menus'!U78 -> PETITS SUISSE NATURE | AG38: =#REF! -> #REF! | AI38: =#REF! -> #REF! | AJ38: =#REF! -> #REF! | AO38: =#REF! -> #REF!
D39: ='Saisie Menus'!Q127 -> CPE DE POMME | H39: ='Saisie Menus'!Q79 -> CPE DE POMME | S39: ='Saisie Menus'!U127 -> CPE DE POMME | W39: ='Saisie Menus'!U79 -> CPE DE POMME | AG39: =#REF! -> #REF! | AJ39: =#REF! -> #REF! | AO39: =#REF! -> #REF!
D40: =#REF! -> #REF! | P40: =SUM(P36:Q39,P33:Q34,P28:P31,P23:P26,P21,P19,P16:Q17,Q19,P11:Q14,P8:P9,P5:P6,P3:Q4) -> 7 | S40: =D40 -> #REF! | AG40: =D40 -> #REF!
A41: =A1 -> Lundi | E41: =E1 -> 41729 | G41: =G1 -> Repas du : | H41: =H1 -> Mardi | J41: =J1 -> 41730 | O41: =O1 -> 0 | P41: =P1 -> Mercredi | T41: =T1 -> 41731 | V41: =V1 -> Repas du : | W41: =W1 -> Jeudi | Y41: =Y1 -> 41732 | AG41: =AG1 -> #REF! | AH41: =AH1 -> #REF! | AJ41: =AJ1 -> #REF! | AK41: =AK1 -> #REF! | AO41: =AO1 -> #REF! | AP41: =AP1 -> #REF!
A42: =A2 -> N | B42: =B2 -> C | C42: =C2 -> D | K42: =K2 -> N | L42: =L2 -> C | M42: =M2 -> D | P42: =P2 -> N | Q42: =Q2 -> C | R42: =R2 -> D | Z42: =Z2 -> N | AA42: =AA2 -> C | AB42: =AB2 -> D | AD42: =AD2 -> N | AE42: =AE2 -> C | AF42: =AF2 -> D | AL42: =AL2 -> N | AM42: =AM2 -> C | AN42: =AN2 -> D | AQ42: =AQ2 -> N | AR42: =AR2 -> C | AS42: =AS2 -> D
A43: 1 | B43: 1 | D43: =D3 -> PHILIPPE JOSEPHINE | G43: =G3 -> Entrées | H43: =H3 -> SALADE NORVÉGIENNE | S43: =S3 -> CHOU-ROUGE VINAIGRETTE | V43: =V3 -> Entrées | W43: =W3 -> RIZ NIÇOIS | AG43: =AG3 -> #REF! | AI43: =AI3 -> #REF! | AJ43: =AJ3 -> #REF! | AO43: =AO3 -> #REF!
A44: 1 | D44: =D4 -> GALANTINE DE VOLAILLE | H44: =H4 -> SAUCISSON SEC | S44: =S4 -> Valérie | W44: =W4 -> MORTADELLE | AG44: =AG4 -> #REF! | AI44: =AI4 -> #REF! | AJ44: =AJ4 -> #REF! | AO44: =AO4 -> #REF!
D46: =D5 -> GIGOT JUS | G46: =G5 -> Plat 1 | H46: =H5 -> CUISSE POULET VALLÉE D'AUGE | S46: =S5 -> CERVELAS ORLOFF | V46: =V5 -> Plat 1 | W46: =W5 -> EMINCE POULET CHARCUTIERE | AG46: =AG5 -> #REF! | AI46: =AI5 -> #REF! | AJ46: =AJ5 -> #REF! | AO46: =AO5 -> #REF!
D47: =D6 -> POMMES BOULANGÈRES | H47: =H6 -> JEUNES CAROTTES ÉTUVÉES | S47: =S6 -> GRATIN DE CHOU-FLEUR | W47: =W6 -> FLAGEOLETS | AG47: =AG6 -> #REF! | AJ47: =AJ6 -> #REF! | AO47: =AO6 -> #REF!
D49: =D8 -> FILET POISSON CUIT AURORE | G49: =G8 -> Plat 2 | H49: =H8 -> MIJOTÉ DE PORC MARENGO | S49: =S8 -> CURRY DE BOEUF | V49: =V8 -> Plat 2 | W49: =W8 -> TARTE PROVENÇALE | AG49: =AG8 -> #REF! | AI49: =AI8 -> #REF! | AJ49: =AJ8 -> #REF! | AO49: =AO8 -> #REF!
...

Sheet Feuil4
C3: ='Lun Mar Mer Jeu'!P1 -> Mercredi | G3: ='Lun Mar Mer Jeu'!T1 -> 41731
C4: ='Lun Mar Mer Jeu'!P2 -> N | D4: ='Lun Mar Mer Jeu'!Q2 -> C | E4: ='Lun Mar Mer Jeu'!R2 -> D

Sheet Feuil5
