Workbook

Sheet Menus Marie
A1: Menu du | D1: ='Saisie Menus'!$D$2 -> Mardi | F1: ='Saisie Menus'!$D$1 -> 41730
F2: Philippe | O2: Marie | W2: Isabelle | AF2: Total
A3: Hors d'œuvre | D3: ='Saisie Menus'!$D$4 -> SALADE NORVÉGIENNE
A5: Charcuterie | D5: ='Saisie Menus'!$D$5 -> SAUCISSON SEC
A8: Plat 1 | D8: ='Saisie Menus'!$D$6 -> CUISSE POULET VALLÉE D'AUGE
D10: ='Saisie Menus'!$D$7 -> JEUNES CAROTTES ÉTUVÉES
A13: Plat 2 | D13: ='Saisie Menus'!$D$8 -> MIJOTÉ DE PORC MARENGO
D15: ='Saisie Menus'!$D$9 -> PETITS POIS
A18: Fromage | D18: ='Saisie Menus'!$D$10 -> RONDELÉ NATURE FLEUR DE SEL
A20: Laitage | D20: ='Saisie Menus'!$D$11 -> FROMAGE BLANC SUCRÉ
A22: Dessert 1 | D22: ='Saisie Menus'!$D$12 -> COCKTAIL DE FRUITS AU SIROP
A24: Dessert 2 | D24: ='Saisie Menus'!D13 -> FRUIT
D27: CONSTANTES 1
A28: Hors d'œuvre | D28: ='Saisie Menus'!D14 -> CAROTTES RÂPÉES
D30: ='Saisie Menus'!D15 -> OEUFS NATURE (ENT)
A33: Potage | D33: ='Saisie Menus'!$D$16 -> POTAGE AUX LÉGUMES
A36: Salade | D36: ='Saisie Menus'!D29 -> .
A37: Composée
A39: Viandes | D39: ='Saisie Menus'!D17 -> HACHIS PARMENTIER
D41: ='Saisie Menus'!D18 -> JAMBON BLANC #
A43: Poisson | D43: ='Saisie Menus'!D19 -> PAVÉ DE POISSON SCE CRÈME
D45: ='Saisie Menus'!D20 -> LASAGNES À LA BOLOGNAISE
A48: Légumes | D48: ='Saisie Menus'!D21 -> SALADE MÉLANGÉE
D50: ='Saisie Menus'!D22 -> FRITES (FOUR)
D52: ='Saisie Menus'!D23 -> HARICOTS VERTS
D54: ='Saisie Menus'!D24 -> SPAGHETTIS
D56: CONSTANTES 2
A57: Potage | D57: POTAGE LEGUMES
D60: _ _ _ _ _ _ _ _ _ _
A63: Fromages | D63: CAMEMBERT
D65: YAOURT NATURE
A66: Laitage
D67: PETITS SUISSE NATURE
D69: CPE DE POMME
D72: Nombre de repas
D74: Validation Colonnes :
A75: Menu du | D75: ='Saisie Menus'!$H$2 -> Jeudi | G75: ='Saisie Menus'!$H$1 -> 41732
F76: Philippe | O76: Marie | W76: Isabelle | AF76: Total
A77: Hors d'œuvre | D77: ='Saisie Menus'!$H$4 -> RIZ NIÇOIS
A79: Charcuterie | D79: ='Saisie Menus'!$H$5 -> MORTADELLE
A82: Plat 1 | D82: ='Saisie Menus'!$H$6 -> EMINCE POULET CHARCUTIERE
D84: ='Saisie Menus'!$H$7 -> FLAGEOLETS
A87: Plat 2 | D87: ='Saisie Menus'!$H$8 -> TARTE PROVENÇALE
D89: ='Saisie Menus'!$H$9 -> SALADE MÉLANGÉE
A92: Fromage | D92: ='Saisie Menus'!$H$10 -> BOURSIN AIL & FINES HERBES
A94: Laitage | D94: ='Saisie Menus'!$H$11 -> SUISSE SUCRÉ
A96: Dessert 1 | D96: ='Saisie Menus'!$H$12 -> ÉCLAIR AU CHOCOLAT
A98: Dessert 2 | D98: ='Saisie Menus'!H13 -> FRUIT
D101: CONSTANTES 1
A102: Hors d'œuvre | D102: ='Saisie Menus'!H14 -> CAROTTES RÂPÉES
D104: ='Saisie Menus'!H15 -> OEUFS NATURE (ENT)
A107: Potage | D107: ='Saisie Menus'!$H$16 -> POTAGE AUX POIREAUX
A110: Salade | D110: ='Saisie Menus'!H29 -> .
A111: Composée
A113: Viandes | D113: ='Saisie Menus'!H17 -> STEAK HACHÉ (CUIT)
D115: ='Saisie Menus'!H18 -> JAMBON BLANC #
A117: Poisson | D117: ='Saisie Menus'!H19 -> PAVÉ DE POISSON SCE CRÈME
D119: ='Saisie Menus'!H20 -> LASAGNES À LA BOLOGNAISE
A122: Légumes | D122: ='Saisie Menus'!H21 -> RATATOUILLE
D124: ='Saisie Menus'!H22 -> FRITES (FOUR)
D126: ='Saisie Menus'!H23 -> HARICOTS VERTS
D128: ='Saisie Menus'!H24 -> PURÉE
D130: CONSTANTES 2
A131: Potage | D131: POTAGE LEGUMES
D134: _ _ _ _ _ _ _ _ _ _
A137: Fromages | D137: CAMEMBERT
D139: YAOURT NATURE
A140: Laitage
D141: PETITS SUISSE NATURE
D143: CPE DE POMME
D146: Nombre de repas
D148: Validation Colonnes :
A149: Menu du | D149: ='Saisie Menus'!$J$2 -> Vendredi | G149: ='Saisie Menus'!$J$1 -> 41733
F150: Philippe | O150: Marie | W150: Isabelle | AF150: Total
A151: Hors d'œuvre | D151: ='Saisie Menus'!$J$4 -> TABOULÉ
A153: Charcuterie | D153: ='Saisie Menus'!$J$5 -> ANDOUILLE SAUCISSON AIL
A156: Plat 1 | D156: ='Saisie Menus'!$J$6 -> PORTION POISSON SAFRAN
D158: ='Saisie Menus'!$J$7 -> RATATOUILLE
A161: Plat 2 | D161: ='Saisie Menus'!$J$8 -> JAMBONNEAU
D163: ='Saisie Menus'!$J$9 -> PURÉE
A166: Fromage | D166: ='Saisie Menus'!$J$10 -> TOME NOIRE
A168: Laitage | D168: ='Saisie Menus'!$J$11 -> YAOURT SUCRÉ
A170: Dessert 1 | D170: ='Saisie Menus'!$J$12 -> MOUSSE CHOCOLAT NOIR
A172: Dessert 2 | D172: ='Saisie Menus'!J13 -> FRUIT
D175: CONSTANTES 1
A176: Hors d'œuvre | D176: ='Saisie Menus'!J14 -> TOMATE (ENTIÈRE)
D178: ='Saisie Menus'!J15 -> CUBES DE BETTERAVES
A181: Potage | D181: ='Saisie Menus'!$J$16 -> POTAGE BROCOLIS
A184: Salade | D184: ='Saisie Menus'!J29 -> .
A185: Composée
A187: Viandes | D187: ='Saisie Menus'!J17 -> STEAK (CUIT)
D189: ='Saisie Menus'!J18 -> JAMBON BLANC #
A191: Poisson | D191: ='Saisie Menus'!J19 -> PAVÉ POISSON SCE CRÈME
D193: ='Saisie Menus'!J20 -> LASAGNES BOLOGNAISE
A196: Légumes | D196: ='Saisie Menus'!J21 -> SALADE MÉLANGÉE
D198: ='Saisie Menus'!J22 -> FRITES (FOUR)
D200: ='Saisie Menus'!J23 -> HARICOTS VERTS
D202: ='Saisie Menus'!J24 -> SPAGHETTIS
D204: CONSTANTES 2
A205: Potage | D205: POTAGE LEGUMES
...

Sheet Saisie Menus
B1: 41729 | D1: =B1+1 -> 41730 | F1: =D1+1 -> 41731 | H1: =F1+1 -> 41732 | J1: =H1+1 -> 41733 | L1: =J1+1 -> 41734 | N1: =L1+1 -> 41735
B2: Lundi | D2: Mardi | F2: Mercredi | H2: Jeudi | J2: Vendredi | L2: Samedi | N2: Dimanche
A4: Hors d'œuvre | B4: PHILIPPE JOSEPHINE | D4: SALADE NORVÉGIENNE | F4: CHOU-ROUGE VINAIGRETTE | H4: RIZ NIÇOIS | J4: TABOULÉ | L4: POIREAUX VINAIGRETTE | N4: POMMES TERRE HUILE
A5: Charcuterie | B5: GALANTINE DE VOLAILLE | D5: SAUCISSON SEC | F5: Valérie | H5: MORTADELLE | J5: ANDOUILLE SAUCISSON AIL | L5: SALAMI | N5: PÂTÉ DE CAMPAGNE
A6: Viande 1 | B6: GIGOT JUS | D6: CUISSE POULET VALLÉE D'AUGE | F6: CERVELAS ORLOFF | H6: EMINCE POULET CHARCUTIERE | J6: PORTION POISSON SAFRAN | L6: POULE AU BLANC | N6: FILET POIS CUIT BRUNOISE
A7: Légumes 1 | B7: POMMES BOULANGÈRES | D7: JEUNES CAROTTES ÉTUVÉES | F7: GRATIN DE CHOU-FLEUR | H7: FLAGEOLETS | J7: RATATOUILLE | L7: RIZ CRÉOLE | N7: BOUQUETIÈRE
A8: Viande 2 | B8: FILET POISSON CUIT AURORE | D8: MIJOTÉ DE PORC MARENGO | F8: CURRY DE BOEUF | H8: TARTE PROVENÇALE | J8: JAMBONNEAU | L8: ECHINE PORC TOMATE | N8: PAUPIETTE DINDE ESTRAGON
A9: légumes 2 | B9: BROCOLIS | D9: PETITS POIS | F9: MINIS FARFALLES (PÂTES) | H9: SALADE MÉLANGÉE | J9: PURÉE | L9: BRUNOISE DE LÉGUMES | N9: SPAGHETTIS
A10: Fromage | B10: LE CARRE | D10: RONDELÉ NATURE FLEUR DE SEL | F10: CAMEMBERT | H10: BOURSIN AIL & FINES HERBES | J10: TOME NOIRE | L10: MIMOLETTE | N10: COULOMMIERS
A11: Laitage 1 | B11: YAOURT AROMATISÉ | D11: FROMAGE BLANC SUCRÉ | F11: YAOURT BULGY PULPE | H11: SUISSE SUCRÉ | J11: YAOURT SUCRÉ | L11: YAOURT AROMATISÉ | N11: SUISSE FRUITÉ
A12: Dessert 1 | B12: CREME DESSERT CARAMEL | D12: COCKTAIL DE FRUITS AU SIROP | F12: LIEGEOIS A LA VANILLE | H12: ÉCLAIR AU CHOCOLAT | J12: MOUSSE CHOCOLAT NOIR | L12: MILLE-FEUILLES | N12: RIZ AU LAIT CARAMEL
A13: Dessert 2 | B13: FRUIT | D13: FRUIT | F13: FRUIT | H13: FRUIT | J13: FRUIT | L13: FRUIT | N13: FRUIT
A14: H3 | B14: TOMATE (ENTIÈRE) | D14: CAROTTES RÂPÉES | F14: TOMATE (ENTIÈRE) | H14: CAROTTES RÂPÉES | J14: TOMATE (ENTIÈRE) | L14: CAROTTES RÂPÉES | N14: TOMATE (ENTIÈRE)
A15: H4 | B15: CUBES DE BETTERAVES | D15: OEUFS NATURE (ENT) | F15: CUBES DE BETTERAVES | H15: OEUFS NATURE (ENT) | J15: CUBES DE BETTERAVES | L15: OEUFS NATURE (ENT) | N15: CUBES DE BETTERAVES
... A24: L6 | B24: SPAGHETTIS | D24: SPAGHETTIS | F24: SPAGHETTIS | H24: PURÉE | J24: SPAGHETTIS | L24: PURÉE | N24: PURÉE
A29: Légumes 3 | B29: . | D29: . | F29: . | H29: . | J29: . | L29: . | N29: =B29 -> .
P33: Repas du : | Q33: =D1 -> 41730 | T33: Repas du : | U33: =H1 -> 41732
P35: Hors d'œuvre | Q35: =D4 -> SALADE NORVÉGIENNE | T35: Hors d'œuvre | U35: =H4 -> RIZ NIÇOIS
P36: Charcuterie | Q36: =D5 -> SAUCISSON SEC | T36: Charcuterie | U36: =H5 -> MORTADELLE
P38: Plat 1 | Q38: =D6 -> CUISSE POULET VALLÉE D'AUGE | T38: Plat 1 | U38: =H6 -> EMINCE POULET CHARCUTIERE
Q39: =D7 -> JEUNES CAROTTES ÉTUVÉES | U39: =H7 -> FLAGEOLETS
P41: Plat 2 | Q41: =D8 -> MIJOTÉ DE PORC MARENGO | T41: Plat 2 | U41: =H8 -> TARTE PROVENÇALE
Q42: =D9 -> PETITS POIS | U42: =H9 -> SALADE MÉLANGÉE
P44: Fromage | Q44: =D10 -> RONDELÉ NATURE FLEUR DE SEL | T44: Fromage | U44: =H10 -> BOURSIN AIL & FINES HERBES
P45: Laitage | Q45: =D11 -> FROMAGE BLANC SUCRÉ | T45: Laitage | U45: =H11 -> SUISSE SUCRÉ
P46: Dessert 1 | Q46: =D12 -> COCKTAIL DE FRUITS AU SIROP | T46: Dessert 1 | U46: =H12 -> ÉCLAIR AU CHOCOLAT
P47: Dessert 2 | Q47: =D13 -> FRUIT | T47: Dessert 2 | U47: =H13 -> FRUIT
P49: CONSTANTES 1 | T49: CONSTANTES 1
P51: Hors d'œuvre | Q51: =D14 -> CAROTTES RÂPÉES | T51: Hors d'œuvre | U51: =H14 -> CAROTTES RÂPÉES
Q52: =D15 -> OEUFS NATURE (ENT) | U52: =H15 -> OEUFS NATURE (ENT)
P54: Potage | Q54: =D16 -> POTAGE AUX LÉGUMES | T54: Potage | U54: =H16 -> POTAGE AUX POIREAUX
P56: Salade comp. | Q56: =D29 -> . | T56: Salade composée | U56: =H29 -> .
P58: Viandes / poisson | Q58: =D17 -> HACHIS PARMENTIER | T58: Viandes / poisson | U58: =H17 -> STEAK HACHÉ (CUIT)
Q59: =D18 -> JAMBON BLANC # | U59: =H18 -> JAMBON BLANC #
Q60: =D19 -> PAVÉ DE POISSON SCE CRÈME | U60: =H19 -> PAVÉ DE POISSON SCE CRÈME
Q61: =D20 -> LASAGNES À LA BOLOGNAISE | U61: =H20 -> LASAGNES À LA BOLOGNAISE
P63: Légumes | Q63: =D21 -> SALADE MÉLANGÉE | T63: Légumes | U63: =H21 -> RATATOUILLE
Q64: =D22 -> FRITES (FOUR) | U64: =H22 -> FRITES (FOUR)
Q65: =D23 -> HARICOTS VERTS | U65: =H23 -> HARICOTS VERTS
Q66: =D24 -> SPAGHETTIS | U66: =H24 -> PURÉE
P68: CONSTANTES 2 | T68: CONSTANTES 2
P70: Potage | Q70: POTAGE LEGUMES | T70: Potage | U70: POTAGE LEGUMES
P72: Viande | Q72: =#REF! -> #REF! | T72: Viande | U72: =#REF! -> #REF!
P74: Légume | Q74: =D31 -> 0 | T74: Légume | U74: =H31 -> 0
P76: Fromage / Laitages | Q76: CAMEMBERT | T76: Fromage / Laitages | U76: CAMEMBERT
Q77: YAOURT NATURE | U77: YAOURT NATURE
Q78: PETITS SUISSE NATURE | U78: PETITS SUISSE NATURE
Q79: CPE DE POMME | U79: CPE DE POMME
P81: Repas du : | Q81: =B1 -> 41729 | T81: Repas du : | U81: =F1 -> 41731
P83: Hors d'œuvre | Q83: =B4 -> PHILIPPE JOSEPHINE | T83: Hors d'œuvre | U83: =F4 -> CHOU-ROUGE VINAIGRETTE
P84: Charcuterie | Q84: =B5 -> GALANTINE DE VOLAILLE | T84: Charcuterie | U84: =F5 -> Valérie
P86: Plat 1 | Q86: =B6 -> GIGOT JUS | T86: Plat 1 | U86: =F6 -> CERVELAS ORLOFF
Q87: =B7 -> POMMES BOULANGÈRES | U87: =F7 -> GRATIN DE CHOU-FLEUR
P89: Plat 2 | Q89: =B8 -> FILET POISSON CUIT AURORE | T89: Plat 2 | U89: =F8 -> CURRY DE BOEUF
Q90: =B9 -> BROCOLIS | U90: =F9 -> MINIS FARFALLES (PÂTES)
P92: Fromage | Q92: =B10 -> LE CARRE | T92: Fromage | U92: =F10 -> CAMEMBERT
P93: Laitage | Q93: =B11 -> YAOURT AROMATISÉ | T93: Laitage | U93: =F11 -> YAOURT BULGY PULPE
P94: Dessert 1 | Q94: =B12 -> CREME DESSERT CARAMEL | T94: Dessert 1 | U94: =F12 -> LIEGEOIS A LA VANILLE
P95: Dessert 2 | Q95: =B13 -> FRUIT | T95: Dessert 2 | U95: =F13 -> FRUIT
P97: CONSTANTES 1 | T97: CONSTANTES 1
P99: Hors d'œuvre | Q99: =B14 -> TOMATE (ENTIÈRE) | T99: Hors d'œuvre | U99: =F14 -> TOMATE (ENTIÈRE)
Q100: =B15 -> CUBES DE BETTERAVES | U100: =F15 -> CUBES DE BETTERAVES
P102: Potage | Q102: =B16 -> POTAGE AUX COURGETTES | T102: Potage | U102: =F16 -> POTAGE AUX CAROTTES
P104: Salade comp. | Q104: =B29 -> . | T104: Salade comp. | U104: =F29 -> .
P106: Viandes / poisson | Q106: =B17 -> OMELETTE AU FROMAGE | T106: Viandes / poisson | U106: =F17 -> STEAK (CUIT)
Q107: =B18 -> JAMBON BLANC # | U107: =F18 -> JAMBON BLANC #
Q108: =B19 -> PAVÉ DE POISSON SCE CRÈME | U108: =F19 -> PAVÉ DE POISSON SCE CRÈME
Q109: =B20 -> LASAGNES À LA BOLOGNAISE | U109: =F20 -> LASAGNES À LA BOLOGNAISE
P111: Légumes | Q111: =B21 -> CAROTTES ÉTUVÉES | T111: Légumes | U111: =F21 -> SALADE MÉLANGÉE
Q112: =B22 -> FRITES (FOUR) | U112: =F22 -> FRITES (FOUR)
Q113: =B23 -> HARICOTS VERTS | U113: =F23 -> HARICOTS VERTS
Q114: =B24 -> SPAGHETTIS | U114: =F24 -> SPAGHETTIS
P116: CONSTANTES 2 | T116: CONSTANTES 2
P118: Potage | Q118: POTAGE LEGUMES | T118: Potage | U118: POTAGE LEGUMES
P120: Viande | Q120: =#REF! -> #REF! | T120: Viande | U120: =#REF! -> #REF!
P122: Légume | Q122: =B31 -> 0 | T122: Légume | U122: =F31 -> 0
P124: Fromage / Laitages | Q124: CAMEMBERT | T124: Fromage / Laitages | U124: CAMEMBERT
Q125: YAOURT NATURE | U125: YAOURT NATURE
Q126: PETITS SUISSE NATURE | U126: PETITS SUISSE NATURE
Q127: CPE DE POMME | U127: CPE DE POMME
V137: Vendredi | W137: =U33+1 -> 41733 | X137: Repas du : | Y137: Samedi | Z137: =W137+1 -> 41734 | AA137: Dimanche | AB137: =Z137+1 -> 41735 | AE137: Vendredi | AF137: =W137 -> 41733 | AG137: Repas du : | AH137: Samedi | AI137: =AF137+1 -> 41734 | AJ137: Dimanche | AK137: =AI137+1 -> 41735
V138: =J4 -> TABOULÉ | X138: Entrée | Y138: =L4 -> POIREAUX VINAIGRETTE | AA138: =N4 -> POMMES TERRE HUILE | AE138: =V138 -> TABOULÉ | AG138: Entrée | AH138: =Y138 -> POIREAUX VINAIGRETTE | AJ138: =AA138 -> POMMES TERRE HUILE
V139: =J5 -> ANDOUILLE SAUCISSON AIL | X139: Charcuterie | Y139: =L5 -> SALAMI | AA139: =N5 -> PÂTÉ DE CAMPAGNE | AE139: =V139 -> ANDOUILLE SAUCISSON AIL | AG139: Charcuterie | AH139: =Y139 -> SALAMI | AJ139: =AA139 -> PÂTÉ DE CAMPAGNE
V141: =J6 -> PORTION POISSON SAFRAN | X141: Plat 1 | Y141: =L6 -> POULE AU BLANC | AA141: =N6 -> FILET POIS CUIT BRUNOISE | AE141: =V141 -> PORTION POISSON SAFRAN | AG141: Plat 1 | AH141: =Y141 -> POULE AU BLANC | AJ141: =AA141 -> FILET POIS CUIT BRUNOISE
V142: =J7 -> RATATOUILLE | Y142: =L7 -> RIZ CRÉOLE | AA142: =N7 -> BOUQUETIÈRE | AE142: =V142 -> RATATOUILLE | AH142: =Y142 -> RIZ CRÉOLE | AJ142: =AA142 -> BOUQUETIÈRE
V144: =J8 -> JAMBONNEAU | X144: Plat 2 | Y144: =L8 -> ECHINE PORC TOMATE | AA144: =N8 -> PAUPIETTE DINDE ESTRAGON | AE144: =V144 -> JAMBONNEAU | AG144: Plat 2 | AH144: =Y144 -> ECHINE PORC TOMATE | AJ144: =AA144 -> PAUPIETTE DINDE ESTRAGON
V145: =J9 -> PURÉE | Y145: =L9 -> BRUNOISE DE LÉGUMES | AA145: =N9 -> SPAGHETTIS | AE145: =V145 -> PURÉE | AH145: =Y145 -> BRUNOISE DE LÉGUMES | AJ145: =AA145 -> SPAGHETTIS
V147: =J10 -> TOME NOIRE | X147: Fromage | Y147: =L10 -> MIMOLETTE | AA147: =N10 -> COULOMMIERS | AE147: =V147 -> TOME NOIRE | AG147: Fromage | AH147: =Y147 -> MIMOLETTE | AJ147: =AA147 -> COULOMMIERS
V148: =J11 -> YAOURT SUCRÉ | X148: Laitage | Y148: =L11 -> YAOURT AROMATISÉ | AA148: =N11 -> SUISSE FRUITÉ | AE148: =V148 -> YAOURT SUCRÉ | AG148: Laitage | AH148: =Y148 -> YAOURT AROMATISÉ | AJ148: =AA148 -> SUISSE FRUITÉ
V149: =J12 -> MOUSSE CHOCOLAT NOIR | X149: Dessert 1 | Y149: =L12 -> MILLE-FEUILLES | AA149: =N12 -> RIZ AU LAIT CARAMEL | AE149: =V149 -> MOUSSE CHOCOLAT NOIR | AG149: Dessert 1 | AH149: =Y149 -> MILLE-FEUILLES | AJ149: =AA149 -> RIZ AU LAIT CARAMEL
V150: =J13 -> FRUIT | X150: Dessert 2 | Y150: =L13 -> FRUIT | AA150: =N13 -> FRUIT | AE150: =V150 -> FRUIT | AG150: Dessert 2 | AH150: =Y150 -> FRUIT | AJ150: =AA150 -> FRUIT
V151: =P49 -> CONSTANTES 1
V152: =J14 -> TOMATE (ENTIÈRE) | X152: Hors | Y152: =L14 -> CAROTTES RÂPÉES | AA152: =N14 -> TOMATE (ENTIÈRE) | AE152: =V152 -> TOMATE (ENTIÈRE) | AG152: Hors | AH152: =Y152 -> CAROTTES RÂPÉES | AJ152: =AA152 -> TOMATE (ENTIÈRE)
V153: =J15 -> CUBES DE BETTERAVES | X153: d'œuvre | Y153: =L15 -> OEUFS NATURE (ENT) | AA153: =N15 -> CUBES DE BETTERAVES | AE153: =V153 -> CUBES DE BETTERAVES | AG153: d'œuvre | AH153: =Y153 -> OEUFS NATURE (ENT) | AJ153: =AA153 -> CUBES DE BETTERAVES
V155: =J16 -> POTAGE BROCOLIS | X155: Potage | Y155: =L16 -> POTAGE AUX COURGETTES | AA155: =N16 -> POTAGE AUX LÉGUMES | AE155: =V155 -> POTAGE BROCOLIS | AG155: Potage | AH155: =Y155 -> POTAGE AUX COURGETTES | AJ155: =AA155 -> POTAGE AUX LÉGUMES
V157: =J29 -> . | X157: Sal. Comp. | Y157: =L29 -> . | AA157: =N29 -> . | AE157: =V157 -> . | AG157: Sal. Comp. | AH157: =Y157 -> . | AJ157: =AA157 -> .
V159: =J17 -> STEAK (CUIT) | X159: Viandes | Y159: =L17 -> STEAK HACHÉ (CUIT) | AA159: =N17 -> STEAK (CUIT) | AE159: =V159 -> STEAK (CUIT) | AG159: Viandes | AH159: =Y159 -> STEAK HACHÉ (CUIT) | AJ159: =AA159 -> STEAK (CUIT)
V160: =J18 -> JAMBON BLANC # | Y160: =L18 -> JAMBON BLANC # | AA160: =N18 -> JAMBON BLANC # | AE160: =V160 -> JAMBON BLANC # | AH160: =Y160 -> JAMBON BLANC # | AJ160: =AA160 -> JAMBON BLANC #
V161: =J19 -> PAVÉ POISSON SCE CRÈME | Y161: =L19 -> PAVÉ POISSON SCE CRÈME | AA161: =N19 -> PAVÉ POISSON SCE CRÈME | AE161: =V161 -> PAVÉ POISSON SCE CRÈME | AH161: =Y161 -> PAVÉ POISSON SCE CRÈME | AJ161: =AA161 -> PAVÉ POISSON SCE CRÈME
V162: =J20 -> LASAGNES BOLOGNAISE | Y162: =L20 -> LASAGNES BOLOGNAISE | AA162: =N20 -> LASAGNES BOLOGNAISE | AE162: =V162 -> LASAGNES BOLOGNAISE | AH162: =Y162 -> LASAGNES BOLOGNAISE | AJ162: =AA162 -> LASAGNES BOLOGNAISE
...

Sheet Lun Mar Mer Jeu
A1: Lundi | E1: ='Saisie Menus'!B1 -> 41729 | G1: ='Saisie Menus'!P81 -> Repas du : | H1: Mardi | J1: ='Saisie Menus'!Q33 -> 41730 | P1: Mercredi | T1: =J1+1 -> 41731 | V1: =G1 -> Repas du : | W1: Jeudi | Y1: =T1+1 -> 41732 | AG1: =#REF! -> #REF! | AH1: =#REF! -> #REF! | AJ1: =#REF! -> #REF! | AK1: =#REF! -> #REF! | AO1: =#REF! -> #REF! | AP1: =#REF! -> #REF!
A2: N | B2: C | C2: D | K2: N | L2: C | M2: D | P2: N | Q2: C | R2: D | Z2: N | AA2: C | AB2: D | AD2: N | AE2: C | AF2: D | AL2: N | AM2: C | AN2: D | AQ2: N | AR2: C | AS2: D
D3: ='Saisie Menus'!Q83 -> PHILIPPE JOSEPHINE | G3: Entrées | H3: ='Saisie Menus'!Q35 -> SALADE NORVÉGIENNE | P3: 1 | S3: ='Saisie Menus'!U83 -> CHOU-ROUGE VINAIGRETTE | V3: Entrées | W3: ='Saisie Menus'!U35 -> RIZ NIÇOIS | AG3: =#REF! -> #REF! | AH3: =#REF! -> #REF! | AI3: =#REF! -> #REF! | AJ3: =#REF! -> #REF! | AK3: =#REF! -> #REF! | AO3: =#REF! -> #REF! | AP3: =#REF! -> #REF!
D4: ='Saisie Menus'!Q84 -> GALANTINE DE VOLAILLE | H4: ='Saisie Menus'!Q36 -> SAUCISSON SEC | S4: ='Saisie Menus'!U84 -> Valérie | W4: ='Saisie Menus'!U36 -> MORTADELLE | AG4: =#REF! -> #REF! | AH4: =#REF! -> #REF! | AI4: =#REF! -> #REF! | AJ4: =#REF! -> #REF! | AK4: =#REF! -> #REF! | AO4: =#REF! -> #REF! | AP4: =#REF! -> #REF!
D5: ='Saisie Menus'!Q86 -> GIGOT JUS | G5: Plat 1 | H5: ='Saisie Menus'!Q38 -> CUISSE POULET VALLÉE D'AUGE | S5: ='Saisie Menus'!U86 -> CERVELAS ORLOFF | V5: Plat 1 | W5: ='Saisie Menus'!U38 -> EMINCE POULET CHARCUTIERE | AG5: =#REF! -> #REF! | AH5: =#REF! -> #REF! | AI5: =#REF! -> #REF! | AJ5: =#REF! -> #REF! | AK5: =#REF! -> #REF! | AO5: =#REF! -> #REF! | AP5: =#REF! -> #REF!
D6: ='Saisie Menus'!Q87 -> POMMES BOULANGÈRES | H6: ='Saisie Menus'!Q39 -> JEUNES CAROTTES ÉTUVÉES | S6: ='Saisie Menus'!U87 -> GRATIN DE CHOU-FLEUR | W6: ='Saisie Menus'!U39 -> FLAGEOLETS | AG6: =#REF! -> #REF! | AH6: =#REF! -> #REF! | AI6: =#REF! -> #REF! | AJ6: =#REF! -> #REF! | AK6: =#REF! -> #REF! | AO6: =#REF! -> #REF! | AP6: =#REF! -> #REF!
D8: ='Saisie Menus'!Q89 -> FILET POISSON CUIT AURORE | G8: ='Saisie Menus'!P89 -> Plat 2 | H8: ='Saisie Menus'!Q41 -> MIJOTÉ DE PORC MARENGO | S8: ='Saisie Menus'!U89 -> CURRY DE BOEUF | V8: =G8 -> Plat 2 | W8: ='Saisie Menus'!U41 -> TARTE PROVENÇALE | AG8: =#REF! -> #REF! | AH8: =#REF! -> #REF! | AI8: =#REF! -> #REF! | AJ8: =#REF! -> #REF! | AK8: =#REF! -> #REF! | AO8: =#REF! -> #REF! | AP8: =#REF! -> #REF!
D9: ='Saisie Menus'!Q90 -> BROCOLIS | H9: ='Saisie Menus'!Q42 -> PETITS POIS | P9: 1 | S9: ='Saisie Menus'!U90 -> MINIS FARFALLES (PÂTES) | W9: ='Saisie Menus'!U42 -> SALADE MÉLANGÉE | AG9: =#REF! -> #REF! | AH9: =#REF! -> #REF! | AI9: =#REF! -> #REF! | AJ9: =#REF! -> #REF! | AK9: =#REF! -> #REF! | AO9: =#REF! -> #REF! | AP9: =#REF! -> #REF!
D11: ='Saisie Menus'!Q92 -> LE CARRE | G11: ='Saisie Menus'!P92 -> Fromage | H11: ='Saisie Menus'!Q44 -> RONDELÉ NATURE FLEUR DE SEL | P11: 1 | S11: ='Saisie Menus'!U92 -> CAMEMBERT | V11: =G11 -> Fromage | W11: ='Saisie Menus'!U44 -> BOURSIN AIL & FINES HERBES | AG11: =#REF! -> #REF! | AH11: =#REF! -> #REF! | AI11: =#REF! -> #REF! | AJ11: =#REF! -> #REF! | AK11: =#REF! -> #REF! | AO11: =#REF! -> #REF! | AP11: =#REF! -> #REF!
D12: ='Saisie Menus'!Q93 -> YAOURT AROMATISÉ | G12: ='Saisie Menus'!P93 -> Laitage | H12: ='Saisie Menus'!Q45 -> FROMAGE BLANC SUCRÉ | P12: 1 | S12: ='Saisie Menus'!U93 -> YAOURT BULGY PULPE | V12: =G12 -> Laitage | W12: ='Saisie Menus'!U45 -> SUISSE SUCRÉ | AG12: =#REF! -> #REF! | AH12: =#REF! -> #REF! | AI12: =#REF! -> #REF! | AJ12: =#REF! -> #REF! | AK12: =#REF! -> #REF! | AO12: =#REF! -> #REF! | AP12: =#REF! -> #REF!
D13: ='Saisie Menus'!Q94 -> CREME DESSERT CARAMEL | G13: ='Saisie Menus'!P94 -> Dessert 1 | H13: ='Saisie Menus'!Q46 -> COCKTAIL DE FRUITS AU SIROP | P13: 1 | Q13: 1 | S13: ='Saisie Menus'!U94 -> LIEGEOIS A LA VANILLE | V13: =G13 -> Dessert 1 | W13: ='Saisie Menus'!U46 -> ÉCLAIR AU CHOCOLAT | AG13: =#REF! -> #REF! | AH13: =#REF! -> #REF! | AI13: =#REF! -> #REF! | AJ13: =#REF! -> #REF! | AK13: =#REF! -> #REF! | AO13: =#REF! -> #REF! | AP13: =#REF! -> #REF!
D14: ='Saisie Menus'!Q95 -> FRUIT | G14: ='Saisie Menus'!P95 -> Dessert 2 | H14: ='Saisie Menus'!Q47 -> FRUIT | S14: ='Saisie Menus'!U95 -> FRUIT | V14: =G14 -> Dessert 2 | W14: ='Saisie Menus'!U47 -> FRUIT | AG14: =#REF! -> #REF! | AH14: =#REF! -> #REF! | AI14: =#REF! -> #REF! | AJ14: =#REF! -> #REF! | AK14: =#REF! -> #REF! | AO14: =#REF! -> #REF! | AP14: =#REF! -> #REF!
D15: CONSTANTES 1 | S15: CONSTANTES 1 | AG15: =#REF! -> #REF! | AH15: =#REF! -> #REF! | AI15: =#REF! -> #REF! | AJ15: =#REF! -> #REF! | AK15: =#REF! -> #REF! | AO15: =#REF! -> #REF! | AP15: =#REF! -> #REF!
D16: ='Saisie Menus'!Q99 -> TOMATE (ENTIÈRE) | G16: Entrées | H16: ='Saisie Menus'!Q51 -> CAROTTES RÂPÉES | S16: ='Saisie Menus'!U99 -> TOMATE (ENTIÈRE) | V16: Entrées | W16: ='Saisie Menus'!U51 -> CAROTTES RÂPÉES | AG16: =#REF! -> #REF! | AH16: =#REF! -> #REF! | AI16: =#REF! -> #REF! | AJ16: =#REF! -> #REF! | AK16: =#REF! -> #REF! | AO16: =#REF! -> #REF! | AP16: =#REF! -> #REF!
D17: ='Saisie Menus'!Q100 -> CUBES DE BETTERAVES | H17: ='Saisie Menus'!Q52 -> OEUFS NATURE (ENT) | S17: ='Saisie Menus'!U100 -> CUBES DE BETTERAVES | W17: ='Saisie Menus'!U52 -> OEUFS NATURE (ENT) | AG17: =#REF! -> #REF! | AH17: =#REF! -> #REF! | AI17: =#REF! -> #REF! | AJ17: =#REF! -> #REF! | AK17: =#REF! -> #REF! | AO17: =#REF! -> #REF! | AP17: =#REF! -> #REF!
D19: ='Saisie Menus'!Q102 -> POTAGE AUX COURGETTES | G19: ='Saisie Menus'!P102 -> Potage | H19: ='Saisie Menus'!Q54 -> POTAGE AUX LÉGUMES | S19: ='Saisie Menus'!U102 -> POTAGE AUX CAROTTES | V19: =G19 -> Potage | W19: ='Saisie Menus'!U54 -> POTAGE AUX POIREAUX | AG19: =#REF! -> #REF! | AH19: =#REF! -> #REF! | AI19: =#REF! -> #REF! | AJ19: =#REF! -> #REF! | AK19: =#REF! -> #REF! | AO19: =#REF! -> #REF! | AP19: =#REF! -> #REF!
D21: ='Saisie Menus'!Q104 -> . | G21: ='Saisie Menus'!P104 -> Salade comp. | H21: ='Saisie Menus'!Q56 -> . | S21: ='Saisie Menus'!U104 -> . | V21: =G21 -> Salade comp. | W21: ='Saisie Menus'!U56 -> . | AG21: =#REF! -> #REF! | AH21: =#REF! -> #REF! | AI21: =#REF! -> #REF! | AJ21: =#REF! -> #REF! | AK21: =#REF! -> #REF! | AO21: =#REF! -> #REF! | AP21: =#REF! -> #REF!
D23: ='Saisie Menus'!Q106 -> OMELETTE AU FROMAGE | G23: Viande | H23: ='Saisie Menus'!Q58 -> HACHIS PARMENTIER | S23: ='Saisie Menus'!U106 -> STEAK (CUIT) | V23: Viande | W23: ='Saisie Menus'!U58 -> STEAK HACHÉ (CUIT) | AG23: =#REF! -> #REF! | AH23: =#REF! -> #REF! | AI23: =#REF! -> #REF! | AJ23: =#REF! -> #REF! | AK23: =#REF! -> #REF! | AO23: =#REF! -> #REF! | AP23: =#REF! -> #REF!
D24: ='Saisie Menus'!Q107 -> JAMBON BLANC # | H24: ='Saisie Menus'!Q59 -> JAMBON BLANC # | S24: ='Saisie Menus'!U107 -> JAMBON BLANC # | W24: ='Saisie Menus'!U59 -> JAMBON BLANC # | AG24: =#REF! -> #REF! | AH24: =#REF! -> #REF! | AI24: =#REF! -> #REF! | AJ24: =#REF! -> #REF! | AK24: =#REF! -> #REF! | AO24: =#REF! -> #REF! | AP24: =#REF! -> #REF!
D25: ='Saisie Menus'!Q108 -> PAVÉ DE POISSON SCE CRÈME | G25: Poisson | H25: ='Saisie Menus'!Q60 -> PAVÉ DE POISSON SCE CRÈME | S25: ='Saisie Menus'!U108 -> PAVÉ DE POISSON SCE CRÈME | V25: Poisson | W25: ='Saisie Menus'!U60 -> PAVÉ DE POISSON SCE CRÈME | AG25: =#REF! -> #REF! | AH25: =#REF! -> #REF! | AI25: =#REF! -> #REF! | AJ25: =#REF! -> #REF! | AK25: =#REF! -> #REF! | AO25: =#REF! -> #REF! | AP25: =#REF! -> #REF!
D26: ='Saisie Menus'!Q109 -> LASAGNES À LA BOLOGNAISE | H26: ='Saisie Menus'!Q61 -> LASAGNES À LA BOLOGNAISE | S26: ='Saisie Menus'!U109 -> LASAGNES À LA BOLOGNAISE | W26: ='Saisie Menus'!U61 -> LASAGNES À LA BOLOGNAISE | AG26: =#REF! -> #REF! | AH26: =#REF! -> #REF! | AI26: =#REF! -> #REF! | AJ26: =#REF! -> #REF! | AK26: =#REF! -> #REF! | AO26: =#REF! -> #REF! | AP26: =#REF! -> #REF!
D28: ='Saisie Menus'!Q111 -> CAROTTES ÉTUVÉES | G28: ='Saisie Menus'!P111 -> Légumes | H28: ='Saisie Menus'!Q63 -> SALADE MÉLANGÉE | S28: ='Saisie Menus'!U111 -> SALADE MÉLANGÉE | V28: =G28 -> Légumes | W28: ='Saisie Menus'!U63 -> RATATOUILLE | AG28: =#REF! -> #REF! | AH28: =#REF! -> #REF! | AI28: =#REF! -> #REF! | AJ28: =#REF! -> #REF! | AK28: =#REF! -> #REF! | AO28: =#REF! -> #REF! | AP28: =#REF! -> #REF!
D29: ='Saisie Menus'!Q112 -> FRITES (FOUR) | H29: ='Saisie Menus'!Q64 -> FRITES (FOUR) | S29: ='Saisie Menus'!U112 -> FRITES (FOUR) | W29: ='Saisie Menus'!U64 -> FRITES (FOUR) | AG29: =#REF! -> #REF! | AH29: =#REF! -> #REF! | AI29: =#REF! -> #REF! | AJ29: =#REF! -> #REF! | AK29: =#REF! -> #REF! | AO29: =#REF! -> #REF! | AP29: =#REF! -> #REF!
D30: ='Saisie Menus'!Q113 -> HARICOTS VERTS | H30: ='Saisie Menus'!Q65 -> HARICOTS VERTS | S30: ='Saisie Menus'!U113 -> HARICOTS VERTS | W30: ='Saisie Menus'!U65 -> HARICOTS VERTS | AG30: =#REF! -> #REF! | AH30: =#REF! -> #REF! | AI30: =#REF! -> #REF! | AJ30: =#REF! -> #REF! | AK30: =#REF! -> #REF! | AO30: =#REF! -> #REF! | AP30: =#REF! -> #REF!
D31: ='Saisie Menus'!Q114 -> SPAGHETTIS | H31: ='Saisie Menus'!Q66 -> SPAGHETTIS | S31: ='Saisie Menus'!U114 -> SPAGHETTIS | W31: ='Saisie Menus'!U66 -> PURÉE | AG31: =#REF! -> #REF! | AH31: =#REF! -> #REF! | AI31: =#REF! -> #REF! | AJ31: =#REF! -> #REF! | AK31: =#REF! -> #REF! | AO31: =#REF! -> #REF! | AP31: =#REF! -> #REF!
D32: CONSTANTES 2 | S32: CONSTANTES 2 | AG32: =#REF! -> #REF! | AH32: =#REF! -> #REF! | AI32: =#REF! -> #REF! | AJ32: =#REF! -> #REF! | AK32: =#REF! -> #REF! | AO32: =#REF! -> #REF! | AP32: =#REF! -> #REF!
D33: _ _ _ _ _ _ _ _ _ _ | G33: ='Saisie Menus'!P118 -> Potage | H33: _ _ _ _ _ _ _ _ _ _ | Q33: 1 | S33: _ _ _ _ _ _ _ _ _ _ | V33: =G33 -> Potage | W33: _ _ _ _ _ _ _ _ _ _ | AG33: =#REF! -> #REF! | AH33: =#REF! -> #REF! | AI33: =#REF! -> #REF! | AJ33: =#REF! -> #REF! | AK33: =#REF! -> #REF! | AO33: =#REF! -> #REF! | AP33: =#REF! -> #REF!
D34: ='Saisie Menus'!Q118 -> POTAGE LEGUMES | H34: ='Saisie Menus'!Q70 -> POTAGE LEGUMES | S34: ='Saisie Menus'!U118 -> POTAGE LEGUMES | W34: ='Saisie Menus'!U70 -> POTAGE LEGUMES | AG34: =#REF! -> #REF! | AH34: =#REF! -> #REF! | AI34: =#REF! -> #REF! | AJ34: =#REF! -> #REF! | AK34: =#REF! -> #REF! | AO34: =#REF! -> #REF! | AP34: =#REF! -> #REF!
D36: ='Saisie Menus'!Q124 -> CAMEMBERT | H36: ='Saisie Menus'!Q76 -> CAMEMBERT | S36: ='Saisie Menus'!U124 -> CAMEMBERT | W36: ='Saisie Menus'!U76 -> CAMEMBERT | AG36: =#REF! -> #REF! | AI36: =#REF! -> #REF! | AJ36: =#REF! -> #REF! | AO36: =#REF! -> #REF!
D37: ='Saisie Menus'!Q125 -> YAOURT NATURE | G37: Fromage | H37: ='Saisie Menus'!Q77 -> YAOURT NATURE | S37: ='Saisie Menus'!U125 -> YAOURT NATURE | V37: Fromage | W37: ='Saisie Menus'!U77 -> YAOURT NATURE | AG37: =#REF! -> #REF! | AJ37: =#REF! -> #REF! | AO37: =#REF! -> #REF!
D38: ='Saisie Menus'!Q126 -> PETITS SUISSE NATURE | G38: Laitages | H38: ='Saisie Menus'!Q78 -> PETITS SUISSE NATURE | R38: 1 | S38: ='Saisie Menus'!U126 -> PETITS SUISSE NATURE | V38: Laitages | W38: ='Saisie Menus'!U78 -> PETITS SUISSE NATURE | AG38: =#REF! -> #REF! | AI38: =#REF! -> #REF! | AJ38: =#REF! -> #REF! | AO38: =#REF! -> #REF!
D39: ='Saisie Menus'!Q127 -> CPE DE POMME | H39: ='Saisie Menus'!Q79 -> CPE DE POMME | S39: ='Saisie Menus'!U127 -> CPE DE POMME | W39: ='Saisie Menus'!U79 -> CPE DE POMME | AG39: =#REF! -> #REF! | AJ39: =#REF! -> #REF! | AO39: =#REF! -> #REF!
D40: =#REF! -> #REF! | P40: =SUM(P36:Q39,P33:Q34,P28:P31,P23:P26,P21,P19,P16:Q17,Q19,P11:Q14,P8:P9,P5:P6,P3:Q4) -> 7 | S40: =D40 -> #REF! | AG40: =D40 -> #REF!
A41: =A1 -> Lundi | E41: =E1 -> 41729 | G41: =G1 -> Repas du : | H41: =H1 -> Mardi | J41: =J1 -> 41730 | O41: =O1 -> 0 | P41: =P1 -> Mercredi | T41: =T1 -> 41731 | V41: =V1 -> Repas du : | W41: =W1 -> Jeudi | Y41: =Y1 -> 41732 | AG41: =AG1 -> #REF! | AH41: =AH1 -> #REF! | AJ41: =AJ1 -> #REF! | AK41: =AK1 -> #REF! | AO41: =AO1 -> #REF! | AP41: =AP1 -> #REF!
A42: =A2 -> N | B42: =B2 -> C | C42: =C2 -> D | K42: =K2 -> N | L42: =L2 -> C | M42: =M2 -> D | P42: =P2 -> N | Q42: =Q2 -> C | R42: =R2 -> D | Z42: =Z2 -> N | AA42: =AA2 -> C | AB42: =AB2 -> D | AD42: =AD2 -> N | AE42: =AE2 -> C | AF42: =AF2 -> D | AL42: =AL2 -> N | AM42: =AM2 -> C | AN42: =AN2 -> D | AQ42: =AQ2 -> N | AR42: =AR2 -> C | AS42: =AS2 -> D
A43: 1 | B43: 1 | D43: =D3 -> PHILIPPE JOSEPHINE | G43: =G3 -> Entrées | H43: =H3 -> SALADE NORVÉGIENNE | S43: =S3 -> CHOU-ROUGE VINAIGRETTE | V43: =V3 -> Entrées | W43: =W3 -> RIZ NIÇOIS | AG43: =AG3 -> #REF! | AI43: =AI3 -> #REF! | AJ43: =AJ3 -> #REF! | AO43: =AO3 -> #REF!
A44: 1 | D44: =D4 -> GALANTINE DE VOLAILLE | H44: =H4 -> SAUCISSON SEC | S44: =S4 -> Valérie | W44: =W4 -> MORTADELLE | AG44: =AG4 -> #REF! | AI44: =AI4 -> #REF! | AJ44: =AJ4 -> #REF! | AO44: =AO4 -> #REF!
D46: =D5 -> GIGOT JUS | G46: =G5 -> Plat 1 | H46: =H5 -> CUISSE POULET VALLÉE D'AUGE | S46: =S5 -> CERVELAS ORLOFF | V46: =V5 -> Plat 1 | W46: =W5 -> EMINCE POULET CHARCUTIERE | AG46: =AG5 -> #REF! | AI46: =AI5 -> #REF! | AJ46: =AJ5 -> #REF! | AO46: =AO5 -> #REF!
D47: =D6 -> POMMES BOULANGÈRES | H47: =H6 -> JEUNES CAROTTES ÉTUVÉES | S47: =S6 -> GRATIN DE CHOU-FLEUR | W47: =W6 -> FLAGEOLETS | AG47: =AG6 -> #REF! | AJ47: =AJ6 -> #REF! | AO47: =AO6 -> #REF!
D49: =D8 -> FILET POISSON CUIT AURORE | G49: =G8 -> Plat 2 | H49: =H8 -> MIJOTÉ DE PORC MARENGO | S49: =S8 -> CURRY DE BOEUF | V49: =V8 -> Plat 2 | W49: =W8 -> TARTE PROVENÇALE | AG49: =AG8 -> #REF! | AI49: =AI8 -> #REF! | AJ49: =AJ8 -> #REF! | AO49: =AO8 -> #REF!
D50: =D9 -> BROCOLIS | H50: =H9 -> PETITS POIS | S50: =S9 -> MINIS FARFALLES (PÂTES) | W50: =W9 -> SALADE MÉLANGÉE | AG50: =AG9 -> #REF! | AJ50: =AJ9 -> #REF! | AO50: =AO9 -> #REF!
D52: =D11 -> LE CARRE | G52: =G11 -> Fromage | H52: =H11 -> RONDELÉ NATURE FLEUR DE SEL | S52: =S11 -> CAMEMBERT | V52: =V11 -> Fromage | W52: =W11 -> BOURSIN AIL & FINES HERBES | AG52: =AG11 -> #REF! | AI52: =AI11 -> #REF! | AJ52: =AJ11 -> #REF! | AO52: =AO11 -> #REF!
D53: =D12 -> YAOURT AROMATISÉ | G53: =G12 -> Laitage | H53: =H12 -> FROMAGE BLANC SUCRÉ | S53: =S12 -> YAOURT BULGY PULPE | V53: =V12 -> Laitage | W53: =W12 -> SUISSE SUCRÉ | AG53: =AG12 -> #REF! | AI53: =AI12 -> #REF! | AJ53: =AJ12 -> #REF! | AO53: =AO12 -> #REF!
D54: =D13 -> CREME DESSERT CARAMEL | G54: =G13 -> Dessert 1 | H54: =H13 -> COCKTAIL DE FRUITS AU SIROP | S54: =S13 -> LIEGEOIS A LA VANILLE | V54: =V13 -> Dessert 1 | W54: =W13 -> ÉCLAIR AU CHOCOLAT | AG54: =AG13 -> #REF! | AI54: =AI13 -> #REF! | AJ54: =AJ13 -> #REF! | AO54: =AO13 -> #REF!
D55: =D14 -> FRUIT | G55: =G14 -> Dessert 2 | H55: =H14 -> FRUIT | S55: =S14 -> FRUIT | V55: =V14 -> Dessert 2 | W55: =W14 -> FRUIT | AG55: =AG14 -> #REF! | AI55: =AI14 -> #REF! | AJ55: =AJ14 -> #REF! | AO55: =AO14 -> #REF!
D56: =D15 -> CONSTANTES 1 | S56: =S15 -> CONSTANTES 1 | AG56: =AG15 -> #REF!
D57: =D16 -> TOMATE (ENTIÈRE) | G57: =G16 -> Entrées | H57: =H16 -> CAROTTES RÂPÉES | S57: =S16 -> TOMATE (ENTIÈRE) | V57: =V16 -> Entrées | W57: =W16 -> CAROTTES RÂPÉES | AG57: =AG16 -> #REF! | AI57: =AI16 -> #REF! | AJ57: =AJ16 -> #REF! | AO57: =AO16 -> #REF!
D58: =D17 -> CUBES DE BETTERAVES | H58: =H17 -> OEUFS NATURE (ENT) | S58: =S17 -> CUBES DE BETTERAVES | W58: =W17 -> OEUFS NATURE (ENT) | AG58: =AG17 -> #REF! | AI58: =AI17 -> #REF! | AJ58: =AJ17 -> #REF! | AO58: =AO17 -> #REF!
D60: =D19 -> POTAGE AUX COURGETTES | G60: =G19 -> Potage | H60: =H19 -> POTAGE AUX LÉGUMES | S60: =S19 -> POTAGE AUX CAROTTES | V60: =V19 -> Potage | W60: =W19 -> POTAGE AUX POIREAUX | AG60: =AG19 -> #REF! | AI60: =AI19 -> #REF! | AJ60: =AJ19 -> #REF! | AO60: =AO19 -> #REF!
D62: =D21 -> . | G62: =G21 -> Salade comp. | H62: =H21 -> . | S62: =S21 -> . | V62: =V21 -> Salade comp. | W62: =W21 -> . | AG62: =AG21 -> #REF! | AI62: =AI21 -> #REF! | AJ62: =AJ21 -> #REF! | AO62: =AO21 -> #REF!
D64: =D23 -> OMELETTE AU FROMAGE | G64: =G23 -> Viande | H64: =H23 -> HACHIS PARMENTIER | S64: =S23 -> STEAK (CUIT) | V64: =V23 -> Viande | W64: =W23 -> STEAK HACHÉ (CUIT) | AG64: =AG23 -> #REF! | AI64: =AI23 -> #REF! | AJ64: =AJ23 -> #REF! | AO64: =AO23 -> #REF!
D65: =D24 -> JAMBON BLANC # | H65: =H24 -> JAMBON BLANC # | S65: =S24 -> JAMBON BLANC # | W65: =W24 -> JAMBON BLANC # | AG65: =AG24 -> #REF! | AJ65: =AJ24 -> #REF! | AO65: =AO24 -> #REF!
D66: =D25 -> PAVÉ DE POISSON SCE CRÈME | G66: =G25 -> Poisson | H66: =H25 -> PAVÉ DE POISSON SCE CRÈME | S66: =S25 -> PAVÉ DE POISSON SCE CRÈME | V66: =V25 -> Poisson | W66: =W25 -> PAVÉ DE POISSON SCE CRÈME | AG66: =AG25 -> #REF! | AJ66: =AJ25 -> #REF! | AO66: =AO25 -> #REF!
D67: =D26 -> LASAGNES À LA BOLOGNAISE | H67: =H26 -> LASAGNES À LA BOLOGNAISE | S67: =S26 -> LASAGNES À LA BOLOGNAISE | W67: =W26 -> LASAGNES À LA BOLOGNAISE | AG67: =AG26 -> #REF! | AJ67: =AJ26 -> #REF! | AO67: =AO26 -> #REF!
D69: =D28 -> CAROTTES ÉTUVÉES | G69: =G28 -> Légumes | H69: =H28 -> SALADE MÉLANGÉE | S69: =S28 -> SALADE MÉLANGÉE | V69: =V28 -> Légumes | W69: =W28 -> RATATOUILLE | AG69: =AG28 -> #REF! | AI69: =AI28 -> #REF! | AJ69: =AJ28 -> #REF! | AO69: =AO28 -> #REF!
D70: =D29 -> FRITES (FOUR) | H70: =H29 -> FRITES (FOUR) | S70: =S29 -> FRITES (FOUR) | W70: =W29 -> FRITES (FOUR) | AG70: =AG29 -> #REF! | AJ70: =AJ29 -> #REF! | AO70: =AO29 -> #REF!
D71: =D30 -> HARICOTS VERTS | H71: =H30 -> HARICOTS VERTS | S71: =S30 -> HARICOTS VERTS | W71: =W30 -> HARICOTS VERTS | AG71: =AG30 -> #REF! | AJ71: =AJ30 -> #REF! | AO71: =AO30 -> #REF!
D72: =D31 -> SPAGHETTIS | H72: =H31 -> SPAGHETTIS | S72: =S31 -> SPAGHETTIS | W72: =W31 -> PURÉE | AG72: =AG31 -> #REF! | AJ72: =AJ31 -> #REF! | AO72: =AO31 -> #REF!
D73: =D32 -> CONSTANTES 2 | S73: =S32 -> CONSTANTES 2 | AG73: =AG32 -> #REF!
D74: =D33 -> _ _ _ _ _ _ _ _ _ _ | G74: =G33 -> Potage | H74: =H33 -> _ _ _ _ _ _ _ _ _ _ | S74: =S33 -> _ _ _ _ _ _ _ _ _ _ | V74: =V33 -> Potage | W74: =W33 -> _ _ _ _ _ _ _ _ _ _ | AG74: =AG33 -> #REF! | AI74: =AI33 -> #REF! | AJ74: =AJ33 -> #REF! | AO74: =AO33 -> #REF!
D75: =D34 -> POTAGE LEGUMES | H75: =H34 -> POTAGE LEGUMES | S75: =S34 -> POTAGE LEGUMES | W75: =W34 -> POTAGE LEGUMES | AG75: =AG34 -> #REF! | AJ75: =AJ34 -> #REF! | AO75: =AO34 -> #REF!
D77: =D36 -> CAMEMBERT | H77: =H36 -> CAMEMBERT | S77: =S36 -> CAMEMBERT | W77: =W36 -> CAMEMBERT | AG77: =AG36 -> #REF! | AH77: =AH36 -> 0 | AI77: =AI36 -> #REF! | AJ77: =AJ36 -> #REF! | AO77: =AO36 -> #REF!
D78: =D37 -> YAOURT NATURE | G78: =G37 -> Fromage | H78: =H37 -> YAOURT NATURE | S78: =S37 -> YAOURT NATURE | V78: =V37 -> Fromage | W78: =W37 -> YAOURT NATURE | AG78: =AG37 -> #REF! | AH78: =AH37 -> 0 | AJ78: =AJ37 -> #REF! | AO78: =AO37 -> #REF!
D79: =D38 -> PETITS SUISSE NATURE | G79: =G38 -> Laitages | H79: =H38 -> PETITS SUISSE NATURE | S79: =S38 -> PETITS SUISSE NATURE | V79: =V38 -> Laitages | W79: =W38 -> PETITS SUISSE NATURE | AG79: =AG38 -> #REF! | AH79: =AH38 -> 0 | AI79: =AI38 -> #REF! | AJ79: =AJ38 -> #REF! | AO79: =AO38 -> #REF!
D80: =D39 -> CPE DE POMME | H80: =H39 -> CPE DE POMME | S80: =S39 -> CPE DE POMME | W80: =W39 -> CPE DE POMME | AG80: =AG39 -> #REF! | AH80: =AH39 -> 0 | AJ80: =AJ39 -> #REF! | AO80: =AO39 -> #REF!
G81: =#REF! -> #REF! | V81: =G81 -> #REF! | AL81: =G81 -> #REF!
A82: =A1 -> Lundi | E82: =E1 -> 41729 | G82: =G1 -> Repas du : | H82: =H1 -> Mardi | J82: =J1 -> 41730 | O82: =O1 -> 0 | P82: =P1 -> Mercredi | T82: =T1 -> 41731 | V82: =V1 -> Repas du : | W82: =W1 -> Jeudi | Y82: =Y1 -> 41732 | AG82: =AG1 -> #REF! | AH82: =AH1 -> #REF! | AJ82: =AJ1 -> #REF! | AK82: =AK1 -> #REF! | AO82: =AO1 -> #REF! | AP82: =AP1 -> #REF!
A83: =A2 -> N | B83: =B2 -> C | C83: =C2 -> D | K83: =K2 -> N | L83: =L2 -> C | M83: =M2 -> D | N83: =N2 -> 0 | O83: =O2 -> 0 | P83: =P2 -> N | Q83: =Q2 -> C | R83: =R2 -> D | Z83: =Z2 -> N | AA83: =AA2 -> C | AB83: =AB2 -> D | AD83: =AD2 -> N | AE83: =AE2 -> C | AF83: =AF2 -> D | AL83: =AL2 -> N | AM83: =AM2 -> C | AN83: =AN2 -> D | AQ83: =AQ2 -> N | AR83: =AR2 -> C | AS83: =AS2 -> D
A84: 1 | B84: 1 | D84: =D3 -> PHILIPPE JOSEPHINE | G84: =G3 -> Entrées | H84: =H3 -> SALADE NORVÉGIENNE | S84: =S3 -> CHOU-ROUGE VINAIGRETTE | V84: =V3 -> Entrées | W84: =W3 -> RIZ NIÇOIS | AG84: =AG3 -> #REF! | AI84: =AI3 -> #REF! | AJ84: =AJ3 -> #REF! | AO84: =AO3 -> #REF!
A85: 1 | D85: =D4 -> GALANTINE DE VOLAILLE | H85: =H4 -> SAUCISSON SEC | S85: =S4 -> Valérie | W85: =W4 -> MORTADELLE | AG85: =AG4 -> #REF! | AI85: =AI4 -> #REF! | AJ85: =AJ4 -> #REF! | AO85: =AO4 -> #REF!
D87: =D5 -> GIGOT JUS | G87: =G5 -> Plat 1 | H87: =H5 -> CUISSE POULET VALLÉE D'AUGE | S87: =S5 -> CERVELAS ORLOFF | V87: =V5 -> Plat 1 | W87: =W5 -> EMINCE POULET CHARCUTIERE | AG87: =AG5 -> #REF! | AI87: =AI5 -> #REF! | AJ87: =AJ5 -> #REF! | AO87: =AO5 -> #REF!
D88: =D6 -> POMMES BOULANGÈRES | H88: =H6 -> JEUNES CAROTTES ÉTUVÉES | S88: =S6 -> GRATIN DE CHOU-FLEUR | W88: =W6 -> FLAGEOLETS | AG88: =AG6 -> #REF! | AJ88: =AJ6 -> #REF! | AO88: =AO6 -> #REF!
D90: =D8 -> FILET POISSON CUIT AURORE | G90: =G8 -> Plat 2 | H90: =H8 -> MIJOTÉ DE PORC MARENGO | S90: =S8 -> CURRY DE BOEUF | V90: =V8 -> Plat 2 | W90: =W8 -> TARTE PROVENÇALE | AG90: =AG8 -> #REF! | AI90: =AI8 -> #REF! | AJ90: =AJ8 -> #REF! | AO90: =AO8 -> #REF!
D91: =D9 -> BROCOLIS | H91: =H9 -> PETITS POIS | S91: =S9 -> MINIS FARFALLES (PÂTES) | W91: =W9 -> SALADE MÉLANGÉE | AG91: =AG9 -> #REF! | AJ91: =AJ9 -> #REF! | AO91: =AO9 -> #REF!
D93: =D11 -> LE CARRE | G93: =G11 -> Fromage | H93: =H11 -> RONDELÉ NATURE FLEUR DE SEL | S93: =S11 -> CAMEMBERT | V93: =V11 -> Fromage | W93: =W11 -> BOURSIN AIL & FINES HERBES | AG93: =AG11 -> #REF! | AI93: =AI11 -> #REF! | AJ93: =AJ11 -> #REF! | AO93: =AO11 -> #REF!
D94: =D12 -> YAOURT AROMATISÉ | G94: =G12 -> Laitage | H94: =H12 -> FROMAGE BLANC SUCRÉ | S94: =S12 -> YAOURT BULGY PULPE | V94: =V12 -> Laitage | W94: =W12 -> SUISSE SUCRÉ | AG94: =AG12 -> #REF! | AI94: =AI12 -> #REF! | AJ94: =AJ12 -> #REF! | AO94: =AO12 -> #REF!
D95: =D13 -> CREME DESSERT CARAMEL | G95: =G13 -> Dessert 1 | H95: =H13 -> COCKTAIL DE FRUITS AU SIROP | S95: =S13 -> LIEGEOIS A LA VANILLE | V95: =V13 -> Dessert 1 | W95: =W13 -> ÉCLAIR AU CHOCOLAT | AG95: =AG13 -> #REF! | AI95: =AI13 -> #REF! | AJ95: =AJ13 -> #REF! | AO95: =AO13 -> #REF!
D96: =D14 -> FRUIT | G96: =G14 -> Dessert 2 | H96: =H14 -> FRUIT | S96: =S14 -> FRUIT | V96: =V14 -> Dessert 2 | W96: =W14 -> FRUIT | AG96: =AG14 -> #REF! | AI96: =AI14 -> #REF! | AJ96: =AJ14 -> #REF! | AO96: =AO14 -> #REF!
D97: =D15 -> CONSTANTES 1 | S97: =S15 -> CONSTANTES 1 | AG97: =AG15 -> #REF!
D98: =D16 -> TOMATE (ENTIÈRE) | G98: =G16 -> Entrées | H98: =H16 -> CAROTTES RÂPÉES | S98: =S16 -> TOMATE (ENTIÈRE) | V98: =V16 -> Entrées | W98: =W16 -> CAROTTES RÂPÉES | AG98: =AG16 -> #REF! | AI98: =AI16 -> #REF! | AJ98: =AJ16 -> #REF! | AO98: =AO16 -> #REF!
D99: =D17 -> CUBES DE BETTERAVES | H99: =H17 -> OEUFS NATURE (ENT) | S99: =S17 -> CUBES DE BETTERAVES | W99: =W17 -> OEUFS NATURE (ENT) | AG99: =AG17 -> #REF! | AI99: =AI17 -> #REF! | AJ99: =AJ17 -> #REF! | AO99: =AO17 -> #REF!
D101: =D19 -> POTAGE AUX COURGETTES | G101: =G19 -> Potage | H101: =H19 -> POTAGE AUX LÉGUMES | S101: =S19 -> POTAGE AUX CAROTTES | V101: =V19 -> Potage | W101: =W19 -> POTAGE AUX POIREAUX | AG101: =AG19 -> #REF! | AI101: =AI19 -> #REF! | AJ101: =AJ19 -> #REF! | AO101: =AO19 -> #REF!
D103: =D21 -> . | G103: =G21 -> Salade comp. | H103: =H21 -> . | S103: =S21 -> . | V103: =V21 -> Salade comp. | W103: =W21 -> . | AG103: =AG21 -> #REF! | AI103: =AI21 -> #REF! | AJ103: =AJ21 -> #REF! | AO103: =AO21 -> #REF!
D105: =D23 -> OMELETTE AU FROMAGE | G105: =G23 -> Viande | H105: =H23 -> HACHIS PARMENTIER | S105: =S23 -> STEAK (CUIT) | V105: =V23 -> Viande | W105: =W23 -> STEAK HACHÉ (CUIT) | AG105: =AG23 -> #REF! | AI105: =AI23 -> #REF! | AJ105: =AJ23 -> #REF! | AO105: =AO23 -> #REF!
D106: =D24 -> JAMBON BLANC # | H106: =H24 -> JAMBON BLANC # | S106: =S24 -> JAMBON BLANC # | W106: =W24 -> JAMBON BLANC # | AG106: =AG24 -> #REF! | AJ106: =AJ24 -> #REF! | AO106: =AO24 -> #REF!
D107: =D25 -> PAVÉ DE POISSON SCE CRÈME | G107: =G25 -> Poisson | H107: =H25 -> PAVÉ DE POISSON SCE CRÈME | S107: =S25 -> PAVÉ DE POISSON SCE CRÈME | V107: =V25 -> Poisson | W107: =W25 -> PAVÉ DE POISSON SCE CRÈME | AG107: =AG25 -> #REF! | AJ107: =AJ25 -> #REF! | AO107: =AO25 -> #REF!
D108: =D26 -> LASAGNES À LA BOLOGNAISE | H108: =H26 -> LASAGNES À LA BOLOGNAISE | S108: =S26 -> LASAGNES À LA BOLOGNAISE | W108: =W26 -> LASAGNES À LA BOLOGNAISE | AG108: =AG26 -> #REF! | AJ108: =AJ26 -> #REF! | AO108: =AO26 -> #REF!
D110: =D28 -> CAROTTES ÉTUVÉES | G110: =G28 -> Légumes | H110: =H28 -> SALADE MÉLANGÉE | S110: =S28 -> SALADE MÉLANGÉE | V110: =V28 -> Légumes | W110: =W28 -> RATATOUILLE | AG110: =AG28 -> #REF! | AI110: =AI28 -> #REF! | AJ110: =AJ28 -> #REF! | AO110: =AO28 -> #REF!
D111: =D29 -> FRITES (FOUR) | H111: =H29 -> FRITES (FOUR) | S111: =S29 -> FRITES (FOUR) | W111: =W29 -> FRITES (FOUR) | AG111: =AG29 -> #REF! | AJ111: =AJ29 -> #REF! | AO111: =AO29 -> #REF!
D112: =D30 -> HARICOTS VERTS | H112: =H30 -> HARICOTS VERTS | S112: =S30 -> HARICOTS VERTS | W112: =W30 -> HARICOTS VERTS | AG112: =AG30 -> #REF! | AJ112: =AJ30 -> #REF! | AO112: =AO30 -> #REF!
D113: =D31 -> SPAGHETTIS | H113: =H31 -> SPAGHETTIS | S113: =S31 -> SPAGHETTIS | W113: =W31 -> PURÉE | AG113: =AG31 -> #REF! | AJ113: =AJ31 -> #REF! | AO113: =AO31 -> #REF!
D114: =D32 -> CONSTANTES 2 | S114: =S32 -> CONSTANTES 2 | AG114: =AG32 -> #REF!
D115: =D33 -> _ _ _ _ _ _ _ _ _ _ | G115: =G33 -> Potage | H115: =H33 -> _ _ _ _ _ _ _ _ _ _ | S115: =S33 -> _ _ _ _ _ _ _ _ _ _ | V115: =V33 -> Potage | W115: =W33 -> _ _ _ _ _ _ _ _ _ _ | AG115: =AG33 -> #REF! | AI115: =AI33 -> #REF! | AJ115: =AJ33 -> #REF! | AO115: =AO33 -> #REF!
D116: =D34 -> POTAGE LEGUMES | H116: =H34 -> POTAGE LEGUMES | S116: =S34 -> POTAGE LEGUMES | W116: =W34 -> POTAGE LEGUMES | AG116: =AG34 -> #REF! | AJ116: =AJ34 -> #REF! | AO116: =AO34 -> #REF!
D118: =D36 -> CAMEMBERT | H118: =H36 -> CAMEMBERT | S118: =S36 -> CAMEMBERT | W118: =W36 -> CAMEMBERT | AG118: =AG36 -> #REF! | AH118: =AH36 -> 0 | AI118: =AI36 -> #REF! | AJ118: =AJ36 -> #REF! | AO118: =AO36 -> #REF!
D119: =D37 -> YAOURT NATURE | G119: =G37 -> Fromage | H119: =H37 -> YAOURT NATURE | S119: =S37 -> YAOURT NATURE | V119: =V37 -> Fromage | W119: =W37 -> YAOURT NATURE | AG119: =AG37 -> #REF! | AH119: =AH37 -> 0 | AJ119: =AJ37 -> #REF! | AO119: =AO37 -> #REF!
D120: =D38 -> PETITS SUISSE NATURE | G120: =G38 -> Laitages | H120: =H38 -> PETITS SUISSE NATURE | S120: =S38 -> PETITS SUISSE NATURE | V120: =V38 -> Laitages | W120: =W38 -> PETITS SUISSE NATURE | AG120: =AG38 -> #REF! | AH120: =AH38 -> 0 | AI120: =AI38 -> #REF! | AJ120: =AJ38 -> #REF! | AO120: =AO38 -> #REF!
D121: =D39 -> CPE DE POMME | H121: =H39 -> CPE DE POMME | S121: =S39 -> CPE DE POMME | W121: =W39 -> CPE DE POMME | AG121: =AG39 -> #REF! | AH121: =AH39 -> 0 | AJ121: =AJ39 -> #REF! | AO121: =AO39 -> #REF!
G122: =#REF! -> #REF! | V122: =G122 -> #REF! | AL122: =G122 -> #REF!
A123: =A1 -> Lundi | E123: =E1 -> 41729 | G123: =G1 -> Repas du : | H123: =H1 -> Mardi | J123: =J1 -> 41730 | O123: =O1 -> 0 | P123: =P1 -> Mercredi | T123: =T1 -> 41731 | V123: =V1 -> Repas du : | W123: =W1 -> Jeudi | Y123: =Y1 -> 41732 | AG123: =AG1 -> #REF! | AH123: =AH1 -> #REF! | AJ123: =AJ1 -> #REF! | AK123: =AK1 -> #REF! | AO123: =AO1 -> #REF! | AP123: =AP1 -> #REF!
...

Sheet Feuil4
C3: ='Lun Mar Mer Jeu'!P1 -> Mercredi | G3: ='Lun Mar Mer Jeu'!T1 -> 41731
C4: ='Lun Mar Mer Jeu'!P2 -> N | D4: ='Lun Mar Mer Jeu'!Q2 -> C | E4: ='Lun Mar Mer Jeu'!R2 -> D

Sheet Feuil5
