Workbook

Sheet DB
D4: Nouveau | E4: Ancien | F4: Coef | G4: Enregistrée
B5: 43831 | C5: PH1 | D5: 74252659 | E5: 73915580 | F5: 1 | G5: =(D5-E5)*F5 -> 337079
B6: 43831 | C6: PH2 | D6: 67988915 | E6: 67721919 | F6: 1 | G6: =(D6-E6)*F6 -> 266996
B7: 43831 | C7: PH3 | D7: 73776422 | E7: 73463757 | F7: 1 | G7: =(D7-E7)*F7 -> 312665
B8: 43831 | G8: =SUM(G5:G7) -> 916740
B9: 43831 | C9: Calcul Jour | D9: 79663522 | E9: 79309763 | F9: 1 | G9: =(D9-E9)*F9 -> 353759 | H9: 357650 | I9: =H9/G9 -> 1.010999
B10: 43831 | C10: Calcul Pointe | D10: 17559230 | E10: 17526540 | F10: 1 | G10: =(D10-E10)*F10 -> 32690 | H10: 33049 | I10: =H10/G10 -> 1.010982
B11: 43831 | C11: Calcul Soirée
B12: 43831 | C12: Calcul Nuit | G12: 525973
B13: 43831 | G13: =SUM(G9:G12) -> 912422
B14: 43831 | C14: Réactif | D14: 60846366 | E14: 60576257 | F14: 1 | G14: =(D14-E14)*F14 -> 270109
B15: 43831 | C15: Jour | D15: =G9*I9 -> 357650 | E15: 240 | G15: =E15*D15/1000 -> 85836
B16: 43831 | C16: Pointe | D16: =G10*I10 -> 33049 | E16: 329 | G16: =E16*D16/1000 -> 10873.121
B17: 43831 | C17: Soirée
B18: 43831 | C18: Nuit | D18: =G12 -> 525973 | E18: 188 | G18: =E18*D18/1000 -> 98882.924
B19: 43831 | C19: Bonification | G19: -5867.762
B20: 43831 | C20: Total 1 | G20: =SUM(G15:G19) -> 189724.28
B21: 43831 | C21: Prime de Puissance | G21: 28490
B22: 43831 | C22: Dépassement Puissance | G22: 7959.6
B23: 43831 | C23: Contribuition RTT | G23: 3.5
B24: 43831 | C24: Surtaxe Municipale | G24: 5500.032
B25: 43831 | G25: =SUM(G20:G24) -> 231677.42
B26: 43831 | C26: Contribution GMG | G26: 1200
B27: 43831 | C27: Net à Payer | G27: =SUM(G25:G26) -> 232877.42
B28: 43831 | D28: Souscrite | E28: Max appelée | G28: Dép Puissance
B29: 43831 | C29: Cap Jour | D29: 5000 | E29: 5607
B30: 43831 | C30: Cap Pointe | D30: 3300
B31: 43831 | C31: Cap Soirée | D31: 1200
B32: 43831 | C32: Cap Nuit | D32: 1200 | E32: 1400
B33: 43831 | C33: Réduite | D33: 2590 | E33: 2791 | G33: 201
B34: 43831 | C34: Installée | D34: =D29+D31+D32+D33 -> 9990 | F34: 0.96 | G34: 13270 | K34: =575600/650.488 -> 884.87413
D35: Nouveau | E35: Ancien | F35: Coef | G35: Enregistrée
B36: 43862 | C36: PH1 | D36: 74630450 | E36: =D5 -> 74252659 | F36: 1 | G36: =(D36-E36)*F36 -> 377791
B37: 43862 | C37: PH2 | D37: 68250341 | E37: =D6 -> 67988915 | F37: 1 | G37: =(D37-E37)*F37 -> 261426
B38: 43862 | C38: PH3 | D38: 74160880 | E38: =D7 -> 73776422 | F38: 1 | G38: =(D38-E38)*F38 -> 384458
B39: 43862 | G39: =SUM(G36:G38) -> 1023675
B40: 43862 | C40: Calcul Jour | D40: 80027933 | E40: =D9 -> 79663522 | F40: 1 | G40: =D40-E40 -> 364411 | H40: 362588 | I40: =H40/G40 -> 0.99499741
B41: 43862 | C41: Calcul Pointe | D41: 17590772 | E41: =D10 -> 17559230 | F41: 1 | G41: =D41-E41 -> 31542 | H41: 31384 | I41: =H41/G41 -> 0.99499081
B42: 43862 | C42: Calcul Soirée
B43: 43862 | C43: Calcul Nuit | G43: 629593
B44: 43862 | G44: =SUM(G40:G43) -> 1025546
B45: 43862 | C45: Réactif | D45: 61094904 | E45: =D14 -> 60846366 | F45: 1 | G45: =(D45-E45)*F45 -> 248538
B46: 43862 | C46: Jour | D46: =G40*I40 -> 362588 | E46: 240 | G46: =E46*D46/1000 -> 87021.12
B47: 43862 | C47: Pointe | D47: =G41*I41 -> 31384 | E47: 329 | G47: =E47*D47/1000 -> 10325.336
B48: 43862 | C48: Soirée
B49: 43862 | C49: Nuit | D49: =G43 -> 629593 | E49: 188 | G49: =E49*D49/1000 -> 118363.48
B50: 43862 | C50: Bonification | G50: -7549.848
B51: 43862 | C51: Total 1 | G51: =SUM(G46:G50) -> 208160.09
B52: 43862 | C52: Prime de Puissance | G52: 28490
B53: 43862 | C53: Contribuition RTT | G53: 3.5
B54: 43862 | C54: Surtaxe Municipale | G54: 6141.39 | H54: =G84/G81 -> 0.028956776
B55: 43862 | G55: =SUM(G51:G54) -> 242794.98
B56: 43862 | C56: Contribution GMG | G56: 1200
B57: 43862 | C57: Net à Payer | G57: =SUM(G55:G56) -> 243994.98
B58: 43862 | D58: Souscrite | E58: Max appelée
B59: 43862 | C59: Cap Jour | D59: 5000 | E59: 4084
B60: 43862 | C60: Cap Pointe | D60: 3300
B61: 43862 | C61: Cap Soirée | D61: 1200
B62: 43862 | C62: Cap Nuit | D62: 1200 | E62: 1051
B63: 43862 | C63: Réduite | D63: 2590 | E63: 2590
B64: 43862 | C64: Installée | D64: =D59+D61+D62+D63 -> 9990 | F64: 0.97 | G64: 13270
D65: Nouveau | E65: Ancien | F65: Coef | G65: Enregistrée
B66: 43891 | C66: PH1 | D66: 74787325 | E66: =D36 -> 74630450 | F66: 1 | G66: =(D66-E66)*F66 -> 156875
B67: 43891 | C67: PH2 | D67: 68380490 | E67: =D37 -> 68250341 | F67: 1 | G67: =(D67-E67)*F67 -> 130149
B68: 43891 | C68: PH3 | D68: 74352455 | E68: =D38 -> 74160880 | F68: 1 | G68: =(D68-E68)*F68 -> 191575
B69: 43891 | G69: =SUM(G66:G68) -> 478599
B70: 43891 | C70: Calcul Jour | D70: 80212415 | E70: =D40 -> 80027933 | F70: 1 | G70: =(D70-E70)*F70 -> 184482 | H70: 186326 | I70: =H70/G70 -> 1.0099956
B71: 43891 | C71: Calcul Pointe | D71: 17612485 | E71: =D41 -> 17590772 | F71: 1 | G71: =(D71-E71)*F71 -> 21713 | H71: 21930 | I71: =H71/G71 -> 1.009994
B72: 43891 | C72: Calcul Soirée
B73: 43891 | C73: Calcul Nuit | G73: 270067
B74: 43891 | G74: =SUM(G70:G73) -> 476262
B75: 43891 | C75: Réactif | D75: 61214051 | E75: =D45 -> 61094904 | F75: 1 | G75: =(D75-E75)*F75 -> 119147
B76: 43891 | C76: Jour | D76: =G70*I70 -> 186326 | E76: 240 | G76: =E76*D76/1000 -> 44718.24
B77: 43891 | C77: Pointe | D77: =G71*I71 -> 21930 | E77: 329 | G77: =E77*D77/1000 -> 7214.97
B78: 43891 | C78: Soirée
B79: 43891 | C79: Nuit | D79: =G73 -> 270067 | E79: 188 | G79: =E79*D79/1000 -> 50772.596
B80: 43891 | C80: Bonification | G80: -3594.703
B81: 43891 | C81: Total 1 | G81: =SUM(G76:G80) -> 99111.103
B82: 43891 | C82: Prime de Puissance | G82: 28490
B83: 43891 | C83: Contribuition RTT | G83: 3.5 | H83: =G114/G111 -> 0.028131446
B84: 43891 | C84: Surtaxe Municipale | G84: 2869.938
B85: 43891 | G85: =SUM(G81:G84) -> 130474.54
B86: 43891 | C86: Contribution GMG | G86: 1200
B87: 43891 | C87: Net à Payer | G87: =SUM(G85:G86) -> 131674.54
B88: 43891 | D88: Souscrite | E88: Max appelée
B89: 43891 | C89: Cap Jour | D89: 5000 | E89: 1745
B90: 43891 | C90: Cap Pointe | D90: 3300
B91: 43891 | C91: Cap Soirée | D91: 1200
B92: 43891 | C92: Cap Nuit | D92: 1200 | E92: 405
B93: 43891 | C93: Réduite | D93: 2590 | E93: 2590
B94: 43891 | C94: Installée | D94: =D89+D91+D92+D93 -> 9990 | F94: 0.97 | G94: 13270
D95: Nouveau | E95: Ancien | F95: Coef | G95: Enregistrée
B96: 43922 | C96: PH1 | D96: 74793825 | E96: =D66 -> 74787325 | F96: 1 | G96: =(D96-E96)*F96 -> 6500
B97: 43922 | C97: PH2 | D97: 68387050 | E97: =D67 -> 68380490 | F97: 1 | G97: =(D97-E97)*F97 -> 6560
B98: 43922 | C98: PH3 | D98: 74359021 | E98: =D68 -> 74352455 | F98: 1 | G98: =(D98-E98)*F98 -> 6566
B99: 43922 | G99: =SUM(G96:G98) -> 19626
B100: 43922 | C100: Calcul Jour | D100: 80220370 | E100: =D70 -> 80212415 | F100: 1 | G100: =(D100-E100)*F100 -> 7955 | H100: 7915 | I100: =H100/G100 -> 0.99497172
B101: 43922 | C101: Calcul Pointe | D101: 17614493 | E101: =D71 -> 17612485 | F101: 1 | G101: =(D101-E101)*F101 -> 2008 | H101: 1997 | I101: =H101/G101 -> 0.99452191
B102: 43922 | C102: Calcul Soirée
B103: 43922 | C103: Calcul Nuit | G103: 9705
...

Sheet Feuil1
C2: 43831 | D2: 43862 | E2: 43891 | F2: 43922 | G2: 43952 | H2: 43952 | I2: 43983 | J2: 44013 | K2: 44044 | L2: 44075 | M2: 44105 | N2: 44136 | O2: 44166 | P2: 44197 | Q2: 44228 | R2: 44256 | S2: 44287 | T2: 44317 | U2: 44348 | V2: 44378 | W2: 44409 | X2: 44440 | Y2: 44470 | Z2: 44501 | AA2: 44531 | AB2: 44562 | AC2: 44593 | AD2: 44621
B3: Jour | C3: =INDEX(DB!$D$5:$D$369,MATCH(Feuil1!$B3,DB!$C$5:$C$818,0),MATCH(Feuil1!C$2,DB!$B$5:$B$818,0)) -> 357650 | D3: =INDEX(DB!$D$5:$D$369,MATCH(Feuil1!$B3,DB!$C$5:$C$818,0),MATCH(Feuil1!D$2,DB!$B$5:$B$818,0)) -> #REF! | E3: =INDEX(DB!$D$5:$D$369,MATCH(Feuil1!$B3,DB!$C$5:$C$818,0),MATCH(Feuil1!E$2,DB!$B$5:$B$818,0)) -> #REF! | F3: =INDEX(DB!$D$5:$D$369,MATCH(Feuil1!$B3,DB!$C$5:$C$818,0),MATCH(Feuil1!F$2,DB!$B$5:$B$818,0)) -> #REF! | G3: =INDEX(DB!$D$5:$D$369,MATCH(Feuil1!$B3,DB!$C$5:$C$818,0),MATCH(Feuil1!G$2,DB!$B$5:$B$818,0)) -> #REF! | H3: =INDEX(DB!$D$5:$D$369,MATCH(Feuil1!$B3,DB!$C$5:$C$818,0),MATCH(Feuil1!H$2,DB!$B$5:$B$818,0)) -> #REF! | I3: =INDEX(DB!$D$5:$D$369,MATCH(Feuil1!$B3,DB!$C$5:$C$818,0),MATCH(Feuil1!I$2,DB!$B$5:$B$818,0)) -> #REF! | J3: =INDEX(DB!$D$5:$D$369,MATCH(Feuil1!$B3,DB!$C$5:$C$818,0),MATCH(Feuil1!J$2,DB!$B$5:$B$818,0)) -> #REF! | ... S3: =INDEX(DB!$D$5:$D$369,MATCH(Feuil1!$B3,DB!$C$5:$C$818,0),MATCH(Feuil1!S$2,DB!$B$5:$B$818,0)) -> #REF!
B4: Pointe | C4: =INDEX(DB!$D$5:$D$369,MATCH(Feuil1!$B4,DB!$C$5:$C$818,0),MATCH(Feuil1!C$2,DB!$B$5:$B$818,0)) -> 33049
B5: Soirée | C5: =INDEX(DB!$D$5:$D$369,MATCH(Feuil1!$B5,DB!$C$5:$C$818,0),MATCH(Feuil1!C$2,DB!$B$5:$B$818,0)) -> 0
B6: Nuit | C6: =INDEX(DB!$D$5:$D$369,MATCH(Feuil1!$B6,DB!$C$5:$C$818,0),MATCH(Feuil1!C$2,DB!$B$5:$B$818,0)) -> 525973

Sheet Feuil2
C2: 43831
C3: 43862
C4: 43891
C5: 43922
C6: 43952
C7: 43952
C8: 43983
C9: 44013
C10: 44044
C11: 44075
C12: 44105
C13: 44136
... C29: 44621
