Workbook

Sheet DB
D4: Nouveau | E4: Ancien | F4: Coef | G4: Enregistrée
B5: 43831 | C5: PH1 | D5: 74252659 | E5: 73915580 | F5: 1 | G5: =(D5-E5)*F5 -> 337079
B6: 43831 | C6: PH2 | D6: 67988915 | E6: 67721919 | F6: 1 | G6: =(D6-E6)*F6 -> 266996
B7: 43831 | C7: PH3 | D7: 73776422 | E7: 73463757 | F7: 1 | G7: =(D7-E7)*F7 -> 312665
B8: 43831 | G8: =SUM(G5:G7) -> 916740
B9: 43831 | C9: Calcul Jour | D9: 79663522 | E9: 79309763 | F9: 1 | G9: =(D9-E9)*F9 -> 353759 | H9: 357650 | I9: =H9/G9 -> 1.010999
B10: 43831 | C10: Calcul Pointe | D10: 17559230 | E10: 17526540 | F10: 1 | G10: =(D10-E10)*F10 -> 32690 | H10: 33049 | I10: =H10/G10 -> 1.010982
B11: 43831 | C11: Calcul Soirée
B12: 43831 | C12: Calcul Nuit | G12: 525973
B13: 43831 | G13: =SUM(G9:G12) -> 912422
B14: 43831 | C14: Réactif | D14: 60846366 | E14: 60576257 | F14: 1 | G14: =(D14-E14)*F14 -> 270109
B15: 43831 | C15: Jour | D15: =G9*I9 -> 357650 | E15: 240 | G15: =E15*D15/1000 -> 85836
B16: 43831 | C16: Pointe | D16: =G10*I10 -> 33049 | E16: 329 | G16: =E16*D16/1000 -> 10873.121
B17: 43831 | C17: Soirée
B18: 43831 | C18: Nuit | D18: =G12 -> 525973 | E18: 188 | G18: =E18*D18/1000 -> 98882.924
B19: 43831 | C19: Bonification | G19: -5867.762
B20: 43831 | C20: Total 1 | G20: =SUM(G15:G19) -> 189724.28
B21: 43831 | C21: Prime de Puissance | G21: 28490
B22: 43831 | C22: Dépassement Puissance | G22: 7959.6
B23: 43831 | C23: Contribuition RTT | G23: 3.5
B24: 43831 | C24: Surtaxe Municipale | G24: 5500.032
B25: 43831 | G25: =SUM(G20:G24) -> 231677.42
B26: 43831 | C26: Contribution GMG | G26: 1200
B27: 43831 | C27: Net à Payer | G27: =SUM(G25:G26) -> 232877.42
B28: 43831 | D28: Souscrite | E28: Max appelée | G28: Dép Puissance
B29: 43831 | C29: Cap Jour | D29: 5000 | E29: 5607
B30: 43831 | C30: Cap Pointe | D30: 3300
B31: 43831 | C31: Cap Soirée | D31: 1200
B32: 43831 | C32: Cap Nuit | D32: 1200 | E32: 1400
B33: 43831 | C33: Réduite | D33: 2590 | E33: 2791 | G33: 201
B34: 43831 | C34: Installée | D34: =D29+D31+D32+D33 -> 9990 | F34: 0.96 | G34: 13270 | K34: =575600/650.488 -> 884.87413
D35: Nouveau | E35: Ancien | F35: Coef | G35: Enregistrée
B36: 43862 | C36: PH1 | D36: 74630450 | E36: =D5 -> 74252659 | F36: 1 | G36: =(D36-E36)*F36 -> 377791
B37: 43862 | C37: PH2 | D37: 68250341 | E37: =D6 -> 67988915 | F37: 1 | G37: =(D37-E37)*F37 -> 261426
B38: 43862 | C38: PH3 | D38: 74160880 | E38: =D7 -> 73776422 | F38: 1 | G38: =(D38-E38)*F38 -> 384458
B39: 43862 | G39: =SUM(G36:G38) -> 1023675
B40: 43862 | C40: Calcul Jour | D40: 80027933 | E40: =D9 -> 79663522 | F40: 1 | G40: =D40-E40 -> 364411 | H40: 362588 | I40: =H40/G40 -> 0.99499741
B41: 43862 | C41: Calcul Pointe | D41: 17590772 | E41: =D10 -> 17559230 | F41: 1 | G41: =D41-E41 -> 31542 | H41: 31384 | I41: =H41/G41 -> 0.99499081
B42: 43862 | C42: Calcul Soirée
B43: 43862 | C43: Calcul Nuit | G43: 629593
...

Sheet Feuil1
C2: 43831 | D2: 43862 | E2: 43891 | F2: 43922 | G2: 43952 | H2: 43952 | I2: 43983 | J2: 44013 | K2: 44044 | L2: 44075 | M2: 44105 | N2: 44136 | O2: 44166 | P2: 44197 | Q2: 44228 | R2: 44256 | S2: 44287 | T2: 44317 | U2: 44348 | V2: 44378 | W2: 44409 | X2: 44440 | Y2: 44470 | Z2: 44501 | AA2: 44531 | AB2: 44562 | AC2: 44593 | AD2: 44621
B3: Jour | C3: =INDEX(DB!$D$5:$D$369,MATCH(Feuil1!$B3,DB!$C$5:$C$818,0),MATCH(Feuil1!C$2,DB!$B$5:$B$818,0)) -> 357650 | D3: =INDEX(DB!$D$5:$D$369,MATCH(Feuil1!$B3,DB!$C$5:$C$818,0),MATCH(Feuil1!D$2,DB!$B$5:$B$818,0)) -> #REF! | E3: =INDEX(DB!$D$5:$D$369,MATCH(Feuil1!$B3,DB!$C$5:$C$818,0),MATCH(Feuil1!E$2,DB!$B$5:$B$818,0)) -> #REF! | F3: =INDEX(DB!$D$5:$D$369,MATCH(Feuil1!$B3,DB!$C$5:$C$818,0),MATCH(Feuil1!F$2,DB!$B$5:$B$818,0)) -> #REF! | G3: =INDEX(DB!$D$5:$D$369,MATCH(Feuil1!$B3,DB!$C$5:$C$818,0),MATCH(Feuil1!G$2,DB!$B$5:$B$818,0)) -> #REF! | H3: =INDEX(DB!$D$5:$D$369,MATCH(Feuil1!$B3,DB!$C$5:$C$818,0),MATCH(Feuil1!H$2,DB!$B$5:$B$818,0)) -> #REF! | I3: =INDEX(DB!$D$5:$D$369,MATCH(Feuil1!$B3,DB!$C$5:$C$818,0),MATCH(Feuil1!I$2,DB!$B$5:$B$818,0)) -> #REF! | J3: =INDEX(DB!$D$5:$D$369,MATCH(Feuil1!$B3,DB!$C$5:$C$818,0),MATCH(Feuil1!J$2,DB!$B$5:$B$818,0)) -> #REF! | ... S3: =INDEX(DB!$D$5:$D$369,MATCH(Feuil1!$B3,DB!$C$5:$C$818,0),MATCH(Feuil1!S$2,DB!$B$5:$B$818,0)) -> #REF!
B4: Pointe | C4: =INDEX(DB!$D$5:$D$369,MATCH(Feuil1!$B4,DB!$C$5:$C$818,0),MATCH(Feuil1!C$2,DB!$B$5:$B$818,0)) -> 33049
B5: Soirée | C5: =INDEX(DB!$D$5:$D$369,MATCH(Feuil1!$B5,DB!$C$5:$C$818,0),MATCH(Feuil1!C$2,DB!$B$5:$B$818,0)) -> 0
B6: Nuit | C6: =INDEX(DB!$D$5:$D$369,MATCH(Feuil1!$B6,DB!$C$5:$C$818,0),MATCH(Feuil1!C$2,DB!$B$5:$B$818,0)) -> 525973

Sheet Feuil2
C2: 43831
C3: 43862
C4: 43891
C5: 43922
C6: 43952
C7: 43952
C8: 43983
C9: 44013
C10: 44044
C11: 44075
C12: 44105
C13: 44136
... C29: 44621
