Workbook

Sheet Feuil1
B1: Temps operationnel
C2: Docking frame 4099 | D2: Docking frame 4115 | E2: Set spare docking probes #1 | F2: Set of spare docking probes #2 | G2: CDL video transmission package (2 TX/1 RX) | H2: 10 K pressure testing panel | I2: Other: | M2: Docking frame 4099 | N2: Docking frame 4115 | O2: Set spare docking probes #1 | P2: Set of spare docking probes #2 | Q2: CDL video transmission package (2 TX/1 RX) | R2: 10 K pressure testing panel
B3: Item No | C3: 25 | D3: 25 | E3: 26 | F3: 26 | G3: 34 | H3: 40
B4: Date | K4: Date | L4: 42766
A5: =MONTH(B5) -> 1 | B5: 42753 | C5: =IF(1-LOOKUP($B5,[1]Data!$2:$2,[1]Data!$11:$11)-LOOKUP($B5,[1]Data!$2:$2,[1]Data!$10:$10)<0,0,1-LOOKUP($B5,[1]Data!$2:$2,[1]Data!$11:$11)-LOOKUP($B5,[1]Data!$2:$2,[1]Data!$10:$10)) -> 1 | D5: =1-LOOKUP($B5,[1]Data!$2:$2,[1]Data!$18:$18)-LOOKUP($B5,[1]Data!$2:$2,[1]Data!$19:$19) -> 1 | E5: =1-LOOKUP($B5,[1]Data!$2:$2,[1]Data!$11:$11)-LOOKUP($B5,[1]Data!$2:$2,[1]Data!$10:$10) -> 1 | F5: =1-LOOKUP($B5,[1]Data!$2:$2,[1]Data!$18:$18)-LOOKUP($B5,[1]Data!$2:$2,[1]Data!$19:$19) -> 1 | G5: =IF(1-LOOKUP($B5,[1]Data!$2:$2,[1]Data!$37:$37)-LOOKUP($B5,[1]Data!$2:$2,[1]Data!$38:$38)<0,0,1-LOOKUP($B5,[1]Data!$2:$2,[1]Data!$37:$37)-LOOKUP($B5,[1]Data!$2:$2,[1]Data!$38:$38)) -> 1 | H5: =IF(1-LOOKUP($B5,[1]Data!$2:$2,[1]Data!$37:$37)-LOOKUP($B5,[1]Data!$2:$2,[1]Data!$38:$38)<0,0,1-LOOKUP($B5,[1]Data!$2:$2,[1]Data!$37:$37)-LOOKUP($B5,[1]Data!$2:$2,[1]Data!$38:$38)) -> 1 | K5: Monthly cumululated | M5: =SUMIFS(C5:C360,$B$5:$B$360,"<=" & $L$4,($B$5:$B$360),"=" & MONTH($L$4)) -> 0 | N5: =SUMIFS(D5:D360,$B$5:$B$360,"<=" & $L$4,($B$5:$B$360),"=" & MONTH($L$4)) -> 0 | O5: =SUMIFS(E5:E360,$B$5:$B$360,"<=" & $L$4,($B$5:$B$360),"=" & MONTH($L$4)) -> 0 | P5: =SUMIFS(F5:F360,$B$5:$B$360,"<=" & $L$4,($B$5:$B$360),"=" & MONTH($L$4)) -> 0 | Q5: =SUMIFS(G5:G360,$B$5:$B$360,"<=" & $L$4,($B$5:$B$360),"=" & MONTH($L$4)) -> 0 | R5: =SUMIFS(H5:H360,$B$5:$B$360,"<=" & $L$4,($B$5:$B$360),"=" & MONTH($L$4)) -> 0
A6: =MONTH(B6) -> 1 | B6: 42754 | C6: =IF(1-LOOKUP($B6,[1]Data!$2:$2,[1]Data!$11:$11)-LOOKUP($B6,[1]Data!$2:$2,[1]Data!$10:$10)<0,0,1-LOOKUP($B6,[1]Data!$2:$2,[1]Data!$11:$11)-LOOKUP($B6,[1]Data!$2:$2,[1]Data!$10:$10)) -> 1 | D6: =1-LOOKUP($B6,[1]Data!$2:$2,[1]Data!$18:$18)-LOOKUP($B6,[1]Data!$2:$2,[1]Data!$19:$19) -> 1 | E6: =1-LOOKUP($B6,[1]Data!$2:$2,[1]Data!$11:$11)-LOOKUP($B6,[1]Data!$2:$2,[1]Data!$10:$10) -> 1 | F6: =1-LOOKUP($B6,[1]Data!$2:$2,[1]Data!$18:$18)-LOOKUP($B6,[1]Data!$2:$2,[1]Data!$19:$19) -> 1 | G6: =IF(1-LOOKUP($B6,[1]Data!$2:$2,[1]Data!$37:$37)-LOOKUP($B6,[1]Data!$2:$2,[1]Data!$38:$38)<0,0,1-LOOKUP($B6,[1]Data!$2:$2,[1]Data!$37:$37)-LOOKUP($B6,[1]Data!$2:$2,[1]Data!$38:$38)) -> 1 | H6: =IF(1-LOOKUP($B6,[1]Data!$2:$2,[1]Data!$37:$37)-LOOKUP($B6,[1]Data!$2:$2,[1]Data!$38:$38)<0,0,1-LOOKUP($B6,[1]Data!$2:$2,[1]Data!$37:$37)-LOOKUP($B6,[1]Data!$2:$2,[1]Data!$38:$38)) -> 1 | K6: Project cumulated in hours | M6: =SUMIFS(Feuil1!C5:C360,Feuil1!$B$5:$B$360,"<=" & $L$4) -> 13.625 | N6: =SUMIFS(Feuil1!D5:D360,Feuil1!$B$5:$B$360,"<=" & $L$4) -> 13.697917 | O6: =SUMIFS(Feuil1!E5:E360,Feuil1!$B$5:$B$360,"<=" & $L$4) -> 13.625 | P6: =SUMIFS(Feuil1!F5:F360,Feuil1!$B$5:$B$360,"<=" & $L$4) -> 13.697917 | Q6: =SUMIFS(Feuil1!G5:G360,Feuil1!$B$5:$B$360,"<=" & $L$4) -> 13.322917 | R6: =SUMIFS(Feuil1!H5:H360,Feuil1!$B$5:$B$360,"<=" & $L$4) -> 13.322917
A7: =MONTH(B7) -> 1 | B7: 42755 | C7: =IF(1-LOOKUP($B7,[1]Data!$2:$2,[1]Data!$11:$11)-LOOKUP($B7,[1]Data!$2:$2,[1]Data!$10:$10)<0,0,1-LOOKUP($B7,[1]Data!$2:$2,[1]Data!$11:$11)-LOOKUP($B7,[1]Data!$2:$2,[1]Data!$10:$10)) -> 1 | D7: =1-LOOKUP($B7,[1]Data!$2:$2,[1]Data!$18:$18)-LOOKUP($B7,[1]Data!$2:$2,[1]Data!$19:$19) -> 1 | E7: =1-LOOKUP($B7,[1]Data!$2:$2,[1]Data!$11:$11)-LOOKUP($B7,[1]Data!$2:$2,[1]Data!$10:$10) -> 1 | F7: =1-LOOKUP($B7,[1]Data!$2:$2,[1]Data!$18:$18)-LOOKUP($B7,[1]Data!$2:$2,[1]Data!$19:$19) -> 1 | G7: =IF(1-LOOKUP($B7,[1]Data!$2:$2,[1]Data!$37:$37)-LOOKUP($B7,[1]Data!$2:$2,[1]Data!$38:$38)<0,0,1-LOOKUP($B7,[1]Data!$2:$2,[1]Data!$37:$37)-LOOKUP($B7,[1]Data!$2:$2,[1]Data!$38:$38)) -> 1 | H7: =IF(1-LOOKUP($B7,[1]Data!$2:$2,[1]Data!$37:$37)-LOOKUP($B7,[1]Data!$2:$2,[1]Data!$38:$38)<0,0,1-LOOKUP($B7,[1]Data!$2:$2,[1]Data!$37:$37)-LOOKUP($B7,[1]Data!$2:$2,[1]Data!$38:$38)) -> 1 | K7: Project cumulated in days | M7: =M6 -> 13.625 | N7: =N6 -> 13.697917 | O7: =O6 -> 13.625 | P7: =P6 -> 13.697917 | Q7: =Q6 -> 13.322917 | R7: =R6 -> 13.322917
A8: =MONTH(B8) -> 1 | B8: 42756 | C8: =IF(1-LOOKUP($B8,[1]Data!$2:$2,[1]Data!$11:$11)-LOOKUP($B8,[1]Data!$2:$2,[1]Data!$10:$10)<0,0,1-LOOKUP($B8,[1]Data!$2:$2,[1]Data!$11:$11)-LOOKUP($B8,[1]Data!$2:$2,[1]Data!$10:$10)) -> 1 | D8: =1-LOOKUP($B8,[1]Data!$2:$2,[1]Data!$18:$18)-LOOKUP($B8,[1]Data!$2:$2,[1]Data!$19:$19) -> 1 | E8: =1-LOOKUP($B8,[1]Data!$2:$2,[1]Data!$11:$11)-LOOKUP($B8,[1]Data!$2:$2,[1]Data!$10:$10) -> 1 | F8: =1-LOOKUP($B8,[1]Data!$2:$2,[1]Data!$18:$18)-LOOKUP($B8,[1]Data!$2:$2,[1]Data!$19:$19) -> 1 | G8: =IF(1-LOOKUP($B8,[1]Data!$2:$2,[1]Data!$37:$37)-LOOKUP($B8,[1]Data!$2:$2,[1]Data!$38:$38)<0,0,1-LOOKUP($B8,[1]Data!$2:$2,[1]Data!$37:$37)-LOOKUP($B8,[1]Data!$2:$2,[1]Data!$38:$38)) -> 1 | H8: =IF(1-LOOKUP($B8,[1]Data!$2:$2,[1]Data!$37:$37)-LOOKUP($B8,[1]Data!$2:$2,[1]Data!$38:$38)<0,0,1-LOOKUP($B8,[1]Data!$2:$2,[1]Data!$37:$37)-LOOKUP($B8,[1]Data!$2:$2,[1]Data!$38:$38)) -> 1
A9: =MONTH(B9) -> 1 | B9: 42757 | C9: =IF(1-LOOKUP($B9,[1]Data!$2:$2,[1]Data!$11:$11)-LOOKUP($B9,[1]Data!$2:$2,[1]Data!$10:$10)<0,0,1-LOOKUP($B9,[1]Data!$2:$2,[1]Data!$11:$11)-LOOKUP($B9,[1]Data!$2:$2,[1]Data!$10:$10)) -> 0.625 | D9: =1-LOOKUP($B9,[1]Data!$2:$2,[1]Data!$18:$18)-LOOKUP($B9,[1]Data!$2:$2,[1]Data!$19:$19) -> 1 | E9: =1-LOOKUP($B9,[1]Data!$2:$2,[1]Data!$11:$11)-LOOKUP($B9,[1]Data!$2:$2,[1]Data!$10:$10) -> 0.625 | F9: =1-LOOKUP($B9,[1]Data!$2:$2,[1]Data!$18:$18)-LOOKUP($B9,[1]Data!$2:$2,[1]Data!$19:$19) -> 1 | G9: =IF(1-LOOKUP($B9,[1]Data!$2:$2,[1]Data!$37:$37)-LOOKUP($B9,[1]Data!$2:$2,[1]Data!$38:$38)<0,0,1-LOOKUP($B9,[1]Data!$2:$2,[1]Data!$37:$37)-LOOKUP($B9,[1]Data!$2:$2,[1]Data!$38:$38)) -> 0.625 | H9: =IF(1-LOOKUP($B9,[1]Data!$2:$2,[1]Data!$37:$37)-LOOKUP($B9,[1]Data!$2:$2,[1]Data!$38:$38)<0,0,1-LOOKUP($B9,[1]Data!$2:$2,[1]Data!$37:$37)-LOOKUP($B9,[1]Data!$2:$2,[1]Data!$38:$38)) -> 0.625
A10: =MONTH(B10) -> 1 | B10: 42758 | C10: =IF(1-LOOKUP($B10,[1]Data!$2:$2,[1]Data!$11:$11)-LOOKUP($B10,[1]Data!$2:$2,[1]Data!$10:$10)<0,0,1-LOOKUP($B10,[1]Data!$2:$2,[1]Data!$11:$11)-LOOKUP($B10,[1]Data!$2:$2,[1]Data!$10:$10)) -> 1 | D10: =1-LOOKUP($B10,[1]Data!$2:$2,[1]Data!$18:$18)-LOOKUP($B10,[1]Data!$2:$2,[1]Data!$19:$19) -> 1 | E10: =1-LOOKUP($B10,[1]Data!$2:$2,[1]Data!$11:$11)-LOOKUP($B10,[1]Data!$2:$2,[1]Data!$10:$10) -> 1 | F10: =1-LOOKUP($B10,[1]Data!$2:$2,[1]Data!$18:$18)-LOOKUP($B10,[1]Data!$2:$2,[1]Data!$19:$19) -> 1 | G10: =IF(1-LOOKUP($B10,[1]Data!$2:$2,[1]Data!$37:$37)-LOOKUP($B10,[1]Data!$2:$2,[1]Data!$38:$38)<0,0,1-LOOKUP($B10,[1]Data!$2:$2,[1]Data!$37:$37)-LOOKUP($B10,[1]Data!$2:$2,[1]Data!$38:$38)) -> 1 | H10: =IF(1-LOOKUP($B10,[1]Data!$2:$2,[1]Data!$37:$37)-LOOKUP($B10,[1]Data!$2:$2,[1]Data!$38:$38)<0,0,1-LOOKUP($B10,[1]Data!$2:$2,[1]Data!$37:$37)-LOOKUP($B10,[1]Data!$2:$2,[1]Data!$38:$38)) -> 1
A11: =MONTH(B11) -> 1 | B11: 42759 | C11: =IF(1-LOOKUP($B11,[1]Data!$2:$2,[1]Data!$11:$11)-LOOKUP($B11,[1]Data!$2:$2,[1]Data!$10:$10)<0,0,1-LOOKUP($B11,[1]Data!$2:$2,[1]Data!$11:$11)-LOOKUP($B11,[1]Data!$2:$2,[1]Data!$10:$10)) -> 1 | D11: =1-LOOKUP($B11,[1]Data!$2:$2,[1]Data!$18:$18)-LOOKUP($B11,[1]Data!$2:$2,[1]Data!$19:$19) -> 0.8125 | E11: =1-LOOKUP($B11,[1]Data!$2:$2,[1]Data!$11:$11)-LOOKUP($B11,[1]Data!$2:$2,[1]Data!$10:$10) -> 1 | F11: =1-LOOKUP($B11,[1]Data!$2:$2,[1]Data!$18:$18)-LOOKUP($B11,[1]Data!$2:$2,[1]Data!$19:$19) -> 0.8125 | G11: =IF(1-LOOKUP($B11,[1]Data!$2:$2,[1]Data!$37:$37)-LOOKUP($B11,[1]Data!$2:$2,[1]Data!$38:$38)<0,0,1-LOOKUP($B11,[1]Data!$2:$2,[1]Data!$37:$37)-LOOKUP($B11,[1]Data!$2:$2,[1]Data!$38:$38)) -> 0.8125 | H11: =IF(1-LOOKUP($B11,[1]Data!$2:$2,[1]Data!$37:$37)-LOOKUP($B11,[1]Data!$2:$2,[1]Data!$38:$38)<0,0,1-LOOKUP($B11,[1]Data!$2:$2,[1]Data!$37:$37)-LOOKUP($B11,[1]Data!$2:$2,[1]Data!$38:$38)) -> 0.8125
A12: =MONTH(B12) -> 1 | B12: 42760 | C12: =IF(1-LOOKUP($B12,[1]Data!$2:$2,[1]Data!$11:$11)-LOOKUP($B12,[1]Data!$2:$2,[1]Data!$10:$10)<0,0,1-LOOKUP($B12,[1]Data!$2:$2,[1]Data!$11:$11)-LOOKUP($B12,[1]Data!$2:$2,[1]Data!$10:$10)) -> 1 | D12: =1-LOOKUP($B12,[1]Data!$2:$2,[1]Data!$18:$18)-LOOKUP($B12,[1]Data!$2:$2,[1]Data!$19:$19) -> 1 | E12: =1-LOOKUP($B12,[1]Data!$2:$2,[1]Data!$11:$11)-LOOKUP($B12,[1]Data!$2:$2,[1]Data!$10:$10) -> 1 | F12: =1-LOOKUP($B12,[1]Data!$2:$2,[1]Data!$18:$18)-LOOKUP($B12,[1]Data!$2:$2,[1]Data!$19:$19) -> 1 | G12: =IF(1-LOOKUP($B12,[1]Data!$2:$2,[1]Data!$37:$37)-LOOKUP($B12,[1]Data!$2:$2,[1]Data!$38:$38)<0,0,1-LOOKUP($B12,[1]Data!$2:$2,[1]Data!$37:$37)-LOOKUP($B12,[1]Data!$2:$2,[1]Data!$38:$38)) -> 1 | H12: =IF(1-LOOKUP($B12,[1]Data!$2:$2,[1]Data!$37:$37)-LOOKUP($B12,[1]Data!$2:$2,[1]Data!$38:$38)<0,0,1-LOOKUP($B12,[1]Data!$2:$2,[1]Data!$37:$37)-LOOKUP($B12,[1]Data!$2:$2,[1]Data!$38:$38)) -> 1
A13: =MONTH(B13) -> 1 | B13: 42761 | C13: =IF(1-LOOKUP($B13,[1]Data!$2:$2,[1]Data!$11:$11)-LOOKUP($B13,[1]Data!$2:$2,[1]Data!$10:$10)<0,0,1-LOOKUP($B13,[1]Data!$2:$2,[1]Data!$11:$11)-LOOKUP($B13,[1]Data!$2:$2,[1]Data!$10:$10)) -> 1 | D13: =1-LOOKUP($B13,[1]Data!$2:$2,[1]Data!$18:$18)-LOOKUP($B13,[1]Data!$2:$2,[1]Data!$19:$19) -> 1 | E13: =1-LOOKUP($B13,[1]Data!$2:$2,[1]Data!$11:$11)-LOOKUP($B13,[1]Data!$2:$2,[1]Data!$10:$10) -> 1 | F13: =1-LOOKUP($B13,[1]Data!$2:$2,[1]Data!$18:$18)-LOOKUP($B13,[1]Data!$2:$2,[1]Data!$19:$19) -> 1 | G13: =IF(1-LOOKUP($B13,[1]Data!$2:$2,[1]Data!$37:$37)-LOOKUP($B13,[1]Data!$2:$2,[1]Data!$38:$38)<0,0,1-LOOKUP($B13,[1]Data!$2:$2,[1]Data!$37:$37)-LOOKUP($B13,[1]Data!$2:$2,[1]Data!$38:$38)) -> 1 | H13: =IF(1-LOOKUP($B13,[1]Data!$2:$2,[1]Data!$37:$37)-LOOKUP($B13,[1]Data!$2:$2,[1]Data!$38:$38)<0,0,1-LOOKUP($B13,[1]Data!$2:$2,[1]Data!$37:$37)-LOOKUP($B13,[1]Data!$2:$2,[1]Data!$38:$38)) -> 1
A14: =MONTH(B14) -> 1 | B14: 42762 | C14: =IF(1-LOOKUP($B14,[1]Data!$2:$2,[1]Data!$11:$11)-LOOKUP($B14,[1]Data!$2:$2,[1]Data!$10:$10)<0,0,1-LOOKUP($B14,[1]Data!$2:$2,[1]Data!$11:$11)-LOOKUP($B14,[1]Data!$2:$2,[1]Data!$10:$10)) -> 1 | D14: =1-LOOKUP($B14,[1]Data!$2:$2,[1]Data!$18:$18)-LOOKUP($B14,[1]Data!$2:$2,[1]Data!$19:$19) -> 1 | E14: =1-LOOKUP($B14,[1]Data!$2:$2,[1]Data!$11:$11)-LOOKUP($B14,[1]Data!$2:$2,[1]Data!$10:$10) -> 1 | F14: =1-LOOKUP($B14,[1]Data!$2:$2,[1]Data!$18:$18)-LOOKUP($B14,[1]Data!$2:$2,[1]Data!$19:$19) -> 1 | G14: =IF(1-LOOKUP($B14,[1]Data!$2:$2,[1]Data!$37:$37)-LOOKUP($B14,[1]Data!$2:$2,[1]Data!$38:$38)<0,0,1-LOOKUP($B14,[1]Data!$2:$2,[1]Data!$37:$37)-LOOKUP($B14,[1]Data!$2:$2,[1]Data!$38:$38)) -> 1 | H14: =IF(1-LOOKUP($B14,[1]Data!$2:$2,[1]Data!$37:$37)-LOOKUP($B14,[1]Data!$2:$2,[1]Data!$38:$38)<0,0,1-LOOKUP($B14,[1]Data!$2:$2,[1]Data!$37:$37)-LOOKUP($B14,[1]Data!$2:$2,[1]Data!$38:$38)) -> 1
A15: =MONTH(B15) -> 1 | B15: 42763 | C15: =IF(1-LOOKUP($B15,[1]Data!$2:$2,[1]Data!$11:$11)-LOOKUP($B15,[1]Data!$2:$2,[1]Data!$10:$10)<0,0,1-LOOKUP($B15,[1]Data!$2:$2,[1]Data!$11:$11)-LOOKUP($B15,[1]Data!$2:$2,[1]Data!$10:$10)) -> 1 | D15: =1-LOOKUP($B15,[1]Data!$2:$2,[1]Data!$18:$18)-LOOKUP($B15,[1]Data!$2:$2,[1]Data!$19:$19) -> 1 | E15: =1-LOOKUP($B15,[1]Data!$2:$2,[1]Data!$11:$11)-LOOKUP($B15,[1]Data!$2:$2,[1]Data!$10:$10) -> 1 | F15: =1-LOOKUP($B15,[1]Data!$2:$2,[1]Data!$18:$18)-LOOKUP($B15,[1]Data!$2:$2,[1]Data!$19:$19) -> 1 | G15: =IF(1-LOOKUP($B15,[1]Data!$2:$2,[1]Data!$37:$37)-LOOKUP($B15,[1]Data!$2:$2,[1]Data!$38:$38)<0,0,1-LOOKUP($B15,[1]Data!$2:$2,[1]Data!$37:$37)-LOOKUP($B15,[1]Data!$2:$2,[1]Data!$38:$38)) -> 1 | H15: =IF(1-LOOKUP($B15,[1]Data!$2:$2,[1]Data!$37:$37)-LOOKUP($B15,[1]Data!$2:$2,[1]Data!$38:$38)<0,0,1-LOOKUP($B15,[1]Data!$2:$2,[1]Data!$37:$37)-LOOKUP($B15,[1]Data!$2:$2,[1]Data!$38:$38)) -> 1
A16: =MONTH(B16) -> 1 | B16: 42764 | C16: =IF(1-LOOKUP($B16,[1]Data!$2:$2,[1]Data!$11:$11)-LOOKUP($B16,[1]Data!$2:$2,[1]Data!$10:$10)<0,0,1-LOOKUP($B16,[1]Data!$2:$2,[1]Data!$11:$11)-LOOKUP($B16,[1]Data!$2:$2,[1]Data!$10:$10)) -> 1 | D16: =1-LOOKUP($B16,[1]Data!$2:$2,[1]Data!$18:$18)-LOOKUP($B16,[1]Data!$2:$2,[1]Data!$19:$19) -> 1 | E16: =1-LOOKUP($B16,[1]Data!$2:$2,[1]Data!$11:$11)-LOOKUP($B16,[1]Data!$2:$2,[1]Data!$10:$10) -> 1 | F16: =1-LOOKUP($B16,[1]Data!$2:$2,[1]Data!$18:$18)-LOOKUP($B16,[1]Data!$2:$2,[1]Data!$19:$19) -> 1 | G16: =IF(1-LOOKUP($B16,[1]Data!$2:$2,[1]Data!$37:$37)-LOOKUP($B16,[1]Data!$2:$2,[1]Data!$38:$38)<0,0,1-LOOKUP($B16,[1]Data!$2:$2,[1]Data!$37:$37)-LOOKUP($B16,[1]Data!$2:$2,[1]Data!$38:$38)) -> 1 | H16: =IF(1-LOOKUP($B16,[1]Data!$2:$2,[1]Data!$37:$37)-LOOKUP($B16,[1]Data!$2:$2,[1]Data!$38:$38)<0,0,1-LOOKUP($B16,[1]Data!$2:$2,[1]Data!$37:$37)-LOOKUP($B16,[1]Data!$2:$2,[1]Data!$38:$38)) -> 1
A17: =MONTH(B17) -> 1 | B17: 42765 | C17: =IF(1-LOOKUP($B17,[1]Data!$2:$2,[1]Data!$11:$11)-LOOKUP($B17,[1]Data!$2:$2,[1]Data!$10:$10)<0,0,1-LOOKUP($B17,[1]Data!$2:$2,[1]Data!$11:$11)-LOOKUP($B17,[1]Data!$2:$2,[1]Data!$10:$10)) -> 1 | D17: =1-LOOKUP($B17,[1]Data!$2:$2,[1]Data!$18:$18)-LOOKUP($B17,[1]Data!$2:$2,[1]Data!$19:$19) -> 1 | E17: =1-LOOKUP($B17,[1]Data!$2:$2,[1]Data!$11:$11)-LOOKUP($B17,[1]Data!$2:$2,[1]Data!$10:$10) -> 1 | F17: =1-LOOKUP($B17,[1]Data!$2:$2,[1]Data!$18:$18)-LOOKUP($B17,[1]Data!$2:$2,[1]Data!$19:$19) -> 1 | G17: =IF(1-LOOKUP($B17,[1]Data!$2:$2,[1]Data!$37:$37)-LOOKUP($B17,[1]Data!$2:$2,[1]Data!$38:$38)<0,0,1-LOOKUP($B17,[1]Data!$2:$2,[1]Data!$37:$37)-LOOKUP($B17,[1]Data!$2:$2,[1]Data!$38:$38)) -> 1 | H17: =IF(1-LOOKUP($B17,[1]Data!$2:$2,[1]Data!$37:$37)-LOOKUP($B17,[1]Data!$2:$2,[1]Data!$38:$38)<0,0,1-LOOKUP($B17,[1]Data!$2:$2,[1]Data!$37:$37)-LOOKUP($B17,[1]Data!$2:$2,[1]Data!$38:$38)) -> 1
A18: =MONTH(B18) -> 1 | B18: 42766 | C18: =IF(1-LOOKUP($B18,[1]Data!$2:$2,[1]Data!$11:$11)-LOOKUP($B18,[1]Data!$2:$2,[1]Data!$10:$10)<0,0,1-LOOKUP($B18,[1]Data!$2:$2,[1]Data!$11:$11)-LOOKUP($B18,[1]Data!$2:$2,[1]Data!$10:$10)) -> 1 | D18: =1-LOOKUP($B18,[1]Data!$2:$2,[1]Data!$18:$18)-LOOKUP($B18,[1]Data!$2:$2,[1]Data!$19:$19) -> 0.88541667 | E18: =1-LOOKUP($B18,[1]Data!$2:$2,[1]Data!$11:$11)-LOOKUP($B18,[1]Data!$2:$2,[1]Data!$10:$10) -> 1 | F18: =1-LOOKUP($B18,[1]Data!$2:$2,[1]Data!$18:$18)-LOOKUP($B18,[1]Data!$2:$2,[1]Data!$19:$19) -> 0.88541667 | G18: =IF(1-LOOKUP($B18,[1]Data!$2:$2,[1]Data!$37:$37)-LOOKUP($B18,[1]Data!$2:$2,[1]Data!$38:$38)<0,0,1-LOOKUP($B18,[1]Data!$2:$2,[1]Data!$37:$37)-LOOKUP($B18,[1]Data!$2:$2,[1]Data!$38:$38)) -> 0.88541667 | H18: =IF(1-LOOKUP($B18,[1]Data!$2:$2,[1]Data!$37:$37)-LOOKUP($B18,[1]Data!$2:$2,[1]Data!$38:$38)<0,0,1-LOOKUP($B18,[1]Data!$2:$2,[1]Data!$37:$37)-LOOKUP($B18,[1]Data!$2:$2,[1]Data!$38:$38)) -> 0.88541667
A19: =MONTH(B19) -> 2 | B19: 42767 | C19: =IF(1-LOOKUP($B19,[1]Data!$2:$2,[1]Data!$11:$11)-LOOKUP($B19,[1]Data!$2:$2,[1]Data!$10:$10)<0,0,1-LOOKUP($B19,[1]Data!$2:$2,[1]Data!$11:$11)-LOOKUP($B19,[1]Data!$2:$2,[1]Data!$10:$10)) -> 1 | D19: =1-LOOKUP($B19,[1]Data!$2:$2,[1]Data!$18:$18)-LOOKUP($B19,[1]Data!$2:$2,[1]Data!$19:$19) -> 0.75 | E19: =1-LOOKUP($B19,[1]Data!$2:$2,[1]Data!$11:$11)-LOOKUP($B19,[1]Data!$2:$2,[1]Data!$10:$10) -> 1 | F19: =1-LOOKUP($B19,[1]Data!$2:$2,[1]Data!$18:$18)-LOOKUP($B19,[1]Data!$2:$2,[1]Data!$19:$19) -> 0.75 | G19: =IF(1-LOOKUP($B19,[1]Data!$2:$2,[1]Data!$37:$37)-LOOKUP($B19,[1]Data!$2:$2,[1]Data!$38:$38)<0,0,1-LOOKUP($B19,[1]Data!$2:$2,[1]Data!$37:$37)-LOOKUP($B19,[1]Data!$2:$2,[1]Data!$38:$38)) -> 0.75 | H19: =IF(1-LOOKUP($B19,[1]Data!$2:$2,[1]Data!$37:$37)-LOOKUP($B19,[1]Data!$2:$2,[1]Data!$38:$38)<0,0,1-LOOKUP($B19,[1]Data!$2:$2,[1]Data!$37:$37)-LOOKUP($B19,[1]Data!$2:$2,[1]Data!$38:$38)) -> 0.75
... A352: =MONTH(B352) -> 12 | B352: 43100 | C352: =IF(1-LOOKUP($B352,[1]Data!$2:$2,[1]Data!$11:$11)-LOOKUP($B352,[1]Data!$2:$2,[1]Data!$10:$10)<0,0,1-LOOKUP($B352,[1]Data!$2:$2,[1]Data!$11:$11)-LOOKUP($B352,[1]Data!$2:$2,[1]Data!$10:$10)) -> 1 | D352: =1-LOOKUP($B352,[1]Data!$2:$2,[1]Data!$18:$18)-LOOKUP($B352,[1]Data!$2:$2,[1]Data!$19:$19) -> 1 | E352: =1-LOOKUP($B352,[1]Data!$2:$2,[1]Data!$11:$11)-LOOKUP($B352,[1]Data!$2:$2,[1]Data!$10:$10) -> 1 | F352: =1-LOOKUP($B352,[1]Data!$2:$2,[1]Data!$18:$18)-LOOKUP($B352,[1]Data!$2:$2,[1]Data!$19:$19) -> 1 | G352: =IF(1-LOOKUP($B352,[1]Data!$2:$2,[1]Data!$37:$37)-LOOKUP($B352,[1]Data!$2:$2,[1]Data!$38:$38)<0,0,1-LOOKUP($B352,[1]Data!$2:$2,[1]Data!$37:$37)-LOOKUP($B352,[1]Data!$2:$2,[1]Data!$38:$38)) -> 1 | H352: =IF(1-LOOKUP($B352,[1]Data!$2:$2,[1]Data!$37:$37)-LOOKUP($B352,[1]Data!$2:$2,[1]Data!$38:$38)<0,0,1-LOOKUP($B352,[1]Data!$2:$2,[1]Data!$37:$37)-LOOKUP($B352,[1]Data!$2:$2,[1]Data!$38:$38)) -> 1
