Workbook

Sheet tri classe 2
A1: QUIATIL PLUS CLASSE 2 | C1: 5004 | D1: 3865 | E1: Classe 2 | F1: 0.68467671 | G1: UID
A2: QUIATIL PLUS CLASSE 1 | C2: 132 | D2: 1259 | E2: Classe 1 | F2: 0.22302923 | G2: 10001 | H2: 13901 | I2: Classe 2
A3: EASY | C3: 246 | D3: 246 | E3: EASY | F3: 0.043578388 | G3: 14001 | H3: 15266 | I3: Classe 1
A4: GPRS | C4: 110 | D4: 110 | E4: GPRS | F4: 0.019486271
A5: GPRS ST3 | C5: 26 | D5: 26 | E5: GPRS ST3 | F5: 0.0046058459
A6: QUIATIL EUROPE | C6: 1 | D6: 1 | E6: QUIATIL EUROPE | F6: 0.00017714792
A7: Q PLUS FULL DUPLEX | C7: 138 | D7: 138 | E7: Q PLUS FULL DUPLEX | F7: 0.024446413
C8: 5657 | D8: 5645 | F8: 1
A11: num_serie | C11: marque | D11: gamme | E11: etat | F11: fx | G11: uid | H11: Modèle | I11: numero_abonne | J11: civilite | K11: nom | L11: prenom | M11: date_naissance | N11: num_rue | O11: libelle | P11: complement_adresse | Q11: batiment | R11: etage | S11: Code Postal | T11: ville | U11: date_raccordement | V11: Secteur
S12: 19270 | T12: SAINTE FEREOLE | U12: 38608.672
S13: 24000 | T13: PERIGUEUX | U13: 39347.537 | V13: =VLOOKUP(S13,'Matrice Commune'!A1:G565,3,FALSE) -> #N/A
S14: 24000 | T14: PERIGUEUX | U14: 39367.769 | V14: =VLOOKUP(S14,'Matrice Commune'!A2:G566,3,FALSE) -> #N/A
S15: 24000 | T15: PERIGUEUX | U15: 41277.266 | V15: =VLOOKUP(S15,'Matrice Commune'!A3:G567,3,FALSE) -> #N/A
S16: 24000 | T16: PERIGUEUX | U16: 39361.438 | V16: =VLOOKUP(S16,'Matrice Commune'!A4:G568,3,FALSE) -> #N/A
S17: 24000 | T17: PERIGUEUX | U17: 39382.624 | V17: =VLOOKUP(S17,'Matrice Commune'!A5:G569,3,FALSE) -> #N/A
S18: 24000 | T18: PERIGUEUX | U18: 41592.275 | V18: =VLOOKUP(S18,'Matrice Commune'!A6:G570,3,FALSE) -> #N/A
S19: 24000 | T19: PERIGUEUX | U19: 41582.301 | V19: =VLOOKUP(S19,'Matrice Commune'!A7:G571,3,FALSE) -> #N/A
S20: 24000 | T20: PERIGUEUX | U20: 40186.44 | V20: =VLOOKUP(S20,'Matrice Commune'!A8:G572,3,FALSE) -> #N/A
S21: 24000 | T21: PERIGUEUX | U21: 41123.275 | V21: =VLOOKUP(S21,'Matrice Commune'!A9:G573,3,FALSE) -> #N/A
S22: 24000 | T22: PERIGUEUX | U22: 41359.282 | V22: =VLOOKUP(S22,'Matrice Commune'!A10:G574,3,FALSE) -> #N/A
S23: 24000 | T23: PERIGUEUX | U23: 41316.261 | V23: =VLOOKUP(S23,'Matrice Commune'!A11:G575,3,FALSE) -> #N/A
S24: 24000 | T24: PERIGUEUX | U24: 40746.877 | V24: =VLOOKUP(S24,'Matrice Commune'!A12:G576,3,FALSE) -> #N/A
... S972: 24170 | T972: MONPLAISANT | U972: 41738.242 | V972: =VLOOKUP(S972,'Matrice Commune'!A960:G1524,3,FALSE) -> #N/A
S973: 24170 | T973: SAGELAT | U973: 0000-00-00 00:00:00 | V973: =VLOOKUP(S973,'Matrice Commune'!A961:G1525,3,FALSE) -> #N/A
S974: 24170 | T974: BELVES | U974: 39429.677 | V974: =VLOOKUP(S974,'Matrice Commune'!A962:G1526,3,FALSE) -> #N/A
S975: 24170 | T975: CARVES | U975: 41306.239 | V975: =VLOOKUP(S975,'Matrice Commune'!A963:G1527,3,FALSE) -> #N/A
S976: 24170 | T976: SAINT POMPON | U976: 40980.261 | V976: =VLOOKUP(S976,'Matrice Commune'!A964:G1528,3,FALSE) -> #N/A
S977: 24170 | T977: GRIVES | U977: 38666.491 | V977: =VLOOKUP(S977,'Matrice Commune'!A965:G1529,3,FALSE) -> #N/A
S978: 24170 | T978: MONPLAISANT | U978: 41681.247 | V978: =VLOOKUP(S978,'Matrice Commune'!A966:G1530,3,FALSE) -> #N/A
S979: 24170 | T979: BELVES | U979: 41513.236 | V979: =VLOOKUP(S979,'Matrice Commune'!A967:G1531,3,FALSE) -> #N/A
S980: 24170 | T980: SAINT PARDOUX ET VIELVIC | U980: 40954 | V980: =VLOOKUP(S980,'Matrice Commune'!A968:G1532,3,FALSE) -> #N/A
S981: 24170 | T981: SIORAC EN PERIGORD | U981: 39662.378 | V981: =VLOOKUP(S981,'Matrice Commune'!A969:G1533,3,FALSE) -> #N/A
S982: 24170 | T982: MONPLAISANT | U982: 41689.292 | V982: =VLOOKUP(S982,'Matrice Commune'!A970:G1534,3,FALSE) -> #N/A
S983: 24170 | T983: BELVES | U983: 40814.388 | V983: =VLOOKUP(S983,'Matrice Commune'!A971:G1535,3,FALSE) -> #N/A
S984: 24170 | T984: SAINT POMPON | U984: 39685.59 | V984: =VLOOKUP(S984,'Matrice Commune'!A972:G1536,3,FALSE) -> #N/A
S985: 24170 | T985: SAINT PARDOUX ET VIELVIC | U985: 40365.426 | V985: =VLOOKUP(S985,'Matrice Commune'!A973:G1537,3,FALSE) -> #N/A
... S1922: 24360 | T1922: CHAMPNIERS ET REILHAC | U1922: 41438.286 | V1922: =VLOOKUP(S1922,'Matrice Commune'!A1910:G2474,3,FALSE) -> #N/A
S1923: 24360 | T1923: PIEGUT PLUVIERS | U1923: 0000-00-00 00:00:00 | V1923: =VLOOKUP(S1923,'Matrice Commune'!A1911:G2475,3,FALSE) -> #N/A
S1924: 24360 | T1924: CHAMPNIERS ET REILHAC | U1924: 41628.268 | V1924: =VLOOKUP(S1924,'Matrice Commune'!A1912:G2476,3,FALSE) -> #N/A
S1925: 24360 | T1925: SAINT ESTEPHE | U1925: 41429.829 | V1925: =VLOOKUP(S1925,'Matrice Commune'!A1913:G2477,3,FALSE) -> #N/A
...

Sheet Matrice Commune
A1: COMMUNES | B1: CP | C1: SECTEUR | D1: CANTON | E1: SECTEUR CLIC | F1: Qui CTA | G1: Qui AUX
A2: ABJATSURBANDIAT | B2: 24300 | C2: 02 | D2: NONTRON | E2: NONTRON | F2: NC | G2: SA
A3: AGONAC | B3: 24460 | C3: 02 | D3: BRANTOME | E3: NONTRON | F3: NC | G3: SA
A4: AJAT | B4: 24210 | C4: 06 | D4: THENON | E4: SARLAT | F4: AB et CV | G4: MGB
A5: ALLAS LES MINES | B5: 24220 | C5: 08 | D5: SAINT CYPRIEN | E5: SARLAT | F5: AB et CV | G5: MP
A6: ALLEMANS | B6: 24600 | C6: 01 | D6: RIBERAC | E6: RIBERAC | F6: EP | G6: SA
A7: ALLES SUR DORDOGNE | B7: 24480 | C7: 09 | D7: LE BUISSON DE CADOUIN | E7: BERGERAC | F7: MC et LH | G7: EA
A8: ANGOISSE | B8: 24270 | C8: 03 | D8: LANOUAILLE | E8: NONTRON | F8: EP | G8: SA
A9: ANLHIAC | B9: 24160 | C9: 03 | D9: EXCIDEUIL | E9: NONTRON | F9: NC | G9: SA
A10: ANNESSE ET BEAULIEU | B10: 24430 | C10: 05 | D10: SAINT ASTIER | E10: PERIGUEUX | F10: CLA | G10: MGB
A11: ANTONNE ET TRIGONANT | B11: 24420 | C11: 05 | D11: SAVIGNAC LES EGLISES | E11: PERIGUEUX | F11: CLA | G11: MGB
A12: ARCHIGNAC | B12: 24590 | C12: 07 | D12: SALIGNAC EYVIGUES | E12: SARLAT | F12: AB et CV | G12: EA
A13: ATUR | B13: 24750 | C13: 05 | D13: SAINT PIERRE DE CHIGNAC | E13: PERIGUEUX | F13: CLA | G13: MGB
... A246: MARSANEIX | B246: 24750 | C246: 05 | D246: SAINT PIERRE DE CHIGNAC | E246: PERIGUEUX | F246: CLA | G246: MGB
A247: MARVAL | B247: 87440 | C247: 12 | D247: SAINT-MATTHIEU | E247: NOTRON
A248: MASCLAT | B248: 46350 | C248: 12 | D248: PAYRAC | E248: SARLAT
A249: MAURENS | B249: 24140 | C249: 11 | D249: VILLAMBLARD | E249: BERGERAC | F249: MC et LH | G249: EA
A250: MAUZAC ET GRAND CASTANG | B250: 24150 | C250: 09 | D250: LALINDE | E250: BERGERAC | F250: MC et LH | G250: EA
A251: MAUZENS ET MIREMONT | B251: 24260 | C251: 08 | D251: LE BUGUE | E251: SARLAT | F251: AB et CV | G251: MP
A252: MAYAC | B252: 24420 | C252: 05 | D252: SAVIGNAC LES EGLISES | E252: PERIGUEUX | F252: CLA | G252: MGB
A253: MAZEYROLLES | B253: 24550 | C253: 08 | D253: VILLEFRANCHE DU PERIGORD | E253: SARLAT | F253: AB et CV | G253: MP
A254: MENESPLET | B254: 24700 | C254: 04 | D254: MONTPON MENESTEROL | E254: RIBERAC | F254: EP | G254: SA
A255: MENSIGNAC | B255: 24350 | C255: 05 | D255: SAINT ASTIER | E255: PERIGUEUX | F255: CLA | G255: MGB
A256: MESCOULES | B256: 24240 | C256: 10 | D256: SIGOULES | E256: BERGERAC | F256: MC et LH | G256: EA
A257: MEYRALS | B257: 24220 | C257: 08 | D257: SAINT CYPRIEN | E257: SARLAT | F257: AB et CV | G257: MP
A258: MIALLET | B258: 24450 | C258: 02 | D258: SAINT PARDOUX LA RIVIERE | E258: NONTRON | F258: NC | G258: SA
A259: MILHAC D'AUBEROCHE | B259: 24330 | C259: 05 | D259: SAINT PIERRE DE CHIGNAC | E259: PERIGUEUX | F259: CLA | G259: MGB
A260: MILHAC DE NONTRON | B260: 24470 | C260: 02 | D260: SAINT PARDOUX LA RIVIERE | E260: NONTRON | F260: NC | G260: SA
... A437: SAINTE FOY DE LONGAS | B437: 24510 | C437: 09 | D437: SAINTE ALVERE | E437: BERGERAC | F437: MC et LH | G437: EA
A438: SAINTE FOY LA GRANDE | B438: 33220 | C438: 12 | D438: SAINTE FOY LA GRANDE | E438: BERGERAC
A439: SAINTE INNOCENCE | B439: 24500 | C439: 10 | D439: EYMET | E439: BERGERAC | F439: MC et LH | G439: EA
A440: SAINTE MONDANE | B440: 24370 | C440: 07 | D440: CARLUX | E440: SARLAT | F440: AB et CV | G440: EA
A441: SAINTE NATHALENE | B441: 24200 | C441: 07 | D441: SARLAT | E441: SARLAT | F441: AB et CV | G441: EA
A442: SAINTE ORSE | B442: 24210 | C442: 06 | D442: THENON | E442: SARLAT | F442: AB et CV | G442: MGB
A443: SAINTE RADEGONDE | B443: 24560 | C443: 10 | D443: ISSIGEAC | E443: BERGERAC | F443: MC et LH | G443: EA
A444: SAINTE SABINE BORN | B444: 24440 | C444: 09 | D444: BEAUMONT DU PERIGORD | E444: BERGERAC | F444: MC et LH | G444: EA
A445: SAINTE TRIE | B445: 24160 | C445: 03 | D445: EXCIDEUIL | E445: NONTRON | F445: NC | G445: SA
A446: SAINTE ALVERE | B446: 24510 | C446: 09 | D446: SAINTE ALVERE | E446: BERGERAC | F446: MC et LH | G446: EA
A447: SAINTE CROIX DE BEAUMONT | B447: 24440 | C447: 09 | D447: BEAUMONT DU PERIGORD | E447: BERGERAC | F447: MC et LH | G447: EA
A448: SAINTE CROIX DE MAREUIL | B448: 24340 | C448: 02 | D448: MAREUIL / BELLE | E448: NONTRON | F448: NC | G448: SA
...
