Workbook
Name gérald: 'bases de donnée'!$D$20:$D$29
Name gérald1: 'bases de donnée'!$D$20:$E$29

Sheet planning 2017
C2: jour | D2: date | G2: Début | H2: pause | I2: Fin | J2: H Jour | K2: hs semaine | M2: j semaine
B4: semaine | C4: lundi | E4: travail | G4: 0.375 | I4: 0.70833333 | J4: =IF(OR(E4="férié travaillé",E4="travail"),(I4-G4+IF(G4>I4,1)-H4),INDEX('bases de donnée'!$E$20:'bases de donnée'!$E$29,MATCH(E4,gérald,0))) -> 0.33333333 | K4: =J4 -> 0.33333333 | L4: =SUM(M4:M10) -> 1 | M4: =IF(AND(G4<>"",I4<>""),1,0+(N(I3)<N(G3))) -> 1
B5: 0 | C5: mardi | E5: récupération | J5: =IF(OR(E5="férié travaillé",E5="travail"),(I5-G5+IF(G5>I5,1)-H5),INDEX('bases de donnée'!$E$20:'bases de donnée'!$E$29,MATCH(E5,gérald,0))) -> 0.3 | K5: =K4+J5 -> 0.63333333 | L5: =IF(SUM(L4-'bases de donnée'!E$5)<0,0,SUM(L4-'bases de donnée'!E$5)) -> 0 | M5: =IF(AND(G5<>"",I5<>""),1,0+(N(I4)<N(G4))) -> 0
C6: mercredi | E6: congé 1 jour | J6: =IF(OR(E6="férié travaillé",E6="travail"),(I6-G6+IF(G6>I6,1)-H6),INDEX('bases de donnée'!$E$20:'bases de donnée'!$E$29,MATCH(E6,gérald,0))) -> 0.3 | K6: =K5+J6 -> 0.93333333 | L6: H semaine | M6: =IF(AND(G6<>"",I6<>""),1,0+(N(I5)<N(G5))) -> 0
C7: jeudi | E7: arrêt maladie | J7: =IF(OR(E7="férié travaillé",E7="travail"),(I7-G7+IF(G7>I7,1)-H7),INDEX('bases de donnée'!$E$20:'bases de donnée'!$E$29,MATCH(E7,gérald,0))) -> 0.3 | K7: =K6+J7 -> 1.2333333 | L7: =K10 -> 1.5333333 | M7: =IF(AND(G7<>"",I7<>""),1,0+(N(I6)<N(G6))) -> 0
C8: vendredi | E8: férié | J8: =IF(OR(E8="férié travaillé",E8="travail"),(I8-G8+IF(G8>I8,1)-H8),INDEX('bases de donnée'!$E$20:'bases de donnée'!$E$29,MATCH(E8,gérald,0))) -> 0.3 | K8: =K7+J8 -> 1.5333333 | L8: H semaine hc de | M8: =IF(AND(G8<>"",I8<>""),1,0+(N(I7)<N(G7))) -> 0
C9: samedi | E9: off | J9: =IF(OR(E9="férié travaillé",E9="travail"),(I9-G9+IF(G9>I9,1)-H9),INDEX('bases de donnée'!$E$20:'bases de donnée'!$E$29,MATCH(E9,gérald,0))) -> 0 | K9: =K8+J9 -> 1.5333333 | L9: ='bases de donnée'!E$9 -> 2 | M9: =IF(AND(G9<>"",I9<>""),1,0+(N(I8)<N(G8))) -> 0
C10: dimanche | D10: 41274 | E10: off | J10: =IF(OR(E10="férié travaillé",E10="travail"),(I10-G10+IF(G10>I10,1)-H10),INDEX('bases de donnée'!$E$20:'bases de donnée'!$E$29,MATCH(E10,gérald,0))) -> 0 | K10: =K9+J10 -> 1.5333333 | L10: =IF(SUM(K10-'bases de donnée'!E$9)<0,0,SUM(K10-'bases de donnée'!E$9)) -> 0 | M10: =IF(AND(G10<>"",I10<>""),1,0+(N(I9)<N(G9))) -> 0
B12: semaine | C12: lundi | D12: =D10+1 -> 41275 | E12: off | J12: =IF(OR(E12="férié travaillé",E12="travail"),(I12-G12+IF(G12>I12,1)-H12),INDEX('bases de donnée'!$E$20:'bases de donnée'!$E$29,MATCH(E12,gérald,0))) -> 0 | K12: =J12 -> 0 | L12: =SUM(M12:M18) -> 4 | M12: =IF(AND(G12<>"",I12<>""),1,0+(N(I10)<N(G10))) -> 0
B13: =B$5+1 -> 1 | C13: mardi | D13: =D12+1 -> 41276 | E13: travail | G13: 0.375 | I13: 0.70833333 | J13: =IF(OR(E13="férié travaillé",E13="travail"),(I13-G13+IF(G13>I13,1)-H13),INDEX('bases de donnée'!$E$20:'bases de donnée'!$E$29,MATCH(E13,gérald,0))) -> 0.33333333 | K13: =K12+J13 -> 0.33333333 | L13: =IF(SUM(L12-'bases de donnée'!E$5)<0,0,SUM(L12-'bases de donnée'!E$5)) -> 0 | M13: =IF(AND(G13<>"",I13<>""),1,0+(N(I12)<N(G12))) -> 1
C14: mercredi | D14: =D13+1 -> 41277 | E14: férié travaillé | G14: 0.36458333 | I14: 0.71875 | J14: =IF(OR(E14="férié travaillé",E14="travail"),(I14-G14+IF(G14>I14,1)-H14),INDEX('bases de donnée'!$E$20:'bases de donnée'!$E$29,MATCH(E14,gérald,0))) -> 0.35416667 | K14: =K13+J14 -> 0.6875 | L14: H semaine | M14: =IF(AND(G14<>"",I14<>""),1,0+(N(I13)<N(G13))) -> 1
C15: jeudi | D15: =D14+1 -> 41278 | E15: travail | G15: 0.40625 | I15: 0.76041667 | J15: =IF(OR(E15="férié travaillé",E15="travail"),(I15-G15+IF(G15>I15,1)-H15),INDEX('bases de donnée'!$E$20:'bases de donnée'!$E$29,MATCH(E15,gérald,0))) -> 0.35416667 | K15: =K14+J15 -> 1.0416667 | L15: =K18 -> 1.3958333 | M15: =IF(AND(G15<>"",I15<>""),1,0+(N(I14)<N(G14))) -> 1
C16: vendredi | D16: =D15+1 -> 41279 | E16: travail | G16: 0.44791667 | I16: 0.80208333 | J16: =IF(OR(E16="férié travaillé",E16="travail"),(I16-G16+IF(G16>I16,1)-H16),INDEX('bases de donnée'!$E$20:'bases de donnée'!$E$29,MATCH(E16,gérald,0))) -> 0.35416667 | K16: =K15+J16 -> 1.3958333 | L16: HS hc de | M16: =IF(AND(G16<>"",I16<>""),1,0+(N(I15)<N(G15))) -> 1
C17: samedi | D17: =D16+1 -> 41280 | E17: off | J17: =IF(OR(E17="férié travaillé",E17="travail"),(I17-G17+IF(G17>I17,1)-H17),INDEX('bases de donnée'!$E$20:'bases de donnée'!$E$29,MATCH(E17,gérald,0))) -> 0 | K17: =K16+J17 -> 1.3958333 | L17: ='bases de donnée'!E$9 -> 2 | M17: =IF(AND(G17<>"",I17<>""),1,0+(N(I16)<N(G16))) -> 0
C18: dimanche | D18: =D17+1 -> 41281 | E18: off | J18: =IF(OR(E18="férié travaillé",E18="travail"),(I18-G18+IF(G18>I18,1)-H18),INDEX('bases de donnée'!$E$20:'bases de donnée'!$E$29,MATCH(E18,gérald,0))) -> 0 | K18: =K17+J18 -> 1.3958333 | L18: =IF(SUM(K18-'bases de donnée'!E$9)<0,0,SUM(K18-'bases de donnée'!E$9)) -> 0 | M18: =IF(AND(G18<>"",I18<>""),1,0+(N(I17)<N(G17))) -> 0

Sheet résultat 2017
C3: jours | D3: heures | G3: H sup +36 réel | H3: hc de | I3: récup | L3: perte | M3: récup | P3: résultat travail | Q3: hc de
B4: travail | C4: =COUNTIF('planning 2017'!$E$10:$E$19,B4) -> 3 | D4: =SUM('planning 2017'!J10:J19)-D11 -> 1.3958333 | F4: janvier | G4: =SUM('planning 2017'!#REF!) -> #REF! | H4: =IF(SUM(G4-'bases de donnée'!F$11)>0,0,SUM(G4-'bases de donnée'!F$11)) -> #REF! | I4: =IF(G4<0.625,G4*'bases de donnée'!$E$13,(0.583333*'bases de donnée'!$E$13)+(G4-0.583333)*'bases de donnée'!$E$14)*24 -> #REF! | K4: =SUM('planning 2017'!#REF!) -> #REF! | L4: =G4-K4 -> #REF! | M4: =IF(K4<0.625,K4*'bases de donnée'!$E$13,(0.583333*'bases de donnée'!$E$13)+(K4-0.583333)*'bases de donnée'!$E$14)*24 -> #REF! | P4: annuel | Q4: =IF(SUM(D4-'bases de donnée'!E$2)<0,0,SUM(D4-'bases de donnée'!E$2)) -> 0
B5: off | C5: =COUNTIF('planning 2017'!$E$10:$E$19,B5) -> 4 | F5: février | G5: =SUM('planning 2017'!#REF!) -> #REF! | H5: =IF(SUM(G5-'bases de donnée'!F$11)>0,0,SUM(G5-'bases de donnée'!F$11)) -> #REF! | I5: =IF(G5<0.625,G5*'bases de donnée'!$E$13,(0.583333*'bases de donnée'!$E$13)+(G5-0.583333)*'bases de donnée'!$E$14)*24 -> #REF! | K5: =SUM('planning 2017'!#REF!) -> #REF! | L5: =G5-K5 -> #REF! | M5: =IF(K5<0.625,K5*'bases de donnée'!$E$13,(0.583333*'bases de donnée'!$E$13)+(K5-0.583333)*'bases de donnée'!$E$14)*24 -> #REF! | P5: jour | Q5: =SUM('planning 2017'!#REF!) -> #REF!
B6: récupération | C6: =COUNTIF('planning 2017'!$E$10:$E$19,B6) -> 0 | F6: mars | G6: =SUM('planning 2017'!#REF!) -> #REF! | H6: =IF(SUM(G6-'bases de donnée'!F$11)>0,0,SUM(G6-'bases de donnée'!F$11)) -> #REF! | I6: =IF(G6<0.625,G6*'bases de donnée'!$E$13,(0.583333*'bases de donnée'!$E$13)+(G6-0.583333)*'bases de donnée'!$E$14)*24 -> #REF! | K6: =SUM('planning 2017'!#REF!) -> #REF! | L6: =G6-K6 -> #REF! | M6: =IF(K6<0.625,K6*'bases de donnée'!$E$13,(0.583333*'bases de donnée'!$E$13)+(K6-0.583333)*'bases de donnée'!$E$14)*24 -> #REF! | P6: amplitude jour | Q6: =SUM('planning 2017'!#REF!) -> #REF!
B7: arrêt maladie | C7: =COUNTIF('planning 2017'!$E$10:$E$19,B7) -> 0 | F7: avril | G7: =SUM('planning 2017'!#REF!) -> #REF! | H7: =IF(SUM(G7-'bases de donnée'!F$11)>0,0,SUM(G7-'bases de donnée'!F$11)) -> #REF! | I7: =IF(G7<0.625,G7*'bases de donnée'!$E$13,(0.583333*'bases de donnée'!$E$13)+(G7-0.583333)*'bases de donnée'!$E$14)*24 -> #REF! | K7: =SUM('planning 2017'!#REF!) -> #REF! | L7: =G7-K7 -> #REF! | M7: =IF(K7<0.625,K7*'bases de donnée'!$E$13,(0.583333*'bases de donnée'!$E$13)+(K7-0.583333)*'bases de donnée'!$E$14)*24 -> #REF! | P7: hedbomadaire | Q7: =SUM('planning 2017'!L10+'planning 2017'!L18+'planning 2017'!#REF!+'planning 2017'!#REF!+'planning 2017'!#REF!+'planning 2017'!#REF!+'planning 2017'!#REF!+'planning 2017'!#REF!+'planning 2017'!#REF!+'planning 2017'!#REF!+'planning 2017'!#REF!+'planning 2017'!#REF!+'planning 2017'!#REF!+'planning 2017'!#REF!+'planning 2017'!#REF!+'planning 2017'!#REF!+'planning 2017'!#REF!+'planning 2017'!#REF!+'planning 2017'!#REF!+'planning 2017'!#REF!+'planning 2017'!#REF!+'planning 2017'!#REF!+'planning 2017'!#REF!+'planning 2017'!#REF!+'planning 2017'!#REF!+'planning 2017'!#REF!+'planning 2017'!#REF!+'planning 2017'!#REF!+'planning 2017'!#REF!+'planning 2017'!#REF!+'planning 2017'!#REF!+'planning 2017'!#REF!+'planning 2017'!#REF!+'planning 2017'!#REF!+'planning 2017'!#REF!+'planning 2017'!#REF!+'planning 2017'!#REF!+'planning 2017'!#REF!+'planning 2017'!#REF!+'planning 2017'!#REF!+'planning 2017'!#REF!+'planning 2017'!#REF!+'planning 2017'!#REF!+'planning 2017'!#REF!+'planning 2017'!#REF!+'planning 2017'!#REF!+'planning 2017'!#REF!+'planning 2017'!#REF!+'planning 2017'!#REF!+'planning 2017'!#REF!+'planning 2017'!#REF!+'planning 2017'!#REF!+'planning 2017'!#REF!) -> #REF!
B8: arrêt travail | C8: =COUNTIF('planning 2017'!$E$10:$E$19,B8) -> 0 | F8: mai | G8: =SUM('planning 2017'!#REF!) -> #REF! | H8: =IF(SUM(G8-'bases de donnée'!F$11)>0,0,SUM(G8-'bases de donnée'!F$11)) -> #REF! | I8: =IF(G8<0.625,G8*'bases de donnée'!$E$13,(0.583333*'bases de donnée'!$E$13)+(G8-0.583333)*'bases de donnée'!$E$14)*24 -> #REF! | K8: =SUM('planning 2017'!#REF!) -> #REF! | L8: =G8-K8 -> #REF! | M8: =IF(K8<0.625,K8*'bases de donnée'!$E$13,(0.583333*'bases de donnée'!$E$13)+(K8-0.583333)*'bases de donnée'!$E$14)*24 -> #REF! | P8: heure sup mois | Q8: =SUM(H4:H16) -> #REF!
B9: férié | C9: =COUNTIF('planning 2017'!$E$10:$E$19,B9) -> 0 | F9: juin | G9: =SUM('planning 2017'!#REF!) -> #REF! | H9: =IF(SUM(G9-'bases de donnée'!F$11)>0,0,SUM(G9-'bases de donnée'!F$11)) -> #REF! | I9: =IF(G9<0.625,G9*'bases de donnée'!$E$13,(0.583333*'bases de donnée'!$E$13)+(G9-0.583333)*'bases de donnée'!$E$14)*24 -> #REF! | K9: =SUM('planning 2017'!#REF!) -> #REF! | L9: =G9-K9 -> #REF! | M9: =IF(K9<0.625,K9*'bases de donnée'!$E$13,(0.583333*'bases de donnée'!$E$13)+(K9-0.583333)*'bases de donnée'!$E$14)*24 -> #REF!
B10: férié travaillé | C10: =COUNTIF('planning 2017'!$E$10:$E$19,B10) -> 1 | F10: juillet | G10: =SUM('planning 2017'!#REF!) -> #REF! | H10: =IF(SUM(G10-'bases de donnée'!F$11)>0,0,SUM(G10-'bases de donnée'!F$11)) -> #REF! | I10: =IF(G10<0.625,G10*'bases de donnée'!$E$13,(0.583333*'bases de donnée'!$E$13)+(G10-0.583333)*'bases de donnée'!$E$14)*24 -> #REF! | K10: =SUM('planning 2017'!#REF!) -> #REF! | L10: =G10-K10 -> #REF! | M10: =IF(K10<0.625,K10*'bases de donnée'!$E$13,(0.583333*'bases de donnée'!$E$13)+(K10-0.583333)*'bases de donnée'!$E$14)*24 -> #REF!
B11: congé | C11: =C12+C13+C14 -> 0 | D11: =D12+D13+D14 -> 0 | F11: août | G11: =SUM('planning 2017'!#REF!) -> #REF! | H11: =IF(SUM(G11-'bases de donnée'!F$11)>0,0,SUM(G11-'bases de donnée'!F$11)) -> #REF! | I11: =IF(G11<0.625,G11*'bases de donnée'!$E$13,(0.583333*'bases de donnée'!$E$13)+(G11-0.583333)*'bases de donnée'!$E$14)*24 -> #REF! | K11: =SUM('planning 2017'!#REF!) -> #REF! | L11: =G11-K11 -> #REF! | M11: =IF(K11<0.625,K11*'bases de donnée'!$E$13,(0.583333*'bases de donnée'!$E$13)+(K11-0.583333)*'bases de donnée'!$E$14)*24 -> #REF!
B12: congé 1 jour | C12: =COUNTIF('planning 2017'!$E$10:$E$19,B12) -> 0 | D12: =C12*'bases de donnée'!E4 -> 0 | F12: septembre | G12: =SUM('planning 2017'!#REF!) -> #REF! | H12: =IF(SUM(G12-'bases de donnée'!F$11)>0,0,SUM(G12-'bases de donnée'!F$11)) -> #REF! | I12: =IF(G12<0.625,G12*'bases de donnée'!$E$13,(0.583333*'bases de donnée'!$E$13)+(G12-0.583333)*'bases de donnée'!$E$14)*24 -> #REF! | K12: =SUM('planning 2017'!#REF!) -> #REF! | L12: =G12-K12 -> #REF! | M12: =IF(K12<0.625,K12*'bases de donnée'!$E$13,(0.583333*'bases de donnée'!$E$13)+(K12-0.583333)*'bases de donnée'!$E$14)*24 -> #REF! | P12: congé | Q12: hc de
B13: congé 1/2 jour | C13: =COUNTIF('planning 2017'!$E$10:$E$19,B13) -> 0 | D13: =C13*'bases de donnée'!E24 -> 0 | F13: octobre | G13: =SUM('planning 2017'!#REF!) -> #REF! | H13: =IF(SUM(G13-'bases de donnée'!F$11)>0,0,SUM(G13-'bases de donnée'!F$11)) -> #REF! | I13: =IF(G13<0.625,G13*'bases de donnée'!$E$13,(0.583333*'bases de donnée'!$E$13)+(G13-0.583333)*'bases de donnée'!$E$14)*24 -> #REF! | K13: =SUM('planning 2017'!#REF!) -> #REF! | L13: =G13-K13 -> #REF! | M13: =IF(K13<0.625,K13*'bases de donnée'!$E$13,(0.583333*'bases de donnée'!$E$13)+(K13-0.583333)*'bases de donnée'!$E$14)*24 -> #REF! | Q13: =IF(SUM(D11-'bases de donnée'!E$12)<0,0,SUM(D11-'bases de donnée'!E$12)) -> 0
B14: congé 5h24 | C14: =COUNTIF('planning 2017'!$E$10:$E$19,B14) -> 0 | D14: =C14*'bases de donnée'!E25 -> 0 | F14: novembre | G14: =SUM('planning 2017'!#REF!) -> #REF! | H14: =IF(SUM(G14-'bases de donnée'!F$11)>0,0,SUM(G14-'bases de donnée'!F$11)) -> #REF! | I14: =IF(G14<0.625,G14*'bases de donnée'!$E$13,(0.583333*'bases de donnée'!$E$13)+(G14-0.583333)*'bases de donnée'!$E$14)*24 -> #REF! | K14: =SUM('planning 2017'!#REF!) -> #REF! | L14: =G14-K14 -> #REF! | M14: =IF(K14<0.625,K14*'bases de donnée'!$E$13,(0.583333*'bases de donnée'!$E$13)+(K14-0.583333)*'bases de donnée'!$E$14)*24 -> #REF!
B15: résultat en jours | C15: =C4+C11+C5+C6+C7+C8+C9+C10 -> 8 | F15: décembre | G15: =SUM('planning 2017'!#REF!) -> #REF! | H15: =IF(SUM(G15-'bases de donnée'!F$11)>0,0,SUM(G15-'bases de donnée'!F$11)) -> #REF! | I15: =IF(G15<0.625,G15*'bases de donnée'!$E$13,(0.583333*'bases de donnée'!$E$13)+(G15-0.583333)*'bases de donnée'!$E$14)*24 -> #REF! | K15: =SUM('planning 2017'!#REF!) -> #REF! | L15: =G15-K15 -> #REF! | M15: =IF(K15<0.625,K15*'bases de donnée'!$E$13,(0.583333*'bases de donnée'!$E$13)+(K15-0.583333)*'bases de donnée'!$E$14)*24 -> #REF!
F16: résultat | G16: =SUM(G4:G15) -> #REF! | I16: =SUM(I4:I15) -> #REF! | K16: =SUM(K4:K15) -> #REF! | M16: =SUM(M4:M14) -> #REF! | Q16: perte suite à la réglementation 2008
P17: H dimanche | Q17: =SUM('planning 2017'!#REF!) -> #REF!
P18: H férié travaillé | Q18: =SUM('planning 2017'!#REF!) -> #REF!
K20: récup | P20: H sup + 36 en heures | Q20: =SUM('planning 2017'!#REF!) -> #REF!
K21: HS + 36 | L21: =K16 -> #REF! | M21: =M16 -> #REF! | P21: h sup de récup | Q21: =SUM(I16-M16) -> #REF!
K22: H nuit | L22: =SUM('planning 2017'!#REF!) -> #REF! | M22: =SUM(L22*'bases de donnée'!E16)*24 -> #REF!
K23: H dimanche | L23: =SUM('planning 2017'!#REF!) -> #REF! | M23: =SUM(L23*'bases de donnée'!E17) -> #REF!
K24: H férié travaillé | L24: =SUM('planning 2017'!#REF!) -> #REF! | M24: =SUM(L24*'bases de donnée'!E18) -> #REF!
K25: HS 2016 | M25: ='bases de donnée'!E19 -> 15.130556
K26: récup pris en 2017 | M26: =SUM(C6*'bases de donnée'!E4) -> 0
L27: résutat 2017 | M27: =SUM(M21+M22+M23+M24+M25-M26) -> #REF!

Sheet bases de donnée
D2: heures annueltravail | E2: 66.125
D3: amplitude du temps | E3: 0.5
D4: heure jour | E4: 0.3
D5: jour semaine maximun | E5: 6 | O5: =IF(SUM(O4-'bases de donnée'!E$5)<0,0,SUM(O4-'bases de donnée'!E$5)) -> 0
D6: la durée de travail jour | E6: 0.41666667
D7: repos quotidien | E7: 0.45833333
D8: durée du travail hebdomadaire | E8: 1.5
D9: durée du travail hebdomadaire max | E9: 2
D10: repos hebdomadaire | E10: 1.4583333
D11: heures sup mensuel max par mois | E11: 1.0416667
D12: congés | E12: 10.125
D13: heures sup 1 à 14 | E13: 0.052083333
D14: heures sup 15 à 25 | E14: 0.0625
D15: début H nuit | E15: 21
D16: heures de nuit | E16: 0.10416667
D17: heures de dimanche | E17: 0.083333333
... D21: travail | E21: 0
D22: récupération | E22: =E4 -> 0.3
D23: congé 1 jour | E23: =E4 -> 0.3
D24: congé 1/2 jour | E24: 0.16388889
D25: congé 5h24 | E25: 0.225
D26: arrêt maladie | E26: =E4 -> 0.3
D27: arrêt travail | E27: =E4 -> 0.3
D28: férié | E28: =E4 -> 0.3
D29: férié travaillé | E29: 0
