Workbook
Name gérald: 'bases de donnée'!$D$20:$D$29
Name gérald1: 'bases de donnée'!$D$20:$E$29
Name gerald2: 'bases de donnée'!$D$20:$D$32

Sheet planning 
C4: jour | D4: date | G4: Début | H4: pause | I4: Fin | J4: H Jour | K4: hc de | L4: H amp | M4: hc de | N4: hc de repos | O4: hs semaine | Q4: j semaine
B5: jour | C5: =TEXT(D5,"jjjj") -> mercredi | D5: =DATE('bases de donnée'!E2,B8,B6) -> 42369 | E5: récupération | F5: =IF(AND(G5="",I5=""),"",D5+I5) | J5: =IF(OR(E5="férié travaillé",E5="travail"),(I5-G5+IF(G5>I5,1)-H5),INDEX('bases de donnée'!$E$20:'bases de donnée'!$E$32,MATCH(E5,gerald2,0))) -> 0.30833333 | K5: =IF(SUM(J5-'bases de donnée'!E$7)<0,0,SUM(J5-'bases de donnée'!E$7)) -> 0 | L5: =IF(OR(E5="férié travaillé",E5="travail"),I5-G5+IF(G5>I5,1),INDEX('bases de donnée'!$E$20:'bases de donnée'!$E$32,MATCH(E5,gerald2,0))) -> 0.30833333 | M5: =IF(SUM(L5-'bases de donnée'!E$4)<0,0,SUM(L5-'bases de donnée'!E$4)) -> 0 | N5: 0 | O5: =J5 -> 0.30833333 | P5: =SUM(Q5:Q11) -> 5 | Q5: =IF(AND(G5<>"",I5<>""),1,0+OR(N(I4)<N(G4),E5="récupération",E5="congé 1 jour",E5="congé 1/2 jour ",E5="congé 5h24",E5="arrêt maladie",E5="arrêt travail",E5="férié ",E5="congé parentale",E5="congé de naissance")) -> 1
B6: 1 | C6: =TEXT(D6,"jjjj") -> jeudi | D6: =D5+1 -> 42370 | E6: récupération | F6: =IF(AND(G6="",I6=""),"",D6+I6) | J6: =IF(OR(E6="férié travaillé",E6="travail"),(I6-G6+IF(G6>I6,1)-H6),INDEX('bases de donnée'!$E$20:'bases de donnée'!$E$32,MATCH(E6,gerald2,0))) -> 0.30833333 | K6: =IF(SUM(J6-'bases de donnée'!E$7)<0,0,SUM(J6-'bases de donnée'!E$7)) -> 0 | L6: =IF(OR(E6="férié travaillé",E6="travail"),I6-G6+IF(G6>I6,1),INDEX('bases de donnée'!$E$20:'bases de donnée'!$E$32,MATCH(E6,gerald2,0))) -> 0.30833333 | M6: =IF(SUM(L6-'bases de donnée'!E$4)<0,0,SUM(L6-'bases de donnée'!E$4)) -> 0 | N6: 0 | O6: =O5+J6 -> 0.61666667 | P6: =IF(SUM(P5-'bases de donnée'!E$6)<0,0,SUM(P5-'bases de donnée'!E$6)) -> 0 | Q6: =IF(AND(G6<>"",I6<>""),1,0+OR(N(I5)<N(G5),E6="récupération",E6="congé 1 jour",E6="congé 1/2 jour ",E6="congé 5h24",E6="arrêt maladie",E6="arrêt travail",E6="férié ",E6="congé parentale",E6="congé de naissance")) -> 1
B7: mois | C7: =TEXT(D7,"jjjj") -> vendredi | D7: =D6+1 -> 42371 | E7: récupération | F7: =IF(AND(G7="",I7=""),"",D7+I7) | J7: =IF(OR(E7="férié travaillé",E7="travail"),(I7-G7+IF(G7>I7,1)-H7),INDEX('bases de donnée'!$E$20:'bases de donnée'!$E$32,MATCH(E7,gerald2,0))) -> 0.30833333 | K7: =IF(SUM(J7-'bases de donnée'!E$7)<0,0,SUM(J7-'bases de donnée'!E$7)) -> 0 | L7: =IF(OR(E7="férié travaillé",E7="travail"),I7-G7+IF(G7>I7,1),INDEX('bases de donnée'!$E$20:'bases de donnée'!$E$32,MATCH(E7,gerald2,0))) -> 0.30833333 | M7: =IF(SUM(L7-'bases de donnée'!E$4)<0,0,SUM(L7-'bases de donnée'!E$4)) -> 0 | N7: 0 | O7: =O6+J7 -> 0.925 | P7: H semaine | Q7: =IF(AND(G7<>"",I7<>""),1,0+OR(N(I6)<N(G6),E7="récupération",E7="congé 1 jour",E7="congé 1/2 jour ",E7="congé 5h24",E7="arrêt maladie",E7="arrêt travail",E7="férié ",E7="congé parentale",E7="congé de naissance")) -> 1
B8: 1 | C8: =TEXT(D8,"jjjj") -> samedi | D8: =D7+1 -> 42372 | E8: récupération | F8: =IF(AND(G8="",I8=""),"",D8+I8) | J8: =IF(OR(E8="férié travaillé",E8="travail"),(I8-G8+IF(G8>I8,1)-H8),INDEX('bases de donnée'!$E$20:'bases de donnée'!$E$32,MATCH(E8,gerald2,0))) -> 0.30833333 | K8: =IF(SUM(J8-'bases de donnée'!E$7)<0,0,SUM(J8-'bases de donnée'!E$7)) -> 0 | L8: =IF(OR(E8="férié travaillé",E8="travail"),I8-G8+IF(G8>I8,1),INDEX('bases de donnée'!$E$20:'bases de donnée'!$E$32,MATCH(E8,gerald2,0))) -> 0.30833333 | M8: =IF(SUM(L8-'bases de donnée'!E$4)<0,0,SUM(L8-'bases de donnée'!E$4)) -> 0 | N8: 0 | O8: =O7+J8 -> 1.2333333 | P8: =O11 -> 1.5416667 | Q8: =IF(AND(G8<>"",I8<>""),1,0+OR(N(I7)<N(G7),E8="récupération",E8="congé 1 jour",E8="congé 1/2 jour ",E8="congé 5h24",E8="arrêt maladie",E8="arrêt travail",E8="férié ",E8="congé parentale",E8="congé de naissance")) -> 1
C9: =TEXT(D9,"jjjj") -> dimanche | D9: =D8+1 -> 42373 | E9: récupération | F9: =IF(AND(G9="",I9=""),"",D9+I9) | J9: =IF(OR(E9="férié travaillé",E9="travail"),(I9-G9+IF(G9>I9,1)-H9),INDEX('bases de donnée'!$E$20:'bases de donnée'!$E$32,MATCH(E9,gerald2,0))) -> 0.30833333 | K9: =IF(SUM(J9-'bases de donnée'!E$7)<0,0,SUM(J9-'bases de donnée'!E$7)) -> 0 | L9: =IF(OR(E9="férié travaillé",E9="travail"),I9-G9+IF(G9>I9,1),INDEX('bases de donnée'!$E$20:'bases de donnée'!$E$32,MATCH(E9,gerald2,0))) -> 0.30833333 | M9: =IF(SUM(L9-'bases de donnée'!E$4)<0,0,SUM(L9-'bases de donnée'!E$4)) -> 0 | N9: 0 | O9: =O8+J9 -> 1.5416667 | P9: H semaine hc de | Q9: =IF(AND(G9<>"",I9<>""),1,0+OR(N(I8)<N(G8),E9="récupération",E9="congé 1 jour",E9="congé 1/2 jour ",E9="congé 5h24",E9="arrêt maladie",E9="arrêt travail",E9="férié ",E9="congé parentale",E9="congé de naissance")) -> 1
C10: =TEXT(D10,"jjjj") -> lundi | D10: =D9+1 -> 42374 | E10: off | F10: =IF(AND(G10="",I10=""),"",D10+I10) | J10: =IF(OR(E10="férié travaillé",E10="travail"),(I10-G10+IF(G10>I10,1)-H10),INDEX('bases de donnée'!$E$20:'bases de donnée'!$E$32,MATCH(E10,gerald2,0))) -> 0 | K10: =IF(SUM(J10-'bases de donnée'!E$7)<0,0,SUM(J10-'bases de donnée'!E$7)) -> 0 | L10: =IF(OR(E10="férié travaillé",E10="travail"),I10-G10+IF(G10>I10,1),INDEX('bases de donnée'!$E$20:'bases de donnée'!$E$32,MATCH(E10,gerald2,0))) -> 0 | M10: =IF(SUM(L10-'bases de donnée'!E$4)<0,0,SUM(L10-'bases de donnée'!E$4)) -> 0 | N10: 0 | O10: =O9+J10 -> 1.5416667 | P10: ='bases de donnée'!E$10 -> 2 | Q10: =IF(AND(G10<>"",I10<>""),1,0+OR(N(I9)<N(G9),E10="récupération",E10="congé 1 jour",E10="congé 1/2 jour ",E10="congé 5h24",E10="arrêt maladie",E10="arrêt travail",E10="férié ",E10="congé parentale",E10="congé de naissance")) -> 0
C11: =TEXT(D11,"jjjj") -> mardi | D11: =D10+1 -> 42375 | E11: off | F11: =IF(AND(G11="",I11=""),"",D11+I11) | J11: =IF(OR(E11="férié travaillé",E11="travail"),(I11-G11+IF(G11>I11,1)-H11),INDEX('bases de donnée'!$E$20:'bases de donnée'!$E$32,MATCH(E11,gerald2,0))) -> 0 | K11: =IF(SUM(J11-'bases de donnée'!E$7)<0,0,SUM(J11-'bases de donnée'!E$7)) -> 0 | L11: =IF(OR(E11="férié travaillé",E11="travail"),I11-G11+IF(G11>I11,1),INDEX('bases de donnée'!$E$20:'bases de donnée'!$E$32,MATCH(E11,gerald2,0))) -> 0 | M11: =IF(SUM(L11-'bases de donnée'!E$4)<0,0,SUM(L11-'bases de donnée'!E$4)) -> 0 | N11: 0 | O11: =O10+J11 -> 1.5416667 | P11: =IF(SUM(O11-'bases de donnée'!E$10)<0,0,SUM(O11-'bases de donnée'!E$10)) -> 0 | Q11: =IF(AND(G11<>"",I11<>""),1,0+OR(N(I10)<N(G10),E11="récupération",E11="congé 1 jour",E11="congé 1/2 jour ",E11="congé 5h24",E11="arrêt maladie",E11="arrêt travail",E11="férié ",E11="congé parentale",E11="congé de naissance")) -> 0
I15: début | J15: 0.375
I16: fin | J16: 0.68333333

Sheet bases de donnée
D2: année | E2: 2020
D3: heures annueltravail | E3: 65.833333
D4: amplitude du temps | E4: 0.5
D5: heure jour | E5: 0.30833333 | O5: =IF(SUM(O4-'bases de donnée'!E$6)<0,0,SUM(O4-'bases de donnée'!E$6)) -> 0
D6: jour semaine maximun | E6: 6
D7: la durée de travail jour | E7: 0.41666667
D8: repos quotidien | E8: 0.45833333
D9: durée du travail hebdomadaire | E9: 1.5
D10: durée du travail hebdomadaire max | E10: 2
D11: repos hebdomadaire | E11: 1.4583333
D12: heures sup mensuel max par mois | E12: 1.0416667
D13: congés | E13: 10.125
D14: heures sup 1 à 14 | E14: 0.052083333
D15: heures sup 15 à 25 | E15: 0.0625
D16: début H nuit | E16: 21
D17: heures de nuit | E17: 0.10416667
... D21: travail | E21: 0
D22: récupération | E22: =E5 -> 0.30833333
D23: congé 1 jour | E23: =E5 -> 0.30833333
D24: congé 1/2 jour | E24: 0.16388889
D25: congé 5h24 | E25: 0.225
D26: arrêt maladie | E26: =E5 -> 0.30833333
D27: arrêt travail | E27: =E5 -> 0.30833333
D28: férié | E28: =E5 -> 0.30833333
D29: férié travaillé | E29: 0
D30: congé parentale | E30: =E5 -> 0.30833333
D31: congé parentale week end | E31: 0
D32: congé de naissance | E32: =E5 -> 0.30833333
