Workbook
Name gérald: 'bases de donnée'!$D$20:$D$29
Name gérald1: 'bases de donnée'!$D$20:$E$29
Name gerald2: 'bases de donnée'!$D$20:$D$32

Sheet planning 
T2: Heures suplémentaires réels | X2: résultat suite à la réglementation depuis 2008 | AD2: perte suite à la réglementation 2008
C3: jour | D3: date | G3: Début | H3: pause | I3: Fin | J3: H Jour | K3: hc de | L3: H amp | M3: hc de | N3: hc de repos | O3: hs semaine | Q3: j semaine | S3: H nuit | T3: H dimanche | U3: H férié travaillé | V3: H sup + 36h | X3: H nuit | Y3: H dimanche | Z3: H férié travaillé | AA3: H sup + 36 | AC3: H dimanche | AD3: H férié travaillé | AE3: H sup + 36
B5: semaine | C5: lundi | D5: 42003 | E5: travail | G5: 0.375 | I5: 0.91666667 | J5: =IF(OR(E5="férié travaillé",E5="travail"),(I5-G5+IF(G5>I5,1)-H5),INDEX('bases de donnée'!$E$20:'bases de donnée'!$E$32,MATCH(E5,gerald2,0))) -> 0.54166667 | K5: =IF(SUM(J5-'bases de donnée'!E$7)<0,0,SUM(J5-'bases de donnée'!E$7)) -> 0.125 | L5: =IF(OR(E5="férié travaillé",E5="travail"),I5-G5+IF(G5>I5,1),INDEX('bases de donnée'!$E$20:'bases de donnée'!$E$32,MATCH(E5,gerald2,0))) -> 0.54166667 | M5: =IF(SUM(L5-'bases de donnée'!E$4)<0,0,SUM(L5-'bases de donnée'!E$4)) -> 0.041666667 | N5: 0 | O5: =J5 -> 0.54166667 | P5: =SUM(Q5:Q11) -> 5 | Q5: =IF(AND(G5<>"",I5<>""),1,0+OR(N(I4)<N(G4),E5="récupération",E5="congé 1 jour",E5="congé 1/2 jour ",E5="congé 5h24",E5="arrêt maladie",E5="arrêt travail",E5="férié ",E5="congé parentale",E5="congé de naissance")) -> 1 | S5: =IF(SUM(MOD(I5-G5,1)-IF(I5>G5,MAX(0,MIN(I5,'bases de donnée'!E$16/24)-MAX('planning '!G5,7/24)),MAX(0,'bases de donnée'!E$16/24-MAX('planning '!G5,7/24))+MAX(0,MIN('planning '!I5,'bases de donnée'!E$16/24)-7/24)))<0,0,SUM(MOD('planning '!I5-'planning '!G5,1)-IF('planning '!I5>'planning '!G5,MAX(0,MIN('planning '!I5,'bases de donnée'!E$16/24)-MAX('planning '!G5,7/24)),MAX(0,'bases de donnée'!E$16/24-MAX('planning '!G5,7/24))+MAX(0,MIN('planning '!I5,'bases de donnée'!E$16/24)-7/24)))) -> 0.041666667 | U5: =IF(E5<>"travail",IF(E5="férié travaillé",MOD(I5-G5,1)-H5,"00:00"),"00:00") -> 00:00 | X5: =S5 -> 0.041666667 | Z5: =IF(SUM(U5-X5)<0,0,SUM(U5-X5)) -> 0 | AA5: =IF(SUM(V5-X5-Z5)<0,0,SUM(V5-X5-Z5)) -> 0 | AD5: =IF(SUM(U5-Z5)<0,0,SUM(U5-Z5)) -> 0 | AE5: =IF(SUM(V5-AA5)<0,0,SUM(V5-AA5)) -> 0
B6: 0 | C6: mardi | D6: =D5+1 -> 42004 | E6: férié | J6: =IF(OR(E6="férié travaillé",E6="travail"),(I6-G6+IF(G6>I6,1)-H6),INDEX('bases de donnée'!$E$20:'bases de donnée'!$E$32,MATCH(E6,gerald2,0))) -> 0.3 | K6: =IF(SUM(J6-'bases de donnée'!E$7)<0,0,SUM(J6-'bases de donnée'!E$7)) -> 0 | L6: =IF(OR(E6="férié travaillé",E6="travail"),I6-G6+IF(G6>I6,1),INDEX('bases de donnée'!$E$20:'bases de donnée'!$E$32,MATCH(E6,gerald2,0))) -> 0.3 | M6: =IF(SUM(L6-'bases de donnée'!E$4)<0,0,SUM(L6-'bases de donnée'!E$4)) -> 0 | N6: 0 | O6: =O5+J6 -> 0.84166667 | P6: =IF(SUM(P5-'bases de donnée'!E$6)<0,0,SUM(P5-'bases de donnée'!E$6)) -> 0 | Q6: =IF(AND(G6<>"",I6<>""),1,0+OR(N(I5)<N(G5),E6="récupération",E6="congé 1 jour",E6="congé 1/2 jour ",E6="congé 5h24",E6="arrêt maladie",E6="arrêt travail",E6="férié ",E6="congé parentale",E6="congé de naissance")) -> 1 | S6: =IF(SUM(MOD(I6-G6,1)-IF(I6>G6,MAX(0,MIN(I6,'bases de donnée'!E$16/24)-MAX('planning '!G6,7/24)),MAX(0,'bases de donnée'!E$16/24-MAX('planning '!G6,7/24))+MAX(0,MIN('planning '!I6,'bases de donnée'!E$16/24)-7/24)))<0,0,SUM(MOD('planning '!I6-'planning '!G6,1)-IF('planning '!I6>'planning '!G6,MAX(0,MIN('planning '!I6,'bases de donnée'!E$16/24)-MAX('planning '!G6,7/24)),MAX(0,'bases de donnée'!E$16/24-MAX('planning '!G6,7/24))+MAX(0,MIN('planning '!I6,'bases de donnée'!E$16/24)-7/24)))) -> 0 | U6: =IF(E6<>"travail",IF(E6="férié travaillé",MOD(I6-G6,1)-H6,"00:00"),"00:00") -> 00:00 | V6: =IF(SUM(IF(O6>('bases de donnée'!E$9*1),O6-('bases de donnée'!E$9*1),0)-V5)<0,0,SUM(IF(O6>('bases de donnée'!E$9*1),O6-('bases de donnée'!E$9*1),0)-V5)) -> 0 | X6: =S6 -> 0 | Z6: =IF(SUM(U6-X6)<0,0,SUM(U6-X6)) -> 0 | AA6: =IF(SUM(V6-X6-Z6)<0,0,SUM(V6-X6-Z6)) -> 0 | AD6: =IF(SUM(U6-Z6)<0,0,SUM(U6-Z6)) -> 0 | AE6: =IF(SUM(V6-AA6)<0,0,SUM(V6-AA6)) -> 0
C7: mercredi | D7: =D6+1 -> 42005 | E7: congé 1 jour | J7: =IF(OR(E7="férié travaillé",E7="travail"),(I7-G7+IF(G7>I7,1)-H7),INDEX('bases de donnée'!$E$20:'bases de donnée'!$E$32,MATCH(E7,gerald2,0))) -> 0.3 | K7: =IF(SUM(J7-'bases de donnée'!E$7)<0,0,SUM(J7-'bases de donnée'!E$7)) -> 0 | L7: =IF(OR(E7="férié travaillé",E7="travail"),I7-G7+IF(G7>I7,1),INDEX('bases de donnée'!$E$20:'bases de donnée'!$E$32,MATCH(E7,gerald2,0))) -> 0.3 | M7: =IF(SUM(L7-'bases de donnée'!E$4)<0,0,SUM(L7-'bases de donnée'!E$4)) -> 0 | N7: 0 | O7: =O6+J7 -> 1.1416667 | P7: H semaine | Q7: =IF(AND(G7<>"",I7<>""),1,0+OR(N(I6)<N(G6),E7="récupération",E7="congé 1 jour",E7="congé 1/2 jour ",E7="congé 5h24",E7="arrêt maladie",E7="arrêt travail",E7="férié ",E7="congé parentale",E7="congé de naissance")) -> 1 | S7: =IF(SUM(MOD(I7-G7,1)-IF(I7>G7,MAX(0,MIN(I7,'bases de donnée'!E$16/24)-MAX('planning '!G7,7/24)),MAX(0,'bases de donnée'!E$16/24-MAX('planning '!G7,7/24))+MAX(0,MIN('planning '!I7,'bases de donnée'!E$16/24)-7/24)))<0,0,SUM(MOD('planning '!I7-'planning '!G7,1)-IF('planning '!I7>'planning '!G7,MAX(0,MIN('planning '!I7,'bases de donnée'!E$16/24)-MAX('planning '!G7,7/24)),MAX(0,'bases de donnée'!E$16/24-MAX('planning '!G7,7/24))+MAX(0,MIN('planning '!I7,'bases de donnée'!E$16/24)-7/24)))) -> 0 | U7: =IF(E7<>"travail",IF(E7="férié travaillé",MOD(I7-G7,1)-H7,"00:00"),"00:00") -> 00:00 | V7: =IF(SUM(IF(O7>("36:00"*1),O7-("36:00"*1),0)-V5-V6)<0,0,SUM(IF(O7>("36:00"*1),O7-("36:00"*1),0)-V5-V6)) -> 0 | X7: =S7 -> 0 | Z7: =IF(SUM(U7-X7)<0,0,SUM(U7-X7)) -> 0 | AA7: =IF(SUM(V7-X7-Z7)<0,0,SUM(V7-X7-Z7)) -> 0 | AD7: =IF(SUM(U7-Z7)<0,0,SUM(U7-Z7)) -> 0 | AE7: =IF(SUM(V7-AA7)<0,0,SUM(V7-AA7)) -> 0
C8: jeudi | D8: =D7+1 -> 42006 | E8: congé 1 jour | J8: =IF(OR(E8="férié travaillé",E8="travail"),(I8-G8+IF(G8>I8,1)-H8),INDEX('bases de donnée'!$E$20:'bases de donnée'!$E$32,MATCH(E8,gerald2,0))) -> 0.3 | K8: =IF(SUM(J8-'bases de donnée'!E$7)<0,0,SUM(J8-'bases de donnée'!E$7)) -> 0 | L8: =IF(OR(E8="férié travaillé",E8="travail"),I8-G8+IF(G8>I8,1),INDEX('bases de donnée'!$E$20:'bases de donnée'!$E$32,MATCH(E8,gerald2,0))) -> 0.3 | M8: =IF(SUM(L8-'bases de donnée'!E$4)<0,0,SUM(L8-'bases de donnée'!E$4)) -> 0 | N8: 0 | O8: =O7+J8 -> 1.4416667 | P8: =O11 -> 1.7416667 | Q8: =IF(AND(G8<>"",I8<>""),1,0+OR(N(I7)<N(G7),E8="récupération",E8="congé 1 jour",E8="congé 1/2 jour ",E8="congé 5h24",E8="arrêt maladie",E8="arrêt travail",E8="férié ",E8="congé parentale",E8="congé de naissance")) -> 1 | S8: =IF(SUM(MOD(I8-G8,1)-IF(I8>G8,MAX(0,MIN(I8,'bases de donnée'!E$16/24)-MAX('planning '!G8,7/24)),MAX(0,'bases de donnée'!E$16/24-MAX('planning '!G8,7/24))+MAX(0,MIN('planning '!I8,'bases de donnée'!E$16/24)-7/24)))<0,0,SUM(MOD('planning '!I8-'planning '!G8,1)-IF('planning '!I8>'planning '!G8,MAX(0,MIN('planning '!I8,'bases de donnée'!E$16/24)-MAX('planning '!G8,7/24)),MAX(0,'bases de donnée'!E$16/24-MAX('planning '!G8,7/24))+MAX(0,MIN('planning '!I8,'bases de donnée'!E$16/24)-7/24)))) -> 0 | U8: =IF(E8<>"travail",IF(E8="férié travaillé",MOD(I8-G8,1)-H8,"00:00"),"00:00") -> 00:00 | V8: =IF(SUM(IF(O8>("36:00"*1),O8-("36:00"*1),0)-V6-V7)<0,0,SUM(IF(O8>("36:00"*1),O8-("36:00"*1),0)-V5-V6-V7)) -> 0 | X8: =S8 -> 0 | Z8: =IF(SUM(U8-X8)<0,0,SUM(U8-X8)) -> 0 | AA8: =IF(SUM(V8-X8-Z8)<0,0,SUM(V8-X8-Z8)) -> 0 | AD8: =IF(SUM(U8-Z8)<0,0,SUM(U8-Z8)) -> 0 | AE8: =IF(SUM(V8-AA8)<0,0,SUM(V8-AA8)) -> 0
C9: vendredi | D9: =D8+1 -> 42007 | E9: congé 1 jour | J9: =IF(OR(E9="férié travaillé",E9="travail"),(I9-G9+IF(G9>I9,1)-H9),INDEX('bases de donnée'!$E$20:'bases de donnée'!$E$32,MATCH(E9,gerald2,0))) -> 0.3 | K9: =IF(SUM(J9-'bases de donnée'!E$7)<0,0,SUM(J9-'bases de donnée'!E$7)) -> 0 | L9: =IF(OR(E9="férié travaillé",E9="travail"),I9-G9+IF(G9>I9,1),INDEX('bases de donnée'!$E$20:'bases de donnée'!$E$32,MATCH(E9,gerald2,0))) -> 0.3 | M9: =IF(SUM(L9-'bases de donnée'!E$4)<0,0,SUM(L9-'bases de donnée'!E$4)) -> 0 | N9: 0 | O9: =O8+J9 -> 1.7416667 | P9: H semaine hc de | Q9: =IF(AND(G9<>"",I9<>""),1,0+OR(N(I8)<N(G8),E9="récupération",E9="congé 1 jour",E9="congé 1/2 jour ",E9="congé 5h24",E9="arrêt maladie",E9="arrêt travail",E9="férié ",E9="congé parentale",E9="congé de naissance")) -> 1 | S9: =IF(SUM(MOD(I9-G9,1)-IF(I9>G9,MAX(0,MIN(I9,'bases de donnée'!E$16/24)-MAX('planning '!G9,7/24)),MAX(0,'bases de donnée'!E$16/24-MAX('planning '!G9,7/24))+MAX(0,MIN('planning '!I9,'bases de donnée'!E$16/24)-7/24)))<0,0,SUM(MOD('planning '!I9-'planning '!G9,1)-IF('planning '!I9>'planning '!G9,MAX(0,MIN('planning '!I9,'bases de donnée'!E$16/24)-MAX('planning '!G9,7/24)),MAX(0,'bases de donnée'!E$16/24-MAX('planning '!G9,7/24))+MAX(0,MIN('planning '!I9,'bases de donnée'!E$16/24)-7/24)))) -> 0 | U9: =IF(E9<>"travail",IF(E9="férié travaillé",MOD(I9-G9,1)-H9,"00:00"),"00:00") -> 00:00 | V9: =IF(SUM(IF(O9>("36:00"*1),O9-("36:00"*1),0)-V7-V8)<0,0,SUM(IF(O9>("36:00"*1),O9-("36:00"*1),0)-V5-V6-V7-V8)) -> 0.24166667 | X9: =S9 -> 0 | Z9: =IF(SUM(U9-X9)<0,0,SUM(U9-X9)) -> 0 | AA9: =IF(SUM(V9-X9-Z9)<0,0,SUM(V9-X9-Z9)) -> 0.24166667 | AD9: =IF(SUM(U9-Z9)<0,0,SUM(U9-Z9)) -> 0 | AE9: =IF(SUM(V9-AA9)<0,0,SUM(V9-AA9)) -> 0
C10: samedi | D10: =D9+1 -> 42008 | E10: off | J10: =IF(OR(E10="férié travaillé",E10="travail"),(I10-G10+IF(G10>I10,1)-H10),INDEX('bases de donnée'!$E$20:'bases de donnée'!$E$32,MATCH(E10,gerald2,0))) -> 0 | K10: =IF(SUM(J10-'bases de donnée'!E$7)<0,0,SUM(J10-'bases de donnée'!E$7)) -> 0 | L10: =IF(OR(E10="férié travaillé",E10="travail"),I10-G10+IF(G10>I10,1),INDEX('bases de donnée'!$E$20:'bases de donnée'!$E$32,MATCH(E10,gerald2,0))) -> 0 | M10: =IF(SUM(L10-'bases de donnée'!E$4)<0,0,SUM(L10-'bases de donnée'!E$4)) -> 0 | N10: 0 | O10: =O9+J10 -> 1.7416667 | P10: ='bases de donnée'!E$10 -> 2 | Q10: =IF(AND(G10<>"",I10<>""),1,0+OR(N(I9)<N(G9),E10="récupération",E10="congé 1 jour",E10="congé 1/2 jour ",E10="congé 5h24",E10="arrêt maladie",E10="arrêt travail",E10="férié ",E10="congé parentale",E10="congé de naissance")) -> 0 | S10: =IF(SUM(MOD(I10-G10,1)-IF(I10>G10,MAX(0,MIN(I10,'bases de donnée'!E$16/24)-MAX('planning '!G10,7/24)),MAX(0,'bases de donnée'!E$16/24-MAX('planning '!G10,7/24))+MAX(0,MIN('planning '!I10,'bases de donnée'!E$16/24)-7/24)))<0,0,SUM(MOD('planning '!I10-'planning '!G10,1)-IF('planning '!I10>'planning '!G10,MAX(0,MIN('planning '!I10,'bases de donnée'!E$16/24)-MAX('planning '!G10,7/24)),MAX(0,'bases de donnée'!E$16/24-MAX('planning '!G10,7/24))+MAX(0,MIN('planning '!I10,'bases de donnée'!E$16/24)-7/24)))) -> 0 | U10: =IF(E10<>"travail",IF(E10="férié travaillé",MOD(I10-G10,1)-H10,"00:00"),"00:00") -> 00:00 | V10: =IF(SUM(IF(O10>("36:00"*1),O10-("36:00"*1),0)-V8-V9)<0,0,SUM(IF(O10>("36:00"*1),O10-("36:00"*1),0)-V5-V6-V7-V8-V9)) -> 0 | X10: =S10 -> 0 | Z10: =IF(SUM(U10-X10)<0,0,SUM(U10-X10)) -> 0 | AA10: =IF(SUM(V10-X10-Z10)<0,0,SUM(V10-X10-Z10)) -> 0 | AD10: =IF(SUM(U10-Z10)<0,0,SUM(U10-Z10)) -> 0 | AE10: =IF(SUM(V10-AA10)<0,0,SUM(V10-AA10)) -> 0
C11: dimanche | D11: =D10+1 -> 42009 | E11: off | J11: =IF(OR(E11="férié travaillé",E11="travail"),(I11-G11+IF(G11>I11,1)-H11),INDEX('bases de donnée'!$E$20:'bases de donnée'!$E$32,MATCH(E11,gerald2,0))) -> 0 | K11: =IF(SUM(J11-'bases de donnée'!E$7)<0,0,SUM(J11-'bases de donnée'!E$7)) -> 0 | L11: =IF(OR(E11="férié travaillé",E11="travail"),I11-G11+IF(G11>I11,1),INDEX('bases de donnée'!$E$20:'bases de donnée'!$E$32,MATCH(E11,gerald2,0))) -> 0 | M11: =IF(SUM(L11-'bases de donnée'!E$4)<0,0,SUM(L11-'bases de donnée'!E$4)) -> 0 | N11: 0 | O11: =O10+J11 -> 1.7416667 | P11: =IF(SUM(O11-'bases de donnée'!E$10)<0,0,SUM(O11-'bases de donnée'!E$10)) -> 0 | Q11: =IF(AND(G11<>"",I11<>""),1,0+OR(N(I10)<N(G10),E11="récupération",E11="congé 1 jour",E11="congé 1/2 jour ",E11="congé 5h24",E11="arrêt maladie",E11="arrêt travail",E11="férié ",E11="congé parentale",E11="congé de naissance")) -> 0 | S11: =IF(SUM(MOD(I11-G11,1)-IF(I11>G11,MAX(0,MIN(I11,'bases de donnée'!E$16/24)-MAX('planning '!G11,7/24)),MAX(0,'bases de donnée'!E$16/24-MAX('planning '!G11,7/24))+MAX(0,MIN('planning '!I11,'bases de donnée'!E$16/24)-7/24)))<0,0,SUM(MOD('planning '!I11-'planning '!G11,1)-IF('planning '!I11>'planning '!G11,MAX(0,MIN('planning '!I11,'bases de donnée'!E$16/24)-MAX('planning '!G11,7/24)),MAX(0,'bases de donnée'!E$16/24-MAX('planning '!G11,7/24))+MAX(0,MIN('planning '!I11,'bases de donnée'!E$16/24)-7/24)))) -> 0 | T11: =J11 -> 0 | U11: =IF(E11<>"travail",IF(E11="férié travaillé",MOD(I11-G11,1)-H11,"00:00"),"00:00") -> 00:00 | V11: =IF(SUM(IF(O11>("36:00"*1),O11-("36:00"*1),0)-V9-V10)<0,0,SUM(IF(O11>("36:00"*1),O11-("36:00"*1),0)-V5-V6-V7-V8-V9-V10)) -> 0 | X11: =S11 -> 0 | Y11: =IF(SUM(T11-S11)<0,0,SUM(T11-S11)) -> 0 | Z11: =IF(SUM(U11-T11-S11)<0,0,SUM(U11-T11-S11)) -> 0 | AA11: =IF(SUM(V11-S11-T11-U11)<0,0,SUM(V11-S11-T11-U11)) -> 0 | AC11: =IF(SUM(T11-Y11)<0,0,SUM(T11-Y11)) -> 0 | AD11: =IF(SUM(U11-Z11)<0,0,SUM(U11-Z11)) -> 0 | AE11: =IF(SUM(V11-AA11)<0,0,SUM(V11-AA11)) -> 0
B13: semaine | C13: lundi | D13: =D11+1 -> 42010 | E13: récupération | J13: =IF(OR(E13="férié travaillé",E13="travail"),(I13-G13+IF(G13>I13,1)-H13),INDEX('bases de donnée'!$E$20:'bases de donnée'!$E$32,MATCH(E13,gerald2,0))) -> 0.3 | K13: =IF(SUM(J13-'bases de donnée'!E$7)<0,0,SUM(J13-'bases de donnée'!E$7)) -> 0 | L13: =IF(OR(E13="férié travaillé",E13="travail"),I13-G13+IF(G13>I13,1),INDEX('bases de donnée'!$E$20:'bases de donnée'!$E$32,MATCH(E13,gerald2,0))) -> 0.3 | M13: =IF(SUM(L13-'bases de donnée'!E$4)<0,0,SUM(L13-'bases de donnée'!E$4)) -> 0 | N13: 0 | O13: =J13 -> 0.3 | P13: =SUM(Q13:Q19) -> 5 | Q13: =IF(AND(G13<>"",I13<>""),1,0+OR(N(I12)<N(G12),E13="récupération",E13="congé 1 jour",E13="congé 1/2 jour ",E13="congé 5h24",E13="arrêt maladie",E13="arrêt travail",E13="férié ",E13="congé parentale",E13="congé de naissance")) -> 1 | S13: =IF(SUM(MOD(I13-G13,1)-IF(I13>G13,MAX(0,MIN(I13,'bases de donnée'!E$16/24)-MAX('planning '!G13,7/24)),MAX(0,'bases de donnée'!E$16/24-MAX('planning '!G13,7/24))+MAX(0,MIN('planning '!I13,'bases de donnée'!E$16/24)-7/24)))<0,0,SUM(MOD('planning '!I13-'planning '!G13,1)-IF('planning '!I13>'planning '!G13,MAX(0,MIN('planning '!I13,'bases de donnée'!E$16/24)-MAX('planning '!G13,7/24)),MAX(0,'bases de donnée'!E$16/24-MAX('planning '!G13,7/24))+MAX(0,MIN('planning '!I13,'bases de donnée'!E$16/24)-7/24)))) -> 0 | U13: =IF(E13<>"travail",IF(E13="férié travaillé",MOD(I13-G13,1)-H13,"00:00"),"00:00") -> 00:00 | X13: =S13 -> 0 | Z13: =IF(SUM(U13-X13)<0,0,SUM(U13-X13)) -> 0 | AA13: =IF(SUM(V13-X13-Z13)<0,0,SUM(V13-X13-Z13)) -> 0 | AD13: =IF(SUM(U13-Z13)<0,0,SUM(U13-Z13)) -> 0 | AE13: =IF(SUM(V13-AA13)<0,0,SUM(V13-AA13)) -> 0
B14: =B$6+1 -> 1 | C14: mardi | D14: =D13+1 -> 42011 | E14: récupération | J14: =IF(OR(E14="férié travaillé",E14="travail"),(I14-G14+IF(G14>I14,1)-H14),INDEX('bases de donnée'!$E$20:'bases de donnée'!$E$32,MATCH(E14,gerald2,0))) -> 0.3 | K14: =IF(SUM(J14-'bases de donnée'!E$7)<0,0,SUM(J14-'bases de donnée'!E$7)) -> 0 | L14: =IF(OR(E14="férié travaillé",E14="travail"),I14-G14+IF(G14>I14,1),INDEX('bases de donnée'!$E$20:'bases de donnée'!$E$32,MATCH(E14,gerald2,0))) -> 0.3 | M14: =IF(SUM(L14-'bases de donnée'!E$4)<0,0,SUM(L14-'bases de donnée'!E$4)) -> 0 | N14: 0 | O14: =O13+J14 -> 0.6 | P14: =IF(SUM(P13-'bases de donnée'!E$6)<0,0,SUM(P13-'bases de donnée'!E$6)) -> 0 | Q14: =IF(AND(G14<>"",I14<>""),1,0+OR(N(I13)<N(G13),E14="récupération",E14="congé 1 jour",E14="congé 1/2 jour ",E14="congé 5h24",E14="arrêt maladie",E14="arrêt travail",E14="férié ",E14="congé parentale",E14="congé de naissance")) -> 1 | S14: =IF(SUM(MOD(I14-G14,1)-IF(I14>G14,MAX(0,MIN(I14,'bases de donnée'!E$16/24)-MAX('planning '!G14,7/24)),MAX(0,'bases de donnée'!E$16/24-MAX('planning '!G14,7/24))+MAX(0,MIN('planning '!I14,'bases de donnée'!E$16/24)-7/24)))<0,0,SUM(MOD('planning '!I14-'planning '!G14,1)-IF('planning '!I14>'planning '!G14,MAX(0,MIN('planning '!I14,'bases de donnée'!E$16/24)-MAX('planning '!G14,7/24)),MAX(0,'bases de donnée'!E$16/24-MAX('planning '!G14,7/24))+MAX(0,MIN('planning '!I14,'bases de donnée'!E$16/24)-7/24)))) -> 0 | U14: =IF(E14<>"travail",IF(E14="férié travaillé",MOD(I14-G14,1)-H14,"00:00"),"00:00") -> 00:00 | V14: =IF(SUM(IF(O14>('bases de donnée'!E$9*1),O14-('bases de donnée'!E$9*1),0)-V13)<0,0,SUM(IF(O14>('bases de donnée'!E$9*1),O14-('bases de donnée'!E$9*1),0)-V13)) -> 0 | X14: =S14 -> 0 | Z14: =IF(SUM(U14-X14)<0,0,SUM(U14-X14)) -> 0 | AA14: =IF(SUM(V14-X14-Z14)<0,0,SUM(V14-X14-Z14)) -> 0 | AD14: =IF(SUM(U14-Z14)<0,0,SUM(U14-Z14)) -> 0 | AE14: =IF(SUM(V14-AA14)<0,0,SUM(V14-AA14)) -> 0
C15: mercredi | D15: =D14+1 -> 42012 | E15: récupération | J15: =IF(OR(E15="férié travaillé",E15="travail"),(I15-G15+IF(G15>I15,1)-H15),INDEX('bases de donnée'!$E$20:'bases de donnée'!$E$32,MATCH(E15,gerald2,0))) -> 0.3 | K15: =IF(SUM(J15-'bases de donnée'!E$7)<0,0,SUM(J15-'bases de donnée'!E$7)) -> 0 | L15: =IF(OR(E15="férié travaillé",E15="travail"),I15-G15+IF(G15>I15,1),INDEX('bases de donnée'!$E$20:'bases de donnée'!$E$32,MATCH(E15,gerald2,0))) -> 0.3 | M15: =IF(SUM(L15-'bases de donnée'!E$4)<0,0,SUM(L15-'bases de donnée'!E$4)) -> 0 | N15: 0 | O15: =O14+J15 -> 0.9 | P15: H semaine | Q15: =IF(AND(G15<>"",I15<>""),1,0+OR(N(I14)<N(G14),E15="récupération",E15="congé 1 jour",E15="congé 1/2 jour ",E15="congé 5h24",E15="arrêt maladie",E15="arrêt travail",E15="férié ",E15="congé parentale",E15="congé de naissance")) -> 1 | S15: =IF(SUM(MOD(I15-G15,1)-IF(I15>G15,MAX(0,MIN(I15,'bases de donnée'!E$16/24)-MAX('planning '!G15,7/24)),MAX(0,'bases de donnée'!E$16/24-MAX('planning '!G15,7/24))+MAX(0,MIN('planning '!I15,'bases de donnée'!E$16/24)-7/24)))<0,0,SUM(MOD('planning '!I15-'planning '!G15,1)-IF('planning '!I15>'planning '!G15,MAX(0,MIN('planning '!I15,'bases de donnée'!E$16/24)-MAX('planning '!G15,7/24)),MAX(0,'bases de donnée'!E$16/24-MAX('planning '!G15,7/24))+MAX(0,MIN('planning '!I15,'bases de donnée'!E$16/24)-7/24)))) -> 0 | U15: =IF(E15<>"travail",IF(E15="férié travaillé",MOD(I15-G15,1)-H15,"00:00"),"00:00") -> 00:00 | V15: =IF(SUM(IF(O15>("36:00"*1),O15-("36:00"*1),0)-V13-V14)<0,0,SUM(IF(O15>("36:00"*1),O15-("36:00"*1),0)-V13-V14)) -> 0 | X15: =S15 -> 0 | Z15: =IF(SUM(U15-X15)<0,0,SUM(U15-X15)) -> 0 | AA15: =IF(SUM(V15-X15-Z15)<0,0,SUM(V15-X15-Z15)) -> 0 | AD15: =IF(SUM(U15-Z15)<0,0,SUM(U15-Z15)) -> 0 | AE15: =IF(SUM(V15-AA15)<0,0,SUM(V15-AA15)) -> 0
C16: jeudi | D16: =D15+1 -> 42013 | E16: récupération | J16: =IF(OR(E16="férié travaillé",E16="travail"),(I16-G16+IF(G16>I16,1)-H16),INDEX('bases de donnée'!$E$20:'bases de donnée'!$E$32,MATCH(E16,gerald2,0))) -> 0.3 | K16: =IF(SUM(J16-'bases de donnée'!E$7)<0,0,SUM(J16-'bases de donnée'!E$7)) -> 0 | L16: =IF(OR(E16="férié travaillé",E16="travail"),I16-G16+IF(G16>I16,1),INDEX('bases de donnée'!$E$20:'bases de donnée'!$E$32,MATCH(E16,gerald2,0))) -> 0.3 | M16: =IF(SUM(L16-'bases de donnée'!E$4)<0,0,SUM(L16-'bases de donnée'!E$4)) -> 0 | N16: 0 | O16: =O15+J16 -> 1.2 | P16: =O19 -> 1.5 | Q16: =IF(AND(G16<>"",I16<>""),1,0+OR(N(I15)<N(G15),E16="récupération",E16="congé 1 jour",E16="congé 1/2 jour ",E16="congé 5h24",E16="arrêt maladie",E16="arrêt travail",E16="férié ",E16="congé parentale",E16="congé de naissance")) -> 1 | S16: =IF(SUM(MOD(I16-G16,1)-IF(I16>G16,MAX(0,MIN(I16,'bases de donnée'!E$16/24)-MAX('planning '!G16,7/24)),MAX(0,'bases de donnée'!E$16/24-MAX('planning '!G16,7/24))+MAX(0,MIN('planning '!I16,'bases de donnée'!E$16/24)-7/24)))<0,0,SUM(MOD('planning '!I16-'planning '!G16,1)-IF('planning '!I16>'planning '!G16,MAX(0,MIN('planning '!I16,'bases de donnée'!E$16/24)-MAX('planning '!G16,7/24)),MAX(0,'bases de donnée'!E$16/24-MAX('planning '!G16,7/24))+MAX(0,MIN('planning '!I16,'bases de donnée'!E$16/24)-7/24)))) -> 0 | U16: =IF(E16<>"travail",IF(E16="férié travaillé",MOD(I16-G16,1)-H16,"00:00"),"00:00") -> 00:00 | V16: =IF(SUM(IF(O16>("36:00"*1),O16-("36:00"*1),0)-V14-V15)<0,0,SUM(IF(O16>("36:00"*1),O16-("36:00"*1),0)-V13-V14-V15)) -> 0 | X16: =S16 -> 0 | Z16: =IF(SUM(U16-X16)<0,0,SUM(U16-X16)) -> 0 | AA16: =IF(SUM(V16-X16-Z16)<0,0,SUM(V16-X16-Z16)) -> 0 | AD16: =IF(SUM(U16-Z16)<0,0,SUM(U16-Z16)) -> 0 | AE16: =IF(SUM(V16-AA16)<0,0,SUM(V16-AA16)) -> 0
C17: vendredi | D17: =D16+1 -> 42014 | E17: récupération | J17: =IF(OR(E17="férié travaillé",E17="travail"),(I17-G17+IF(G17>I17,1)-H17),INDEX('bases de donnée'!$E$20:'bases de donnée'!$E$32,MATCH(E17,gerald2,0))) -> 0.3 | K17: =IF(SUM(J17-'bases de donnée'!E$7)<0,0,SUM(J17-'bases de donnée'!E$7)) -> 0 | L17: =IF(OR(E17="férié travaillé",E17="travail"),I17-G17+IF(G17>I17,1),INDEX('bases de donnée'!$E$20:'bases de donnée'!$E$32,MATCH(E17,gerald2,0))) -> 0.3 | M17: =IF(SUM(L17-'bases de donnée'!E$4)<0,0,SUM(L17-'bases de donnée'!E$4)) -> 0 | N17: 0 | O17: =O16+J17 -> 1.5 | P17: HS hc de | Q17: =IF(AND(G17<>"",I17<>""),1,0+OR(N(I16)<N(G16),E17="récupération",E17="congé 1 jour",E17="congé 1/2 jour ",E17="congé 5h24",E17="arrêt maladie",E17="arrêt travail",E17="férié ",E17="congé parentale",E17="congé de naissance")) -> 1 | S17: =IF(SUM(MOD(I17-G17,1)-IF(I17>G17,MAX(0,MIN(I17,'bases de donnée'!E$16/24)-MAX('planning '!G17,7/24)),MAX(0,'bases de donnée'!E$16/24-MAX('planning '!G17,7/24))+MAX(0,MIN('planning '!I17,'bases de donnée'!E$16/24)-7/24)))<0,0,SUM(MOD('planning '!I17-'planning '!G17,1)-IF('planning '!I17>'planning '!G17,MAX(0,MIN('planning '!I17,'bases de donnée'!E$16/24)-MAX('planning '!G17,7/24)),MAX(0,'bases de donnée'!E$16/24-MAX('planning '!G17,7/24))+MAX(0,MIN('planning '!I17,'bases de donnée'!E$16/24)-7/24)))) -> 0 | U17: =IF(E17<>"travail",IF(E17="férié travaillé",MOD(I17-G17,1)-H17,"00:00"),"00:00") -> 00:00 | V17: =IF(SUM(IF(O17>("36:00"*1),O17-("36:00"*1),0)-V15-V16)<0,0,SUM(IF(O17>("36:00"*1),O17-("36:00"*1),0)-V13-V14-V15-V16)) -> 0 | X17: =S17 -> 0 | Z17: =IF(SUM(U17-X17)<0,0,SUM(U17-X17)) -> 0 | AA17: =IF(SUM(V17-X17-Z17)<0,0,SUM(V17-X17-Z17)) -> 0 | AD17: =IF(SUM(U17-Z17)<0,0,SUM(U17-Z17)) -> 0 | AE17: =IF(SUM(V17-AA17)<0,0,SUM(V17-AA17)) -> 0
C18: samedi | D18: =D17+1 -> 42015 | E18: off | J18: =IF(OR(E18="férié travaillé",E18="travail"),(I18-G18+IF(G18>I18,1)-H18),INDEX('bases de donnée'!$E$20:'bases de donnée'!$E$32,MATCH(E18,gerald2,0))) -> 0 | K18: =IF(SUM(J18-'bases de donnée'!E$7)<0,0,SUM(J18-'bases de donnée'!E$7)) -> 0 | L18: =IF(OR(E18="férié travaillé",E18="travail"),I18-G18+IF(G18>I18,1),INDEX('bases de donnée'!$E$20:'bases de donnée'!$E$32,MATCH(E18,gerald2,0))) -> 0 | M18: =IF(SUM(L18-'bases de donnée'!E$4)<0,0,SUM(L18-'bases de donnée'!E$4)) -> 0 | N18: 0 | O18: =O17+J18 -> 1.5 | P18: ='bases de donnée'!E$10 -> 2 | Q18: =IF(AND(G18<>"",I18<>""),1,0+OR(N(I17)<N(G17),E18="récupération",E18="congé 1 jour",E18="congé 1/2 jour ",E18="congé 5h24",E18="arrêt maladie",E18="arrêt travail",E18="férié ",E18="congé parentale",E18="congé de naissance")) -> 0 | S18: =IF(SUM(MOD(I18-G18,1)-IF(I18>G18,MAX(0,MIN(I18,'bases de donnée'!E$16/24)-MAX('planning '!G18,7/24)),MAX(0,'bases de donnée'!E$16/24-MAX('planning '!G18,7/24))+MAX(0,MIN('planning '!I18,'bases de donnée'!E$16/24)-7/24)))<0,0,SUM(MOD('planning '!I18-'planning '!G18,1)-IF('planning '!I18>'planning '!G18,MAX(0,MIN('planning '!I18,'bases de donnée'!E$16/24)-MAX('planning '!G18,7/24)),MAX(0,'bases de donnée'!E$16/24-MAX('planning '!G18,7/24))+MAX(0,MIN('planning '!I18,'bases de donnée'!E$16/24)-7/24)))) -> 0 | U18: =IF(E18<>"travail",IF(E18="férié travaillé",MOD(I18-G18,1)-H18,"00:00"),"00:00") -> 00:00 | V18: =IF(SUM(IF(O18>("36:00"*1),O18-("36:00"*1),0)-V16-V17)<0,0,SUM(IF(O18>("36:00"*1),O18-("36:00"*1),0)-V13-V14-V15-V16-V17)) -> 0 | X18: =S18 -> 0 | Z18: =IF(SUM(U18-X18)<0,0,SUM(U18-X18)) -> 0 | AA18: =IF(SUM(V18-X18-Z18)<0,0,SUM(V18-X18-Z18)) -> 0 | AD18: =IF(SUM(U18-Z18)<0,0,SUM(U18-Z18)) -> 0 | AE18: =IF(SUM(V18-AA18)<0,0,SUM(V18-AA18)) -> 0
C19: dimanche | D19: =D18+1 -> 42016 | E19: off | J19: =IF(OR(E19="férié travaillé",E19="travail"),(I19-G19+IF(G19>I19,1)-H19),INDEX('bases de donnée'!$E$20:'bases de donnée'!$E$32,MATCH(E19,gerald2,0))) -> 0 | K19: =IF(SUM(J19-'bases de donnée'!E$7)<0,0,SUM(J19-'bases de donnée'!E$7)) -> 0 | L19: =IF(OR(E19="férié travaillé",E19="travail"),I19-G19+IF(G19>I19,1),INDEX('bases de donnée'!$E$20:'bases de donnée'!$E$32,MATCH(E19,gerald2,0))) -> 0 | M19: =IF(SUM(L19-'bases de donnée'!E$4)<0,0,SUM(L19-'bases de donnée'!E$4)) -> 0 | N19: 0 | O19: =O18+J19 -> 1.5 | P19: =IF(SUM(O19-'bases de donnée'!E$10)<0,0,SUM(O19-'bases de donnée'!E$10)) -> 0 | Q19: =IF(AND(G19<>"",I19<>""),1,0+OR(N(I18)<N(G18),E19="récupération",E19="congé 1 jour",E19="congé 1/2 jour ",E19="congé 5h24",E19="arrêt maladie",E19="arrêt travail",E19="férié ",E19="congé parentale",E19="congé de naissance")) -> 0 | S19: =IF(SUM(MOD(I19-G19,1)-IF(I19>G19,MAX(0,MIN(I19,'bases de donnée'!E$16/24)-MAX('planning '!G19,7/24)),MAX(0,'bases de donnée'!E$16/24-MAX('planning '!G19,7/24))+MAX(0,MIN('planning '!I19,'bases de donnée'!E$16/24)-7/24)))<0,0,SUM(MOD('planning '!I19-'planning '!G19,1)-IF('planning '!I19>'planning '!G19,MAX(0,MIN('planning '!I19,'bases de donnée'!E$16/24)-MAX('planning '!G19,7/24)),MAX(0,'bases de donnée'!E$16/24-MAX('planning '!G19,7/24))+MAX(0,MIN('planning '!I19,'bases de donnée'!E$16/24)-7/24)))) -> 0 | T19: =J19 -> 0 | U19: =IF(E19<>"travail",IF(E19="férié travaillé",MOD(I19-G19,1)-H19,"00:00"),"00:00") -> 00:00 | V19: =IF(SUM(IF(O19>("36:00"*1),O19-("36:00"*1),0)-V17-V18)<0,0,SUM(IF(O19>("36:00"*1),O19-("36:00"*1),0)-V13-V14-V15-V16-V17-V18)) -> 0 | X19: =S19 -> 0 | Y19: =IF(SUM(T19-S19)<0,0,SUM(T19-S19)) -> 0 | Z19: =IF(SUM(U19-T19-S19)<0,0,SUM(U19-T19-S19)) -> 0 | AA19: =IF(SUM(V19-S19-T19-U19)<0,0,SUM(V19-S19-T19-U19)) -> 0 | AC19: =IF(SUM(T19-Y19)<0,0,SUM(T19-Y19)) -> 0 | AD19: =IF(SUM(U19-Z19)<0,0,SUM(U19-Z19)) -> 0 | AE19: =IF(SUM(V19-AA19)<0,0,SUM(V19-AA19)) -> 0
B21: semaine | C21: lundi | D21: =D19+1 -> 42017 | E21: travail | G21: 0.375 | H21: 0.03125 | I21: 0.70833333 | J21: =IF(OR(E21="férié travaillé",E21="travail"),(I21-G21+IF(G21>I21,1)-H21),INDEX('bases de donnée'!$E$20:'bases de donnée'!$E$32,MATCH(E21,gerald2,0))) -> 0.30208333 | K21: =IF(SUM(J21-'bases de donnée'!E$7)<0,0,SUM(J21-'bases de donnée'!E$7)) -> 0 | L21: =IF(OR(E21="férié travaillé",E21="travail"),I21-G21+IF(G21>I21,1),INDEX('bases de donnée'!$E$20:'bases de donnée'!$E$32,MATCH(E21,gerald2,0))) -> 0.33333333 | M21: =IF(SUM(L21-'bases de donnée'!E$4)<0,0,SUM(L21-'bases de donnée'!E$4)) -> 0 | N21: 0 | O21: =J21 -> 0.30208333 | P21: =SUM(Q21:Q27) -> 5 | Q21: =IF(AND(G21<>"",I21<>""),1,0+OR(N(I20)<N(G20),E21="récupération",E21="congé 1 jour",E21="congé 1/2 jour ",E21="congé 5h24",E21="arrêt maladie",E21="arrêt travail",E21="férié ",E21="congé parentale",E21="congé de naissance")) -> 1 | S21: =IF(SUM(MOD(I21-G21,1)-IF(I21>G21,MAX(0,MIN(I21,'bases de donnée'!E$16/24)-MAX('planning '!G21,7/24)),MAX(0,'bases de donnée'!E$16/24-MAX('planning '!G21,7/24))+MAX(0,MIN('planning '!I21,'bases de donnée'!E$16/24)-7/24)))<0,0,SUM(MOD('planning '!I21-'planning '!G21,1)-IF('planning '!I21>'planning '!G21,MAX(0,MIN('planning '!I21,'bases de donnée'!E$16/24)-MAX('planning '!G21,7/24)),MAX(0,'bases de donnée'!E$16/24-MAX('planning '!G21,7/24))+MAX(0,MIN('planning '!I21,'bases de donnée'!E$16/24)-7/24)))) -> 0 | U21: =IF(E21<>"travail",IF(E21="férié travaillé",MOD(I21-G21,1)-H21,"00:00"),"00:00") -> 00:00 | X21: =S21 -> 0 | Z21: =IF(SUM(U21-X21)<0,0,SUM(U21-X21)) -> 0 | AA21: =IF(SUM(V21-X21-Z21)<0,0,SUM(V21-X21-Z21)) -> 0 | AD21: =IF(SUM(U21-Z21)<0,0,SUM(U21-Z21)) -> 0 | AE21: =IF(SUM(V21-AA21)<0,0,SUM(V21-AA21)) -> 0
B22: =B14+1 -> 2 | C22: mardi | D22: =D21+1 -> 42018 | E22: travail | G22: 0.36458333 | I22: 0.52083333 | J22: =IF(OR(E22="férié travaillé",E22="travail"),(I22-G22+IF(G22>I22,1)-H22),INDEX('bases de donnée'!$E$20:'bases de donnée'!$E$32,MATCH(E22,gerald2,0))) -> 0.15625 | K22: =IF(SUM(J22-'bases de donnée'!E$7)<0,0,SUM(J22-'bases de donnée'!E$7)) -> 0 | L22: =IF(OR(E22="férié travaillé",E22="travail"),I22-G22+IF(G22>I22,1),INDEX('bases de donnée'!$E$20:'bases de donnée'!$E$32,MATCH(E22,gerald2,0))) -> 0.15625 | M22: =IF(SUM(L22-'bases de donnée'!E$4)<0,0,SUM(L22-'bases de donnée'!E$4)) -> 0 | N22: 0 | O22: =O21+J22 -> 0.45833333 | P22: =IF(SUM(P21-'bases de donnée'!E$6)<0,0,SUM(P21-'bases de donnée'!E$6)) -> 0 | Q22: =IF(AND(G22<>"",I22<>""),1,0+OR(N(I21)<N(G21),E22="récupération",E22="congé 1 jour",E22="congé 1/2 jour ",E22="congé 5h24",E22="arrêt maladie",E22="arrêt travail",E22="férié ",E22="congé parentale",E22="congé de naissance")) -> 1 | S22: =IF(SUM(MOD(I22-G22,1)-IF(I22>G22,MAX(0,MIN(I22,'bases de donnée'!E$16/24)-MAX('planning '!G22,7/24)),MAX(0,'bases de donnée'!E$16/24-MAX('planning '!G22,7/24))+MAX(0,MIN('planning '!I22,'bases de donnée'!E$16/24)-7/24)))<0,0,SUM(MOD('planning '!I22-'planning '!G22,1)-IF('planning '!I22>'planning '!G22,MAX(0,MIN('planning '!I22,'bases de donnée'!E$16/24)-MAX('planning '!G22,7/24)),MAX(0,'bases de donnée'!E$16/24-MAX('planning '!G22,7/24))+MAX(0,MIN('planning '!I22,'bases de donnée'!E$16/24)-7/24)))) -> 0 | U22: =IF(E22<>"travail",IF(E22="férié travaillé",MOD(I22-G22,1)-H22,"00:00"),"00:00") -> 00:00 | V22: =IF(SUM(IF(O22>('bases de donnée'!E$9*1),O22-('bases de donnée'!E$9*1),0)-V21)<0,0,SUM(IF(O22>('bases de donnée'!E$9*1),O22-('bases de donnée'!E$9*1),0)-V21)) -> 0 | X22: =S22 -> 0 | Z22: =IF(SUM(U22-X22)<0,0,SUM(U22-X22)) -> 0 | AA22: =IF(SUM(V22-X22-Z22)<0,0,SUM(V22-X22-Z22)) -> 0 | AD22: =IF(SUM(U22-Z22)<0,0,SUM(U22-Z22)) -> 0 | AE22: =IF(SUM(V22-AA22)<0,0,SUM(V22-AA22)) -> 0
C23: mercredi | D23: =D22+1 -> 42019 | E23: off | J23: =IF(OR(E23="férié travaillé",E23="travail"),(I23-G23+IF(G23>I23,1)-H23),INDEX('bases de donnée'!$E$20:'bases de donnée'!$E$32,MATCH(E23,gerald2,0))) -> 0 | K23: =IF(SUM(J23-'bases de donnée'!E$7)<0,0,SUM(J23-'bases de donnée'!E$7)) -> 0 | L23: =IF(OR(E23="férié travaillé",E23="travail"),I23-G23+IF(G23>I23,1),INDEX('bases de donnée'!$E$20:'bases de donnée'!$E$32,MATCH(E23,gerald2,0))) -> 0 | M23: =IF(SUM(L23-'bases de donnée'!E$4)<0,0,SUM(L23-'bases de donnée'!E$4)) -> 0 | N23: 0 | O23: =O22+J23 -> 0.45833333 | P23: H semaine | Q23: =IF(AND(G23<>"",I23<>""),1,0+OR(N(I22)<N(G22),E23="récupération",E23="congé 1 jour",E23="congé 1/2 jour ",E23="congé 5h24",E23="arrêt maladie",E23="arrêt travail",E23="férié ",E23="congé parentale",E23="congé de naissance")) -> 0 | S23: =IF(SUM(MOD(I23-G23,1)-IF(I23>G23,MAX(0,MIN(I23,'bases de donnée'!E$16/24)-MAX('planning '!G23,7/24)),MAX(0,'bases de donnée'!E$16/24-MAX('planning '!G23,7/24))+MAX(0,MIN('planning '!I23,'bases de donnée'!E$16/24)-7/24)))<0,0,SUM(MOD('planning '!I23-'planning '!G23,1)-IF('planning '!I23>'planning '!G23,MAX(0,MIN('planning '!I23,'bases de donnée'!E$16/24)-MAX('planning '!G23,7/24)),MAX(0,'bases de donnée'!E$16/24-MAX('planning '!G23,7/24))+MAX(0,MIN('planning '!I23,'bases de donnée'!E$16/24)-7/24)))) -> 0 | U23: =IF(E23<>"travail",IF(E23="férié travaillé",MOD(I23-G23,1)-H23,"00:00"),"00:00") -> 00:00 | V23: =IF(SUM(IF(O23>("36:00"*1),O23-("36:00"*1),0)-V21-V22)<0,0,SUM(IF(O23>("36:00"*1),O23-("36:00"*1),0)-V21-V22)) -> 0 | X23: =S23 -> 0 | Z23: =IF(SUM(U23-X23)<0,0,SUM(U23-X23)) -> 0 | AA23: =IF(SUM(V23-X23-Z23)<0,0,SUM(V23-X23-Z23)) -> 0 | AD23: =IF(SUM(U23-Z23)<0,0,SUM(U23-Z23)) -> 0 | AE23: =IF(SUM(V23-AA23)<0,0,SUM(V23-AA23)) -> 0
C24: jeudi | D24: =D23+1 -> 42020 | E24: travail | G24: 0.39583333 | H24: 0.03125 | I24: 0.6875 | J24: =IF(OR(E24="férié travaillé",E24="travail"),(I24-G24+IF(G24>I24,1)-H24),INDEX('bases de donnée'!$E$20:'bases de donnée'!$E$32,MATCH(E24,gerald2,0))) -> 0.26041667 | K24: =IF(SUM(J24-'bases de donnée'!E$7)<0,0,SUM(J24-'bases de donnée'!E$7)) -> 0 | L24: =IF(OR(E24="férié travaillé",E24="travail"),I24-G24+IF(G24>I24,1),INDEX('bases de donnée'!$E$20:'bases de donnée'!$E$32,MATCH(E24,gerald2,0))) -> 0.29166667 | M24: =IF(SUM(L24-'bases de donnée'!E$4)<0,0,SUM(L24-'bases de donnée'!E$4)) -> 0 | N24: 0 | O24: =O23+J24 -> 0.71875 | P24: =O27 -> 1.1458333 | Q24: =IF(AND(G24<>"",I24<>""),1,0+OR(N(I23)<N(G23),E24="récupération",E24="congé 1 jour",E24="congé 1/2 jour ",E24="congé 5h24",E24="arrêt maladie",E24="arrêt travail",E24="férié ",E24="congé parentale",E24="congé de naissance")) -> 1 | S24: =IF(SUM(MOD(I24-G24,1)-IF(I24>G24,MAX(0,MIN(I24,'bases de donnée'!E$16/24)-MAX('planning '!G24,7/24)),MAX(0,'bases de donnée'!E$16/24-MAX('planning '!G24,7/24))+MAX(0,MIN('planning '!I24,'bases de donnée'!E$16/24)-7/24)))<0,0,SUM(MOD('planning '!I24-'planning '!G24,1)-IF('planning '!I24>'planning '!G24,MAX(0,MIN('planning '!I24,'bases de donnée'!E$16/24)-MAX('planning '!G24,7/24)),MAX(0,'bases de donnée'!E$16/24-MAX('planning '!G24,7/24))+MAX(0,MIN('planning '!I24,'bases de donnée'!E$16/24)-7/24)))) -> 0 | U24: =IF(E24<>"travail",IF(E24="férié travaillé",MOD(I24-G24,1)-H24,"00:00"),"00:00") -> 00:00 | V24: =IF(SUM(IF(O24>("36:00"*1),O24-("36:00"*1),0)-V22-V23)<0,0,SUM(IF(O24>("36:00"*1),O24-("36:00"*1),0)-V21-V22-V23)) -> 0 | X24: =S24 -> 0 | Z24: =IF(SUM(U24-X24)<0,0,SUM(U24-X24)) -> 0 | AA24: =IF(SUM(V24-X24-Z24)<0,0,SUM(V24-X24-Z24)) -> 0 | AD24: =IF(SUM(U24-Z24)<0,0,SUM(U24-Z24)) -> 0 | AE24: =IF(SUM(V24-AA24)<0,0,SUM(V24-AA24)) -> 0
C25: vendredi | D25: =D24+1 -> 42021 | E25: travail | G25: 0.66666667 | H25: 0.03125 | I25: 0.125 | J25: =IF(OR(E25="férié travaillé",E25="travail"),(I25-G25+IF(G25>I25,1)-H25),INDEX('bases de donnée'!$E$20:'bases de donnée'!$E$32,MATCH(E25,gerald2,0))) -> 0.42708333 | K25: =IF(SUM(J25-'bases de donnée'!E$7)<0,0,SUM(J25-'bases de donnée'!E$7)) -> 0.010416667 | L25: =IF(OR(E25="férié travaillé",E25="travail"),I25-G25+IF(G25>I25,1),INDEX('bases de donnée'!$E$20:'bases de donnée'!$E$32,MATCH(E25,gerald2,0))) -> 0.45833333 | M25: =IF(SUM(L25-'bases de donnée'!E$4)<0,0,SUM(L25-'bases de donnée'!E$4)) -> 0 | N25: 0 | O25: =O24+J25 -> 1.1458333 | P25: HS hc de | Q25: =IF(AND(G25<>"",I25<>""),1,0+OR(N(I24)<N(G24),E25="récupération",E25="congé 1 jour",E25="congé 1/2 jour ",E25="congé 5h24",E25="arrêt maladie",E25="arrêt travail",E25="férié ",E25="congé parentale",E25="congé de naissance")) -> 1 | S25: =IF(SUM(MOD(I25-G25,1)-IF(I25>G25,MAX(0,MIN(I25,'bases de donnée'!E$16/24)-MAX('planning '!G25,7/24)),MAX(0,'bases de donnée'!E$16/24-MAX('planning '!G25,7/24))+MAX(0,MIN('planning '!I25,'bases de donnée'!E$16/24)-7/24)))<0,0,SUM(MOD('planning '!I25-'planning '!G25,1)-IF('planning '!I25>'planning '!G25,MAX(0,MIN('planning '!I25,'bases de donnée'!E$16/24)-MAX('planning '!G25,7/24)),MAX(0,'bases de donnée'!E$16/24-MAX('planning '!G25,7/24))+MAX(0,MIN('planning '!I25,'bases de donnée'!E$16/24)-7/24)))) -> 0.25 | U25: =IF(E25<>"travail",IF(E25="férié travaillé",MOD(I25-G25,1)-H25,"00:00"),"00:00") -> 00:00 | V25: =IF(SUM(IF(O25>("36:00"*1),O25-("36:00"*1),0)-V23-V24)<0,0,SUM(IF(O25>("36:00"*1),O25-("36:00"*1),0)-V21-V22-V23-V24)) -> 0 | X25: =S25 -> 0.25 | Z25: =IF(SUM(U25-X25)<0,0,SUM(U25-X25)) -> 0 | AA25: =IF(SUM(V25-X25-Z25)<0,0,SUM(V25-X25-Z25)) -> 0 | AD25: =IF(SUM(U25-Z25)<0,0,SUM(U25-Z25)) -> 0 | AE25: =IF(SUM(V25-AA25)<0,0,SUM(V25-AA25)) -> 0
C26: samedi | D26: =D25+1 -> 42022 | E26: off | J26: =IF(OR(E26="férié travaillé",E26="travail"),(I26-G26+IF(G26>I26,1)-H26),INDEX('bases de donnée'!$E$20:'bases de donnée'!$E$32,MATCH(E26,gerald2,0))) -> 0 | K26: =IF(SUM(J26-'bases de donnée'!E$7)<0,0,SUM(J26-'bases de donnée'!E$7)) -> 0 | L26: =IF(OR(E26="férié travaillé",E26="travail"),I26-G26+IF(G26>I26,1),INDEX('bases de donnée'!$E$20:'bases de donnée'!$E$32,MATCH(E26,gerald2,0))) -> 0 | M26: =IF(SUM(L26-'bases de donnée'!E$4)<0,0,SUM(L26-'bases de donnée'!E$4)) -> 0 | N26: 0 | O26: =O25+J26 -> 1.1458333 | P26: ='bases de donnée'!E$10 -> 2 | Q26: =IF(AND(G26<>"",I26<>""),1,0+OR(N(I25)<N(G25),E26="récupération",E26="congé 1 jour",E26="congé 1/2 jour ",E26="congé 5h24",E26="arrêt maladie",E26="arrêt travail",E26="férié ",E26="congé parentale",E26="congé de naissance")) -> 1 | S26: =IF(SUM(MOD(I26-G26,1)-IF(I26>G26,MAX(0,MIN(I26,'bases de donnée'!E$16/24)-MAX('planning '!G26,7/24)),MAX(0,'bases de donnée'!E$16/24-MAX('planning '!G26,7/24))+MAX(0,MIN('planning '!I26,'bases de donnée'!E$16/24)-7/24)))<0,0,SUM(MOD('planning '!I26-'planning '!G26,1)-IF('planning '!I26>'planning '!G26,MAX(0,MIN('planning '!I26,'bases de donnée'!E$16/24)-MAX('planning '!G26,7/24)),MAX(0,'bases de donnée'!E$16/24-MAX('planning '!G26,7/24))+MAX(0,MIN('planning '!I26,'bases de donnée'!E$16/24)-7/24)))) -> 0 | U26: =IF(E26<>"travail",IF(E26="férié travaillé",MOD(I26-G26,1)-H26,"00:00"),"00:00") -> 00:00 | V26: =IF(SUM(IF(O26>("36:00"*1),O26-("36:00"*1),0)-V24-V25)<0,0,SUM(IF(O26>("36:00"*1),O26-("36:00"*1),0)-V21-V22-V23-V24-V25)) -> 0 | X26: =S26 -> 0 | Z26: =IF(SUM(U26-X26)<0,0,SUM(U26-X26)) -> 0 | AA26: =IF(SUM(V26-X26-Z26)<0,0,SUM(V26-X26-Z26)) -> 0 | AD26: =IF(SUM(U26-Z26)<0,0,SUM(U26-Z26)) -> 0 | AE26: =IF(SUM(V26-AA26)<0,0,SUM(V26-AA26)) -> 0
C27: dimanche | D27: =D26+1 -> 42023 | E27: off | J27: =IF(OR(E27="férié travaillé",E27="travail"),(I27-G27+IF(G27>I27,1)-H27),INDEX('bases de donnée'!$E$20:'bases de donnée'!$E$32,MATCH(E27,gerald2,0))) -> 0 | K27: =IF(SUM(J27-'bases de donnée'!E$7)<0,0,SUM(J27-'bases de donnée'!E$7)) -> 0 | L27: =IF(OR(E27="férié travaillé",E27="travail"),I27-G27+IF(G27>I27,1),INDEX('bases de donnée'!$E$20:'bases de donnée'!$E$32,MATCH(E27,gerald2,0))) -> 0 | M27: =IF(SUM(L27-'bases de donnée'!E$4)<0,0,SUM(L27-'bases de donnée'!E$4)) -> 0 | N27: 0 | O27: =O26+J27 -> 1.1458333 | P27: =IF(SUM(O27-'bases de donnée'!E$10)<0,0,SUM(O27-'bases de donnée'!E$10)) -> 0 | Q27: =IF(AND(G27<>"",I27<>""),1,0+OR(N(I26)<N(G26),E27="récupération",E27="congé 1 jour",E27="congé 1/2 jour ",E27="congé 5h24",E27="arrêt maladie",E27="arrêt travail",E27="férié ",E27="congé parentale",E27="congé de naissance")) -> 0 | S27: =IF(SUM(MOD(I27-G27,1)-IF(I27>G27,MAX(0,MIN(I27,'bases de donnée'!E$16/24)-MAX('planning '!G27,7/24)),MAX(0,'bases de donnée'!E$16/24-MAX('planning '!G27,7/24))+MAX(0,MIN('planning '!I27,'bases de donnée'!E$16/24)-7/24)))<0,0,SUM(MOD('planning '!I27-'planning '!G27,1)-IF('planning '!I27>'planning '!G27,MAX(0,MIN('planning '!I27,'bases de donnée'!E$16/24)-MAX('planning '!G27,7/24)),MAX(0,'bases de donnée'!E$16/24-MAX('planning '!G27,7/24))+MAX(0,MIN('planning '!I27,'bases de donnée'!E$16/24)-7/24)))) -> 0 | T27: =J27 -> 0 | U27: =IF(E27<>"travail",IF(E27="férié travaillé",MOD(I27-G27,1)-H27,"00:00"),"00:00") -> 00:00 | V27: =IF(SUM(IF(O27>("36:00"*1),O27-("36:00"*1),0)-V25-V26)<0,0,SUM(IF(O27>("36:00"*1),O27-("36:00"*1),0)-V21-V22-V23-V24-V25-V26)) -> 0 | X27: =S27 -> 0 | Y27: =IF(SUM(T27-S27)<0,0,SUM(T27-S27)) -> 0 | Z27: =IF(SUM(U27-T27-S27)<0,0,SUM(U27-T27-S27)) -> 0 | AA27: =IF(SUM(V27-S27-T27-U27)<0,0,SUM(V27-S27-T27-U27)) -> 0 | AC27: =IF(SUM(T27-Y27)<0,0,SUM(T27-Y27)) -> 0 | AD27: =IF(SUM(U27-Z27)<0,0,SUM(U27-Z27)) -> 0 | AE27: =IF(SUM(V27-AA27)<0,0,SUM(V27-AA27)) -> 0
B29: semaine | C29: lundi | D29: =D27+1 -> 42024 | E29: travail | G29: 0.38541667 | H29: 0.03125 | I29: 0.66666667 | J29: =IF(OR(E29="férié travaillé",E29="travail"),(I29-G29+IF(G29>I29,1)-H29),INDEX('bases de donnée'!$E$20:'bases de donnée'!$E$32,MATCH(E29,gerald2,0))) -> 0.25 | K29: =IF(SUM(J29-'bases de donnée'!E$7)<0,0,SUM(J29-'bases de donnée'!E$7)) -> 0 | L29: =IF(OR(E29="férié travaillé",E29="travail"),I29-G29+IF(G29>I29,1),INDEX('bases de donnée'!$E$20:'bases de donnée'!$E$32,MATCH(E29,gerald2,0))) -> 0.28125 | M29: =IF(SUM(L29-'bases de donnée'!E$4)<0,0,SUM(L29-'bases de donnée'!E$4)) -> 0 | N29: 0 | O29: =J29 -> 0.25 | P29: =SUM(Q29:Q35) -> 4 | Q29: =IF(AND(G29<>"",I29<>""),1,0+OR(N(I28)<N(G28),E29="récupération",E29="congé 1 jour",E29="congé 1/2 jour ",E29="congé 5h24",E29="arrêt maladie",E29="arrêt travail",E29="férié ",E29="congé parentale",E29="congé de naissance")) -> 1 | S29: =IF(SUM(MOD(I29-G29,1)-IF(I29>G29,MAX(0,MIN(I29,'bases de donnée'!E$16/24)-MAX('planning '!G29,7/24)),MAX(0,'bases de donnée'!E$16/24-MAX('planning '!G29,7/24))+MAX(0,MIN('planning '!I29,'bases de donnée'!E$16/24)-7/24)))<0,0,SUM(MOD('planning '!I29-'planning '!G29,1)-IF('planning '!I29>'planning '!G29,MAX(0,MIN('planning '!I29,'bases de donnée'!E$16/24)-MAX('planning '!G29,7/24)),MAX(0,'bases de donnée'!E$16/24-MAX('planning '!G29,7/24))+MAX(0,MIN('planning '!I29,'bases de donnée'!E$16/24)-7/24)))) -> 0 | U29: =IF(E29<>"travail",IF(E29="férié travaillé",MOD(I29-G29,1)-H29,"00:00"),"00:00") -> 00:00 | X29: =S29 -> 0 | Z29: =IF(SUM(U29-X29)<0,0,SUM(U29-X29)) -> 0 | AA29: =IF(SUM(V29-X29-Z29)<0,0,SUM(V29-X29-Z29)) -> 0 | AD29: =IF(SUM(U29-Z29)<0,0,SUM(U29-Z29)) -> 0 | AE29: =IF(SUM(V29-AA29)<0,0,SUM(V29-AA29)) -> 0
B30: =B22+1 -> 3 | C30: mardi | D30: =D29+1 -> 42025 | E30: travail | G30: 0.375 | H30: 0.03125 | I30: 0.67708333 | J30: =IF(OR(E30="férié travaillé",E30="travail"),(I30-G30+IF(G30>I30,1)-H30),INDEX('bases de donnée'!$E$20:'bases de donnée'!$E$32,MATCH(E30,gerald2,0))) -> 0.27083333 | K30: =IF(SUM(J30-'bases de donnée'!E$7)<0,0,SUM(J30-'bases de donnée'!E$7)) -> 0 | L30: =IF(OR(E30="férié travaillé",E30="travail"),I30-G30+IF(G30>I30,1),INDEX('bases de donnée'!$E$20:'bases de donnée'!$E$32,MATCH(E30,gerald2,0))) -> 0.30208333 | M30: =IF(SUM(L30-'bases de donnée'!E$4)<0,0,SUM(L30-'bases de donnée'!E$4)) -> 0 | N30: 0 | O30: =O29+J30 -> 0.52083333 | P30: =IF(SUM(P29-'bases de donnée'!E$6)<0,0,SUM(P29-'bases de donnée'!E$6)) -> 0 | Q30: =IF(AND(G30<>"",I30<>""),1,0+OR(N(I29)<N(G29),E30="récupération",E30="congé 1 jour",E30="congé 1/2 jour ",E30="congé 5h24",E30="arrêt maladie",E30="arrêt travail",E30="férié ",E30="congé parentale",E30="congé de naissance")) -> 1 | S30: =IF(SUM(MOD(I30-G30,1)-IF(I30>G30,MAX(0,MIN(I30,'bases de donnée'!E$16/24)-MAX('planning '!G30,7/24)),MAX(0,'bases de donnée'!E$16/24-MAX('planning '!G30,7/24))+MAX(0,MIN('planning '!I30,'bases de donnée'!E$16/24)-7/24)))<0,0,SUM(MOD('planning '!I30-'planning '!G30,1)-IF('planning '!I30>'planning '!G30,MAX(0,MIN('planning '!I30,'bases de donnée'!E$16/24)-MAX('planning '!G30,7/24)),MAX(0,'bases de donnée'!E$16/24-MAX('planning '!G30,7/24))+MAX(0,MIN('planning '!I30,'bases de donnée'!E$16/24)-7/24)))) -> 0 | U30: =IF(E30<>"travail",IF(E30="férié travaillé",MOD(I30-G30,1)-H30,"00:00"),"00:00") -> 00:00 | V30: =IF(SUM(IF(O30>('bases de donnée'!E$9*1),O30-('bases de donnée'!E$9*1),0)-V29)<0,0,SUM(IF(O30>('bases de donnée'!E$9*1),O30-('bases de donnée'!E$9*1),0)-V29)) -> 0 | X30: =S30 -> 0 | Z30: =IF(SUM(U30-X30)<0,0,SUM(U30-X30)) -> 0 | AA30: =IF(SUM(V30-X30-Z30)<0,0,SUM(V30-X30-Z30)) -> 0 | AD30: =IF(SUM(U30-Z30)<0,0,SUM(U30-Z30)) -> 0 | AE30: =IF(SUM(V30-AA30)<0,0,SUM(V30-AA30)) -> 0
C31: mercredi | D31: =D30+1 -> 42026 | E31: travail | G31: 0.36458333 | I31: 0.47916667 | J31: =IF(OR(E31="férié travaillé",E31="travail"),(I31-G31+IF(G31>I31,1)-H31),INDEX('bases de donnée'!$E$20:'bases de donnée'!$E$32,MATCH(E31,gerald2,0))) -> 0.11458333 | K31: =IF(SUM(J31-'bases de donnée'!E$7)<0,0,SUM(J31-'bases de donnée'!E$7)) -> 0 | L31: =IF(OR(E31="férié travaillé",E31="travail"),I31-G31+IF(G31>I31,1),INDEX('bases de donnée'!$E$20:'bases de donnée'!$E$32,MATCH(E31,gerald2,0))) -> 0.11458333 | M31: =IF(SUM(L31-'bases de donnée'!E$4)<0,0,SUM(L31-'bases de donnée'!E$4)) -> 0 | N31: 0 | O31: =O30+J31 -> 0.63541667 | P31: H semaine | Q31: =IF(AND(G31<>"",I31<>""),1,0+OR(N(I30)<N(G30),E31="récupération",E31="congé 1 jour",E31="congé 1/2 jour ",E31="congé 5h24",E31="arrêt maladie",E31="arrêt travail",E31="férié ",E31="congé parentale",E31="congé de naissance")) -> 1 | S31: =IF(SUM(MOD(I31-G31,1)-IF(I31>G31,MAX(0,MIN(I31,'bases de donnée'!E$16/24)-MAX('planning '!G31,7/24)),MAX(0,'bases de donnée'!E$16/24-MAX('planning '!G31,7/24))+MAX(0,MIN('planning '!I31,'bases de donnée'!E$16/24)-7/24)))<0,0,SUM(MOD('planning '!I31-'planning '!G31,1)-IF('planning '!I31>'planning '!G31,MAX(0,MIN('planning '!I31,'bases de donnée'!E$16/24)-MAX('planning '!G31,7/24)),MAX(0,'bases de donnée'!E$16/24-MAX('planning '!G31,7/24))+MAX(0,MIN('planning '!I31,'bases de donnée'!E$16/24)-7/24)))) -> 0 | U31: =IF(E31<>"travail",IF(E31="férié travaillé",MOD(I31-G31,1)-H31,"00:00"),"00:00") -> 00:00 | V31: =IF(SUM(IF(O31>("36:00"*1),O31-("36:00"*1),0)-V29-V30)<0,0,SUM(IF(O31>("36:00"*1),O31-("36:00"*1),0)-V29-V30)) -> 0 | X31: =S31 -> 0 | Z31: =IF(SUM(U31-X31)<0,0,SUM(U31-X31)) -> 0 | AA31: =IF(SUM(V31-X31-Z31)<0,0,SUM(V31-X31-Z31)) -> 0 | AD31: =IF(SUM(U31-Z31)<0,0,SUM(U31-Z31)) -> 0 | AE31: =IF(SUM(V31-AA31)<0,0,SUM(V31-AA31)) -> 0
C32: jeudi | D32: =D31+1 -> 42027 | E32: travail | G32: 0.58333333 | I32: 1 | J32: =IF(OR(E32="férié travaillé",E32="travail"),(I32-G32+IF(G32>I32,1)-H32),INDEX('bases de donnée'!$E$20:'bases de donnée'!$E$32,MATCH(E32,gerald2,0))) -> 0.41666667 | K32: =IF(SUM(J32-'bases de donnée'!E$7)<0,0,SUM(J32-'bases de donnée'!E$7)) -> 0 | L32: =IF(OR(E32="férié travaillé",E32="travail"),I32-G32+IF(G32>I32,1),INDEX('bases de donnée'!$E$20:'bases de donnée'!$E$32,MATCH(E32,gerald2,0))) -> 0.41666667 | M32: =IF(SUM(L32-'bases de donnée'!E$4)<0,0,SUM(L32-'bases de donnée'!E$4)) -> 0 | N32: 0 | O32: =O31+J32 -> 1.0520833 | P32: =O35 -> 1.0520833 | Q32: =IF(AND(G32<>"",I32<>""),1,0+OR(N(I31)<N(G31),E32="récupération",E32="congé 1 jour",E32="congé 1/2 jour ",E32="congé 5h24",E32="arrêt maladie",E32="arrêt travail",E32="férié ",E32="congé parentale",E32="congé de naissance")) -> 1 | S32: =IF(SUM(MOD(I32-G32,1)-IF(I32>G32,MAX(0,MIN(I32,'bases de donnée'!E$16/24)-MAX('planning '!G32,7/24)),MAX(0,'bases de donnée'!E$16/24-MAX('planning '!G32,7/24))+MAX(0,MIN('planning '!I32,'bases de donnée'!E$16/24)-7/24)))<0,0,SUM(MOD('planning '!I32-'planning '!G32,1)-IF('planning '!I32>'planning '!G32,MAX(0,MIN('planning '!I32,'bases de donnée'!E$16/24)-MAX('planning '!G32,7/24)),MAX(0,'bases de donnée'!E$16/24-MAX('planning '!G32,7/24))+MAX(0,MIN('planning '!I32,'bases de donnée'!E$16/24)-7/24)))) -> 0.125 | U32: =IF(E32<>"travail",IF(E32="férié travaillé",MOD(I32-G32,1)-H32,"00:00"),"00:00") -> 00:00 | V32: =IF(SUM(IF(O32>("36:00"*1),O32-("36:00"*1),0)-V30-V31)<0,0,SUM(IF(O32>("36:00"*1),O32-("36:00"*1),0)-V29-V30-V31)) -> 0 | X32: =S32 -> 0.125 | Z32: =IF(SUM(U32-X32)<0,0,SUM(U32-X32)) -> 0 | AA32: =IF(SUM(V32-X32-Z32)<0,0,SUM(V32-X32-Z32)) -> 0 | AD32: =IF(SUM(U32-Z32)<0,0,SUM(U32-Z32)) -> 0 | AE32: =IF(SUM(V32-AA32)<0,0,SUM(V32-AA32)) -> 0
C33: vendredi | D33: =D32+1 -> 42028 | E33: off | J33: =IF(OR(E33="férié travaillé",E33="travail"),(I33-G33+IF(G33>I33,1)-H33),INDEX('bases de donnée'!$E$20:'bases de donnée'!$E$32,MATCH(E33,gerald2,0))) -> 0 | K33: =IF(SUM(J33-'bases de donnée'!E$7)<0,0,SUM(J33-'bases de donnée'!E$7)) -> 0 | L33: =IF(OR(E33="férié travaillé",E33="travail"),I33-G33+IF(G33>I33,1),INDEX('bases de donnée'!$E$20:'bases de donnée'!$E$32,MATCH(E33,gerald2,0))) -> 0 | M33: =IF(SUM(L33-'bases de donnée'!E$4)<0,0,SUM(L33-'bases de donnée'!E$4)) -> 0 | N33: 0 | O33: =O32+J33 -> 1.0520833 | P33: HS hc de | Q33: =IF(AND(G33<>"",I33<>""),1,0+OR(N(I32)<N(G32),E33="récupération",E33="congé 1 jour",E33="congé 1/2 jour ",E33="congé 5h24",E33="arrêt maladie",E33="arrêt travail",E33="férié ",E33="congé parentale",E33="congé de naissance")) -> 0 | S33: =IF(SUM(MOD(I33-G33,1)-IF(I33>G33,MAX(0,MIN(I33,'bases de donnée'!E$16/24)-MAX('planning '!G33,7/24)),MAX(0,'bases de donnée'!E$16/24-MAX('planning '!G33,7/24))+MAX(0,MIN('planning '!I33,'bases de donnée'!E$16/24)-7/24)))<0,0,SUM(MOD('planning '!I33-'planning '!G33,1)-IF('planning '!I33>'planning '!G33,MAX(0,MIN('planning '!I33,'bases de donnée'!E$16/24)-MAX('planning '!G33,7/24)),MAX(0,'bases de donnée'!E$16/24-MAX('planning '!G33,7/24))+MAX(0,MIN('planning '!I33,'bases de donnée'!E$16/24)-7/24)))) -> 0 | U33: =IF(E33<>"travail",IF(E33="férié travaillé",MOD(I33-G33,1)-H33,"00:00"),"00:00") -> 00:00 | V33: =IF(SUM(IF(O33>("36:00"*1),O33-("36:00"*1),0)-V31-V32)<0,0,SUM(IF(O33>("36:00"*1),O33-("36:00"*1),0)-V29-V30-V31-V32)) -> 0 | X33: =S33 -> 0 | Z33: =IF(SUM(U33-X33)<0,0,SUM(U33-X33)) -> 0 | AA33: =IF(SUM(V33-X33-Z33)<0,0,SUM(V33-X33-Z33)) -> 0 | AD33: =IF(SUM(U33-Z33)<0,0,SUM(U33-Z33)) -> 0 | AE33: =IF(SUM(V33-AA33)<0,0,SUM(V33-AA33)) -> 0
C34: samedi | D34: =D33+1 -> 42029 | E34: off | J34: =IF(OR(E34="férié travaillé",E34="travail"),(I34-G34+IF(G34>I34,1)-H34),INDEX('bases de donnée'!$E$20:'bases de donnée'!$E$32,MATCH(E34,gerald2,0))) -> 0 | K34: =IF(SUM(J34-'bases de donnée'!E$7)<0,0,SUM(J34-'bases de donnée'!E$7)) -> 0 | L34: =IF(OR(E34="férié travaillé",E34="travail"),I34-G34+IF(G34>I34,1),INDEX('bases de donnée'!$E$20:'bases de donnée'!$E$32,MATCH(E34,gerald2,0))) -> 0 | M34: =IF(SUM(L34-'bases de donnée'!E$4)<0,0,SUM(L34-'bases de donnée'!E$4)) -> 0 | N34: 0 | O34: =O33+J34 -> 1.0520833 | P34: ='bases de donnée'!E$10 -> 2 | Q34: =IF(AND(G34<>"",I34<>""),1,0+OR(N(I33)<N(G33),E34="récupération",E34="congé 1 jour",E34="congé 1/2 jour ",E34="congé 5h24",E34="arrêt maladie",E34="arrêt travail",E34="férié ",E34="congé parentale",E34="congé de naissance")) -> 0 | S34: =IF(SUM(MOD(I34-G34,1)-IF(I34>G34,MAX(0,MIN(I34,'bases de donnée'!E$16/24)-MAX('planning '!G34,7/24)),MAX(0,'bases de donnée'!E$16/24-MAX('planning '!G34,7/24))+MAX(0,MIN('planning '!I34,'bases de donnée'!E$16/24)-7/24)))<0,0,SUM(MOD('planning '!I34-'planning '!G34,1)-IF('planning '!I34>'planning '!G34,MAX(0,MIN('planning '!I34,'bases de donnée'!E$16/24)-MAX('planning '!G34,7/24)),MAX(0,'bases de donnée'!E$16/24-MAX('planning '!G34,7/24))+MAX(0,MIN('planning '!I34,'bases de donnée'!E$16/24)-7/24)))) -> 0 | U34: =IF(E34<>"travail",IF(E34="férié travaillé",MOD(I34-G34,1)-H34,"00:00"),"00:00") -> 00:00 | V34: =IF(SUM(IF(O34>("36:00"*1),O34-("36:00"*1),0)-V32-V33)<0,0,SUM(IF(O34>("36:00"*1),O34-("36:00"*1),0)-V29-V30-V31-V32-V33)) -> 0 | X34: =S34 -> 0 | Z34: =IF(SUM(U34-X34)<0,0,SUM(U34-X34)) -> 0 | AA34: =IF(SUM(V34-X34-Z34)<0,0,SUM(V34-X34-Z34)) -> 0 | AD34: =IF(SUM(U34-Z34)<0,0,SUM(U34-Z34)) -> 0 | AE34: =IF(SUM(V34-AA34)<0,0,SUM(V34-AA34)) -> 0
C35: dimanche | D35: =D34+1 -> 42030 | E35: off | J35: =IF(OR(E35="férié travaillé",E35="travail"),(I35-G35+IF(G35>I35,1)-H35),INDEX('bases de donnée'!$E$20:'bases de donnée'!$E$32,MATCH(E35,gerald2,0))) -> 0 | K35: =IF(SUM(J35-'bases de donnée'!E$7)<0,0,SUM(J35-'bases de donnée'!E$7)) -> 0 | L35: =IF(OR(E35="férié travaillé",E35="travail"),I35-G35+IF(G35>I35,1),INDEX('bases de donnée'!$E$20:'bases de donnée'!$E$32,MATCH(E35,gerald2,0))) -> 0 | M35: =IF(SUM(L35-'bases de donnée'!E$4)<0,0,SUM(L35-'bases de donnée'!E$4)) -> 0 | N35: 0 | O35: =O34+J35 -> 1.0520833 | P35: =IF(SUM(O35-'bases de donnée'!E$10)<0,0,SUM(O35-'bases de donnée'!E$10)) -> 0 | Q35: =IF(AND(G35<>"",I35<>""),1,0+OR(N(I34)<N(G34),E35="récupération",E35="congé 1 jour",E35="congé 1/2 jour ",E35="congé 5h24",E35="arrêt maladie",E35="arrêt travail",E35="férié ",E35="congé parentale",E35="congé de naissance")) -> 0 | S35: =IF(SUM(MOD(I35-G35,1)-IF(I35>G35,MAX(0,MIN(I35,'bases de donnée'!E$16/24)-MAX('planning '!G35,7/24)),MAX(0,'bases de donnée'!E$16/24-MAX('planning '!G35,7/24))+MAX(0,MIN('planning '!I35,'bases de donnée'!E$16/24)-7/24)))<0,0,SUM(MOD('planning '!I35-'planning '!G35,1)-IF('planning '!I35>'planning '!G35,MAX(0,MIN('planning '!I35,'bases de donnée'!E$16/24)-MAX('planning '!G35,7/24)),MAX(0,'bases de donnée'!E$16/24-MAX('planning '!G35,7/24))+MAX(0,MIN('planning '!I35,'bases de donnée'!E$16/24)-7/24)))) -> 0 | T35: =J35 -> 0 | U35: =IF(E35<>"travail",IF(E35="férié travaillé",MOD(I35-G35,1)-H35,"00:00"),"00:00") -> 00:00 | V35: =IF(SUM(IF(O35>("36:00"*1),O35-("36:00"*1),0)-V33-V34)<0,0,SUM(IF(O35>("36:00"*1),O35-("36:00"*1),0)-V29-V30-V31-V32-V33-V34)) -> 0 | X35: =S35 -> 0 | Y35: =IF(SUM(T35-S35)<0,0,SUM(T35-S35)) -> 0 | Z35: =IF(SUM(U35-T35-S35)<0,0,SUM(U35-T35-S35)) -> 0 | AA35: =IF(SUM(V35-S35-T35-U35)<0,0,SUM(V35-S35-T35-U35)) -> 0 | AC35: =IF(SUM(T35-Y35)<0,0,SUM(T35-Y35)) -> 0 | AD35: =IF(SUM(U35-Z35)<0,0,SUM(U35-Z35)) -> 0 | AE35: =IF(SUM(V35-AA35)<0,0,SUM(V35-AA35)) -> 0
B37: semaine | C37: lundi | D37: =D35+1 -> 42031 | E37: travail | G37: 0.40625 | H37: 0.03125 | I37: 0.63541667 | J37: =IF(OR(E37="férié travaillé",E37="travail"),(I37-G37+IF(G37>I37,1)-H37),INDEX('bases de donnée'!$E$20:'bases de donnée'!$E$32,MATCH(E37,gerald2,0))) -> 0.19791667 | K37: =IF(SUM(J37-'bases de donnée'!E$7)<0,0,SUM(J37-'bases de donnée'!E$7)) -> 0 | L37: =IF(OR(E37="férié travaillé",E37="travail"),I37-G37+IF(G37>I37,1),INDEX('bases de donnée'!$E$20:'bases de donnée'!$E$32,MATCH(E37,gerald2,0))) -> 0.22916667 | M37: =IF(SUM(L37-'bases de donnée'!E$4)<0,0,SUM(L37-'bases de donnée'!E$4)) -> 0 | N37: 0 | O37: =J37 -> 0.19791667 | P37: =SUM(Q37:Q43) -> 4 | Q37: =IF(AND(G37<>"",I37<>""),1,0+OR(N(I36)<N(G36),E37="récupération",E37="congé 1 jour",E37="congé 1/2 jour ",E37="congé 5h24",E37="arrêt maladie",E37="arrêt travail",E37="férié ",E37="congé parentale",E37="congé de naissance")) -> 1 | S37: =IF(SUM(MOD(I37-G37,1)-IF(I37>G37,MAX(0,MIN(I37,'bases de donnée'!E$16/24)-MAX('planning '!G37,7/24)),MAX(0,'bases de donnée'!E$16/24-MAX('planning '!G37,7/24))+MAX(0,MIN('planning '!I37,'bases de donnée'!E$16/24)-7/24)))<0,0,SUM(MOD('planning '!I37-'planning '!G37,1)-IF('planning '!I37>'planning '!G37,MAX(0,MIN('planning '!I37,'bases de donnée'!E$16/24)-MAX('planning '!G37,7/24)),MAX(0,'bases de donnée'!E$16/24-MAX('planning '!G37,7/24))+MAX(0,MIN('planning '!I37,'bases de donnée'!E$16/24)-7/24)))) -> 0 | U37: =IF(E37<>"travail",IF(E37="férié travaillé",MOD(I37-G37,1)-H37,"00:00"),"00:00") -> 00:00 | X37: =S37 -> 0 | Z37: =IF(SUM(U37-X37)<0,0,SUM(U37-X37)) -> 0 | AA37: =IF(SUM(V37-X37-Z37)<0,0,SUM(V37-X37-Z37)) -> 0 | AD37: =IF(SUM(U37-Z37)<0,0,SUM(U37-Z37)) -> 0 | AE37: =IF(SUM(V37-AA37)<0,0,SUM(V37-AA37)) -> 0
B38: =B30+1 -> 4 | C38: mardi | D38: =D37+1 -> 42032 | E38: travail | G38: 0.38541667 | H38: 0.03125 | I38: 0.67708333 | J38: =IF(OR(E38="férié travaillé",E38="travail"),(I38-G38+IF(G38>I38,1)-H38),INDEX('bases de donnée'!$E$20:'bases de donnée'!$E$32,MATCH(E38,gerald2,0))) -> 0.26041667 | K38: =IF(SUM(J38-'bases de donnée'!E$7)<0,0,SUM(J38-'bases de donnée'!E$7)) -> 0 | L38: =IF(OR(E38="férié travaillé",E38="travail"),I38-G38+IF(G38>I38,1),INDEX('bases de donnée'!$E$20:'bases de donnée'!$E$32,MATCH(E38,gerald2,0))) -> 0.29166667 | M38: =IF(SUM(L38-'bases de donnée'!E$4)<0,0,SUM(L38-'bases de donnée'!E$4)) -> 0 | N38: 0 | O38: =O37+J38 -> 0.45833333 | P38: =IF(SUM(P37-'bases de donnée'!E$6)<0,0,SUM(P37-'bases de donnée'!E$6)) -> 0 | Q38: =IF(AND(G38<>"",I38<>""),1,0+OR(N(I37)<N(G37),E38="récupération",E38="congé 1 jour",E38="congé 1/2 jour ",E38="congé 5h24",E38="arrêt maladie",E38="arrêt travail",E38="férié ",E38="congé parentale",E38="congé de naissance")) -> 1 | S38: =IF(SUM(MOD(I38-G38,1)-IF(I38>G38,MAX(0,MIN(I38,'bases de donnée'!E$16/24)-MAX('planning '!G38,7/24)),MAX(0,'bases de donnée'!E$16/24-MAX('planning '!G38,7/24))+MAX(0,MIN('planning '!I38,'bases de donnée'!E$16/24)-7/24)))<0,0,SUM(MOD('planning '!I38-'planning '!G38,1)-IF('planning '!I38>'planning '!G38,MAX(0,MIN('planning '!I38,'bases de donnée'!E$16/24)-MAX('planning '!G38,7/24)),MAX(0,'bases de donnée'!E$16/24-MAX('planning '!G38,7/24))+MAX(0,MIN('planning '!I38,'bases de donnée'!E$16/24)-7/24)))) -> 0 | U38: =IF(E38<>"travail",IF(E38="férié travaillé",MOD(I38-G38,1)-H38,"00:00"),"00:00") -> 00:00 | V38: =IF(SUM(IF(O38>('bases de donnée'!E$9*1),O38-('bases de donnée'!E$9*1),0)-V37)<0,0,SUM(IF(O38>('bases de donnée'!E$9*1),O38-('bases de donnée'!E$9*1),0)-V37)) -> 0 | X38: =S38 -> 0 | Z38: =IF(SUM(U38-X38)<0,0,SUM(U38-X38)) -> 0 | AA38: =IF(SUM(V38-X38-Z38)<0,0,SUM(V38-X38-Z38)) -> 0 | AD38: =IF(SUM(U38-Z38)<0,0,SUM(U38-Z38)) -> 0 | AE38: =IF(SUM(V38-AA38)<0,0,SUM(V38-AA38)) -> 0
C39: mercredi | D39: =D38+1 -> 42033 | E39: off | J39: =IF(OR(E39="férié travaillé",E39="travail"),(I39-G39+IF(G39>I39,1)-H39),INDEX('bases de donnée'!$E$20:'bases de donnée'!$E$32,MATCH(E39,gerald2,0))) -> 0 | K39: =IF(SUM(J39-'bases de donnée'!E$7)<0,0,SUM(J39-'bases de donnée'!E$7)) -> 0 | L39: =IF(OR(E39="férié travaillé",E39="travail"),I39-G39+IF(G39>I39,1),INDEX('bases de donnée'!$E$20:'bases de donnée'!$E$32,MATCH(E39,gerald2,0))) -> 0 | M39: =IF(SUM(L39-'bases de donnée'!E$4)<0,0,SUM(L39-'bases de donnée'!E$4)) -> 0 | N39: 0 | O39: =O38+J39 -> 0.45833333 | P39: H semaine | Q39: =IF(AND(G39<>"",I39<>""),1,0+OR(N(I38)<N(G38),E39="récupération",E39="congé 1 jour",E39="congé 1/2 jour ",E39="congé 5h24",E39="arrêt maladie",E39="arrêt travail",E39="férié ",E39="congé parentale",E39="congé de naissance")) -> 0 | S39: =IF(SUM(MOD(I39-G39,1)-IF(I39>G39,MAX(0,MIN(I39,'bases de donnée'!E$16/24)-MAX('planning '!G39,7/24)),MAX(0,'bases de donnée'!E$16/24-MAX('planning '!G39,7/24))+MAX(0,MIN('planning '!I39,'bases de donnée'!E$16/24)-7/24)))<0,0,SUM(MOD('planning '!I39-'planning '!G39,1)-IF('planning '!I39>'planning '!G39,MAX(0,MIN('planning '!I39,'bases de donnée'!E$16/24)-MAX('planning '!G39,7/24)),MAX(0,'bases de donnée'!E$16/24-MAX('planning '!G39,7/24))+MAX(0,MIN('planning '!I39,'bases de donnée'!E$16/24)-7/24)))) -> 0 | U39: =IF(E39<>"travail",IF(E39="férié travaillé",MOD(I39-G39,1)-H39,"00:00"),"00:00") -> 00:00 | V39: =IF(SUM(IF(O39>("36:00"*1),O39-("36:00"*1),0)-V37-V38)<0,0,SUM(IF(O39>("36:00"*1),O39-("36:00"*1),0)-V37-V38)) -> 0 | X39: =S39 -> 0 | Z39: =IF(SUM(U39-X39)<0,0,SUM(U39-X39)) -> 0 | AA39: =IF(SUM(V39-X39-Z39)<0,0,SUM(V39-X39-Z39)) -> 0 | AD39: =IF(SUM(U39-Z39)<0,0,SUM(U39-Z39)) -> 0 | AE39: =IF(SUM(V39-AA39)<0,0,SUM(V39-AA39)) -> 0
C40: jeudi | D40: =D39+1 -> 42034 | E40: travail | G40: 0.39583333 | H40: 0.03125 | I40: 0.70833333 | J40: =IF(OR(E40="férié travaillé",E40="travail"),(I40-G40+IF(G40>I40,1)-H40),INDEX('bases de donnée'!$E$20:'bases de donnée'!$E$32,MATCH(E40,gerald2,0))) -> 0.28125 | K40: =IF(SUM(J40-'bases de donnée'!E$7)<0,0,SUM(J40-'bases de donnée'!E$7)) -> 0 | L40: =IF(OR(E40="férié travaillé",E40="travail"),I40-G40+IF(G40>I40,1),INDEX('bases de donnée'!$E$20:'bases de donnée'!$E$32,MATCH(E40,gerald2,0))) -> 0.3125 | M40: =IF(SUM(L40-'bases de donnée'!E$4)<0,0,SUM(L40-'bases de donnée'!E$4)) -> 0 | N40: 0 | O40: =O39+J40 -> 0.73958333 | P40: =O43 -> 1.0416667 | Q40: =IF(AND(G40<>"",I40<>""),1,0+OR(N(I39)<N(G39),E40="récupération",E40="congé 1 jour",E40="congé 1/2 jour ",E40="congé 5h24",E40="arrêt maladie",E40="arrêt travail",E40="férié ",E40="congé parentale",E40="congé de naissance")) -> 1 | S40: =IF(SUM(MOD(I40-G40,1)-IF(I40>G40,MAX(0,MIN(I40,'bases de donnée'!E$16/24)-MAX('planning '!G40,7/24)),MAX(0,'bases de donnée'!E$16/24-MAX('planning '!G40,7/24))+MAX(0,MIN('planning '!I40,'bases de donnée'!E$16/24)-7/24)))<0,0,SUM(MOD('planning '!I40-'planning '!G40,1)-IF('planning '!I40>'planning '!G40,MAX(0,MIN('planning '!I40,'bases de donnée'!E$16/24)-MAX('planning '!G40,7/24)),MAX(0,'bases de donnée'!E$16/24-MAX('planning '!G40,7/24))+MAX(0,MIN('planning '!I40,'bases de donnée'!E$16/24)-7/24)))) -> 0 | U40: =IF(E40<>"travail",IF(E40="férié travaillé",MOD(I40-G40,1)-H40,"00:00"),"00:00") -> 00:00 | V40: =IF(SUM(IF(O40>("36:00"*1),O40-("36:00"*1),0)-V38-V39)<0,0,SUM(IF(O40>("36:00"*1),O40-("36:00"*1),0)-V37-V38-V39)) -> 0 | X40: =S40 -> 0 | Z40: =IF(SUM(U40-X40)<0,0,SUM(U40-X40)) -> 0 | AA40: =IF(SUM(V40-X40-Z40)<0,0,SUM(V40-X40-Z40)) -> 0 | AD40: =IF(SUM(U40-Z40)<0,0,SUM(U40-Z40)) -> 0 | AE40: =IF(SUM(V40-AA40)<0,0,SUM(V40-AA40)) -> 0
