Workbook
Name gérald: 'bases de donnée'!$D$20:$D$29
Name gérald1: 'bases de donnée'!$D$20:$E$29
Name gerald2: 'bases de donnée'!$D$20:$D$32

Sheet planning 
T2: Heures suplémentaires réels | X2: résultat suite à la réglementation depuis 2008 | AD2: perte suite à la réglementation 2008
C3: jour | D3: date | G3: Début | H3: pause | I3: Fin | J3: H Jour | K3: hc de | L3: H amp | M3: hc de | N3: hc de repos | O3: hs semaine | Q3: j semaine | S3: H nuit | T3: H dimanche | U3: H férié travaillé | V3: H sup + 36h | X3: H nuit | Y3: H dimanche | Z3: H férié travaillé | AA3: H sup + 36 | AC3: H dimanche | AD3: H férié travaillé | AE3: H sup + 36
B5: semaine | C5: lundi | D5: 42003 | E5: travail | G5: 0.375 | I5: 0.91666667 | J5: =IF(OR(E5="férié travaillé",E5="travail"),(I5-G5+IF(G5>I5,1)-H5),INDEX('bases de donnée'!$E$20:'bases de donnée'!$E$32,MATCH(E5,gerald2,0))) -> 0.54166667 | K5: =IF(SUM(J5-'bases de donnée'!E$7)<0,0,SUM(J5-'bases de donnée'!E$7)) -> 0.125 | L5: =IF(OR(E5="férié travaillé",E5="travail"),I5-G5+IF(G5>I5,1),INDEX('bases de donnée'!$E$20:'bases de donnée'!$E$32,MATCH(E5,gerald2,0))) -> 0.54166667 | M5: =IF(SUM(L5-'bases de donnée'!E$4)<0,0,SUM(L5-'bases de donnée'!E$4)) -> 0.041666667 | N5: 0 | O5: =J5 -> 0.54166667 | P5: =SUM(Q5:Q11) -> 5 | Q5: =IF(AND(G5<>"",I5<>""),1,0+OR(N(I4)<N(G4),E5="récupération",E5="congé 1 jour",E5="congé 1/2 jour ",E5="congé 5h24",E5="arrêt maladie",E5="arrêt travail",E5="férié ",E5="congé parentale",E5="congé de naissance")) -> 1 | S5: =IF(SUM(MOD(I5-G5,1)-IF(I5>G5,MAX(0,MIN(I5,'bases de donnée'!E$16/24)-MAX('planning '!G5,7/24)),MAX(0,'bases de donnée'!E$16/24-MAX('planning '!G5,7/24))+MAX(0,MIN('planning '!I5,'bases de donnée'!E$16/24)-7/24)))<0,0,SUM(MOD('planning '!I5-'planning '!G5,1)-IF('planning '!I5>'planning '!G5,MAX(0,MIN('planning '!I5,'bases de donnée'!E$16/24)-MAX('planning '!G5,7/24)),MAX(0,'bases de donnée'!E$16/24-MAX('planning '!G5,7/24))+MAX(0,MIN('planning '!I5,'bases de donnée'!E$16/24)-7/24)))) -> 0.041666667 | U5: =IF(E5<>"travail",IF(E5="férié travaillé",MOD(I5-G5,1)-H5,"00:00"),"00:00") -> 00:00 | X5: =S5 -> 0.041666667 | Z5: =IF(SUM(U5-X5)<0,0,SUM(U5-X5)) -> 0 | AA5: =IF(SUM(V5-X5-Z5)<0,0,SUM(V5-X5-Z5)) -> 0 | AD5: =IF(SUM(U5-Z5)<0,0,SUM(U5-Z5)) -> 0 | AE5: =IF(SUM(V5-AA5)<0,0,SUM(V5-AA5)) -> 0
B6: 0 | C6: mardi | D6: =D5+1 -> 42004 | E6: férié | J6: =IF(OR(E6="férié travaillé",E6="travail"),(I6-G6+IF(G6>I6,1)-H6),INDEX('bases de donnée'!$E$20:'bases de donnée'!$E$32,MATCH(E6,gerald2,0))) -> 0.3 | K6: =IF(SUM(J6-'bases de donnée'!E$7)<0,0,SUM(J6-'bases de donnée'!E$7)) -> 0 | L6: =IF(OR(E6="férié travaillé",E6="travail"),I6-G6+IF(G6>I6,1),INDEX('bases de donnée'!$E$20:'bases de donnée'!$E$32,MATCH(E6,gerald2,0))) -> 0.3 | M6: =IF(SUM(L6-'bases de donnée'!E$4)<0,0,SUM(L6-'bases de donnée'!E$4)) -> 0 | N6: 0 | O6: =O5+J6 -> 0.84166667 | P6: =IF(SUM(P5-'bases de donnée'!E$6)<0,0,SUM(P5-'bases de donnée'!E$6)) -> 0 | Q6: =IF(AND(G6<>"",I6<>""),1,0+OR(N(I5)<N(G5),E6="récupération",E6="congé 1 jour",E6="congé 1/2 jour ",E6="congé 5h24",E6="arrêt maladie",E6="arrêt travail",E6="férié ",E6="congé parentale",E6="congé de naissance")) -> 1 | S6: =IF(SUM(MOD(I6-G6,1)-IF(I6>G6,MAX(0,MIN(I6,'bases de donnée'!E$16/24)-MAX('planning '!G6,7/24)),MAX(0,'bases de donnée'!E$16/24-MAX('planning '!G6,7/24))+MAX(0,MIN('planning '!I6,'bases de donnée'!E$16/24)-7/24)))<0,0,SUM(MOD('planning '!I6-'planning '!G6,1)-IF('planning '!I6>'planning '!G6,MAX(0,MIN('planning '!I6,'bases de donnée'!E$16/24)-MAX('planning '!G6,7/24)),MAX(0,'bases de donnée'!E$16/24-MAX('planning '!G6,7/24))+MAX(0,MIN('planning '!I6,'bases de donnée'!E$16/24)-7/24)))) -> 0 | U6: =IF(E6<>"travail",IF(E6="férié travaillé",MOD(I6-G6,1)-H6,"00:00"),"00:00") -> 00:00 | V6: =IF(SUM(IF(O6>('bases de donnée'!E$9*1),O6-('bases de donnée'!E$9*1),0)-V5)<0,0,SUM(IF(O6>('bases de donnée'!E$9*1),O6-('bases de donnée'!E$9*1),0)-V5)) -> 0 | X6: =S6 -> 0 | Z6: =IF(SUM(U6-X6)<0,0,SUM(U6-X6)) -> 0 | AA6: =IF(SUM(V6-X6-Z6)<0,0,SUM(V6-X6-Z6)) -> 0 | AD6: =IF(SUM(U6-Z6)<0,0,SUM(U6-Z6)) -> 0 | AE6: =IF(SUM(V6-AA6)<0,0,SUM(V6-AA6)) -> 0
C7: mercredi | D7: =D6+1 -> 42005 | E7: congé 1 jour | J7: =IF(OR(E7="férié travaillé",E7="travail"),(I7-G7+IF(G7>I7,1)-H7),INDEX('bases de donnée'!$E$20:'bases de donnée'!$E$32,MATCH(E7,gerald2,0))) -> 0.3 | K7: =IF(SUM(J7-'bases de donnée'!E$7)<0,0,SUM(J7-'bases de donnée'!E$7)) -> 0 | L7: =IF(OR(E7="férié travaillé",E7="travail"),I7-G7+IF(G7>I7,1),INDEX('bases de donnée'!$E$20:'bases de donnée'!$E$32,MATCH(E7,gerald2,0))) -> 0.3 | M7: =IF(SUM(L7-'bases de donnée'!E$4)<0,0,SUM(L7-'bases de donnée'!E$4)) -> 0 | N7: 0 | O7: =O6+J7 -> 1.1416667 | P7: H semaine | Q7: =IF(AND(G7<>"",I7<>""),1,0+OR(N(I6)<N(G6),E7="récupération",E7="congé 1 jour",E7="congé 1/2 jour ",E7="congé 5h24",E7="arrêt maladie",E7="arrêt travail",E7="férié ",E7="congé parentale",E7="congé de naissance")) -> 1 | S7: =IF(SUM(MOD(I7-G7,1)-IF(I7>G7,MAX(0,MIN(I7,'bases de donnée'!E$16/24)-MAX('planning '!G7,7/24)),MAX(0,'bases de donnée'!E$16/24-MAX('planning '!G7,7/24))+MAX(0,MIN('planning '!I7,'bases de donnée'!E$16/24)-7/24)))<0,0,SUM(MOD('planning '!I7-'planning '!G7,1)-IF('planning '!I7>'planning '!G7,MAX(0,MIN('planning '!I7,'bases de donnée'!E$16/24)-MAX('planning '!G7,7/24)),MAX(0,'bases de donnée'!E$16/24-MAX('planning '!G7,7/24))+MAX(0,MIN('planning '!I7,'bases de donnée'!E$16/24)-7/24)))) -> 0 | U7: =IF(E7<>"travail",IF(E7="férié travaillé",MOD(I7-G7,1)-H7,"00:00"),"00:00") -> 00:00 | V7: =IF(SUM(IF(O7>("36:00"*1),O7-("36:00"*1),0)-V5-V6)<0,0,SUM(IF(O7>("36:00"*1),O7-("36:00"*1),0)-V5-V6)) -> 0 | X7: =S7 -> 0 | Z7: =IF(SUM(U7-X7)<0,0,SUM(U7-X7)) -> 0 | AA7: =IF(SUM(V7-X7-Z7)<0,0,SUM(V7-X7-Z7)) -> 0 | AD7: =IF(SUM(U7-Z7)<0,0,SUM(U7-Z7)) -> 0 | AE7: =IF(SUM(V7-AA7)<0,0,SUM(V7-AA7)) -> 0
C8: jeudi | D8: =D7+1 -> 42006 | E8: congé 1 jour | J8: =IF(OR(E8="férié travaillé",E8="travail"),(I8-G8+IF(G8>I8,1)-H8),INDEX('bases de donnée'!$E$20:'bases de donnée'!$E$32,MATCH(E8,gerald2,0))) -> 0.3 | K8: =IF(SUM(J8-'bases de donnée'!E$7)<0,0,SUM(J8-'bases de donnée'!E$7)) -> 0 | L8: =IF(OR(E8="férié travaillé",E8="travail"),I8-G8+IF(G8>I8,1),INDEX('bases de donnée'!$E$20:'bases de donnée'!$E$32,MATCH(E8,gerald2,0))) -> 0.3 | M8: =IF(SUM(L8-'bases de donnée'!E$4)<0,0,SUM(L8-'bases de donnée'!E$4)) -> 0 | N8: 0 | O8: =O7+J8 -> 1.4416667 | P8: =O11 -> 1.7416667 | Q8: =IF(AND(G8<>"",I8<>""),1,0+OR(N(I7)<N(G7),E8="récupération",E8="congé 1 jour",E8="congé 1/2 jour ",E8="congé 5h24",E8="arrêt maladie",E8="arrêt travail",E8="férié ",E8="congé parentale",E8="congé de naissance")) -> 1 | S8: =IF(SUM(MOD(I8-G8,1)-IF(I8>G8,MAX(0,MIN(I8,'bases de donnée'!E$16/24)-MAX('planning '!G8,7/24)),MAX(0,'bases de donnée'!E$16/24-MAX('planning '!G8,7/24))+MAX(0,MIN('planning '!I8,'bases de donnée'!E$16/24)-7/24)))<0,0,SUM(MOD('planning '!I8-'planning '!G8,1)-IF('planning '!I8>'planning '!G8,MAX(0,MIN('planning '!I8,'bases de donnée'!E$16/24)-MAX('planning '!G8,7/24)),MAX(0,'bases de donnée'!E$16/24-MAX('planning '!G8,7/24))+MAX(0,MIN('planning '!I8,'bases de donnée'!E$16/24)-7/24)))) -> 0 | U8: =IF(E8<>"travail",IF(E8="férié travaillé",MOD(I8-G8,1)-H8,"00:00"),"00:00") -> 00:00 | V8: =IF(SUM(IF(O8>("36:00"*1),O8-("36:00"*1),0)-V6-V7)<0,0,SUM(IF(O8>("36:00"*1),O8-("36:00"*1),0)-V5-V6-V7)) -> 0 | X8: =S8 -> 0 | Z8: =IF(SUM(U8-X8)<0,0,SUM(U8-X8)) -> 0 | AA8: =IF(SUM(V8-X8-Z8)<0,0,SUM(V8-X8-Z8)) -> 0 | AD8: =IF(SUM(U8-Z8)<0,0,SUM(U8-Z8)) -> 0 | AE8: =IF(SUM(V8-AA8)<0,0,SUM(V8-AA8)) -> 0
C9: vendredi | D9: =D8+1 -> 42007 | E9: congé 1 jour | J9: =IF(OR(E9="férié travaillé",E9="travail"),(I9-G9+IF(G9>I9,1)-H9),INDEX('bases de donnée'!$E$20:'bases de donnée'!$E$32,MATCH(E9,gerald2,0))) -> 0.3 | K9: =IF(SUM(J9-'bases de donnée'!E$7)<0,0,SUM(J9-'bases de donnée'!E$7)) -> 0 | L9: =IF(OR(E9="férié travaillé",E9="travail"),I9-G9+IF(G9>I9,1),INDEX('bases de donnée'!$E$20:'bases de donnée'!$E$32,MATCH(E9,gerald2,0))) -> 0.3 | M9: =IF(SUM(L9-'bases de donnée'!E$4)<0,0,SUM(L9-'bases de donnée'!E$4)) -> 0 | N9: 0 | O9: =O8+J9 -> 1.7416667 | P9: H semaine hc de | Q9: =IF(AND(G9<>"",I9<>""),1,0+OR(N(I8)<N(G8),E9="récupération",E9="congé 1 jour",E9="congé 1/2 jour ",E9="congé 5h24",E9="arrêt maladie",E9="arrêt travail",E9="férié ",E9="congé parentale",E9="congé de naissance")) -> 1 | S9: =IF(SUM(MOD(I9-G9,1)-IF(I9>G9,MAX(0,MIN(I9,'bases de donnée'!E$16/24)-MAX('planning '!G9,7/24)),MAX(0,'bases de donnée'!E$16/24-MAX('planning '!G9,7/24))+MAX(0,MIN('planning '!I9,'bases de donnée'!E$16/24)-7/24)))<0,0,SUM(MOD('planning '!I9-'planning '!G9,1)-IF('planning '!I9>'planning '!G9,MAX(0,MIN('planning '!I9,'bases de donnée'!E$16/24)-MAX('planning '!G9,7/24)),MAX(0,'bases de donnée'!E$16/24-MAX('planning '!G9,7/24))+MAX(0,MIN('planning '!I9,'bases de donnée'!E$16/24)-7/24)))) -> 0 | U9: =IF(E9<>"travail",IF(E9="férié travaillé",MOD(I9-G9,1)-H9,"00:00"),"00:00") -> 00:00 | V9: =IF(SUM(IF(O9>("36:00"*1),O9-("36:00"*1),0)-V7-V8)<0,0,SUM(IF(O9>("36:00"*1),O9-("36:00"*1),0)-V5-V6-V7-V8)) -> 0.24166667 | X9: =S9 -> 0 | Z9: =IF(SUM(U9-X9)<0,0,SUM(U9-X9)) -> 0 | AA9: =IF(SUM(V9-X9-Z9)<0,0,SUM(V9-X9-Z9)) -> 0.24166667 | AD9: =IF(SUM(U9-Z9)<0,0,SUM(U9-Z9)) -> 0 | AE9: =IF(SUM(V9-AA9)<0,0,SUM(V9-AA9)) -> 0
C10: samedi | D10: =D9+1 -> 42008 | E10: off | J10: =IF(OR(E10="férié travaillé",E10="travail"),(I10-G10+IF(G10>I10,1)-H10),INDEX('bases de donnée'!$E$20:'bases de donnée'!$E$32,MATCH(E10,gerald2,0))) -> 0 | K10: =IF(SUM(J10-'bases de donnée'!E$7)<0,0,SUM(J10-'bases de donnée'!E$7)) -> 0 | L10: =IF(OR(E10="férié travaillé",E10="travail"),I10-G10+IF(G10>I10,1),INDEX('bases de donnée'!$E$20:'bases de donnée'!$E$32,MATCH(E10,gerald2,0))) -> 0 | M10: =IF(SUM(L10-'bases de donnée'!E$4)<0,0,SUM(L10-'bases de donnée'!E$4)) -> 0 | N10: 0 | O10: =O9+J10 -> 1.7416667 | P10: ='bases de donnée'!E$10 -> 2 | Q10: =IF(AND(G10<>"",I10<>""),1,0+OR(N(I9)<N(G9),E10="récupération",E10="congé 1 jour",E10="congé 1/2 jour ",E10="congé 5h24",E10="arrêt maladie",E10="arrêt travail",E10="férié ",E10="congé parentale",E10="congé de naissance")) -> 0 | S10: =IF(SUM(MOD(I10-G10,1)-IF(I10>G10,MAX(0,MIN(I10,'bases de donnée'!E$16/24)-MAX('planning '!G10,7/24)),MAX(0,'bases de donnée'!E$16/24-MAX('planning '!G10,7/24))+MAX(0,MIN('planning '!I10,'bases de donnée'!E$16/24)-7/24)))<0,0,SUM(MOD('planning '!I10-'planning '!G10,1)-IF('planning '!I10>'planning '!G10,MAX(0,MIN('planning '!I10,'bases de donnée'!E$16/24)-MAX('planning '!G10,7/24)),MAX(0,'bases de donnée'!E$16/24-MAX('planning '!G10,7/24))+MAX(0,MIN('planning '!I10,'bases de donnée'!E$16/24)-7/24)))) -> 0 | U10: =IF(E10<>"travail",IF(E10="férié travaillé",MOD(I10-G10,1)-H10,"00:00"),"00:00") -> 00:00 | V10: =IF(SUM(IF(O10>("36:00"*1),O10-("36:00"*1),0)-V8-V9)<0,0,SUM(IF(O10>("36:00"*1),O10-("36:00"*1),0)-V5-V6-V7-V8-V9)) -> 0 | X10: =S10 -> 0 | Z10: =IF(SUM(U10-X10)<0,0,SUM(U10-X10)) -> 0 | AA10: =IF(SUM(V10-X10-Z10)<0,0,SUM(V10-X10-Z10)) -> 0 | AD10: =IF(SUM(U10-Z10)<0,0,SUM(U10-Z10)) -> 0 | AE10: =IF(SUM(V10-AA10)<0,0,SUM(V10-AA10)) -> 0
C11: dimanche | D11: =D10+1 -> 42009 | E11: off | J11: =IF(OR(E11="férié travaillé",E11="travail"),(I11-G11+IF(G11>I11,1)-H11),INDEX('bases de donnée'!$E$20:'bases de donnée'!$E$32,MATCH(E11,gerald2,0))) -> 0 | K11: =IF(SUM(J11-'bases de donnée'!E$7)<0,0,SUM(J11-'bases de donnée'!E$7)) -> 0 | L11: =IF(OR(E11="férié travaillé",E11="travail"),I11-G11+IF(G11>I11,1),INDEX('bases de donnée'!$E$20:'bases de donnée'!$E$32,MATCH(E11,gerald2,0))) -> 0 | M11: =IF(SUM(L11-'bases de donnée'!E$4)<0,0,SUM(L11-'bases de donnée'!E$4)) -> 0 | N11: 0 | O11: =O10+J11 -> 1.7416667 | P11: =IF(SUM(O11-'bases de donnée'!E$10)<0,0,SUM(O11-'bases de donnée'!E$10)) -> 0 | Q11: =IF(AND(G11<>"",I11<>""),1,0+OR(N(I10)<N(G10),E11="récupération",E11="congé 1 jour",E11="congé 1/2 jour ",E11="congé 5h24",E11="arrêt maladie",E11="arrêt travail",E11="férié ",E11="congé parentale",E11="congé de naissance")) -> 0 | S11: =IF(SUM(MOD(I11-G11,1)-IF(I11>G11,MAX(0,MIN(I11,'bases de donnée'!E$16/24)-MAX('planning '!G11,7/24)),MAX(0,'bases de donnée'!E$16/24-MAX('planning '!G11,7/24))+MAX(0,MIN('planning '!I11,'bases de donnée'!E$16/24)-7/24)))<0,0,SUM(MOD('planning '!I11-'planning '!G11,1)-IF('planning '!I11>'planning '!G11,MAX(0,MIN('planning '!I11,'bases de donnée'!E$16/24)-MAX('planning '!G11,7/24)),MAX(0,'bases de donnée'!E$16/24-MAX('planning '!G11,7/24))+MAX(0,MIN('planning '!I11,'bases de donnée'!E$16/24)-7/24)))) -> 0 | T11: =J11 -> 0 | U11: =IF(E11<>"travail",IF(E11="férié travaillé",MOD(I11-G11,1)-H11,"00:00"),"00:00") -> 00:00 | V11: =IF(SUM(IF(O11>("36:00"*1),O11-("36:00"*1),0)-V9-V10)<0,0,SUM(IF(O11>("36:00"*1),O11-("36:00"*1),0)-V5-V6-V7-V8-V9-V10)) -> 0 | X11: =S11 -> 0 | Y11: =IF(SUM(T11-S11)<0,0,SUM(T11-S11)) -> 0 | Z11: =IF(SUM(U11-T11-S11)<0,0,SUM(U11-T11-S11)) -> 0 | AA11: =IF(SUM(V11-S11-T11-U11)<0,0,SUM(V11-S11-T11-U11)) -> 0 | AC11: =IF(SUM(T11-Y11)<0,0,SUM(T11-Y11)) -> 0 | AD11: =IF(SUM(U11-Z11)<0,0,SUM(U11-Z11)) -> 0 | AE11: =IF(SUM(V11-AA11)<0,0,SUM(V11-AA11)) -> 0
B13: semaine | C13: lundi | D13: =D11+1 -> 42010 | E13: récupération | J13: =IF(OR(E13="férié travaillé",E13="travail"),(I13-G13+IF(G13>I13,1)-H13),INDEX('bases de donnée'!$E$20:'bases de donnée'!$E$32,MATCH(E13,gerald2,0))) -> 0.3 | K13: =IF(SUM(J13-'bases de donnée'!E$7)<0,0,SUM(J13-'bases de donnée'!E$7)) -> 0 | L13: =IF(OR(E13="férié travaillé",E13="travail"),I13-G13+IF(G13>I13,1),INDEX('bases de donnée'!$E$20:'bases de donnée'!$E$32,MATCH(E13,gerald2,0))) -> 0.3 | M13: =IF(SUM(L13-'bases de donnée'!E$4)<0,0,SUM(L13-'bases de donnée'!E$4)) -> 0 | N13: 0 | O13: =J13 -> 0.3 | P13: =SUM(Q13:Q19) -> 5 | Q13: =IF(AND(G13<>"",I13<>""),1,0+OR(N(I12)<N(G12),E13="récupération",E13="congé 1 jour",E13="congé 1/2 jour ",E13="congé 5h24",E13="arrêt maladie",E13="arrêt travail",E13="férié ",E13="congé parentale",E13="congé de naissance")) -> 1 | S13: =IF(SUM(MOD(I13-G13,1)-IF(I13>G13,MAX(0,MIN(I13,'bases de donnée'!E$16/24)-MAX('planning '!G13,7/24)),MAX(0,'bases de donnée'!E$16/24-MAX('planning '!G13,7/24))+MAX(0,MIN('planning '!I13,'bases de donnée'!E$16/24)-7/24)))<0,0,SUM(MOD('planning '!I13-'planning '!G13,1)-IF('planning '!I13>'planning '!G13,MAX(0,MIN('planning '!I13,'bases de donnée'!E$16/24)-MAX('planning '!G13,7/24)),MAX(0,'bases de donnée'!E$16/24-MAX('planning '!G13,7/24))+MAX(0,MIN('planning '!I13,'bases de donnée'!E$16/24)-7/24)))) -> 0 | U13: =IF(E13<>"travail",IF(E13="férié travaillé",MOD(I13-G13,1)-H13,"00:00"),"00:00") -> 00:00 | X13: =S13 -> 0 | Z13: =IF(SUM(U13-X13)<0,0,SUM(U13-X13)) -> 0 | AA13: =IF(SUM(V13-X13-Z13)<0,0,SUM(V13-X13-Z13)) -> 0 | AD13: =IF(SUM(U13-Z13)<0,0,SUM(U13-Z13)) -> 0 | AE13: =IF(SUM(V13-AA13)<0,0,SUM(V13-AA13)) -> 0
B14: =B$6+1 -> 1 | C14: mardi | D14: =D13+1 -> 42011 | E14: récupération | J14: =IF(OR(E14="férié travaillé",E14="travail"),(I14-G14+IF(G14>I14,1)-H14),INDEX('bases de donnée'!$E$20:'bases de donnée'!$E$32,MATCH(E14,gerald2,0))) -> 0.3 | K14: =IF(SUM(J14-'bases de donnée'!E$7)<0,0,SUM(J14-'bases de donnée'!E$7)) -> 0 | L14: =IF(OR(E14="férié travaillé",E14="travail"),I14-G14+IF(G14>I14,1),INDEX('bases de donnée'!$E$20:'bases de donnée'!$E$32,MATCH(E14,gerald2,0))) -> 0.3 | M14: =IF(SUM(L14-'bases de donnée'!E$4)<0,0,SUM(L14-'bases de donnée'!E$4)) -> 0 | N14: 0 | O14: =O13+J14 -> 0.6 | P14: =IF(SUM(P13-'bases de donnée'!E$6)<0,0,SUM(P13-'bases de donnée'!E$6)) -> 0 | Q14: =IF(AND(G14<>"",I14<>""),1,0+OR(N(I13)<N(G13),E14="récupération",E14="congé 1 jour",E14="congé 1/2 jour ",E14="congé 5h24",E14="arrêt maladie",E14="arrêt travail",E14="férié ",E14="congé parentale",E14="congé de naissance")) -> 1 | S14: =IF(SUM(MOD(I14-G14,1)-IF(I14>G14,MAX(0,MIN(I14,'bases de donnée'!E$16/24)-MAX('planning '!G14,7/24)),MAX(0,'bases de donnée'!E$16/24-MAX('planning '!G14,7/24))+MAX(0,MIN('planning '!I14,'bases de donnée'!E$16/24)-7/24)))<0,0,SUM(MOD('planning '!I14-'planning '!G14,1)-IF('planning '!I14>'planning '!G14,MAX(0,MIN('planning '!I14,'bases de donnée'!E$16/24)-MAX('planning '!G14,7/24)),MAX(0,'bases de donnée'!E$16/24-MAX('planning '!G14,7/24))+MAX(0,MIN('planning '!I14,'bases de donnée'!E$16/24)-7/24)))) -> 0 | U14: =IF(E14<>"travail",IF(E14="férié travaillé",MOD(I14-G14,1)-H14,"00:00"),"00:00") -> 00:00 | V14: =IF(SUM(IF(O14>('bases de donnée'!E$9*1),O14-('bases de donnée'!E$9*1),0)-V13)<0,0,SUM(IF(O14>('bases de donnée'!E$9*1),O14-('bases de donnée'!E$9*1),0)-V13)) -> 0 | X14: =S14 -> 0 | Z14: =IF(SUM(U14-X14)<0,0,SUM(U14-X14)) -> 0 | AA14: =IF(SUM(V14-X14-Z14)<0,0,SUM(V14-X14-Z14)) -> 0 | AD14: =IF(SUM(U14-Z14)<0,0,SUM(U14-Z14)) -> 0 | AE14: =IF(SUM(V14-AA14)<0,0,SUM(V14-AA14)) -> 0
C15: mercredi | D15: =D14+1 -> 42012 | E15: récupération | J15: =IF(OR(E15="férié travaillé",E15="travail"),(I15-G15+IF(G15>I15,1)-H15),INDEX('bases de donnée'!$E$20:'bases de donnée'!$E$32,MATCH(E15,gerald2,0))) -> 0.3 | K15: =IF(SUM(J15-'bases de donnée'!E$7)<0,0,SUM(J15-'bases de donnée'!E$7)) -> 0 | L15: =IF(OR(E15="férié travaillé",E15="travail"),I15-G15+IF(G15>I15,1),INDEX('bases de donnée'!$E$20:'bases de donnée'!$E$32,MATCH(E15,gerald2,0))) -> 0.3 | M15: =IF(SUM(L15-'bases de donnée'!E$4)<0,0,SUM(L15-'bases de donnée'!E$4)) -> 0 | N15: 0 | O15: =O14+J15 -> 0.9 | P15: H semaine | Q15: =IF(AND(G15<>"",I15<>""),1,0+OR(N(I14)<N(G14),E15="récupération",E15="congé 1 jour",E15="congé 1/2 jour ",E15="congé 5h24",E15="arrêt maladie",E15="arrêt travail",E15="férié ",E15="congé parentale",E15="congé de naissance")) -> 1 | S15: =IF(SUM(MOD(I15-G15,1)-IF(I15>G15,MAX(0,MIN(I15,'bases de donnée'!E$16/24)-MAX('planning '!G15,7/24)),MAX(0,'bases de donnée'!E$16/24-MAX('planning '!G15,7/24))+MAX(0,MIN('planning '!I15,'bases de donnée'!E$16/24)-7/24)))<0,0,SUM(MOD('planning '!I15-'planning '!G15,1)-IF('planning '!I15>'planning '!G15,MAX(0,MIN('planning '!I15,'bases de donnée'!E$16/24)-MAX('planning '!G15,7/24)),MAX(0,'bases de donnée'!E$16/24-MAX('planning '!G15,7/24))+MAX(0,MIN('planning '!I15,'bases de donnée'!E$16/24)-7/24)))) -> 0 | U15: =IF(E15<>"travail",IF(E15="férié travaillé",MOD(I15-G15,1)-H15,"00:00"),"00:00") -> 00:00 | V15: =IF(SUM(IF(O15>("36:00"*1),O15-("36:00"*1),0)-V13-V14)<0,0,SUM(IF(O15>("36:00"*1),O15-("36:00"*1),0)-V13-V14)) -> 0 | X15: =S15 -> 0 | Z15: =IF(SUM(U15-X15)<0,0,SUM(U15-X15)) -> 0 | AA15: =IF(SUM(V15-X15-Z15)<0,0,SUM(V15-X15-Z15)) -> 0 | AD15: =IF(SUM(U15-Z15)<0,0,SUM(U15-Z15)) -> 0 | AE15: =IF(SUM(V15-AA15)<0,0,SUM(V15-AA15)) -> 0
C16: jeudi | D16: =D15+1 -> 42013 | E16: récupération | J16: =IF(OR(E16="férié travaillé",E16="travail"),(I16-G16+IF(G16>I16,1)-H16),INDEX('bases de donnée'!$E$20:'bases de donnée'!$E$32,MATCH(E16,gerald2,0))) -> 0.3 | K16: =IF(SUM(J16-'bases de donnée'!E$7)<0,0,SUM(J16-'bases de donnée'!E$7)) -> 0 | L16: =IF(OR(E16="férié travaillé",E16="travail"),I16-G16+IF(G16>I16,1),INDEX('bases de donnée'!$E$20:'bases de donnée'!$E$32,MATCH(E16,gerald2,0))) -> 0.3 | M16: =IF(SUM(L16-'bases de donnée'!E$4)<0,0,SUM(L16-'bases de donnée'!E$4)) -> 0 | N16: 0 | O16: =O15+J16 -> 1.2 | P16: =O19 -> 1.5 | Q16: =IF(AND(G16<>"",I16<>""),1,0+OR(N(I15)<N(G15),E16="récupération",E16="congé 1 jour",E16="congé 1/2 jour ",E16="congé 5h24",E16="arrêt maladie",E16="arrêt travail",E16="férié ",E16="congé parentale",E16="congé de naissance")) -> 1 | S16: =IF(SUM(MOD(I16-G16,1)-IF(I16>G16,MAX(0,MIN(I16,'bases de donnée'!E$16/24)-MAX('planning '!G16,7/24)),MAX(0,'bases de donnée'!E$16/24-MAX('planning '!G16,7/24))+MAX(0,MIN('planning '!I16,'bases de donnée'!E$16/24)-7/24)))<0,0,SUM(MOD('planning '!I16-'planning '!G16,1)-IF('planning '!I16>'planning '!G16,MAX(0,MIN('planning '!I16,'bases de donnée'!E$16/24)-MAX('planning '!G16,7/24)),MAX(0,'bases de donnée'!E$16/24-MAX('planning '!G16,7/24))+MAX(0,MIN('planning '!I16,'bases de donnée'!E$16/24)-7/24)))) -> 0 | U16: =IF(E16<>"travail",IF(E16="férié travaillé",MOD(I16-G16,1)-H16,"00:00"),"00:00") -> 00:00 | V16: =IF(SUM(IF(O16>("36:00"*1),O16-("36:00"*1),0)-V14-V15)<0,0,SUM(IF(O16>("36:00"*1),O16-("36:00"*1),0)-V13-V14-V15)) -> 0 | X16: =S16 -> 0 | Z16: =IF(SUM(U16-X16)<0,0,SUM(U16-X16)) -> 0 | AA16: =IF(SUM(V16-X16-Z16)<0,0,SUM(V16-X16-Z16)) -> 0 | AD16: =IF(SUM(U16-Z16)<0,0,SUM(U16-Z16)) -> 0 | AE16: =IF(SUM(V16-AA16)<0,0,SUM(V16-AA16)) -> 0
C17: vendredi | D17: =D16+1 -> 42014 | E17: récupération | J17: =IF(OR(E17="férié travaillé",E17="travail"),(I17-G17+IF(G17>I17,1)-H17),INDEX('bases de donnée'!$E$20:'bases de donnée'!$E$32,MATCH(E17,gerald2,0))) -> 0.3 | K17: =IF(SUM(J17-'bases de donnée'!E$7)<0,0,SUM(J17-'bases de donnée'!E$7)) -> 0 | L17: =IF(OR(E17="férié travaillé",E17="travail"),I17-G17+IF(G17>I17,1),INDEX('bases de donnée'!$E$20:'bases de donnée'!$E$32,MATCH(E17,gerald2,0))) -> 0.3 | M17: =IF(SUM(L17-'bases de donnée'!E$4)<0,0,SUM(L17-'bases de donnée'!E$4)) -> 0 | N17: 0 | O17: =O16+J17 -> 1.5 | P17: HS hc de | Q17: =IF(AND(G17<>"",I17<>""),1,0+OR(N(I16)<N(G16),E17="récupération",E17="congé 1 jour",E17="congé 1/2 jour ",E17="congé 5h24",E17="arrêt maladie",E17="arrêt travail",E17="férié ",E17="congé parentale",E17="congé de naissance")) -> 1 | S17: =IF(SUM(MOD(I17-G17,1)-IF(I17>G17,MAX(0,MIN(I17,'bases de donnée'!E$16/24)-MAX('planning '!G17,7/24)),MAX(0,'bases de donnée'!E$16/24-MAX('planning '!G17,7/24))+MAX(0,MIN('planning '!I17,'bases de donnée'!E$16/24)-7/24)))<0,0,SUM(MOD('planning '!I17-'planning '!G17,1)-IF('planning '!I17>'planning '!G17,MAX(0,MIN('planning '!I17,'bases de donnée'!E$16/24)-MAX('planning '!G17,7/24)),MAX(0,'bases de donnée'!E$16/24-MAX('planning '!G17,7/24))+MAX(0,MIN('planning '!I17,'bases de donnée'!E$16/24)-7/24)))) -> 0 | U17: =IF(E17<>"travail",IF(E17="férié travaillé",MOD(I17-G17,1)-H17,"00:00"),"00:00") -> 00:00 | V17: =IF(SUM(IF(O17>("36:00"*1),O17-("36:00"*1),0)-V15-V16)<0,0,SUM(IF(O17>("36:00"*1),O17-("36:00"*1),0)-V13-V14-V15-V16)) -> 0 | X17: =S17 -> 0 | Z17: =IF(SUM(U17-X17)<0,0,SUM(U17-X17)) -> 0 | AA17: =IF(SUM(V17-X17-Z17)<0,0,SUM(V17-X17-Z17)) -> 0 | AD17: =IF(SUM(U17-Z17)<0,0,SUM(U17-Z17)) -> 0 | AE17: =IF(SUM(V17-AA17)<0,0,SUM(V17-AA17)) -> 0
C18: samedi | D18: =D17+1 -> 42015 | E18: off | J18: =IF(OR(E18="férié travaillé",E18="travail"),(I18-G18+IF(G18>I18,1)-H18),INDEX('bases de donnée'!$E$20:'bases de donnée'!$E$32,MATCH(E18,gerald2,0))) -> 0 | K18: =IF(SUM(J18-'bases de donnée'!E$7)<0,0,SUM(J18-'bases de donnée'!E$7)) -> 0 | L18: =IF(OR(E18="férié travaillé",E18="travail"),I18-G18+IF(G18>I18,1),INDEX('bases de donnée'!$E$20:'bases de donnée'!$E$32,MATCH(E18,gerald2,0))) -> 0 | M18: =IF(SUM(L18-'bases de donnée'!E$4)<0,0,SUM(L18-'bases de donnée'!E$4)) -> 0 | N18: 0 | O18: =O17+J18 -> 1.5 | P18: ='bases de donnée'!E$10 -> 2 | Q18: =IF(AND(G18<>"",I18<>""),1,0+OR(N(I17)<N(G17),E18="récupération",E18="congé 1 jour",E18="congé 1/2 jour ",E18="congé 5h24",E18="arrêt maladie",E18="arrêt travail",E18="férié ",E18="congé parentale",E18="congé de naissance")) -> 0 | S18: =IF(SUM(MOD(I18-G18,1)-IF(I18>G18,MAX(0,MIN(I18,'bases de donnée'!E$16/24)-MAX('planning '!G18,7/24)),MAX(0,'bases de donnée'!E$16/24-MAX('planning '!G18,7/24))+MAX(0,MIN('planning '!I18,'bases de donnée'!E$16/24)-7/24)))<0,0,SUM(MOD('planning '!I18-'planning '!G18,1)-IF('planning '!I18>'planning '!G18,MAX(0,MIN('planning '!I18,'bases de donnée'!E$16/24)-MAX('planning '!G18,7/24)),MAX(0,'bases de donnée'!E$16/24-MAX('planning '!G18,7/24))+MAX(0,MIN('planning '!I18,'bases de donnée'!E$16/24)-7/24)))) -> 0 | U18: =IF(E18<>"travail",IF(E18="férié travaillé",MOD(I18-G18,1)-H18,"00:00"),"00:00") -> 00:00 | V18: =IF(SUM(IF(O18>("36:00"*1),O18-("36:00"*1),0)-V16-V17)<0,0,SUM(IF(O18>("36:00"*1),O18-("36:00"*1),0)-V13-V14-V15-V16-V17)) -> 0 | X18: =S18 -> 0 | Z18: =IF(SUM(U18-X18)<0,0,SUM(U18-X18)) -> 0 | AA18: =IF(SUM(V18-X18-Z18)<0,0,SUM(V18-X18-Z18)) -> 0 | AD18: =IF(SUM(U18-Z18)<0,0,SUM(U18-Z18)) -> 0 | AE18: =IF(SUM(V18-AA18)<0,0,SUM(V18-AA18)) -> 0
C19: dimanche | D19: =D18+1 -> 42016 | E19: off | J19: =IF(OR(E19="férié travaillé",E19="travail"),(I19-G19+IF(G19>I19,1)-H19),INDEX('bases de donnée'!$E$20:'bases de donnée'!$E$32,MATCH(E19,gerald2,0))) -> 0 | K19: =IF(SUM(J19-'bases de donnée'!E$7)<0,0,SUM(J19-'bases de donnée'!E$7)) -> 0 | L19: =IF(OR(E19="férié travaillé",E19="travail"),I19-G19+IF(G19>I19,1),INDEX('bases de donnée'!$E$20:'bases de donnée'!$E$32,MATCH(E19,gerald2,0))) -> 0 | M19: =IF(SUM(L19-'bases de donnée'!E$4)<0,0,SUM(L19-'bases de donnée'!E$4)) -> 0 | N19: 0 | O19: =O18+J19 -> 1.5 | P19: =IF(SUM(O19-'bases de donnée'!E$10)<0,0,SUM(O19-'bases de donnée'!E$10)) -> 0 | Q19: =IF(AND(G19<>"",I19<>""),1,0+OR(N(I18)<N(G18),E19="récupération",E19="congé 1 jour",E19="congé 1/2 jour ",E19="congé 5h24",E19="arrêt maladie",E19="arrêt travail",E19="férié ",E19="congé parentale",E19="congé de naissance")) -> 0 | S19: =IF(SUM(MOD(I19-G19,1)-IF(I19>G19,MAX(0,MIN(I19,'bases de donnée'!E$16/24)-MAX('planning '!G19,7/24)),MAX(0,'bases de donnée'!E$16/24-MAX('planning '!G19,7/24))+MAX(0,MIN('planning '!I19,'bases de donnée'!E$16/24)-7/24)))<0,0,SUM(MOD('planning '!I19-'planning '!G19,1)-IF('planning '!I19>'planning '!G19,MAX(0,MIN('planning '!I19,'bases de donnée'!E$16/24)-MAX('planning '!G19,7/24)),MAX(0,'bases de donnée'!E$16/24-MAX('planning '!G19,7/24))+MAX(0,MIN('planning '!I19,'bases de donnée'!E$16/24)-7/24)))) -> 0 | T19: =J19 -> 0 | U19: =IF(E19<>"travail",IF(E19="férié travaillé",MOD(I19-G19,1)-H19,"00:00"),"00:00") -> 00:00 | V19: =IF(SUM(IF(O19>("36:00"*1),O19-("36:00"*1),0)-V17-V18)<0,0,SUM(IF(O19>("36:00"*1),O19-("36:00"*1),0)-V13-V14-V15-V16-V17-V18)) -> 0 | X19: =S19 -> 0 | Y19: =IF(SUM(T19-S19)<0,0,SUM(T19-S19)) -> 0 | Z19: =IF(SUM(U19-T19-S19)<0,0,SUM(U19-T19-S19)) -> 0 | AA19: =IF(SUM(V19-S19-T19-U19)<0,0,SUM(V19-S19-T19-U19)) -> 0 | AC19: =IF(SUM(T19-Y19)<0,0,SUM(T19-Y19)) -> 0 | AD19: =IF(SUM(U19-Z19)<0,0,SUM(U19-Z19)) -> 0 | AE19: =IF(SUM(V19-AA19)<0,0,SUM(V19-AA19)) -> 0
B21: semaine | C21: lundi | D21: =D19+1 -> 42017 | E21: travail | G21: 0.375 | H21: 0.03125 | I21: 0.70833333 | J21: =IF(OR(E21="férié travaillé",E21="travail"),(I21-G21+IF(G21>I21,1)-H21),INDEX('bases de donnée'!$E$20:'bases de donnée'!$E$32,MATCH(E21,gerald2,0))) -> 0.30208333 | K21: =IF(SUM(J21-'bases de donnée'!E$7)<0,0,SUM(J21-'bases de donnée'!E$7)) -> 0 | L21: =IF(OR(E21="férié travaillé",E21="travail"),I21-G21+IF(G21>I21,1),INDEX('bases de donnée'!$E$20:'bases de donnée'!$E$32,MATCH(E21,gerald2,0))) -> 0.33333333 | M21: =IF(SUM(L21-'bases de donnée'!E$4)<0,0,SUM(L21-'bases de donnée'!E$4)) -> 0 | N21: 0 | O21: =J21 -> 0.30208333 | P21: =SUM(Q21:Q27) -> 5 | Q21: =IF(AND(G21<>"",I21<>""),1,0+OR(N(I20)<N(G20),E21="récupération",E21="congé 1 jour",E21="congé 1/2 jour ",E21="congé 5h24",E21="arrêt maladie",E21="arrêt travail",E21="férié ",E21="congé parentale",E21="congé de naissance")) -> 1 | S21: =IF(SUM(MOD(I21-G21,1)-IF(I21>G21,MAX(0,MIN(I21,'bases de donnée'!E$16/24)-MAX('planning '!G21,7/24)),MAX(0,'bases de donnée'!E$16/24-MAX('planning '!G21,7/24))+MAX(0,MIN('planning '!I21,'bases de donnée'!E$16/24)-7/24)))<0,0,SUM(MOD('planning '!I21-'planning '!G21,1)-IF('planning '!I21>'planning '!G21,MAX(0,MIN('planning '!I21,'bases de donnée'!E$16/24)-MAX('planning '!G21,7/24)),MAX(0,'bases de donnée'!E$16/24-MAX('planning '!G21,7/24))+MAX(0,MIN('planning '!I21,'bases de donnée'!E$16/24)-7/24)))) -> 0 | U21: =IF(E21<>"travail",IF(E21="férié travaillé",MOD(I21-G21,1)-H21,"00:00"),"00:00") -> 00:00 | X21: =S21 -> 0 | Z21: =IF(SUM(U21-X21)<0,0,SUM(U21-X21)) -> 0 | AA21: =IF(SUM(V21-X21-Z21)<0,0,SUM(V21-X21-Z21)) -> 0 | AD21: =IF(SUM(U21-Z21)<0,0,SUM(U21-Z21)) -> 0 | AE21: =IF(SUM(V21-AA21)<0,0,SUM(V21-AA21)) -> 0
B22: =B14+1 -> 2 | C22: mardi | D22: =D21+1 -> 42018 | E22: travail | G22: 0.36458333 | I22: 0.52083333 | J22: =IF(OR(E22="férié travaillé",E22="travail"),(I22-G22+IF(G22>I22,1)-H22),INDEX('bases de donnée'!$E$20:'bases de donnée'!$E$32,MATCH(E22,gerald2,0))) -> 0.15625 | K22: =IF(SUM(J22-'bases de donnée'!E$7)<0,0,SUM(J22-'bases de donnée'!E$7)) -> 0 | L22: =IF(OR(E22="férié travaillé",E22="travail"),I22-G22+IF(G22>I22,1),INDEX('bases de donnée'!$E$20:'bases de donnée'!$E$32,MATCH(E22,gerald2,0))) -> 0.15625 | M22: =IF(SUM(L22-'bases de donnée'!E$4)<0,0,SUM(L22-'bases de donnée'!E$4)) -> 0 | N22: 0 | O22: =O21+J22 -> 0.45833333 | P22: =IF(SUM(P21-'bases de donnée'!E$6)<0,0,SUM(P21-'bases de donnée'!E$6)) -> 0 | Q22: =IF(AND(G22<>"",I22<>""),1,0+OR(N(I21)<N(G21),E22="récupération",E22="congé 1 jour",E22="congé 1/2 jour ",E22="congé 5h24",E22="arrêt maladie",E22="arrêt travail",E22="férié ",E22="congé parentale",E22="congé de naissance")) -> 1 | S22: =IF(SUM(MOD(I22-G22,1)-IF(I22>G22,MAX(0,MIN(I22,'bases de donnée'!E$16/24)-MAX('planning '!G22,7/24)),MAX(0,'bases de donnée'!E$16/24-MAX('planning '!G22,7/24))+MAX(0,MIN('planning '!I22,'bases de donnée'!E$16/24)-7/24)))<0,0,SUM(MOD('planning '!I22-'planning '!G22,1)-IF('planning '!I22>'planning '!G22,MAX(0,MIN('planning '!I22,'bases de donnée'!E$16/24)-MAX('planning '!G22,7/24)),MAX(0,'bases de donnée'!E$16/24-MAX('planning '!G22,7/24))+MAX(0,MIN('planning '!I22,'bases de donnée'!E$16/24)-7/24)))) -> 0 | U22: =IF(E22<>"travail",IF(E22="férié travaillé",MOD(I22-G22,1)-H22,"00:00"),"00:00") -> 00:00 | V22: =IF(SUM(IF(O22>('bases de donnée'!E$9*1),O22-('bases de donnée'!E$9*1),0)-V21)<0,0,SUM(IF(O22>('bases de donnée'!E$9*1),O22-('bases de donnée'!E$9*1),0)-V21)) -> 0 | X22: =S22 -> 0 | Z22: =IF(SUM(U22-X22)<0,0,SUM(U22-X22)) -> 0 | AA22: =IF(SUM(V22-X22-Z22)<0,0,SUM(V22-X22-Z22)) -> 0 | AD22: =IF(SUM(U22-Z22)<0,0,SUM(U22-Z22)) -> 0 | AE22: =IF(SUM(V22-AA22)<0,0,SUM(V22-AA22)) -> 0
C23: mercredi | D23: =D22+1 -> 42019 | E23: off | J23: =IF(OR(E23="férié travaillé",E23="travail"),(I23-G23+IF(G23>I23,1)-H23),INDEX('bases de donnée'!$E$20:'bases de donnée'!$E$32,MATCH(E23,gerald2,0))) -> 0 | K23: =IF(SUM(J23-'bases de donnée'!E$7)<0,0,SUM(J23-'bases de donnée'!E$7)) -> 0 | L23: =IF(OR(E23="férié travaillé",E23="travail"),I23-G23+IF(G23>I23,1),INDEX('bases de donnée'!$E$20:'bases de donnée'!$E$32,MATCH(E23,gerald2,0))) -> 0 | M23: =IF(SUM(L23-'bases de donnée'!E$4)<0,0,SUM(L23-'bases de donnée'!E$4)) -> 0 | N23: 0 | O23: =O22+J23 -> 0.45833333 | P23: H semaine | Q23: =IF(AND(G23<>"",I23<>""),1,0+OR(N(I22)<N(G22),E23="récupération",E23="congé 1 jour",E23="congé 1/2 jour ",E23="congé 5h24",E23="arrêt maladie",E23="arrêt travail",E23="férié ",E23="congé parentale",E23="congé de naissance")) -> 0 | S23: =IF(SUM(MOD(I23-G23,1)-IF(I23>G23,MAX(0,MIN(I23,'bases de donnée'!E$16/24)-MAX('planning '!G23,7/24)),MAX(0,'bases de donnée'!E$16/24-MAX('planning '!G23,7/24))+MAX(0,MIN('planning '!I23,'bases de donnée'!E$16/24)-7/24)))<0,0,SUM(MOD('planning '!I23-'planning '!G23,1)-IF('planning '!I23>'planning '!G23,MAX(0,MIN('planning '!I23,'bases de donnée'!E$16/24)-MAX('planning '!G23,7/24)),MAX(0,'bases de donnée'!E$16/24-MAX('planning '!G23,7/24))+MAX(0,MIN('planning '!I23,'bases de donnée'!E$16/24)-7/24)))) -> 0 | U23: =IF(E23<>"travail",IF(E23="férié travaillé",MOD(I23-G23,1)-H23,"00:00"),"00:00") -> 00:00 | V23: =IF(SUM(IF(O23>("36:00"*1),O23-("36:00"*1),0)-V21-V22)<0,0,SUM(IF(O23>("36:00"*1),O23-("36:00"*1),0)-V21-V22)) -> 0 | X23: =S23 -> 0 | Z23: =IF(SUM(U23-X23)<0,0,SUM(U23-X23)) -> 0 | AA23: =IF(SUM(V23-X23-Z23)<0,0,SUM(V23-X23-Z23)) -> 0 | AD23: =IF(SUM(U23-Z23)<0,0,SUM(U23-Z23)) -> 0 | AE23: =IF(SUM(V23-AA23)<0,0,SUM(V23-AA23)) -> 0
C24: jeudi | D24: =D23+1 -> 42020 | E24: travail | G24: 0.39583333 | H24: 0.03125 | I24: 0.6875 | J24: =IF(OR(E24="férié travaillé",E24="travail"),(I24-G24+IF(G24>I24,1)-H24),INDEX('bases de donnée'!$E$20:'bases de donnée'!$E$32,MATCH(E24,gerald2,0))) -> 0.26041667 | K24: =IF(SUM(J24-'bases de donnée'!E$7)<0,0,SUM(J24-'bases de donnée'!E$7)) -> 0 | L24: =IF(OR(E24="férié travaillé",E24="travail"),I24-G24+IF(G24>I24,1),INDEX('bases de donnée'!$E$20:'bases de donnée'!$E$32,MATCH(E24,gerald2,0))) -> 0.29166667 | M24: =IF(SUM(L24-'bases de donnée'!E$4)<0,0,SUM(L24-'bases de donnée'!E$4)) -> 0 | N24: 0 | O24: =O23+J24 -> 0.71875 | P24: =O27 -> 1.1458333 | Q24: =IF(AND(G24<>"",I24<>""),1,0+OR(N(I23)<N(G23),E24="récupération",E24="congé 1 jour",E24="congé 1/2 jour ",E24="congé 5h24",E24="arrêt maladie",E24="arrêt travail",E24="férié ",E24="congé parentale",E24="congé de naissance")) -> 1 | S24: =IF(SUM(MOD(I24-G24,1)-IF(I24>G24,MAX(0,MIN(I24,'bases de donnée'!E$16/24)-MAX('planning '!G24,7/24)),MAX(0,'bases de donnée'!E$16/24-MAX('planning '!G24,7/24))+MAX(0,MIN('planning '!I24,'bases de donnée'!E$16/24)-7/24)))<0,0,SUM(MOD('planning '!I24-'planning '!G24,1)-IF('planning '!I24>'planning '!G24,MAX(0,MIN('planning '!I24,'bases de donnée'!E$16/24)-MAX('planning '!G24,7/24)),MAX(0,'bases de donnée'!E$16/24-MAX('planning '!G24,7/24))+MAX(0,MIN('planning '!I24,'bases de donnée'!E$16/24)-7/24)))) -> 0 | U24: =IF(E24<>"travail",IF(E24="férié travaillé",MOD(I24-G24,1)-H24,"00:00"),"00:00") -> 00:00 | V24: =IF(SUM(IF(O24>("36:00"*1),O24-("36:00"*1),0)-V22-V23)<0,0,SUM(IF(O24>("36:00"*1),O24-("36:00"*1),0)-V21-V22-V23)) -> 0 | X24: =S24 -> 0 | Z24: =IF(SUM(U24-X24)<0,0,SUM(U24-X24)) -> 0 | AA24: =IF(SUM(V24-X24-Z24)<0,0,SUM(V24-X24-Z24)) -> 0 | AD24: =IF(SUM(U24-Z24)<0,0,SUM(U24-Z24)) -> 0 | AE24: =IF(SUM(V24-AA24)<0,0,SUM(V24-AA24)) -> 0
C25: vendredi | D25: =D24+1 -> 42021 | E25: travail | G25: 0.66666667 | H25: 0.03125 | I25: 0.125 | J25: =IF(OR(E25="férié travaillé",E25="travail"),(I25-G25+IF(G25>I25,1)-H25),INDEX('bases de donnée'!$E$20:'bases de donnée'!$E$32,MATCH(E25,gerald2,0))) -> 0.42708333 | K25: =IF(SUM(J25-'bases de donnée'!E$7)<0,0,SUM(J25-'bases de donnée'!E$7)) -> 0.010416667 | L25: =IF(OR(E25="férié travaillé",E25="travail"),I25-G25+IF(G25>I25,1),INDEX('bases de donnée'!$E$20:'bases de donnée'!$E$32,MATCH(E25,gerald2,0))) -> 0.45833333 | M25: =IF(SUM(L25-'bases de donnée'!E$4)<0,0,SUM(L25-'bases de donnée'!E$4)) -> 0 | N25: 0 | O25: =O24+J25 -> 1.1458333 | P25: HS hc de | Q25: =IF(AND(G25<>"",I25<>""),1,0+OR(N(I24)<N(G24),E25="récupération",E25="congé 1 jour",E25="congé 1/2 jour ",E25="congé 5h24",E25="arrêt maladie",E25="arrêt travail",E25="férié ",E25="congé parentale",E25="congé de naissance")) -> 1 | S25: =IF(SUM(MOD(I25-G25,1)-IF(I25>G25,MAX(0,MIN(I25,'bases de donnée'!E$16/24)-MAX('planning '!G25,7/24)),MAX(0,'bases de donnée'!E$16/24-MAX('planning '!G25,7/24))+MAX(0,MIN('planning '!I25,'bases de donnée'!E$16/24)-7/24)))<0,0,SUM(MOD('planning '!I25-'planning '!G25,1)-IF('planning '!I25>'planning '!G25,MAX(0,MIN('planning '!I25,'bases de donnée'!E$16/24)-MAX('planning '!G25,7/24)),MAX(0,'bases de donnée'!E$16/24-MAX('planning '!G25,7/24))+MAX(0,MIN('planning '!I25,'bases de donnée'!E$16/24)-7/24)))) -> 0.25 | U25: =IF(E25<>"travail",IF(E25="férié travaillé",MOD(I25-G25,1)-H25,"00:00"),"00:00") -> 00:00 | V25: =IF(SUM(IF(O25>("36:00"*1),O25-("36:00"*1),0)-V23-V24)<0,0,SUM(IF(O25>("36:00"*1),O25-("36:00"*1),0)-V21-V22-V23-V24)) -> 0 | X25: =S25 -> 0.25 | Z25: =IF(SUM(U25-X25)<0,0,SUM(U25-X25)) -> 0 | AA25: =IF(SUM(V25-X25-Z25)<0,0,SUM(V25-X25-Z25)) -> 0 | AD25: =IF(SUM(U25-Z25)<0,0,SUM(U25-Z25)) -> 0 | AE25: =IF(SUM(V25-AA25)<0,0,SUM(V25-AA25)) -> 0
C26: samedi | D26: =D25+1 -> 42022 | E26: off | J26: =IF(OR(E26="férié travaillé",E26="travail"),(I26-G26+IF(G26>I26,1)-H26),INDEX('bases de donnée'!$E$20:'bases de donnée'!$E$32,MATCH(E26,gerald2,0))) -> 0 | K26: =IF(SUM(J26-'bases de donnée'!E$7)<0,0,SUM(J26-'bases de donnée'!E$7)) -> 0 | L26: =IF(OR(E26="férié travaillé",E26="travail"),I26-G26+IF(G26>I26,1),INDEX('bases de donnée'!$E$20:'bases de donnée'!$E$32,MATCH(E26,gerald2,0))) -> 0 | M26: =IF(SUM(L26-'bases de donnée'!E$4)<0,0,SUM(L26-'bases de donnée'!E$4)) -> 0 | N26: 0 | O26: =O25+J26 -> 1.1458333 | P26: ='bases de donnée'!E$10 -> 2 | Q26: =IF(AND(G26<>"",I26<>""),1,0+OR(N(I25)<N(G25),E26="récupération",E26="congé 1 jour",E26="congé 1/2 jour ",E26="congé 5h24",E26="arrêt maladie",E26="arrêt travail",E26="férié ",E26="congé parentale",E26="congé de naissance")) -> 1 | S26: =IF(SUM(MOD(I26-G26,1)-IF(I26>G26,MAX(0,MIN(I26,'bases de donnée'!E$16/24)-MAX('planning '!G26,7/24)),MAX(0,'bases de donnée'!E$16/24-MAX('planning '!G26,7/24))+MAX(0,MIN('planning '!I26,'bases de donnée'!E$16/24)-7/24)))<0,0,SUM(MOD('planning '!I26-'planning '!G26,1)-IF('planning '!I26>'planning '!G26,MAX(0,MIN('planning '!I26,'bases de donnée'!E$16/24)-MAX('planning '!G26,7/24)),MAX(0,'bases de donnée'!E$16/24-MAX('planning '!G26,7/24))+MAX(0,MIN('planning '!I26,'bases de donnée'!E$16/24)-7/24)))) -> 0 | U26: =IF(E26<>"travail",IF(E26="férié travaillé",MOD(I26-G26,1)-H26,"00:00"),"00:00") -> 00:00 | V26: =IF(SUM(IF(O26>("36:00"*1),O26-("36:00"*1),0)-V24-V25)<0,0,SUM(IF(O26>("36:00"*1),O26-("36:00"*1),0)-V21-V22-V23-V24-V25)) -> 0 | X26: =S26 -> 0 | Z26: =IF(SUM(U26-X26)<0,0,SUM(U26-X26)) -> 0 | AA26: =IF(SUM(V26-X26-Z26)<0,0,SUM(V26-X26-Z26)) -> 0 | AD26: =IF(SUM(U26-Z26)<0,0,SUM(U26-Z26)) -> 0 | AE26: =IF(SUM(V26-AA26)<0,0,SUM(V26-AA26)) -> 0
C27: dimanche | D27: =D26+1 -> 42023 | E27: off | J27: =IF(OR(E27="férié travaillé",E27="travail"),(I27-G27+IF(G27>I27,1)-H27),INDEX('bases de donnée'!$E$20:'bases de donnée'!$E$32,MATCH(E27,gerald2,0))) -> 0 | K27: =IF(SUM(J27-'bases de donnée'!E$7)<0,0,SUM(J27-'bases de donnée'!E$7)) -> 0 | L27: =IF(OR(E27="férié travaillé",E27="travail"),I27-G27+IF(G27>I27,1),INDEX('bases de donnée'!$E$20:'bases de donnée'!$E$32,MATCH(E27,gerald2,0))) -> 0 | M27: =IF(SUM(L27-'bases de donnée'!E$4)<0,0,SUM(L27-'bases de donnée'!E$4)) -> 0 | N27: 0 | O27: =O26+J27 -> 1.1458333 | P27: =IF(SUM(O27-'bases de donnée'!E$10)<0,0,SUM(O27-'bases de donnée'!E$10)) -> 0 | Q27: =IF(AND(G27<>"",I27<>""),1,0+OR(N(I26)<N(G26),E27="récupération",E27="congé 1 jour",E27="congé 1/2 jour ",E27="congé 5h24",E27="arrêt maladie",E27="arrêt travail",E27="férié ",E27="congé parentale",E27="congé de naissance")) -> 0 | S27: =IF(SUM(MOD(I27-G27,1)-IF(I27>G27,MAX(0,MIN(I27,'bases de donnée'!E$16/24)-MAX('planning '!G27,7/24)),MAX(0,'bases de donnée'!E$16/24-MAX('planning '!G27,7/24))+MAX(0,MIN('planning '!I27,'bases de donnée'!E$16/24)-7/24)))<0,0,SUM(MOD('planning '!I27-'planning '!G27,1)-IF('planning '!I27>'planning '!G27,MAX(0,MIN('planning '!I27,'bases de donnée'!E$16/24)-MAX('planning '!G27,7/24)),MAX(0,'bases de donnée'!E$16/24-MAX('planning '!G27,7/24))+MAX(0,MIN('planning '!I27,'bases de donnée'!E$16/24)-7/24)))) -> 0 | T27: =J27 -> 0 | U27: =IF(E27<>"travail",IF(E27="férié travaillé",MOD(I27-G27,1)-H27,"00:00"),"00:00") -> 00:00 | V27: =IF(SUM(IF(O27>("36:00"*1),O27-("36:00"*1),0)-V25-V26)<0,0,SUM(IF(O27>("36:00"*1),O27-("36:00"*1),0)-V21-V22-V23-V24-V25-V26)) -> 0 | X27: =S27 -> 0 | Y27: =IF(SUM(T27-S27)<0,0,SUM(T27-S27)) -> 0 | Z27: =IF(SUM(U27-T27-S27)<0,0,SUM(U27-T27-S27)) -> 0 | AA27: =IF(SUM(V27-S27-T27-U27)<0,0,SUM(V27-S27-T27-U27)) -> 0 | AC27: =IF(SUM(T27-Y27)<0,0,SUM(T27-Y27)) -> 0 | AD27: =IF(SUM(U27-Z27)<0,0,SUM(U27-Z27)) -> 0 | AE27: =IF(SUM(V27-AA27)<0,0,SUM(V27-AA27)) -> 0
B29: semaine | C29: lundi | D29: =D27+1 -> 42024 | E29: travail | G29: 0.38541667 | H29: 0.03125 | I29: 0.66666667 | J29: =IF(OR(E29="férié travaillé",E29="travail"),(I29-G29+IF(G29>I29,1)-H29),INDEX('bases de donnée'!$E$20:'bases de donnée'!$E$32,MATCH(E29,gerald2,0))) -> 0.25 | K29: =IF(SUM(J29-'bases de donnée'!E$7)<0,0,SUM(J29-'bases de donnée'!E$7)) -> 0 | L29: =IF(OR(E29="férié travaillé",E29="travail"),I29-G29+IF(G29>I29,1),INDEX('bases de donnée'!$E$20:'bases de donnée'!$E$32,MATCH(E29,gerald2,0))) -> 0.28125 | M29: =IF(SUM(L29-'bases de donnée'!E$4)<0,0,SUM(L29-'bases de donnée'!E$4)) -> 0 | N29: 0 | O29: =J29 -> 0.25 | P29: =SUM(Q29:Q35) -> 4 | Q29: =IF(AND(G29<>"",I29<>""),1,0+OR(N(I28)<N(G28),E29="récupération",E29="congé 1 jour",E29="congé 1/2 jour ",E29="congé 5h24",E29="arrêt maladie",E29="arrêt travail",E29="férié ",E29="congé parentale",E29="congé de naissance")) -> 1 | S29: =IF(SUM(MOD(I29-G29,1)-IF(I29>G29,MAX(0,MIN(I29,'bases de donnée'!E$16/24)-MAX('planning '!G29,7/24)),MAX(0,'bases de donnée'!E$16/24-MAX('planning '!G29,7/24))+MAX(0,MIN('planning '!I29,'bases de donnée'!E$16/24)-7/24)))<0,0,SUM(MOD('planning '!I29-'planning '!G29,1)-IF('planning '!I29>'planning '!G29,MAX(0,MIN('planning '!I29,'bases de donnée'!E$16/24)-MAX('planning '!G29,7/24)),MAX(0,'bases de donnée'!E$16/24-MAX('planning '!G29,7/24))+MAX(0,MIN('planning '!I29,'bases de donnée'!E$16/24)-7/24)))) -> 0 | U29: =IF(E29<>"travail",IF(E29="férié travaillé",MOD(I29-G29,1)-H29,"00:00"),"00:00") -> 00:00 | X29: =S29 -> 0 | Z29: =IF(SUM(U29-X29)<0,0,SUM(U29-X29)) -> 0 | AA29: =IF(SUM(V29-X29-Z29)<0,0,SUM(V29-X29-Z29)) -> 0 | AD29: =IF(SUM(U29-Z29)<0,0,SUM(U29-Z29)) -> 0 | AE29: =IF(SUM(V29-AA29)<0,0,SUM(V29-AA29)) -> 0
B30: =B22+1 -> 3 | C30: mardi | D30: =D29+1 -> 42025 | E30: travail | G30: 0.375 | H30: 0.03125 | I30: 0.67708333 | J30: =IF(OR(E30="férié travaillé",E30="travail"),(I30-G30+IF(G30>I30,1)-H30),INDEX('bases de donnée'!$E$20:'bases de donnée'!$E$32,MATCH(E30,gerald2,0))) -> 0.27083333 | K30: =IF(SUM(J30-'bases de donnée'!E$7)<0,0,SUM(J30-'bases de donnée'!E$7)) -> 0 | L30: =IF(OR(E30="férié travaillé",E30="travail"),I30-G30+IF(G30>I30,1),INDEX('bases de donnée'!$E$20:'bases de donnée'!$E$32,MATCH(E30,gerald2,0))) -> 0.30208333 | M30: =IF(SUM(L30-'bases de donnée'!E$4)<0,0,SUM(L30-'bases de donnée'!E$4)) -> 0 | N30: 0 | O30: =O29+J30 -> 0.52083333 | P30: =IF(SUM(P29-'bases de donnée'!E$6)<0,0,SUM(P29-'bases de donnée'!E$6)) -> 0 | Q30: =IF(AND(G30<>"",I30<>""),1,0+OR(N(I29)<N(G29),E30="récupération",E30="congé 1 jour",E30="congé 1/2 jour ",E30="congé 5h24",E30="arrêt maladie",E30="arrêt travail",E30="férié ",E30="congé parentale",E30="congé de naissance")) -> 1 | S30: =IF(SUM(MOD(I30-G30,1)-IF(I30>G30,MAX(0,MIN(I30,'bases de donnée'!E$16/24)-MAX('planning '!G30,7/24)),MAX(0,'bases de donnée'!E$16/24-MAX('planning '!G30,7/24))+MAX(0,MIN('planning '!I30,'bases de donnée'!E$16/24)-7/24)))<0,0,SUM(MOD('planning '!I30-'planning '!G30,1)-IF('planning '!I30>'planning '!G30,MAX(0,MIN('planning '!I30,'bases de donnée'!E$16/24)-MAX('planning '!G30,7/24)),MAX(0,'bases de donnée'!E$16/24-MAX('planning '!G30,7/24))+MAX(0,MIN('planning '!I30,'bases de donnée'!E$16/24)-7/24)))) -> 0 | U30: =IF(E30<>"travail",IF(E30="férié travaillé",MOD(I30-G30,1)-H30,"00:00"),"00:00") -> 00:00 | V30: =IF(SUM(IF(O30>('bases de donnée'!E$9*1),O30-('bases de donnée'!E$9*1),0)-V29)<0,0,SUM(IF(O30>('bases de donnée'!E$9*1),O30-('bases de donnée'!E$9*1),0)-V29)) -> 0 | X30: =S30 -> 0 | Z30: =IF(SUM(U30-X30)<0,0,SUM(U30-X30)) -> 0 | AA30: =IF(SUM(V30-X30-Z30)<0,0,SUM(V30-X30-Z30)) -> 0 | AD30: =IF(SUM(U30-Z30)<0,0,SUM(U30-Z30)) -> 0 | AE30: =IF(SUM(V30-AA30)<0,0,SUM(V30-AA30)) -> 0
C31: mercredi | D31: =D30+1 -> 42026 | E31: travail | G31: 0.36458333 | I31: 0.47916667 | J31: =IF(OR(E31="férié travaillé",E31="travail"),(I31-G31+IF(G31>I31,1)-H31),INDEX('bases de donnée'!$E$20:'bases de donnée'!$E$32,MATCH(E31,gerald2,0))) -> 0.11458333 | K31: =IF(SUM(J31-'bases de donnée'!E$7)<0,0,SUM(J31-'bases de donnée'!E$7)) -> 0 | L31: =IF(OR(E31="férié travaillé",E31="travail"),I31-G31+IF(G31>I31,1),INDEX('bases de donnée'!$E$20:'bases de donnée'!$E$32,MATCH(E31,gerald2,0))) -> 0.11458333 | M31: =IF(SUM(L31-'bases de donnée'!E$4)<0,0,SUM(L31-'bases de donnée'!E$4)) -> 0 | N31: 0 | O31: =O30+J31 -> 0.63541667 | P31: H semaine | Q31: =IF(AND(G31<>"",I31<>""),1,0+OR(N(I30)<N(G30),E31="récupération",E31="congé 1 jour",E31="congé 1/2 jour ",E31="congé 5h24",E31="arrêt maladie",E31="arrêt travail",E31="férié ",E31="congé parentale",E31="congé de naissance")) -> 1 | S31: =IF(SUM(MOD(I31-G31,1)-IF(I31>G31,MAX(0,MIN(I31,'bases de donnée'!E$16/24)-MAX('planning '!G31,7/24)),MAX(0,'bases de donnée'!E$16/24-MAX('planning '!G31,7/24))+MAX(0,MIN('planning '!I31,'bases de donnée'!E$16/24)-7/24)))<0,0,SUM(MOD('planning '!I31-'planning '!G31,1)-IF('planning '!I31>'planning '!G31,MAX(0,MIN('planning '!I31,'bases de donnée'!E$16/24)-MAX('planning '!G31,7/24)),MAX(0,'bases de donnée'!E$16/24-MAX('planning '!G31,7/24))+MAX(0,MIN('planning '!I31,'bases de donnée'!E$16/24)-7/24)))) -> 0 | U31: =IF(E31<>"travail",IF(E31="férié travaillé",MOD(I31-G31,1)-H31,"00:00"),"00:00") -> 00:00 | V31: =IF(SUM(IF(O31>("36:00"*1),O31-("36:00"*1),0)-V29-V30)<0,0,SUM(IF(O31>("36:00"*1),O31-("36:00"*1),0)-V29-V30)) -> 0 | X31: =S31 -> 0 | Z31: =IF(SUM(U31-X31)<0,0,SUM(U31-X31)) -> 0 | AA31: =IF(SUM(V31-X31-Z31)<0,0,SUM(V31-X31-Z31)) -> 0 | AD31: =IF(SUM(U31-Z31)<0,0,SUM(U31-Z31)) -> 0 | AE31: =IF(SUM(V31-AA31)<0,0,SUM(V31-AA31)) -> 0
C32: jeudi | D32: =D31+1 -> 42027 | E32: travail | G32: 0.58333333 | I32: 1 | J32: =IF(OR(E32="férié travaillé",E32="travail"),(I32-G32+IF(G32>I32,1)-H32),INDEX('bases de donnée'!$E$20:'bases de donnée'!$E$32,MATCH(E32,gerald2,0))) -> 0.41666667 | K32: =IF(SUM(J32-'bases de donnée'!E$7)<0,0,SUM(J32-'bases de donnée'!E$7)) -> 0 | L32: =IF(OR(E32="férié travaillé",E32="travail"),I32-G32+IF(G32>I32,1),INDEX('bases de donnée'!$E$20:'bases de donnée'!$E$32,MATCH(E32,gerald2,0))) -> 0.41666667 | M32: =IF(SUM(L32-'bases de donnée'!E$4)<0,0,SUM(L32-'bases de donnée'!E$4)) -> 0 | N32: 0 | O32: =O31+J32 -> 1.0520833 | P32: =O35 -> 1.0520833 | Q32: =IF(AND(G32<>"",I32<>""),1,0+OR(N(I31)<N(G31),E32="récupération",E32="congé 1 jour",E32="congé 1/2 jour ",E32="congé 5h24",E32="arrêt maladie",E32="arrêt travail",E32="férié ",E32="congé parentale",E32="congé de naissance")) -> 1 | S32: =IF(SUM(MOD(I32-G32,1)-IF(I32>G32,MAX(0,MIN(I32,'bases de donnée'!E$16/24)-MAX('planning '!G32,7/24)),MAX(0,'bases de donnée'!E$16/24-MAX('planning '!G32,7/24))+MAX(0,MIN('planning '!I32,'bases de donnée'!E$16/24)-7/24)))<0,0,SUM(MOD('planning '!I32-'planning '!G32,1)-IF('planning '!I32>'planning '!G32,MAX(0,MIN('planning '!I32,'bases de donnée'!E$16/24)-MAX('planning '!G32,7/24)),MAX(0,'bases de donnée'!E$16/24-MAX('planning '!G32,7/24))+MAX(0,MIN('planning '!I32,'bases de donnée'!E$16/24)-7/24)))) -> 0.125 | U32: =IF(E32<>"travail",IF(E32="férié travaillé",MOD(I32-G32,1)-H32,"00:00"),"00:00") -> 00:00 | V32: =IF(SUM(IF(O32>("36:00"*1),O32-("36:00"*1),0)-V30-V31)<0,0,SUM(IF(O32>("36:00"*1),O32-("36:00"*1),0)-V29-V30-V31)) -> 0 | X32: =S32 -> 0.125 | Z32: =IF(SUM(U32-X32)<0,0,SUM(U32-X32)) -> 0 | AA32: =IF(SUM(V32-X32-Z32)<0,0,SUM(V32-X32-Z32)) -> 0 | AD32: =IF(SUM(U32-Z32)<0,0,SUM(U32-Z32)) -> 0 | AE32: =IF(SUM(V32-AA32)<0,0,SUM(V32-AA32)) -> 0
C33: vendredi | D33: =D32+1 -> 42028 | E33: off | J33: =IF(OR(E33="férié travaillé",E33="travail"),(I33-G33+IF(G33>I33,1)-H33),INDEX('bases de donnée'!$E$20:'bases de donnée'!$E$32,MATCH(E33,gerald2,0))) -> 0 | K33: =IF(SUM(J33-'bases de donnée'!E$7)<0,0,SUM(J33-'bases de donnée'!E$7)) -> 0 | L33: =IF(OR(E33="férié travaillé",E33="travail"),I33-G33+IF(G33>I33,1),INDEX('bases de donnée'!$E$20:'bases de donnée'!$E$32,MATCH(E33,gerald2,0))) -> 0 | M33: =IF(SUM(L33-'bases de donnée'!E$4)<0,0,SUM(L33-'bases de donnée'!E$4)) -> 0 | N33: 0 | O33: =O32+J33 -> 1.0520833 | P33: HS hc de | Q33: =IF(AND(G33<>"",I33<>""),1,0+OR(N(I32)<N(G32),E33="récupération",E33="congé 1 jour",E33="congé 1/2 jour ",E33="congé 5h24",E33="arrêt maladie",E33="arrêt travail",E33="férié ",E33="congé parentale",E33="congé de naissance")) -> 0 | S33: =IF(SUM(MOD(I33-G33,1)-IF(I33>G33,MAX(0,MIN(I33,'bases de donnée'!E$16/24)-MAX('planning '!G33,7/24)),MAX(0,'bases de donnée'!E$16/24-MAX('planning '!G33,7/24))+MAX(0,MIN('planning '!I33,'bases de donnée'!E$16/24)-7/24)))<0,0,SUM(MOD('planning '!I33-'planning '!G33,1)-IF('planning '!I33>'planning '!G33,MAX(0,MIN('planning '!I33,'bases de donnée'!E$16/24)-MAX('planning '!G33,7/24)),MAX(0,'bases de donnée'!E$16/24-MAX('planning '!G33,7/24))+MAX(0,MIN('planning '!I33,'bases de donnée'!E$16/24)-7/24)))) -> 0 | U33: =IF(E33<>"travail",IF(E33="férié travaillé",MOD(I33-G33,1)-H33,"00:00"),"00:00") -> 00:00 | V33: =IF(SUM(IF(O33>("36:00"*1),O33-("36:00"*1),0)-V31-V32)<0,0,SUM(IF(O33>("36:00"*1),O33-("36:00"*1),0)-V29-V30-V31-V32)) -> 0 | X33: =S33 -> 0 | Z33: =IF(SUM(U33-X33)<0,0,SUM(U33-X33)) -> 0 | AA33: =IF(SUM(V33-X33-Z33)<0,0,SUM(V33-X33-Z33)) -> 0 | AD33: =IF(SUM(U33-Z33)<0,0,SUM(U33-Z33)) -> 0 | AE33: =IF(SUM(V33-AA33)<0,0,SUM(V33-AA33)) -> 0
C34: samedi | D34: =D33+1 -> 42029 | E34: off | J34: =IF(OR(E34="férié travaillé",E34="travail"),(I34-G34+IF(G34>I34,1)-H34),INDEX('bases de donnée'!$E$20:'bases de donnée'!$E$32,MATCH(E34,gerald2,0))) -> 0 | K34: =IF(SUM(J34-'bases de donnée'!E$7)<0,0,SUM(J34-'bases de donnée'!E$7)) -> 0 | L34: =IF(OR(E34="férié travaillé",E34="travail"),I34-G34+IF(G34>I34,1),INDEX('bases de donnée'!$E$20:'bases de donnée'!$E$32,MATCH(E34,gerald2,0))) -> 0 | M34: =IF(SUM(L34-'bases de donnée'!E$4)<0,0,SUM(L34-'bases de donnée'!E$4)) -> 0 | N34: 0 | O34: =O33+J34 -> 1.0520833 | P34: ='bases de donnée'!E$10 -> 2 | Q34: =IF(AND(G34<>"",I34<>""),1,0+OR(N(I33)<N(G33),E34="récupération",E34="congé 1 jour",E34="congé 1/2 jour ",E34="congé 5h24",E34="arrêt maladie",E34="arrêt travail",E34="férié ",E34="congé parentale",E34="congé de naissance")) -> 0 | S34: =IF(SUM(MOD(I34-G34,1)-IF(I34>G34,MAX(0,MIN(I34,'bases de donnée'!E$16/24)-MAX('planning '!G34,7/24)),MAX(0,'bases de donnée'!E$16/24-MAX('planning '!G34,7/24))+MAX(0,MIN('planning '!I34,'bases de donnée'!E$16/24)-7/24)))<0,0,SUM(MOD('planning '!I34-'planning '!G34,1)-IF('planning '!I34>'planning '!G34,MAX(0,MIN('planning '!I34,'bases de donnée'!E$16/24)-MAX('planning '!G34,7/24)),MAX(0,'bases de donnée'!E$16/24-MAX('planning '!G34,7/24))+MAX(0,MIN('planning '!I34,'bases de donnée'!E$16/24)-7/24)))) -> 0 | U34: =IF(E34<>"travail",IF(E34="férié travaillé",MOD(I34-G34,1)-H34,"00:00"),"00:00") -> 00:00 | V34: =IF(SUM(IF(O34>("36:00"*1),O34-("36:00"*1),0)-V32-V33)<0,0,SUM(IF(O34>("36:00"*1),O34-("36:00"*1),0)-V29-V30-V31-V32-V33)) -> 0 | X34: =S34 -> 0 | Z34: =IF(SUM(U34-X34)<0,0,SUM(U34-X34)) -> 0 | AA34: =IF(SUM(V34-X34-Z34)<0,0,SUM(V34-X34-Z34)) -> 0 | AD34: =IF(SUM(U34-Z34)<0,0,SUM(U34-Z34)) -> 0 | AE34: =IF(SUM(V34-AA34)<0,0,SUM(V34-AA34)) -> 0
C35: dimanche | D35: =D34+1 -> 42030 | E35: off | J35: =IF(OR(E35="férié travaillé",E35="travail"),(I35-G35+IF(G35>I35,1)-H35),INDEX('bases de donnée'!$E$20:'bases de donnée'!$E$32,MATCH(E35,gerald2,0))) -> 0 | K35: =IF(SUM(J35-'bases de donnée'!E$7)<0,0,SUM(J35-'bases de donnée'!E$7)) -> 0 | L35: =IF(OR(E35="férié travaillé",E35="travail"),I35-G35+IF(G35>I35,1),INDEX('bases de donnée'!$E$20:'bases de donnée'!$E$32,MATCH(E35,gerald2,0))) -> 0 | M35: =IF(SUM(L35-'bases de donnée'!E$4)<0,0,SUM(L35-'bases de donnée'!E$4)) -> 0 | N35: 0 | O35: =O34+J35 -> 1.0520833 | P35: =IF(SUM(O35-'bases de donnée'!E$10)<0,0,SUM(O35-'bases de donnée'!E$10)) -> 0 | Q35: =IF(AND(G35<>"",I35<>""),1,0+OR(N(I34)<N(G34),E35="récupération",E35="congé 1 jour",E35="congé 1/2 jour ",E35="congé 5h24",E35="arrêt maladie",E35="arrêt travail",E35="férié ",E35="congé parentale",E35="congé de naissance")) -> 0 | S35: =IF(SUM(MOD(I35-G35,1)-IF(I35>G35,MAX(0,MIN(I35,'bases de donnée'!E$16/24)-MAX('planning '!G35,7/24)),MAX(0,'bases de donnée'!E$16/24-MAX('planning '!G35,7/24))+MAX(0,MIN('planning '!I35,'bases de donnée'!E$16/24)-7/24)))<0,0,SUM(MOD('planning '!I35-'planning '!G35,1)-IF('planning '!I35>'planning '!G35,MAX(0,MIN('planning '!I35,'bases de donnée'!E$16/24)-MAX('planning '!G35,7/24)),MAX(0,'bases de donnée'!E$16/24-MAX('planning '!G35,7/24))+MAX(0,MIN('planning '!I35,'bases de donnée'!E$16/24)-7/24)))) -> 0 | T35: =J35 -> 0 | U35: =IF(E35<>"travail",IF(E35="férié travaillé",MOD(I35-G35,1)-H35,"00:00"),"00:00") -> 00:00 | V35: =IF(SUM(IF(O35>("36:00"*1),O35-("36:00"*1),0)-V33-V34)<0,0,SUM(IF(O35>("36:00"*1),O35-("36:00"*1),0)-V29-V30-V31-V32-V33-V34)) -> 0 | X35: =S35 -> 0 | Y35: =IF(SUM(T35-S35)<0,0,SUM(T35-S35)) -> 0 | Z35: =IF(SUM(U35-T35-S35)<0,0,SUM(U35-T35-S35)) -> 0 | AA35: =IF(SUM(V35-S35-T35-U35)<0,0,SUM(V35-S35-T35-U35)) -> 0 | AC35: =IF(SUM(T35-Y35)<0,0,SUM(T35-Y35)) -> 0 | AD35: =IF(SUM(U35-Z35)<0,0,SUM(U35-Z35)) -> 0 | AE35: =IF(SUM(V35-AA35)<0,0,SUM(V35-AA35)) -> 0
B37: semaine | C37: lundi | D37: =D35+1 -> 42031 | E37: travail | G37: 0.40625 | H37: 0.03125 | I37: 0.63541667 | J37: =IF(OR(E37="férié travaillé",E37="travail"),(I37-G37+IF(G37>I37,1)-H37),INDEX('bases de donnée'!$E$20:'bases de donnée'!$E$32,MATCH(E37,gerald2,0))) -> 0.19791667 | K37: =IF(SUM(J37-'bases de donnée'!E$7)<0,0,SUM(J37-'bases de donnée'!E$7)) -> 0 | L37: =IF(OR(E37="férié travaillé",E37="travail"),I37-G37+IF(G37>I37,1),INDEX('bases de donnée'!$E$20:'bases de donnée'!$E$32,MATCH(E37,gerald2,0))) -> 0.22916667 | M37: =IF(SUM(L37-'bases de donnée'!E$4)<0,0,SUM(L37-'bases de donnée'!E$4)) -> 0 | N37: 0 | O37: =J37 -> 0.19791667 | P37: =SUM(Q37:Q43) -> 4 | Q37: =IF(AND(G37<>"",I37<>""),1,0+OR(N(I36)<N(G36),E37="récupération",E37="congé 1 jour",E37="congé 1/2 jour ",E37="congé 5h24",E37="arrêt maladie",E37="arrêt travail",E37="férié ",E37="congé parentale",E37="congé de naissance")) -> 1 | S37: =IF(SUM(MOD(I37-G37,1)-IF(I37>G37,MAX(0,MIN(I37,'bases de donnée'!E$16/24)-MAX('planning '!G37,7/24)),MAX(0,'bases de donnée'!E$16/24-MAX('planning '!G37,7/24))+MAX(0,MIN('planning '!I37,'bases de donnée'!E$16/24)-7/24)))<0,0,SUM(MOD('planning '!I37-'planning '!G37,1)-IF('planning '!I37>'planning '!G37,MAX(0,MIN('planning '!I37,'bases de donnée'!E$16/24)-MAX('planning '!G37,7/24)),MAX(0,'bases de donnée'!E$16/24-MAX('planning '!G37,7/24))+MAX(0,MIN('planning '!I37,'bases de donnée'!E$16/24)-7/24)))) -> 0 | U37: =IF(E37<>"travail",IF(E37="férié travaillé",MOD(I37-G37,1)-H37,"00:00"),"00:00") -> 00:00 | X37: =S37 -> 0 | Z37: =IF(SUM(U37-X37)<0,0,SUM(U37-X37)) -> 0 | AA37: =IF(SUM(V37-X37-Z37)<0,0,SUM(V37-X37-Z37)) -> 0 | AD37: =IF(SUM(U37-Z37)<0,0,SUM(U37-Z37)) -> 0 | AE37: =IF(SUM(V37-AA37)<0,0,SUM(V37-AA37)) -> 0
B38: =B30+1 -> 4 | C38: mardi | D38: =D37+1 -> 42032 | E38: travail | G38: 0.38541667 | H38: 0.03125 | I38: 0.67708333 | J38: =IF(OR(E38="férié travaillé",E38="travail"),(I38-G38+IF(G38>I38,1)-H38),INDEX('bases de donnée'!$E$20:'bases de donnée'!$E$32,MATCH(E38,gerald2,0))) -> 0.26041667 | K38: =IF(SUM(J38-'bases de donnée'!E$7)<0,0,SUM(J38-'bases de donnée'!E$7)) -> 0 | L38: =IF(OR(E38="férié travaillé",E38="travail"),I38-G38+IF(G38>I38,1),INDEX('bases de donnée'!$E$20:'bases de donnée'!$E$32,MATCH(E38,gerald2,0))) -> 0.29166667 | M38: =IF(SUM(L38-'bases de donnée'!E$4)<0,0,SUM(L38-'bases de donnée'!E$4)) -> 0 | N38: 0 | O38: =O37+J38 -> 0.45833333 | P38: =IF(SUM(P37-'bases de donnée'!E$6)<0,0,SUM(P37-'bases de donnée'!E$6)) -> 0 | Q38: =IF(AND(G38<>"",I38<>""),1,0+OR(N(I37)<N(G37),E38="récupération",E38="congé 1 jour",E38="congé 1/2 jour ",E38="congé 5h24",E38="arrêt maladie",E38="arrêt travail",E38="férié ",E38="congé parentale",E38="congé de naissance")) -> 1 | S38: =IF(SUM(MOD(I38-G38,1)-IF(I38>G38,MAX(0,MIN(I38,'bases de donnée'!E$16/24)-MAX('planning '!G38,7/24)),MAX(0,'bases de donnée'!E$16/24-MAX('planning '!G38,7/24))+MAX(0,MIN('planning '!I38,'bases de donnée'!E$16/24)-7/24)))<0,0,SUM(MOD('planning '!I38-'planning '!G38,1)-IF('planning '!I38>'planning '!G38,MAX(0,MIN('planning '!I38,'bases de donnée'!E$16/24)-MAX('planning '!G38,7/24)),MAX(0,'bases de donnée'!E$16/24-MAX('planning '!G38,7/24))+MAX(0,MIN('planning '!I38,'bases de donnée'!E$16/24)-7/24)))) -> 0 | U38: =IF(E38<>"travail",IF(E38="férié travaillé",MOD(I38-G38,1)-H38,"00:00"),"00:00") -> 00:00 | V38: =IF(SUM(IF(O38>('bases de donnée'!E$9*1),O38-('bases de donnée'!E$9*1),0)-V37)<0,0,SUM(IF(O38>('bases de donnée'!E$9*1),O38-('bases de donnée'!E$9*1),0)-V37)) -> 0 | X38: =S38 -> 0 | Z38: =IF(SUM(U38-X38)<0,0,SUM(U38-X38)) -> 0 | AA38: =IF(SUM(V38-X38-Z38)<0,0,SUM(V38-X38-Z38)) -> 0 | AD38: =IF(SUM(U38-Z38)<0,0,SUM(U38-Z38)) -> 0 | AE38: =IF(SUM(V38-AA38)<0,0,SUM(V38-AA38)) -> 0
C39: mercredi | D39: =D38+1 -> 42033 | E39: off | J39: =IF(OR(E39="férié travaillé",E39="travail"),(I39-G39+IF(G39>I39,1)-H39),INDEX('bases de donnée'!$E$20:'bases de donnée'!$E$32,MATCH(E39,gerald2,0))) -> 0 | K39: =IF(SUM(J39-'bases de donnée'!E$7)<0,0,SUM(J39-'bases de donnée'!E$7)) -> 0 | L39: =IF(OR(E39="férié travaillé",E39="travail"),I39-G39+IF(G39>I39,1),INDEX('bases de donnée'!$E$20:'bases de donnée'!$E$32,MATCH(E39,gerald2,0))) -> 0 | M39: =IF(SUM(L39-'bases de donnée'!E$4)<0,0,SUM(L39-'bases de donnée'!E$4)) -> 0 | N39: 0 | O39: =O38+J39 -> 0.45833333 | P39: H semaine | Q39: =IF(AND(G39<>"",I39<>""),1,0+OR(N(I38)<N(G38),E39="récupération",E39="congé 1 jour",E39="congé 1/2 jour ",E39="congé 5h24",E39="arrêt maladie",E39="arrêt travail",E39="férié ",E39="congé parentale",E39="congé de naissance")) -> 0 | S39: =IF(SUM(MOD(I39-G39,1)-IF(I39>G39,MAX(0,MIN(I39,'bases de donnée'!E$16/24)-MAX('planning '!G39,7/24)),MAX(0,'bases de donnée'!E$16/24-MAX('planning '!G39,7/24))+MAX(0,MIN('planning '!I39,'bases de donnée'!E$16/24)-7/24)))<0,0,SUM(MOD('planning '!I39-'planning '!G39,1)-IF('planning '!I39>'planning '!G39,MAX(0,MIN('planning '!I39,'bases de donnée'!E$16/24)-MAX('planning '!G39,7/24)),MAX(0,'bases de donnée'!E$16/24-MAX('planning '!G39,7/24))+MAX(0,MIN('planning '!I39,'bases de donnée'!E$16/24)-7/24)))) -> 0 | U39: =IF(E39<>"travail",IF(E39="férié travaillé",MOD(I39-G39,1)-H39,"00:00"),"00:00") -> 00:00 | V39: =IF(SUM(IF(O39>("36:00"*1),O39-("36:00"*1),0)-V37-V38)<0,0,SUM(IF(O39>("36:00"*1),O39-("36:00"*1),0)-V37-V38)) -> 0 | X39: =S39 -> 0 | Z39: =IF(SUM(U39-X39)<0,0,SUM(U39-X39)) -> 0 | AA39: =IF(SUM(V39-X39-Z39)<0,0,SUM(V39-X39-Z39)) -> 0 | AD39: =IF(SUM(U39-Z39)<0,0,SUM(U39-Z39)) -> 0 | AE39: =IF(SUM(V39-AA39)<0,0,SUM(V39-AA39)) -> 0
C40: jeudi | D40: =D39+1 -> 42034 | E40: travail | G40: 0.39583333 | H40: 0.03125 | I40: 0.70833333 | J40: =IF(OR(E40="férié travaillé",E40="travail"),(I40-G40+IF(G40>I40,1)-H40),INDEX('bases de donnée'!$E$20:'bases de donnée'!$E$32,MATCH(E40,gerald2,0))) -> 0.28125 | K40: =IF(SUM(J40-'bases de donnée'!E$7)<0,0,SUM(J40-'bases de donnée'!E$7)) -> 0 | L40: =IF(OR(E40="férié travaillé",E40="travail"),I40-G40+IF(G40>I40,1),INDEX('bases de donnée'!$E$20:'bases de donnée'!$E$32,MATCH(E40,gerald2,0))) -> 0.3125 | M40: =IF(SUM(L40-'bases de donnée'!E$4)<0,0,SUM(L40-'bases de donnée'!E$4)) -> 0 | N40: 0 | O40: =O39+J40 -> 0.73958333 | P40: =O43 -> 1.0416667 | Q40: =IF(AND(G40<>"",I40<>""),1,0+OR(N(I39)<N(G39),E40="récupération",E40="congé 1 jour",E40="congé 1/2 jour ",E40="congé 5h24",E40="arrêt maladie",E40="arrêt travail",E40="férié ",E40="congé parentale",E40="congé de naissance")) -> 1 | S40: =IF(SUM(MOD(I40-G40,1)-IF(I40>G40,MAX(0,MIN(I40,'bases de donnée'!E$16/24)-MAX('planning '!G40,7/24)),MAX(0,'bases de donnée'!E$16/24-MAX('planning '!G40,7/24))+MAX(0,MIN('planning '!I40,'bases de donnée'!E$16/24)-7/24)))<0,0,SUM(MOD('planning '!I40-'planning '!G40,1)-IF('planning '!I40>'planning '!G40,MAX(0,MIN('planning '!I40,'bases de donnée'!E$16/24)-MAX('planning '!G40,7/24)),MAX(0,'bases de donnée'!E$16/24-MAX('planning '!G40,7/24))+MAX(0,MIN('planning '!I40,'bases de donnée'!E$16/24)-7/24)))) -> 0 | U40: =IF(E40<>"travail",IF(E40="férié travaillé",MOD(I40-G40,1)-H40,"00:00"),"00:00") -> 00:00 | V40: =IF(SUM(IF(O40>("36:00"*1),O40-("36:00"*1),0)-V38-V39)<0,0,SUM(IF(O40>("36:00"*1),O40-("36:00"*1),0)-V37-V38-V39)) -> 0 | X40: =S40 -> 0 | Z40: =IF(SUM(U40-X40)<0,0,SUM(U40-X40)) -> 0 | AA40: =IF(SUM(V40-X40-Z40)<0,0,SUM(V40-X40-Z40)) -> 0 | AD40: =IF(SUM(U40-Z40)<0,0,SUM(U40-Z40)) -> 0 | AE40: =IF(SUM(V40-AA40)<0,0,SUM(V40-AA40)) -> 0
C41: vendredi | D41: =D40+1 -> 42035 | E41: travail | G41: 0.375 | H41: 0.03125 | I41: 0.70833333 | J41: =IF(OR(E41="férié travaillé",E41="travail"),(I41-G41+IF(G41>I41,1)-H41),INDEX('bases de donnée'!$E$20:'bases de donnée'!$E$32,MATCH(E41,gerald2,0))) -> 0.30208333 | K41: =IF(SUM(J41-'bases de donnée'!E$7)<0,0,SUM(J41-'bases de donnée'!E$7)) -> 0 | L41: =IF(OR(E41="férié travaillé",E41="travail"),I41-G41+IF(G41>I41,1),INDEX('bases de donnée'!$E$20:'bases de donnée'!$E$32,MATCH(E41,gerald2,0))) -> 0.33333333 | M41: =IF(SUM(L41-'bases de donnée'!E$4)<0,0,SUM(L41-'bases de donnée'!E$4)) -> 0 | N41: 0 | O41: =O40+J41 -> 1.0416667 | P41: HS hc de | Q41: =IF(AND(G41<>"",I41<>""),1,0+OR(N(I40)<N(G40),E41="récupération",E41="congé 1 jour",E41="congé 1/2 jour ",E41="congé 5h24",E41="arrêt maladie",E41="arrêt travail",E41="férié ",E41="congé parentale",E41="congé de naissance")) -> 1 | S41: =IF(SUM(MOD(I41-G41,1)-IF(I41>G41,MAX(0,MIN(I41,'bases de donnée'!E$16/24)-MAX('planning '!G41,7/24)),MAX(0,'bases de donnée'!E$16/24-MAX('planning '!G41,7/24))+MAX(0,MIN('planning '!I41,'bases de donnée'!E$16/24)-7/24)))<0,0,SUM(MOD('planning '!I41-'planning '!G41,1)-IF('planning '!I41>'planning '!G41,MAX(0,MIN('planning '!I41,'bases de donnée'!E$16/24)-MAX('planning '!G41,7/24)),MAX(0,'bases de donnée'!E$16/24-MAX('planning '!G41,7/24))+MAX(0,MIN('planning '!I41,'bases de donnée'!E$16/24)-7/24)))) -> 0 | U41: =IF(E41<>"travail",IF(E41="férié travaillé",MOD(I41-G41,1)-H41,"00:00"),"00:00") -> 00:00 | V41: =IF(SUM(IF(O41>("36:00"*1),O41-("36:00"*1),0)-V39-V40)<0,0,SUM(IF(O41>("36:00"*1),O41-("36:00"*1),0)-V37-V38-V39-V40)) -> 0 | X41: =S41 -> 0 | Z41: =IF(SUM(U41-X41)<0,0,SUM(U41-X41)) -> 0 | AA41: =IF(SUM(V41-X41-Z41)<0,0,SUM(V41-X41-Z41)) -> 0 | AD41: =IF(SUM(U41-Z41)<0,0,SUM(U41-Z41)) -> 0 | AE41: =IF(SUM(V41-AA41)<0,0,SUM(V41-AA41)) -> 0
C42: samedi | D42: =D41+1 -> 42036 | E42: off | J42: =IF(OR(E42="férié travaillé",E42="travail"),(I42-G42+IF(G42>I42,1)-H42),INDEX('bases de donnée'!$E$20:'bases de donnée'!$E$32,MATCH(E42,gerald2,0))) -> 0 | K42: =IF(SUM(J42-'bases de donnée'!E$7)<0,0,SUM(J42-'bases de donnée'!E$7)) -> 0 | L42: =IF(OR(E42="férié travaillé",E42="travail"),I42-G42+IF(G42>I42,1),INDEX('bases de donnée'!$E$20:'bases de donnée'!$E$32,MATCH(E42,gerald2,0))) -> 0 | M42: =IF(SUM(L42-'bases de donnée'!E$4)<0,0,SUM(L42-'bases de donnée'!E$4)) -> 0 | N42: 0 | O42: =O41+J42 -> 1.0416667 | P42: ='bases de donnée'!E$10 -> 2 | Q42: =IF(AND(G42<>"",I42<>""),1,0+OR(N(I41)<N(G41),E42="récupération",E42="congé 1 jour",E42="congé 1/2 jour ",E42="congé 5h24",E42="arrêt maladie",E42="arrêt travail",E42="férié ",E42="congé parentale",E42="congé de naissance")) -> 0 | S42: =IF(SUM(MOD(I42-G42,1)-IF(I42>G42,MAX(0,MIN(I42,'bases de donnée'!E$16/24)-MAX('planning '!G42,7/24)),MAX(0,'bases de donnée'!E$16/24-MAX('planning '!G42,7/24))+MAX(0,MIN('planning '!I42,'bases de donnée'!E$16/24)-7/24)))<0,0,SUM(MOD('planning '!I42-'planning '!G42,1)-IF('planning '!I42>'planning '!G42,MAX(0,MIN('planning '!I42,'bases de donnée'!E$16/24)-MAX('planning '!G42,7/24)),MAX(0,'bases de donnée'!E$16/24-MAX('planning '!G42,7/24))+MAX(0,MIN('planning '!I42,'bases de donnée'!E$16/24)-7/24)))) -> 0 | U42: =IF(E42<>"travail",IF(E42="férié travaillé",MOD(I42-G42,1)-H42,"00:00"),"00:00") -> 00:00 | V42: =IF(SUM(IF(O42>("36:00"*1),O42-("36:00"*1),0)-V40-V41)<0,0,SUM(IF(O42>("36:00"*1),O42-("36:00"*1),0)-V37-V38-V39-V40-V41)) -> 0 | X42: =S42 -> 0 | Z42: =IF(SUM(U42-X42)<0,0,SUM(U42-X42)) -> 0 | AA42: =IF(SUM(V42-X42-Z42)<0,0,SUM(V42-X42-Z42)) -> 0 | AD42: =IF(SUM(U42-Z42)<0,0,SUM(U42-Z42)) -> 0 | AE42: =IF(SUM(V42-AA42)<0,0,SUM(V42-AA42)) -> 0
C43: dimanche | D43: =D42+1 -> 42037 | E43: off | J43: =IF(OR(E43="férié travaillé",E43="travail"),(I43-G43+IF(G43>I43,1)-H43),INDEX('bases de donnée'!$E$20:'bases de donnée'!$E$32,MATCH(E43,gerald2,0))) -> 0 | K43: =IF(SUM(J43-'bases de donnée'!E$7)<0,0,SUM(J43-'bases de donnée'!E$7)) -> 0 | L43: =IF(OR(E43="férié travaillé",E43="travail"),I43-G43+IF(G43>I43,1),INDEX('bases de donnée'!$E$20:'bases de donnée'!$E$32,MATCH(E43,gerald2,0))) -> 0 | M43: =IF(SUM(L43-'bases de donnée'!E$4)<0,0,SUM(L43-'bases de donnée'!E$4)) -> 0 | N43: 0 | O43: =O42+J43 -> 1.0416667 | P43: =IF(SUM(O43-'bases de donnée'!E$10)<0,0,SUM(O43-'bases de donnée'!E$10)) -> 0 | Q43: =IF(AND(G43<>"",I43<>""),1,0+OR(N(I42)<N(G42),E43="récupération",E43="congé 1 jour",E43="congé 1/2 jour ",E43="congé 5h24",E43="arrêt maladie",E43="arrêt travail",E43="férié ",E43="congé parentale",E43="congé de naissance")) -> 0 | S43: =IF(SUM(MOD(I43-G43,1)-IF(I43>G43,MAX(0,MIN(I43,'bases de donnée'!E$16/24)-MAX('planning '!G43,7/24)),MAX(0,'bases de donnée'!E$16/24-MAX('planning '!G43,7/24))+MAX(0,MIN('planning '!I43,'bases de donnée'!E$16/24)-7/24)))<0,0,SUM(MOD('planning '!I43-'planning '!G43,1)-IF('planning '!I43>'planning '!G43,MAX(0,MIN('planning '!I43,'bases de donnée'!E$16/24)-MAX('planning '!G43,7/24)),MAX(0,'bases de donnée'!E$16/24-MAX('planning '!G43,7/24))+MAX(0,MIN('planning '!I43,'bases de donnée'!E$16/24)-7/24)))) -> 0 | T43: =J43 -> 0 | U43: =IF(E43<>"travail",IF(E43="férié travaillé",MOD(I43-G43,1)-H43,"00:00"),"00:00") -> 00:00 | V43: =IF(SUM(IF(O43>("36:00"*1),O43-("36:00"*1),0)-V41-V42)<0,0,SUM(IF(O43>("36:00"*1),O43-("36:00"*1),0)-V37-V38-V39-V40-V41-V42)) -> 0 | X43: =S43 -> 0 | Y43: =IF(SUM(T43-S43)<0,0,SUM(T43-S43)) -> 0 | Z43: =IF(SUM(U43-T43-S43)<0,0,SUM(U43-T43-S43)) -> 0 | AA43: =IF(SUM(V43-S43-T43-U43)<0,0,SUM(V43-S43-T43-U43)) -> 0 | AC43: =IF(SUM(T43-Y43)<0,0,SUM(T43-Y43)) -> 0 | AD43: =IF(SUM(U43-Z43)<0,0,SUM(U43-Z43)) -> 0 | AE43: =IF(SUM(V43-AA43)<0,0,SUM(V43-AA43)) -> 0
B45: semaine | C45: lundi | D45: =D43+1 -> 42038 | E45: travail | G45: 0.375 | H45: 0.03125 | I45: 0.70833333 | J45: =IF(OR(E45="férié travaillé",E45="travail"),(I45-G45+IF(G45>I45,1)-H45),INDEX('bases de donnée'!$E$20:'bases de donnée'!$E$32,MATCH(E45,gerald2,0))) -> 0.30208333 | K45: =IF(SUM(J45-'bases de donnée'!E$7)<0,0,SUM(J45-'bases de donnée'!E$7)) -> 0 | L45: =IF(OR(E45="férié travaillé",E45="travail"),I45-G45+IF(G45>I45,1),INDEX('bases de donnée'!$E$20:'bases de donnée'!$E$32,MATCH(E45,gerald2,0))) -> 0.33333333 | M45: =IF(SUM(L45-'bases de donnée'!E$4)<0,0,SUM(L45-'bases de donnée'!E$4)) -> 0 | N45: 0 | O45: =J45 -> 0.30208333 | P45: =SUM(Q45:Q51) -> 6 | Q45: =IF(AND(G45<>"",I45<>""),1,0+OR(N(I44)<N(G44),E45="récupération",E45="congé 1 jour",E45="congé 1/2 jour ",E45="congé 5h24",E45="arrêt maladie",E45="arrêt travail",E45="férié ",E45="congé parentale",E45="congé de naissance")) -> 1 | S45: =IF(SUM(MOD(I45-G45,1)-IF(I45>G45,MAX(0,MIN(I45,'bases de donnée'!E$16/24)-MAX('planning '!G45,7/24)),MAX(0,'bases de donnée'!E$16/24-MAX('planning '!G45,7/24))+MAX(0,MIN('planning '!I45,'bases de donnée'!E$16/24)-7/24)))<0,0,SUM(MOD('planning '!I45-'planning '!G45,1)-IF('planning '!I45>'planning '!G45,MAX(0,MIN('planning '!I45,'bases de donnée'!E$16/24)-MAX('planning '!G45,7/24)),MAX(0,'bases de donnée'!E$16/24-MAX('planning '!G45,7/24))+MAX(0,MIN('planning '!I45,'bases de donnée'!E$16/24)-7/24)))) -> 0 | U45: =IF(E45<>"travail",IF(E45="férié travaillé",MOD(I45-G45,1)-H45,"00:00"),"00:00") -> 00:00 | X45: =S45 -> 0 | Z45: =IF(SUM(U45-X45)<0,0,SUM(U45-X45)) -> 0 | AA45: =IF(SUM(V45-X45-Z45)<0,0,SUM(V45-X45-Z45)) -> 0 | AD45: =IF(SUM(U45-Z45)<0,0,SUM(U45-Z45)) -> 0 | AE45: =IF(SUM(V45-AA45)<0,0,SUM(V45-AA45)) -> 0
B46: =B38+1 -> 5 | C46: mardi | D46: =D45+1 -> 42039 | E46: travail | G46: 0.375 | H46: 0.03125 | I46: 0.70833333 | J46: =IF(OR(E46="férié travaillé",E46="travail"),(I46-G46+IF(G46>I46,1)-H46),INDEX('bases de donnée'!$E$20:'bases de donnée'!$E$32,MATCH(E46,gerald2,0))) -> 0.30208333 | K46: =IF(SUM(J46-'bases de donnée'!E$7)<0,0,SUM(J46-'bases de donnée'!E$7)) -> 0 | L46: =IF(OR(E46="férié travaillé",E46="travail"),I46-G46+IF(G46>I46,1),INDEX('bases de donnée'!$E$20:'bases de donnée'!$E$32,MATCH(E46,gerald2,0))) -> 0.33333333 | M46: =IF(SUM(L46-'bases de donnée'!E$4)<0,0,SUM(L46-'bases de donnée'!E$4)) -> 0 | N46: 0 | O46: =O45+J46 -> 0.60416667 | P46: =IF(SUM(P45-'bases de donnée'!E$6)<0,0,SUM(P45-'bases de donnée'!E$6)) -> 0 | Q46: =IF(AND(G46<>"",I46<>""),1,0+OR(N(I45)<N(G45),E46="récupération",E46="congé 1 jour",E46="congé 1/2 jour ",E46="congé 5h24",E46="arrêt maladie",E46="arrêt travail",E46="férié ",E46="congé parentale",E46="congé de naissance")) -> 1 | S46: =IF(SUM(MOD(I46-G46,1)-IF(I46>G46,MAX(0,MIN(I46,'bases de donnée'!E$16/24)-MAX('planning '!G46,7/24)),MAX(0,'bases de donnée'!E$16/24-MAX('planning '!G46,7/24))+MAX(0,MIN('planning '!I46,'bases de donnée'!E$16/24)-7/24)))<0,0,SUM(MOD('planning '!I46-'planning '!G46,1)-IF('planning '!I46>'planning '!G46,MAX(0,MIN('planning '!I46,'bases de donnée'!E$16/24)-MAX('planning '!G46,7/24)),MAX(0,'bases de donnée'!E$16/24-MAX('planning '!G46,7/24))+MAX(0,MIN('planning '!I46,'bases de donnée'!E$16/24)-7/24)))) -> 0 | U46: =IF(E46<>"travail",IF(E46="férié travaillé",MOD(I46-G46,1)-H46,"00:00"),"00:00") -> 00:00 | V46: =IF(SUM(IF(O46>('bases de donnée'!E$9*1),O46-('bases de donnée'!E$9*1),0)-V45)<0,0,SUM(IF(O46>('bases de donnée'!E$9*1),O46-('bases de donnée'!E$9*1),0)-V45)) -> 0 | X46: =S46 -> 0 | Z46: =IF(SUM(U46-X46)<0,0,SUM(U46-X46)) -> 0 | AA46: =IF(SUM(V46-X46-Z46)<0,0,SUM(V46-X46-Z46)) -> 0 | AD46: =IF(SUM(U46-Z46)<0,0,SUM(U46-Z46)) -> 0 | AE46: =IF(SUM(V46-AA46)<0,0,SUM(V46-AA46)) -> 0
C47: mercredi | D47: =D46+1 -> 42040 | E47: travail | G47: 0.375 | H47: 0.03125 | I47: 0.70833333 | J47: =IF(OR(E47="férié travaillé",E47="travail"),(I47-G47+IF(G47>I47,1)-H47),INDEX('bases de donnée'!$E$20:'bases de donnée'!$E$32,MATCH(E47,gerald2,0))) -> 0.30208333 | K47: =IF(SUM(J47-'bases de donnée'!E$7)<0,0,SUM(J47-'bases de donnée'!E$7)) -> 0 | L47: =IF(OR(E47="férié travaillé",E47="travail"),I47-G47+IF(G47>I47,1),INDEX('bases de donnée'!$E$20:'bases de donnée'!$E$32,MATCH(E47,gerald2,0))) -> 0.33333333 | M47: =IF(SUM(L47-'bases de donnée'!E$4)<0,0,SUM(L47-'bases de donnée'!E$4)) -> 0 | N47: 0 | O47: =O46+J47 -> 0.90625 | P47: H semaine | Q47: =IF(AND(G47<>"",I47<>""),1,0+OR(N(I46)<N(G46),E47="récupération",E47="congé 1 jour",E47="congé 1/2 jour ",E47="congé 5h24",E47="arrêt maladie",E47="arrêt travail",E47="férié ",E47="congé parentale",E47="congé de naissance")) -> 1 | S47: =IF(SUM(MOD(I47-G47,1)-IF(I47>G47,MAX(0,MIN(I47,'bases de donnée'!E$16/24)-MAX('planning '!G47,7/24)),MAX(0,'bases de donnée'!E$16/24-MAX('planning '!G47,7/24))+MAX(0,MIN('planning '!I47,'bases de donnée'!E$16/24)-7/24)))<0,0,SUM(MOD('planning '!I47-'planning '!G47,1)-IF('planning '!I47>'planning '!G47,MAX(0,MIN('planning '!I47,'bases de donnée'!E$16/24)-MAX('planning '!G47,7/24)),MAX(0,'bases de donnée'!E$16/24-MAX('planning '!G47,7/24))+MAX(0,MIN('planning '!I47,'bases de donnée'!E$16/24)-7/24)))) -> 0 | U47: =IF(E47<>"travail",IF(E47="férié travaillé",MOD(I47-G47,1)-H47,"00:00"),"00:00") -> 00:00 | V47: =IF(SUM(IF(O47>("36:00"*1),O47-("36:00"*1),0)-V45-V46)<0,0,SUM(IF(O47>("36:00"*1),O47-("36:00"*1),0)-V45-V46)) -> 0 | X47: =S47 -> 0 | Z47: =IF(SUM(U47-X47)<0,0,SUM(U47-X47)) -> 0 | AA47: =IF(SUM(V47-X47-Z47)<0,0,SUM(V47-X47-Z47)) -> 0 | AD47: =IF(SUM(U47-Z47)<0,0,SUM(U47-Z47)) -> 0 | AE47: =IF(SUM(V47-AA47)<0,0,SUM(V47-AA47)) -> 0
C48: jeudi | D48: =D47+1 -> 42041 | E48: travail | G48: 0.375 | H48: 0.03125 | I48: 0.70833333 | J48: =IF(OR(E48="férié travaillé",E48="travail"),(I48-G48+IF(G48>I48,1)-H48),INDEX('bases de donnée'!$E$20:'bases de donnée'!$E$32,MATCH(E48,gerald2,0))) -> 0.30208333 | K48: =IF(SUM(J48-'bases de donnée'!E$7)<0,0,SUM(J48-'bases de donnée'!E$7)) -> 0 | L48: =IF(OR(E48="férié travaillé",E48="travail"),I48-G48+IF(G48>I48,1),INDEX('bases de donnée'!$E$20:'bases de donnée'!$E$32,MATCH(E48,gerald2,0))) -> 0.33333333 | M48: =IF(SUM(L48-'bases de donnée'!E$4)<0,0,SUM(L48-'bases de donnée'!E$4)) -> 0 | N48: 0 | O48: =O47+J48 -> 1.2083333 | P48: =O51 -> 1.9895833 | Q48: =IF(AND(G48<>"",I48<>""),1,0+OR(N(I47)<N(G47),E48="récupération",E48="congé 1 jour",E48="congé 1/2 jour ",E48="congé 5h24",E48="arrêt maladie",E48="arrêt travail",E48="férié ",E48="congé parentale",E48="congé de naissance")) -> 1 | S48: =IF(SUM(MOD(I48-G48,1)-IF(I48>G48,MAX(0,MIN(I48,'bases de donnée'!E$16/24)-MAX('planning '!G48,7/24)),MAX(0,'bases de donnée'!E$16/24-MAX('planning '!G48,7/24))+MAX(0,MIN('planning '!I48,'bases de donnée'!E$16/24)-7/24)))<0,0,SUM(MOD('planning '!I48-'planning '!G48,1)-IF('planning '!I48>'planning '!G48,MAX(0,MIN('planning '!I48,'bases de donnée'!E$16/24)-MAX('planning '!G48,7/24)),MAX(0,'bases de donnée'!E$16/24-MAX('planning '!G48,7/24))+MAX(0,MIN('planning '!I48,'bases de donnée'!E$16/24)-7/24)))) -> 0 | U48: =IF(E48<>"travail",IF(E48="férié travaillé",MOD(I48-G48,1)-H48,"00:00"),"00:00") -> 00:00 | V48: =IF(SUM(IF(O48>("36:00"*1),O48-("36:00"*1),0)-V46-V47)<0,0,SUM(IF(O48>("36:00"*1),O48-("36:00"*1),0)-V45-V46-V47)) -> 0 | X48: =S48 -> 0 | Z48: =IF(SUM(U48-X48)<0,0,SUM(U48-X48)) -> 0 | AA48: =IF(SUM(V48-X48-Z48)<0,0,SUM(V48-X48-Z48)) -> 0 | AD48: =IF(SUM(U48-Z48)<0,0,SUM(U48-Z48)) -> 0 | AE48: =IF(SUM(V48-AA48)<0,0,SUM(V48-AA48)) -> 0
C49: vendredi | D49: =D48+1 -> 42042 | E49: travail | G49: 0.39583333 | H49: 0.03125 | I49: 0.70833333 | J49: =IF(OR(E49="férié travaillé",E49="travail"),(I49-G49+IF(G49>I49,1)-H49),INDEX('bases de donnée'!$E$20:'bases de donnée'!$E$32,MATCH(E49,gerald2,0))) -> 0.28125 | K49: =IF(SUM(J49-'bases de donnée'!E$7)<0,0,SUM(J49-'bases de donnée'!E$7)) -> 0 | L49: =IF(OR(E49="férié travaillé",E49="travail"),I49-G49+IF(G49>I49,1),INDEX('bases de donnée'!$E$20:'bases de donnée'!$E$32,MATCH(E49,gerald2,0))) -> 0.3125 | M49: =IF(SUM(L49-'bases de donnée'!E$4)<0,0,SUM(L49-'bases de donnée'!E$4)) -> 0 | N49: 0 | O49: =O48+J49 -> 1.4895833 | P49: HS hc de | Q49: =IF(AND(G49<>"",I49<>""),1,0+OR(N(I48)<N(G48),E49="récupération",E49="congé 1 jour",E49="congé 1/2 jour ",E49="congé 5h24",E49="arrêt maladie",E49="arrêt travail",E49="férié ",E49="congé parentale",E49="congé de naissance")) -> 1 | S49: =IF(SUM(MOD(I49-G49,1)-IF(I49>G49,MAX(0,MIN(I49,'bases de donnée'!E$16/24)-MAX('planning '!G49,7/24)),MAX(0,'bases de donnée'!E$16/24-MAX('planning '!G49,7/24))+MAX(0,MIN('planning '!I49,'bases de donnée'!E$16/24)-7/24)))<0,0,SUM(MOD('planning '!I49-'planning '!G49,1)-IF('planning '!I49>'planning '!G49,MAX(0,MIN('planning '!I49,'bases de donnée'!E$16/24)-MAX('planning '!G49,7/24)),MAX(0,'bases de donnée'!E$16/24-MAX('planning '!G49,7/24))+MAX(0,MIN('planning '!I49,'bases de donnée'!E$16/24)-7/24)))) -> 0 | U49: =IF(E49<>"travail",IF(E49="férié travaillé",MOD(I49-G49,1)-H49,"00:00"),"00:00") -> 00:00 | V49: =IF(SUM(IF(O49>("36:00"*1),O49-("36:00"*1),0)-V47-V48)<0,0,SUM(IF(O49>("36:00"*1),O49-("36:00"*1),0)-V45-V46-V47-V48)) -> 0 | X49: =S49 -> 0 | Z49: =IF(SUM(U49-X49)<0,0,SUM(U49-X49)) -> 0 | AA49: =IF(SUM(V49-X49-Z49)<0,0,SUM(V49-X49-Z49)) -> 0 | AD49: =IF(SUM(U49-Z49)<0,0,SUM(U49-Z49)) -> 0 | AE49: =IF(SUM(V49-AA49)<0,0,SUM(V49-AA49)) -> 0
C50: samedi | D50: =D49+1 -> 42043 | E50: travail | G50: 0.5 | I50: 1 | J50: =IF(OR(E50="férié travaillé",E50="travail"),(I50-G50+IF(G50>I50,1)-H50),INDEX('bases de donnée'!$E$20:'bases de donnée'!$E$32,MATCH(E50,gerald2,0))) -> 0.5 | K50: =IF(SUM(J50-'bases de donnée'!E$7)<0,0,SUM(J50-'bases de donnée'!E$7)) -> 0.083333333 | L50: =IF(OR(E50="férié travaillé",E50="travail"),I50-G50+IF(G50>I50,1),INDEX('bases de donnée'!$E$20:'bases de donnée'!$E$32,MATCH(E50,gerald2,0))) -> 0.5 | M50: =IF(SUM(L50-'bases de donnée'!E$4)<0,0,SUM(L50-'bases de donnée'!E$4)) -> 0 | N50: 0 | O50: =O49+J50 -> 1.9895833 | P50: ='bases de donnée'!E$10 -> 2 | Q50: =IF(AND(G50<>"",I50<>""),1,0+OR(N(I49)<N(G49),E50="récupération",E50="congé 1 jour",E50="congé 1/2 jour ",E50="congé 5h24",E50="arrêt maladie",E50="arrêt travail",E50="férié ",E50="congé parentale",E50="congé de naissance")) -> 1 | S50: =IF(SUM(MOD(I50-G50,1)-IF(I50>G50,MAX(0,MIN(I50,'bases de donnée'!E$16/24)-MAX('planning '!G50,7/24)),MAX(0,'bases de donnée'!E$16/24-MAX('planning '!G50,7/24))+MAX(0,MIN('planning '!I50,'bases de donnée'!E$16/24)-7/24)))<0,0,SUM(MOD('planning '!I50-'planning '!G50,1)-IF('planning '!I50>'planning '!G50,MAX(0,MIN('planning '!I50,'bases de donnée'!E$16/24)-MAX('planning '!G50,7/24)),MAX(0,'bases de donnée'!E$16/24-MAX('planning '!G50,7/24))+MAX(0,MIN('planning '!I50,'bases de donnée'!E$16/24)-7/24)))) -> 0.125 | U50: =IF(E50<>"travail",IF(E50="férié travaillé",MOD(I50-G50,1)-H50,"00:00"),"00:00") -> 00:00 | V50: =IF(SUM(IF(O50>("36:00"*1),O50-("36:00"*1),0)-V48-V49)<0,0,SUM(IF(O50>("36:00"*1),O50-("36:00"*1),0)-V45-V46-V47-V48-V49)) -> 0.48958333 | X50: =S50 -> 0.125 | Z50: =IF(SUM(U50-X50)<0,0,SUM(U50-X50)) -> 0 | AA50: =IF(SUM(V50-X50-Z50)<0,0,SUM(V50-X50-Z50)) -> 0.36458333 | AD50: =IF(SUM(U50-Z50)<0,0,SUM(U50-Z50)) -> 0 | AE50: =IF(SUM(V50-AA50)<0,0,SUM(V50-AA50)) -> 0.125
C51: dimanche | D51: =D50+1 -> 42044 | E51: off | J51: =IF(OR(E51="férié travaillé",E51="travail"),(I51-G51+IF(G51>I51,1)-H51),INDEX('bases de donnée'!$E$20:'bases de donnée'!$E$32,MATCH(E51,gerald2,0))) -> 0 | K51: =IF(SUM(J51-'bases de donnée'!E$7)<0,0,SUM(J51-'bases de donnée'!E$7)) -> 0 | L51: =IF(OR(E51="férié travaillé",E51="travail"),I51-G51+IF(G51>I51,1),INDEX('bases de donnée'!$E$20:'bases de donnée'!$E$32,MATCH(E51,gerald2,0))) -> 0 | M51: =IF(SUM(L51-'bases de donnée'!E$4)<0,0,SUM(L51-'bases de donnée'!E$4)) -> 0 | N51: 0 | O51: =O50+J51 -> 1.9895833 | P51: =IF(SUM(O51-'bases de donnée'!E$10)<0,0,SUM(O51-'bases de donnée'!E$10)) -> 0 | Q51: =IF(AND(G51<>"",I51<>""),1,0+OR(N(I50)<N(G50),E51="récupération",E51="congé 1 jour",E51="congé 1/2 jour ",E51="congé 5h24",E51="arrêt maladie",E51="arrêt travail",E51="férié ",E51="congé parentale",E51="congé de naissance")) -> 0 | S51: =IF(SUM(MOD(I51-G51,1)-IF(I51>G51,MAX(0,MIN(I51,'bases de donnée'!E$16/24)-MAX('planning '!G51,7/24)),MAX(0,'bases de donnée'!E$16/24-MAX('planning '!G51,7/24))+MAX(0,MIN('planning '!I51,'bases de donnée'!E$16/24)-7/24)))<0,0,SUM(MOD('planning '!I51-'planning '!G51,1)-IF('planning '!I51>'planning '!G51,MAX(0,MIN('planning '!I51,'bases de donnée'!E$16/24)-MAX('planning '!G51,7/24)),MAX(0,'bases de donnée'!E$16/24-MAX('planning '!G51,7/24))+MAX(0,MIN('planning '!I51,'bases de donnée'!E$16/24)-7/24)))) -> 0 | T51: =J51 -> 0 | U51: =IF(E51<>"travail",IF(E51="férié travaillé",MOD(I51-G51,1)-H51,"00:00"),"00:00") -> 00:00 | V51: =IF(SUM(IF(O51>("36:00"*1),O51-("36:00"*1),0)-V49-V50)<0,0,SUM(IF(O51>("36:00"*1),O51-("36:00"*1),0)-V45-V46-V47-V48-V49-V50)) -> 0 | X51: =S51 -> 0 | Y51: =IF(SUM(T51-S51)<0,0,SUM(T51-S51)) -> 0 | Z51: =IF(SUM(U51-T51-S51)<0,0,SUM(U51-T51-S51)) -> 0 | AA51: =IF(SUM(V51-S51-T51-U51)<0,0,SUM(V51-S51-T51-U51)) -> 0 | AC51: =IF(SUM(T51-Y51)<0,0,SUM(T51-Y51)) -> 0 | AD51: =IF(SUM(U51-Z51)<0,0,SUM(U51-Z51)) -> 0 | AE51: =IF(SUM(V51-AA51)<0,0,SUM(V51-AA51)) -> 0
B53: semaine | C53: lundi | D53: =D51+1 -> 42045 | E53: off | J53: =IF(OR(E53="férié travaillé",E53="travail"),(I53-G53+IF(G53>I53,1)-H53),INDEX('bases de donnée'!$E$20:'bases de donnée'!$E$32,MATCH(E53,gerald2,0))) -> 0 | K53: =IF(SUM(J53-'bases de donnée'!E$7)<0,0,SUM(J53-'bases de donnée'!E$7)) -> 0 | L53: =IF(OR(E53="férié travaillé",E53="travail"),I53-G53+IF(G53>I53,1),INDEX('bases de donnée'!$E$20:'bases de donnée'!$E$32,MATCH(E53,gerald2,0))) -> 0 | M53: =IF(SUM(L53-'bases de donnée'!E$4)<0,0,SUM(L53-'bases de donnée'!E$4)) -> 0 | N53: 0 | O53: =J53 -> 0 | P53: =SUM(Q53:Q59) -> 3 | Q53: =IF(AND(G53<>"",I53<>""),1,0+OR(N(I52)<N(G52),E53="récupération",E53="congé 1 jour",E53="congé 1/2 jour ",E53="congé 5h24",E53="arrêt maladie",E53="arrêt travail",E53="férié ",E53="congé parentale",E53="congé de naissance")) -> 0 | S53: =IF(SUM(MOD(I53-G53,1)-IF(I53>G53,MAX(0,MIN(I53,'bases de donnée'!E$16/24)-MAX('planning '!G53,7/24)),MAX(0,'bases de donnée'!E$16/24-MAX('planning '!G53,7/24))+MAX(0,MIN('planning '!I53,'bases de donnée'!E$16/24)-7/24)))<0,0,SUM(MOD('planning '!I53-'planning '!G53,1)-IF('planning '!I53>'planning '!G53,MAX(0,MIN('planning '!I53,'bases de donnée'!E$16/24)-MAX('planning '!G53,7/24)),MAX(0,'bases de donnée'!E$16/24-MAX('planning '!G53,7/24))+MAX(0,MIN('planning '!I53,'bases de donnée'!E$16/24)-7/24)))) -> 0 | U53: =IF(E53<>"travail",IF(E53="férié travaillé",MOD(I53-G53,1)-H53,"00:00"),"00:00") -> 00:00 | X53: =S53 -> 0 | Z53: =IF(SUM(U53-X53)<0,0,SUM(U53-X53)) -> 0 | AA53: =IF(SUM(V53-X53-Z53)<0,0,SUM(V53-X53-Z53)) -> 0 | AD53: =IF(SUM(U53-Z53)<0,0,SUM(U53-Z53)) -> 0 | AE53: =IF(SUM(V53-AA53)<0,0,SUM(V53-AA53)) -> 0
B54: =B46+1 -> 6 | C54: mardi | D54: =D53+1 -> 42046 | E54: travail | G54: 0.375 | H54: 0.03125 | I54: 0.70833333 | J54: =IF(OR(E54="férié travaillé",E54="travail"),(I54-G54+IF(G54>I54,1)-H54),INDEX('bases de donnée'!$E$20:'bases de donnée'!$E$32,MATCH(E54,gerald2,0))) -> 0.30208333 | K54: =IF(SUM(J54-'bases de donnée'!E$7)<0,0,SUM(J54-'bases de donnée'!E$7)) -> 0 | L54: =IF(OR(E54="férié travaillé",E54="travail"),I54-G54+IF(G54>I54,1),INDEX('bases de donnée'!$E$20:'bases de donnée'!$E$32,MATCH(E54,gerald2,0))) -> 0.33333333 | M54: =IF(SUM(L54-'bases de donnée'!E$4)<0,0,SUM(L54-'bases de donnée'!E$4)) -> 0 | N54: 0 | O54: =O53+J54 -> 0.30208333 | P54: =IF(SUM(P53-'bases de donnée'!E$6)<0,0,SUM(P53-'bases de donnée'!E$6)) -> 0 | Q54: =IF(AND(G54<>"",I54<>""),1,0+OR(N(I53)<N(G53),E54="récupération",E54="congé 1 jour",E54="congé 1/2 jour ",E54="congé 5h24",E54="arrêt maladie",E54="arrêt travail",E54="férié ",E54="congé parentale",E54="congé de naissance")) -> 1 | S54: =IF(SUM(MOD(I54-G54,1)-IF(I54>G54,MAX(0,MIN(I54,'bases de donnée'!E$16/24)-MAX('planning '!G54,7/24)),MAX(0,'bases de donnée'!E$16/24-MAX('planning '!G54,7/24))+MAX(0,MIN('planning '!I54,'bases de donnée'!E$16/24)-7/24)))<0,0,SUM(MOD('planning '!I54-'planning '!G54,1)-IF('planning '!I54>'planning '!G54,MAX(0,MIN('planning '!I54,'bases de donnée'!E$16/24)-MAX('planning '!G54,7/24)),MAX(0,'bases de donnée'!E$16/24-MAX('planning '!G54,7/24))+MAX(0,MIN('planning '!I54,'bases de donnée'!E$16/24)-7/24)))) -> 0 | U54: =IF(E54<>"travail",IF(E54="férié travaillé",MOD(I54-G54,1)-H54,"00:00"),"00:00") -> 00:00 | V54: =IF(SUM(IF(O54>('bases de donnée'!E$9*1),O54-('bases de donnée'!E$9*1),0)-V53)<0,0,SUM(IF(O54>('bases de donnée'!E$9*1),O54-('bases de donnée'!E$9*1),0)-V53)) -> 0 | X54: =S54 -> 0 | Z54: =IF(SUM(U54-X54)<0,0,SUM(U54-X54)) -> 0 | AA54: =IF(SUM(V54-X54-Z54)<0,0,SUM(V54-X54-Z54)) -> 0 | AD54: =IF(SUM(U54-Z54)<0,0,SUM(U54-Z54)) -> 0 | AE54: =IF(SUM(V54-AA54)<0,0,SUM(V54-AA54)) -> 0
C55: mercredi | D55: =D54+1 -> 42047 | E55: off | J55: =IF(OR(E55="férié travaillé",E55="travail"),(I55-G55+IF(G55>I55,1)-H55),INDEX('bases de donnée'!$E$20:'bases de donnée'!$E$32,MATCH(E55,gerald2,0))) -> 0 | K55: =IF(SUM(J55-'bases de donnée'!E$7)<0,0,SUM(J55-'bases de donnée'!E$7)) -> 0 | L55: =IF(OR(E55="férié travaillé",E55="travail"),I55-G55+IF(G55>I55,1),INDEX('bases de donnée'!$E$20:'bases de donnée'!$E$32,MATCH(E55,gerald2,0))) -> 0 | M55: =IF(SUM(L55-'bases de donnée'!E$4)<0,0,SUM(L55-'bases de donnée'!E$4)) -> 0 | N55: 0 | O55: =O54+J55 -> 0.30208333 | P55: H semaine | Q55: =IF(AND(G55<>"",I55<>""),1,0+OR(N(I54)<N(G54),E55="récupération",E55="congé 1 jour",E55="congé 1/2 jour ",E55="congé 5h24",E55="arrêt maladie",E55="arrêt travail",E55="férié ",E55="congé parentale",E55="congé de naissance")) -> 0 | S55: =IF(SUM(MOD(I55-G55,1)-IF(I55>G55,MAX(0,MIN(I55,'bases de donnée'!E$16/24)-MAX('planning '!G55,7/24)),MAX(0,'bases de donnée'!E$16/24-MAX('planning '!G55,7/24))+MAX(0,MIN('planning '!I55,'bases de donnée'!E$16/24)-7/24)))<0,0,SUM(MOD('planning '!I55-'planning '!G55,1)-IF('planning '!I55>'planning '!G55,MAX(0,MIN('planning '!I55,'bases de donnée'!E$16/24)-MAX('planning '!G55,7/24)),MAX(0,'bases de donnée'!E$16/24-MAX('planning '!G55,7/24))+MAX(0,MIN('planning '!I55,'bases de donnée'!E$16/24)-7/24)))) -> 0 | U55: =IF(E55<>"travail",IF(E55="férié travaillé",MOD(I55-G55,1)-H55,"00:00"),"00:00") -> 00:00 | V55: =IF(SUM(IF(O55>("36:00"*1),O55-("36:00"*1),0)-V53-V54)<0,0,SUM(IF(O55>("36:00"*1),O55-("36:00"*1),0)-V53-V54)) -> 0 | X55: =S55 -> 0 | Z55: =IF(SUM(U55-X55)<0,0,SUM(U55-X55)) -> 0 | AA55: =IF(SUM(V55-X55-Z55)<0,0,SUM(V55-X55-Z55)) -> 0 | AD55: =IF(SUM(U55-Z55)<0,0,SUM(U55-Z55)) -> 0 | AE55: =IF(SUM(V55-AA55)<0,0,SUM(V55-AA55)) -> 0
C56: jeudi | D56: =D55+1 -> 42048 | E56: off | J56: =IF(OR(E56="férié travaillé",E56="travail"),(I56-G56+IF(G56>I56,1)-H56),INDEX('bases de donnée'!$E$20:'bases de donnée'!$E$32,MATCH(E56,gerald2,0))) -> 0 | K56: =IF(SUM(J56-'bases de donnée'!E$7)<0,0,SUM(J56-'bases de donnée'!E$7)) -> 0 | L56: =IF(OR(E56="férié travaillé",E56="travail"),I56-G56+IF(G56>I56,1),INDEX('bases de donnée'!$E$20:'bases de donnée'!$E$32,MATCH(E56,gerald2,0))) -> 0 | M56: =IF(SUM(L56-'bases de donnée'!E$4)<0,0,SUM(L56-'bases de donnée'!E$4)) -> 0 | N56: 0 | O56: =O55+J56 -> 0.30208333 | P56: =O59 -> 0.75 | Q56: =IF(AND(G56<>"",I56<>""),1,0+OR(N(I55)<N(G55),E56="récupération",E56="congé 1 jour",E56="congé 1/2 jour ",E56="congé 5h24",E56="arrêt maladie",E56="arrêt travail",E56="férié ",E56="congé parentale",E56="congé de naissance")) -> 0 | S56: =IF(SUM(MOD(I56-G56,1)-IF(I56>G56,MAX(0,MIN(I56,'bases de donnée'!E$16/24)-MAX('planning '!G56,7/24)),MAX(0,'bases de donnée'!E$16/24-MAX('planning '!G56,7/24))+MAX(0,MIN('planning '!I56,'bases de donnée'!E$16/24)-7/24)))<0,0,SUM(MOD('planning '!I56-'planning '!G56,1)-IF('planning '!I56>'planning '!G56,MAX(0,MIN('planning '!I56,'bases de donnée'!E$16/24)-MAX('planning '!G56,7/24)),MAX(0,'bases de donnée'!E$16/24-MAX('planning '!G56,7/24))+MAX(0,MIN('planning '!I56,'bases de donnée'!E$16/24)-7/24)))) -> 0 | U56: =IF(E56<>"travail",IF(E56="férié travaillé",MOD(I56-G56,1)-H56,"00:00"),"00:00") -> 00:00 | V56: =IF(SUM(IF(O56>("36:00"*1),O56-("36:00"*1),0)-V54-V55)<0,0,SUM(IF(O56>("36:00"*1),O56-("36:00"*1),0)-V53-V54-V55)) -> 0 | X56: =S56 -> 0 | Z56: =IF(SUM(U56-X56)<0,0,SUM(U56-X56)) -> 0 | AA56: =IF(SUM(V56-X56-Z56)<0,0,SUM(V56-X56-Z56)) -> 0 | AD56: =IF(SUM(U56-Z56)<0,0,SUM(U56-Z56)) -> 0 | AE56: =IF(SUM(V56-AA56)<0,0,SUM(V56-AA56)) -> 0
C57: vendredi | D57: =D56+1 -> 42049 | E57: travail | G57: 0.58333333 | I57: 0.03125 | J57: =IF(OR(E57="férié travaillé",E57="travail"),(I57-G57+IF(G57>I57,1)-H57),INDEX('bases de donnée'!$E$20:'bases de donnée'!$E$32,MATCH(E57,gerald2,0))) -> 0.44791667 | K57: =IF(SUM(J57-'bases de donnée'!E$7)<0,0,SUM(J57-'bases de donnée'!E$7)) -> 0.03125 | L57: =IF(OR(E57="férié travaillé",E57="travail"),I57-G57+IF(G57>I57,1),INDEX('bases de donnée'!$E$20:'bases de donnée'!$E$32,MATCH(E57,gerald2,0))) -> 0.44791667 | M57: =IF(SUM(L57-'bases de donnée'!E$4)<0,0,SUM(L57-'bases de donnée'!E$4)) -> 0 | N57: 0 | O57: =O56+J57 -> 0.75 | P57: HS hc de | Q57: =IF(AND(G57<>"",I57<>""),1,0+OR(N(I56)<N(G56),E57="récupération",E57="congé 1 jour",E57="congé 1/2 jour ",E57="congé 5h24",E57="arrêt maladie",E57="arrêt travail",E57="férié ",E57="congé parentale",E57="congé de naissance")) -> 1 | S57: =IF(SUM(MOD(I57-G57,1)-IF(I57>G57,MAX(0,MIN(I57,'bases de donnée'!E$16/24)-MAX('planning '!G57,7/24)),MAX(0,'bases de donnée'!E$16/24-MAX('planning '!G57,7/24))+MAX(0,MIN('planning '!I57,'bases de donnée'!E$16/24)-7/24)))<0,0,SUM(MOD('planning '!I57-'planning '!G57,1)-IF('planning '!I57>'planning '!G57,MAX(0,MIN('planning '!I57,'bases de donnée'!E$16/24)-MAX('planning '!G57,7/24)),MAX(0,'bases de donnée'!E$16/24-MAX('planning '!G57,7/24))+MAX(0,MIN('planning '!I57,'bases de donnée'!E$16/24)-7/24)))) -> 0.15625 | U57: =IF(E57<>"travail",IF(E57="férié travaillé",MOD(I57-G57,1)-H57,"00:00"),"00:00") -> 00:00 | V57: =IF(SUM(IF(O57>("36:00"*1),O57-("36:00"*1),0)-V55-V56)<0,0,SUM(IF(O57>("36:00"*1),O57-("36:00"*1),0)-V53-V54-V55-V56)) -> 0 | X57: =S57 -> 0.15625 | Z57: =IF(SUM(U57-X57)<0,0,SUM(U57-X57)) -> 0 | AA57: =IF(SUM(V57-X57-Z57)<0,0,SUM(V57-X57-Z57)) -> 0 | AD57: =IF(SUM(U57-Z57)<0,0,SUM(U57-Z57)) -> 0 | AE57: =IF(SUM(V57-AA57)<0,0,SUM(V57-AA57)) -> 0
C58: samedi | D58: =D57+1 -> 42050 | E58: off | J58: =IF(OR(E58="férié travaillé",E58="travail"),(I58-G58+IF(G58>I58,1)-H58),INDEX('bases de donnée'!$E$20:'bases de donnée'!$E$32,MATCH(E58,gerald2,0))) -> 0 | K58: =IF(SUM(J58-'bases de donnée'!E$7)<0,0,SUM(J58-'bases de donnée'!E$7)) -> 0 | L58: =IF(OR(E58="férié travaillé",E58="travail"),I58-G58+IF(G58>I58,1),INDEX('bases de donnée'!$E$20:'bases de donnée'!$E$32,MATCH(E58,gerald2,0))) -> 0 | M58: =IF(SUM(L58-'bases de donnée'!E$4)<0,0,SUM(L58-'bases de donnée'!E$4)) -> 0 | N58: 0 | O58: =O57+J58 -> 0.75 | P58: ='bases de donnée'!E$10 -> 2 | Q58: =IF(AND(G58<>"",I58<>""),1,0+OR(N(I57)<N(G57),E58="récupération",E58="congé 1 jour",E58="congé 1/2 jour ",E58="congé 5h24",E58="arrêt maladie",E58="arrêt travail",E58="férié ",E58="congé parentale",E58="congé de naissance")) -> 1 | S58: =IF(SUM(MOD(I58-G58,1)-IF(I58>G58,MAX(0,MIN(I58,'bases de donnée'!E$16/24)-MAX('planning '!G58,7/24)),MAX(0,'bases de donnée'!E$16/24-MAX('planning '!G58,7/24))+MAX(0,MIN('planning '!I58,'bases de donnée'!E$16/24)-7/24)))<0,0,SUM(MOD('planning '!I58-'planning '!G58,1)-IF('planning '!I58>'planning '!G58,MAX(0,MIN('planning '!I58,'bases de donnée'!E$16/24)-MAX('planning '!G58,7/24)),MAX(0,'bases de donnée'!E$16/24-MAX('planning '!G58,7/24))+MAX(0,MIN('planning '!I58,'bases de donnée'!E$16/24)-7/24)))) -> 0 | U58: =IF(E58<>"travail",IF(E58="férié travaillé",MOD(I58-G58,1)-H58,"00:00"),"00:00") -> 00:00 | V58: =IF(SUM(IF(O58>("36:00"*1),O58-("36:00"*1),0)-V56-V57)<0,0,SUM(IF(O58>("36:00"*1),O58-("36:00"*1),0)-V53-V54-V55-V56-V57)) -> 0 | X58: =S58 -> 0 | Z58: =IF(SUM(U58-X58)<0,0,SUM(U58-X58)) -> 0 | AA58: =IF(SUM(V58-X58-Z58)<0,0,SUM(V58-X58-Z58)) -> 0 | AD58: =IF(SUM(U58-Z58)<0,0,SUM(U58-Z58)) -> 0 | AE58: =IF(SUM(V58-AA58)<0,0,SUM(V58-AA58)) -> 0
C59: dimanche | D59: =D58+1 -> 42051 | E59: off | J59: =IF(OR(E59="férié travaillé",E59="travail"),(I59-G59+IF(G59>I59,1)-H59),INDEX('bases de donnée'!$E$20:'bases de donnée'!$E$32,MATCH(E59,gerald2,0))) -> 0 | K59: =IF(SUM(J59-'bases de donnée'!E$7)<0,0,SUM(J59-'bases de donnée'!E$7)) -> 0 | L59: =IF(OR(E59="férié travaillé",E59="travail"),I59-G59+IF(G59>I59,1),INDEX('bases de donnée'!$E$20:'bases de donnée'!$E$32,MATCH(E59,gerald2,0))) -> 0 | M59: =IF(SUM(L59-'bases de donnée'!E$4)<0,0,SUM(L59-'bases de donnée'!E$4)) -> 0 | N59: 0 | O59: =O58+J59 -> 0.75 | P59: =IF(SUM(O59-'bases de donnée'!E$10)<0,0,SUM(O59-'bases de donnée'!E$10)) -> 0 | Q59: =IF(AND(G59<>"",I59<>""),1,0+OR(N(I58)<N(G58),E59="récupération",E59="congé 1 jour",E59="congé 1/2 jour ",E59="congé 5h24",E59="arrêt maladie",E59="arrêt travail",E59="férié ",E59="congé parentale",E59="congé de naissance")) -> 0 | S59: =IF(SUM(MOD(I59-G59,1)-IF(I59>G59,MAX(0,MIN(I59,'bases de donnée'!E$16/24)-MAX('planning '!G59,7/24)),MAX(0,'bases de donnée'!E$16/24-MAX('planning '!G59,7/24))+MAX(0,MIN('planning '!I59,'bases de donnée'!E$16/24)-7/24)))<0,0,SUM(MOD('planning '!I59-'planning '!G59,1)-IF('planning '!I59>'planning '!G59,MAX(0,MIN('planning '!I59,'bases de donnée'!E$16/24)-MAX('planning '!G59,7/24)),MAX(0,'bases de donnée'!E$16/24-MAX('planning '!G59,7/24))+MAX(0,MIN('planning '!I59,'bases de donnée'!E$16/24)-7/24)))) -> 0 | T59: =J59 -> 0 | U59: =IF(E59<>"travail",IF(E59="férié travaillé",MOD(I59-G59,1)-H59,"00:00"),"00:00") -> 00:00 | V59: =IF(SUM(IF(O59>("36:00"*1),O59-("36:00"*1),0)-V57-V58)<0,0,SUM(IF(O59>("36:00"*1),O59-("36:00"*1),0)-V53-V54-V55-V56-V57-V58)) -> 0 | X59: =S59 -> 0 | Y59: =IF(SUM(T59-S59)<0,0,SUM(T59-S59)) -> 0 | Z59: =IF(SUM(U59-T59-S59)<0,0,SUM(U59-T59-S59)) -> 0 | AA59: =IF(SUM(V59-S59-T59-U59)<0,0,SUM(V59-S59-T59-U59)) -> 0 | AC59: =IF(SUM(T59-Y59)<0,0,SUM(T59-Y59)) -> 0 | AD59: =IF(SUM(U59-Z59)<0,0,SUM(U59-Z59)) -> 0 | AE59: =IF(SUM(V59-AA59)<0,0,SUM(V59-AA59)) -> 0
B61: semaine | C61: lundi | D61: =D59+1 -> 42052 | E61: travail | G61: 0.375 | H61: 0.03125 | I61: 0.76041667 | J61: =IF(OR(E61="férié travaillé",E61="travail"),(I61-G61+IF(G61>I61,1)-H61),INDEX('bases de donnée'!$E$20:'bases de donnée'!$E$32,MATCH(E61,gerald2,0))) -> 0.35416667 | K61: =IF(SUM(J61-'bases de donnée'!E$7)<0,0,SUM(J61-'bases de donnée'!E$7)) -> 0 | L61: =IF(OR(E61="férié travaillé",E61="travail"),I61-G61+IF(G61>I61,1),INDEX('bases de donnée'!$E$20:'bases de donnée'!$E$32,MATCH(E61,gerald2,0))) -> 0.38541667 | M61: =IF(SUM(L61-'bases de donnée'!E$4)<0,0,SUM(L61-'bases de donnée'!E$4)) -> 0 | N61: 0 | O61: =J61 -> 0.35416667 | P61: =SUM(Q61:Q67) -> 5 | Q61: =IF(AND(G61<>"",I61<>""),1,0+OR(N(I60)<N(G60),E61="récupération",E61="congé 1 jour",E61="congé 1/2 jour ",E61="congé 5h24",E61="arrêt maladie",E61="arrêt travail",E61="férié ",E61="congé parentale",E61="congé de naissance")) -> 1 | S61: =IF(SUM(MOD(I61-G61,1)-IF(I61>G61,MAX(0,MIN(I61,'bases de donnée'!E$16/24)-MAX('planning '!G61,7/24)),MAX(0,'bases de donnée'!E$16/24-MAX('planning '!G61,7/24))+MAX(0,MIN('planning '!I61,'bases de donnée'!E$16/24)-7/24)))<0,0,SUM(MOD('planning '!I61-'planning '!G61,1)-IF('planning '!I61>'planning '!G61,MAX(0,MIN('planning '!I61,'bases de donnée'!E$16/24)-MAX('planning '!G61,7/24)),MAX(0,'bases de donnée'!E$16/24-MAX('planning '!G61,7/24))+MAX(0,MIN('planning '!I61,'bases de donnée'!E$16/24)-7/24)))) -> 0 | U61: =IF(E61<>"travail",IF(E61="férié travaillé",MOD(I61-G61,1)-H61,"00:00"),"00:00") -> 00:00 | X61: =S61 -> 0 | Z61: =IF(SUM(U61-X61)<0,0,SUM(U61-X61)) -> 0 | AA61: =IF(SUM(V61-X61-Z61)<0,0,SUM(V61-X61-Z61)) -> 0 | AD61: =IF(SUM(U61-Z61)<0,0,SUM(U61-Z61)) -> 0 | AE61: =IF(SUM(V61-AA61)<0,0,SUM(V61-AA61)) -> 0
B62: =B54+1 -> 7 | C62: mardi | D62: =D61+1 -> 42053 | E62: travail | G62: 0.375 | H62: 0.03125 | I62: 0.77083333 | J62: =IF(OR(E62="férié travaillé",E62="travail"),(I62-G62+IF(G62>I62,1)-H62),INDEX('bases de donnée'!$E$20:'bases de donnée'!$E$32,MATCH(E62,gerald2,0))) -> 0.36458333 | K62: =IF(SUM(J62-'bases de donnée'!E$7)<0,0,SUM(J62-'bases de donnée'!E$7)) -> 0 | L62: =IF(OR(E62="férié travaillé",E62="travail"),I62-G62+IF(G62>I62,1),INDEX('bases de donnée'!$E$20:'bases de donnée'!$E$32,MATCH(E62,gerald2,0))) -> 0.39583333 | M62: =IF(SUM(L62-'bases de donnée'!E$4)<0,0,SUM(L62-'bases de donnée'!E$4)) -> 0 | N62: 0 | O62: =O61+J62 -> 0.71875 | P62: =IF(SUM(P61-'bases de donnée'!E$6)<0,0,SUM(P61-'bases de donnée'!E$6)) -> 0 | Q62: =IF(AND(G62<>"",I62<>""),1,0+OR(N(I61)<N(G61),E62="récupération",E62="congé 1 jour",E62="congé 1/2 jour ",E62="congé 5h24",E62="arrêt maladie",E62="arrêt travail",E62="férié ",E62="congé parentale",E62="congé de naissance")) -> 1 | S62: =IF(SUM(MOD(I62-G62,1)-IF(I62>G62,MAX(0,MIN(I62,'bases de donnée'!E$16/24)-MAX('planning '!G62,7/24)),MAX(0,'bases de donnée'!E$16/24-MAX('planning '!G62,7/24))+MAX(0,MIN('planning '!I62,'bases de donnée'!E$16/24)-7/24)))<0,0,SUM(MOD('planning '!I62-'planning '!G62,1)-IF('planning '!I62>'planning '!G62,MAX(0,MIN('planning '!I62,'bases de donnée'!E$16/24)-MAX('planning '!G62,7/24)),MAX(0,'bases de donnée'!E$16/24-MAX('planning '!G62,7/24))+MAX(0,MIN('planning '!I62,'bases de donnée'!E$16/24)-7/24)))) -> 0 | U62: =IF(E62<>"travail",IF(E62="férié travaillé",MOD(I62-G62,1)-H62,"00:00"),"00:00") -> 00:00 | V62: =IF(SUM(IF(O62>('bases de donnée'!E$9*1),O62-('bases de donnée'!E$9*1),0)-V61)<0,0,SUM(IF(O62>('bases de donnée'!E$9*1),O62-('bases de donnée'!E$9*1),0)-V61)) -> 0 | X62: =S62 -> 0 | Z62: =IF(SUM(U62-X62)<0,0,SUM(U62-X62)) -> 0 | AA62: =IF(SUM(V62-X62-Z62)<0,0,SUM(V62-X62-Z62)) -> 0 | AD62: =IF(SUM(U62-Z62)<0,0,SUM(U62-Z62)) -> 0 | AE62: =IF(SUM(V62-AA62)<0,0,SUM(V62-AA62)) -> 0
C63: mercredi | D63: =D62+1 -> 42054 | E63: travail | G63: 0.375 | H63: 0.03125 | I63: 0.75 | J63: =IF(OR(E63="férié travaillé",E63="travail"),(I63-G63+IF(G63>I63,1)-H63),INDEX('bases de donnée'!$E$20:'bases de donnée'!$E$32,MATCH(E63,gerald2,0))) -> 0.34375 | K63: =IF(SUM(J63-'bases de donnée'!E$7)<0,0,SUM(J63-'bases de donnée'!E$7)) -> 0 | L63: =IF(OR(E63="férié travaillé",E63="travail"),I63-G63+IF(G63>I63,1),INDEX('bases de donnée'!$E$20:'bases de donnée'!$E$32,MATCH(E63,gerald2,0))) -> 0.375 | M63: =IF(SUM(L63-'bases de donnée'!E$4)<0,0,SUM(L63-'bases de donnée'!E$4)) -> 0 | N63: 0 | O63: =O62+J63 -> 1.0625 | P63: H semaine | Q63: =IF(AND(G63<>"",I63<>""),1,0+OR(N(I62)<N(G62),E63="récupération",E63="congé 1 jour",E63="congé 1/2 jour ",E63="congé 5h24",E63="arrêt maladie",E63="arrêt travail",E63="férié ",E63="congé parentale",E63="congé de naissance")) -> 1 | S63: =IF(SUM(MOD(I63-G63,1)-IF(I63>G63,MAX(0,MIN(I63,'bases de donnée'!E$16/24)-MAX('planning '!G63,7/24)),MAX(0,'bases de donnée'!E$16/24-MAX('planning '!G63,7/24))+MAX(0,MIN('planning '!I63,'bases de donnée'!E$16/24)-7/24)))<0,0,SUM(MOD('planning '!I63-'planning '!G63,1)-IF('planning '!I63>'planning '!G63,MAX(0,MIN('planning '!I63,'bases de donnée'!E$16/24)-MAX('planning '!G63,7/24)),MAX(0,'bases de donnée'!E$16/24-MAX('planning '!G63,7/24))+MAX(0,MIN('planning '!I63,'bases de donnée'!E$16/24)-7/24)))) -> 0 | U63: =IF(E63<>"travail",IF(E63="férié travaillé",MOD(I63-G63,1)-H63,"00:00"),"00:00") -> 00:00 | V63: =IF(SUM(IF(O63>("36:00"*1),O63-("36:00"*1),0)-V61-V62)<0,0,SUM(IF(O63>("36:00"*1),O63-("36:00"*1),0)-V61-V62)) -> 0 | X63: =S63 -> 0 | Z63: =IF(SUM(U63-X63)<0,0,SUM(U63-X63)) -> 0 | AA63: =IF(SUM(V63-X63-Z63)<0,0,SUM(V63-X63-Z63)) -> 0 | AD63: =IF(SUM(U63-Z63)<0,0,SUM(U63-Z63)) -> 0 | AE63: =IF(SUM(V63-AA63)<0,0,SUM(V63-AA63)) -> 0
C64: jeudi | D64: =D63+1 -> 42055 | E64: travail | G64: 0.38541667 | H64: 0.03125 | I64: 0.75 | J64: =IF(OR(E64="férié travaillé",E64="travail"),(I64-G64+IF(G64>I64,1)-H64),INDEX('bases de donnée'!$E$20:'bases de donnée'!$E$32,MATCH(E64,gerald2,0))) -> 0.33333333 | K64: =IF(SUM(J64-'bases de donnée'!E$7)<0,0,SUM(J64-'bases de donnée'!E$7)) -> 0 | L64: =IF(OR(E64="férié travaillé",E64="travail"),I64-G64+IF(G64>I64,1),INDEX('bases de donnée'!$E$20:'bases de donnée'!$E$32,MATCH(E64,gerald2,0))) -> 0.36458333 | M64: =IF(SUM(L64-'bases de donnée'!E$4)<0,0,SUM(L64-'bases de donnée'!E$4)) -> 0 | N64: 0 | O64: =O63+J64 -> 1.3958333 | P64: =O67 -> 1.6979167 | Q64: =IF(AND(G64<>"",I64<>""),1,0+OR(N(I63)<N(G63),E64="récupération",E64="congé 1 jour",E64="congé 1/2 jour ",E64="congé 5h24",E64="arrêt maladie",E64="arrêt travail",E64="férié ",E64="congé parentale",E64="congé de naissance")) -> 1 | S64: =IF(SUM(MOD(I64-G64,1)-IF(I64>G64,MAX(0,MIN(I64,'bases de donnée'!E$16/24)-MAX('planning '!G64,7/24)),MAX(0,'bases de donnée'!E$16/24-MAX('planning '!G64,7/24))+MAX(0,MIN('planning '!I64,'bases de donnée'!E$16/24)-7/24)))<0,0,SUM(MOD('planning '!I64-'planning '!G64,1)-IF('planning '!I64>'planning '!G64,MAX(0,MIN('planning '!I64,'bases de donnée'!E$16/24)-MAX('planning '!G64,7/24)),MAX(0,'bases de donnée'!E$16/24-MAX('planning '!G64,7/24))+MAX(0,MIN('planning '!I64,'bases de donnée'!E$16/24)-7/24)))) -> 0 | U64: =IF(E64<>"travail",IF(E64="férié travaillé",MOD(I64-G64,1)-H64,"00:00"),"00:00") -> 00:00 | V64: =IF(SUM(IF(O64>("36:00"*1),O64-("36:00"*1),0)-V62-V63)<0,0,SUM(IF(O64>("36:00"*1),O64-("36:00"*1),0)-V61-V62-V63)) -> 0 | X64: =S64 -> 0 | Z64: =IF(SUM(U64-X64)<0,0,SUM(U64-X64)) -> 0 | AA64: =IF(SUM(V64-X64-Z64)<0,0,SUM(V64-X64-Z64)) -> 0 | AD64: =IF(SUM(U64-Z64)<0,0,SUM(U64-Z64)) -> 0 | AE64: =IF(SUM(V64-AA64)<0,0,SUM(V64-AA64)) -> 0
C65: vendredi | D65: =D64+1 -> 42056 | E65: travail | G65: 0.375 | H65: 0.03125 | I65: 0.70833333 | J65: =IF(OR(E65="férié travaillé",E65="travail"),(I65-G65+IF(G65>I65,1)-H65),INDEX('bases de donnée'!$E$20:'bases de donnée'!$E$32,MATCH(E65,gerald2,0))) -> 0.30208333 | K65: =IF(SUM(J65-'bases de donnée'!E$7)<0,0,SUM(J65-'bases de donnée'!E$7)) -> 0 | L65: =IF(OR(E65="férié travaillé",E65="travail"),I65-G65+IF(G65>I65,1),INDEX('bases de donnée'!$E$20:'bases de donnée'!$E$32,MATCH(E65,gerald2,0))) -> 0.33333333 | M65: =IF(SUM(L65-'bases de donnée'!E$4)<0,0,SUM(L65-'bases de donnée'!E$4)) -> 0 | N65: 0 | O65: =O64+J65 -> 1.6979167 | P65: HS hc de | Q65: =IF(AND(G65<>"",I65<>""),1,0+OR(N(I64)<N(G64),E65="récupération",E65="congé 1 jour",E65="congé 1/2 jour ",E65="congé 5h24",E65="arrêt maladie",E65="arrêt travail",E65="férié ",E65="congé parentale",E65="congé de naissance")) -> 1 | S65: =IF(SUM(MOD(I65-G65,1)-IF(I65>G65,MAX(0,MIN(I65,'bases de donnée'!E$16/24)-MAX('planning '!G65,7/24)),MAX(0,'bases de donnée'!E$16/24-MAX('planning '!G65,7/24))+MAX(0,MIN('planning '!I65,'bases de donnée'!E$16/24)-7/24)))<0,0,SUM(MOD('planning '!I65-'planning '!G65,1)-IF('planning '!I65>'planning '!G65,MAX(0,MIN('planning '!I65,'bases de donnée'!E$16/24)-MAX('planning '!G65,7/24)),MAX(0,'bases de donnée'!E$16/24-MAX('planning '!G65,7/24))+MAX(0,MIN('planning '!I65,'bases de donnée'!E$16/24)-7/24)))) -> 0 | U65: =IF(E65<>"travail",IF(E65="férié travaillé",MOD(I65-G65,1)-H65,"00:00"),"00:00") -> 00:00 | V65: =IF(SUM(IF(O65>("36:00"*1),O65-("36:00"*1),0)-V63-V64)<0,0,SUM(IF(O65>("36:00"*1),O65-("36:00"*1),0)-V61-V62-V63-V64)) -> 0.19791667 | X65: =S65 -> 0 | Z65: =IF(SUM(U65-X65)<0,0,SUM(U65-X65)) -> 0 | AA65: =IF(SUM(V65-X65-Z65)<0,0,SUM(V65-X65-Z65)) -> 0.19791667 | AD65: =IF(SUM(U65-Z65)<0,0,SUM(U65-Z65)) -> 0 | AE65: =IF(SUM(V65-AA65)<0,0,SUM(V65-AA65)) -> 0
C66: samedi | D66: =D65+1 -> 42057 | E66: off | J66: =IF(OR(E66="férié travaillé",E66="travail"),(I66-G66+IF(G66>I66,1)-H66),INDEX('bases de donnée'!$E$20:'bases de donnée'!$E$32,MATCH(E66,gerald2,0))) -> 0 | K66: =IF(SUM(J66-'bases de donnée'!E$7)<0,0,SUM(J66-'bases de donnée'!E$7)) -> 0 | L66: =IF(OR(E66="férié travaillé",E66="travail"),I66-G66+IF(G66>I66,1),INDEX('bases de donnée'!$E$20:'bases de donnée'!$E$32,MATCH(E66,gerald2,0))) -> 0 | M66: =IF(SUM(L66-'bases de donnée'!E$4)<0,0,SUM(L66-'bases de donnée'!E$4)) -> 0 | N66: 0 | O66: =O65+J66 -> 1.6979167 | P66: ='bases de donnée'!E$10 -> 2 | Q66: =IF(AND(G66<>"",I66<>""),1,0+OR(N(I65)<N(G65),E66="récupération",E66="congé 1 jour",E66="congé 1/2 jour ",E66="congé 5h24",E66="arrêt maladie",E66="arrêt travail",E66="férié ",E66="congé parentale",E66="congé de naissance")) -> 0 | S66: =IF(SUM(MOD(I66-G66,1)-IF(I66>G66,MAX(0,MIN(I66,'bases de donnée'!E$16/24)-MAX('planning '!G66,7/24)),MAX(0,'bases de donnée'!E$16/24-MAX('planning '!G66,7/24))+MAX(0,MIN('planning '!I66,'bases de donnée'!E$16/24)-7/24)))<0,0,SUM(MOD('planning '!I66-'planning '!G66,1)-IF('planning '!I66>'planning '!G66,MAX(0,MIN('planning '!I66,'bases de donnée'!E$16/24)-MAX('planning '!G66,7/24)),MAX(0,'bases de donnée'!E$16/24-MAX('planning '!G66,7/24))+MAX(0,MIN('planning '!I66,'bases de donnée'!E$16/24)-7/24)))) -> 0 | U66: =IF(E66<>"travail",IF(E66="férié travaillé",MOD(I66-G66,1)-H66,"00:00"),"00:00") -> 00:00 | V66: =IF(SUM(IF(O66>("36:00"*1),O66-("36:00"*1),0)-V64-V65)<0,0,SUM(IF(O66>("36:00"*1),O66-("36:00"*1),0)-V61-V62-V63-V64-V65)) -> 0 | X66: =S66 -> 0 | Z66: =IF(SUM(U66-X66)<0,0,SUM(U66-X66)) -> 0 | AA66: =IF(SUM(V66-X66-Z66)<0,0,SUM(V66-X66-Z66)) -> 0 | AD66: =IF(SUM(U66-Z66)<0,0,SUM(U66-Z66)) -> 0 | AE66: =IF(SUM(V66-AA66)<0,0,SUM(V66-AA66)) -> 0
C67: dimanche | D67: =D66+1 -> 42058 | E67: off | J67: =IF(OR(E67="férié travaillé",E67="travail"),(I67-G67+IF(G67>I67,1)-H67),INDEX('bases de donnée'!$E$20:'bases de donnée'!$E$32,MATCH(E67,gerald2,0))) -> 0 | K67: =IF(SUM(J67-'bases de donnée'!E$7)<0,0,SUM(J67-'bases de donnée'!E$7)) -> 0 | L67: =IF(OR(E67="férié travaillé",E67="travail"),I67-G67+IF(G67>I67,1),INDEX('bases de donnée'!$E$20:'bases de donnée'!$E$32,MATCH(E67,gerald2,0))) -> 0 | M67: =IF(SUM(L67-'bases de donnée'!E$4)<0,0,SUM(L67-'bases de donnée'!E$4)) -> 0 | N67: 0 | O67: =O66+J67 -> 1.6979167 | P67: =IF(SUM(O67-'bases de donnée'!E$10)<0,0,SUM(O67-'bases de donnée'!E$10)) -> 0 | Q67: =IF(AND(G67<>"",I67<>""),1,0+OR(N(I66)<N(G66),E67="récupération",E67="congé 1 jour",E67="congé 1/2 jour ",E67="congé 5h24",E67="arrêt maladie",E67="arrêt travail",E67="férié ",E67="congé parentale",E67="congé de naissance")) -> 0 | S67: =IF(SUM(MOD(I67-G67,1)-IF(I67>G67,MAX(0,MIN(I67,'bases de donnée'!E$16/24)-MAX('planning '!G67,7/24)),MAX(0,'bases de donnée'!E$16/24-MAX('planning '!G67,7/24))+MAX(0,MIN('planning '!I67,'bases de donnée'!E$16/24)-7/24)))<0,0,SUM(MOD('planning '!I67-'planning '!G67,1)-IF('planning '!I67>'planning '!G67,MAX(0,MIN('planning '!I67,'bases de donnée'!E$16/24)-MAX('planning '!G67,7/24)),MAX(0,'bases de donnée'!E$16/24-MAX('planning '!G67,7/24))+MAX(0,MIN('planning '!I67,'bases de donnée'!E$16/24)-7/24)))) -> 0 | T67: =J67 -> 0 | U67: =IF(E67<>"travail",IF(E67="férié travaillé",MOD(I67-G67,1)-H67,"00:00"),"00:00") -> 00:00 | V67: =IF(SUM(IF(O67>("36:00"*1),O67-("36:00"*1),0)-V65-V66)<0,0,SUM(IF(O67>("36:00"*1),O67-("36:00"*1),0)-V61-V62-V63-V64-V65-V66)) -> 0 | X67: =S67 -> 0 | Y67: =IF(SUM(T67-S67)<0,0,SUM(T67-S67)) -> 0 | Z67: =IF(SUM(U67-T67-S67)<0,0,SUM(U67-T67-S67)) -> 0 | AA67: =IF(SUM(V67-S67-T67-U67)<0,0,SUM(V67-S67-T67-U67)) -> 0 | AC67: =IF(SUM(T67-Y67)<0,0,SUM(T67-Y67)) -> 0 | AD67: =IF(SUM(U67-Z67)<0,0,SUM(U67-Z67)) -> 0 | AE67: =IF(SUM(V67-AA67)<0,0,SUM(V67-AA67)) -> 0
B69: semaine | C69: lundi | D69: =D67+1 -> 42059 | E69: arrêt maladie | J69: =IF(OR(E69="férié travaillé",E69="travail"),(I69-G69+IF(G69>I69,1)-H69),INDEX('bases de donnée'!$E$20:'bases de donnée'!$E$32,MATCH(E69,gerald2,0))) -> 0.3 | K69: =IF(SUM(J69-'bases de donnée'!E$7)<0,0,SUM(J69-'bases de donnée'!E$7)) -> 0 | L69: =IF(OR(E69="férié travaillé",E69="travail"),I69-G69+IF(G69>I69,1),INDEX('bases de donnée'!$E$20:'bases de donnée'!$E$32,MATCH(E69,gerald2,0))) -> 0.3 | M69: =IF(SUM(L69-'bases de donnée'!E$4)<0,0,SUM(L69-'bases de donnée'!E$4)) -> 0 | N69: 0 | O69: =J69 -> 0.3 | P69: =SUM(Q69:Q75) -> 5 | Q69: =IF(AND(G69<>"",I69<>""),1,0+OR(N(I68)<N(G68),E69="récupération",E69="congé 1 jour",E69="congé 1/2 jour ",E69="congé 5h24",E69="arrêt maladie",E69="arrêt travail",E69="férié ",E69="congé parentale",E69="congé de naissance")) -> 1 | S69: =IF(SUM(MOD(I69-G69,1)-IF(I69>G69,MAX(0,MIN(I69,'bases de donnée'!E$16/24)-MAX('planning '!G69,7/24)),MAX(0,'bases de donnée'!E$16/24-MAX('planning '!G69,7/24))+MAX(0,MIN('planning '!I69,'bases de donnée'!E$16/24)-7/24)))<0,0,SUM(MOD('planning '!I69-'planning '!G69,1)-IF('planning '!I69>'planning '!G69,MAX(0,MIN('planning '!I69,'bases de donnée'!E$16/24)-MAX('planning '!G69,7/24)),MAX(0,'bases de donnée'!E$16/24-MAX('planning '!G69,7/24))+MAX(0,MIN('planning '!I69,'bases de donnée'!E$16/24)-7/24)))) -> 0 | U69: =IF(E69<>"travail",IF(E69="férié travaillé",MOD(I69-G69,1)-H69,"00:00"),"00:00") -> 00:00 | X69: =S69 -> 0 | Z69: =IF(SUM(U69-X69)<0,0,SUM(U69-X69)) -> 0 | AA69: =IF(SUM(V69-X69-Z69)<0,0,SUM(V69-X69-Z69)) -> 0 | AD69: =IF(SUM(U69-Z69)<0,0,SUM(U69-Z69)) -> 0 | AE69: =IF(SUM(V69-AA69)<0,0,SUM(V69-AA69)) -> 0
B70: =B62+1 -> 8 | C70: mardi | D70: =D69+1 -> 42060 | E70: arrêt maladie | J70: =IF(OR(E70="férié travaillé",E70="travail"),(I70-G70+IF(G70>I70,1)-H70),INDEX('bases de donnée'!$E$20:'bases de donnée'!$E$32,MATCH(E70,gerald2,0))) -> 0.3 | K70: =IF(SUM(J70-'bases de donnée'!E$7)<0,0,SUM(J70-'bases de donnée'!E$7)) -> 0 | L70: =IF(OR(E70="férié travaillé",E70="travail"),I70-G70+IF(G70>I70,1),INDEX('bases de donnée'!$E$20:'bases de donnée'!$E$32,MATCH(E70,gerald2,0))) -> 0.3 | M70: =IF(SUM(L70-'bases de donnée'!E$4)<0,0,SUM(L70-'bases de donnée'!E$4)) -> 0 | N70: 0 | O70: =O69+J70 -> 0.6 | P70: =IF(SUM(P69-'bases de donnée'!E$6)<0,0,SUM(P69-'bases de donnée'!E$6)) -> 0 | Q70: =IF(AND(G70<>"",I70<>""),1,0+OR(N(I69)<N(G69),E70="récupération",E70="congé 1 jour",E70="congé 1/2 jour ",E70="congé 5h24",E70="arrêt maladie",E70="arrêt travail",E70="férié ",E70="congé parentale",E70="congé de naissance")) -> 1 | S70: =IF(SUM(MOD(I70-G70,1)-IF(I70>G70,MAX(0,MIN(I70,'bases de donnée'!E$16/24)-MAX('planning '!G70,7/24)),MAX(0,'bases de donnée'!E$16/24-MAX('planning '!G70,7/24))+MAX(0,MIN('planning '!I70,'bases de donnée'!E$16/24)-7/24)))<0,0,SUM(MOD('planning '!I70-'planning '!G70,1)-IF('planning '!I70>'planning '!G70,MAX(0,MIN('planning '!I70,'bases de donnée'!E$16/24)-MAX('planning '!G70,7/24)),MAX(0,'bases de donnée'!E$16/24-MAX('planning '!G70,7/24))+MAX(0,MIN('planning '!I70,'bases de donnée'!E$16/24)-7/24)))) -> 0 | U70: =IF(E70<>"travail",IF(E70="férié travaillé",MOD(I70-G70,1)-H70,"00:00"),"00:00") -> 00:00 | V70: =IF(SUM(IF(O70>('bases de donnée'!E$9*1),O70-('bases de donnée'!E$9*1),0)-V69)<0,0,SUM(IF(O70>('bases de donnée'!E$9*1),O70-('bases de donnée'!E$9*1),0)-V69)) -> 0 | X70: =S70 -> 0 | Z70: =IF(SUM(U70-X70)<0,0,SUM(U70-X70)) -> 0 | AA70: =IF(SUM(V70-X70-Z70)<0,0,SUM(V70-X70-Z70)) -> 0 | AD70: =IF(SUM(U70-Z70)<0,0,SUM(U70-Z70)) -> 0 | AE70: =IF(SUM(V70-AA70)<0,0,SUM(V70-AA70)) -> 0
C71: mercredi | D71: =D70+1 -> 42061 | E71: travail | G71: 0.375 | H71: 0.03125 | I71: 0.70833333 | J71: =IF(OR(E71="férié travaillé",E71="travail"),(I71-G71+IF(G71>I71,1)-H71),INDEX('bases de donnée'!$E$20:'bases de donnée'!$E$32,MATCH(E71,gerald2,0))) -> 0.30208333 | K71: =IF(SUM(J71-'bases de donnée'!E$7)<0,0,SUM(J71-'bases de donnée'!E$7)) -> 0 | L71: =IF(OR(E71="férié travaillé",E71="travail"),I71-G71+IF(G71>I71,1),INDEX('bases de donnée'!$E$20:'bases de donnée'!$E$32,MATCH(E71,gerald2,0))) -> 0.33333333 | M71: =IF(SUM(L71-'bases de donnée'!E$4)<0,0,SUM(L71-'bases de donnée'!E$4)) -> 0 | N71: 0 | O71: =O70+J71 -> 0.90208333 | P71: H semaine | Q71: =IF(AND(G71<>"",I71<>""),1,0+OR(N(I70)<N(G70),E71="récupération",E71="congé 1 jour",E71="congé 1/2 jour ",E71="congé 5h24",E71="arrêt maladie",E71="arrêt travail",E71="férié ",E71="congé parentale",E71="congé de naissance")) -> 1 | S71: =IF(SUM(MOD(I71-G71,1)-IF(I71>G71,MAX(0,MIN(I71,'bases de donnée'!E$16/24)-MAX('planning '!G71,7/24)),MAX(0,'bases de donnée'!E$16/24-MAX('planning '!G71,7/24))+MAX(0,MIN('planning '!I71,'bases de donnée'!E$16/24)-7/24)))<0,0,SUM(MOD('planning '!I71-'planning '!G71,1)-IF('planning '!I71>'planning '!G71,MAX(0,MIN('planning '!I71,'bases de donnée'!E$16/24)-MAX('planning '!G71,7/24)),MAX(0,'bases de donnée'!E$16/24-MAX('planning '!G71,7/24))+MAX(0,MIN('planning '!I71,'bases de donnée'!E$16/24)-7/24)))) -> 0 | U71: =IF(E71<>"travail",IF(E71="férié travaillé",MOD(I71-G71,1)-H71,"00:00"),"00:00") -> 00:00 | V71: =IF(SUM(IF(O71>("36:00"*1),O71-("36:00"*1),0)-V69-V70)<0,0,SUM(IF(O71>("36:00"*1),O71-("36:00"*1),0)-V69-V70)) -> 0 | X71: =S71 -> 0 | Z71: =IF(SUM(U71-X71)<0,0,SUM(U71-X71)) -> 0 | AA71: =IF(SUM(V71-X71-Z71)<0,0,SUM(V71-X71-Z71)) -> 0 | AD71: =IF(SUM(U71-Z71)<0,0,SUM(U71-Z71)) -> 0 | AE71: =IF(SUM(V71-AA71)<0,0,SUM(V71-AA71)) -> 0
C72: jeudi | D72: =D71+1 -> 42062 | E72: travail | G72: 0.375 | H72: 0.03125 | I72: 0.70833333 | J72: =IF(OR(E72="férié travaillé",E72="travail"),(I72-G72+IF(G72>I72,1)-H72),INDEX('bases de donnée'!$E$20:'bases de donnée'!$E$32,MATCH(E72,gerald2,0))) -> 0.30208333 | K72: =IF(SUM(J72-'bases de donnée'!E$7)<0,0,SUM(J72-'bases de donnée'!E$7)) -> 0 | L72: =IF(OR(E72="férié travaillé",E72="travail"),I72-G72+IF(G72>I72,1),INDEX('bases de donnée'!$E$20:'bases de donnée'!$E$32,MATCH(E72,gerald2,0))) -> 0.33333333 | M72: =IF(SUM(L72-'bases de donnée'!E$4)<0,0,SUM(L72-'bases de donnée'!E$4)) -> 0 | N72: 0 | O72: =O71+J72 -> 1.2041667 | P72: =O75 -> 1.50625 | Q72: =IF(AND(G72<>"",I72<>""),1,0+OR(N(I71)<N(G71),E72="récupération",E72="congé 1 jour",E72="congé 1/2 jour ",E72="congé 5h24",E72="arrêt maladie",E72="arrêt travail",E72="férié ",E72="congé parentale",E72="congé de naissance")) -> 1 | S72: =IF(SUM(MOD(I72-G72,1)-IF(I72>G72,MAX(0,MIN(I72,'bases de donnée'!E$16/24)-MAX('planning '!G72,7/24)),MAX(0,'bases de donnée'!E$16/24-MAX('planning '!G72,7/24))+MAX(0,MIN('planning '!I72,'bases de donnée'!E$16/24)-7/24)))<0,0,SUM(MOD('planning '!I72-'planning '!G72,1)-IF('planning '!I72>'planning '!G72,MAX(0,MIN('planning '!I72,'bases de donnée'!E$16/24)-MAX('planning '!G72,7/24)),MAX(0,'bases de donnée'!E$16/24-MAX('planning '!G72,7/24))+MAX(0,MIN('planning '!I72,'bases de donnée'!E$16/24)-7/24)))) -> 0 | U72: =IF(E72<>"travail",IF(E72="férié travaillé",MOD(I72-G72,1)-H72,"00:00"),"00:00") -> 00:00 | V72: =IF(SUM(IF(O72>("36:00"*1),O72-("36:00"*1),0)-V70-V71)<0,0,SUM(IF(O72>("36:00"*1),O72-("36:00"*1),0)-V69-V70-V71)) -> 0 | X72: =S72 -> 0 | Z72: =IF(SUM(U72-X72)<0,0,SUM(U72-X72)) -> 0 | AA72: =IF(SUM(V72-X72-Z72)<0,0,SUM(V72-X72-Z72)) -> 0 | AD72: =IF(SUM(U72-Z72)<0,0,SUM(U72-Z72)) -> 0 | AE72: =IF(SUM(V72-AA72)<0,0,SUM(V72-AA72)) -> 0
C73: vendredi | D73: =D72+1 -> 42063 | E73: travail | G73: 0.375 | H73: 0.03125 | I73: 0.70833333 | J73: =IF(OR(E73="férié travaillé",E73="travail"),(I73-G73+IF(G73>I73,1)-H73),INDEX('bases de donnée'!$E$20:'bases de donnée'!$E$32,MATCH(E73,gerald2,0))) -> 0.30208333 | K73: =IF(SUM(J73-'bases de donnée'!E$7)<0,0,SUM(J73-'bases de donnée'!E$7)) -> 0 | L73: =IF(OR(E73="férié travaillé",E73="travail"),I73-G73+IF(G73>I73,1),INDEX('bases de donnée'!$E$20:'bases de donnée'!$E$32,MATCH(E73,gerald2,0))) -> 0.33333333 | M73: =IF(SUM(L73-'bases de donnée'!E$4)<0,0,SUM(L73-'bases de donnée'!E$4)) -> 0 | N73: 0 | O73: =O72+J73 -> 1.50625 | P73: HS hc de | Q73: =IF(AND(G73<>"",I73<>""),1,0+OR(N(I72)<N(G72),E73="récupération",E73="congé 1 jour",E73="congé 1/2 jour ",E73="congé 5h24",E73="arrêt maladie",E73="arrêt travail",E73="férié ",E73="congé parentale",E73="congé de naissance")) -> 1 | S73: =IF(SUM(MOD(I73-G73,1)-IF(I73>G73,MAX(0,MIN(I73,'bases de donnée'!E$16/24)-MAX('planning '!G73,7/24)),MAX(0,'bases de donnée'!E$16/24-MAX('planning '!G73,7/24))+MAX(0,MIN('planning '!I73,'bases de donnée'!E$16/24)-7/24)))<0,0,SUM(MOD('planning '!I73-'planning '!G73,1)-IF('planning '!I73>'planning '!G73,MAX(0,MIN('planning '!I73,'bases de donnée'!E$16/24)-MAX('planning '!G73,7/24)),MAX(0,'bases de donnée'!E$16/24-MAX('planning '!G73,7/24))+MAX(0,MIN('planning '!I73,'bases de donnée'!E$16/24)-7/24)))) -> 0 | U73: =IF(E73<>"travail",IF(E73="férié travaillé",MOD(I73-G73,1)-H73,"00:00"),"00:00") -> 00:00 | V73: =IF(SUM(IF(O73>("36:00"*1),O73-("36:00"*1),0)-V71-V72)<0,0,SUM(IF(O73>("36:00"*1),O73-("36:00"*1),0)-V69-V70-V71-V72)) -> 0.00625 | X73: =S73 -> 0 | Z73: =IF(SUM(U73-X73)<0,0,SUM(U73-X73)) -> 0 | AA73: =IF(SUM(V73-X73-Z73)<0,0,SUM(V73-X73-Z73)) -> 0.00625 | AD73: =IF(SUM(U73-Z73)<0,0,SUM(U73-Z73)) -> 0 | AE73: =IF(SUM(V73-AA73)<0,0,SUM(V73-AA73)) -> 0
C74: samedi | D74: =D73+1 -> 42064 | E74: off | J74: =IF(OR(E74="férié travaillé",E74="travail"),(I74-G74+IF(G74>I74,1)-H74),INDEX('bases de donnée'!$E$20:'bases de donnée'!$E$32,MATCH(E74,gerald2,0))) -> 0 | K74: =IF(SUM(J74-'bases de donnée'!E$7)<0,0,SUM(J74-'bases de donnée'!E$7)) -> 0 | L74: =IF(OR(E74="férié travaillé",E74="travail"),I74-G74+IF(G74>I74,1),INDEX('bases de donnée'!$E$20:'bases de donnée'!$E$32,MATCH(E74,gerald2,0))) -> 0 | M74: =IF(SUM(L74-'bases de donnée'!E$4)<0,0,SUM(L74-'bases de donnée'!E$4)) -> 0 | N74: 0 | O74: =O73+J74 -> 1.50625 | P74: ='bases de donnée'!E$10 -> 2 | Q74: =IF(AND(G74<>"",I74<>""),1,0+OR(N(I73)<N(G73),E74="récupération",E74="congé 1 jour",E74="congé 1/2 jour ",E74="congé 5h24",E74="arrêt maladie",E74="arrêt travail",E74="férié ",E74="congé parentale",E74="congé de naissance")) -> 0 | S74: =IF(SUM(MOD(I74-G74,1)-IF(I74>G74,MAX(0,MIN(I74,'bases de donnée'!E$16/24)-MAX('planning '!G74,7/24)),MAX(0,'bases de donnée'!E$16/24-MAX('planning '!G74,7/24))+MAX(0,MIN('planning '!I74,'bases de donnée'!E$16/24)-7/24)))<0,0,SUM(MOD('planning '!I74-'planning '!G74,1)-IF('planning '!I74>'planning '!G74,MAX(0,MIN('planning '!I74,'bases de donnée'!E$16/24)-MAX('planning '!G74,7/24)),MAX(0,'bases de donnée'!E$16/24-MAX('planning '!G74,7/24))+MAX(0,MIN('planning '!I74,'bases de donnée'!E$16/24)-7/24)))) -> 0 | U74: =IF(E74<>"travail",IF(E74="férié travaillé",MOD(I74-G74,1)-H74,"00:00"),"00:00") -> 00:00 | V74: =IF(SUM(IF(O74>("36:00"*1),O74-("36:00"*1),0)-V72-V73)<0,0,SUM(IF(O74>("36:00"*1),O74-("36:00"*1),0)-V69-V70-V71-V72-V73)) -> 0 | X74: =S74 -> 0 | Z74: =IF(SUM(U74-X74)<0,0,SUM(U74-X74)) -> 0 | AA74: =IF(SUM(V74-X74-Z74)<0,0,SUM(V74-X74-Z74)) -> 0 | AD74: =IF(SUM(U74-Z74)<0,0,SUM(U74-Z74)) -> 0 | AE74: =IF(SUM(V74-AA74)<0,0,SUM(V74-AA74)) -> 0
C75: dimanche | D75: =D74+1 -> 42065 | E75: off | J75: =IF(OR(E75="férié travaillé",E75="travail"),(I75-G75+IF(G75>I75,1)-H75),INDEX('bases de donnée'!$E$20:'bases de donnée'!$E$32,MATCH(E75,gerald2,0))) -> 0 | K75: =IF(SUM(J75-'bases de donnée'!E$7)<0,0,SUM(J75-'bases de donnée'!E$7)) -> 0 | L75: =IF(OR(E75="férié travaillé",E75="travail"),I75-G75+IF(G75>I75,1),INDEX('bases de donnée'!$E$20:'bases de donnée'!$E$32,MATCH(E75,gerald2,0))) -> 0 | M75: =IF(SUM(L75-'bases de donnée'!E$4)<0,0,SUM(L75-'bases de donnée'!E$4)) -> 0 | N75: 0 | O75: =O74+J75 -> 1.50625 | P75: =IF(SUM(O75-'bases de donnée'!E$10)<0,0,SUM(O75-'bases de donnée'!E$10)) -> 0 | Q75: =IF(AND(G75<>"",I75<>""),1,0+OR(N(I74)<N(G74),E75="récupération",E75="congé 1 jour",E75="congé 1/2 jour ",E75="congé 5h24",E75="arrêt maladie",E75="arrêt travail",E75="férié ",E75="congé parentale",E75="congé de naissance")) -> 0 | S75: =IF(SUM(MOD(I75-G75,1)-IF(I75>G75,MAX(0,MIN(I75,'bases de donnée'!E$16/24)-MAX('planning '!G75,7/24)),MAX(0,'bases de donnée'!E$16/24-MAX('planning '!G75,7/24))+MAX(0,MIN('planning '!I75,'bases de donnée'!E$16/24)-7/24)))<0,0,SUM(MOD('planning '!I75-'planning '!G75,1)-IF('planning '!I75>'planning '!G75,MAX(0,MIN('planning '!I75,'bases de donnée'!E$16/24)-MAX('planning '!G75,7/24)),MAX(0,'bases de donnée'!E$16/24-MAX('planning '!G75,7/24))+MAX(0,MIN('planning '!I75,'bases de donnée'!E$16/24)-7/24)))) -> 0 | T75: =J75 -> 0 | U75: =IF(E75<>"travail",IF(E75="férié travaillé",MOD(I75-G75,1)-H75,"00:00"),"00:00") -> 00:00 | V75: =IF(SUM(IF(O75>("36:00"*1),O75-("36:00"*1),0)-V73-V74)<0,0,SUM(IF(O75>("36:00"*1),O75-("36:00"*1),0)-V69-V70-V71-V72-V73-V74)) -> 0 | X75: =S75 -> 0 | Y75: =IF(SUM(T75-S75)<0,0,SUM(T75-S75)) -> 0 | Z75: =IF(SUM(U75-T75-S75)<0,0,SUM(U75-T75-S75)) -> 0 | AA75: =IF(SUM(V75-S75-T75-U75)<0,0,SUM(V75-S75-T75-U75)) -> 0 | AC75: =IF(SUM(T75-Y75)<0,0,SUM(T75-Y75)) -> 0 | AD75: =IF(SUM(U75-Z75)<0,0,SUM(U75-Z75)) -> 0 | AE75: =IF(SUM(V75-AA75)<0,0,SUM(V75-AA75)) -> 0
B77: semaine | C77: lundi | D77: =D75+1 -> 42066 | E77: travail | G77: 0.375 | H77: 0.03125 | I77: 0.70833333 | J77: =IF(OR(E77="férié travaillé",E77="travail"),(I77-G77+IF(G77>I77,1)-H77),INDEX('bases de donnée'!$E$20:'bases de donnée'!$E$32,MATCH(E77,gerald2,0))) -> 0.30208333 | K77: =IF(SUM(J77-'bases de donnée'!E$7)<0,0,SUM(J77-'bases de donnée'!E$7)) -> 0 | L77: =IF(OR(E77="férié travaillé",E77="travail"),I77-G77+IF(G77>I77,1),INDEX('bases de donnée'!$E$20:'bases de donnée'!$E$32,MATCH(E77,gerald2,0))) -> 0.33333333 | M77: =IF(SUM(L77-'bases de donnée'!E$4)<0,0,SUM(L77-'bases de donnée'!E$4)) -> 0 | N77: 0 | O77: =J77 -> 0.30208333 | P77: =SUM(Q77:Q83) -> 5 | Q77: =IF(AND(G77<>"",I77<>""),1,0+OR(N(I76)<N(G76),E77="récupération",E77="congé 1 jour",E77="congé 1/2 jour ",E77="congé 5h24",E77="arrêt maladie",E77="arrêt travail",E77="férié ",E77="congé parentale",E77="congé de naissance")) -> 1 | S77: =IF(SUM(MOD(I77-G77,1)-IF(I77>G77,MAX(0,MIN(I77,'bases de donnée'!E$16/24)-MAX('planning '!G77,7/24)),MAX(0,'bases de donnée'!E$16/24-MAX('planning '!G77,7/24))+MAX(0,MIN('planning '!I77,'bases de donnée'!E$16/24)-7/24)))<0,0,SUM(MOD('planning '!I77-'planning '!G77,1)-IF('planning '!I77>'planning '!G77,MAX(0,MIN('planning '!I77,'bases de donnée'!E$16/24)-MAX('planning '!G77,7/24)),MAX(0,'bases de donnée'!E$16/24-MAX('planning '!G77,7/24))+MAX(0,MIN('planning '!I77,'bases de donnée'!E$16/24)-7/24)))) -> 0 | U77: =IF(E77<>"travail",IF(E77="férié travaillé",MOD(I77-G77,1)-H77,"00:00"),"00:00") -> 00:00 | X77: =S77 -> 0 | Z77: =IF(SUM(U77-X77)<0,0,SUM(U77-X77)) -> 0 | AA77: =IF(SUM(V77-X77-Z77)<0,0,SUM(V77-X77-Z77)) -> 0 | AD77: =IF(SUM(U77-Z77)<0,0,SUM(U77-Z77)) -> 0 | AE77: =IF(SUM(V77-AA77)<0,0,SUM(V77-AA77)) -> 0
B78: =B70+1 -> 9 | C78: mardi | D78: =D77+1 -> 42067 | E78: travail | G78: 0.375 | H78: 0.03125 | I78: 0.76041667 | J78: =IF(OR(E78="férié travaillé",E78="travail"),(I78-G78+IF(G78>I78,1)-H78),INDEX('bases de donnée'!$E$20:'bases de donnée'!$E$32,MATCH(E78,gerald2,0))) -> 0.35416667 | K78: =IF(SUM(J78-'bases de donnée'!E$7)<0,0,SUM(J78-'bases de donnée'!E$7)) -> 0 | L78: =IF(OR(E78="férié travaillé",E78="travail"),I78-G78+IF(G78>I78,1),INDEX('bases de donnée'!$E$20:'bases de donnée'!$E$32,MATCH(E78,gerald2,0))) -> 0.38541667 | M78: =IF(SUM(L78-'bases de donnée'!E$4)<0,0,SUM(L78-'bases de donnée'!E$4)) -> 0 | N78: 0 | O78: =O77+J78 -> 0.65625 | P78: =IF(SUM(P77-'bases de donnée'!E$6)<0,0,SUM(P77-'bases de donnée'!E$6)) -> 0 | Q78: =IF(AND(G78<>"",I78<>""),1,0+OR(N(I77)<N(G77),E78="récupération",E78="congé 1 jour",E78="congé 1/2 jour ",E78="congé 5h24",E78="arrêt maladie",E78="arrêt travail",E78="férié ",E78="congé parentale",E78="congé de naissance")) -> 1 | S78: =IF(SUM(MOD(I78-G78,1)-IF(I78>G78,MAX(0,MIN(I78,'bases de donnée'!E$16/24)-MAX('planning '!G78,7/24)),MAX(0,'bases de donnée'!E$16/24-MAX('planning '!G78,7/24))+MAX(0,MIN('planning '!I78,'bases de donnée'!E$16/24)-7/24)))<0,0,SUM(MOD('planning '!I78-'planning '!G78,1)-IF('planning '!I78>'planning '!G78,MAX(0,MIN('planning '!I78,'bases de donnée'!E$16/24)-MAX('planning '!G78,7/24)),MAX(0,'bases de donnée'!E$16/24-MAX('planning '!G78,7/24))+MAX(0,MIN('planning '!I78,'bases de donnée'!E$16/24)-7/24)))) -> 0 | U78: =IF(E78<>"travail",IF(E78="férié travaillé",MOD(I78-G78,1)-H78,"00:00"),"00:00") -> 00:00 | V78: =IF(SUM(IF(O78>('bases de donnée'!E$9*1),O78-('bases de donnée'!E$9*1),0)-V77)<0,0,SUM(IF(O78>('bases de donnée'!E$9*1),O78-('bases de donnée'!E$9*1),0)-V77)) -> 0 | X78: =S78 -> 0 | Z78: =IF(SUM(U78-X78)<0,0,SUM(U78-X78)) -> 0 | AA78: =IF(SUM(V78-X78-Z78)<0,0,SUM(V78-X78-Z78)) -> 0 | AD78: =IF(SUM(U78-Z78)<0,0,SUM(U78-Z78)) -> 0 | AE78: =IF(SUM(V78-AA78)<0,0,SUM(V78-AA78)) -> 0
C79: mercredi | D79: =D78+1 -> 42068 | E79: travail | G79: 0.41666667 | H79: 0.03125 | I79: 0.77083333 | J79: =IF(OR(E79="férié travaillé",E79="travail"),(I79-G79+IF(G79>I79,1)-H79),INDEX('bases de donnée'!$E$20:'bases de donnée'!$E$32,MATCH(E79,gerald2,0))) -> 0.32291667 | K79: =IF(SUM(J79-'bases de donnée'!E$7)<0,0,SUM(J79-'bases de donnée'!E$7)) -> 0 | L79: =IF(OR(E79="férié travaillé",E79="travail"),I79-G79+IF(G79>I79,1),INDEX('bases de donnée'!$E$20:'bases de donnée'!$E$32,MATCH(E79,gerald2,0))) -> 0.35416667 | M79: =IF(SUM(L79-'bases de donnée'!E$4)<0,0,SUM(L79-'bases de donnée'!E$4)) -> 0 | N79: 0 | O79: =O78+J79 -> 0.97916667 | P79: H semaine | Q79: =IF(AND(G79<>"",I79<>""),1,0+OR(N(I78)<N(G78),E79="récupération",E79="congé 1 jour",E79="congé 1/2 jour ",E79="congé 5h24",E79="arrêt maladie",E79="arrêt travail",E79="férié ",E79="congé parentale",E79="congé de naissance")) -> 1 | S79: =IF(SUM(MOD(I79-G79,1)-IF(I79>G79,MAX(0,MIN(I79,'bases de donnée'!E$16/24)-MAX('planning '!G79,7/24)),MAX(0,'bases de donnée'!E$16/24-MAX('planning '!G79,7/24))+MAX(0,MIN('planning '!I79,'bases de donnée'!E$16/24)-7/24)))<0,0,SUM(MOD('planning '!I79-'planning '!G79,1)-IF('planning '!I79>'planning '!G79,MAX(0,MIN('planning '!I79,'bases de donnée'!E$16/24)-MAX('planning '!G79,7/24)),MAX(0,'bases de donnée'!E$16/24-MAX('planning '!G79,7/24))+MAX(0,MIN('planning '!I79,'bases de donnée'!E$16/24)-7/24)))) -> 0 | U79: =IF(E79<>"travail",IF(E79="férié travaillé",MOD(I79-G79,1)-H79,"00:00"),"00:00") -> 00:00 | V79: =IF(SUM(IF(O79>("36:00"*1),O79-("36:00"*1),0)-V77-V78)<0,0,SUM(IF(O79>("36:00"*1),O79-("36:00"*1),0)-V77-V78)) -> 0 | X79: =S79 -> 0 | Z79: =IF(SUM(U79-X79)<0,0,SUM(U79-X79)) -> 0 | AA79: =IF(SUM(V79-X79-Z79)<0,0,SUM(V79-X79-Z79)) -> 0 | AD79: =IF(SUM(U79-Z79)<0,0,SUM(U79-Z79)) -> 0 | AE79: =IF(SUM(V79-AA79)<0,0,SUM(V79-AA79)) -> 0
C80: jeudi | D80: =D79+1 -> 42069 | E80: travail | G80: 0.5 | H80: 0.03125 | I80: 0.90625 | J80: =IF(OR(E80="férié travaillé",E80="travail"),(I80-G80+IF(G80>I80,1)-H80),INDEX('bases de donnée'!$E$20:'bases de donnée'!$E$32,MATCH(E80,gerald2,0))) -> 0.375 | K80: =IF(SUM(J80-'bases de donnée'!E$7)<0,0,SUM(J80-'bases de donnée'!E$7)) -> 0 | L80: =IF(OR(E80="férié travaillé",E80="travail"),I80-G80+IF(G80>I80,1),INDEX('bases de donnée'!$E$20:'bases de donnée'!$E$32,MATCH(E80,gerald2,0))) -> 0.40625 | M80: =IF(SUM(L80-'bases de donnée'!E$4)<0,0,SUM(L80-'bases de donnée'!E$4)) -> 0 | N80: 0 | O80: =O79+J80 -> 1.3541667 | P80: =O83 -> 1.5208333 | Q80: =IF(AND(G80<>"",I80<>""),1,0+OR(N(I79)<N(G79),E80="récupération",E80="congé 1 jour",E80="congé 1/2 jour ",E80="congé 5h24",E80="arrêt maladie",E80="arrêt travail",E80="férié ",E80="congé parentale",E80="congé de naissance")) -> 1 | S80: =IF(SUM(MOD(I80-G80,1)-IF(I80>G80,MAX(0,MIN(I80,'bases de donnée'!E$16/24)-MAX('planning '!G80,7/24)),MAX(0,'bases de donnée'!E$16/24-MAX('planning '!G80,7/24))+MAX(0,MIN('planning '!I80,'bases de donnée'!E$16/24)-7/24)))<0,0,SUM(MOD('planning '!I80-'planning '!G80,1)-IF('planning '!I80>'planning '!G80,MAX(0,MIN('planning '!I80,'bases de donnée'!E$16/24)-MAX('planning '!G80,7/24)),MAX(0,'bases de donnée'!E$16/24-MAX('planning '!G80,7/24))+MAX(0,MIN('planning '!I80,'bases de donnée'!E$16/24)-7/24)))) -> 0.03125 | U80: =IF(E80<>"travail",IF(E80="férié travaillé",MOD(I80-G80,1)-H80,"00:00"),"00:00") -> 00:00 | V80: =IF(SUM(IF(O80>("36:00"*1),O80-("36:00"*1),0)-V78-V79)<0,0,SUM(IF(O80>("36:00"*1),O80-("36:00"*1),0)-V77-V78-V79)) -> 0 | X80: =S80 -> 0.03125 | Z80: =IF(SUM(U80-X80)<0,0,SUM(U80-X80)) -> 0 | AA80: =IF(SUM(V80-X80-Z80)<0,0,SUM(V80-X80-Z80)) -> 0 | AD80: =IF(SUM(U80-Z80)<0,0,SUM(U80-Z80)) -> 0 | AE80: =IF(SUM(V80-AA80)<0,0,SUM(V80-AA80)) -> 0
C81: vendredi | D81: =D80+1 -> 42070 | E81: travail | G81: 0.375 | I81: 0.54166667 | J81: =IF(OR(E81="férié travaillé",E81="travail"),(I81-G81+IF(G81>I81,1)-H81),INDEX('bases de donnée'!$E$20:'bases de donnée'!$E$32,MATCH(E81,gerald2,0))) -> 0.16666667 | K81: =IF(SUM(J81-'bases de donnée'!E$7)<0,0,SUM(J81-'bases de donnée'!E$7)) -> 0 | L81: =IF(OR(E81="férié travaillé",E81="travail"),I81-G81+IF(G81>I81,1),INDEX('bases de donnée'!$E$20:'bases de donnée'!$E$32,MATCH(E81,gerald2,0))) -> 0.16666667 | M81: =IF(SUM(L81-'bases de donnée'!E$4)<0,0,SUM(L81-'bases de donnée'!E$4)) -> 0 | N81: 0 | O81: =O80+J81 -> 1.5208333 | P81: HS hc de | Q81: =IF(AND(G81<>"",I81<>""),1,0+OR(N(I80)<N(G80),E81="récupération",E81="congé 1 jour",E81="congé 1/2 jour ",E81="congé 5h24",E81="arrêt maladie",E81="arrêt travail",E81="férié ",E81="congé parentale",E81="congé de naissance")) -> 1 | S81: =IF(SUM(MOD(I81-G81,1)-IF(I81>G81,MAX(0,MIN(I81,'bases de donnée'!E$16/24)-MAX('planning '!G81,7/24)),MAX(0,'bases de donnée'!E$16/24-MAX('planning '!G81,7/24))+MAX(0,MIN('planning '!I81,'bases de donnée'!E$16/24)-7/24)))<0,0,SUM(MOD('planning '!I81-'planning '!G81,1)-IF('planning '!I81>'planning '!G81,MAX(0,MIN('planning '!I81,'bases de donnée'!E$16/24)-MAX('planning '!G81,7/24)),MAX(0,'bases de donnée'!E$16/24-MAX('planning '!G81,7/24))+MAX(0,MIN('planning '!I81,'bases de donnée'!E$16/24)-7/24)))) -> 0 | U81: =IF(E81<>"travail",IF(E81="férié travaillé",MOD(I81-G81,1)-H81,"00:00"),"00:00") -> 00:00 | V81: =IF(SUM(IF(O81>("36:00"*1),O81-("36:00"*1),0)-V79-V80)<0,0,SUM(IF(O81>("36:00"*1),O81-("36:00"*1),0)-V77-V78-V79-V80)) -> 0.020833333 | X81: =S81 -> 0 | Z81: =IF(SUM(U81-X81)<0,0,SUM(U81-X81)) -> 0 | AA81: =IF(SUM(V81-X81-Z81)<0,0,SUM(V81-X81-Z81)) -> 0.020833333 | AD81: =IF(SUM(U81-Z81)<0,0,SUM(U81-Z81)) -> 0 | AE81: =IF(SUM(V81-AA81)<0,0,SUM(V81-AA81)) -> 0
C82: samedi | D82: =D81+1 -> 42071 | E82: off | J82: =IF(OR(E82="férié travaillé",E82="travail"),(I82-G82+IF(G82>I82,1)-H82),INDEX('bases de donnée'!$E$20:'bases de donnée'!$E$32,MATCH(E82,gerald2,0))) -> 0 | K82: =IF(SUM(J82-'bases de donnée'!E$7)<0,0,SUM(J82-'bases de donnée'!E$7)) -> 0 | L82: =IF(OR(E82="férié travaillé",E82="travail"),I82-G82+IF(G82>I82,1),INDEX('bases de donnée'!$E$20:'bases de donnée'!$E$32,MATCH(E82,gerald2,0))) -> 0 | M82: =IF(SUM(L82-'bases de donnée'!E$4)<0,0,SUM(L82-'bases de donnée'!E$4)) -> 0 | N82: 0 | O82: =O81+J82 -> 1.5208333 | P82: ='bases de donnée'!E$10 -> 2 | Q82: =IF(AND(G82<>"",I82<>""),1,0+OR(N(I81)<N(G81),E82="récupération",E82="congé 1 jour",E82="congé 1/2 jour ",E82="congé 5h24",E82="arrêt maladie",E82="arrêt travail",E82="férié ",E82="congé parentale",E82="congé de naissance")) -> 0 | S82: =IF(SUM(MOD(I82-G82,1)-IF(I82>G82,MAX(0,MIN(I82,'bases de donnée'!E$16/24)-MAX('planning '!G82,7/24)),MAX(0,'bases de donnée'!E$16/24-MAX('planning '!G82,7/24))+MAX(0,MIN('planning '!I82,'bases de donnée'!E$16/24)-7/24)))<0,0,SUM(MOD('planning '!I82-'planning '!G82,1)-IF('planning '!I82>'planning '!G82,MAX(0,MIN('planning '!I82,'bases de donnée'!E$16/24)-MAX('planning '!G82,7/24)),MAX(0,'bases de donnée'!E$16/24-MAX('planning '!G82,7/24))+MAX(0,MIN('planning '!I82,'bases de donnée'!E$16/24)-7/24)))) -> 0 | U82: =IF(E82<>"travail",IF(E82="férié travaillé",MOD(I82-G82,1)-H82,"00:00"),"00:00") -> 00:00 | V82: =IF(SUM(IF(O82>("36:00"*1),O82-("36:00"*1),0)-V80-V81)<0,0,SUM(IF(O82>("36:00"*1),O82-("36:00"*1),0)-V77-V78-V79-V80-V81)) -> 0 | X82: =S82 -> 0 | Z82: =IF(SUM(U82-X82)<0,0,SUM(U82-X82)) -> 0 | AA82: =IF(SUM(V82-X82-Z82)<0,0,SUM(V82-X82-Z82)) -> 0 | AD82: =IF(SUM(U82-Z82)<0,0,SUM(U82-Z82)) -> 0 | AE82: =IF(SUM(V82-AA82)<0,0,SUM(V82-AA82)) -> 0
C83: dimanche | D83: =D82+1 -> 42072 | E83: off | J83: =IF(OR(E83="férié travaillé",E83="travail"),(I83-G83+IF(G83>I83,1)-H83),INDEX('bases de donnée'!$E$20:'bases de donnée'!$E$32,MATCH(E83,gerald2,0))) -> 0 | K83: =IF(SUM(J83-'bases de donnée'!E$7)<0,0,SUM(J83-'bases de donnée'!E$7)) -> 0 | L83: =IF(OR(E83="férié travaillé",E83="travail"),I83-G83+IF(G83>I83,1),INDEX('bases de donnée'!$E$20:'bases de donnée'!$E$32,MATCH(E83,gerald2,0))) -> 0 | M83: =IF(SUM(L83-'bases de donnée'!E$4)<0,0,SUM(L83-'bases de donnée'!E$4)) -> 0 | N83: 0 | O83: =O82+J83 -> 1.5208333 | P83: =IF(SUM(O83-'bases de donnée'!E$10)<0,0,SUM(O83-'bases de donnée'!E$10)) -> 0 | Q83: =IF(AND(G83<>"",I83<>""),1,0+OR(N(I82)<N(G82),E83="récupération",E83="congé 1 jour",E83="congé 1/2 jour ",E83="congé 5h24",E83="arrêt maladie",E83="arrêt travail",E83="férié ",E83="congé parentale",E83="congé de naissance")) -> 0 | S83: =IF(SUM(MOD(I83-G83,1)-IF(I83>G83,MAX(0,MIN(I83,'bases de donnée'!E$16/24)-MAX('planning '!G83,7/24)),MAX(0,'bases de donnée'!E$16/24-MAX('planning '!G83,7/24))+MAX(0,MIN('planning '!I83,'bases de donnée'!E$16/24)-7/24)))<0,0,SUM(MOD('planning '!I83-'planning '!G83,1)-IF('planning '!I83>'planning '!G83,MAX(0,MIN('planning '!I83,'bases de donnée'!E$16/24)-MAX('planning '!G83,7/24)),MAX(0,'bases de donnée'!E$16/24-MAX('planning '!G83,7/24))+MAX(0,MIN('planning '!I83,'bases de donnée'!E$16/24)-7/24)))) -> 0 | T83: =J83 -> 0 | U83: =IF(E83<>"travail",IF(E83="férié travaillé",MOD(I83-G83,1)-H83,"00:00"),"00:00") -> 00:00 | V83: =IF(SUM(IF(O83>("36:00"*1),O83-("36:00"*1),0)-V81-V82)<0,0,SUM(IF(O83>("36:00"*1),O83-("36:00"*1),0)-V77-V78-V79-V80-V81-V82)) -> 0 | X83: =S83 -> 0 | Y83: =IF(SUM(T83-S83)<0,0,SUM(T83-S83)) -> 0 | Z83: =IF(SUM(U83-T83-S83)<0,0,SUM(U83-T83-S83)) -> 0 | AA83: =IF(SUM(V83-S83-T83-U83)<0,0,SUM(V83-S83-T83-U83)) -> 0 | AC83: =IF(SUM(T83-Y83)<0,0,SUM(T83-Y83)) -> 0 | AD83: =IF(SUM(U83-Z83)<0,0,SUM(U83-Z83)) -> 0 | AE83: =IF(SUM(V83-AA83)<0,0,SUM(V83-AA83)) -> 0
B85: semaine | C85: lundi | D85: =D83+1 -> 42073 | E85: travail | G85: 0.375 | H85: 0.03125 | I85: 0.72916667 | J85: =IF(OR(E85="férié travaillé",E85="travail"),(I85-G85+IF(G85>I85,1)-H85),INDEX('bases de donnée'!$E$20:'bases de donnée'!$E$32,MATCH(E85,gerald2,0))) -> 0.32291667 | K85: =IF(SUM(J85-'bases de donnée'!E$7)<0,0,SUM(J85-'bases de donnée'!E$7)) -> 0 | L85: =IF(OR(E85="férié travaillé",E85="travail"),I85-G85+IF(G85>I85,1),INDEX('bases de donnée'!$E$20:'bases de donnée'!$E$32,MATCH(E85,gerald2,0))) -> 0.35416667 | M85: =IF(SUM(L85-'bases de donnée'!E$4)<0,0,SUM(L85-'bases de donnée'!E$4)) -> 0 | N85: 0 | O85: =J85 -> 0.32291667 | P85: =SUM(Q85:Q91) -> 5 | Q85: =IF(AND(G85<>"",I85<>""),1,0+OR(N(I84)<N(G84),E85="récupération",E85="congé 1 jour",E85="congé 1/2 jour ",E85="congé 5h24",E85="arrêt maladie",E85="arrêt travail",E85="férié ",E85="congé parentale",E85="congé de naissance")) -> 1 | S85: =IF(SUM(MOD(I85-G85,1)-IF(I85>G85,MAX(0,MIN(I85,'bases de donnée'!E$16/24)-MAX('planning '!G85,7/24)),MAX(0,'bases de donnée'!E$16/24-MAX('planning '!G85,7/24))+MAX(0,MIN('planning '!I85,'bases de donnée'!E$16/24)-7/24)))<0,0,SUM(MOD('planning '!I85-'planning '!G85,1)-IF('planning '!I85>'planning '!G85,MAX(0,MIN('planning '!I85,'bases de donnée'!E$16/24)-MAX('planning '!G85,7/24)),MAX(0,'bases de donnée'!E$16/24-MAX('planning '!G85,7/24))+MAX(0,MIN('planning '!I85,'bases de donnée'!E$16/24)-7/24)))) -> 0 | U85: =IF(E85<>"travail",IF(E85="férié travaillé",MOD(I85-G85,1)-H85,"00:00"),"00:00") -> 00:00 | X85: =S85 -> 0 | Z85: =IF(SUM(U85-X85)<0,0,SUM(U85-X85)) -> 0 | AA85: =IF(SUM(V85-X85-Z85)<0,0,SUM(V85-X85-Z85)) -> 0 | AD85: =IF(SUM(U85-Z85)<0,0,SUM(U85-Z85)) -> 0 | AE85: =IF(SUM(V85-AA85)<0,0,SUM(V85-AA85)) -> 0
B86: =B78+1 -> 10 | C86: mardi | D86: =D85+1 -> 42074 | E86: travail | G86: 0.375 | H86: 0.03125 | I86: 0.76041667 | J86: =IF(OR(E86="férié travaillé",E86="travail"),(I86-G86+IF(G86>I86,1)-H86),INDEX('bases de donnée'!$E$20:'bases de donnée'!$E$32,MATCH(E86,gerald2,0))) -> 0.35416667 | K86: =IF(SUM(J86-'bases de donnée'!E$7)<0,0,SUM(J86-'bases de donnée'!E$7)) -> 0 | L86: =IF(OR(E86="férié travaillé",E86="travail"),I86-G86+IF(G86>I86,1),INDEX('bases de donnée'!$E$20:'bases de donnée'!$E$32,MATCH(E86,gerald2,0))) -> 0.38541667 | M86: =IF(SUM(L86-'bases de donnée'!E$4)<0,0,SUM(L86-'bases de donnée'!E$4)) -> 0 | N86: 0 | O86: =O85+J86 -> 0.67708333 | P86: =IF(SUM(P85-'bases de donnée'!E$6)<0,0,SUM(P85-'bases de donnée'!E$6)) -> 0 | Q86: =IF(AND(G86<>"",I86<>""),1,0+OR(N(I85)<N(G85),E86="récupération",E86="congé 1 jour",E86="congé 1/2 jour ",E86="congé 5h24",E86="arrêt maladie",E86="arrêt travail",E86="férié ",E86="congé parentale",E86="congé de naissance")) -> 1 | S86: =IF(SUM(MOD(I86-G86,1)-IF(I86>G86,MAX(0,MIN(I86,'bases de donnée'!E$16/24)-MAX('planning '!G86,7/24)),MAX(0,'bases de donnée'!E$16/24-MAX('planning '!G86,7/24))+MAX(0,MIN('planning '!I86,'bases de donnée'!E$16/24)-7/24)))<0,0,SUM(MOD('planning '!I86-'planning '!G86,1)-IF('planning '!I86>'planning '!G86,MAX(0,MIN('planning '!I86,'bases de donnée'!E$16/24)-MAX('planning '!G86,7/24)),MAX(0,'bases de donnée'!E$16/24-MAX('planning '!G86,7/24))+MAX(0,MIN('planning '!I86,'bases de donnée'!E$16/24)-7/24)))) -> 0 | U86: =IF(E86<>"travail",IF(E86="férié travaillé",MOD(I86-G86,1)-H86,"00:00"),"00:00") -> 00:00 | V86: =IF(SUM(IF(O86>('bases de donnée'!E$9*1),O86-('bases de donnée'!E$9*1),0)-V85)<0,0,SUM(IF(O86>('bases de donnée'!E$9*1),O86-('bases de donnée'!E$9*1),0)-V85)) -> 0 | X86: =S86 -> 0 | Z86: =IF(SUM(U86-X86)<0,0,SUM(U86-X86)) -> 0 | AA86: =IF(SUM(V86-X86-Z86)<0,0,SUM(V86-X86-Z86)) -> 0 | AD86: =IF(SUM(U86-Z86)<0,0,SUM(U86-Z86)) -> 0 | AE86: =IF(SUM(V86-AA86)<0,0,SUM(V86-AA86)) -> 0
C87: mercredi | D87: =D86+1 -> 42075 | E87: travail | G87: 0.375 | H87: 0.03125 | I87: 0.72916667 | J87: =IF(OR(E87="férié travaillé",E87="travail"),(I87-G87+IF(G87>I87,1)-H87),INDEX('bases de donnée'!$E$20:'bases de donnée'!$E$32,MATCH(E87,gerald2,0))) -> 0.32291667 | K87: =IF(SUM(J87-'bases de donnée'!E$7)<0,0,SUM(J87-'bases de donnée'!E$7)) -> 0 | L87: =IF(OR(E87="férié travaillé",E87="travail"),I87-G87+IF(G87>I87,1),INDEX('bases de donnée'!$E$20:'bases de donnée'!$E$32,MATCH(E87,gerald2,0))) -> 0.35416667 | M87: =IF(SUM(L87-'bases de donnée'!E$4)<0,0,SUM(L87-'bases de donnée'!E$4)) -> 0 | N87: 0 | O87: =O86+J87 -> 1 | P87: H semaine | Q87: =IF(AND(G87<>"",I87<>""),1,0+OR(N(I86)<N(G86),E87="récupération",E87="congé 1 jour",E87="congé 1/2 jour ",E87="congé 5h24",E87="arrêt maladie",E87="arrêt travail",E87="férié ",E87="congé parentale",E87="congé de naissance")) -> 1 | S87: =IF(SUM(MOD(I87-G87,1)-IF(I87>G87,MAX(0,MIN(I87,'bases de donnée'!E$16/24)-MAX('planning '!G87,7/24)),MAX(0,'bases de donnée'!E$16/24-MAX('planning '!G87,7/24))+MAX(0,MIN('planning '!I87,'bases de donnée'!E$16/24)-7/24)))<0,0,SUM(MOD('planning '!I87-'planning '!G87,1)-IF('planning '!I87>'planning '!G87,MAX(0,MIN('planning '!I87,'bases de donnée'!E$16/24)-MAX('planning '!G87,7/24)),MAX(0,'bases de donnée'!E$16/24-MAX('planning '!G87,7/24))+MAX(0,MIN('planning '!I87,'bases de donnée'!E$16/24)-7/24)))) -> 0 | U87: =IF(E87<>"travail",IF(E87="férié travaillé",MOD(I87-G87,1)-H87,"00:00"),"00:00") -> 00:00 | V87: =IF(SUM(IF(O87>("36:00"*1),O87-("36:00"*1),0)-V85-V86)<0,0,SUM(IF(O87>("36:00"*1),O87-("36:00"*1),0)-V85-V86)) -> 0 | X87: =S87 -> 0 | Z87: =IF(SUM(U87-X87)<0,0,SUM(U87-X87)) -> 0 | AA87: =IF(SUM(V87-X87-Z87)<0,0,SUM(V87-X87-Z87)) -> 0 | AD87: =IF(SUM(U87-Z87)<0,0,SUM(U87-Z87)) -> 0 | AE87: =IF(SUM(V87-AA87)<0,0,SUM(V87-AA87)) -> 0
C88: jeudi | D88: =D87+1 -> 42076 | E88: travail | G88: 0.375 | H88: 0.03125 | I88: 0.72916667 | J88: =IF(OR(E88="férié travaillé",E88="travail"),(I88-G88+IF(G88>I88,1)-H88),INDEX('bases de donnée'!$E$20:'bases de donnée'!$E$32,MATCH(E88,gerald2,0))) -> 0.32291667 | K88: =IF(SUM(J88-'bases de donnée'!E$7)<0,0,SUM(J88-'bases de donnée'!E$7)) -> 0 | L88: =IF(OR(E88="férié travaillé",E88="travail"),I88-G88+IF(G88>I88,1),INDEX('bases de donnée'!$E$20:'bases de donnée'!$E$32,MATCH(E88,gerald2,0))) -> 0.35416667 | M88: =IF(SUM(L88-'bases de donnée'!E$4)<0,0,SUM(L88-'bases de donnée'!E$4)) -> 0 | N88: 0 | O88: =O87+J88 -> 1.3229167 | P88: =O91 -> 1.625 | Q88: =IF(AND(G88<>"",I88<>""),1,0+OR(N(I87)<N(G87),E88="récupération",E88="congé 1 jour",E88="congé 1/2 jour ",E88="congé 5h24",E88="arrêt maladie",E88="arrêt travail",E88="férié ",E88="congé parentale",E88="congé de naissance")) -> 1 | S88: =IF(SUM(MOD(I88-G88,1)-IF(I88>G88,MAX(0,MIN(I88,'bases de donnée'!E$16/24)-MAX('planning '!G88,7/24)),MAX(0,'bases de donnée'!E$16/24-MAX('planning '!G88,7/24))+MAX(0,MIN('planning '!I88,'bases de donnée'!E$16/24)-7/24)))<0,0,SUM(MOD('planning '!I88-'planning '!G88,1)-IF('planning '!I88>'planning '!G88,MAX(0,MIN('planning '!I88,'bases de donnée'!E$16/24)-MAX('planning '!G88,7/24)),MAX(0,'bases de donnée'!E$16/24-MAX('planning '!G88,7/24))+MAX(0,MIN('planning '!I88,'bases de donnée'!E$16/24)-7/24)))) -> 0 | U88: =IF(E88<>"travail",IF(E88="férié travaillé",MOD(I88-G88,1)-H88,"00:00"),"00:00") -> 00:00 | V88: =IF(SUM(IF(O88>("36:00"*1),O88-("36:00"*1),0)-V86-V87)<0,0,SUM(IF(O88>("36:00"*1),O88-("36:00"*1),0)-V85-V86-V87)) -> 0 | X88: =S88 -> 0 | Z88: =IF(SUM(U88-X88)<0,0,SUM(U88-X88)) -> 0 | AA88: =IF(SUM(V88-X88-Z88)<0,0,SUM(V88-X88-Z88)) -> 0 | AD88: =IF(SUM(U88-Z88)<0,0,SUM(U88-Z88)) -> 0 | AE88: =IF(SUM(V88-AA88)<0,0,SUM(V88-AA88)) -> 0
C89: vendredi | D89: =D88+1 -> 42077 | E89: travail | G89: 0.375 | H89: 0.03125 | I89: 0.70833333 | J89: =IF(OR(E89="férié travaillé",E89="travail"),(I89-G89+IF(G89>I89,1)-H89),INDEX('bases de donnée'!$E$20:'bases de donnée'!$E$32,MATCH(E89,gerald2,0))) -> 0.30208333 | K89: =IF(SUM(J89-'bases de donnée'!E$7)<0,0,SUM(J89-'bases de donnée'!E$7)) -> 0 | L89: =IF(OR(E89="férié travaillé",E89="travail"),I89-G89+IF(G89>I89,1),INDEX('bases de donnée'!$E$20:'bases de donnée'!$E$32,MATCH(E89,gerald2,0))) -> 0.33333333 | M89: =IF(SUM(L89-'bases de donnée'!E$4)<0,0,SUM(L89-'bases de donnée'!E$4)) -> 0 | N89: 0 | O89: =O88+J89 -> 1.625 | P89: HS hc de | Q89: =IF(AND(G89<>"",I89<>""),1,0+OR(N(I88)<N(G88),E89="récupération",E89="congé 1 jour",E89="congé 1/2 jour ",E89="congé 5h24",E89="arrêt maladie",E89="arrêt travail",E89="férié ",E89="congé parentale",E89="congé de naissance")) -> 1 | S89: =IF(SUM(MOD(I89-G89,1)-IF(I89>G89,MAX(0,MIN(I89,'bases de donnée'!E$16/24)-MAX('planning '!G89,7/24)),MAX(0,'bases de donnée'!E$16/24-MAX('planning '!G89,7/24))+MAX(0,MIN('planning '!I89,'bases de donnée'!E$16/24)-7/24)))<0,0,SUM(MOD('planning '!I89-'planning '!G89,1)-IF('planning '!I89>'planning '!G89,MAX(0,MIN('planning '!I89,'bases de donnée'!E$16/24)-MAX('planning '!G89,7/24)),MAX(0,'bases de donnée'!E$16/24-MAX('planning '!G89,7/24))+MAX(0,MIN('planning '!I89,'bases de donnée'!E$16/24)-7/24)))) -> 0 | U89: =IF(E89<>"travail",IF(E89="férié travaillé",MOD(I89-G89,1)-H89,"00:00"),"00:00") -> 00:00 | V89: =IF(SUM(IF(O89>("36:00"*1),O89-("36:00"*1),0)-V87-V88)<0,0,SUM(IF(O89>("36:00"*1),O89-("36:00"*1),0)-V85-V86-V87-V88)) -> 0.125 | X89: =S89 -> 0 | Z89: =IF(SUM(U89-X89)<0,0,SUM(U89-X89)) -> 0 | AA89: =IF(SUM(V89-X89-Z89)<0,0,SUM(V89-X89-Z89)) -> 0.125 | AD89: =IF(SUM(U89-Z89)<0,0,SUM(U89-Z89)) -> 0 | AE89: =IF(SUM(V89-AA89)<0,0,SUM(V89-AA89)) -> 0
C90: samedi | D90: =D89+1 -> 42078 | E90: off | J90: =IF(OR(E90="férié travaillé",E90="travail"),(I90-G90+IF(G90>I90,1)-H90),INDEX('bases de donnée'!$E$20:'bases de donnée'!$E$32,MATCH(E90,gerald2,0))) -> 0 | K90: =IF(SUM(J90-'bases de donnée'!E$7)<0,0,SUM(J90-'bases de donnée'!E$7)) -> 0 | L90: =IF(OR(E90="férié travaillé",E90="travail"),I90-G90+IF(G90>I90,1),INDEX('bases de donnée'!$E$20:'bases de donnée'!$E$32,MATCH(E90,gerald2,0))) -> 0 | M90: =IF(SUM(L90-'bases de donnée'!E$4)<0,0,SUM(L90-'bases de donnée'!E$4)) -> 0 | N90: 0 | O90: =O89+J90 -> 1.625 | P90: ='bases de donnée'!E$10 -> 2 | Q90: =IF(AND(G90<>"",I90<>""),1,0+OR(N(I89)<N(G89),E90="récupération",E90="congé 1 jour",E90="congé 1/2 jour ",E90="congé 5h24",E90="arrêt maladie",E90="arrêt travail",E90="férié ",E90="congé parentale",E90="congé de naissance")) -> 0 | S90: =IF(SUM(MOD(I90-G90,1)-IF(I90>G90,MAX(0,MIN(I90,'bases de donnée'!E$16/24)-MAX('planning '!G90,7/24)),MAX(0,'bases de donnée'!E$16/24-MAX('planning '!G90,7/24))+MAX(0,MIN('planning '!I90,'bases de donnée'!E$16/24)-7/24)))<0,0,SUM(MOD('planning '!I90-'planning '!G90,1)-IF('planning '!I90>'planning '!G90,MAX(0,MIN('planning '!I90,'bases de donnée'!E$16/24)-MAX('planning '!G90,7/24)),MAX(0,'bases de donnée'!E$16/24-MAX('planning '!G90,7/24))+MAX(0,MIN('planning '!I90,'bases de donnée'!E$16/24)-7/24)))) -> 0 | U90: =IF(E90<>"travail",IF(E90="férié travaillé",MOD(I90-G90,1)-H90,"00:00"),"00:00") -> 00:00 | V90: =IF(SUM(IF(O90>("36:00"*1),O90-("36:00"*1),0)-V88-V89)<0,0,SUM(IF(O90>("36:00"*1),O90-("36:00"*1),0)-V85-V86-V87-V88-V89)) -> 0 | X90: =S90 -> 0 | Z90: =IF(SUM(U90-X90)<0,0,SUM(U90-X90)) -> 0 | AA90: =IF(SUM(V90-X90-Z90)<0,0,SUM(V90-X90-Z90)) -> 0 | AD90: =IF(SUM(U90-Z90)<0,0,SUM(U90-Z90)) -> 0 | AE90: =IF(SUM(V90-AA90)<0,0,SUM(V90-AA90)) -> 0
C91: dimanche | D91: =D90+1 -> 42079 | E91: off | J91: =IF(OR(E91="férié travaillé",E91="travail"),(I91-G91+IF(G91>I91,1)-H91),INDEX('bases de donnée'!$E$20:'bases de donnée'!$E$32,MATCH(E91,gerald2,0))) -> 0 | K91: =IF(SUM(J91-'bases de donnée'!E$7)<0,0,SUM(J91-'bases de donnée'!E$7)) -> 0 | L91: =IF(OR(E91="férié travaillé",E91="travail"),I91-G91+IF(G91>I91,1),INDEX('bases de donnée'!$E$20:'bases de donnée'!$E$32,MATCH(E91,gerald2,0))) -> 0 | M91: =IF(SUM(L91-'bases de donnée'!E$4)<0,0,SUM(L91-'bases de donnée'!E$4)) -> 0 | N91: 0 | O91: =O90+J91 -> 1.625 | P91: =IF(SUM(O91-'bases de donnée'!E$10)<0,0,SUM(O91-'bases de donnée'!E$10)) -> 0 | Q91: =IF(AND(G91<>"",I91<>""),1,0+OR(N(I90)<N(G90),E91="récupération",E91="congé 1 jour",E91="congé 1/2 jour ",E91="congé 5h24",E91="arrêt maladie",E91="arrêt travail",E91="férié ",E91="congé parentale",E91="congé de naissance")) -> 0 | S91: =IF(SUM(MOD(I91-G91,1)-IF(I91>G91,MAX(0,MIN(I91,'bases de donnée'!E$16/24)-MAX('planning '!G91,7/24)),MAX(0,'bases de donnée'!E$16/24-MAX('planning '!G91,7/24))+MAX(0,MIN('planning '!I91,'bases de donnée'!E$16/24)-7/24)))<0,0,SUM(MOD('planning '!I91-'planning '!G91,1)-IF('planning '!I91>'planning '!G91,MAX(0,MIN('planning '!I91,'bases de donnée'!E$16/24)-MAX('planning '!G91,7/24)),MAX(0,'bases de donnée'!E$16/24-MAX('planning '!G91,7/24))+MAX(0,MIN('planning '!I91,'bases de donnée'!E$16/24)-7/24)))) -> 0 | T91: =J91 -> 0 | U91: =IF(E91<>"travail",IF(E91="férié travaillé",MOD(I91-G91,1)-H91,"00:00"),"00:00") -> 00:00 | V91: =IF(SUM(IF(O91>("36:00"*1),O91-("36:00"*1),0)-V89-V90)<0,0,SUM(IF(O91>("36:00"*1),O91-("36:00"*1),0)-V85-V86-V87-V88-V89-V90)) -> 0 | X91: =S91 -> 0 | Y91: =IF(SUM(T91-S91)<0,0,SUM(T91-S91)) -> 0 | Z91: =IF(SUM(U91-T91-S91)<0,0,SUM(U91-T91-S91)) -> 0 | AA91: =IF(SUM(V91-S91-T91-U91)<0,0,SUM(V91-S91-T91-U91)) -> 0 | AC91: =IF(SUM(T91-Y91)<0,0,SUM(T91-Y91)) -> 0 | AD91: =IF(SUM(U91-Z91)<0,0,SUM(U91-Z91)) -> 0 | AE91: =IF(SUM(V91-AA91)<0,0,SUM(V91-AA91)) -> 0
B93: semaine | C93: lundi | D93: =D91+1 -> 42080 | E93: travail | G93: 0.375 | H93: 0.03125 | I93: 0.71875 | J93: =IF(OR(E93="férié travaillé",E93="travail"),(I93-G93+IF(G93>I93,1)-H93),INDEX('bases de donnée'!$E$20:'bases de donnée'!$E$32,MATCH(E93,gerald2,0))) -> 0.3125 | K93: =IF(SUM(J93-'bases de donnée'!E$7)<0,0,SUM(J93-'bases de donnée'!E$7)) -> 0 | L93: =IF(OR(E93="férié travaillé",E93="travail"),I93-G93+IF(G93>I93,1),INDEX('bases de donnée'!$E$20:'bases de donnée'!$E$32,MATCH(E93,gerald2,0))) -> 0.34375 | M93: =IF(SUM(L93-'bases de donnée'!E$4)<0,0,SUM(L93-'bases de donnée'!E$4)) -> 0 | N93: 0 | O93: =J93 -> 0.3125 | P93: =SUM(Q93:Q99) -> 5 | Q93: =IF(AND(G93<>"",I93<>""),1,0+OR(N(I92)<N(G92),E93="récupération",E93="congé 1 jour",E93="congé 1/2 jour ",E93="congé 5h24",E93="arrêt maladie",E93="arrêt travail",E93="férié ",E93="congé parentale",E93="congé de naissance")) -> 1 | S93: =IF(SUM(MOD(I93-G93,1)-IF(I93>G93,MAX(0,MIN(I93,'bases de donnée'!E$16/24)-MAX('planning '!G93,7/24)),MAX(0,'bases de donnée'!E$16/24-MAX('planning '!G93,7/24))+MAX(0,MIN('planning '!I93,'bases de donnée'!E$16/24)-7/24)))<0,0,SUM(MOD('planning '!I93-'planning '!G93,1)-IF('planning '!I93>'planning '!G93,MAX(0,MIN('planning '!I93,'bases de donnée'!E$16/24)-MAX('planning '!G93,7/24)),MAX(0,'bases de donnée'!E$16/24-MAX('planning '!G93,7/24))+MAX(0,MIN('planning '!I93,'bases de donnée'!E$16/24)-7/24)))) -> 0 | U93: =IF(E93<>"travail",IF(E93="férié travaillé",MOD(I93-G93,1)-H93,"00:00"),"00:00") -> 00:00 | X93: =S93 -> 0 | Z93: =IF(SUM(U93-X93)<0,0,SUM(U93-X93)) -> 0 | AA93: =IF(SUM(V93-X93-Z93)<0,0,SUM(V93-X93-Z93)) -> 0 | AD93: =IF(SUM(U93-Z93)<0,0,SUM(U93-Z93)) -> 0 | AE93: =IF(SUM(V93-AA93)<0,0,SUM(V93-AA93)) -> 0
B94: =B86+1 -> 11 | C94: mardi | D94: =D93+1 -> 42081 | E94: travail | G94: 0.375 | H94: 0.03125 | I94: 0.91666667 | J94: =IF(OR(E94="férié travaillé",E94="travail"),(I94-G94+IF(G94>I94,1)-H94),INDEX('bases de donnée'!$E$20:'bases de donnée'!$E$32,MATCH(E94,gerald2,0))) -> 0.51041667 | K94: =IF(SUM(J94-'bases de donnée'!E$7)<0,0,SUM(J94-'bases de donnée'!E$7)) -> 0.09375 | L94: =IF(OR(E94="férié travaillé",E94="travail"),I94-G94+IF(G94>I94,1),INDEX('bases de donnée'!$E$20:'bases de donnée'!$E$32,MATCH(E94,gerald2,0))) -> 0.54166667 | M94: =IF(SUM(L94-'bases de donnée'!E$4)<0,0,SUM(L94-'bases de donnée'!E$4)) -> 0.041666667 | N94: 0 | O94: =O93+J94 -> 0.82291667 | P94: =IF(SUM(P93-'bases de donnée'!E$6)<0,0,SUM(P93-'bases de donnée'!E$6)) -> 0 | Q94: =IF(AND(G94<>"",I94<>""),1,0+OR(N(I93)<N(G93),E94="récupération",E94="congé 1 jour",E94="congé 1/2 jour ",E94="congé 5h24",E94="arrêt maladie",E94="arrêt travail",E94="férié ",E94="congé parentale",E94="congé de naissance")) -> 1 | S94: =IF(SUM(MOD(I94-G94,1)-IF(I94>G94,MAX(0,MIN(I94,'bases de donnée'!E$16/24)-MAX('planning '!G94,7/24)),MAX(0,'bases de donnée'!E$16/24-MAX('planning '!G94,7/24))+MAX(0,MIN('planning '!I94,'bases de donnée'!E$16/24)-7/24)))<0,0,SUM(MOD('planning '!I94-'planning '!G94,1)-IF('planning '!I94>'planning '!G94,MAX(0,MIN('planning '!I94,'bases de donnée'!E$16/24)-MAX('planning '!G94,7/24)),MAX(0,'bases de donnée'!E$16/24-MAX('planning '!G94,7/24))+MAX(0,MIN('planning '!I94,'bases de donnée'!E$16/24)-7/24)))) -> 0.041666667 | U94: =IF(E94<>"travail",IF(E94="férié travaillé",MOD(I94-G94,1)-H94,"00:00"),"00:00") -> 00:00 | V94: =IF(SUM(IF(O94>('bases de donnée'!E$9*1),O94-('bases de donnée'!E$9*1),0)-V93)<0,0,SUM(IF(O94>('bases de donnée'!E$9*1),O94-('bases de donnée'!E$9*1),0)-V93)) -> 0 | X94: =S94 -> 0.041666667 | Z94: =IF(SUM(U94-X94)<0,0,SUM(U94-X94)) -> 0 | AA94: =IF(SUM(V94-X94-Z94)<0,0,SUM(V94-X94-Z94)) -> 0 | AD94: =IF(SUM(U94-Z94)<0,0,SUM(U94-Z94)) -> 0 | AE94: =IF(SUM(V94-AA94)<0,0,SUM(V94-AA94)) -> 0
C95: mercredi | D95: =D94+1 -> 42082 | E95: travail | G95: 0.375 | H95: 0.03125 | I95: 0.72916667 | J95: =IF(OR(E95="férié travaillé",E95="travail"),(I95-G95+IF(G95>I95,1)-H95),INDEX('bases de donnée'!$E$20:'bases de donnée'!$E$32,MATCH(E95,gerald2,0))) -> 0.32291667 | K95: =IF(SUM(J95-'bases de donnée'!E$7)<0,0,SUM(J95-'bases de donnée'!E$7)) -> 0 | L95: =IF(OR(E95="férié travaillé",E95="travail"),I95-G95+IF(G95>I95,1),INDEX('bases de donnée'!$E$20:'bases de donnée'!$E$32,MATCH(E95,gerald2,0))) -> 0.35416667 | M95: =IF(SUM(L95-'bases de donnée'!E$4)<0,0,SUM(L95-'bases de donnée'!E$4)) -> 0 | N95: 0 | O95: =O94+J95 -> 1.1458333 | P95: H semaine | Q95: =IF(AND(G95<>"",I95<>""),1,0+OR(N(I94)<N(G94),E95="récupération",E95="congé 1 jour",E95="congé 1/2 jour ",E95="congé 5h24",E95="arrêt maladie",E95="arrêt travail",E95="férié ",E95="congé parentale",E95="congé de naissance")) -> 1 | S95: =IF(SUM(MOD(I95-G95,1)-IF(I95>G95,MAX(0,MIN(I95,'bases de donnée'!E$16/24)-MAX('planning '!G95,7/24)),MAX(0,'bases de donnée'!E$16/24-MAX('planning '!G95,7/24))+MAX(0,MIN('planning '!I95,'bases de donnée'!E$16/24)-7/24)))<0,0,SUM(MOD('planning '!I95-'planning '!G95,1)-IF('planning '!I95>'planning '!G95,MAX(0,MIN('planning '!I95,'bases de donnée'!E$16/24)-MAX('planning '!G95,7/24)),MAX(0,'bases de donnée'!E$16/24-MAX('planning '!G95,7/24))+MAX(0,MIN('planning '!I95,'bases de donnée'!E$16/24)-7/24)))) -> 0 | U95: =IF(E95<>"travail",IF(E95="férié travaillé",MOD(I95-G95,1)-H95,"00:00"),"00:00") -> 00:00 | V95: =IF(SUM(IF(O95>("36:00"*1),O95-("36:00"*1),0)-V93-V94)<0,0,SUM(IF(O95>("36:00"*1),O95-("36:00"*1),0)-V93-V94)) -> 0 | X95: =S95 -> 0 | Z95: =IF(SUM(U95-X95)<0,0,SUM(U95-X95)) -> 0 | AA95: =IF(SUM(V95-X95-Z95)<0,0,SUM(V95-X95-Z95)) -> 0 | AD95: =IF(SUM(U95-Z95)<0,0,SUM(U95-Z95)) -> 0 | AE95: =IF(SUM(V95-AA95)<0,0,SUM(V95-AA95)) -> 0
C96: jeudi | D96: =D95+1 -> 42083 | E96: travail | G96: 0.375 | H96: 0.03125 | I96: 0.71875 | J96: =IF(OR(E96="férié travaillé",E96="travail"),(I96-G96+IF(G96>I96,1)-H96),INDEX('bases de donnée'!$E$20:'bases de donnée'!$E$32,MATCH(E96,gerald2,0))) -> 0.3125 | K96: =IF(SUM(J96-'bases de donnée'!E$7)<0,0,SUM(J96-'bases de donnée'!E$7)) -> 0 | L96: =IF(OR(E96="férié travaillé",E96="travail"),I96-G96+IF(G96>I96,1),INDEX('bases de donnée'!$E$20:'bases de donnée'!$E$32,MATCH(E96,gerald2,0))) -> 0.34375 | M96: =IF(SUM(L96-'bases de donnée'!E$4)<0,0,SUM(L96-'bases de donnée'!E$4)) -> 0 | N96: 0 | O96: =O95+J96 -> 1.4583333 | P96: =O99 -> 1.7604167 | Q96: =IF(AND(G96<>"",I96<>""),1,0+OR(N(I95)<N(G95),E96="récupération",E96="congé 1 jour",E96="congé 1/2 jour ",E96="congé 5h24",E96="arrêt maladie",E96="arrêt travail",E96="férié ",E96="congé parentale",E96="congé de naissance")) -> 1 | S96: =IF(SUM(MOD(I96-G96,1)-IF(I96>G96,MAX(0,MIN(I96,'bases de donnée'!E$16/24)-MAX('planning '!G96,7/24)),MAX(0,'bases de donnée'!E$16/24-MAX('planning '!G96,7/24))+MAX(0,MIN('planning '!I96,'bases de donnée'!E$16/24)-7/24)))<0,0,SUM(MOD('planning '!I96-'planning '!G96,1)-IF('planning '!I96>'planning '!G96,MAX(0,MIN('planning '!I96,'bases de donnée'!E$16/24)-MAX('planning '!G96,7/24)),MAX(0,'bases de donnée'!E$16/24-MAX('planning '!G96,7/24))+MAX(0,MIN('planning '!I96,'bases de donnée'!E$16/24)-7/24)))) -> 0 | U96: =IF(E96<>"travail",IF(E96="férié travaillé",MOD(I96-G96,1)-H96,"00:00"),"00:00") -> 00:00 | V96: =IF(SUM(IF(O96>("36:00"*1),O96-("36:00"*1),0)-V94-V95)<0,0,SUM(IF(O96>("36:00"*1),O96-("36:00"*1),0)-V93-V94-V95)) -> 0 | X96: =S96 -> 0 | Z96: =IF(SUM(U96-X96)<0,0,SUM(U96-X96)) -> 0 | AA96: =IF(SUM(V96-X96-Z96)<0,0,SUM(V96-X96-Z96)) -> 0 | AD96: =IF(SUM(U96-Z96)<0,0,SUM(U96-Z96)) -> 0 | AE96: =IF(SUM(V96-AA96)<0,0,SUM(V96-AA96)) -> 0
C97: vendredi | D97: =D96+1 -> 42084 | E97: travail | G97: 0.375 | H97: 0.03125 | I97: 0.70833333 | J97: =IF(OR(E97="férié travaillé",E97="travail"),(I97-G97+IF(G97>I97,1)-H97),INDEX('bases de donnée'!$E$20:'bases de donnée'!$E$32,MATCH(E97,gerald2,0))) -> 0.30208333 | K97: =IF(SUM(J97-'bases de donnée'!E$7)<0,0,SUM(J97-'bases de donnée'!E$7)) -> 0 | L97: =IF(OR(E97="férié travaillé",E97="travail"),I97-G97+IF(G97>I97,1),INDEX('bases de donnée'!$E$20:'bases de donnée'!$E$32,MATCH(E97,gerald2,0))) -> 0.33333333 | M97: =IF(SUM(L97-'bases de donnée'!E$4)<0,0,SUM(L97-'bases de donnée'!E$4)) -> 0 | N97: 0 | O97: =O96+J97 -> 1.7604167 | P97: HS hc de | Q97: =IF(AND(G97<>"",I97<>""),1,0+OR(N(I96)<N(G96),E97="récupération",E97="congé 1 jour",E97="congé 1/2 jour ",E97="congé 5h24",E97="arrêt maladie",E97="arrêt travail",E97="férié ",E97="congé parentale",E97="congé de naissance")) -> 1 | S97: =IF(SUM(MOD(I97-G97,1)-IF(I97>G97,MAX(0,MIN(I97,'bases de donnée'!E$16/24)-MAX('planning '!G97,7/24)),MAX(0,'bases de donnée'!E$16/24-MAX('planning '!G97,7/24))+MAX(0,MIN('planning '!I97,'bases de donnée'!E$16/24)-7/24)))<0,0,SUM(MOD('planning '!I97-'planning '!G97,1)-IF('planning '!I97>'planning '!G97,MAX(0,MIN('planning '!I97,'bases de donnée'!E$16/24)-MAX('planning '!G97,7/24)),MAX(0,'bases de donnée'!E$16/24-MAX('planning '!G97,7/24))+MAX(0,MIN('planning '!I97,'bases de donnée'!E$16/24)-7/24)))) -> 0 | U97: =IF(E97<>"travail",IF(E97="férié travaillé",MOD(I97-G97,1)-H97,"00:00"),"00:00") -> 00:00 | V97: =IF(SUM(IF(O97>("36:00"*1),O97-("36:00"*1),0)-V95-V96)<0,0,SUM(IF(O97>("36:00"*1),O97-("36:00"*1),0)-V93-V94-V95-V96)) -> 0.26041667 | X97: =S97 -> 0 | Z97: =IF(SUM(U97-X97)<0,0,SUM(U97-X97)) -> 0 | AA97: =IF(SUM(V97-X97-Z97)<0,0,SUM(V97-X97-Z97)) -> 0.26041667 | AD97: =IF(SUM(U97-Z97)<0,0,SUM(U97-Z97)) -> 0 | AE97: =IF(SUM(V97-AA97)<0,0,SUM(V97-AA97)) -> 0
C98: samedi | D98: =D97+1 -> 42085 | E98: off | J98: =IF(OR(E98="férié travaillé",E98="travail"),(I98-G98+IF(G98>I98,1)-H98),INDEX('bases de donnée'!$E$20:'bases de donnée'!$E$32,MATCH(E98,gerald2,0))) -> 0 | K98: =IF(SUM(J98-'bases de donnée'!E$7)<0,0,SUM(J98-'bases de donnée'!E$7)) -> 0 | L98: =IF(OR(E98="férié travaillé",E98="travail"),I98-G98+IF(G98>I98,1),INDEX('bases de donnée'!$E$20:'bases de donnée'!$E$32,MATCH(E98,gerald2,0))) -> 0 | M98: =IF(SUM(L98-'bases de donnée'!E$4)<0,0,SUM(L98-'bases de donnée'!E$4)) -> 0 | N98: 0 | O98: =O97+J98 -> 1.7604167 | P98: ='bases de donnée'!E$10 -> 2 | Q98: =IF(AND(G98<>"",I98<>""),1,0+OR(N(I97)<N(G97),E98="récupération",E98="congé 1 jour",E98="congé 1/2 jour ",E98="congé 5h24",E98="arrêt maladie",E98="arrêt travail",E98="férié ",E98="congé parentale",E98="congé de naissance")) -> 0 | S98: =IF(SUM(MOD(I98-G98,1)-IF(I98>G98,MAX(0,MIN(I98,'bases de donnée'!E$16/24)-MAX('planning '!G98,7/24)),MAX(0,'bases de donnée'!E$16/24-MAX('planning '!G98,7/24))+MAX(0,MIN('planning '!I98,'bases de donnée'!E$16/24)-7/24)))<0,0,SUM(MOD('planning '!I98-'planning '!G98,1)-IF('planning '!I98>'planning '!G98,MAX(0,MIN('planning '!I98,'bases de donnée'!E$16/24)-MAX('planning '!G98,7/24)),MAX(0,'bases de donnée'!E$16/24-MAX('planning '!G98,7/24))+MAX(0,MIN('planning '!I98,'bases de donnée'!E$16/24)-7/24)))) -> 0 | U98: =IF(E98<>"travail",IF(E98="férié travaillé",MOD(I98-G98,1)-H98,"00:00"),"00:00") -> 00:00 | V98: =IF(SUM(IF(O98>("36:00"*1),O98-("36:00"*1),0)-V96-V97)<0,0,SUM(IF(O98>("36:00"*1),O98-("36:00"*1),0)-V93-V94-V95-V96-V97)) -> 0 | X98: =S98 -> 0 | Z98: =IF(SUM(U98-X98)<0,0,SUM(U98-X98)) -> 0 | AA98: =IF(SUM(V98-X98-Z98)<0,0,SUM(V98-X98-Z98)) -> 0 | AD98: =IF(SUM(U98-Z98)<0,0,SUM(U98-Z98)) -> 0 | AE98: =IF(SUM(V98-AA98)<0,0,SUM(V98-AA98)) -> 0
C99: dimanche | D99: =D98+1 -> 42086 | E99: off | J99: =IF(OR(E99="férié travaillé",E99="travail"),(I99-G99+IF(G99>I99,1)-H99),INDEX('bases de donnée'!$E$20:'bases de donnée'!$E$32,MATCH(E99,gerald2,0))) -> 0 | K99: =IF(SUM(J99-'bases de donnée'!E$7)<0,0,SUM(J99-'bases de donnée'!E$7)) -> 0 | L99: =IF(OR(E99="férié travaillé",E99="travail"),I99-G99+IF(G99>I99,1),INDEX('bases de donnée'!$E$20:'bases de donnée'!$E$32,MATCH(E99,gerald2,0))) -> 0 | M99: =IF(SUM(L99-'bases de donnée'!E$4)<0,0,SUM(L99-'bases de donnée'!E$4)) -> 0 | N99: 0 | O99: =O98+J99 -> 1.7604167 | P99: =IF(SUM(O99-'bases de donnée'!E$10)<0,0,SUM(O99-'bases de donnée'!E$10)) -> 0 | Q99: =IF(AND(G99<>"",I99<>""),1,0+OR(N(I98)<N(G98),E99="récupération",E99="congé 1 jour",E99="congé 1/2 jour ",E99="congé 5h24",E99="arrêt maladie",E99="arrêt travail",E99="férié ",E99="congé parentale",E99="congé de naissance")) -> 0 | S99: =IF(SUM(MOD(I99-G99,1)-IF(I99>G99,MAX(0,MIN(I99,'bases de donnée'!E$16/24)-MAX('planning '!G99,7/24)),MAX(0,'bases de donnée'!E$16/24-MAX('planning '!G99,7/24))+MAX(0,MIN('planning '!I99,'bases de donnée'!E$16/24)-7/24)))<0,0,SUM(MOD('planning '!I99-'planning '!G99,1)-IF('planning '!I99>'planning '!G99,MAX(0,MIN('planning '!I99,'bases de donnée'!E$16/24)-MAX('planning '!G99,7/24)),MAX(0,'bases de donnée'!E$16/24-MAX('planning '!G99,7/24))+MAX(0,MIN('planning '!I99,'bases de donnée'!E$16/24)-7/24)))) -> 0 | T99: =J99 -> 0 | U99: =IF(E99<>"travail",IF(E99="férié travaillé",MOD(I99-G99,1)-H99,"00:00"),"00:00") -> 00:00 | V99: =IF(SUM(IF(O99>("36:00"*1),O99-("36:00"*1),0)-V97-V98)<0,0,SUM(IF(O99>("36:00"*1),O99-("36:00"*1),0)-V93-V94-V95-V96-V97-V98)) -> 0 | X99: =S99 -> 0 | Y99: =IF(SUM(T99-S99)<0,0,SUM(T99-S99)) -> 0 | Z99: =IF(SUM(U99-T99-S99)<0,0,SUM(U99-T99-S99)) -> 0 | AA99: =IF(SUM(V99-S99-T99-U99)<0,0,SUM(V99-S99-T99-U99)) -> 0 | AC99: =IF(SUM(T99-Y99)<0,0,SUM(T99-Y99)) -> 0 | AD99: =IF(SUM(U99-Z99)<0,0,SUM(U99-Z99)) -> 0 | AE99: =IF(SUM(V99-AA99)<0,0,SUM(V99-AA99)) -> 0
B101: semaine | C101: lundi | D101: =D99+1 -> 42087 | E101: travail | G101: 0.375 | H101: 0.03125 | I101: 0.71875 | J101: =IF(OR(E101="férié travaillé",E101="travail"),(I101-G101+IF(G101>I101,1)-H101),INDEX('bases de donnée'!$E$20:'bases de donnée'!$E$32,MATCH(E101,gerald2,0))) -> 0.3125 | K101: =IF(SUM(J101-'bases de donnée'!E$7)<0,0,SUM(J101-'bases de donnée'!E$7)) -> 0 | L101: =IF(OR(E101="férié travaillé",E101="travail"),I101-G101+IF(G101>I101,1),INDEX('bases de donnée'!$E$20:'bases de donnée'!$E$32,MATCH(E101,gerald2,0))) -> 0.34375 | M101: =IF(SUM(L101-'bases de donnée'!E$4)<0,0,SUM(L101-'bases de donnée'!E$4)) -> 0 | N101: 0 | O101: =J101 -> 0.3125 | P101: =SUM(Q101:Q107) -> 4 | Q101: =IF(AND(G101<>"",I101<>""),1,0+OR(N(I100)<N(G100),E101="récupération",E101="congé 1 jour",E101="congé 1/2 jour ",E101="congé 5h24",E101="arrêt maladie",E101="arrêt travail",E101="férié ",E101="congé parentale",E101="congé de naissance")) -> 1 | S101: =IF(SUM(MOD(I101-G101,1)-IF(I101>G101,MAX(0,MIN(I101,'bases de donnée'!E$16/24)-MAX('planning '!G101,7/24)),MAX(0,'bases de donnée'!E$16/24-MAX('planning '!G101,7/24))+MAX(0,MIN('planning '!I101,'bases de donnée'!E$16/24)-7/24)))<0,0,SUM(MOD('planning '!I101-'planning '!G101,1)-IF('planning '!I101>'planning '!G101,MAX(0,MIN('planning '!I101,'bases de donnée'!E$16/24)-MAX('planning '!G101,7/24)),MAX(0,'bases de donnée'!E$16/24-MAX('planning '!G101,7/24))+MAX(0,MIN('planning '!I101,'bases de donnée'!E$16/24)-7/24)))) -> 0 | U101: =IF(E101<>"travail",IF(E101="férié travaillé",MOD(I101-G101,1)-H101,"00:00"),"00:00") -> 00:00 | X101: =S101 -> 0 | Z101: =IF(SUM(U101-X101)<0,0,SUM(U101-X101)) -> 0 | AA101: =IF(SUM(V101-X101-Z101)<0,0,SUM(V101-X101-Z101)) -> 0 | AD101: =IF(SUM(U101-Z101)<0,0,SUM(U101-Z101)) -> 0 | AE101: =IF(SUM(V101-AA101)<0,0,SUM(V101-AA101)) -> 0
B102: =B94+1 -> 12 | C102: mardi | D102: =D101+1 -> 42088 | E102: off | J102: =IF(OR(E102="férié travaillé",E102="travail"),(I102-G102+IF(G102>I102,1)-H102),INDEX('bases de donnée'!$E$20:'bases de donnée'!$E$32,MATCH(E102,gerald2,0))) -> 0 | K102: =IF(SUM(J102-'bases de donnée'!E$7)<0,0,SUM(J102-'bases de donnée'!E$7)) -> 0 | L102: =IF(OR(E102="férié travaillé",E102="travail"),I102-G102+IF(G102>I102,1),INDEX('bases de donnée'!$E$20:'bases de donnée'!$E$32,MATCH(E102,gerald2,0))) -> 0 | M102: =IF(SUM(L102-'bases de donnée'!E$4)<0,0,SUM(L102-'bases de donnée'!E$4)) -> 0 | N102: 0 | O102: =O101+J102 -> 0.3125 | P102: =IF(SUM(P101-'bases de donnée'!E$6)<0,0,SUM(P101-'bases de donnée'!E$6)) -> 0 | Q102: =IF(AND(G102<>"",I102<>""),1,0+OR(N(I101)<N(G101),E102="récupération",E102="congé 1 jour",E102="congé 1/2 jour ",E102="congé 5h24",E102="arrêt maladie",E102="arrêt travail",E102="férié ",E102="congé parentale",E102="congé de naissance")) -> 0 | S102: =IF(SUM(MOD(I102-G102,1)-IF(I102>G102,MAX(0,MIN(I102,'bases de donnée'!E$16/24)-MAX('planning '!G102,7/24)),MAX(0,'bases de donnée'!E$16/24-MAX('planning '!G102,7/24))+MAX(0,MIN('planning '!I102,'bases de donnée'!E$16/24)-7/24)))<0,0,SUM(MOD('planning '!I102-'planning '!G102,1)-IF('planning '!I102>'planning '!G102,MAX(0,MIN('planning '!I102,'bases de donnée'!E$16/24)-MAX('planning '!G102,7/24)),MAX(0,'bases de donnée'!E$16/24-MAX('planning '!G102,7/24))+MAX(0,MIN('planning '!I102,'bases de donnée'!E$16/24)-7/24)))) -> 0 | U102: =IF(E102<>"travail",IF(E102="férié travaillé",MOD(I102-G102,1)-H102,"00:00"),"00:00") -> 00:00 | V102: =IF(SUM(IF(O102>('bases de donnée'!E$9*1),O102-('bases de donnée'!E$9*1),0)-V101)<0,0,SUM(IF(O102>('bases de donnée'!E$9*1),O102-('bases de donnée'!E$9*1),0)-V101)) -> 0 | X102: =S102 -> 0 | Z102: =IF(SUM(U102-X102)<0,0,SUM(U102-X102)) -> 0 | AA102: =IF(SUM(V102-X102-Z102)<0,0,SUM(V102-X102-Z102)) -> 0 | AD102: =IF(SUM(U102-Z102)<0,0,SUM(U102-Z102)) -> 0 | AE102: =IF(SUM(V102-AA102)<0,0,SUM(V102-AA102)) -> 0
C103: mercredi | D103: =D102+1 -> 42089 | E103: travail | G103: 0.375 | H103: 0.03125 | I103: 0.72916667 | J103: =IF(OR(E103="férié travaillé",E103="travail"),(I103-G103+IF(G103>I103,1)-H103),INDEX('bases de donnée'!$E$20:'bases de donnée'!$E$32,MATCH(E103,gerald2,0))) -> 0.32291667 | K103: =IF(SUM(J103-'bases de donnée'!E$7)<0,0,SUM(J103-'bases de donnée'!E$7)) -> 0 | L103: =IF(OR(E103="férié travaillé",E103="travail"),I103-G103+IF(G103>I103,1),INDEX('bases de donnée'!$E$20:'bases de donnée'!$E$32,MATCH(E103,gerald2,0))) -> 0.35416667 | M103: =IF(SUM(L103-'bases de donnée'!E$4)<0,0,SUM(L103-'bases de donnée'!E$4)) -> 0 | N103: 0 | O103: =O102+J103 -> 0.63541667 | P103: H semaine | Q103: =IF(AND(G103<>"",I103<>""),1,0+OR(N(I102)<N(G102),E103="récupération",E103="congé 1 jour",E103="congé 1/2 jour ",E103="congé 5h24",E103="arrêt maladie",E103="arrêt travail",E103="férié ",E103="congé parentale",E103="congé de naissance")) -> 1 | S103: =IF(SUM(MOD(I103-G103,1)-IF(I103>G103,MAX(0,MIN(I103,'bases de donnée'!E$16/24)-MAX('planning '!G103,7/24)),MAX(0,'bases de donnée'!E$16/24-MAX('planning '!G103,7/24))+MAX(0,MIN('planning '!I103,'bases de donnée'!E$16/24)-7/24)))<0,0,SUM(MOD('planning '!I103-'planning '!G103,1)-IF('planning '!I103>'planning '!G103,MAX(0,MIN('planning '!I103,'bases de donnée'!E$16/24)-MAX('planning '!G103,7/24)),MAX(0,'bases de donnée'!E$16/24-MAX('planning '!G103,7/24))+MAX(0,MIN('planning '!I103,'bases de donnée'!E$16/24)-7/24)))) -> 0 | U103: =IF(E103<>"travail",IF(E103="férié travaillé",MOD(I103-G103,1)-H103,"00:00"),"00:00") -> 00:00 | V103: =IF(SUM(IF(O103>("36:00"*1),O103-("36:00"*1),0)-V101-V102)<0,0,SUM(IF(O103>("36:00"*1),O103-("36:00"*1),0)-V101-V102)) -> 0 | X103: =S103 -> 0 | Z103: =IF(SUM(U103-X103)<0,0,SUM(U103-X103)) -> 0 | AA103: =IF(SUM(V103-X103-Z103)<0,0,SUM(V103-X103-Z103)) -> 0 | AD103: =IF(SUM(U103-Z103)<0,0,SUM(U103-Z103)) -> 0 | AE103: =IF(SUM(V103-AA103)<0,0,SUM(V103-AA103)) -> 0
C104: jeudi | D104: =D103+1 -> 42090 | E104: travail | G104: 0.375 | H104: 0.03125 | I104: 0.72916667 | J104: =IF(OR(E104="férié travaillé",E104="travail"),(I104-G104+IF(G104>I104,1)-H104),INDEX('bases de donnée'!$E$20:'bases de donnée'!$E$32,MATCH(E104,gerald2,0))) -> 0.32291667 | K104: =IF(SUM(J104-'bases de donnée'!E$7)<0,0,SUM(J104-'bases de donnée'!E$7)) -> 0 | L104: =IF(OR(E104="férié travaillé",E104="travail"),I104-G104+IF(G104>I104,1),INDEX('bases de donnée'!$E$20:'bases de donnée'!$E$32,MATCH(E104,gerald2,0))) -> 0.35416667 | M104: =IF(SUM(L104-'bases de donnée'!E$4)<0,0,SUM(L104-'bases de donnée'!E$4)) -> 0 | N104: 0 | O104: =O103+J104 -> 0.95833333 | P104: =O107 -> 1.2708333 | Q104: =IF(AND(G104<>"",I104<>""),1,0+OR(N(I103)<N(G103),E104="récupération",E104="congé 1 jour",E104="congé 1/2 jour ",E104="congé 5h24",E104="arrêt maladie",E104="arrêt travail",E104="férié ",E104="congé parentale",E104="congé de naissance")) -> 1 | S104: =IF(SUM(MOD(I104-G104,1)-IF(I104>G104,MAX(0,MIN(I104,'bases de donnée'!E$16/24)-MAX('planning '!G104,7/24)),MAX(0,'bases de donnée'!E$16/24-MAX('planning '!G104,7/24))+MAX(0,MIN('planning '!I104,'bases de donnée'!E$16/24)-7/24)))<0,0,SUM(MOD('planning '!I104-'planning '!G104,1)-IF('planning '!I104>'planning '!G104,MAX(0,MIN('planning '!I104,'bases de donnée'!E$16/24)-MAX('planning '!G104,7/24)),MAX(0,'bases de donnée'!E$16/24-MAX('planning '!G104,7/24))+MAX(0,MIN('planning '!I104,'bases de donnée'!E$16/24)-7/24)))) -> 0 | U104: =IF(E104<>"travail",IF(E104="férié travaillé",MOD(I104-G104,1)-H104,"00:00"),"00:00") -> 00:00 | V104: =IF(SUM(IF(O104>("36:00"*1),O104-("36:00"*1),0)-V102-V103)<0,0,SUM(IF(O104>("36:00"*1),O104-("36:00"*1),0)-V101-V102-V103)) -> 0 | X104: =S104 -> 0 | Z104: =IF(SUM(U104-X104)<0,0,SUM(U104-X104)) -> 0 | AA104: =IF(SUM(V104-X104-Z104)<0,0,SUM(V104-X104-Z104)) -> 0 | AD104: =IF(SUM(U104-Z104)<0,0,SUM(U104-Z104)) -> 0 | AE104: =IF(SUM(V104-AA104)<0,0,SUM(V104-AA104)) -> 0
C105: vendredi | D105: =D104+1 -> 42091 | E105: travail | G105: 0.375 | H105: 0.03125 | I105: 0.71875 | J105: =IF(OR(E105="férié travaillé",E105="travail"),(I105-G105+IF(G105>I105,1)-H105),INDEX('bases de donnée'!$E$20:'bases de donnée'!$E$32,MATCH(E105,gerald2,0))) -> 0.3125 | K105: =IF(SUM(J105-'bases de donnée'!E$7)<0,0,SUM(J105-'bases de donnée'!E$7)) -> 0 | L105: =IF(OR(E105="férié travaillé",E105="travail"),I105-G105+IF(G105>I105,1),INDEX('bases de donnée'!$E$20:'bases de donnée'!$E$32,MATCH(E105,gerald2,0))) -> 0.34375 | M105: =IF(SUM(L105-'bases de donnée'!E$4)<0,0,SUM(L105-'bases de donnée'!E$4)) -> 0 | N105: 0 | O105: =O104+J105 -> 1.2708333 | P105: HS hc de | Q105: =IF(AND(G105<>"",I105<>""),1,0+OR(N(I104)<N(G104),E105="récupération",E105="congé 1 jour",E105="congé 1/2 jour ",E105="congé 5h24",E105="arrêt maladie",E105="arrêt travail",E105="férié ",E105="congé parentale",E105="congé de naissance")) -> 1 | S105: =IF(SUM(MOD(I105-G105,1)-IF(I105>G105,MAX(0,MIN(I105,'bases de donnée'!E$16/24)-MAX('planning '!G105,7/24)),MAX(0,'bases de donnée'!E$16/24-MAX('planning '!G105,7/24))+MAX(0,MIN('planning '!I105,'bases de donnée'!E$16/24)-7/24)))<0,0,SUM(MOD('planning '!I105-'planning '!G105,1)-IF('planning '!I105>'planning '!G105,MAX(0,MIN('planning '!I105,'bases de donnée'!E$16/24)-MAX('planning '!G105,7/24)),MAX(0,'bases de donnée'!E$16/24-MAX('planning '!G105,7/24))+MAX(0,MIN('planning '!I105,'bases de donnée'!E$16/24)-7/24)))) -> 0 | U105: =IF(E105<>"travail",IF(E105="férié travaillé",MOD(I105-G105,1)-H105,"00:00"),"00:00") -> 00:00 | V105: =IF(SUM(IF(O105>("36:00"*1),O105-("36:00"*1),0)-V103-V104)<0,0,SUM(IF(O105>("36:00"*1),O105-("36:00"*1),0)-V101-V102-V103-V104)) -> 0 | X105: =S105 -> 0 | Z105: =IF(SUM(U105-X105)<0,0,SUM(U105-X105)) -> 0 | AA105: =IF(SUM(V105-X105-Z105)<0,0,SUM(V105-X105-Z105)) -> 0 | AD105: =IF(SUM(U105-Z105)<0,0,SUM(U105-Z105)) -> 0 | AE105: =IF(SUM(V105-AA105)<0,0,SUM(V105-AA105)) -> 0
C106: samedi | D106: =D105+1 -> 42092 | E106: off | J106: =IF(OR(E106="férié travaillé",E106="travail"),(I106-G106+IF(G106>I106,1)-H106),INDEX('bases de donnée'!$E$20:'bases de donnée'!$E$32,MATCH(E106,gerald2,0))) -> 0 | K106: =IF(SUM(J106-'bases de donnée'!E$7)<0,0,SUM(J106-'bases de donnée'!E$7)) -> 0 | L106: =IF(OR(E106="férié travaillé",E106="travail"),I106-G106+IF(G106>I106,1),INDEX('bases de donnée'!$E$20:'bases de donnée'!$E$32,MATCH(E106,gerald2,0))) -> 0 | M106: =IF(SUM(L106-'bases de donnée'!E$4)<0,0,SUM(L106-'bases de donnée'!E$4)) -> 0 | N106: 0 | O106: =O105+J106 -> 1.2708333 | P106: ='bases de donnée'!E$10 -> 2 | Q106: =IF(AND(G106<>"",I106<>""),1,0+OR(N(I105)<N(G105),E106="récupération",E106="congé 1 jour",E106="congé 1/2 jour ",E106="congé 5h24",E106="arrêt maladie",E106="arrêt travail",E106="férié ",E106="congé parentale",E106="congé de naissance")) -> 0 | S106: =IF(SUM(MOD(I106-G106,1)-IF(I106>G106,MAX(0,MIN(I106,'bases de donnée'!E$16/24)-MAX('planning '!G106,7/24)),MAX(0,'bases de donnée'!E$16/24-MAX('planning '!G106,7/24))+MAX(0,MIN('planning '!I106,'bases de donnée'!E$16/24)-7/24)))<0,0,SUM(MOD('planning '!I106-'planning '!G106,1)-IF('planning '!I106>'planning '!G106,MAX(0,MIN('planning '!I106,'bases de donnée'!E$16/24)-MAX('planning '!G106,7/24)),MAX(0,'bases de donnée'!E$16/24-MAX('planning '!G106,7/24))+MAX(0,MIN('planning '!I106,'bases de donnée'!E$16/24)-7/24)))) -> 0 | U106: =IF(E106<>"travail",IF(E106="férié travaillé",MOD(I106-G106,1)-H106,"00:00"),"00:00") -> 00:00 | V106: =IF(SUM(IF(O106>("36:00"*1),O106-("36:00"*1),0)-V104-V105)<0,0,SUM(IF(O106>("36:00"*1),O106-("36:00"*1),0)-V101-V102-V103-V104-V105)) -> 0 | X106: =S106 -> 0 | Z106: =IF(SUM(U106-X106)<0,0,SUM(U106-X106)) -> 0 | AA106: =IF(SUM(V106-X106-Z106)<0,0,SUM(V106-X106-Z106)) -> 0 | AD106: =IF(SUM(U106-Z106)<0,0,SUM(U106-Z106)) -> 0 | AE106: =IF(SUM(V106-AA106)<0,0,SUM(V106-AA106)) -> 0
C107: dimanche | D107: =D106+1 -> 42093 | E107: off | J107: =IF(OR(E107="férié travaillé",E107="travail"),(I107-G107+IF(G107>I107,1)-H107),INDEX('bases de donnée'!$E$20:'bases de donnée'!$E$32,MATCH(E107,gerald2,0))) -> 0 | K107: =IF(SUM(J107-'bases de donnée'!E$7)<0,0,SUM(J107-'bases de donnée'!E$7)) -> 0 | L107: =IF(OR(E107="férié travaillé",E107="travail"),I107-G107+IF(G107>I107,1),INDEX('bases de donnée'!$E$20:'bases de donnée'!$E$32,MATCH(E107,gerald2,0))) -> 0 | M107: =IF(SUM(L107-'bases de donnée'!E$4)<0,0,SUM(L107-'bases de donnée'!E$4)) -> 0 | N107: 0 | O107: =O106+J107 -> 1.2708333 | P107: =IF(SUM(O107-'bases de donnée'!E$10)<0,0,SUM(O107-'bases de donnée'!E$10)) -> 0 | Q107: =IF(AND(G107<>"",I107<>""),1,0+OR(N(I106)<N(G106),E107="récupération",E107="congé 1 jour",E107="congé 1/2 jour ",E107="congé 5h24",E107="arrêt maladie",E107="arrêt travail",E107="férié ",E107="congé parentale",E107="congé de naissance")) -> 0 | S107: =IF(SUM(MOD(I107-G107,1)-IF(I107>G107,MAX(0,MIN(I107,'bases de donnée'!E$16/24)-MAX('planning '!G107,7/24)),MAX(0,'bases de donnée'!E$16/24-MAX('planning '!G107,7/24))+MAX(0,MIN('planning '!I107,'bases de donnée'!E$16/24)-7/24)))<0,0,SUM(MOD('planning '!I107-'planning '!G107,1)-IF('planning '!I107>'planning '!G107,MAX(0,MIN('planning '!I107,'bases de donnée'!E$16/24)-MAX('planning '!G107,7/24)),MAX(0,'bases de donnée'!E$16/24-MAX('planning '!G107,7/24))+MAX(0,MIN('planning '!I107,'bases de donnée'!E$16/24)-7/24)))) -> 0 | T107: =J107 -> 0 | U107: =IF(E107<>"travail",IF(E107="férié travaillé",MOD(I107-G107,1)-H107,"00:00"),"00:00") -> 00:00 | V107: =IF(SUM(IF(O107>("36:00"*1),O107-("36:00"*1),0)-V105-V106)<0,0,SUM(IF(O107>("36:00"*1),O107-("36:00"*1),0)-V101-V102-V103-V104-V105-V106)) -> 0 | X107: =S107 -> 0 | Y107: =IF(SUM(T107-S107)<0,0,SUM(T107-S107)) -> 0 | Z107: =IF(SUM(U107-T107-S107)<0,0,SUM(U107-T107-S107)) -> 0 | AA107: =IF(SUM(V107-S107-T107-U107)<0,0,SUM(V107-S107-T107-U107)) -> 0 | AC107: =IF(SUM(T107-Y107)<0,0,SUM(T107-Y107)) -> 0 | AD107: =IF(SUM(U107-Z107)<0,0,SUM(U107-Z107)) -> 0 | AE107: =IF(SUM(V107-AA107)<0,0,SUM(V107-AA107)) -> 0
B109: semaine | C109: lundi | D109: =D107+1 -> 42094 | E109: travail | G109: 0.375 | H109: 0.03125 | I109: 0.70833333 | J109: =IF(OR(E109="férié travaillé",E109="travail"),(I109-G109+IF(G109>I109,1)-H109),INDEX('bases de donnée'!$E$20:'bases de donnée'!$E$32,MATCH(E109,gerald2,0))) -> 0.30208333 | K109: =IF(SUM(J109-'bases de donnée'!E$7)<0,0,SUM(J109-'bases de donnée'!E$7)) -> 0 | L109: =IF(OR(E109="férié travaillé",E109="travail"),I109-G109+IF(G109>I109,1),INDEX('bases de donnée'!$E$20:'bases de donnée'!$E$32,MATCH(E109,gerald2,0))) -> 0.33333333 | M109: =IF(SUM(L109-'bases de donnée'!E$4)<0,0,SUM(L109-'bases de donnée'!E$4)) -> 0 | N109: 0 | O109: =J109 -> 0.30208333 | P109: =SUM(Q109:Q115) -> 5 | Q109: =IF(AND(G109<>"",I109<>""),1,0+OR(N(I108)<N(G108),E109="récupération",E109="congé 1 jour",E109="congé 1/2 jour ",E109="congé 5h24",E109="arrêt maladie",E109="arrêt travail",E109="férié ",E109="congé parentale",E109="congé de naissance")) -> 1 | S109: =IF(SUM(MOD(I109-G109,1)-IF(I109>G109,MAX(0,MIN(I109,'bases de donnée'!E$16/24)-MAX('planning '!G109,7/24)),MAX(0,'bases de donnée'!E$16/24-MAX('planning '!G109,7/24))+MAX(0,MIN('planning '!I109,'bases de donnée'!E$16/24)-7/24)))<0,0,SUM(MOD('planning '!I109-'planning '!G109,1)-IF('planning '!I109>'planning '!G109,MAX(0,MIN('planning '!I109,'bases de donnée'!E$16/24)-MAX('planning '!G109,7/24)),MAX(0,'bases de donnée'!E$16/24-MAX('planning '!G109,7/24))+MAX(0,MIN('planning '!I109,'bases de donnée'!E$16/24)-7/24)))) -> 0 | U109: =IF(E109<>"travail",IF(E109="férié travaillé",MOD(I109-G109,1)-H109,"00:00"),"00:00") -> 00:00 | X109: =S109 -> 0 | Z109: =IF(SUM(U109-X109)<0,0,SUM(U109-X109)) -> 0 | AA109: =IF(SUM(V109-X109-Z109)<0,0,SUM(V109-X109-Z109)) -> 0 | AD109: =IF(SUM(U109-Z109)<0,0,SUM(U109-Z109)) -> 0 | AE109: =IF(SUM(V109-AA109)<0,0,SUM(V109-AA109)) -> 0
B110: =B102+1 -> 13 | C110: mardi | D110: =D109+1 -> 42095 | E110: travail | G110: 0.375 | H110: 0.03125 | I110: 0.71875 | J110: =IF(OR(E110="férié travaillé",E110="travail"),(I110-G110+IF(G110>I110,1)-H110),INDEX('bases de donnée'!$E$20:'bases de donnée'!$E$32,MATCH(E110,gerald2,0))) -> 0.3125 | K110: =IF(SUM(J110-'bases de donnée'!E$7)<0,0,SUM(J110-'bases de donnée'!E$7)) -> 0 | L110: =IF(OR(E110="férié travaillé",E110="travail"),I110-G110+IF(G110>I110,1),INDEX('bases de donnée'!$E$20:'bases de donnée'!$E$32,MATCH(E110,gerald2,0))) -> 0.34375 | M110: =IF(SUM(L110-'bases de donnée'!E$4)<0,0,SUM(L110-'bases de donnée'!E$4)) -> 0 | N110: 0 | O110: =O109+J110 -> 0.61458333 | P110: =IF(SUM(P109-'bases de donnée'!E$6)<0,0,SUM(P109-'bases de donnée'!E$6)) -> 0 | Q110: =IF(AND(G110<>"",I110<>""),1,0+OR(N(I109)<N(G109),E110="récupération",E110="congé 1 jour",E110="congé 1/2 jour ",E110="congé 5h24",E110="arrêt maladie",E110="arrêt travail",E110="férié ",E110="congé parentale",E110="congé de naissance")) -> 1 | S110: =IF(SUM(MOD(I110-G110,1)-IF(I110>G110,MAX(0,MIN(I110,'bases de donnée'!E$16/24)-MAX('planning '!G110,7/24)),MAX(0,'bases de donnée'!E$16/24-MAX('planning '!G110,7/24))+MAX(0,MIN('planning '!I110,'bases de donnée'!E$16/24)-7/24)))<0,0,SUM(MOD('planning '!I110-'planning '!G110,1)-IF('planning '!I110>'planning '!G110,MAX(0,MIN('planning '!I110,'bases de donnée'!E$16/24)-MAX('planning '!G110,7/24)),MAX(0,'bases de donnée'!E$16/24-MAX('planning '!G110,7/24))+MAX(0,MIN('planning '!I110,'bases de donnée'!E$16/24)-7/24)))) -> 0 | U110: =IF(E110<>"travail",IF(E110="férié travaillé",MOD(I110-G110,1)-H110,"00:00"),"00:00") -> 00:00 | V110: =IF(SUM(IF(O110>('bases de donnée'!E$9*1),O110-('bases de donnée'!E$9*1),0)-V109)<0,0,SUM(IF(O110>('bases de donnée'!E$9*1),O110-('bases de donnée'!E$9*1),0)-V109)) -> 0 | X110: =S110 -> 0 | Z110: =IF(SUM(U110-X110)<0,0,SUM(U110-X110)) -> 0 | AA110: =IF(SUM(V110-X110-Z110)<0,0,SUM(V110-X110-Z110)) -> 0 | AD110: =IF(SUM(U110-Z110)<0,0,SUM(U110-Z110)) -> 0 | AE110: =IF(SUM(V110-AA110)<0,0,SUM(V110-AA110)) -> 0
C111: mercredi | D111: =D110+1 -> 42096 | E111: travail | G111: 0.375 | H111: 0.03125 | I111: 0.71875 | J111: =IF(OR(E111="férié travaillé",E111="travail"),(I111-G111+IF(G111>I111,1)-H111),INDEX('bases de donnée'!$E$20:'bases de donnée'!$E$32,MATCH(E111,gerald2,0))) -> 0.3125 | K111: =IF(SUM(J111-'bases de donnée'!E$7)<0,0,SUM(J111-'bases de donnée'!E$7)) -> 0 | L111: =IF(OR(E111="férié travaillé",E111="travail"),I111-G111+IF(G111>I111,1),INDEX('bases de donnée'!$E$20:'bases de donnée'!$E$32,MATCH(E111,gerald2,0))) -> 0.34375 | M111: =IF(SUM(L111-'bases de donnée'!E$4)<0,0,SUM(L111-'bases de donnée'!E$4)) -> 0 | N111: 0 | O111: =O110+J111 -> 0.92708333 | P111: H semaine | Q111: =IF(AND(G111<>"",I111<>""),1,0+OR(N(I110)<N(G110),E111="récupération",E111="congé 1 jour",E111="congé 1/2 jour ",E111="congé 5h24",E111="arrêt maladie",E111="arrêt travail",E111="férié ",E111="congé parentale",E111="congé de naissance")) -> 1 | S111: =IF(SUM(MOD(I111-G111,1)-IF(I111>G111,MAX(0,MIN(I111,'bases de donnée'!E$16/24)-MAX('planning '!G111,7/24)),MAX(0,'bases de donnée'!E$16/24-MAX('planning '!G111,7/24))+MAX(0,MIN('planning '!I111,'bases de donnée'!E$16/24)-7/24)))<0,0,SUM(MOD('planning '!I111-'planning '!G111,1)-IF('planning '!I111>'planning '!G111,MAX(0,MIN('planning '!I111,'bases de donnée'!E$16/24)-MAX('planning '!G111,7/24)),MAX(0,'bases de donnée'!E$16/24-MAX('planning '!G111,7/24))+MAX(0,MIN('planning '!I111,'bases de donnée'!E$16/24)-7/24)))) -> 0 | U111: =IF(E111<>"travail",IF(E111="férié travaillé",MOD(I111-G111,1)-H111,"00:00"),"00:00") -> 00:00 | V111: =IF(SUM(IF(O111>("36:00"*1),O111-("36:00"*1),0)-V109-V110)<0,0,SUM(IF(O111>("36:00"*1),O111-("36:00"*1),0)-V109-V110)) -> 0 | X111: =S111 -> 0 | Z111: =IF(SUM(U111-X111)<0,0,SUM(U111-X111)) -> 0 | AA111: =IF(SUM(V111-X111-Z111)<0,0,SUM(V111-X111-Z111)) -> 0 | AD111: =IF(SUM(U111-Z111)<0,0,SUM(U111-Z111)) -> 0 | AE111: =IF(SUM(V111-AA111)<0,0,SUM(V111-AA111)) -> 0
C112: jeudi | D112: =D111+1 -> 42097 | E112: travail | G112: 0.58333333 | I112: 0.95833333 | J112: =IF(OR(E112="férié travaillé",E112="travail"),(I112-G112+IF(G112>I112,1)-H112),INDEX('bases de donnée'!$E$20:'bases de donnée'!$E$32,MATCH(E112,gerald2,0))) -> 0.375 | K112: =IF(SUM(J112-'bases de donnée'!E$7)<0,0,SUM(J112-'bases de donnée'!E$7)) -> 0 | L112: =IF(OR(E112="férié travaillé",E112="travail"),I112-G112+IF(G112>I112,1),INDEX('bases de donnée'!$E$20:'bases de donnée'!$E$32,MATCH(E112,gerald2,0))) -> 0.375 | M112: =IF(SUM(L112-'bases de donnée'!E$4)<0,0,SUM(L112-'bases de donnée'!E$4)) -> 0 | N112: 0 | O112: =O111+J112 -> 1.3020833 | P112: =O115 -> 1.5625 | Q112: =IF(AND(G112<>"",I112<>""),1,0+OR(N(I111)<N(G111),E112="récupération",E112="congé 1 jour",E112="congé 1/2 jour ",E112="congé 5h24",E112="arrêt maladie",E112="arrêt travail",E112="férié ",E112="congé parentale",E112="congé de naissance")) -> 1 | S112: =IF(SUM(MOD(I112-G112,1)-IF(I112>G112,MAX(0,MIN(I112,'bases de donnée'!E$16/24)-MAX('planning '!G112,7/24)),MAX(0,'bases de donnée'!E$16/24-MAX('planning '!G112,7/24))+MAX(0,MIN('planning '!I112,'bases de donnée'!E$16/24)-7/24)))<0,0,SUM(MOD('planning '!I112-'planning '!G112,1)-IF('planning '!I112>'planning '!G112,MAX(0,MIN('planning '!I112,'bases de donnée'!E$16/24)-MAX('planning '!G112,7/24)),MAX(0,'bases de donnée'!E$16/24-MAX('planning '!G112,7/24))+MAX(0,MIN('planning '!I112,'bases de donnée'!E$16/24)-7/24)))) -> 0.083333333 | U112: =IF(E112<>"travail",IF(E112="férié travaillé",MOD(I112-G112,1)-H112,"00:00"),"00:00") -> 00:00 | V112: =IF(SUM(IF(O112>("36:00"*1),O112-("36:00"*1),0)-V110-V111)<0,0,SUM(IF(O112>("36:00"*1),O112-("36:00"*1),0)-V109-V110-V111)) -> 0 | X112: =S112 -> 0.083333333 | Z112: =IF(SUM(U112-X112)<0,0,SUM(U112-X112)) -> 0 | AA112: =IF(SUM(V112-X112-Z112)<0,0,SUM(V112-X112-Z112)) -> 0 | AD112: =IF(SUM(U112-Z112)<0,0,SUM(U112-Z112)) -> 0 | AE112: =IF(SUM(V112-AA112)<0,0,SUM(V112-AA112)) -> 0
C113: vendredi | D113: =D112+1 -> 42098 | E113: travail | G113: 0.41666667 | H113: 0.03125 | I113: 0.70833333 | J113: =IF(OR(E113="férié travaillé",E113="travail"),(I113-G113+IF(G113>I113,1)-H113),INDEX('bases de donnée'!$E$20:'bases de donnée'!$E$32,MATCH(E113,gerald2,0))) -> 0.26041667 | K113: =IF(SUM(J113-'bases de donnée'!E$7)<0,0,SUM(J113-'bases de donnée'!E$7)) -> 0 | L113: =IF(OR(E113="férié travaillé",E113="travail"),I113-G113+IF(G113>I113,1),INDEX('bases de donnée'!$E$20:'bases de donnée'!$E$32,MATCH(E113,gerald2,0))) -> 0.29166667 | M113: =IF(SUM(L113-'bases de donnée'!E$4)<0,0,SUM(L113-'bases de donnée'!E$4)) -> 0 | N113: 0 | O113: =O112+J113 -> 1.5625 | P113: HS hc de | Q113: =IF(AND(G113<>"",I113<>""),1,0+OR(N(I112)<N(G112),E113="récupération",E113="congé 1 jour",E113="congé 1/2 jour ",E113="congé 5h24",E113="arrêt maladie",E113="arrêt travail",E113="férié ",E113="congé parentale",E113="congé de naissance")) -> 1 | S113: =IF(SUM(MOD(I113-G113,1)-IF(I113>G113,MAX(0,MIN(I113,'bases de donnée'!E$16/24)-MAX('planning '!G113,7/24)),MAX(0,'bases de donnée'!E$16/24-MAX('planning '!G113,7/24))+MAX(0,MIN('planning '!I113,'bases de donnée'!E$16/24)-7/24)))<0,0,SUM(MOD('planning '!I113-'planning '!G113,1)-IF('planning '!I113>'planning '!G113,MAX(0,MIN('planning '!I113,'bases de donnée'!E$16/24)-MAX('planning '!G113,7/24)),MAX(0,'bases de donnée'!E$16/24-MAX('planning '!G113,7/24))+MAX(0,MIN('planning '!I113,'bases de donnée'!E$16/24)-7/24)))) -> 0 | U113: =IF(E113<>"travail",IF(E113="férié travaillé",MOD(I113-G113,1)-H113,"00:00"),"00:00") -> 00:00 | V113: =IF(SUM(IF(O113>("36:00"*1),O113-("36:00"*1),0)-V111-V112)<0,0,SUM(IF(O113>("36:00"*1),O113-("36:00"*1),0)-V109-V110-V111-V112)) -> 0.0625 | X113: =S113 -> 0 | Z113: =IF(SUM(U113-X113)<0,0,SUM(U113-X113)) -> 0 | AA113: =IF(SUM(V113-X113-Z113)<0,0,SUM(V113-X113-Z113)) -> 0.0625 | AD113: =IF(SUM(U113-Z113)<0,0,SUM(U113-Z113)) -> 0 | AE113: =IF(SUM(V113-AA113)<0,0,SUM(V113-AA113)) -> 0
C114: samedi | D114: =D113+1 -> 42099 | E114: off | J114: =IF(OR(E114="férié travaillé",E114="travail"),(I114-G114+IF(G114>I114,1)-H114),INDEX('bases de donnée'!$E$20:'bases de donnée'!$E$32,MATCH(E114,gerald2,0))) -> 0 | K114: =IF(SUM(J114-'bases de donnée'!E$7)<0,0,SUM(J114-'bases de donnée'!E$7)) -> 0 | L114: =IF(OR(E114="férié travaillé",E114="travail"),I114-G114+IF(G114>I114,1),INDEX('bases de donnée'!$E$20:'bases de donnée'!$E$32,MATCH(E114,gerald2,0))) -> 0 | M114: =IF(SUM(L114-'bases de donnée'!E$4)<0,0,SUM(L114-'bases de donnée'!E$4)) -> 0 | N114: 0 | O114: =O113+J114 -> 1.5625 | P114: ='bases de donnée'!E$10 -> 2 | Q114: =IF(AND(G114<>"",I114<>""),1,0+OR(N(I113)<N(G113),E114="récupération",E114="congé 1 jour",E114="congé 1/2 jour ",E114="congé 5h24",E114="arrêt maladie",E114="arrêt travail",E114="férié ",E114="congé parentale",E114="congé de naissance")) -> 0 | S114: =IF(SUM(MOD(I114-G114,1)-IF(I114>G114,MAX(0,MIN(I114,'bases de donnée'!E$16/24)-MAX('planning '!G114,7/24)),MAX(0,'bases de donnée'!E$16/24-MAX('planning '!G114,7/24))+MAX(0,MIN('planning '!I114,'bases de donnée'!E$16/24)-7/24)))<0,0,SUM(MOD('planning '!I114-'planning '!G114,1)-IF('planning '!I114>'planning '!G114,MAX(0,MIN('planning '!I114,'bases de donnée'!E$16/24)-MAX('planning '!G114,7/24)),MAX(0,'bases de donnée'!E$16/24-MAX('planning '!G114,7/24))+MAX(0,MIN('planning '!I114,'bases de donnée'!E$16/24)-7/24)))) -> 0 | U114: =IF(E114<>"travail",IF(E114="férié travaillé",MOD(I114-G114,1)-H114,"00:00"),"00:00") -> 00:00 | V114: =IF(SUM(IF(O114>("36:00"*1),O114-("36:00"*1),0)-V112-V113)<0,0,SUM(IF(O114>("36:00"*1),O114-("36:00"*1),0)-V109-V110-V111-V112-V113)) -> 0 | X114: =S114 -> 0 | Z114: =IF(SUM(U114-X114)<0,0,SUM(U114-X114)) -> 0 | AA114: =IF(SUM(V114-X114-Z114)<0,0,SUM(V114-X114-Z114)) -> 0 | AD114: =IF(SUM(U114-Z114)<0,0,SUM(U114-Z114)) -> 0 | AE114: =IF(SUM(V114-AA114)<0,0,SUM(V114-AA114)) -> 0
C115: dimanche | D115: =D114+1 -> 42100 | E115: off | J115: =IF(OR(E115="férié travaillé",E115="travail"),(I115-G115+IF(G115>I115,1)-H115),INDEX('bases de donnée'!$E$20:'bases de donnée'!$E$32,MATCH(E115,gerald2,0))) -> 0 | K115: =IF(SUM(J115-'bases de donnée'!E$7)<0,0,SUM(J115-'bases de donnée'!E$7)) -> 0 | L115: =IF(OR(E115="férié travaillé",E115="travail"),I115-G115+IF(G115>I115,1),INDEX('bases de donnée'!$E$20:'bases de donnée'!$E$32,MATCH(E115,gerald2,0))) -> 0 | M115: =IF(SUM(L115-'bases de donnée'!E$4)<0,0,SUM(L115-'bases de donnée'!E$4)) -> 0 | N115: 0 | O115: =O114+J115 -> 1.5625 | P115: =IF(SUM(O115-'bases de donnée'!E$10)<0,0,SUM(O115-'bases de donnée'!E$10)) -> 0 | Q115: =IF(AND(G115<>"",I115<>""),1,0+OR(N(I114)<N(G114),E115="récupération",E115="congé 1 jour",E115="congé 1/2 jour ",E115="congé 5h24",E115="arrêt maladie",E115="arrêt travail",E115="férié ",E115="congé parentale",E115="congé de naissance")) -> 0 | S115: =IF(SUM(MOD(I115-G115,1)-IF(I115>G115,MAX(0,MIN(I115,'bases de donnée'!E$16/24)-MAX('planning '!G115,7/24)),MAX(0,'bases de donnée'!E$16/24-MAX('planning '!G115,7/24))+MAX(0,MIN('planning '!I115,'bases de donnée'!E$16/24)-7/24)))<0,0,SUM(MOD('planning '!I115-'planning '!G115,1)-IF('planning '!I115>'planning '!G115,MAX(0,MIN('planning '!I115,'bases de donnée'!E$16/24)-MAX('planning '!G115,7/24)),MAX(0,'bases de donnée'!E$16/24-MAX('planning '!G115,7/24))+MAX(0,MIN('planning '!I115,'bases de donnée'!E$16/24)-7/24)))) -> 0 | T115: =J115 -> 0 | U115: =IF(E115<>"travail",IF(E115="férié travaillé",MOD(I115-G115,1)-H115,"00:00"),"00:00") -> 00:00 | V115: =IF(SUM(IF(O115>("36:00"*1),O115-("36:00"*1),0)-V113-V114)<0,0,SUM(IF(O115>("36:00"*1),O115-("36:00"*1),0)-V109-V110-V111-V112-V113-V114)) -> 0 | X115: =S115 -> 0 | Y115: =IF(SUM(T115-S115)<0,0,SUM(T115-S115)) -> 0 | Z115: =IF(SUM(U115-T115-S115)<0,0,SUM(U115-T115-S115)) -> 0 | AA115: =IF(SUM(V115-S115-T115-U115)<0,0,SUM(V115-S115-T115-U115)) -> 0 | AC115: =IF(SUM(T115-Y115)<0,0,SUM(T115-Y115)) -> 0 | AD115: =IF(SUM(U115-Z115)<0,0,SUM(U115-Z115)) -> 0 | AE115: =IF(SUM(V115-AA115)<0,0,SUM(V115-AA115)) -> 0
...

Sheet résultat 
C2: jours sur l'année | G2: congé = 243 h | L2: hs +36 réel | O2: hs +36 réglementation 2018 | R2: perte heures non majoré suite à la réglementation 2008
C3: jours | F3: congé 1 jour | G3: =COUNTIF('planning '!$E$6:$E$422,F3) -> 33 | H3: =G3*'bases de donnée'!E5 -> 9.9 | K3: mois | M3: hc de | N3: h sup | O3: heures majoré | Q3: H dimanche | R3: =SUM('planning '!AC6:AC422) -> 0
B4: travail | C4: =COUNTIF('planning '!$E$6:$E$422,B4) -> 178 | F4: congé 1/2 jour | G4: =COUNTIF('planning '!$E$6:$E$422,F4) -> 0 | H4: =SUM(G4*'bases de donnée'!E24) -> 0 | K4: janvier | L4: =SUMPRODUCT((YEAR('planning '!$D$6:$D$422)='bases de donnée'!E$2)*(MONTH('planning '!$D$6:$D$422)=MONTH(1&K4))*('planning '!$V$6:$V$422)) -> 0.24166667 | M4: =IF(SUM(L4-'bases de donnée'!E$12)<0,0,SUM(L4-'bases de donnée'!E$12)) -> 0 | N4: =SUMPRODUCT((YEAR('planning '!$D$6:$D$422)='bases de donnée'!E$2)*(MONTH('planning '!$D$6:$D$422)=MONTH(1&K4))*('planning '!$AA$6:$AA$422)) -> 0.24166667 | O4: =IF(N4<0.625,N4*'bases de donnée'!$E$14,(0.583333*'bases de donnée'!$E$14)+(N4-0.583333)*'bases de donnée'!$E$15)*24 -> 0.30208333 | Q4: H férié travaillé | R4: =SUM('planning '!AD6:AD422) -> 0
B5: off | C5: =COUNTIF('planning '!$E$6:$E$422,B5) -> 113 | F5: congé 5h24 | G5: =COUNTIF('planning '!$E$6:$E$422,F5) -> 1 | H5: =G5*'bases de donnée'!E25 -> 0.225 | K5: février | L5: =SUMPRODUCT((YEAR('planning '!$D$6:$D$422)='bases de donnée'!E$2)*(MONTH('planning '!$D$6:$D$422)=MONTH(1&K5))*('planning '!$V$6:$V$422)) -> 0.6875 | M5: =IF(SUM(L5-'bases de donnée'!E$12)<0,0,SUM(L5-'bases de donnée'!E$12)) -> 0 | N5: =SUMPRODUCT((YEAR('planning '!$D$6:$D$422)='bases de donnée'!E$2)*(MONTH('planning '!$D$6:$D$422)=MONTH(1&K5))*('planning '!$AA$6:$AA$422)) -> 0.5625 | O5: =IF(N5<0.625,N5*'bases de donnée'!$E$14,(0.583333*'bases de donnée'!$E$14)+(N5-0.583333)*'bases de donnée'!$E$15)*24 -> 0.703125 | Q5: H sup + 36 | R5: =SUM('planning '!AE6:AE422) -> 0.22916667
B6: récupération | C6: =COUNTIF('planning '!$E$6:$E$426,B6) -> 25 | F6: résultat | G6: =SUM(G3:G5) -> 34 | H6: =SUM(H3+H4+H5) -> 10.125 | K6: mars | L6: =SUMPRODUCT((YEAR('planning '!$D$6:$D$422)='bases de donnée'!E$2)*(MONTH('planning '!$D$6:$D$422)=MONTH(1&K6))*('planning '!$V$6:$V$422)) -> 0.4125 | M6: =IF(SUM(L6-'bases de donnée'!E$12)<0,0,SUM(L6-'bases de donnée'!E$12)) -> 0 | N6: =SUMPRODUCT((YEAR('planning '!$D$6:$D$422)='bases de donnée'!E$2)*(MONTH('planning '!$D$6:$D$422)=MONTH(1&K6))*('planning '!$AA$6:$AA$422)) -> 0.4125 | O6: =IF(N6<0.625,N6*'bases de donnée'!$E$14,(0.583333*'bases de donnée'!$E$14)+(N6-0.583333)*'bases de donnée'!$E$15)*24 -> 0.515625
B7: arrêt maladie | C7: =COUNTIF('planning '!$E$6:$E$422,B7) -> 5 | K7: avril | L7: =SUMPRODUCT((YEAR('planning '!$D$6:$D$422)='bases de donnée'!E$2)*(MONTH('planning '!$D$6:$D$422)=MONTH(1&K7))*('planning '!$V$6:$V$422)) -> 0.089583333 | M7: =IF(SUM(L7-'bases de donnée'!E$12)<0,0,SUM(L7-'bases de donnée'!E$12)) -> 0 | N7: =SUMPRODUCT((YEAR('planning '!$D$6:$D$422)='bases de donnée'!E$2)*(MONTH('planning '!$D$6:$D$422)=MONTH(1&K7))*('planning '!$AA$6:$AA$422)) -> 0.089583333 | O7: =IF(N7<0.625,N7*'bases de donnée'!$E$14,(0.583333*'bases de donnée'!$E$14)+(N7-0.583333)*'bases de donnée'!$E$15)*24 -> 0.11197917
B8: arrêt travail | C8: =COUNTIF('planning '!$E$6:$E$422,B8) -> 0 | G8: congé parentale 11 jours - naissance 3 jours | K8: mai | L8: =SUMPRODUCT((YEAR('planning '!$D$6:$D$422)='bases de donnée'!E$2)*(MONTH('planning '!$D$6:$D$422)=MONTH(1&K8))*('planning '!$V$6:$V$422)) -> 0.39166667 | M8: =IF(SUM(L8-'bases de donnée'!E$12)<0,0,SUM(L8-'bases de donnée'!E$12)) -> 0 | N8: =SUMPRODUCT((YEAR('planning '!$D$6:$D$422)='bases de donnée'!E$2)*(MONTH('planning '!$D$6:$D$422)=MONTH(1&K8))*('planning '!$AA$6:$AA$422)) -> 0.37083333 | O8: =IF(N8<0.625,N8*'bases de donnée'!$E$14,(0.583333*'bases de donnée'!$E$14)+(N8-0.583333)*'bases de donnée'!$E$15)*24 -> 0.46354167
B9: férié | C9: =COUNTIF('planning '!$E$6:$E$422,B9) -> 10 | F9: congé parentale | G9: =COUNTIF('planning '!$E$6:$E$422,F9) -> 0 | K9: juin | L9: =SUMPRODUCT((YEAR('planning '!$D$6:$D$422)='bases de donnée'!E$2)*(MONTH('planning '!$D$6:$D$422)=MONTH(1&K9))*('planning '!$V$6:$V$422)) -> 0.72916667 | M9: =IF(SUM(L9-'bases de donnée'!E$12)<0,0,SUM(L9-'bases de donnée'!E$12)) -> 0 | N9: =SUMPRODUCT((YEAR('planning '!$D$6:$D$422)='bases de donnée'!E$2)*(MONTH('planning '!$D$6:$D$422)=MONTH(1&K9))*('planning '!$AA$6:$AA$422)) -> 0.64583333 | O9: =IF(N9<0.625,N9*'bases de donnée'!$E$14,(0.583333*'bases de donnée'!$E$14)+(N9-0.583333)*'bases de donnée'!$E$15)*24 -> 0.82291675
B10: férié travaillé | C10: =COUNTIF('planning '!$E$6:$E$422,B10) -> 0 | F10: congé parentale week end | G10: =COUNTIF('planning '!$E$6:$E$422,F10) -> 0 | K10: juillet | L10: =SUMPRODUCT((YEAR('planning '!$D$6:$D$422)='bases de donnée'!E$2)*(MONTH('planning '!$D$6:$D$422)=MONTH(1&K10))*('planning '!$V$6:$V$422)) -> 0 | M10: =IF(SUM(L10-'bases de donnée'!E$12)<0,0,SUM(L10-'bases de donnée'!E$12)) -> 0 | N10: =SUMPRODUCT((YEAR('planning '!$D$6:$D$422)='bases de donnée'!E$2)*(MONTH('planning '!$D$6:$D$422)=MONTH(1&K10))*('planning '!$AA$6:$AA$422)) -> 0 | O10: =IF(N10<0.625,N10*'bases de donnée'!$E$14,(0.583333*'bases de donnée'!$E$14)+(N10-0.583333)*'bases de donnée'!$E$15)*24 -> 0
F11: congé de naissance | G11: =COUNTIF('planning '!$E$9:$E$422,F11) -> 0 | K11: août | L11: =SUMPRODUCT((YEAR('planning '!$D$6:$D$422)='bases de donnée'!E$2)*(MONTH('planning '!$D$6:$D$422)=MONTH(1&K11))*('planning '!$V$6:$V$422)) -> 0 | M11: =IF(SUM(L11-'bases de donnée'!E$12)<0,0,SUM(L11-'bases de donnée'!E$12)) -> 0 | N11: =SUMPRODUCT((YEAR('planning '!$D$6:$D$422)='bases de donnée'!E$2)*(MONTH('planning '!$D$6:$D$422)=MONTH(1&K11))*('planning '!$AA$6:$AA$422)) -> 0 | O11: =IF(N11<0.625,N11*'bases de donnée'!$E$14,(0.583333*'bases de donnée'!$E$14)+(N11-0.583333)*'bases de donnée'!$E$15)*24 -> 0
B12: résultat en jours | C12: =SUM(C4+C5+C6+C7+C8+C9+C10+G6+G12+G13) -> 365 | F12: résultat congé parentale | G12: =G9+G10 -> 0 | K12: septembre | L12: =SUMPRODUCT((YEAR('planning '!$D$6:$D$422)='bases de donnée'!E$2)*(MONTH('planning '!$D$6:$D$422)=MONTH(1&K12))*('planning '!$V$6:$V$422)) -> 0 | M12: =IF(SUM(L12-'bases de donnée'!E$12)<0,0,SUM(L12-'bases de donnée'!E$12)) -> 0 | N12: =SUMPRODUCT((YEAR('planning '!$D$6:$D$422)='bases de donnée'!E$2)*(MONTH('planning '!$D$6:$D$422)=MONTH(1&K12))*('planning '!$AA$6:$AA$422)) -> 0 | O12: =IF(N12<0.625,N12*'bases de donnée'!$E$14,(0.583333*'bases de donnée'!$E$14)+(N12-0.583333)*'bases de donnée'!$E$15)*24 -> 0
B13: résultat sur l'année en heures | C13: =SUMPRODUCT((YEAR('planning '!$D$6:$D$422)='bases de donnée'!E$2)*('planning '!$J$6:$J$422))-H6 -> 66.679167 | F13: résultat congé naissance | G13: =G11 -> 0 | K13: octobre | L13: =SUMPRODUCT((YEAR('planning '!$D$5:$D$435)='bases de donnée'!E$2)*(MONTH('planning '!$D$5:$D$435)=MONTH(1&K13))*('planning '!$V$5:$V$435)) -> 0 | M13: =IF(SUM(L13-'bases de donnée'!E$12)<0,0,SUM(L13-'bases de donnée'!E$12)) -> 0 | N13: =SUMPRODUCT((YEAR('planning '!$D$6:$D$422)='bases de donnée'!E$2)*(MONTH('planning '!$D$6:$D$422)=MONTH(1&K13))*('planning '!$AA$6:$AA$422)) -> 0 | O13: =IF(N13<0.625,N13*'bases de donnée'!$E$14,(0.583333*'bases de donnée'!$E$14)+(N13-0.583333)*'bases de donnée'!$E$15)*24 -> 0
K14: novembre | L14: =SUMPRODUCT((YEAR('planning '!$D$6:$D$422)='bases de donnée'!E$2)*(MONTH('planning '!$D$6:$D$422)=MONTH(1&K14))*('planning '!$V$6:$V$422)) -> 0 | M14: =IF(SUM(L14-'bases de donnée'!E$12)<0,0,SUM(L14-'bases de donnée'!E$12)) -> 0 | N14: =SUMPRODUCT((YEAR('planning '!$D$6:$D$422)='bases de donnée'!E$2)*(MONTH('planning '!$D$6:$D$422)=MONTH(1&K14))*('planning '!$AA$6:$AA$422)) -> 0 | O14: =IF(N14<0.625,N14*'bases de donnée'!$E$14,(0.583333*'bases de donnée'!$E$14)+(N14-0.583333)*'bases de donnée'!$E$15)*24 -> 0
K15: décembre | L15: =SUMPRODUCT((YEAR('planning '!$D$6:$D$422)='bases de donnée'!E$2)*(MONTH('planning '!$D$6:$D$422)=MONTH(1&K15))*('planning '!$V$6:$V$422)) -> 0 | M15: =IF(SUM(L15-'bases de donnée'!E$12)<0,0,SUM(L15-'bases de donnée'!E$12)) -> 0 | N15: =SUMPRODUCT((YEAR('planning '!$D$6:$D$422)='bases de donnée'!E$2)*(MONTH('planning '!$D$6:$D$422)=MONTH(1&K15))*('planning '!$AA$6:$AA$422)) -> 0 | O15: =IF(N15<0.625,N15*'bases de donnée'!$E$14,(0.583333*'bases de donnée'!$E$14)+(N15-0.583333)*'bases de donnée'!$E$15)*24 -> 0
D16: résultat récupération sur l'année | H16: résultat des heures hors cadre sur l'année
C17: heures | D17: heures majoré | H17: hc de
B18: HS + 36 | C18: =SUM(N4:N15) -> 2.3229167 | D18: =SUM(O4:O15) -> 2.9192709 | G18: travail annuel +1580 h | H18: =IF(SUM(C13-'bases de donnée'!E$3)<0,0,SUM(C13-'bases de donnée'!E$3)) -> 0.84583333
B19: H nuit | C19: =SUMPRODUCT((YEAR('planning '!$D$6:$D$422)='bases de donnée'!E$2)*('planning '!$X$6:$X$422)) -> 1.4895833 | D19: =SUM(C19*'bases de donnée'!E17)*24 -> 3.7239583 | G19: jour +10 h | H19: =SUM('planning '!K5:K435) -> 0.57291667
B20: H dimanche | C20: =SUMPRODUCT((YEAR('planning '!$D$6:$D$422)='bases de donnée'!E$2)*('planning '!$Y$6:$Y$422)) -> 0 | D20: =SUM(C20*'bases de donnée'!E18)*24 -> 0 | G20: amplitude jour +12 h | H20: =SUM('planning '!M5:M435) -> 0.1875
B21: H férié travaillé | C21: =SUMPRODUCT((YEAR('planning '!$D$6:$D$422)='bases de donnée'!E$2)*('planning '!$Z$6:$Z$422)) -> 0 | D21: =SUM(C21*'bases de donnée'!E19)*24 -> 0 | G21: jours hedbomadaire + 6 jours | H21: =SUM('planning '!P6+'planning '!P14+'planning '!P22+'planning '!P30+'planning '!P38+'planning '!P46+'planning '!P54+'planning '!P62+'planning '!P70+'planning '!P78+'planning '!P94+'planning '!P102+'planning '!P110+'planning '!P118+'planning '!P126+'planning '!P134+'planning '!P142+'planning '!P150+'planning '!P158+'planning '!P166+'planning '!P174+'planning '!P182+'planning '!P190+'planning '!P198+'planning '!P206+'planning '!P214+'planning '!P222+'planning '!P230+'planning '!P238+'planning '!P246++'planning '!P254+'planning '!P262+'planning '!P270+'planning '!P278+'planning '!P286+'planning '!P294+'planning '!P302+'planning '!P310+'planning '!P318+'planning '!P326+'planning '!P334+'planning '!P342+'planning '!P350+'planning '!P358+'planning '!P366+'planning '!P374+'planning '!P382+'planning '!P390+'planning '!P398+'planning '!P406+'planning '!P414+'planning '!P422+'planning '!P430) -> 0
B22: Heures supplémenatires 2018 | D22: 3.6041667 | G22: heures semaine + 48h | H22: =SUM('planning '!P11+'planning '!P19+'planning '!P27+'planning '!P35+'planning '!P43+'planning '!P51+'planning '!P59+'planning '!P67+'planning '!P75+'planning '!P83+'planning '!P91+'planning '!P99+'planning '!P107+'planning '!P115++'planning '!P123+'planning '!P131+'planning '!P139+'planning '!P147+'planning '!P155+'planning '!P163+'planning '!P171+'planning '!P179+'planning '!P187+'planning '!P195+'planning '!P203+'planning '!P211+'planning '!P219+'planning '!P227+'planning '!P235+'planning '!P243+'planning '!P251+'planning '!P259+'planning '!P267+'planning '!P275+'planning '!P283+'planning '!P291+'planning '!P299+'planning '!P307+'planning '!P315+'planning '!P323+'planning '!P331+'planning '!P339+'planning '!P347+'planning '!P355+'planning '!P363+'planning '!P371+'planning '!P379+'planning '!P387+'planning '!P395+'planning '!P403+'planning '!P411+'planning '!P419+'planning '!P427+'planning '!P435) -> 0
B23: récup pris | D23: =SUM(C6*'bases de donnée'!E5) -> 7.5 | G23: congé | H23: =IF(SUM(H6-'bases de donnée'!E$13)<0,0,SUM(H6-'bases de donnée'!E$13)) -> 0
C24: résutat | D24: =SUM(D18+D19+D20+D21+D22-D23) -> 2.7473959 | G24: repos journalier /hebdo | H24: =SUM('planning '!N5:N435) -> 0
G25: h sup mois + 25h | H25: =SUM(M4:M15) -> 0

Sheet bases de donnée
D2: année | E2: 2019
D3: heures annueltravail | E3: 65.833333
D4: amplitude du temps | E4: 0.5
D5: heure jour | E5: 0.3 | O5: =IF(SUM(O4-'bases de donnée'!E$6)<0,0,SUM(O4-'bases de donnée'!E$6)) -> 0
D6: jour semaine maximun | E6: 6
D7: la durée de travail jour | E7: 0.41666667
D8: repos quotidien | E8: 0.45833333
D9: durée du travail hebdomadaire | E9: 1.5
D10: durée du travail hebdomadaire max | E10: 2
D11: repos hebdomadaire | E11: 1.4583333
D12: heures sup mensuel max par mois | E12: 1.0416667
D13: congés | E13: 10.125
D14: heures sup 1 à 14 | E14: 0.052083333
D15: heures sup 15 à 25 | E15: 0.0625
D16: début H nuit | E16: 21
D17: heures de nuit | E17: 0.10416667
... D21: travail | E21: 0
D22: récupération | E22: =E5 -> 0.3
D23: congé 1 jour | E23: =E5 -> 0.3
D24: congé 1/2 jour | E24: 0.16388889
D25: congé 5h24 | E25: 0.225
D26: arrêt maladie | E26: =E5 -> 0.3
D27: arrêt travail | E27: =E5 -> 0.3
D28: férié | E28: =E5 -> 0.3
D29: férié travaillé | E29: 0
D30: congé parentale | E30: =E5 -> 0.3
D31: congé parentale week end | E31: 0
D32: congé de naissance | E32: =E5 -> 0.3
