Workbook

Sheet bilan

Sheet planning
F2: pause | H2: pause | R2: pause midi | S2: pause soir
B3: jour | C3: type de journée | E3: début journée | F3: début | G3: fin | H3: début | I3: fin | J3: fin | L3: h jour réel | M3: h incovar | N3: hc de | O3: h amp | P3: hc de | R3: hc de | S3: hc de | T3: h semaine | U3: hc de | V3: j semaine | W3: hc de | Y3: repos journalier du | AB3: hc de
B5: =DATE(ref!E$4,ref!E3,ref!E2) -> 45292 | D5: =IF(AND(J5="",E5=""),"",B5+E5) -> 45292.375 | E5: 0.375 | F5: 0.5 | G5: 0.54166667 | J5: 0.041666667 | K5: =IF(AND(E5="",J5=""),"",B5+J5+(E5>J5)) -> 45293.042 | L5: =IFERROR( ( K5 - D5) - (G5 - F5) - (I5 - H5), "") -> 0.625 | M5: =L5-hs!C9-hs!H9 -> 0.39583333 | N5: =IF(SUM(L5-ref!E$9)<0,0,SUM(L5-ref!E$9)) -> 0.20833333 | O5: =(K5 - D5) -> 0.66666667 | P5: =IF(SUM(O5-ref!E$8)<0,0,SUM(O5-ref!E$8)) -> 0.16666667 | R5: =IF(AND(COUNT(F5:G5)=2,F5+ref!E$10>G5),ref!E$10 -(G5-F5),"") | S5: =IF(AND(COUNT(H5:I5)=2,H5+ref!E$10>I5),ref!E$10 -(I5-H5),"") | T5: =L5 -> 0.625 | V5: =IF(AND(D5<>"",K5<>""),1,0+OR(N(D4)<N(K4))) -> 1 | W5: =IF(SUM((V5+V6+V7+V8+V9+V10+V11)-ref!E$6)<0,0,SUM((V5+V6+V7+V8+V9+V10+V11)-ref!E$6)) -> 1 | X5: lundi | Y5: à | Z5: mardi | AA5: =IF(ISNUMBER(D6),D6-_xlfn.AGGREGATE(14,6,(AA$4<K5)*K5,1),"") -> 0.33333333 | AB5: =IF(ISNUMBER(AA5),ABS(IF(SUM(AA5-ref!E$11)>0,0,SUM(AA5-ref!E$11))),"") -> 0.125
B6: =B5+1 -> 45293 | D6: =IF(AND(J6="",E6=""),"",B6+E6) -> 45293.375 | E6: 0.375 | J6: 0.95833333 | K6: =IF(AND(E6="",J6=""),"",B6+J6+(E6>J6)) -> 45293.958 | L6: =IFERROR( ( K6 - D6) - (G6 - F6) - (I6 - H6), "") -> 0.58333333 | N6: =IF(SUM(L6-ref!E$9)<0,0,SUM(L6-ref!E$9)) -> 0.16666667 | O6: =(K6 - D6) -> 0.58333333 | P6: =IF(SUM(O6-ref!E$8)<0,0,SUM(O6-ref!E$8)) -> 0.083333333 | R6: =IF(AND(COUNT(F6:G6)=2,F6+ref!E$10>G6),ref!E$10 -(G6-F6),"") | S6: =IF(AND(COUNT(H6:I6)=2,H6+ref!E$10>I6),ref!E$10 -(I6-H6),"") | T6: =T5+L6 -> 1.2083333 | V6: =IF(AND(D6<>"",K6<>""),1,0+OR(N(D5)<N(K5))) -> 1 | X6: mardi | Y6: à | Z6: mercredi | AA6: =IF(ISNUMBER(D7),D7-_xlfn.AGGREGATE(14,6,(AA$4<K6)*K6,1),"") -> 0.41666667 | AB6: =IF(ISNUMBER(AA6),ABS(IF(SUM(AA6-ref!E$11)>0,0,SUM(AA6-ref!E$11))),"") -> 0.041666667
B7: =B6+1 -> 45294 | D7: =IF(AND(J7="",E7=""),"",B7+E7) -> 45294.375 | E7: 0.375 | J7: 0.95833333 | K7: =IF(AND(E7="",J7=""),"",B7+J7+(E7>J7)) -> 45294.958 | L7: =IFERROR( ( K7 - D7) - (G7 - F7) - (I7 - H7), "") -> 0.58333333 | N7: =IF(SUM(L7-ref!E$9)<0,0,SUM(L7-ref!E$9)) -> 0.16666667 | O7: =(K7 - D7) -> 0.58333333 | P7: =IF(SUM(O7-ref!E$8)<0,0,SUM(O7-ref!E$8)) -> 0.083333333 | R7: =IF(AND(COUNT(F7:G7)=2,F7+ref!E$10>G7),ref!E$10 -(G7-F7),"") | S7: =IF(AND(COUNT(H7:I7)=2,H7+ref!E$10>I7),ref!E$10 -(I7-H7),"") | T7: =T6+L7 -> 1.7916667 | V7: =IF(AND(D7<>"",K7<>""),1,0+OR(N(D6)<N(K6))) -> 1 | X7: mercredi | Y7: à | Z7: jeudi | AA7: =IF(ISNUMBER(D8),D8-_xlfn.AGGREGATE(14,6,(AA$4<K7)*K7,1),"") -> 0.41666667 | AB7: =IF(ISNUMBER(AA7),ABS(IF(SUM(AA7-ref!E$11)>0,0,SUM(AA7-ref!E$11))),"") -> 0.041666667
B8: =B7+1 -> 45295 | D8: =IF(AND(J8="",E8=""),"",B8+E8) -> 45295.375 | E8: 0.375 | J8: 0.95833333 | K8: =IF(AND(E8="",J8=""),"",B8+J8+(E8>J8)) -> 45295.958 | L8: =IFERROR( ( K8 - D8) - (G8 - F8) - (I8 - H8), "") -> 0.58333333 | N8: =IF(SUM(L8-ref!E$9)<0,0,SUM(L8-ref!E$9)) -> 0.16666667 | O8: =(K8 - D8) -> 0.58333333 | P8: =IF(SUM(O8-ref!E$8)<0,0,SUM(O8-ref!E$8)) -> 0.083333333 | R8: =IF(AND(COUNT(F8:G8)=2,F8+ref!E$10>G8),ref!E$10 -(G8-F8),"") | S8: =IF(AND(COUNT(H8:I8)=2,H8+ref!E$10>I8),ref!E$10 -(I8-H8),"") | T8: =T7+L8 -> 2.375 | V8: =IF(AND(D8<>"",K8<>""),1,0+OR(N(D7)<N(K7))) -> 1 | X8: jeudi | Y8: à | Z8: vendredi | AA8: =IF(ISNUMBER(D9),D9-_xlfn.AGGREGATE(14,6,(AA$4<K8)*K8,1),"") -> 0.41666667 | AB8: =IF(ISNUMBER(AA8),ABS(IF(SUM(AA8-ref!E$11)>0,0,SUM(AA8-ref!E$11))),"") -> 0.041666667
B9: =B8+1 -> 45296 | D9: =IF(AND(J9="",E9=""),"",B9+E9) -> 45296.375 | E9: 0.375 | J9: 0.95833333 | K9: =IF(AND(E9="",J9=""),"",B9+J9+(E9>J9)) -> 45296.958 | L9: =IFERROR( ( K9 - D9) - (G9 - F9) - (I9 - H9), "") -> 0.58333333 | N9: =IF(SUM(L9-ref!E$9)<0,0,SUM(L9-ref!E$9)) -> 0.16666667 | O9: =(K9 - D9) -> 0.58333333 | P9: =IF(SUM(O9-ref!E$8)<0,0,SUM(O9-ref!E$8)) -> 0.083333333 | R9: =IF(AND(COUNT(F9:G9)=2,F9+ref!E$10>G9),ref!E$10 -(G9-F9),"") | S9: =IF(AND(COUNT(H9:I9)=2,H9+ref!E$10>I9),ref!E$10 -(I9-H9),"") | T9: =T8+L9 -> 2.9583333 | V9: =IF(AND(D9<>"",K9<>""),1,0+OR(N(D8)<N(K8))) -> 1 | X9: vendredi | Y9: à | Z9: samedi | AA9: =IF(ISNUMBER(D10),D10-_xlfn.AGGREGATE(14,6,(AA$4<K9)*K9,1),"") -> 0.41666667 | AB9: =IF(ISNUMBER(AA9),ABS(IF(SUM(AA9-ref!E$11)>0,0,SUM(AA9-ref!E$11))),"") -> 0.041666667
B10: =B9+1 -> 45297 | D10: =IF(AND(J10="",E10=""),"",B10+E10) -> 45297.375 | E10: 0.375 | J10: 0.95833333 | K10: =IF(AND(E10="",J10=""),"",B10+J10+(E10>J10)) -> 45297.958 | L10: =IFERROR( ( K10 - D10) - (G10 - F10) - (I10 - H10), "") -> 0.58333333 | N10: =IF(SUM(L10-ref!E$9)<0,0,SUM(L10-ref!E$9)) -> 0.16666667 | O10: =(K10 - D10) -> 0.58333333 | P10: =IF(SUM(O10-ref!E$8)<0,0,SUM(O10-ref!E$8)) -> 0.083333333 | R10: =IF(AND(COUNT(F10:G10)=2,F10+ref!E$10>G10),ref!E$10 -(G10-F10),"") | S10: =IF(AND(COUNT(H10:I10)=2,H10+ref!E$10>I10),ref!E$10 -(I10-H10),"") | T10: =T9+L10 -> 3.5416667 | V10: =IF(AND(D10<>"",K10<>""),1,0+OR(N(D9)<N(K9))) -> 1 | X10: samedi | Y10: à | Z10: dimanche | AA10: =IF(ISNUMBER(D11),D11-_xlfn.AGGREGATE(14,6,(AA$4<K10)*K10,1),"") -> 0.41666667 | AB10: =IF(ISNUMBER(AA10),ABS(IF(SUM(AA10-ref!E$11)>0,0,SUM(AA10-ref!E$11))),"") -> 0.041666667
B11: =B10+1 -> 45298 | D11: =IF(AND(J11="",E11=""),"",B11+E11) -> 45298.375 | E11: 0.375 | J11: 0.95833333 | K11: =IF(AND(E11="",J11=""),"",B11+J11+(E11>J11)) -> 45298.958 | L11: =IFERROR( ( K11 - D11) - (G11 - F11) - (I11 - H11), "") -> 0.58333333 | N11: =IF(SUM(L11-ref!E$9)<0,0,SUM(L11-ref!E$9)) -> 0.16666667 | O11: =(K11 - D11) -> 0.58333333 | P11: =IF(SUM(O11-ref!E$8)<0,0,SUM(O11-ref!E$8)) -> 0.083333333 | R11: =IF(AND(COUNT(F11:G11)=2,F11+ref!E$10>G11),ref!E$10 -(G11-F11),"") | S11: =IF(AND(COUNT(H11:I11)=2,H11+ref!E$10>I11),ref!E$10 -(I11-H11),"") | T11: =T10+L11 -> 4.125 | U11: =IF(SUM(T11-ref!E$13)<0,0,SUM(T11-ref!E$13)) -> 2.125 | V11: =IF(AND(D11<>"",K11<>""),1,0+OR(N(D10)<N(K10))) -> 1

Sheet hs
B3: taux horaire à l'heure | C3: 15
C7: =ref!E$42 -> 0.77083333 | F7: =ref!E$44 -> 0.91666667 | I7: =ref!E$46 -> 1
C8: =ref!E$43 -> 0.91666667 | F8: =ref!E$45 -> 1 | I8: =ref!E$47 -> 0.25
B9: =DATE(ref!E$4,ref!E3,ref!E2) -> 45292 | C9: =IF(OR(planning!E5="",planning!J5=""),0,IF(planning!J5>planning!E5,MEDIAN(planning!J5,C$8,C$7)-MEDIAN(planning!E5,C$8,C$7),+(planning!J5<planning!E5)*(C$8-C$7)+MEDIAN(planning!J5,C$7,C$8)-MEDIAN(planning!E5,C$7,C$8))) -> 0.14583333 | D9: récupération | E9: =IF(D9="récupération",C9,IF(D9="paiement",C5*2,0)) -> 0.14583333 | F9: =IF(OR(planning!E5="",planning!J5=""),0,IF(planning!J5>planning!E5,MEDIAN(planning!J5,F$8,F$7)-MEDIAN(planning!E5,F$8,F$7),+(planning!J5<planning!E5)*(F$8-F$7)+MEDIAN(planning!J5,F$7,F$8)-MEDIAN(planning!E5,F$7,F$8))) -> 0.083333333 | G9: récupération | H9: =IF(G9="récupération",F9,0) -> 0.083333333 | I9: =IF(OR(planning!E5="",planning!J5=""),0,IF(planning!J5>planning!E5,MEDIAN(planning!J5,I$8,I$7)-MEDIAN(planning!E5,I$8,I$7),+(planning!J5<planning!E5)*(I$8-I$7)+MEDIAN(planning!J5,I$7,I$8)-MEDIAN(planning!E5,I$7,I$8))) -> -0.875 | J9: récupération | K9: =IF(J9="récupération",I9,0) -> -0.875
B10: =B9+1 -> 45293 | C10: =IF(OR(planning!E6="",planning!J6=""),0,IF(planning!J6>planning!E6,MEDIAN(planning!J6,C$8,C$7)-MEDIAN(planning!E6,C$8,C$7),+(planning!J6<planning!E6)*(C$8-C$7)+MEDIAN(planning!J6,C$7,C$8)-MEDIAN(planning!E6,C$7,C$8))) -> 0.14583333 | F10: =IF(OR(planning!E6="",planning!J6=""),0,IF(planning!J6>planning!E6,MEDIAN(planning!J6,ref!E$45,ref!E$44)-MEDIAN(planning!E6,ref!E$45,ref!E$44),+(planning!J6<planning!E6)*(ref!E$45-ref!E$44)+MEDIAN(planning!J6,ref!E$45,ref!E$44)-MEDIAN(planning!E6,ref!E$45,ref!E$44))) -> 0.041666667 | I10: =IF(OR(planning!D6="",planning!K6=""),0,IF(planning!D6>planning!D6,MEDIAN(planning!K6,I$8,I$7)-MEDIAN(planning!D6,I$8,I$7),+(planning!K6<planning!D6)*(I$8-I$7)+MEDIAN(planning!K6,I$7,I$8)-MEDIAN(planning!D6,I$7,I$8))) -> 0
B11: =B10+1 -> 45294 | C11: =IF(OR(planning!E7="",planning!J7=""),0,IF(planning!J7>planning!E7,MEDIAN(planning!J7,C$8,C$7)-MEDIAN(planning!E7,C$8,C$7),+(planning!J7<planning!E7)*(C$8-C$7)+MEDIAN(planning!J7,C$7,C$8)-MEDIAN(planning!E7,C$7,C$8))) -> 0.14583333 | F11: =IF(OR(planning!E7="",planning!J7=""),0,IF(planning!J7>planning!E7,MEDIAN(planning!J7,ref!E$45,ref!E$44)-MEDIAN(planning!E7,ref!E$45,ref!E$44),+(planning!J7<planning!E7)*(ref!E$45-ref!E$44)+MEDIAN(planning!J7,ref!E$45,ref!E$44)-MEDIAN(planning!E7,ref!E$45,ref!E$44))) -> 0.041666667 | I11: =IF(OR(planning!D7="",planning!K7=""),0,IF(planning!D7>planning!D7,MEDIAN(planning!K7,I$8,I$7)-MEDIAN(planning!D7,I$8,I$7),+(planning!K7<planning!D7)*(I$8-I$7)+MEDIAN(planning!K7,I$7,I$8)-MEDIAN(planning!D7,I$7,I$8))) -> 0
B12: =B11+1 -> 45295 | C12: =IF(OR(planning!E8="",planning!J8=""),0,IF(planning!J8>planning!E8,MEDIAN(planning!J8,C$8,C$7)-MEDIAN(planning!E8,C$8,C$7),+(planning!J8<planning!E8)*(C$8-C$7)+MEDIAN(planning!J8,C$7,C$8)-MEDIAN(planning!E8,C$7,C$8))) -> 0.14583333 | F12: =IF(OR(planning!E8="",planning!J8=""),0,IF(planning!J8>planning!E8,MEDIAN(planning!J8,ref!E$45,ref!E$44)-MEDIAN(planning!E8,ref!E$45,ref!E$44),+(planning!J8<planning!E8)*(ref!E$45-ref!E$44)+MEDIAN(planning!J8,ref!E$45,ref!E$44)-MEDIAN(planning!E8,ref!E$45,ref!E$44))) -> 0.041666667 | I12: =IF(OR(planning!D8="",planning!K8=""),0,IF(planning!D8>planning!D8,MEDIAN(planning!K8,I$8,I$7)-MEDIAN(planning!D8,I$8,I$7),+(planning!K8<planning!D8)*(I$8-I$7)+MEDIAN(planning!K8,I$7,I$8)-MEDIAN(planning!D8,I$7,I$8))) -> 0
B13: =B12+1 -> 45296 | C13: =IF(OR(planning!E9="",planning!J9=""),0,IF(planning!J9>planning!E9,MEDIAN(planning!J9,C$8,C$7)-MEDIAN(planning!E9,C$8,C$7),+(planning!J9<planning!E9)*(C$8-C$7)+MEDIAN(planning!J9,C$7,C$8)-MEDIAN(planning!E9,C$7,C$8))) -> 0.14583333 | F13: =IF(OR(planning!E9="",planning!J9=""),0,IF(planning!J9>planning!E9,MEDIAN(planning!J9,ref!E$45,ref!E$44)-MEDIAN(planning!E9,ref!E$45,ref!E$44),+(planning!J9<planning!E9)*(ref!E$45-ref!E$44)+MEDIAN(planning!J9,ref!E$45,ref!E$44)-MEDIAN(planning!E9,ref!E$45,ref!E$44))) -> 0.041666667 | I13: =IF(OR(planning!D9="",planning!K9=""),0,IF(planning!D9>planning!D9,MEDIAN(planning!K9,I$8,I$7)-MEDIAN(planning!D9,I$8,I$7),+(planning!K9<planning!D9)*(I$8-I$7)+MEDIAN(planning!K9,I$7,I$8)-MEDIAN(planning!D9,I$7,I$8))) -> 0
B14: =B13+1 -> 45297 | C14: =IF(OR(planning!E10="",planning!J10=""),0,IF(planning!J10>planning!E10,MEDIAN(planning!J10,C$8,C$7)-MEDIAN(planning!E10,C$8,C$7),+(planning!J10<planning!E10)*(C$8-C$7)+MEDIAN(planning!J10,C$7,C$8)-MEDIAN(planning!E10,C$7,C$8))) -> 0.14583333 | F14: =IF(OR(planning!E10="",planning!J10=""),0,IF(planning!J10>planning!E10,MEDIAN(planning!J10,ref!E$45,ref!E$44)-MEDIAN(planning!E10,ref!E$45,ref!E$44),+(planning!J10<planning!E10)*(ref!E$45-ref!E$44)+MEDIAN(planning!J10,ref!E$45,ref!E$44)-MEDIAN(planning!E10,ref!E$45,ref!E$44))) -> 0.041666667 | I14: =IF(OR(planning!D10="",planning!K10=""),0,IF(planning!D10>planning!D10,MEDIAN(planning!K10,I$8,I$7)-MEDIAN(planning!D10,I$8,I$7),+(planning!K10<planning!D10)*(I$8-I$7)+MEDIAN(planning!K10,I$7,I$8)-MEDIAN(planning!D10,I$7,I$8))) -> 0
B15: =B14+1 -> 45298 | C15: =IF(OR(planning!E11="",planning!J11=""),0,IF(planning!J11>planning!E11,MEDIAN(planning!J11,C$8,C$7)-MEDIAN(planning!E11,C$8,C$7),+(planning!J11<planning!E11)*(C$8-C$7)+MEDIAN(planning!J11,C$7,C$8)-MEDIAN(planning!E11,C$7,C$8))) -> 0.14583333 | F15: =IF(OR(planning!E11="",planning!J11=""),0,IF(planning!J11>planning!E11,MEDIAN(planning!J11,ref!E$45,ref!E$44)-MEDIAN(planning!E11,ref!E$45,ref!E$44),+(planning!J11<planning!E11)*(ref!E$45-ref!E$44)+MEDIAN(planning!J11,ref!E$45,ref!E$44)-MEDIAN(planning!E11,ref!E$45,ref!E$44))) -> 0.041666667 | I15: =IF(OR(planning!D11="",planning!K11=""),0,IF(planning!D11>planning!D11,MEDIAN(planning!K11,I$8,I$7)-MEDIAN(planning!D11,I$8,I$7),+(planning!K11<planning!D11)*(I$8-I$7)+MEDIAN(planning!K11,I$7,I$8)-MEDIAN(planning!D11,I$7,I$8))) -> 0

Sheet ref
D2: jour | E2: 1
D3: mois | E3: 1 | K3: hs
D4: année | E4: 2024
D5: heures annueltravail | E5: 66.958333 | K5: récupération
D6: jous max | E6: 6 | K6: paiement
D7: heure jour | E7: 0.29166667
D8: amplitude du temps | E8: 0.5
D9: la durée de travail jour | E9: 0.41666667
D10: pause repas | E10: 0.03125
D11: repos quotidien | E11: 0.45833333
D12: durée du travail hebdomadaire | E12: 1.4583333
D13: durée du travail hebdomadaire max | E13: 2
D14: repos hebdomadaire | E14: 1.4583333
D15: heures sup mensuel max par mois | E15: 1.0416667
D16: jour de congés | E16: 25
D17: heure de congés | E17: =E16*E7 -> 7.2916667
D18: rtt | E18: =E7 -> 0.29166667
D19: heures sup 1 à 14 | E19: 1.25
D20: heures sup 15 à 25 | E20: 1.27
D21: début H nuit | E21: 0.875
D22: heures de nuit | E22: 2.00
D23: heures de dimanche | E23: 1.66
D24: récupération | E24: 0.041666667
D25: Férié travaillé
D26: formation | E26: =E7 -> 0.29166667
D27: concours | E27: =E7 -> 0.29166667
D28: crédit/débit | E28: =E7 -> 0.29166667
D29: enfant malade | E29: =E7 -> 0.29166667
D30: off | E30: 0
D31: travail | E31: 0
D32: récupération | E32: =E7 -> 0.29166667
D33: congé 1 jour | E33: =E7 -> 0.29166667
D34: congé 1/2 jour | E34: 0.16388889
D35: arrêt maladie | E35: =E7 -> 0.29166667
D36: arrêt travail | E36: =E7 -> 0.29166667
D37: férié | E37: =E7 -> 0.29166667
D38: télétravail | E38: =E7 -> 0.29166667
D39: férié travaillé | E39: 0
D40: congé de naissance | E40: =E7 -> 0.29166667
D41: autorisation d'absence | E41: =E7 -> 0.29166667
...
