Workbook
Name gérald: ref!$C$25:$C$33
Name gérald1: ref!$C$25:$D$33
Name gerald2: ref!$C$25:$C$33
Name gerald3: ref!$C$25:$C$35
Name gérald4: ref!$C$24:$C$35
Name listeMois: [1]ref!$L$2:$M$13

Sheet Bilan
C3: jours et heures réels | E3: heures incovar | I3: Heures suplémentaires | M3: h par mois | R3: résultat des heures hc 2024 | V3: Pause repas
C4: jours | D4: heures | E4: heures | I4: 18h30 à 22h | J4: =SUM(hs!F4:F12) -> 0 | M4: mois | N4: h | Q4: travail annuel +1607h | T4: midi | U4: non | V4: =COUNTIF('planning '!Q5:Q23,ref!P5) -> 0
B5: travail | C5: =COUNTIF('planning '!$D$5:$D$23,B5) -> 14 | D5: =SUM('planning '!J5:J23)-D14-D13 -> 0 | E5: =SUM('planning '!L5:L23)-D14-D9 -> 0 | I5: 22h à 24 | J5: =SUM(hs!H4:H12) -> 0 | L5: =VLOOKUP(M5,listeMois,2) -> 1 | M5: janvier | N5: {=SUM(IFERROR(( MONTH('planning '!C:C)=Bilan!L5)*'planning '!J:J, 0))} -> 0 | Q5: repas midi | R5: =SUM('planning '!U5:U23) -> 0 | T5: soir | U5: non | V5: =COUNTIF('planning '!V5:V23,ref!P5) -> 0
B6: récupération | C6: =COUNTIF('planning '!$D$5:$D$23,B6) -> 0 | D6: =C6*ref!D$5 -> 0 | I6: 24h à 6h | J6: =SUM(hs!J4:J12) -> 0 | L6: =VLOOKUP(M6,listeMois,2) -> 2 | M6: février | N6: {=SUM(IFERROR(( MONTH('planning '!C:C)=Bilan!L6)*'planning '!J:J, 0))} -> 0 | Q6: repas soir | R6: =SUM('planning '!Z5:Z23) -> 0
B7: arrêt maladie | C7: =COUNTIF('planning '!$D$5:$D$23,B7) -> 0 | D7: =C7*ref!D$5 -> 0 | I7: dimanche | J7: =SUM('planning '!#REF!) -> #REF! | L7: =VLOOKUP(M7,listeMois,2) -> 3 | M7: mars | N7: {=SUM(IFERROR(( MONTH('planning '!C:C)=Bilan!L7)*'planning '!J:J, 0))} -> 0 | Q7: jour +10 h | R7: =SUM('planning '!K5:K23) -> 0
B8: arrêt travail | C8: =COUNTIF('planning '!$D$5:$D$23,B8) -> 0 | D8: =C8*ref!D$5 -> 0 | I8: samedi | J8: =SUM('planning '!#REF!) -> #REF! | L8: =VLOOKUP(M8,listeMois,2) -> 4 | M8: avril | N8: {=SUM(IFERROR(( MONTH('planning '!C:C)=Bilan!L8)*'planning '!J:J, 0))} -> 0 | Q8: amplitude jour +12 h | R8: =SUM('planning '!N5:N23) -> 0
B9: férié | C9: =COUNTIF('planning '!$D$5:$D$23,B9) -> 0 | D9: =C9*ref!D$5 -> 0 | I9: heures + 35 | J9: =SUM('planning '!#REF!) -> #REF! | L9: =VLOOKUP(M9,listeMois,2) -> 5 | M9: mai | N9: {=SUM(IFERROR(( MONTH('planning '!C:C)=Bilan!L9)*'planning '!J:J, 0))} -> 0 | Q9: jours hedbomadaire + 6 jours | R9: =SUM('planning '!#REF!+'planning '!#REF!+'planning '!#REF!+'planning '!#REF!+'planning '!#REF!+'planning '!#REF!+'planning '!#REF!+'planning '!#REF!+'planning '!#REF!+'planning '!#REF!+'planning '!#REF!+'planning '!#REF!+'planning '!#REF!+'planning '!#REF!+'planning '!#REF!+'planning '!#REF!+'planning '!#REF!+'planning '!#REF!+'planning '!#REF!+'planning '!#REF!+'planning '!#REF!+'planning '!#REF!+'planning '!#REF!+'planning '!#REF!+'planning '!#REF!+'planning '!#REF!+'planning '!#REF!+'planning '!#REF!+'planning '!#REF!+'planning '!#REF!+'planning '!#REF!+'planning '!#REF!+'planning '!#REF!+'planning '!#REF!+'planning '!#REF!+'planning '!#REF!+'planning '!#REF!+'planning '!#REF!+'planning '!#REF!+'planning '!#REF!+'planning '!#REF!+'planning '!#REF!+'planning '!#REF!+'planning '!#REF!+'planning '!#REF!+'planning '!#REF!+'planning '!#REF!+'planning '!#REF!) -> #REF!
B10: férié travaillé | C10: =COUNTIF('planning '!$D$5:$D$23,B10) -> 0 | D10: =C10*ref!D$5 -> 0 | I10: jours fériés | J10: =SUM('planning '!#REF!) -> #REF! | L10: =VLOOKUP(M10,listeMois,2) -> 6 | M10: juin | N10: {=SUM(IFERROR(( MONTH('planning '!C:C)=Bilan!L10)*'planning '!J:J, 0))} -> 0 | Q10: heures semaine + 48h | R10: ='planning '!AC11+'planning '!AC21+'planning '!#REF!+'planning '!#REF!+'planning '!#REF!+'planning '!#REF!+'planning '!#REF!+'planning '!#REF!+'planning '!#REF!+'planning '!#REF!+'planning '!#REF!+'planning '!#REF!+'planning '!#REF!+'planning '!#REF!+'planning '!#REF!+'planning '!#REF!+'planning '!#REF!+'planning '!#REF!+'planning '!#REF!+'planning '!#REF!+'planning '!#REF!+'planning '!#REF!+'planning '!#REF!+'planning '!#REF!+'planning '!#REF!+'planning '!#REF!+'planning '!#REF!+'planning '!#REF!+'planning '!#REF!+'planning '!#REF!+'planning '!#REF!+'planning '!#REF!+'planning '!#REF!+'planning '!#REF!+'planning '!#REF!+'planning '!#REF!+'planning '!#REF!+'planning '!#REF!+'planning '!#REF!+'planning '!#REF!+'planning '!#REF!+'planning '!#REF!+'planning '!#REF!+'planning '!#REF!+'planning '!#REF!+'planning '!#REF!+'planning '!#REF!+'planning '!#REF!+'planning '!#REF!+'planning '!#REF!+'planning '!#REF!+'planning '!#REF! -> #REF!
B11: autorisation d'absence | C11: =COUNTIF('planning '!$D$5:$D$23,B11) -> 0 | D11: =C11*ref!D$5 -> 0 | L11: =VLOOKUP(M11,listeMois,2) -> 7 | M11: juillet | N11: {=SUM(IFERROR(( MONTH('planning '!C:C)=Bilan!L11)*'planning '!J:J, 0))} -> 0 | Q11: repos journalier | R11: =SUM('planning '!AJ5:AJ23) -> 0
B12: télétravail | C12: =COUNTIF('planning '!$D$5:$D$23,B12) -> 0 | D12: =C12*ref!D$5 -> 0 | L12: =VLOOKUP(M12,listeMois,2) -> 8 | M12: août | N12: {=SUM(IFERROR(( MONTH('planning '!C:C)=Bilan!L12)*'planning '!J:J, 0))} -> 0 | Q12: repos hebdomadaire
B13: rtt | C13: =COUNTIF('planning '!$D$5:$D$23,B13) -> 0 | D13: =C13*ref!D$5 -> 0 | L13: =VLOOKUP(M13,listeMois,2) -> 9 | M13: septembre | N13: {=SUM(IFERROR(( MONTH('planning '!C:C)=Bilan!L13)*'planning '!J:J, 0))} -> 0
B14: congé 1 jour | C14: =COUNTIF('planning '!$D$5:$D$23,B14) -> 0 | D14: =C14*ref!D$5 -> 0 | L14: =VLOOKUP(M14,listeMois,2) -> 10 | M14: octobre | N14: {=SUM(IFERROR(( MONTH('planning '!C:C)=Bilan!L14)*'planning '!J:J, 0))} -> 0
B15: off | C15: =COUNTIF('planning '!$D$5:$D$23,B15) -> 0 | L15: =VLOOKUP(M15,listeMois,2) -> 11 | M15: novembre | N15: {=SUM(IFERROR(( MONTH('planning '!C:C)=Bilan!L15)*'planning '!J:J, 0))} -> 0
L16: =VLOOKUP(M16,listeMois,2) -> 12 | M16: décembre | N16: {=SUM(IFERROR(( MONTH('planning '!C:C)=Bilan!L16)*'planning '!J:J, 0))} -> 0
B17: jours 2024 (366 j) | C17: =SUM(C5:C15) -> 14

Sheet planning 
S2: pause repas midi | X2: pause repas soir | AA2: divers pauses
C3: jour | D3: type de journée | F3: Début | G3: pause | H3: Fin | J3: H Jour réel | K3: hc de | L3: h incovar | M3: H amp | N3: hc de | O3: hs semaine | Q3: non | R3: début | S3: fin | T3: résultat | U3: hc de | V3: oui/non | W3: début | X3: fin | Y3: résultat | Z3: hc de | AD3: j et h semaine | AF3: repos journalier du | AJ3: hc de
C5: =ref!D2 -> 43830 | D5: travail | E5: =IF(AND(H5="",F5=""),"",C5+F5) | G5: =SUM(T5+Y5+AA5) -> 0 | I5: =IF(AND(F5="",H5=""),"",C5+H5+(F5>H5)) | J5: =IF(OR(D5="télétravail",D5="férié travaillé",D5="travail"),(H5-F5+IF(F5>H5,1)-G5),INDEX(ref!$D$24:'ref'!$D$37,MATCH(D5,ref!C$24:C$37,0))) -> 0 | K5: =IF(SUM(J5-ref!D$8)<0,0,SUM(J5-ref!D$8)) -> 0 | M5: =IF(OR(D5="télétravail",D5="férié travaillé",D5="travail"),(H5-F5+IF(F5>H5,1)),INDEX(ref!$D$24:'ref'!$D$37,MATCH(D5,ref!C$24:C$37,0))) -> 0 | N5: =IF(SUM(M5-ref!D$4)<0,0,SUM(M5-ref!D$4)) -> 0 | O5: =J5 -> 0 | T5: =S5-R5 -> 0 | U5: =IF(T5="","",IF(SUM(T5-ref!D$10)>0,0,IF(T5=0, "0:00", SUM(T5-ref!D$10)))) -> 0:00 | Y5: =X5-W5 -> 0 | Z5: =IF(Y5="","",IF(SUM(Y5-ref!D$10)>0,0,IF(Y5=0, "0:00", SUM(Y5-ref!D$10)))) -> 0:00 | AC5: =SUM(AD5:AD11) -> 0 | AD5: =IF(AND(G5<>"",I5<>""),1,0+OR(N(I4)<N(G4),E5="récupération",E5="congé 1 jour",E5="congé 1/2 jour ",E5="congé 5h24",E5="arrêt maladie",E5="arrêt travail",E5="férié ",E5="congé parentale",E5="congé de naissance")) -> 0 | AF5: J1 | AG5: à | AH5: J2 | AI5: {=IF(ISNUMBER(E6),E6-_xlfn.AGGREGATE(14,6,(I$4:I5<E6)*I$4:I5,1),"")} | AJ5: =IF(ISNUMBER(AI5),ABS(IF(SUM(AI5-ref!D$9)>0,0,SUM(AI5-ref!D$9))),"")
C6: =C5+1 -> 43831 | D6: travail | E6: =IF(AND(H6="",F6=""),"",C6+F6) | G6: =SUM(T6+Y6+AA6) -> 0 | I6: =IF(AND(F6="",H6=""),"",C6+H6+(F6>H6)) | J6: =IF(OR(D6="télétravail",D6="férié travaillé",D6="travail"),(H6-F6+IF(F6>H6,1)-G6),INDEX(ref!$D$24:'ref'!$D$37,MATCH(D6,ref!C$24:C$37,0))) -> 0 | K6: =IF(SUM(J6-ref!D$8)<0,0,SUM(J6-ref!D$8)) -> 0 | M6: =IF(OR(D6="télétravail",D6="férié travaillé",D6="travail"),(H6-F6+IF(F6>H6,1)),INDEX(ref!$D$24:'ref'!$D$37,MATCH(D6,ref!C$24:C$37,0))) -> 0 | N6: =IF(SUM(M6-ref!D$4)<0,0,SUM(M6-ref!D$4)) -> 0 | O6: =O5+J6 -> 0 | T6: =S6-R6 -> 0 | U6: =IF(T6="","",IF(SUM(T6-ref!D$10)>0,0,IF(T6=0, "0:00", SUM(T6-ref!D$10)))) -> 0:00 | Y6: =X6-W6 -> 0 | Z6: =IF(Y6="","",IF(SUM(Y6-ref!D$10)>0,0,IF(Y6=0, "0:00", SUM(Y6-ref!D$10)))) -> 0:00 | AC6: =IF(SUM(AC5-ref!D$7)<0,0,SUM(AC5-ref!D$7)) -> 0 | AD6: =IF(AND(G6<>"",I6<>""),1,0+OR(N(I5)<N(G5),E6="récupération",E6="congé 1 jour",E6="congé 1/2 jour ",E6="congé 5h24",E6="arrêt maladie",E6="arrêt travail",E6="férié ",E6="congé parentale",E6="congé de naissance")) -> 0 | AF6: J2 | AG6: à | AH6: J3 | AI6: {=IF(ISNUMBER(E7),E7-_xlfn.AGGREGATE(14,6,(I$4:I6<E7)*I$4:I6,1),"")} | AJ6: =IF(ISNUMBER(AI6),ABS(IF(SUM(AI6-ref!D$9)>0,0,SUM(AI6-ref!D$9))),"")
C7: =C6+1 -> 43832 | D7: travail | E7: =IF(AND(H7="",F7=""),"",C7+F7) | G7: =SUM(T7+Y7+AA7) -> 0 | I7: =IF(AND(F7="",H7=""),"",C7+H7+(F7>H7)) | J7: =IF(OR(D7="télétravail",D7="férié travaillé",D7="travail"),(H7-F7+IF(F7>H7,1)-G7),INDEX(ref!$D$24:'ref'!$D$37,MATCH(D7,ref!C$24:C$37,0))) -> 0 | K7: =IF(SUM(J7-ref!D$8)<0,0,SUM(J7-ref!D$8)) -> 0 | M7: =IF(OR(D7="télétravail",D7="férié travaillé",D7="travail"),(H7-F7+IF(F7>H7,1)),INDEX(ref!$D$24:'ref'!$D$37,MATCH(D7,ref!C$24:C$37,0))) -> 0 | N7: =IF(SUM(M7-ref!D$4)<0,0,SUM(M7-ref!D$4)) -> 0 | O7: =O6+J7 -> 0 | T7: =S7-R7 -> 0 | U7: =IF(T7="","",IF(SUM(T7-ref!D$10)>0,0,IF(T7=0, "0:00", SUM(T7-ref!D$10)))) -> 0:00 | Y7: =X7-W7 -> 0 | Z7: =IF(Y7="","",IF(SUM(Y7-ref!D$10)>0,0,IF(Y7=0, "0:00", SUM(Y7-ref!D$10)))) -> 0:00 | AC7: H semaine | AD7: =IF(AND(G7<>"",I7<>""),1,0+OR(N(I6)<N(G6),E7="récupération",E7="congé 1 jour",E7="congé 1/2 jour ",E7="congé 5h24",E7="arrêt maladie",E7="arrêt travail",E7="férié ",E7="congé parentale",E7="congé de naissance")) -> 0 | AF7: J3 | AG7: à | AH7: J4 | AI7: {=IF(ISNUMBER(E8),E8-_xlfn.AGGREGATE(14,6,(I$4:I7<E8)*I$4:I7,1),"")} | AJ7: =IF(ISNUMBER(AI7),ABS(IF(SUM(AI7-ref!D$9)>0,0,SUM(AI7-ref!D$9))),"")
C8: =C7+1 -> 43833 | D8: travail | E8: =IF(AND(H8="",F8=""),"",C8+F8) | G8: =SUM(T8+Y8+AA8) -> 0 | I8: =IF(AND(F8="",H8=""),"",C8+H8+(F8>H8)) | J8: =IF(OR(D8="télétravail",D8="férié travaillé",D8="travail"),(H8-F8+IF(F8>H8,1)-G8),INDEX(ref!$D$24:'ref'!$D$37,MATCH(D8,ref!C$24:C$37,0))) -> 0 | K8: =IF(SUM(J8-ref!D$8)<0,0,SUM(J8-ref!D$8)) -> 0 | M8: =IF(OR(D8="télétravail",D8="férié travaillé",D8="travail"),(H8-F8+IF(F8>H8,1)),INDEX(ref!$D$24:'ref'!$D$37,MATCH(D8,ref!C$24:C$37,0))) -> 0 | N8: =IF(SUM(M8-ref!D$4)<0,0,SUM(M8-ref!D$4)) -> 0 | O8: =O7+J8 -> 0 | T8: =S8-R8 -> 0 | U8: =IF(T8="","",IF(SUM(T8-ref!D$10)>0,0,IF(T8=0, "0:00", SUM(T8-ref!D$10)))) -> 0:00 | Y8: =X8-W8 -> 0 | Z8: =IF(Y8="","",IF(SUM(Y8-ref!D$10)>0,0,IF(Y8=0, "0:00", SUM(Y8-ref!D$10)))) -> 0:00 | AC8: =O11 -> 0 | AD8: =IF(AND(G8<>"",I8<>""),1,0+OR(N(I7)<N(G7),E8="récupération",E8="congé 1 jour",E8="congé 1/2 jour ",E8="congé 5h24",E8="arrêt maladie",E8="arrêt travail",E8="férié ",E8="congé parentale",E8="congé de naissance")) -> 0 | AF8: J4 | AG8: à | AH8: J5 | AI8: {=IF(ISNUMBER(E9),E9-_xlfn.AGGREGATE(14,6,(I$4:I8<E9)*I$4:I8,1),"")} | AJ8: =IF(ISNUMBER(AI8),ABS(IF(SUM(AI8-ref!D$9)>0,0,SUM(AI8-ref!D$9))),"")
C9: =C8+1 -> 43834 | D9: travail | E9: =IF(AND(H9="",F9=""),"",C9+F9) | G9: =SUM(T9+Y9+AA9) -> 0 | I9: =IF(AND(F9="",H9=""),"",C9+H9+(F9>H9)) | J9: =IF(OR(D9="télétravail",D9="férié travaillé",D9="travail"),(H9-F9+IF(F9>H9,1)-G9),INDEX(ref!$D$24:'ref'!$D$37,MATCH(D9,ref!C$24:C$37,0))) -> 0 | K9: =IF(SUM(J9-ref!D$8)<0,0,SUM(J9-ref!D$8)) -> 0 | M9: =IF(OR(D9="télétravail",D9="férié travaillé",D9="travail"),(H9-F9+IF(F9>H9,1)),INDEX(ref!$D$24:'ref'!$D$37,MATCH(D9,ref!C$24:C$37,0))) -> 0 | N9: =IF(SUM(M9-ref!D$4)<0,0,SUM(M9-ref!D$4)) -> 0 | O9: =O8+J9 -> 0 | T9: =S9-R9 -> 0 | U9: =IF(T9="","",IF(SUM(T9-ref!D$10)>0,0,IF(T9=0, "0:00", SUM(T9-ref!D$10)))) -> 0:00 | Y9: =X9-W9 -> 0 | Z9: =IF(Y9="","",IF(SUM(Y9-ref!D$10)>0,0,IF(Y9=0, "0:00", SUM(Y9-ref!D$10)))) -> 0:00 | AC9: H semaine hc de | AD9: =IF(AND(G9<>"",I9<>""),1,0+OR(N(I8)<N(G8),E9="récupération",E9="congé 1 jour",E9="congé 1/2 jour ",E9="congé 5h24",E9="arrêt maladie",E9="arrêt travail",E9="férié ",E9="congé parentale",E9="congé de naissance")) -> 0 | AF9: J5 | AG9: à | AH9: J6 | AI9: {=IF(ISNUMBER(E10),E10-_xlfn.AGGREGATE(14,6,(I$4:I9<E10)*I$4:I9,1),"")} | AJ9: =IF(ISNUMBER(AI9),ABS(IF(SUM(AI9-ref!D$9)>0,0,SUM(AI9-ref!D$9))),"")
C10: =C9+1 -> 43835 | D10: travail | E10: =IF(AND(H10="",F10=""),"",C10+F10) | G10: =SUM(T10+Y10+AA10) -> 0 | I10: =IF(AND(F10="",H10=""),"",C10+H10+(F10>H10)) | J10: =IF(OR(D10="télétravail",D10="férié travaillé",D10="travail"),(H10-F10+IF(F10>H10,1)-G10),INDEX(ref!$D$24:'ref'!$D$37,MATCH(D10,ref!C$24:C$37,0))) -> 0 | K10: =IF(SUM(J10-ref!D$8)<0,0,SUM(J10-ref!D$8)) -> 0 | M10: =IF(OR(D10="télétravail",D10="férié travaillé",D10="travail"),(H10-F10+IF(F10>H10,1)),INDEX(ref!$D$24:'ref'!$D$37,MATCH(D10,ref!C$24:C$37,0))) -> 0 | N10: =IF(SUM(M10-ref!D$4)<0,0,SUM(M10-ref!D$4)) -> 0 | O10: =O9+J10 -> 0 | T10: =S10-R10 -> 0 | U10: =IF(T10="","",IF(SUM(T10-ref!D$10)>0,0,IF(T10=0, "0:00", SUM(T10-ref!D$10)))) -> 0:00 | Y10: =X10-W10 -> 0 | Z10: =IF(Y10="","",IF(SUM(Y10-ref!D$10)>0,0,IF(Y10=0, "0:00", SUM(Y10-ref!D$10)))) -> 0:00 | AC10: =ref!D$12 -> 2 | AD10: =IF(AND(G10<>"",I10<>""),1,0+OR(N(I9)<N(G9),E10="récupération",E10="congé 1 jour",E10="congé 1/2 jour ",E10="congé 5h24",E10="arrêt maladie",E10="arrêt travail",E10="férié ",E10="congé parentale",E10="congé de naissance")) -> 0 | AF10: J6 | AG10: à | AH10: J7 | AI10: {=IF(ISNUMBER(E11),E11-_xlfn.AGGREGATE(14,6,(I$4:I10<E11)*I$4:I10,1),"")} | AJ10: =IF(ISNUMBER(AI10),ABS(IF(SUM(AI10-ref!D$9)>0,0,SUM(AI10-ref!D$9))),"")
C11: =C10+1 -> 43836 | D11: travail | E11: =IF(AND(H11="",F11=""),"",C11+F11) | G11: =SUM(T11+Y11+AA11) -> 0 | I11: =IF(AND(F11="",H11=""),"",C11+H11+(F11>H11)) | J11: =IF(OR(D11="télétravail",D11="férié travaillé",D11="travail"),(H11-F11+IF(F11>H11,1)-G11),INDEX(ref!$D$24:'ref'!$D$37,MATCH(D11,ref!C$24:C$37,0))) -> 0 | K11: =IF(SUM(J11-ref!D$8)<0,0,SUM(J11-ref!D$8)) -> 0 | M11: =IF(OR(D11="télétravail",D11="férié travaillé",D11="travail"),(H11-F11+IF(F11>H11,1)),INDEX(ref!$D$24:'ref'!$D$37,MATCH(D11,ref!C$24:C$37,0))) -> 0 | N11: =IF(SUM(M11-ref!D$4)<0,0,SUM(M11-ref!D$4)) -> 0 | O11: =O10+J11 -> 0 | T11: =S11-R11 -> 0 | U11: =IF(T11="","",IF(SUM(T11-ref!D$10)>0,0,IF(T11=0, "0:00", SUM(T11-ref!D$10)))) -> 0:00 | Y11: =X11-W11 -> 0 | Z11: =IF(Y11="","",IF(SUM(Y11-ref!D$10)>0,0,IF(Y11=0, "0:00", SUM(Y11-ref!D$10)))) -> 0:00 | AC11: =IF(SUM(O11-ref!D$12)<0,0,SUM(O11-ref!D$12)) -> 0 | AD11: =IF(AND(G11<>"",I11<>""),1,0+OR(N(I10)<N(G10),E11="récupération",E11="congé 1 jour",E11="congé 1/2 jour ",E11="congé 5h24",E11="arrêt maladie",E11="arrêt travail",E11="férié ",E11="congé parentale",E11="congé de naissance")) -> 0
H13: repos hebdomadaire
C15: =C11+1 -> 43837 | D15: travail | E15: =IF(AND(H15="",F15=""),"",C15+F15) | G15: =SUM(T15+Y15+AA15) -> 0 | I15: =IF(AND(F15="",H15=""),"",C15+H15+(F15>H15)) | J15: =IF(OR(D15="télétravail",D15="férié travaillé",D15="travail"),(H15-F15+IF(F15>H15,1)-G15),INDEX(ref!$D$24:'ref'!$D$37,MATCH(D15,ref!C$24:C$37,0))) -> 0 | K15: =IF(SUM(J15-ref!D$8)<0,0,SUM(J15-ref!D$8)) -> 0 | M15: =IF(OR(D15="férié travaillé",D15="travail",D15="asa",D15="rtt"),H15-F15+IF(F15>H15,1),INDEX(ref!$D$25:'ref'!$D$35,MATCH(D15,gerald2,0))) -> 0 | N15: =IF(SUM(M15-ref!D$4)<0,0,SUM(M15-ref!D$4)) -> 0 | O15: =J15 -> 0 | T15: =S15-R15 -> 0 | U15: =IF(T15="","",IF(SUM(T15-ref!D$10)>0,0,IF(T15=0, "0:00", SUM(T15-ref!D$10)))) -> 0:00 | Y15: =X15-W15 -> 0 | Z15: =IF(T5="","",IF(SUM(Y15-ref!D$10)>0,0,IF(Y15=0, "0:00", SUM(Y15-ref!D$10)))) -> 0:00 | AC15: =SUM(AD15:AD21) -> 0 | AD15: =IF(AND(G15<>"",I15<>""),1,0+OR(N(I14)<N(G14),E15="récupération",E15="congé 1 jour",E15="congé 1/2 jour ",E15="congé 5h24",E15="arrêt maladie",E15="arrêt travail",E15="férié ",E15="congé parentale",E15="congé de naissance")) -> 0 | AF15: J1 | AG15: à | AH15: J2 | AI15: {=IF(ISNUMBER(E16),E16-_xlfn.AGGREGATE(14,6,(I$4:I15<E16)*I$4:I15,1),"")} | AJ15: =IF(ISNUMBER(AI15),ABS(IF(SUM(AI15-ref!D$9)>0,0,SUM(AI15-ref!D$9))),"")
C16: =C15+1 -> 43838 | D16: travail | E16: =IF(AND(H16="",F16=""),"",C16+F16) | G16: =SUM(T16+Y16+AA16) -> 0 | I16: =IF(AND(F16="",H16=""),"",C16+H16+(F16>H16)) | J16: =IF(OR(D16="télétravail",D16="férié travaillé",D16="travail"),(H16-F16+IF(F16>H16,1)-G16),INDEX(ref!$D$24:'ref'!$D$37,MATCH(D16,ref!C$24:C$37,0))) -> 0 | K16: =IF(SUM(J16-ref!D$8)<0,0,SUM(J16-ref!D$8)) -> 0 | M16: =IF(OR(D16="férié travaillé",D16="travail",D16="asa",D16="rtt"),H16-F16+IF(F16>H16,1),INDEX(ref!$D$25:'ref'!$D$35,MATCH(D16,gerald2,0))) -> 0 | N16: =IF(SUM(M16-ref!D$4)<0,0,SUM(M16-ref!D$4)) -> 0 | O16: =O15+J16 -> 0 | T16: =S16-R16 -> 0 | U16: =IF(T16="","",IF(SUM(T16-ref!D$10)>0,0,IF(T16=0, "0:00", SUM(T16-ref!D$10)))) -> 0:00 | Y16: =X16-W16 -> 0 | Z16: =IF(T6="","",IF(SUM(Y16-ref!D$10)>0,0,IF(Y16=0, "0:00", SUM(Y16-ref!D$10)))) -> 0:00 | AC16: =IF(SUM(AC15-ref!D$7)<0,0,SUM(AC15-ref!D$7)) -> 0 | AD16: =IF(AND(G16<>"",I16<>""),1,0+OR(N(I15)<N(G15),E16="récupération",E16="congé 1 jour",E16="congé 1/2 jour ",E16="congé 5h24",E16="arrêt maladie",E16="arrêt travail",E16="férié ",E16="congé parentale",E16="congé de naissance")) -> 0 | AF16: J2 | AG16: à | AH16: J3 | AI16: {=IF(ISNUMBER(E17),E17-_xlfn.AGGREGATE(14,6,(I$4:I16<E17)*I$4:I16,1),"")} | AJ16: =IF(ISNUMBER(AI16),ABS(IF(SUM(AI16-ref!D$9)>0,0,SUM(AI16-ref!D$9))),"")
C17: =C16+1 -> 43839 | D17: travail | E17: =IF(AND(H17="",F17=""),"",C17+F17) | G17: =SUM(T17+Y17+AA17) -> 0 | I17: =IF(AND(F17="",H17=""),"",C17+H17+(F17>H17)) | J17: =IF(OR(D17="télétravail",D17="férié travaillé",D17="travail"),(H17-F17+IF(F17>H17,1)-G17),INDEX(ref!$D$24:'ref'!$D$37,MATCH(D17,ref!C$24:C$37,0))) -> 0 | K17: =IF(SUM(J17-ref!D$8)<0,0,SUM(J17-ref!D$8)) -> 0 | M17: =IF(OR(D17="férié travaillé",D17="travail",D17="asa",D17="rtt"),H17-F17+IF(F17>H17,1),INDEX(ref!$D$25:'ref'!$D$35,MATCH(D17,gerald2,0))) -> 0 | N17: =IF(SUM(M17-ref!D$4)<0,0,SUM(M17-ref!D$4)) -> 0 | O17: =O16+J17 -> 0 | T17: =S17-R17 -> 0 | U17: =IF(T17="","",IF(SUM(T17-ref!D$10)>0,0,IF(T17=0, "0:00", SUM(T17-ref!D$10)))) -> 0:00 | Y17: =X17-W17 -> 0 | Z17: =IF(T7="","",IF(SUM(Y17-ref!D$10)>0,0,IF(Y17=0, "0:00", SUM(Y17-ref!D$10)))) -> 0:00 | AC17: H semaine | AD17: =IF(AND(G17<>"",I17<>""),1,0+OR(N(I16)<N(G16),E17="récupération",E17="congé 1 jour",E17="congé 1/2 jour ",E17="congé 5h24",E17="arrêt maladie",E17="arrêt travail",E17="férié ",E17="congé parentale",E17="congé de naissance")) -> 0 | AF17: J3 | AG17: à | AH17: J4 | AI17: {=IF(ISNUMBER(E18),E18-_xlfn.AGGREGATE(14,6,(I$4:I17<E18)*I$4:I17,1),"")} | AJ17: =IF(ISNUMBER(AI17),ABS(IF(SUM(AI17-ref!D$9)>0,0,SUM(AI17-ref!D$9))),"")
C18: =C17+1 -> 43840 | D18: travail | E18: =IF(AND(H18="",F18=""),"",C18+F18) | G18: =SUM(T18+Y18+AA18) -> 0 | I18: =IF(AND(F18="",H18=""),"",C18+H18+(F18>H18)) | J18: =IF(OR(D18="télétravail",D18="férié travaillé",D18="travail"),(H18-F18+IF(F18>H18,1)-G18),INDEX(ref!$D$24:'ref'!$D$37,MATCH(D18,ref!C$24:C$37,0))) -> 0 | K18: =IF(SUM(J18-ref!D$8)<0,0,SUM(J18-ref!D$8)) -> 0 | M18: =IF(OR(D18="férié travaillé",D18="travail",D18="asa",D18="rtt"),H18-F18+IF(F18>H18,1),INDEX(ref!$D$25:'ref'!$D$35,MATCH(D18,gerald2,0))) -> 0 | N18: =IF(SUM(M18-ref!D$4)<0,0,SUM(M18-ref!D$4)) -> 0 | O18: =O17+J18 -> 0 | T18: =S18-R18 -> 0 | U18: =IF(T18="","",IF(SUM(T18-ref!D$10)>0,0,IF(T18=0, "0:00", SUM(T18-ref!D$10)))) -> 0:00 | Y18: =X18-W18 -> 0 | Z18: =IF(T8="","",IF(SUM(Y18-ref!D$10)>0,0,IF(Y18=0, "0:00", SUM(Y18-ref!D$10)))) -> 0:00 | AC18: =O21 -> 0 | AD18: =IF(AND(G18<>"",I18<>""),1,0+OR(N(I17)<N(G17),E18="récupération",E18="congé 1 jour",E18="congé 1/2 jour ",E18="congé 5h24",E18="arrêt maladie",E18="arrêt travail",E18="férié ",E18="congé parentale",E18="congé de naissance")) -> 0 | AF18: J4 | AG18: à | AH18: J5 | AI18: {=IF(ISNUMBER(E19),E19-_xlfn.AGGREGATE(14,6,(I$4:I18<E19)*I$4:I18,1),"")} | AJ18: =IF(ISNUMBER(AI18),ABS(IF(SUM(AI18-ref!D$9)>0,0,SUM(AI18-ref!D$9))),"")
C19: =C18+1 -> 43841 | D19: travail | E19: =IF(AND(H19="",F19=""),"",C19+F19) | G19: =SUM(T19+Y19+AA19) -> 0 | I19: =IF(AND(F19="",H19=""),"",C19+H19+(F19>H19)) | J19: =IF(OR(D19="télétravail",D19="férié travaillé",D19="travail"),(H19-F19+IF(F19>H19,1)-G19),INDEX(ref!$D$24:'ref'!$D$37,MATCH(D19,ref!C$24:C$37,0))) -> 0 | K19: =IF(SUM(J19-ref!D$8)<0,0,SUM(J19-ref!D$8)) -> 0 | M19: =IF(OR(D19="férié travaillé",D19="travail",D19="asa",D19="rtt"),H19-F19+IF(F19>H19,1),INDEX(ref!$D$25:'ref'!$D$35,MATCH(D19,gerald2,0))) -> 0 | N19: =IF(SUM(M19-ref!D$4)<0,0,SUM(M19-ref!D$4)) -> 0 | O19: =O18+J19 -> 0 | T19: =S19-R19 -> 0 | U19: =IF(T19="","",IF(SUM(T19-ref!D$10)>0,0,IF(T19=0, "0:00", SUM(T19-ref!D$10)))) -> 0:00 | Y19: =X19-W19 -> 0 | Z19: =IF(T9="","",IF(SUM(Y19-ref!D$10)>0,0,IF(Y19=0, "0:00", SUM(Y19-ref!D$10)))) -> 0:00 | AC19: H semaine hc de | AD19: =IF(AND(G19<>"",I19<>""),1,0+OR(N(I18)<N(G18),E19="récupération",E19="congé 1 jour",E19="congé 1/2 jour ",E19="congé 5h24",E19="arrêt maladie",E19="arrêt travail",E19="férié ",E19="congé parentale",E19="congé de naissance")) -> 0 | AF19: J5 | AG19: à | AH19: J6 | AI19: {=IF(ISNUMBER(E20),E20-_xlfn.AGGREGATE(14,6,(I$4:I19<E20)*I$4:I19,1),"")} | AJ19: =IF(ISNUMBER(AI19),ABS(IF(SUM(AI19-ref!D$9)>0,0,SUM(AI19-ref!D$9))),"")
C20: =C19+1 -> 43842 | D20: travail | E20: =IF(AND(H20="",F20=""),"",C20+F20) | G20: =SUM(T20+Y20+AA20) -> 0 | I20: =IF(AND(F20="",H20=""),"",C20+H20+(F20>H20)) | J20: =IF(OR(D20="télétravail",D20="férié travaillé",D20="travail"),(H20-F20+IF(F20>H20,1)-G20),INDEX(ref!$D$24:'ref'!$D$37,MATCH(D20,ref!C$24:C$37,0))) -> 0 | K20: =IF(SUM(J20-ref!D$8)<0,0,SUM(J20-ref!D$8)) -> 0 | M20: =IF(OR(D20="férié travaillé",D20="travail",D20="asa",D20="rtt"),H20-F20+IF(F20>H20,1),INDEX(ref!$D$25:'ref'!$D$35,MATCH(D20,gerald2,0))) -> 0 | N20: =IF(SUM(M20-ref!D$4)<0,0,SUM(M20-ref!D$4)) -> 0 | O20: =O19+J20 -> 0 | T20: =S20-R20 -> 0 | U20: =IF(T20="","",IF(SUM(T20-ref!D$10)>0,0,IF(T20=0, "0:00", SUM(T20-ref!D$10)))) -> 0:00 | Y20: =X20-W20 -> 0 | Z20: =IF(T10="","",IF(SUM(Y20-ref!D$10)>0,0,IF(Y20=0, "0:00", SUM(Y20-ref!D$10)))) -> 0:00 | AC20: =ref!D$12 -> 2 | AD20: =IF(AND(G20<>"",I20<>""),1,0+OR(N(I19)<N(G19),E20="récupération",E20="congé 1 jour",E20="congé 1/2 jour ",E20="congé 5h24",E20="arrêt maladie",E20="arrêt travail",E20="férié ",E20="congé parentale",E20="congé de naissance")) -> 0 | AF20: J6 | AG20: à | AH20: J7 | AI20: {=IF(ISNUMBER(E21),E21-_xlfn.AGGREGATE(14,6,(I$4:I20<E21)*I$4:I20,1),"")} | AJ20: =IF(ISNUMBER(AI20),ABS(IF(SUM(AI20-ref!D$9)>0,0,SUM(AI20-ref!D$9))),"")
C21: =C20+1 -> 43843 | D21: travail | E21: =IF(AND(H21="",F21=""),"",C21+F21) | G21: =SUM(T21+Y21+AA21) -> 0 | I21: =IF(AND(F21="",H21=""),"",C21+H21+(F21>H21)) | J21: =IF(OR(D21="télétravail",D21="férié travaillé",D21="travail"),(H21-F21+IF(F21>H21,1)-G21),INDEX(ref!$D$24:'ref'!$D$37,MATCH(D21,ref!C$24:C$37,0))) -> 0 | K21: =IF(SUM(J21-ref!D$8)<0,0,SUM(J21-ref!D$8)) -> 0 | M21: =IF(OR(D21="férié travaillé",D21="travail",D21="asa",D21="rtt"),H21-F21+IF(F21>H21,1),INDEX(ref!$D$25:'ref'!$D$35,MATCH(D21,gerald2,0))) -> 0 | N21: =IF(SUM(M21-ref!D$4)<0,0,SUM(M21-ref!D$4)) -> 0 | O21: =O20+J21 -> 0 | T21: =S21-R21 -> 0 | U21: =IF(T21="","",IF(SUM(T21-ref!D$10)>0,0,IF(T21=0, "0:00", SUM(T21-ref!D$10)))) -> 0:00 | Y21: =X21-W21 -> 0 | Z21: =IF(T11="","",IF(SUM(Y21-ref!D$10)>0,0,IF(Y21=0, "0:00", SUM(Y21-ref!D$10)))) -> 0:00 | AC21: =IF(SUM(O21-ref!D$12)<0,0,SUM(O21-ref!D$12)) -> 0 | AD21: =IF(AND(G21<>"",I21<>""),1,0+OR(N(I20)<N(G20),E21="récupération",E21="congé 1 jour",E21="congé 1/2 jour ",E21="congé 5h24",E21="arrêt maladie",E21="arrêt travail",E21="férié ",E21="congé parentale",E21="congé de naissance")) -> 0

Sheet hs
C1: début | D1: 0.25 | F1: 0.77083333 | H1: 0.91666667 | J1: 1
C2: fin | D2: 0.77083333 | F2: 0.91666667 | H2: 1 | J2: 0.25
B4: ='planning '!D5 -> travail | C4: ='planning '!C5 -> 43830 | F4: =IF(OR('planning '!$F5="",'planning '!$H5=""),0,IF('planning '!$H5>'planning '!$F5,MEDIAN('planning '!$H5,F$2,F$1)-MEDIAN('planning '!$F5,F$2,F$1),+('planning '!$H5<'planning '!$F5)*(F$2-F$1)+MEDIAN('planning '!$H5,F$1,F$2)-MEDIAN('planning '!$F5,F$1,F$2)))-'planning '!Y5 -> 0 | H4: =IF(OR('planning '!$F5="",'planning '!$H5=""),0,IF('planning '!$H5>'planning '!$F5,MEDIAN('planning '!$H5,H$2,H$1)-MEDIAN('planning '!$F5,H$2,H$1),+('planning '!$H5<'planning '!$F5)*(H$2-H$1)+MEDIAN('planning '!$H5,H$1,H$2)-MEDIAN('planning '!$F5,H$1,H$2))) -> 0 | J4: =IF(OR('planning '!$F5="",'planning '!$H5=""),0,IF('planning '!$H5>'planning '!$F5,MEDIAN('planning '!$H5,J$2,J$1)-MEDIAN('planning '!$F5,J$2,J$1),+('planning '!$H5<'planning '!$F5)*(J$2-J$1)+MEDIAN('planning '!$H5,J$1,J$2)-MEDIAN('planning '!$F5,J$1,J$2))) -> 0 | O4: résultat hebdomadaire
B5: ='planning '!D6 -> travail | C5: ='planning '!C6 -> 43831 | F5: =IF(OR('planning '!$F6="",'planning '!$H6=""),0,IF('planning '!$H6>'planning '!$F6,MEDIAN('planning '!$H6,F$2,F$1)-MEDIAN('planning '!$F6,F$2,F$1),+('planning '!$H6<'planning '!$F6)*(F$2-F$1)+MEDIAN('planning '!$H6,F$1,F$2)-MEDIAN('planning '!$F6,F$1,F$2)))-'planning '!Y6 -> 0 | H5: =IF(OR('planning '!$F6="",'planning '!$H6=""),0,IF('planning '!$H6>'planning '!$F6,MEDIAN('planning '!$H6,H$2,H$1)-MEDIAN('planning '!$F6,H$2,H$1),+('planning '!$H6<'planning '!$F6)*(H$2-H$1)+MEDIAN('planning '!$H6,H$1,H$2)-MEDIAN('planning '!$F6,H$1,H$2))) -> 0 | J5: =IF(OR('planning '!$F6="",'planning '!$H6=""),0,IF('planning '!$H6>'planning '!$F6,MEDIAN('planning '!$H6,J$2,J$1)-MEDIAN('planning '!$F6,J$2,J$1),+('planning '!$H6<'planning '!$F6)*(J$2-J$1)+MEDIAN('planning '!$H6,J$1,J$2)-MEDIAN('planning '!$F6,J$1,J$2))) -> 0 | N5: 06h - 18h30 | O5: 18h30-22h00 | P5: 22h00 -00h00 | Q5: 00h00-06h
B6: ='planning '!D7 -> travail | C6: ='planning '!C7 -> 43832 | F6: =IF(OR('planning '!$F7="",'planning '!$H7=""),0,IF('planning '!$H7>'planning '!$F7,MEDIAN('planning '!$H7,F$2,F$1)-MEDIAN('planning '!$F7,F$2,F$1),+('planning '!$H7<'planning '!$F7)*(F$2-F$1)+MEDIAN('planning '!$H7,F$1,F$2)-MEDIAN('planning '!$F7,F$1,F$2)))-'planning '!Y7 -> 0 | H6: =IF(OR('planning '!$F7="",'planning '!$H7=""),0,IF('planning '!$H7>'planning '!$F7,MEDIAN('planning '!$H7,H$2,H$1)-MEDIAN('planning '!$F7,H$2,H$1),+('planning '!$H7<'planning '!$F7)*(H$2-H$1)+MEDIAN('planning '!$H7,H$1,H$2)-MEDIAN('planning '!$F7,H$1,H$2))) -> 0 | J6: =IF(OR('planning '!$F7="",'planning '!$H7=""),0,IF('planning '!$H7>'planning '!$F7,MEDIAN('planning '!$H7,J$2,J$1)-MEDIAN('planning '!$F7,J$2,J$1),+('planning '!$H7<'planning '!$F7)*(J$2-J$1)+MEDIAN('planning '!$H7,J$1,J$2)-MEDIAN('planning '!$F7,J$1,J$2))) -> 0 | M6: paiement | N6: =SUMIF(OFFSET($C4:$C11,0,MATCH(N$10,$B$5:$H$5,0)-1,7,1),$K7,OFFSET($B4:$B10,0,MATCH(N$10,$B$5:$H$5,0)-1,7,1)) -> 0 | O6: =SUMIF(OFFSET($C4:$C11,0,MATCH(O$10,$B$5:$H$5,0)-1,7,1),$K7,OFFSET($B4:$B10,0,MATCH(O$10,$B$5:$H$5,0)-1,7,1)) -> 0 | P6: =SUMIF(OFFSET($C4:$C11,0,MATCH(P$10,$B$5:$H$5,0)-1,7,1),$K7,OFFSET($B4:$B10,0,MATCH(P$10,$B$5:$H$5,0)-1,7,1)) -> 0 | Q6: =SUMIF(OFFSET($C4:$C11,0,MATCH(Q$10,$B$5:$H$5,0)-1,7,1),$K7,OFFSET($B4:$B10,0,MATCH(Q$10,$B$5:$H$5,0)-1,7,1)) -> 0
B7: ='planning '!D8 -> travail | C7: ='planning '!C8 -> 43833 | F7: =IF(OR('planning '!$F8="",'planning '!$H8=""),0,IF('planning '!$H8>'planning '!$F8,MEDIAN('planning '!$H8,F$2,F$1)-MEDIAN('planning '!$F8,F$2,F$1),+('planning '!$H8<'planning '!$F8)*(F$2-F$1)+MEDIAN('planning '!$H8,F$1,F$2)-MEDIAN('planning '!$F8,F$1,F$2)))-'planning '!Y8 -> 0 | H7: =IF(OR('planning '!$F8="",'planning '!$H8=""),0,IF('planning '!$H8>'planning '!$F8,MEDIAN('planning '!$H8,H$2,H$1)-MEDIAN('planning '!$F8,H$2,H$1),+('planning '!$H8<'planning '!$F8)*(H$2-H$1)+MEDIAN('planning '!$H8,H$1,H$2)-MEDIAN('planning '!$F8,H$1,H$2))) -> 0 | J7: =IF(OR('planning '!$F8="",'planning '!$H8=""),0,IF('planning '!$H8>'planning '!$F8,MEDIAN('planning '!$H8,J$2,J$1)-MEDIAN('planning '!$F8,J$2,J$1),+('planning '!$H8<'planning '!$F8)*(J$2-J$1)+MEDIAN('planning '!$H8,J$1,J$2)-MEDIAN('planning '!$F8,J$1,J$2))) -> 0 | M7: récupération | N7: =SUMIF(OFFSET($C5:$C12,0,MATCH(N$10,$B$5:$H$5,0)-1,7,1),$K8,OFFSET($B5:$B11,0,MATCH(N$10,$B$5:$H$5,0)-1,7,1)) -> 0 | O7: =SUMIF(OFFSET($C5:$C12,0,MATCH(O$10,$B$5:$H$5,0)-1,7,1),$K8,OFFSET($B5:$B11,0,MATCH(O$10,$B$5:$H$5,0)-1,7,1)) -> 0 | P7: =SUMIF(OFFSET($C5:$C12,0,MATCH(P$10,$B$5:$H$5,0)-1,7,1),$K8,OFFSET($B5:$B11,0,MATCH(P$10,$B$5:$H$5,0)-1,7,1)) -> 0 | Q7: =SUMIF(OFFSET($C5:$C12,0,MATCH(Q$10,$B$5:$H$5,0)-1,7,1),$K8,OFFSET($B5:$B11,0,MATCH(Q$10,$B$5:$H$5,0)-1,7,1)) -> 0
B8: ='planning '!D9 -> travail | C8: ='planning '!C9 -> 43834 | F8: =IF(OR('planning '!$F9="",'planning '!$H9=""),0,IF('planning '!$H9>'planning '!$F9,MEDIAN('planning '!$H9,F$2,F$1)-MEDIAN('planning '!$F9,F$2,F$1),+('planning '!$H9<'planning '!$F9)*(F$2-F$1)+MEDIAN('planning '!$H9,F$1,F$2)-MEDIAN('planning '!$F9,F$1,F$2)))-'planning '!Y9 -> 0 | H8: =IF(OR('planning '!$F9="",'planning '!$H9=""),0,IF('planning '!$H9>'planning '!$F9,MEDIAN('planning '!$H9,H$2,H$1)-MEDIAN('planning '!$F9,H$2,H$1),+('planning '!$H9<'planning '!$F9)*(H$2-H$1)+MEDIAN('planning '!$H9,H$1,H$2)-MEDIAN('planning '!$F9,H$1,H$2))) -> 0 | J8: =IF(OR('planning '!$F9="",'planning '!$H9=""),0,IF('planning '!$H9>'planning '!$F9,MEDIAN('planning '!$H9,J$2,J$1)-MEDIAN('planning '!$F9,J$2,J$1),+('planning '!$H9<'planning '!$F9)*(J$2-J$1)+MEDIAN('planning '!$H9,J$1,J$2)-MEDIAN('planning '!$F9,J$1,J$2))) -> 0
B9: ='planning '!D10 -> travail | C9: ='planning '!C10 -> 43835 | D9: =IF(OR('planning '!$F10="",'planning '!$H10=""),0,IF('planning '!$H10>'planning '!$F10,MEDIAN('planning '!$H10,D$2,D$1)-MEDIAN('planning '!$F10,D$2,D$1),+('planning '!$H10<'planning '!$F10)*(D$2-D$1)+MEDIAN('planning '!$H10,D$1,D$2)-MEDIAN('planning '!$F10,D$1,D$2)))-'planning '!T10 -> 0 | F9: =IF(OR('planning '!$F10="",'planning '!$H10=""),0,IF('planning '!$H10>'planning '!$F10,MEDIAN('planning '!$H10,F$2,F$1)-MEDIAN('planning '!$F10,F$2,F$1),+('planning '!$H10<'planning '!$F10)*(F$2-F$1)+MEDIAN('planning '!$H10,F$1,F$2)-MEDIAN('planning '!$F10,F$1,F$2)))-'planning '!Y10 -> 0 | H9: =IF(OR('planning '!$F10="",'planning '!$H10=""),0,IF('planning '!$H10>'planning '!$F10,MEDIAN('planning '!$H10,H$2,H$1)-MEDIAN('planning '!$F10,H$2,H$1),+('planning '!$H10<'planning '!$F10)*(H$2-H$1)+MEDIAN('planning '!$H10,H$1,H$2)-MEDIAN('planning '!$F10,H$1,H$2))) -> 0 | J9: =IF(OR('planning '!$F10="",'planning '!$H10=""),0,IF('planning '!$H10>'planning '!$F10,MEDIAN('planning '!$H10,J$2,J$1)-MEDIAN('planning '!$F10,J$2,J$1),+('planning '!$H10<'planning '!$F10)*(J$2-J$1)+MEDIAN('planning '!$H10,J$1,J$2)-MEDIAN('planning '!$F10,J$1,J$2))) -> 0
B10: ='planning '!D11 -> travail | C10: ='planning '!C11 -> 43836 | D10: =IF(OR('planning '!$F11="",'planning '!$H11=""),0,IF('planning '!$H11>'planning '!$F11,MEDIAN('planning '!$H11,D$2,D$1)-MEDIAN('planning '!$F11,D$2,D$1),+('planning '!$H11<'planning '!$F11)*(D$2-D$1)+MEDIAN('planning '!$H11,D$1,D$2)-MEDIAN('planning '!$F11,D$1,D$2)))-'planning '!T11 -> 0 | F10: =IF(OR('planning '!$F11="",'planning '!$H11=""),0,IF('planning '!$H11>'planning '!$F11,MEDIAN('planning '!$H11,F$2,F$1)-MEDIAN('planning '!$F11,F$2,F$1),+('planning '!$H11<'planning '!$F11)*(F$2-F$1)+MEDIAN('planning '!$H11,F$1,F$2)-MEDIAN('planning '!$F11,F$1,F$2)))-'planning '!Y11 -> 0 | H10: =IF(OR('planning '!$F11="",'planning '!$H11=""),0,IF('planning '!$H11>'planning '!$F11,MEDIAN('planning '!$H11,H$2,H$1)-MEDIAN('planning '!$F11,H$2,H$1),+('planning '!$H11<'planning '!$F11)*(H$2-H$1)+MEDIAN('planning '!$H11,H$1,H$2)-MEDIAN('planning '!$F11,H$1,H$2))) -> 0 | J10: =IF(OR('planning '!$F11="",'planning '!$H11=""),0,IF('planning '!$H11>'planning '!$F11,MEDIAN('planning '!$H11,J$2,J$1)-MEDIAN('planning '!$F11,J$2,J$1),+('planning '!$H11<'planning '!$F11)*(J$2-J$1)+MEDIAN('planning '!$H11,J$1,J$2)-MEDIAN('planning '!$F11,J$1,J$2))) -> 0
B14: ='planning '!D15 -> travail | C14: ='planning '!C15 -> 43837 | F14: =IF(OR('planning '!$F15="",'planning '!$H15=""),0,IF('planning '!$H15>'planning '!$F15,MEDIAN('planning '!$H15,F$2,F$1)-MEDIAN('planning '!$F15,F$2,F$1),+('planning '!$H15<'planning '!$F15)*(F$2-F$1)+MEDIAN('planning '!$H15,F$1,F$2)-MEDIAN('planning '!$F15,F$1,F$2)))-'planning '!Y15 -> 0 | H14: =IF(OR('planning '!$F15="",'planning '!$H15=""),0,IF('planning '!$H15>'planning '!$F15,MEDIAN('planning '!$H15,H$2,H$1)-MEDIAN('planning '!$F15,H$2,H$1),+('planning '!$H15<'planning '!$F15)*(H$2-H$1)+MEDIAN('planning '!$H15,H$1,H$2)-MEDIAN('planning '!$F15,H$1,H$2))) -> 0 | J14: =IF(OR('planning '!$F15="",'planning '!$H15=""),0,IF('planning '!$H15>'planning '!$F15,MEDIAN('planning '!$H15,J$2,J$1)-MEDIAN('planning '!$F15,J$2,J$1),+('planning '!$H15<'planning '!$F15)*(J$2-J$1)+MEDIAN('planning '!$H15,J$1,J$2)-MEDIAN('planning '!$F15,J$1,J$2))) -> 0 | O14: résultat hebdomadaire
B15: ='planning '!D16 -> travail | C15: ='planning '!C16 -> 43838 | F15: =IF(OR('planning '!$F16="",'planning '!$H16=""),0,IF('planning '!$H16>'planning '!$F16,MEDIAN('planning '!$H16,F$2,F$1)-MEDIAN('planning '!$F16,F$2,F$1),+('planning '!$H16<'planning '!$F16)*(F$2-F$1)+MEDIAN('planning '!$H16,F$1,F$2)-MEDIAN('planning '!$F16,F$1,F$2)))-'planning '!Y16 -> 0 | H15: =IF(OR('planning '!$F16="",'planning '!$H16=""),0,IF('planning '!$H16>'planning '!$F16,MEDIAN('planning '!$H16,H$2,H$1)-MEDIAN('planning '!$F16,H$2,H$1),+('planning '!$H16<'planning '!$F16)*(H$2-H$1)+MEDIAN('planning '!$H16,H$1,H$2)-MEDIAN('planning '!$F16,H$1,H$2))) -> 0 | J15: =IF(OR('planning '!$F16="",'planning '!$H16=""),0,IF('planning '!$H16>'planning '!$F16,MEDIAN('planning '!$H16,J$2,J$1)-MEDIAN('planning '!$F16,J$2,J$1),+('planning '!$H16<'planning '!$F16)*(J$2-J$1)+MEDIAN('planning '!$H16,J$1,J$2)-MEDIAN('planning '!$F16,J$1,J$2))) -> 0 | N15: 06h - 18h30 | O15: 18h30-22h00 | P15: 22h00 -00h00 | Q15: 00h00-06h
B16: ='planning '!D17 -> travail | C16: ='planning '!C17 -> 43839 | F16: =IF(OR('planning '!$F17="",'planning '!$H17=""),0,IF('planning '!$H17>'planning '!$F17,MEDIAN('planning '!$H17,F$2,F$1)-MEDIAN('planning '!$F17,F$2,F$1),+('planning '!$H17<'planning '!$F17)*(F$2-F$1)+MEDIAN('planning '!$H17,F$1,F$2)-MEDIAN('planning '!$F17,F$1,F$2)))-'planning '!Y17 -> 0 | H16: =IF(OR('planning '!$F17="",'planning '!$H17=""),0,IF('planning '!$H17>'planning '!$F17,MEDIAN('planning '!$H17,H$2,H$1)-MEDIAN('planning '!$F17,H$2,H$1),+('planning '!$H17<'planning '!$F17)*(H$2-H$1)+MEDIAN('planning '!$H17,H$1,H$2)-MEDIAN('planning '!$F17,H$1,H$2))) -> 0 | J16: =IF(OR('planning '!$F17="",'planning '!$H17=""),0,IF('planning '!$H17>'planning '!$F17,MEDIAN('planning '!$H17,J$2,J$1)-MEDIAN('planning '!$F17,J$2,J$1),+('planning '!$H17<'planning '!$F17)*(J$2-J$1)+MEDIAN('planning '!$H17,J$1,J$2)-MEDIAN('planning '!$F17,J$1,J$2))) -> 0 | M16: paiement | N16: =SUMIF(OFFSET($C14:$C21,0,MATCH(N$10,$B$5:$H$5,0)-1,7,1),$K17,OFFSET($B14:$B20,0,MATCH(N$10,$B$5:$H$5,0)-1,7,1)) -> 0 | O16: =SUMIF(OFFSET($C14:$C21,0,MATCH(O$10,$B$5:$H$5,0)-1,7,1),$K17,OFFSET($B14:$B20,0,MATCH(O$10,$B$5:$H$5,0)-1,7,1)) -> 0 | P16: =SUMIF(OFFSET($C14:$C21,0,MATCH(P$10,$B$5:$H$5,0)-1,7,1),$K17,OFFSET($B14:$B20,0,MATCH(P$10,$B$5:$H$5,0)-1,7,1)) -> 0 | Q16: =SUMIF(OFFSET($C14:$C21,0,MATCH(Q$10,$B$5:$H$5,0)-1,7,1),$K17,OFFSET($B14:$B20,0,MATCH(Q$10,$B$5:$H$5,0)-1,7,1)) -> 0
B17: ='planning '!D18 -> travail | C17: ='planning '!C18 -> 43840 | F17: =IF(OR('planning '!$F18="",'planning '!$H18=""),0,IF('planning '!$H18>'planning '!$F18,MEDIAN('planning '!$H18,F$2,F$1)-MEDIAN('planning '!$F18,F$2,F$1),+('planning '!$H18<'planning '!$F18)*(F$2-F$1)+MEDIAN('planning '!$H18,F$1,F$2)-MEDIAN('planning '!$F18,F$1,F$2)))-'planning '!Y18 -> 0 | H17: =IF(OR('planning '!$F18="",'planning '!$H18=""),0,IF('planning '!$H18>'planning '!$F18,MEDIAN('planning '!$H18,H$2,H$1)-MEDIAN('planning '!$F18,H$2,H$1),+('planning '!$H18<'planning '!$F18)*(H$2-H$1)+MEDIAN('planning '!$H18,H$1,H$2)-MEDIAN('planning '!$F18,H$1,H$2))) -> 0 | J17: =IF(OR('planning '!$F18="",'planning '!$H18=""),0,IF('planning '!$H18>'planning '!$F18,MEDIAN('planning '!$H18,J$2,J$1)-MEDIAN('planning '!$F18,J$2,J$1),+('planning '!$H18<'planning '!$F18)*(J$2-J$1)+MEDIAN('planning '!$H18,J$1,J$2)-MEDIAN('planning '!$F18,J$1,J$2))) -> 0 | M17: récupération | N17: =SUMIF(OFFSET($C15:$C21,0,MATCH(N$10,$B$5:$H$5,0)-1,7,1),$K18,OFFSET($B15:$B21,0,MATCH(N$10,$B$5:$H$5,0)-1,7,1)) -> 0 | O17: =SUMIF(OFFSET($C15:$C21,0,MATCH(O$10,$B$5:$H$5,0)-1,7,1),$K18,OFFSET($B15:$B21,0,MATCH(O$10,$B$5:$H$5,0)-1,7,1)) -> 0 | P17: =SUMIF(OFFSET($C15:$C21,0,MATCH(P$10,$B$5:$H$5,0)-1,7,1),$K18,OFFSET($B15:$B21,0,MATCH(P$10,$B$5:$H$5,0)-1,7,1)) -> 0 | Q17: =SUMIF(OFFSET($C15:$C21,0,MATCH(Q$10,$B$5:$H$5,0)-1,7,1),$K18,OFFSET($B15:$B21,0,MATCH(Q$10,$B$5:$H$5,0)-1,7,1)) -> 0
B18: ='planning '!D19 -> travail | C18: ='planning '!C19 -> 43841 | F18: =IF(OR('planning '!$F19="",'planning '!$H19=""),0,IF('planning '!$H19>'planning '!$F19,MEDIAN('planning '!$H19,F$2,F$1)-MEDIAN('planning '!$F19,F$2,F$1),+('planning '!$H19<'planning '!$F19)*(F$2-F$1)+MEDIAN('planning '!$H19,F$1,F$2)-MEDIAN('planning '!$F19,F$1,F$2)))-'planning '!Y19 -> 0 | H18: =IF(OR('planning '!$F19="",'planning '!$H19=""),0,IF('planning '!$H19>'planning '!$F19,MEDIAN('planning '!$H19,H$2,H$1)-MEDIAN('planning '!$F19,H$2,H$1),+('planning '!$H19<'planning '!$F19)*(H$2-H$1)+MEDIAN('planning '!$H19,H$1,H$2)-MEDIAN('planning '!$F19,H$1,H$2))) -> 0 | J18: =IF(OR('planning '!$F19="",'planning '!$H19=""),0,IF('planning '!$H19>'planning '!$F19,MEDIAN('planning '!$H19,J$2,J$1)-MEDIAN('planning '!$F19,J$2,J$1),+('planning '!$H19<'planning '!$F19)*(J$2-J$1)+MEDIAN('planning '!$H19,J$1,J$2)-MEDIAN('planning '!$F19,J$1,J$2))) -> 0
B19: ='planning '!D20 -> travail | C19: ='planning '!C20 -> 43842 | D19: =IF(OR('planning '!$F20="",'planning '!$H20=""),0,IF('planning '!$H20>'planning '!$F20,MEDIAN('planning '!$H20,D$2,D$1)-MEDIAN('planning '!$F20,D$2,D$1),+('planning '!$H20<'planning '!$F20)*(D$2-D$1)+MEDIAN('planning '!$H20,D$1,D$2)-MEDIAN('planning '!$F20,D$1,D$2)))-'planning '!T20 -> 0 | F19: =IF(OR('planning '!$F20="",'planning '!$H20=""),0,IF('planning '!$H20>'planning '!$F20,MEDIAN('planning '!$H20,F$2,F$1)-MEDIAN('planning '!$F20,F$2,F$1),+('planning '!$H20<'planning '!$F20)*(F$2-F$1)+MEDIAN('planning '!$H20,F$1,F$2)-MEDIAN('planning '!$F20,F$1,F$2)))-'planning '!Y20 -> 0 | H19: =IF(OR('planning '!$F20="",'planning '!$H20=""),0,IF('planning '!$H20>'planning '!$F20,MEDIAN('planning '!$H20,H$2,H$1)-MEDIAN('planning '!$F20,H$2,H$1),+('planning '!$H20<'planning '!$F20)*(H$2-H$1)+MEDIAN('planning '!$H20,H$1,H$2)-MEDIAN('planning '!$F20,H$1,H$2))) -> 0 | J19: =IF(OR('planning '!$F20="",'planning '!$H20=""),0,IF('planning '!$H20>'planning '!$F20,MEDIAN('planning '!$H20,J$2,J$1)-MEDIAN('planning '!$F20,J$2,J$1),+('planning '!$H20<'planning '!$F20)*(J$2-J$1)+MEDIAN('planning '!$H20,J$1,J$2)-MEDIAN('planning '!$F20,J$1,J$2))) -> 0
B20: ='planning '!D21 -> travail | C20: ='planning '!C21 -> 43843 | D20: =IF(OR('planning '!$F21="",'planning '!$H21=""),0,IF('planning '!$H21>'planning '!$F21,MEDIAN('planning '!$H21,D$2,D$1)-MEDIAN('planning '!$F21,D$2,D$1),+('planning '!$H21<'planning '!$F21)*(D$2-D$1)+MEDIAN('planning '!$H21,D$1,D$2)-MEDIAN('planning '!$F21,D$1,D$2)))-'planning '!T21 -> 0 | F20: =IF(OR('planning '!$F21="",'planning '!$H21=""),0,IF('planning '!$H21>'planning '!$F21,MEDIAN('planning '!$H21,F$2,F$1)-MEDIAN('planning '!$F21,F$2,F$1),+('planning '!$H21<'planning '!$F21)*(F$2-F$1)+MEDIAN('planning '!$H21,F$1,F$2)-MEDIAN('planning '!$F21,F$1,F$2)))-'planning '!Y21 -> 0 | H20: =IF(OR('planning '!$F21="",'planning '!$H21=""),0,IF('planning '!$H21>'planning '!$F21,MEDIAN('planning '!$H21,H$2,H$1)-MEDIAN('planning '!$F21,H$2,H$1),+('planning '!$H21<'planning '!$F21)*(H$2-H$1)+MEDIAN('planning '!$H21,H$1,H$2)-MEDIAN('planning '!$F21,H$1,H$2))) -> 0 | J20: =IF(OR('planning '!$F21="",'planning '!$H21=""),0,IF('planning '!$H21>'planning '!$F21,MEDIAN('planning '!$H21,J$2,J$1)-MEDIAN('planning '!$F21,J$2,J$1),+('planning '!$H21<'planning '!$F21)*(J$2-J$1)+MEDIAN('planning '!$H21,J$1,J$2)-MEDIAN('planning '!$F21,J$1,J$2))) -> 0

Sheet ref
C2: début de l'année | D2: 43830
C3: heures annueltravail | D3: 66.958333 | P3: pause
C4: amplitude du temps | D4: 0.5 | H4: heures suplémenatires | R4: récupération
C5: heure jour | D5: 0.29166667 | H5: récupération | I5: paiement | P5: non | R5: paiement
C6: jour semaine | D6: 5
C7: jour semaine maximun | D7: 6
C8: la durée de travail jour | D8: 0.41666667
C9: repos quotidien | D9: 0.45833333
C10: pause repas | D10: 0.03125
C11: durée du travail hebdomadaire | D11: 1.4583333
C12: durée du travail hebdomadaire max | D12: 2
C13: repos hebdomadaire | D13: 1.4583333
C14: heures sup mensuel max par mois | D14: 1.0416667
C15: heures supplémentaires payées de 1h à 14h | D15: 1.25
C16: heures supplémentaires payées de 15h à 25h | D16: 1.27
C17: heures supplémentaires payées dimanche
C18: heures supplémentaires payées de nuit
C19: début heures de nuit | D19: 0.91666667
C20: heures supplémentaires récupération après 18:30 | D20: 0.041666667
C21: heures supplémentaires récupération après 22:00 | D21: 0.041666667
C22: heures supplémentaires récupération samedi | D22: 0.041666667
C23: heures supplémentaires récupération dimanche | D23: 0.041666667
C24: Férié travaillé | D24: 0.069444444
C25: off | D25: 0
C26: travail | D26: 0
C27: récupération | D27: =D5 -> 0.29166667
C28: congé 1 jour | D28: =D5 -> 0.29166667
C29: congé 1/2 jour | D29: =D5/2 -> 0.14583333
C30: arrêt maladie | D30: =D5 -> 0.29166667
C31: arrêt travail | D31: =D5 -> 0.29166667
C32: férié | D32: =D5 -> 0.29166667
C33: télétravail | D33: 0.29166667
C34: autorisation d'absence | D34: =D5 -> 0.29166667
C35: rtt | D35: =D5 -> 0.29166667
C36: concours | D36: 0.29166667
C37: crédit/débit | D37: 0.29166667
