Workbook
Name gérald: ref!$D$22:$D$32
Name gérald1: ref!$D$22:$E$32
Name gerald2: ref!$D$22:$D$35
Name gerald3: ref!$D$22:$D$37
Name gérald4: ref!$D$21:$D$37
Name listeMois: [1]ref!$L$2:$M$13

Sheet Bilan
C3: jours et heures réels | E3: heures incovar | I3: Heures suplémentaires | M3: h par mois | R3: résultat des heures hc 2024 | V3: Pause repas
C4: jours | D4: heures | E4: heures | I4: 18h30 à 22h | J4: =SUM(hs!F4:F12) -> 0 | M4: mois | N4: h | Q4: travail annuel +1607h | T4: midi | U4: non | V4: =COUNTIF('planning '!S5:S531,ref!Q5) -> 0
B5: travail | C5: =COUNTIF('planning '!$F$5:$F$526,B5) -> 197 | D5: =SUM('planning '!L5:L531)-D14-D13 -> 77.525694 | E5: =SUM('planning '!N5:N531)-D14-D9 -> -0.33402778 | I5: 22h à 24 | J5: =SUM(hs!H4:H12) -> 0 | L5: =VLOOKUP(M5,listeMois,2) -> 1 | M5: janvier | N5: {=SUM(IFERROR(( MONTH('planning '!E:E)=Bilan!L5)*'planning '!L:L, 0))} -> 8.1291667 | Q5: repas midi | R5: =SUM('planning '!W5:W531) -> 0.22847222 | T5: soir | U5: non | V5: =COUNTIF('planning '!X5:X531,ref!Q5) -> 0
B6: récupération | C6: =COUNTIF('planning '!$F$5:$F$526,B6) -> 24 | D6: =C6*ref!E$5 -> 7 | I6: 24h à 6h | J6: =SUM(hs!J4:J12) -> 0 | L6: =VLOOKUP(M6,listeMois,2) -> 2 | M6: février | N6: {=SUM(IFERROR(( MONTH('planning '!E:E)=Bilan!L6)*'planning '!L:L, 0))} -> 7.2631944 | Q6: repas soir | R6: =SUM('planning '!AB5:AB411) -> 0
B7: arrêt maladie | C7: =COUNTIF('planning '!$F$5:$F$526,B7) -> 5 | D7: =C7*ref!E$5 -> 1.4583333 | I7: dimanche | J7: =SUM('planning '!#REF!) -> #REF! | L7: =VLOOKUP(M7,listeMois,2) -> 3 | M7: mars | N7: {=SUM(IFERROR(( MONTH('planning '!E:E)=Bilan!L7)*'planning '!L:L, 0))} -> 8.3090278 | Q7: jour +10 h | R7: =SUM('planning '!M5:M531) -> 2.4729167
B8: arrêt travail | C8: =COUNTIF('planning '!$F$5:$F$526,B8) -> 0 | D8: =C8*ref!E$5 -> 0 | I8: samedi | J8: =SUM('planning '!#REF!) -> #REF! | L8: =VLOOKUP(M8,listeMois,2) -> 4 | M8: avril | N8: {=SUM(IFERROR(( MONTH('planning '!E:E)=Bilan!L8)*'planning '!L:L, 0))} -> 7.4368056 | Q8: amplitude jour +12 h | R8: =SUM('planning '!P5:P531) -> #N/A
B9: férié | C9: =COUNTIF('planning '!$F$5:$F$526,B9) -> 10 | D9: =C9*ref!E$5 -> 2.9166667 | I9: heures + 35 | J9: =SUM('planning '!#REF!) -> #REF! | L9: =VLOOKUP(M9,listeMois,2) -> 5 | M9: mai | N9: {=SUM(IFERROR(( MONTH('planning '!E:E)=Bilan!L9)*'planning '!L:L, 0))} -> 8.5097222 | Q9: jours hedbomadaire + 6 jours | R9: =SUM('planning '!AE46+'planning '!AE66+'planning '!AE76+'planning '!AE86+'planning '!AE96+'planning '!AE106+'planning '!AE116+'planning '!AE126+'planning '!AE136+'planning '!AE146+'planning '!AE156+'planning '!AE166+'planning '!AE176+'planning '!AE186+'planning '!AE196+'planning '!AE206+'planning '!AE216+'planning '!AE226+'planning '!AE236+'planning '!AE246+'planning '!AE256+'planning '!AE266+'planning '!AE276+'planning '!AE286+'planning '!AE296+'planning '!AE306+'planning '!AE316+'planning '!AE326+'planning '!AE336+'planning '!AE346+'planning '!AE356+'planning '!AE366+'planning '!AE376+'planning '!AE386+'planning '!AE396+'planning '!AE406+'planning '!AE416+'planning '!AE426+'planning '!AE436+'planning '!AE446+'planning '!AE456+'planning '!AE466+'planning '!AE476+'planning '!AE486+'planning '!AE496+'planning '!AE506+'planning '!AE516+'planning '!AE526) -> 1
B10: férié travaillé | C10: =COUNTIF('planning '!$F$5:$F$526,B10) -> 0 | D10: =C10*ref!E$5 -> 0 | I10: jours fériés | J10: =SUM('planning '!#REF!) -> #REF! | L10: =VLOOKUP(M10,listeMois,2) -> 6 | M10: juin | N10: {=SUM(IFERROR(( MONTH('planning '!E:E)=Bilan!L10)*'planning '!L:L, 0))} -> 7.6097222 | Q10: heures semaine + 48h | R10: ='planning '!AE11+'planning '!AE21+'planning '!AE31+'planning '!AE41+'planning '!AE51+'planning '!AE61+'planning '!AE71+'planning '!AE81+'planning '!AE91+'planning '!AE111+'planning '!AE121+'planning '!AE131+'planning '!AE141+'planning '!AE151+'planning '!AE161+'planning '!AE171+'planning '!AE181+'planning '!AE191+'planning '!AE201+'planning '!AE211+'planning '!AE221+'planning '!AE231+'planning '!AE241+'planning '!AE251+'planning '!AE261+'planning '!AE271+'planning '!AE281+'planning '!AE291+'planning '!AE301+'planning '!AE311+'planning '!AE321+'planning '!AE331+'planning '!AE341+'planning '!AE351+'planning '!AE361+'planning '!AE371+'planning '!AE381+'planning '!AE391+'planning '!AE401+'planning '!AE411+'planning '!AE421+'planning '!AE431+'planning '!AE441+'planning '!AE451+'planning '!AE461+'planning '!AE471+'planning '!AE481+'planning '!AE491+'planning '!AE501+'planning '!AE511+'planning '!AE521+'planning '!AE531 -> 1.7041667
B11: autorisation d'absence | C11: =COUNTIF('planning '!$F$5:$F$526,B11) -> 1 | D11: =C11*ref!E$5 -> 0.29166667 | L11: =VLOOKUP(M11,listeMois,2) -> 7 | M11: juillet | N11: {=SUM(IFERROR(( MONTH('planning '!E:E)=Bilan!L11)*'planning '!L:L, 0))} -> 6.9347222 | Q11: repos journalier | R11: =SUM('planning '!AL5:AL530) -> 0.13541667
B12: télétravail | C12: =COUNTIF('planning '!$F$5:$F$526,B12) -> 0 | D12: =C12*ref!E$5 -> 0 | L12: =VLOOKUP(M12,listeMois,2) -> 8 | M12: août | N12: {=SUM(IFERROR(( MONTH('planning '!E:E)=Bilan!L12)*'planning '!L:L, 0))} -> 5.8333333 | Q12: repos hebdomadaire
B13: rtt | C13: =COUNTIF('planning '!$F$5:$F$526,B13) -> 10 | D13: =C13*ref!E$5 -> 2.9166667 | L13: =VLOOKUP(M13,listeMois,2) -> 9 | M13: septembre | N13: {=SUM(IFERROR(( MONTH('planning '!E:E)=Bilan!L13)*'planning '!L:L, 0))} -> 6.125
B14: congé 1 jour | C14: =COUNTIF('planning '!$F$5:$F$526,B14) -> 12 | D14: =C14*ref!E$5 -> 3.5 | L14: =VLOOKUP(M14,listeMois,2) -> 10 | M14: octobre | N14: {=SUM(IFERROR(( MONTH('planning '!E:E)=Bilan!L14)*'planning '!L:L, 0))} -> 5.25
B15: off | C15: =COUNTIF('planning '!$F$5:$F$526,B15) -> 107 | L15: =VLOOKUP(M15,listeMois,2) -> 11 | M15: novembre | N15: {=SUM(IFERROR(( MONTH('planning '!E:E)=Bilan!L15)*'planning '!L:L, 0))} -> 6.125
L16: =VLOOKUP(M16,listeMois,2) -> 12 | M16: décembre | N16: {=SUM(IFERROR(( MONTH('planning '!E:E)=Bilan!L16)*'planning '!L:L, 0))} -> 6.4166667
B17: jours 2024 (366 j) | C17: =SUM(C5:C15) -> 366

Sheet planning 
U2: pause repas midi | Z2: pause repas soir entre 18h30 et 22h | AC2: divers pause avant 18:30
E3: jour | F3: type de journée | H3: Début | I3: pause | J3: Fin | L3: H Jour réel | M3: hc de | N3: h incovar | O3: H amp | P3: hc de | Q3: hs semaine | S3: non | T3: début | U3: fin | V3: résultat | W3: hc de | X3: oui/non | Y3: début | Z3: fin | AA3: résultat | AB3: hc de | AF3: j et h semaine | AH3: repos journalier du | AL3: hc de
B5: date | C5: Vscolaire | E5: =DATE(ref!E$2,B$9,B$7) -> 43830 | F5: férié | G5: =IF(AND(J5="",H5=""),"",E5+H5) | I5: =SUM(V5+AA5+AC5) -> 0 | K5: =IF(AND(H5="",J5=""),"",E5+J5+(H5>J5)) | L5: =IF(OR(F5="télétravail",F5="férié travaillé",F5="travail"),(J5-H5+IF(H5>J5,1)-I5),INDEX(ref!$E$22:'ref'!$E$37,MATCH(F5,gerald3,0))) -> 0.29166667 | M5: =IF(SUM(L5-ref!E$8)<0,0,SUM(L5-ref!E$8)) -> 0 | N5: =L5-(hs!D4+hs!F4+hs!H4+hs!J4) -> 0.29166667 | O5: =IF(OR(F5="férié travaillé",F5="travail",F5="asa",F5="rtt"),J5-H5+IF(H5>J5,1),INDEX(ref!$E$22:'ref'!$E$37,MATCH(F5,gerald2,0))) -> 0.29166667 | P5: =IF(SUM(O5-ref!E$4)<0,0,SUM(O5-ref!E$4)) -> 0 | Q5: =L5 -> 0.29166667 | V5: =U5-T5 -> 0 | W5: =IF(V5="","",IF(SUM(V5-ref!E$38)>0,0,IF(V5=0, "0:00", SUM(V5-ref!E$38)))) -> 0:00 | AA5: =Z5-Y5 -> 0 | AB5: =IF(AA5="","",IF(SUM(AA5-ref!E$38)>0,0,IF(AA5=0, "0:00", SUM(AA5-ref!E$38)))) -> 0:00 | AE5: =SUM(AF5:AF11) -> 5 | AF5: =IF(AND(H5<>"",J5<>""),1,0+OR(N(J4)<N(H4),F5="récupération",F5="congé 1 jour",F5="congé 1/2 jour ",F5="congé 5h24",F5="arrêt maladie",F5="arrêt travail",F5="férié ",F5="congé parentale",F5="congé de naissance")) -> 1 | AH5: J1 | AI5: à | AJ5: J2 | AK5: {=IF(ISNUMBER(G6),G6-_xlfn.AGGREGATE(14,6,(K$4:K5<G6)*K$4:K5,1),"")} | AL5: =IF(ISNUMBER(AK5),ABS(IF(SUM(AK5-ref!E$9)>0,0,SUM(AK5-ref!E$9))),"")
B6: date | C6: Vscolaire | E6: =E5+1 -> 43831 | F6: récupération | G6: =IF(AND(J6="",H6=""),"",E6+H6) | I6: =SUM(V6+AA6+AC6) -> 0 | K6: =IF(AND(H6="",J6=""),"",E6+J6+(H6>J6)) | L6: =IF(OR(F6="télétravail",F6="férié travaillé",F6="travail"),(J6-H6+IF(H6>J6,1)-I6),INDEX(ref!$E$22:'ref'!$E$37,MATCH(F6,gerald3,0))) -> 0.29166667 | M6: =IF(SUM(L6-ref!E$8)<0,0,SUM(L6-ref!E$8)) -> 0 | N6: =L6-(hs!D5+hs!F5+hs!H5+hs!J5) -> 0.29166667 | O6: =IF(OR(F6="férié travaillé",F6="travail",F6="asa",F6="rtt"),J6-H6+IF(H6>J6,1),INDEX(ref!$E$22:'ref'!$E$37,MATCH(F6,gerald2,0))) -> 0.29166667 | P6: =IF(SUM(O6-ref!E$4)<0,0,SUM(O6-ref!E$4)) -> 0 | Q6: =Q5+L6 -> 0.58333333 | V6: =U6-T6 -> 0 | W6: =IF(V6="","",IF(SUM(V6-ref!E$38)>0,0,IF(V6=0, "0:00", SUM(V6-ref!E$38)))) -> 0:00 | AA6: =Z6-Y6 -> 0 | AB6: =IF(AA6="","",IF(SUM(AA6-ref!E$38)>0,0,IF(AA6=0, "0:00", SUM(AA6-ref!E$38)))) -> 0:00 | AE6: =IF(SUM(AE5-ref!E$7)<0,0,SUM(AE5-ref!E$7)) -> 0 | AF6: =IF(AND(H6<>"",J6<>""),1,0+OR(N(J5)<N(H5),F6="récupération",F6="congé 1 jour",F6="congé 1/2 jour ",F6="congé 5h24",F6="arrêt maladie",F6="arrêt travail",F6="férié ",F6="congé parentale",F6="congé de naissance")) -> 1 | AH6: J2 | AI6: à | AJ6: J3 | AK6: {=IF(ISNUMBER(G7),G7-_xlfn.AGGREGATE(14,6,(K$4:K6<G7)*K$4:K6,1),"")} | AL6: =IF(ISNUMBER(AK6),ABS(IF(SUM(AK6-ref!E$9)>0,0,SUM(AK6-ref!E$9))),"")
B7: 1 | C7: Vscolaire | E7: =E6+1 -> 43832 | F7: récupération | G7: =IF(AND(J7="",H7=""),"",E7+H7) | I7: =SUM(V7+AA7+AC7) -> 0 | K7: =IF(AND(H7="",J7=""),"",E7+J7+(H7>J7)) | L7: =IF(OR(F7="télétravail",F7="férié travaillé",F7="travail"),(J7-H7+IF(H7>J7,1)-I7),INDEX(ref!$E$22:'ref'!$E$37,MATCH(F7,gerald3,0))) -> 0.29166667 | M7: =IF(SUM(L7-ref!E$8)<0,0,SUM(L7-ref!E$8)) -> 0 | N7: =L7-(hs!D6+hs!F6+hs!H6+hs!J6) -> 0.29166667 | O7: =IF(OR(F7="férié travaillé",F7="travail",F7="asa",F7="rtt"),J7-H7+IF(H7>J7,1),INDEX(ref!$E$22:'ref'!$E$37,MATCH(F7,gerald2,0))) -> 0.29166667 | P7: =IF(SUM(O7-ref!E$4)<0,0,SUM(O7-ref!E$4)) -> 0 | Q7: =Q6+L7 -> 0.875 | V7: =U7-T7 -> 0 | W7: =IF(V7="","",IF(SUM(V7-ref!E$38)>0,0,IF(V7=0, "0:00", SUM(V7-ref!E$38)))) -> 0:00 | AA7: =Z7-Y7 -> 0 | AB7: =IF(AA7="","",IF(SUM(AA7-ref!E$38)>0,0,IF(AA7=0, "0:00", SUM(AA7-ref!E$38)))) -> 0:00 | AE7: H semaine | AF7: =IF(AND(H7<>"",J7<>""),1,0+OR(N(J6)<N(H6),F7="récupération",F7="congé 1 jour",F7="congé 1/2 jour ",F7="congé 5h24",F7="arrêt maladie",F7="arrêt travail",F7="férié ",F7="congé parentale",F7="congé de naissance")) -> 1 | AH7: J3 | AI7: à | AJ7: J4 | AK7: {=IF(ISNUMBER(G8),G8-_xlfn.AGGREGATE(14,6,(K$4:K7<G8)*K$4:K7,1),"")} | AL7: =IF(ISNUMBER(AK7),ABS(IF(SUM(AK7-ref!E$9)>0,0,SUM(AK7-ref!E$9))),"")
B8: mois | C8: Vscolaire | E8: =E7+1 -> 43833 | F8: récupération | G8: =IF(AND(J8="",H8=""),"",E8+H8) | I8: =SUM(V8+AA8+AC8) -> 0 | K8: =IF(AND(H8="",J8=""),"",E8+J8+(H8>J8)) | L8: =IF(OR(F8="télétravail",F8="férié travaillé",F8="travail"),(J8-H8+IF(H8>J8,1)-I8),INDEX(ref!$E$22:'ref'!$E$37,MATCH(F8,gerald3,0))) -> 0.29166667 | M8: =IF(SUM(L8-ref!E$8)<0,0,SUM(L8-ref!E$8)) -> 0 | N8: =L8-(hs!D7+hs!F7+hs!H7+hs!J7) -> 0.29166667 | O8: =IF(OR(F8="férié travaillé",F8="travail",F8="asa",F8="rtt"),J8-H8+IF(H8>J8,1),INDEX(ref!$E$22:'ref'!$E$37,MATCH(F8,gerald2,0))) -> 0.29166667 | P8: =IF(SUM(O8-ref!E$4)<0,0,SUM(O8-ref!E$4)) -> 0 | Q8: =Q7+L8 -> 1.1666667 | V8: =U8-T8 -> 0 | W8: =IF(V8="","",IF(SUM(V8-ref!E$38)>0,0,IF(V8=0, "0:00", SUM(V8-ref!E$38)))) -> 0:00 | AA8: =Z8-Y8 -> 0 | AB8: =IF(AA8="","",IF(SUM(AA8-ref!E$38)>0,0,IF(AA8=0, "0:00", SUM(AA8-ref!E$38)))) -> 0:00 | AE8: =Q11 -> 1.4583333 | AF8: =IF(AND(H8<>"",J8<>""),1,0+OR(N(J7)<N(H7),F8="récupération",F8="congé 1 jour",F8="congé 1/2 jour ",F8="congé 5h24",F8="arrêt maladie",F8="arrêt travail",F8="férié ",F8="congé parentale",F8="congé de naissance")) -> 1 | AH8: J4 | AI8: à | AJ8: J5 | AK8: {=IF(ISNUMBER(G9),G9-_xlfn.AGGREGATE(14,6,(K$4:K8<G9)*K$4:K8,1),"")} | AL8: =IF(ISNUMBER(AK8),ABS(IF(SUM(AK8-ref!E$9)>0,0,SUM(AK8-ref!E$9))),"")
B9: 1 | C9: Vscolaire | E9: =E8+1 -> 43834 | F9: récupération | G9: =IF(AND(J9="",H9=""),"",E9+H9) | I9: =SUM(V9+AA9+AC9) -> 0 | K9: =IF(AND(H9="",J9=""),"",E9+J9+(H9>J9)) | L9: =IF(OR(F9="télétravail",F9="férié travaillé",F9="travail"),(J9-H9+IF(H9>J9,1)-I9),INDEX(ref!$E$22:'ref'!$E$37,MATCH(F9,gerald3,0))) -> 0.29166667 | M9: =IF(SUM(L9-ref!E$8)<0,0,SUM(L9-ref!E$8)) -> 0 | N9: =L9-(hs!D8+hs!F8+hs!H8+hs!J8) -> 0.29166667 | O9: =IF(OR(F9="férié travaillé",F9="travail",F9="asa",F9="rtt"),J9-H9+IF(H9>J9,1),INDEX(ref!$E$22:'ref'!$E$37,MATCH(F9,gerald2,0))) -> 0.29166667 | P9: =IF(SUM(O9-ref!E$4)<0,0,SUM(O9-ref!E$4)) -> 0 | Q9: =Q8+L9 -> 1.4583333 | V9: =U9-T9 -> 0 | W9: =IF(V9="","",IF(SUM(V9-ref!E$38)>0,0,IF(V9=0, "0:00", SUM(V9-ref!E$38)))) -> 0:00 | AA9: =Z9-Y9 -> 0 | AB9: =IF(AA9="","",IF(SUM(AA9-ref!E$38)>0,0,IF(AA9=0, "0:00", SUM(AA9-ref!E$38)))) -> 0:00 | AE9: H semaine hc de | AF9: =IF(AND(H9<>"",J9<>""),1,0+OR(N(J8)<N(H8),F9="récupération",F9="congé 1 jour",F9="congé 1/2 jour ",F9="congé 5h24",F9="arrêt maladie",F9="arrêt travail",F9="férié ",F9="congé parentale",F9="congé de naissance")) -> 1 | AH9: J5 | AI9: à | AJ9: J6 | AK9: {=IF(ISNUMBER(G10),G10-_xlfn.AGGREGATE(14,6,(K$4:K9<G10)*K$4:K9,1),"")} | AL9: =IF(ISNUMBER(AK9),ABS(IF(SUM(AK9-ref!E$9)>0,0,SUM(AK9-ref!E$9))),"")
E10: =E9+1 -> 43835 | F10: off | G10: =IF(AND(J10="",H10=""),"",E10+H10) | I10: =SUM(V10+AA10+AC10) -> 0 | K10: =IF(AND(H10="",J10=""),"",E10+J10+(H10>J10)) | L10: =IF(OR(F10="télétravail",F10="férié travaillé",F10="travail"),(J10-H10+IF(H10>J10,1)-I10),INDEX(ref!$E$22:'ref'!$E$37,MATCH(F10,gerald3,0))) -> 0 | M10: =IF(SUM(L10-ref!E$8)<0,0,SUM(L10-ref!E$8)) -> 0 | N10: =L10-(hs!D9+hs!F9+hs!H9+hs!J9) -> 0 | O10: =IF(OR(F10="férié travaillé",F10="travail",F10="asa",F10="rtt"),J10-H10+IF(H10>J10,1),INDEX(ref!$E$22:'ref'!$E$37,MATCH(F10,gerald2,0))) -> 0 | P10: =IF(SUM(O10-ref!E$4)<0,0,SUM(O10-ref!E$4)) -> 0 | Q10: =Q9+L10 -> 1.4583333 | V10: =U10-T10 -> 0 | W10: =IF(V10="","",IF(SUM(V10-ref!E$38)>0,0,IF(V10=0, "0:00", SUM(V10-ref!E$38)))) -> 0:00 | AA10: =Z10-Y10 -> 0 | AB10: =IF(AA10="","",IF(SUM(AA10-ref!E$38)>0,0,IF(AA10=0, "0:00", SUM(AA10-ref!E$38)))) -> 0:00 | AE10: =ref!E$11 -> 2 | AF10: =IF(AND(H10<>"",J10<>""),1,0+OR(N(J9)<N(H9),F10="récupération",F10="congé 1 jour",F10="congé 1/2 jour ",F10="congé 5h24",F10="arrêt maladie",F10="arrêt travail",F10="férié ",F10="congé parentale",F10="congé de naissance")) -> 0 | AH10: J6 | AI10: à | AJ10: J7 | AK10: {=IF(ISNUMBER(G11),G11-_xlfn.AGGREGATE(14,6,(K$4:K10<G11)*K$4:K10,1),"")} | AL10: =IF(ISNUMBER(AK10),ABS(IF(SUM(AK10-ref!E$9)>0,0,SUM(AK10-ref!E$9))),"")
E11: =E10+1 -> 43836 | F11: off | G11: =IF(AND(J11="",H11=""),"",E11+H11) | I11: =SUM(V11+AA11+AC11) -> 0 | K11: =IF(AND(H11="",J11=""),"",E11+J11+(H11>J11)) | L11: =IF(OR(F11="télétravail",F11="férié travaillé",F11="travail"),(J11-H11+IF(H11>J11,1)-I11),INDEX(ref!$E$22:'ref'!$E$37,MATCH(F11,gerald3,0))) -> 0 | M11: =IF(SUM(L11-ref!E$8)<0,0,SUM(L11-ref!E$8)) -> 0 | N11: =L11-(hs!D10+hs!F10+hs!H10+hs!J10) -> 0 | O11: =IF(OR(F11="férié travaillé",F11="travail",F11="asa",F11="rtt"),J11-H11+IF(H11>J11,1),INDEX(ref!$E$22:'ref'!$E$37,MATCH(F11,gerald2,0))) -> 0 | P11: =IF(SUM(O11-ref!E$4)<0,0,SUM(O11-ref!E$4)) -> 0 | Q11: =Q10+L11 -> 1.4583333 | V11: =U11-T11 -> 0 | W11: =IF(V11="","",IF(SUM(V11-ref!E$38)>0,0,IF(V11=0, "0:00", SUM(V11-ref!E$38)))) -> 0:00 | AA11: =Z11-Y11 -> 0 | AB11: =IF(AA11="","",IF(SUM(AA11-ref!E$38)>0,0,IF(AA11=0, "0:00", SUM(AA11-ref!E$38)))) -> 0:00 | AE11: =IF(SUM(Q11-ref!E$11)<0,0,SUM(Q11-ref!E$11)) -> 0 | AF11: =IF(AND(H11<>"",J11<>""),1,0+OR(N(J10)<N(H10),F11="récupération",F11="congé 1 jour",F11="congé 1/2 jour ",F11="congé 5h24",F11="arrêt maladie",F11="arrêt travail",F11="férié ",F11="congé parentale",F11="congé de naissance")) -> 0
B15: date | C15: travail | E15: =DATE(ref!E$2,B19,B17) -> 43837 | F15: travail | G15: =IF(AND(J15="",H15=""),"",E15+H15) -> 43837.375 | H15: 0.375 | I15: =SUM(V15+AA15+AC15) -> 0.034027778 | J15: 0.70833333 | K15: =IF(AND(H15="",J15=""),"",E15+J15+(H15>J15)) -> 43837.708 | L15: =IF(OR(F15="télétravail",F15="férié travaillé",F15="travail"),(J15-H15+IF(H15>J15,1)-I15),INDEX(ref!$E$22:'ref'!$E$37,MATCH(F15,gerald3,0))) -> 0.29930556 | M15: =IF(SUM(L15-ref!E$8)<0,0,SUM(L15-ref!E$8)) -> 0 | N15: =L15-(hs!D14+hs!F14+hs!H14+hs!J14) -> -0.034027778 | O15: =IF(OR(F15="férié travaillé",F15="travail",F15="asa",F15="rtt"),J15-H15+IF(H15>J15,1),INDEX(ref!$E$22:'ref'!$E$37,MATCH(F15,gerald2,0))) -> 0.33333333 | P15: =IF(SUM(O15-ref!E$4)<0,0,SUM(O15-ref!E$4)) -> 0 | Q15: =L15 -> 0.29930556 | T15: 0.52152778 | U15: 0.55555556 | V15: =U15-T15 -> 0.034027778 | W15: =IF(V15="","",IF(SUM(V15-ref!E$38)>0,0,IF(V15=0, "0:00", SUM(V15-ref!E$38)))) -> 0 | AA15: =Z15-Y15 -> 0 | AB15: =IF(AA15="","",IF(SUM(AA15-ref!E$38)>0,0,IF(AA15=0, "0:00", SUM(AA15-ref!E$38)))) -> 0:00 | AE15: =SUM(AF15:AF21) -> 5 | AF15: =IF(AND(H15<>"",J15<>""),1,0+OR(N(J14)<N(H14),F15="récupération",F15="congé 1 jour",F15="congé 1/2 jour ",F15="congé 5h24",F15="arrêt maladie",F15="arrêt travail",F15="férié ",F15="congé parentale",F15="congé de naissance")) -> 1 | AH15: J1 | AI15: à | AJ15: J2 | AK15: {=IF(ISNUMBER(G16),G16-_xlfn.AGGREGATE(14,6,(K$4:K15<G16)*K$4:K15,1),"")} -> 0.66944444 | AL15: =IF(ISNUMBER(AK15),ABS(IF(SUM(AK15-ref!E$9)>0,0,SUM(AK15-ref!E$9))),"") -> 0
B16: date | C16: travail | E16: =E15+1 -> 43838 | F16: travail | G16: =IF(AND(J16="",H16=""),"",E16+H16) -> 43838.378 | H16: 0.37777778 | I16: =SUM(V16+AA16+AC16) -> 0.035416667 | J16: 0.76180556 | K16: =IF(AND(H16="",J16=""),"",E16+J16+(H16>J16)) -> 43838.762 | L16: =IF(OR(F16="télétravail",F16="férié travaillé",F16="travail"),(J16-H16+IF(H16>J16,1)-I16),INDEX(ref!$E$22:'ref'!$E$37,MATCH(F16,gerald3,0))) -> 0.34861111 | M16: =IF(SUM(L16-ref!E$8)<0,0,SUM(L16-ref!E$8)) -> 0 | N16: =L16-(hs!D15+hs!F15+hs!H15+hs!J15) -> -0.035416667 | O16: =IF(OR(F16="férié travaillé",F16="travail",F16="asa",F16="rtt"),J16-H16+IF(H16>J16,1),INDEX(ref!$E$22:'ref'!$E$37,MATCH(F16,gerald2,0))) -> 0.38402778 | P16: =IF(SUM(O16-ref!E$4)<0,0,SUM(O16-ref!E$4)) -> 0 | Q16: =Q15+L16 -> 0.64791667 | T16: 0.50625 | U16: 0.54166667 | V16: =U16-T16 -> 0.035416667 | W16: =IF(V16="","",IF(SUM(V16-ref!E$38)>0,0,IF(V16=0, "0:00", SUM(V16-ref!E$38)))) -> 0 | AA16: =Z16-Y16 -> 0 | AB16: =IF(AA16="","",IF(SUM(AA16-ref!E$38)>0,0,IF(AA16=0, "0:00", SUM(AA16-ref!E$38)))) -> 0:00 | AE16: =IF(SUM(AE15-ref!E$7)<0,0,SUM(AE15-ref!E$7)) -> 0 | AF16: =IF(AND(H16<>"",J16<>""),1,0+OR(N(J15)<N(H15),F16="récupération",F16="congé 1 jour",F16="congé 1/2 jour ",F16="congé 5h24",F16="arrêt maladie",F16="arrêt travail",F16="férié ",F16="congé parentale",F16="congé de naissance")) -> 1 | AH16: J2 | AI16: à | AJ16: J3 | AK16: {=IF(ISNUMBER(G17),G17-_xlfn.AGGREGATE(14,6,(K$4:K16<G17)*K$4:K16,1),"")} -> 0.63333333 | AL16: =IF(ISNUMBER(AK16),ABS(IF(SUM(AK16-ref!E$9)>0,0,SUM(AK16-ref!E$9))),"") -> 0
B17: 8 | C17: travail | E17: =E16+1 -> 43839 | F17: travail | G17: =IF(AND(J17="",H17=""),"",E17+H17) -> 43839.395 | H17: 0.39513889 | I17: =SUM(V17+AA17+AC17) -> 0.036805556 | J17: 0.78333333 | K17: =IF(AND(H17="",J17=""),"",E17+J17+(H17>J17)) -> 43839.783 | L17: =IF(OR(F17="télétravail",F17="férié travaillé",F17="travail"),(J17-H17+IF(H17>J17,1)-I17),INDEX(ref!$E$22:'ref'!$E$37,MATCH(F17,gerald3,0))) -> 0.35138889 | M17: =IF(SUM(L17-ref!E$8)<0,0,SUM(L17-ref!E$8)) -> 0 | N17: =L17-(hs!D16+hs!F16+hs!H16+hs!J16) -> -0.049305556 | O17: =IF(OR(F17="férié travaillé",F17="travail",F17="asa",F17="rtt"),J17-H17+IF(H17>J17,1),INDEX(ref!$E$22:'ref'!$E$37,MATCH(F17,gerald2,0))) -> 0.38819444 | P17: =IF(SUM(O17-ref!E$4)<0,0,SUM(O17-ref!E$4)) -> 0 | Q17: =Q16+L17 -> 0.99930556 | T17: 0.52152778 | U17: 0.55833333 | V17: =U17-T17 -> 0.036805556 | W17: =IF(V17="","",IF(SUM(V17-ref!E$38)>0,0,IF(V17=0, "0:00", SUM(V17-ref!E$38)))) -> 0 | AA17: =Z17-Y17 -> 0 | AB17: =IF(AA17="","",IF(SUM(AA17-ref!E$38)>0,0,IF(AA17=0, "0:00", SUM(AA17-ref!E$38)))) -> 0:00 | AE17: H semaine | AF17: =IF(AND(H17<>"",J17<>""),1,0+OR(N(J16)<N(H16),F17="récupération",F17="congé 1 jour",F17="congé 1/2 jour ",F17="congé 5h24",F17="arrêt maladie",F17="arrêt travail",F17="férié ",F17="congé parentale",F17="congé de naissance")) -> 1 | AH17: J3 | AI17: à | AJ17: J4 | AK17: {=IF(ISNUMBER(G18),G18-_xlfn.AGGREGATE(14,6,(K$4:K17<G18)*K$4:K17,1),"")} -> 0.60347222 | AL17: =IF(ISNUMBER(AK17),ABS(IF(SUM(AK17-ref!E$9)>0,0,SUM(AK17-ref!E$9))),"") -> 0
B18: mois | C18: travail | E18: =E17+1 -> 43840 | F18: travail | G18: =IF(AND(J18="",H18=""),"",E18+H18) -> 43840.387 | H18: 0.38680556 | I18: =SUM(V18+AA18+AC18) -> 0.033333333 | J18: 0.74444444 | K18: =IF(AND(H18="",J18=""),"",E18+J18+(H18>J18)) -> 43840.744 | L18: =IF(OR(F18="télétravail",F18="férié travaillé",F18="travail"),(J18-H18+IF(H18>J18,1)-I18),INDEX(ref!$E$22:'ref'!$E$37,MATCH(F18,gerald3,0))) -> 0.32430556 | M18: =IF(SUM(L18-ref!E$8)<0,0,SUM(L18-ref!E$8)) -> 0 | N18: =L18-(hs!D17+hs!F17+hs!H17+hs!J17) -> -0.033333333 | O18: =IF(OR(F18="férié travaillé",F18="travail",F18="asa",F18="rtt"),J18-H18+IF(H18>J18,1),INDEX(ref!$E$22:'ref'!$E$37,MATCH(F18,gerald2,0))) -> 0.35763889 | P18: =IF(SUM(O18-ref!E$4)<0,0,SUM(O18-ref!E$4)) -> 0 | Q18: =Q17+L18 -> 1.3236111 | T18: 0.51875 | U18: 0.55208333 | V18: =U18-T18 -> 0.033333333 | W18: =IF(V18="","",IF(SUM(V18-ref!E$38)>0,0,IF(V18=0, "0:00", SUM(V18-ref!E$38)))) -> 0 | AA18: =Z18-Y18 -> 0 | AB18: =IF(AA18="","",IF(SUM(AA18-ref!E$38)>0,0,IF(AA18=0, "0:00", SUM(AA18-ref!E$38)))) -> 0:00 | AE18: =Q21 -> 1.6743056 | AF18: =IF(AND(H18<>"",J18<>""),1,0+OR(N(J17)<N(H17),F18="récupération",F18="congé 1 jour",F18="congé 1/2 jour ",F18="congé 5h24",F18="arrêt maladie",F18="arrêt travail",F18="férié ",F18="congé parentale",F18="congé de naissance")) -> 1 | AH18: J4 | AI18: à | AJ18: J5 | AK18: {=IF(ISNUMBER(G19),G19-_xlfn.AGGREGATE(14,6,(K$4:K18<G19)*K$4:K18,1),"")} -> 0.63055556 | AL18: =IF(ISNUMBER(AK18),ABS(IF(SUM(AK18-ref!E$9)>0,0,SUM(AK18-ref!E$9))),"") -> 0
B19: 1 | C19: travail | E19: =E18+1 -> 43841 | F19: travail | G19: =IF(AND(J19="",H19=""),"",E19+H19) -> 43841.375 | H19: 0.375 | I19: =SUM(V19+AA19+AC19) -> 0.020833333 | J19: 0.74652778 | K19: =IF(AND(H19="",J19=""),"",E19+J19+(H19>J19)) -> 43841.747 | L19: =IF(OR(F19="télétravail",F19="férié travaillé",F19="travail"),(J19-H19+IF(H19>J19,1)-I19),INDEX(ref!$E$22:'ref'!$E$37,MATCH(F19,gerald3,0))) -> 0.35069444 | M19: =IF(SUM(L19-ref!E$8)<0,0,SUM(L19-ref!E$8)) -> 0 | N19: =L19-(hs!D18+hs!F18+hs!H18+hs!J18) -> -0.020833333 | O19: =IF(OR(F19="férié travaillé",F19="travail",F19="asa",F19="rtt"),J19-H19+IF(H19>J19,1),INDEX(ref!$E$22:'ref'!$E$37,MATCH(F19,gerald2,0))) -> 0.37152778 | P19: =IF(SUM(O19-ref!E$4)<0,0,SUM(O19-ref!E$4)) -> 0 | Q19: =Q18+L19 -> 1.6743056 | T19: 0.55555556 | U19: 0.57638889 | V19: =U19-T19 -> 0.020833333 | W19: =IF(V19="","",IF(SUM(V19-ref!E$38)>0,0,IF(V19=0, "0:00", SUM(V19-ref!E$38)))) -> -0.010416667 | AA19: =Z19-Y19 -> 0 | AB19: =IF(AA19="","",IF(SUM(AA19-ref!E$38)>0,0,IF(AA19=0, "0:00", SUM(AA19-ref!E$38)))) -> 0:00 | AE19: H semaine hc de | AF19: =IF(AND(H19<>"",J19<>""),1,0+OR(N(J18)<N(H18),F19="récupération",F19="congé 1 jour",F19="congé 1/2 jour ",F19="congé 5h24",F19="arrêt maladie",F19="arrêt travail",F19="férié ",F19="congé parentale",F19="congé de naissance")) -> 1 | AH19: J5 | AI19: à | AJ19: J6 | AK19: {=IF(ISNUMBER(G20),G20-_xlfn.AGGREGATE(14,6,(K$4:K19<G20)*K$4:K19,1),"")} | AL19: =IF(ISNUMBER(AK19),ABS(IF(SUM(AK19-ref!E$9)>0,0,SUM(AK19-ref!E$9))),"")
E20: =E19+1 -> 43842 | F20: off | G20: =IF(AND(J20="",H20=""),"",E20+H20) | I20: =SUM(V20+AA20+AC20) -> 0 | K20: =IF(AND(H20="",J20=""),"",E20+J20+(H20>J20)) | L20: =IF(OR(F20="télétravail",F20="férié travaillé",F20="travail"),(J20-H20+IF(H20>J20,1)-I20),INDEX(ref!$E$22:'ref'!$E$37,MATCH(F20,gerald3,0))) -> 0 | M20: =IF(SUM(L20-ref!E$8)<0,0,SUM(L20-ref!E$8)) -> 0 | N20: =L20-(hs!D19+hs!F19+hs!H19+hs!J19) -> 0 | O20: =IF(OR(F20="férié travaillé",F20="travail",F20="asa",F20="rtt"),J20-H20+IF(H20>J20,1),INDEX(ref!$E$22:'ref'!$E$37,MATCH(F20,gerald2,0))) -> 0 | P20: =IF(SUM(O20-ref!E$4)<0,0,SUM(O20-ref!E$4)) -> 0 | Q20: =Q19+L20 -> 1.6743056 | V20: =U20-T20 -> 0 | W20: =IF(V20="","",IF(SUM(V20-ref!E$38)>0,0,IF(V20=0, "0:00", SUM(V20-ref!E$38)))) -> 0:00 | AA20: =Z20-Y20 -> 0 | AB20: =IF(AA20="","",IF(SUM(AA20-ref!E$38)>0,0,IF(AA20=0, "0:00", SUM(AA20-ref!E$38)))) -> 0:00 | AE20: =ref!E$11 -> 2 | AF20: =IF(AND(H20<>"",J20<>""),1,0+OR(N(J19)<N(H19),F20="récupération",F20="congé 1 jour",F20="congé 1/2 jour ",F20="congé 5h24",F20="arrêt maladie",F20="arrêt travail",F20="férié ",F20="congé parentale",F20="congé de naissance")) -> 0 | AH20: J6 | AI20: à | AJ20: J7 | AK20: {=IF(ISNUMBER(G21),G21-_xlfn.AGGREGATE(14,6,(K$4:K20<G21)*K$4:K20,1),"")} | AL20: =IF(ISNUMBER(AK20),ABS(IF(SUM(AK20-ref!E$9)>0,0,SUM(AK20-ref!E$9))),"")
E21: =E20+1 -> 43843 | F21: off | G21: =IF(AND(J21="",H21=""),"",E21+H21) | I21: =SUM(V21+AA21+AC21) -> 0 | K21: =IF(AND(H21="",J21=""),"",E21+J21+(H21>J21)) | L21: =IF(OR(F21="télétravail",F21="férié travaillé",F21="travail"),(J21-H21+IF(H21>J21,1)-I21),INDEX(ref!$E$22:'ref'!$E$37,MATCH(F21,gerald3,0))) -> 0 | M21: =IF(SUM(L21-ref!E$8)<0,0,SUM(L21-ref!E$8)) -> 0 | N21: =L21-(hs!D20+hs!F20+hs!H20+hs!J20) -> 0 | O21: =IF(OR(F21="férié travaillé",F21="travail",F21="asa",F21="rtt"),J21-H21+IF(H21>J21,1),INDEX(ref!$E$22:'ref'!$E$37,MATCH(F21,gerald2,0))) -> 0 | P21: =IF(SUM(O21-ref!E$4)<0,0,SUM(O21-ref!E$4)) -> 0 | Q21: =Q20+L21 -> 1.6743056 | V21: =U21-T21 -> 0 | W21: =IF(V21="","",IF(SUM(V21-ref!E$38)>0,0,IF(V21=0, "0:00", SUM(V21-ref!E$38)))) -> 0:00 | AA21: =Z21-Y21 -> 0 | AB21: =IF(AA21="","",IF(SUM(AA21-ref!E$38)>0,0,IF(AA21=0, "0:00", SUM(AA21-ref!E$38)))) -> 0:00 | AE21: =IF(SUM(Q21-ref!E$11)<0,0,SUM(Q21-ref!E$11)) -> 0 | AF21: =IF(AND(H21<>"",J21<>""),1,0+OR(N(J20)<N(H20),F21="récupération",F21="congé 1 jour",F21="congé 1/2 jour ",F21="congé 5h24",F21="arrêt maladie",F21="arrêt travail",F21="férié ",F21="congé parentale",F21="congé de naissance")) -> 0
B25: date | C25: travail | E25: =DATE(ref!E$2,B29,B27) -> 43844 | F25: travail | G25: =IF(AND(J25="",H25=""),"",E25+H25) -> 43844.378 | H25: 0.37777778 | I25: =SUM(V25+AA25+AC25) -> 0.033333333 | J25: 0.71180556 | K25: =IF(AND(H25="",J25=""),"",E25+J25+(H25>J25)) -> 43844.712 | L25: =IF(OR(F25="télétravail",F25="férié travaillé",F25="travail"),(J25-H25+IF(H25>J25,1)-I25),INDEX(ref!$E$22:'ref'!$E$37,MATCH(F25,gerald3,0))) -> 0.30069444 | M25: =IF(SUM(L25-ref!E$8)<0,0,SUM(L25-ref!E$8)) -> 0 | N25: =L25-(hs!D24+hs!F24+hs!H24+hs!J24) -> -0.033333333 | O25: =IF(OR(F25="férié travaillé",F25="travail",F25="asa",F25="rtt"),J25-H25+IF(H25>J25,1),INDEX(ref!$E$22:'ref'!$E$37,MATCH(F25,gerald2,0))) -> 0.33402778 | P25: =IF(SUM(O25-ref!E$4)<0,0,SUM(O25-ref!E$4)) -> 0 | Q25: =L25 -> 0.30069444 | T25: 0.53958333 | U25: 0.57291667 | V25: =U25-T25 -> 0.033333333 | W25: =IF(V25="","",IF(SUM(V25-ref!E$38)>0,0,IF(V25=0, "0:00", SUM(V25-ref!E$38)))) -> 0 | AA25: =Z25-Y25 -> 0 | AB25: =IF(AA25="","",IF(SUM(AA25-ref!E$38)>0,0,IF(AA25=0, "0:00", SUM(AA25-ref!E$38)))) -> 0:00 | AE25: =SUM(AF25:AF31) -> 6 | AF25: =IF(AND(H25<>"",J25<>""),1,0+OR(N(J24)<N(H24),F25="récupération",F25="congé 1 jour",F25="congé 1/2 jour ",F25="congé 5h24",F25="arrêt maladie",F25="arrêt travail",F25="férié ",F25="congé parentale",F25="congé de naissance")) -> 1 | AH25: J1 | AI25: à | AJ25: J2 | AK25: {=IF(ISNUMBER(G26),G26-_xlfn.AGGREGATE(14,6,(K$4:K25<G26)*K$4:K25,1),"")} -> 0.66875 | AL25: =IF(ISNUMBER(AK25),ABS(IF(SUM(AK25-ref!E$9)>0,0,SUM(AK25-ref!E$9))),"") -> 0
B26: date | C26: travail | E26: =E25+1 -> 43845 | F26: travail | G26: =IF(AND(J26="",H26=""),"",E26+H26) -> 43845.381 | H26: 0.38055556 | I26: =SUM(V26+AA26+AC26) -> 0.032638889 | J26: 0.85555556 | K26: =IF(AND(H26="",J26=""),"",E26+J26+(H26>J26)) -> 43845.856 | L26: =IF(OR(F26="télétravail",F26="férié travaillé",F26="travail"),(J26-H26+IF(H26>J26,1)-I26),INDEX(ref!$E$22:'ref'!$E$37,MATCH(F26,gerald3,0))) -> 0.44236111 | M26: =IF(SUM(L26-ref!E$8)<0,0,SUM(L26-ref!E$8)) -> 0.025694444 | N26: =L26-(hs!D25+hs!F25+hs!H25+hs!J25) -> -0.11736111 | O26: =IF(OR(F26="férié travaillé",F26="travail",F26="asa",F26="rtt"),J26-H26+IF(H26>J26,1),INDEX(ref!$E$22:'ref'!$E$37,MATCH(F26,gerald2,0))) -> 0.475 | P26: =IF(SUM(O26-ref!E$4)<0,0,SUM(O26-ref!E$4)) -> 0 | Q26: =Q25+L26 -> 0.74305556 | T26: 0.50972222 | U26: 0.54236111 | V26: =U26-T26 -> 0.032638889 | W26: =IF(V26="","",IF(SUM(V26-ref!E$38)>0,0,IF(V26=0, "0:00", SUM(V26-ref!E$38)))) -> 0 | AA26: =Z26-Y26 -> 0 | AB26: =IF(AA26="","",IF(SUM(AA26-ref!E$38)>0,0,IF(AA26=0, "0:00", SUM(AA26-ref!E$38)))) -> 0:00 | AE26: =IF(SUM(AE25-ref!E$7)<0,0,SUM(AE25-ref!E$7)) -> 0 | AF26: =IF(AND(H26<>"",J26<>""),1,0+OR(N(J25)<N(H25),F26="récupération",F26="congé 1 jour",F26="congé 1/2 jour ",F26="congé 5h24",F26="arrêt maladie",F26="arrêt travail",F26="férié ",F26="congé parentale",F26="congé de naissance")) -> 1 | AH26: J2 | AI26: à | AJ26: J3 | AK26: {=IF(ISNUMBER(G27),G27-_xlfn.AGGREGATE(14,6,(K$4:K26<G27)*K$4:K26,1),"")} -> 0.57222222 | AL26: =IF(ISNUMBER(AK26),ABS(IF(SUM(AK26-ref!E$9)>0,0,SUM(AK26-ref!E$9))),"") -> 0
B27: 15 | C27: travail | E27: =E26+1 -> 43846 | F27: travail | G27: =IF(AND(J27="",H27=""),"",E27+H27) -> 43846.428 | H27: 0.42777778 | I27: =SUM(V27+AA27+AC27) -> 0.034722222 | J27: 0.78333333 | K27: =IF(AND(H27="",J27=""),"",E27+J27+(H27>J27)) -> 43846.783 | L27: =IF(OR(F27="télétravail",F27="férié travaillé",F27="travail"),(J27-H27+IF(H27>J27,1)-I27),INDEX(ref!$E$22:'ref'!$E$37,MATCH(F27,gerald3,0))) -> 0.32083333 | M27: =IF(SUM(L27-ref!E$8)<0,0,SUM(L27-ref!E$8)) -> 0 | N27: =L27-(hs!D26+hs!F26+hs!H26+hs!J26) -> -0.047222222 | O27: =IF(OR(F27="férié travaillé",F27="travail",F27="asa",F27="rtt"),J27-H27+IF(H27>J27,1),INDEX(ref!$E$22:'ref'!$E$37,MATCH(F27,gerald2,0))) -> 0.35555556 | P27: =IF(SUM(O27-ref!E$4)<0,0,SUM(O27-ref!E$4)) -> 0 | Q27: =Q26+L27 -> 1.0638889 | T27: 0.51319444 | U27: 0.54791667 | V27: =U27-T27 -> 0.034722222 | W27: =IF(V27="","",IF(SUM(V27-ref!E$38)>0,0,IF(V27=0, "0:00", SUM(V27-ref!E$38)))) -> 0 | AA27: =Z27-Y27 -> 0 | AB27: =IF(AA27="","",IF(SUM(AA27-ref!E$38)>0,0,IF(AA27=0, "0:00", SUM(AA27-ref!E$38)))) -> 0:00 | AE27: H semaine | AF27: =IF(AND(H27<>"",J27<>""),1,0+OR(N(J26)<N(H26),F27="récupération",F27="congé 1 jour",F27="congé 1/2 jour ",F27="congé 5h24",F27="arrêt maladie",F27="arrêt travail",F27="férié ",F27="congé parentale",F27="congé de naissance")) -> 1 | AH27: J3 | AI27: à | AJ27: J4 | AK27: {=IF(ISNUMBER(G28),G28-_xlfn.AGGREGATE(14,6,(K$4:K27<G28)*K$4:K27,1),"")} -> 0.59166667 | AL27: =IF(ISNUMBER(AK27),ABS(IF(SUM(AK27-ref!E$9)>0,0,SUM(AK27-ref!E$9))),"") -> 0
B28: mois | C28: travail | E28: =E27+1 -> 43847 | F28: travail | G28: =IF(AND(J28="",H28=""),"",E28+H28) -> 43847.375 | H28: 0.375 | I28: =SUM(V28+AA28+AC28) -> 0.03125 | J28: 0.775 | K28: =IF(AND(H28="",J28=""),"",E28+J28+(H28>J28)) -> 43847.775 | L28: =IF(OR(F28="télétravail",F28="férié travaillé",F28="travail"),(J28-H28+IF(H28>J28,1)-I28),INDEX(ref!$E$22:'ref'!$E$37,MATCH(F28,gerald3,0))) -> 0.36875 | M28: =IF(SUM(L28-ref!E$8)<0,0,SUM(L28-ref!E$8)) -> 0 | N28: =L28-(hs!D27+hs!F27+hs!H27+hs!J27) -> -0.035416667 | O28: =IF(OR(F28="férié travaillé",F28="travail",F28="asa",F28="rtt"),J28-H28+IF(H28>J28,1),INDEX(ref!$E$22:'ref'!$E$37,MATCH(F28,gerald2,0))) -> 0.4 | P28: =IF(SUM(O28-ref!E$4)<0,0,SUM(O28-ref!E$4)) -> 0 | Q28: =Q27+L28 -> 1.4326389 | T28: 0.54166667 | U28: 0.57291667 | V28: =U28-T28 -> 0.03125 | W28: =IF(V28="","",IF(SUM(V28-ref!E$38)>0,0,IF(V28=0, "0:00", SUM(V28-ref!E$38)))) -> 0 | AA28: =Z28-Y28 -> 0 | AB28: =IF(AA28="","",IF(SUM(AA28-ref!E$38)>0,0,IF(AA28=0, "0:00", SUM(AA28-ref!E$38)))) -> 0:00 | AE28: =Q31 -> 2.0881944 | AF28: =IF(AND(H28<>"",J28<>""),1,0+OR(N(J27)<N(H27),F28="récupération",F28="congé 1 jour",F28="congé 1/2 jour ",F28="congé 5h24",F28="arrêt maladie",F28="arrêt travail",F28="férié ",F28="congé parentale",F28="congé de naissance")) -> 1 | AH28: J4 | AI28: à | AJ28: J5 | AK28: {=IF(ISNUMBER(G29),G29-_xlfn.AGGREGATE(14,6,(K$4:K28<G29)*K$4:K28,1),"")} -> 0.60347222 | AL28: =IF(ISNUMBER(AK28),ABS(IF(SUM(AK28-ref!E$9)>0,0,SUM(AK28-ref!E$9))),"") -> 0
B29: 1 | C29: travail | E29: =E28+1 -> 43848 | F29: travail | G29: =IF(AND(J29="",H29=""),"",E29+H29) -> 43848.378 | H29: 0.37847222 | I29: =SUM(V29+AA29+AC29) -> 0.020138889 | J29: 0.76736111 | K29: =IF(AND(H29="",J29=""),"",E29+J29+(H29>J29)) -> 43848.767 | L29: =IF(OR(F29="télétravail",F29="férié travaillé",F29="travail"),(J29-H29+IF(H29>J29,1)-I29),INDEX(ref!$E$22:'ref'!$E$37,MATCH(F29,gerald3,0))) -> 0.36875 | M29: =IF(SUM(L29-ref!E$8)<0,0,SUM(L29-ref!E$8)) -> 0 | N29: =L29-(hs!D28+hs!F28+hs!H28+hs!J28) -> -0.020138889 | O29: =IF(OR(F29="férié travaillé",F29="travail",F29="asa",F29="rtt"),J29-H29+IF(H29>J29,1),INDEX(ref!$E$22:'ref'!$E$37,MATCH(F29,gerald2,0))) -> 0.38888889 | P29: =IF(SUM(O29-ref!E$4)<0,0,SUM(O29-ref!E$4)) -> 0 | Q29: =Q28+L29 -> 1.8013889 | T29: 0.57291667 | U29: 0.59305556 | V29: =U29-T29 -> 0.020138889 | W29: =IF(V29="","",IF(SUM(V29-ref!E$38)>0,0,IF(V29=0, "0:00", SUM(V29-ref!E$38)))) -> -0.011111111 | AA29: =Z29-Y29 -> 0 | AB29: =IF(AA29="","",IF(SUM(AA29-ref!E$38)>0,0,IF(AA29=0, "0:00", SUM(AA29-ref!E$38)))) -> 0:00 | AE29: H semaine hc de | AF29: =IF(AND(H29<>"",J29<>""),1,0+OR(N(J28)<N(H28),F29="récupération",F29="congé 1 jour",F29="congé 1/2 jour ",F29="congé 5h24",F29="arrêt maladie",F29="arrêt travail",F29="férié ",F29="congé parentale",F29="congé de naissance")) -> 1 | AH29: J5 | AI29: à | AJ29: J6 | AK29: {=IF(ISNUMBER(G30),G30-_xlfn.AGGREGATE(14,6,(K$4:K29<G30)*K$4:K29,1),"")} -> 0.80347222 | AL29: =IF(ISNUMBER(AK29),ABS(IF(SUM(AK29-ref!E$9)>0,0,SUM(AK29-ref!E$9))),"") -> 0
E30: =E29+1 -> 43849 | F30: travail | G30: =IF(AND(J30="",H30=""),"",E30+H30) -> 43849.571 | H30: 0.57083333 | I30: =SUM(V30+AA30+AC30) -> 0 | J30: 0.85763889 | K30: =IF(AND(H30="",J30=""),"",E30+J30+(H30>J30)) -> 43849.858 | L30: =IF(OR(F30="télétravail",F30="férié travaillé",F30="travail"),(J30-H30+IF(H30>J30,1)-I30),INDEX(ref!$E$22:'ref'!$E$37,MATCH(F30,gerald3,0))) -> 0.28680556 | M30: =IF(SUM(L30-ref!E$8)<0,0,SUM(L30-ref!E$8)) -> 0 | N30: =L30-(hs!D29+hs!F29+hs!H29+hs!J29) -> -0.28680556 | O30: =IF(OR(F30="férié travaillé",F30="travail",F30="asa",F30="rtt"),J30-H30+IF(H30>J30,1),INDEX(ref!$E$22:'ref'!$E$37,MATCH(F30,gerald2,0))) -> 0.28680556 | P30: =IF(SUM(O30-ref!E$4)<0,0,SUM(O30-ref!E$4)) -> 0 | Q30: =Q29+L30 -> 2.0881944 | V30: =U30-T30 -> 0 | W30: =IF(V30="","",IF(SUM(V30-ref!E$38)>0,0,IF(V30=0, "0:00", SUM(V30-ref!E$38)))) -> 0:00 | AA30: =Z30-Y30 -> 0 | AB30: =IF(AA30="","",IF(SUM(AA30-ref!E$38)>0,0,IF(AA30=0, "0:00", SUM(AA30-ref!E$38)))) -> 0:00 | AE30: =ref!E$11 -> 2 | AF30: =IF(AND(H30<>"",J30<>""),1,0+OR(N(J29)<N(H29),F30="récupération",F30="congé 1 jour",F30="congé 1/2 jour ",F30="congé 5h24",F30="arrêt maladie",F30="arrêt travail",F30="férié ",F30="congé parentale",F30="congé de naissance")) -> 1 | AH30: J6 | AI30: à | AJ30: J7 | AK30: {=IF(ISNUMBER(G31),G31-_xlfn.AGGREGATE(14,6,(K$4:K30<G31)*K$4:K30,1),"")} | AL30: =IF(ISNUMBER(AK30),ABS(IF(SUM(AK30-ref!E$9)>0,0,SUM(AK30-ref!E$9))),"")
E31: =E30+1 -> 43850 | F31: off | G31: =IF(AND(J31="",H31=""),"",E31+H31) | I31: =SUM(V31+AA31+AC31) -> 0 | K31: =IF(AND(H31="",J31=""),"",E31+J31+(H31>J31)) | L31: =IF(OR(F31="télétravail",F31="férié travaillé",F31="travail"),(J31-H31+IF(H31>J31,1)-I31),INDEX(ref!$E$22:'ref'!$E$37,MATCH(F31,gerald3,0))) -> 0 | M31: =IF(SUM(L31-ref!E$8)<0,0,SUM(L31-ref!E$8)) -> 0 | N31: =L31-(hs!D30+hs!F30+hs!H30+hs!J30) -> 0 | O31: =IF(OR(F31="férié travaillé",F31="travail",F31="asa",F31="rtt"),J31-H31+IF(H31>J31,1),INDEX(ref!$E$22:'ref'!$E$37,MATCH(F31,gerald2,0))) -> 0 | P31: =IF(SUM(O31-ref!E$4)<0,0,SUM(O31-ref!E$4)) -> 0 | Q31: =Q30+L31 -> 2.0881944 | V31: =U31-T31 -> 0 | W31: =IF(V31="","",IF(SUM(V31-ref!E$38)>0,0,IF(V31=0, "0:00", SUM(V31-ref!E$38)))) -> 0:00 | AA31: =Z31-Y31 -> 0 | AB31: =IF(AA31="","",IF(SUM(AA31-ref!E$38)>0,0,IF(AA31=0, "0:00", SUM(AA31-ref!E$38)))) -> 0:00 | AE31: =IF(SUM(Q31-ref!E$11)<0,0,SUM(Q31-ref!E$11)) -> 0.088194444 | AF31: =IF(AND(H31<>"",J31<>""),1,0+OR(N(J30)<N(H30),F31="récupération",F31="congé 1 jour",F31="congé 1/2 jour ",F31="congé 5h24",F31="arrêt maladie",F31="arrêt travail",F31="férié ",F31="congé parentale",F31="congé de naissance")) -> 0
B35: date | C35: travail | E35: =DATE(ref!E$2,B39,B37) -> 43851 | F35: travail | G35: =IF(AND(J35="",H35=""),"",E35+H35) -> 43851.386 | H35: 0.38611111 | I35: =SUM(V35+AA35+AC35) -> 0.034027778 | J35: 0.70833333 | K35: =IF(AND(H35="",J35=""),"",E35+J35+(H35>J35)) -> 43851.708 | L35: =IF(OR(F35="télétravail",F35="férié travaillé",F35="travail"),(J35-H35+IF(H35>J35,1)-I35),INDEX(ref!$E$22:'ref'!$E$37,MATCH(F35,gerald3,0))) -> 0.28819444 | M35: =IF(SUM(L35-ref!E$8)<0,0,SUM(L35-ref!E$8)) -> 0 | N35: =L35-(hs!D34+hs!F34+hs!H34+hs!J34) -> -0.034027778 | O35: =IF(OR(F35="férié travaillé",F35="travail",F35="asa",F35="rtt"),J35-H35+IF(H35>J35,1),INDEX(ref!$E$22:'ref'!$E$37,MATCH(F35,gerald2,0))) -> 0.32222222 | P35: =IF(SUM(O35-ref!E$4)<0,0,SUM(O35-ref!E$4)) -> 0 | Q35: =L35 -> 0.28819444 | T35: 0.50763889 | U35: 0.54166667 | V35: =U35-T35 -> 0.034027778 | W35: =IF(V35="","",IF(SUM(V35-ref!E$38)>0,0,IF(V35=0, "0:00", SUM(V35-ref!E$38)))) -> 0 | AA35: =Z35-Y35 -> 0 | AB35: =IF(AA35="","",IF(SUM(AA35-ref!E$38)>0,0,IF(AA35=0, "0:00", SUM(AA35-ref!E$38)))) -> 0:00 | AE35: =SUM(AF35:AF41) -> 5 | AF35: =IF(AND(H35<>"",J35<>""),1,0+OR(N(J34)<N(H34),F35="récupération",F35="congé 1 jour",F35="congé 1/2 jour ",F35="congé 5h24",F35="arrêt maladie",F35="arrêt travail",F35="férié ",F35="congé parentale",F35="congé de naissance")) -> 1 | AH35: J1 | AI35: à | AJ35: J2 | AK35: {=IF(ISNUMBER(G36),G36-_xlfn.AGGREGATE(14,6,(K$4:K35<G36)*K$4:K35,1),"")} -> 0.66666667 | AL35: =IF(ISNUMBER(AK35),ABS(IF(SUM(AK35-ref!E$9)>0,0,SUM(AK35-ref!E$9))),"") -> 0
B36: date | C36: travail | E36: =E35+1 -> 43852 | F36: travail | G36: =IF(AND(J36="",H36=""),"",E36+H36) -> 43852.375 | H36: 0.375 | I36: =SUM(V36+AA36+AC36) -> 0.031944444 | J36: 0.71944444 | K36: =IF(AND(H36="",J36=""),"",E36+J36+(H36>J36)) -> 43852.719 | L36: =IF(OR(F36="télétravail",F36="férié travaillé",F36="travail"),(J36-H36+IF(H36>J36,1)-I36),INDEX(ref!$E$22:'ref'!$E$37,MATCH(F36,gerald3,0))) -> 0.3125 | M36: =IF(SUM(L36-ref!E$8)<0,0,SUM(L36-ref!E$8)) -> 0 | N36: =L36-(hs!D35+hs!F35+hs!H35+hs!J35) -> -0.031944444 | O36: =IF(OR(F36="férié travaillé",F36="travail",F36="asa",F36="rtt"),J36-H36+IF(H36>J36,1),INDEX(ref!$E$22:'ref'!$E$37,MATCH(F36,gerald2,0))) -> 0.34444444 | P36: =IF(SUM(O36-ref!E$4)<0,0,SUM(O36-ref!E$4)) -> 0 | Q36: =Q35+L36 -> 0.60069444 | T36: 0.54236111 | U36: 0.57430556 | V36: =U36-T36 -> 0.031944444 | W36: =IF(V36="","",IF(SUM(V36-ref!E$38)>0,0,IF(V36=0, "0:00", SUM(V36-ref!E$38)))) -> 0 | AA36: =Z36-Y36 -> 0 | AB36: =IF(AA36="","",IF(SUM(AA36-ref!E$38)>0,0,IF(AA36=0, "0:00", SUM(AA36-ref!E$38)))) -> 0:00 | AE36: =IF(SUM(AE35-ref!E$7)<0,0,SUM(AE35-ref!E$7)) -> 0 | AF36: =IF(AND(H36<>"",J36<>""),1,0+OR(N(J35)<N(H35),F36="récupération",F36="congé 1 jour",F36="congé 1/2 jour ",F36="congé 5h24",F36="arrêt maladie",F36="arrêt travail",F36="férié ",F36="congé parentale",F36="congé de naissance")) -> 1 | AH36: J2 | AI36: à | AJ36: J3 | AK36: {=IF(ISNUMBER(G37),G37-_xlfn.AGGREGATE(14,6,(K$4:K36<G37)*K$4:K36,1),"")} -> 0.71388889 | AL36: =IF(ISNUMBER(AK36),ABS(IF(SUM(AK36-ref!E$9)>0,0,SUM(AK36-ref!E$9))),"") -> 0
B37: 22 | C37: travail | E37: =E36+1 -> 43853 | F37: travail | G37: =IF(AND(J37="",H37=""),"",E37+H37) -> 43853.433 | H37: 0.43333333 | I37: =SUM(V37+AA37+AC37) -> 0.033333333 | J37: 0.82916667 | K37: =IF(AND(H37="",J37=""),"",E37+J37+(H37>J37)) -> 43853.829 | L37: =IF(OR(F37="télétravail",F37="férié travaillé",F37="travail"),(J37-H37+IF(H37>J37,1)-I37),INDEX(ref!$E$22:'ref'!$E$37,MATCH(F37,gerald3,0))) -> 0.3625 | M37: =IF(SUM(L37-ref!E$8)<0,0,SUM(L37-ref!E$8)) -> 0 | N37: =L37-(hs!D36+hs!F36+hs!H36+hs!J36) -> -0.091666667 | O37: =IF(OR(F37="férié travaillé",F37="travail",F37="asa",F37="rtt"),J37-H37+IF(H37>J37,1),INDEX(ref!$E$22:'ref'!$E$37,MATCH(F37,gerald2,0))) -> 0.39583333 | P37: =IF(SUM(O37-ref!E$4)<0,0,SUM(O37-ref!E$4)) -> 0 | Q37: =Q36+L37 -> 0.96319444 | T37: 0.54166667 | U37: 0.575 | V37: =U37-T37 -> 0.033333333 | W37: =IF(V37="","",IF(SUM(V37-ref!E$38)>0,0,IF(V37=0, "0:00", SUM(V37-ref!E$38)))) -> 0 | AA37: =Z37-Y37 -> 0 | AB37: =IF(AA37="","",IF(SUM(AA37-ref!E$38)>0,0,IF(AA37=0, "0:00", SUM(AA37-ref!E$38)))) -> 0:00 | AE37: H semaine | AF37: =IF(AND(H37<>"",J37<>""),1,0+OR(N(J36)<N(H36),F37="récupération",F37="congé 1 jour",F37="congé 1/2 jour ",F37="congé 5h24",F37="arrêt maladie",F37="arrêt travail",F37="férié ",F37="congé parentale",F37="congé de naissance")) -> 1 | AH37: J3 | AI37: à | AJ37: J4 | AK37: {=IF(ISNUMBER(G38),G38-_xlfn.AGGREGATE(14,6,(K$4:K37<G38)*K$4:K37,1),"")} -> 0.55138889 | AL37: =IF(ISNUMBER(AK37),ABS(IF(SUM(AK37-ref!E$9)>0,0,SUM(AK37-ref!E$9))),"") -> 0
B38: mois | C38: travail | E38: =E37+1 -> 43854 | F38: travail | G38: =IF(AND(J38="",H38=""),"",E38+H38) -> 43854.381 | H38: 0.38055556 | I38: =SUM(V38+AA38+AC38) -> 0.034027778 | J38: 0.77222222 | K38: =IF(AND(H38="",J38=""),"",E38+J38+(H38>J38)) -> 43854.772 | L38: =IF(OR(F38="télétravail",F38="férié travaillé",F38="travail"),(J38-H38+IF(H38>J38,1)-I38),INDEX(ref!$E$22:'ref'!$E$37,MATCH(F38,gerald3,0))) -> 0.35763889 | M38: =IF(SUM(L38-ref!E$8)<0,0,SUM(L38-ref!E$8)) -> 0 | N38: =L38-(hs!D37+hs!F37+hs!H37+hs!J37) -> -0.035416667 | O38: =IF(OR(F38="férié travaillé",F38="travail",F38="asa",F38="rtt"),J38-H38+IF(H38>J38,1),INDEX(ref!$E$22:'ref'!$E$37,MATCH(F38,gerald2,0))) -> 0.39166667 | P38: =IF(SUM(O38-ref!E$4)<0,0,SUM(O38-ref!E$4)) -> 0 | Q38: =Q37+L38 -> 1.3208333 | T38: 0.52013889 | U38: 0.55416667 | V38: =U38-T38 -> 0.034027778 | W38: =IF(V38="","",IF(SUM(V38-ref!E$38)>0,0,IF(V38=0, "0:00", SUM(V38-ref!E$38)))) -> 0 | AA38: =Z38-Y38 -> 0 | AB38: =IF(AA38="","",IF(SUM(AA38-ref!E$38)>0,0,IF(AA38=0, "0:00", SUM(AA38-ref!E$38)))) -> 0:00 | AE38: =Q41 -> 1.825 | AF38: =IF(AND(H38<>"",J38<>""),1,0+OR(N(J37)<N(H37),F38="récupération",F38="congé 1 jour",F38="congé 1/2 jour ",F38="congé 5h24",F38="arrêt maladie",F38="arrêt travail",F38="férié ",F38="congé parentale",F38="congé de naissance")) -> 1 | AH38: J4 | AI38: à | AJ38: J5 | AK38: {=IF(ISNUMBER(G39),G39-_xlfn.AGGREGATE(14,6,(K$4:K38<G39)*K$4:K38,1),"")} -> 0.60902778 | AL38: =IF(ISNUMBER(AK38),ABS(IF(SUM(AK38-ref!E$9)>0,0,SUM(AK38-ref!E$9))),"") -> 0
B39: 1 | C39: travail | E39: =E38+1 -> 43855 | F39: travail | G39: =IF(AND(J39="",H39=""),"",E39+H39) -> 43855.381 | H39: 0.38125 | I39: =SUM(V39+AA39+AC39) -> 0.020833333 | J39: 0.90625 | K39: =IF(AND(H39="",J39=""),"",E39+J39+(H39>J39)) -> 43855.906 | L39: =IF(OR(F39="télétravail",F39="férié travaillé",F39="travail"),(J39-H39+IF(H39>J39,1)-I39),INDEX(ref!$E$22:'ref'!$E$37,MATCH(F39,gerald3,0))) -> 0.50416667 | M39: =IF(SUM(L39-ref!E$8)<0,0,SUM(L39-ref!E$8)) -> 0.0875 | N39: =L39-(hs!D38+hs!F38+hs!H38+hs!J38) -> -0.15625 | O39: =IF(OR(F39="férié travaillé",F39="travail",F39="asa",F39="rtt"),J39-H39+IF(H39>J39,1),INDEX(ref!$E$22:'ref'!$E$37,MATCH(F39,gerald2,0))) -> 0.525 | P39: =IF(SUM(O39-ref!E$4)<0,0,SUM(O39-ref!E$4)) -> 0.025 | Q39: =Q38+L39 -> 1.825 | T39: 0.56180556 | U39: 0.58263889 | V39: =U39-T39 -> 0.020833333 | W39: =IF(V39="","",IF(SUM(V39-ref!E$38)>0,0,IF(V39=0, "0:00", SUM(V39-ref!E$38)))) -> -0.010416667 | AA39: =Z39-Y39 -> 0 | AB39: =IF(AA39="","",IF(SUM(AA39-ref!E$38)>0,0,IF(AA39=0, "0:00", SUM(AA39-ref!E$38)))) -> 0:00 | AE39: H semaine hc de | AF39: =IF(AND(H39<>"",J39<>""),1,0+OR(N(J38)<N(H38),F39="récupération",F39="congé 1 jour",F39="congé 1/2 jour ",F39="congé 5h24",F39="arrêt maladie",F39="arrêt travail",F39="férié ",F39="congé parentale",F39="congé de naissance")) -> 1 | AH39: J5 | AI39: à | AJ39: J6 | AK39: {=IF(ISNUMBER(G40),G40-_xlfn.AGGREGATE(14,6,(K$4:K39<G40)*K$4:K39,1),"")} | AL39: =IF(ISNUMBER(AK39),ABS(IF(SUM(AK39-ref!E$9)>0,0,SUM(AK39-ref!E$9))),"")
E40: =E39+1 -> 43856 | F40: off | G40: =IF(AND(J40="",H40=""),"",E40+H40) | I40: =SUM(V40+AA40+AC40) -> 0 | K40: =IF(AND(H40="",J40=""),"",E40+J40+(H40>J40)) | L40: =IF(OR(F40="télétravail",F40="férié travaillé",F40="travail"),(J40-H40+IF(H40>J40,1)-I40),INDEX(ref!$E$22:'ref'!$E$37,MATCH(F40,gerald3,0))) -> 0 | M40: =IF(SUM(L40-ref!E$8)<0,0,SUM(L40-ref!E$8)) -> 0 | N40: =L40-(hs!D39+hs!F39+hs!H39+hs!J39) -> 0 | O40: =IF(OR(F40="férié travaillé",F40="travail",F40="asa",F40="rtt"),J40-H40+IF(H40>J40,1),INDEX(ref!$E$22:'ref'!$E$37,MATCH(F40,gerald2,0))) -> 0 | P40: =IF(SUM(O40-ref!E$4)<0,0,SUM(O40-ref!E$4)) -> 0 | Q40: =Q39+L40 -> 1.825 | V40: =U40-T40 -> 0 | W40: =IF(V40="","",IF(SUM(V40-ref!E$38)>0,0,IF(V40=0, "0:00", SUM(V40-ref!E$38)))) -> 0:00 | AA40: =Z40-Y40 -> 0 | AB40: =IF(AA40="","",IF(SUM(AA40-ref!E$38)>0,0,IF(AA40=0, "0:00", SUM(AA40-ref!E$38)))) -> 0:00 | AE40: =ref!E$11 -> 2 | AF40: =IF(AND(H40<>"",J40<>""),1,0+OR(N(J39)<N(H39),F40="récupération",F40="congé 1 jour",F40="congé 1/2 jour ",F40="congé 5h24",F40="arrêt maladie",F40="arrêt travail",F40="férié ",F40="congé parentale",F40="congé de naissance")) -> 0 | AH40: J6 | AI40: à | AJ40: J7 | AK40: {=IF(ISNUMBER(G41),G41-_xlfn.AGGREGATE(14,6,(K$4:K40<G41)*K$4:K40,1),"")} | AL40: =IF(ISNUMBER(AK40),ABS(IF(SUM(AK40-ref!E$9)>0,0,SUM(AK40-ref!E$9))),"")
E41: =E40+1 -> 43857 | F41: off | G41: =IF(AND(J41="",H41=""),"",E41+H41) | I41: =SUM(V41+AA41+AC41) -> 0 | K41: =IF(AND(H41="",J41=""),"",E41+J41+(H41>J41)) | L41: =IF(OR(F41="télétravail",F41="férié travaillé",F41="travail"),(J41-H41+IF(H41>J41,1)-I41),INDEX(ref!$E$22:'ref'!$E$37,MATCH(F41,gerald3,0))) -> 0 | M41: =IF(SUM(L41-ref!E$8)<0,0,SUM(L41-ref!E$8)) -> 0 | N41: =L41-(hs!D40+hs!F40+hs!H40+hs!J40) -> 0 | O41: =IF(OR(F41="férié travaillé",F41="travail",F41="asa",F41="rtt"),J41-H41+IF(H41>J41,1),INDEX(ref!$E$22:'ref'!$E$37,MATCH(F41,gerald2,0))) -> 0 | P41: =IF(SUM(O41-ref!E$4)<0,0,SUM(O41-ref!E$4)) -> 0 | Q41: =Q40+L41 -> 1.825 | V41: =U41-T41 -> 0 | W41: =IF(V41="","",IF(SUM(V41-ref!E$38)>0,0,IF(V41=0, "0:00", SUM(V41-ref!E$38)))) -> 0:00 | AA41: =Z41-Y41 -> 0 | AB41: =IF(AA41="","",IF(SUM(AA41-ref!E$38)>0,0,IF(AA41=0, "0:00", SUM(AA41-ref!E$38)))) -> 0:00 | AE41: =IF(SUM(Q41-ref!E$11)<0,0,SUM(Q41-ref!E$11)) -> 0 | AF41: =IF(AND(H41<>"",J41<>""),1,0+OR(N(J40)<N(H40),F41="récupération",F41="congé 1 jour",F41="congé 1/2 jour ",F41="congé 5h24",F41="arrêt maladie",F41="arrêt travail",F41="férié ",F41="congé parentale",F41="congé de naissance")) -> 0
B45: date | C45: travail | E45: =DATE(ref!E$2,B49,B47) -> 43858 | F45: travail | G45: =IF(AND(J45="",H45=""),"",E45+H45) -> 43858.386 | H45: 0.38611111 | I45: =SUM(V45+AA45+AC45) -> 0.045138889 | J45: 0.82638889 | K45: =IF(AND(H45="",J45=""),"",E45+J45+(H45>J45)) -> 43858.826 | L45: =IF(OR(F45="télétravail",F45="férié travaillé",F45="travail"),(J45-H45+IF(H45>J45,1)-I45),INDEX(ref!$E$22:'ref'!$E$37,MATCH(F45,gerald3,0))) -> 0.39513889 | M45: =IF(SUM(L45-ref!E$8)<0,0,SUM(L45-ref!E$8)) -> 0 | N45: =L45-(hs!D44+hs!F44+hs!H44+hs!J44) -> -0.10069444 | O45: =IF(OR(F45="férié travaillé",F45="travail",F45="asa",F45="rtt"),J45-H45+IF(H45>J45,1),INDEX(ref!$E$22:'ref'!$E$37,MATCH(F45,gerald2,0))) -> 0.44027778 | P45: =IF(SUM(O45-ref!E$4)<0,0,SUM(O45-ref!E$4)) -> 0 | Q45: =L45 -> 0.39513889 | T45: 0.52847222 | U45: 0.57361111 | V45: =U45-T45 -> 0.045138889 | W45: =IF(V45="","",IF(SUM(V45-ref!E$38)>0,0,IF(V45=0, "0:00", SUM(V45-ref!E$38)))) -> 0 | AA45: =Z45-Y45 -> 0 | AB45: =IF(AA45="","",IF(SUM(AA45-ref!E$38)>0,0,IF(AA45=0, "0:00", SUM(AA45-ref!E$38)))) -> 0:00 | AE45: =SUM(AF45:AF51) -> 5 | AF45: =IF(AND(H45<>"",J45<>""),1,0+OR(N(J44)<N(H44),F45="récupération",F45="congé 1 jour",F45="congé 1/2 jour ",F45="congé 5h24",F45="arrêt maladie",F45="arrêt travail",F45="férié ",F45="congé parentale",F45="congé de naissance")) -> 1 | AH45: J1 | AI45: à | AJ45: J2 | AK45: {=IF(ISNUMBER(G46),G46-_xlfn.AGGREGATE(14,6,(K$4:K45<G46)*K$4:K45,1),"")} -> 0.55277778 | AL45: =IF(ISNUMBER(AK45),ABS(IF(SUM(AK45-ref!E$9)>0,0,SUM(AK45-ref!E$9))),"") -> 0
B46: date | C46: travail | E46: =E45+1 -> 43859 | F46: travail | G46: =IF(AND(J46="",H46=""),"",E46+H46) -> 43859.379 | H46: 0.37916667 | I46: =SUM(V46+AA46+AC46) -> 0.034722222 | J46: 0.77013889 | K46: =IF(AND(H46="",J46=""),"",E46+J46+(H46>J46)) -> 43859.77 | L46: =IF(OR(F46="télétravail",F46="férié travaillé",F46="travail"),(J46-H46+IF(H46>J46,1)-I46),INDEX(ref!$E$22:'ref'!$E$37,MATCH(F46,gerald3,0))) -> 0.35625 | M46: =IF(SUM(L46-ref!E$8)<0,0,SUM(L46-ref!E$8)) -> 0 | N46: =L46-(hs!D45+hs!F45+hs!H45+hs!J45) -> -0.034722222 | O46: =IF(OR(F46="férié travaillé",F46="travail",F46="asa",F46="rtt"),J46-H46+IF(H46>J46,1),INDEX(ref!$E$22:'ref'!$E$37,MATCH(F46,gerald2,0))) -> 0.39097222 | P46: =IF(SUM(O46-ref!E$4)<0,0,SUM(O46-ref!E$4)) -> 0 | Q46: =Q45+L46 -> 0.75138889 | T46: 0.52083333 | U46: 0.55555556 | V46: =U46-T46 -> 0.034722222 | W46: =IF(V46="","",IF(SUM(V46-ref!E$38)>0,0,IF(V46=0, "0:00", SUM(V46-ref!E$38)))) -> 0 | AA46: =Z46-Y46 -> 0 | AB46: =IF(AA46="","",IF(SUM(AA46-ref!E$38)>0,0,IF(AA46=0, "0:00", SUM(AA46-ref!E$38)))) -> 0:00 | AE46: =IF(SUM(AE45-ref!E$7)<0,0,SUM(AE45-ref!E$7)) -> 0 | AF46: =IF(AND(H46<>"",J46<>""),1,0+OR(N(J45)<N(H45),F46="récupération",F46="congé 1 jour",F46="congé 1/2 jour ",F46="congé 5h24",F46="arrêt maladie",F46="arrêt travail",F46="férié ",F46="congé parentale",F46="congé de naissance")) -> 1 | AH46: J2 | AI46: à | AJ46: J3 | AK46: {=IF(ISNUMBER(G47),G47-_xlfn.AGGREGATE(14,6,(K$4:K46<G47)*K$4:K46,1),"")} -> 0.62916667 | AL46: =IF(ISNUMBER(AK46),ABS(IF(SUM(AK46-ref!E$9)>0,0,SUM(AK46-ref!E$9))),"") -> 0
B47: 29 | C47: travail | E47: =E46+1 -> 43860 | F47: travail | G47: =IF(AND(J47="",H47=""),"",E47+H47) -> 43860.399 | H47: 0.39930556 | I47: =SUM(V47+AA47+AC47) -> 0.034722222 | J47: 0.76597222 | K47: =IF(AND(H47="",J47=""),"",E47+J47+(H47>J47)) -> 43860.766 | L47: =IF(OR(F47="télétravail",F47="férié travaillé",F47="travail"),(J47-H47+IF(H47>J47,1)-I47),INDEX(ref!$E$22:'ref'!$E$37,MATCH(F47,gerald3,0))) -> 0.33194444 | M47: =IF(SUM(L47-ref!E$8)<0,0,SUM(L47-ref!E$8)) -> 0 | N47: =L47-(hs!D46+hs!F46+hs!H46+hs!J46) -> -0.034722222 | O47: =IF(OR(F47="férié travaillé",F47="travail",F47="asa",F47="rtt"),J47-H47+IF(H47>J47,1),INDEX(ref!$E$22:'ref'!$E$37,MATCH(F47,gerald2,0))) -> 0.36666667 | P47: =IF(SUM(O47-ref!E$4)<0,0,SUM(O47-ref!E$4)) -> 0 | Q47: =Q46+L47 -> 1.0833333 | T47: 0.52361111 | U47: 0.55833333 | V47: =U47-T47 -> 0.034722222 | W47: =IF(V47="","",IF(SUM(V47-ref!E$38)>0,0,IF(V47=0, "0:00", SUM(V47-ref!E$38)))) -> 0 | AA47: =Z47-Y47 -> 0 | AB47: =IF(AA47="","",IF(SUM(AA47-ref!E$38)>0,0,IF(AA47=0, "0:00", SUM(AA47-ref!E$38)))) -> 0:00 | AE47: H semaine | AF47: =IF(AND(H47<>"",J47<>""),1,0+OR(N(J46)<N(H46),F47="récupération",F47="congé 1 jour",F47="congé 1/2 jour ",F47="congé 5h24",F47="arrêt maladie",F47="arrêt travail",F47="férié ",F47="congé parentale",F47="congé de naissance")) -> 1 | AH47: J3 | AI47: à | AJ47: J4 | AK47: {=IF(ISNUMBER(G48),G48-_xlfn.AGGREGATE(14,6,(K$4:K47<G48)*K$4:K47,1),"")} -> 0.61111111 | AL47: =IF(ISNUMBER(AK47),ABS(IF(SUM(AK47-ref!E$9)>0,0,SUM(AK47-ref!E$9))),"") -> 0
B48: mois | C48: travail | E48: =E47+1 -> 43861 | F48: travail | G48: =IF(AND(J48="",H48=""),"",E48+H48) -> 43861.377 | H48: 0.37708333 | I48: =SUM(V48+AA48+AC48) -> 0.032638889 | J48: 0.84722222 | K48: =IF(AND(H48="",J48=""),"",E48+J48+(H48>J48)) -> 43861.847 | L48: =IF(OR(F48="télétravail",F48="férié travaillé",F48="travail"),(J48-H48+IF(H48>J48,1)-I48),INDEX(ref!$E$22:'ref'!$E$37,MATCH(F48,gerald3,0))) -> 0.4375 | M48: =IF(SUM(L48-ref!E$8)<0,0,SUM(L48-ref!E$8)) -> 0.020833333 | N48: =L48-(hs!D47+hs!F47+hs!H47+hs!J47) -> -0.10902778 | O48: =IF(OR(F48="férié travaillé",F48="travail",F48="asa",F48="rtt"),J48-H48+IF(H48>J48,1),INDEX(ref!$E$22:'ref'!$E$37,MATCH(F48,gerald2,0))) -> 0.47013889 | P48: =IF(SUM(O48-ref!E$4)<0,0,SUM(O48-ref!E$4)) -> 0 | Q48: =Q47+L48 -> 1.5208333 | T48: 0.52152778 | U48: 0.55416667 | V48: =U48-T48 -> 0.032638889 | W48: =IF(V48="","",IF(SUM(V48-ref!E$38)>0,0,IF(V48=0, "0:00", SUM(V48-ref!E$38)))) -> 0 | AA48: =Z48-Y48 -> 0 | AB48: =IF(AA48="","",IF(SUM(AA48-ref!E$38)>0,0,IF(AA48=0, "0:00", SUM(AA48-ref!E$38)))) -> 0:00 | AE48: =Q51 -> 1.8840278 | AF48: =IF(AND(H48<>"",J48<>""),1,0+OR(N(J47)<N(H47),F48="récupération",F48="congé 1 jour",F48="congé 1/2 jour ",F48="congé 5h24",F48="arrêt maladie",F48="arrêt travail",F48="férié ",F48="congé parentale",F48="congé de naissance")) -> 1 | AH48: J4 | AI48: à | AJ48: J5 | AK48: {=IF(ISNUMBER(G49),G49-_xlfn.AGGREGATE(14,6,(K$4:K48<G49)*K$4:K48,1),"")} -> 0.53125 | AL48: =IF(ISNUMBER(AK48),ABS(IF(SUM(AK48-ref!E$9)>0,0,SUM(AK48-ref!E$9))),"") -> 0
B49: 1 | C49: travail | E49: =E48+1 -> 43862 | F49: travail | G49: =IF(AND(J49="",H49=""),"",E49+H49) -> 43862.378 | H49: 0.37847222 | I49: =SUM(V49+AA49+AC49) -> 0.033333333 | J49: 0.775 | K49: =IF(AND(H49="",J49=""),"",E49+J49+(H49>J49)) -> 43862.775 | L49: =IF(OR(F49="télétravail",F49="férié travaillé",F49="travail"),(J49-H49+IF(H49>J49,1)-I49),INDEX(ref!$E$22:'ref'!$E$37,MATCH(F49,gerald3,0))) -> 0.36319444 | M49: =IF(SUM(L49-ref!E$8)<0,0,SUM(L49-ref!E$8)) -> 0 | N49: =L49-(hs!D48+hs!F48+hs!H48+hs!J48) -> -0.0375 | O49: =IF(OR(F49="férié travaillé",F49="travail",F49="asa",F49="rtt"),J49-H49+IF(H49>J49,1),INDEX(ref!$E$22:'ref'!$E$37,MATCH(F49,gerald2,0))) -> 0.39652778 | P49: =IF(SUM(O49-ref!E$4)<0,0,SUM(O49-ref!E$4)) -> 0 | Q49: =Q48+L49 -> 1.8840278 | T49: 0.50972222 | U49: 0.54305556 | V49: =U49-T49 -> 0.033333333 | W49: =IF(V49="","",IF(SUM(V49-ref!E$38)>0,0,IF(V49=0, "0:00", SUM(V49-ref!E$38)))) -> 0 | AA49: =Z49-Y49 -> 0 | AB49: =IF(AA49="","",IF(SUM(AA49-ref!E$38)>0,0,IF(AA49=0, "0:00", SUM(AA49-ref!E$38)))) -> 0:00 | AE49: H semaine hc de | AF49: =IF(AND(H49<>"",J49<>""),1,0+OR(N(J48)<N(H48),F49="récupération",F49="congé 1 jour",F49="congé 1/2 jour ",F49="congé 5h24",F49="arrêt maladie",F49="arrêt travail",F49="férié ",F49="congé parentale",F49="congé de naissance")) -> 1 | AH49: J5 | AI49: à | AJ49: J6 | AK49: {=IF(ISNUMBER(G50),G50-_xlfn.AGGREGATE(14,6,(K$4:K49<G50)*K$4:K49,1),"")} | AL49: =IF(ISNUMBER(AK49),ABS(IF(SUM(AK49-ref!E$9)>0,0,SUM(AK49-ref!E$9))),"")
E50: =E49+1 -> 43863 | F50: off | G50: =IF(AND(J50="",H50=""),"",E50+H50) | I50: =SUM(V50+AA50+AC50) -> 0 | K50: =IF(AND(H50="",J50=""),"",E50+J50+(H50>J50)) | L50: =IF(OR(F50="télétravail",F50="férié travaillé",F50="travail"),(J50-H50+IF(H50>J50,1)-I50),INDEX(ref!$E$22:'ref'!$E$37,MATCH(F50,gerald3,0))) -> 0 | M50: =IF(SUM(L50-ref!E$8)<0,0,SUM(L50-ref!E$8)) -> 0 | N50: =L50-(hs!D49+hs!F49+hs!H49+hs!J49) -> 0 | O50: =IF(OR(F50="férié travaillé",F50="travail",F50="asa",F50="rtt"),J50-H50+IF(H50>J50,1),INDEX(ref!$E$22:'ref'!$E$37,MATCH(F50,gerald2,0))) -> 0 | P50: =IF(SUM(O50-ref!E$4)<0,0,SUM(O50-ref!E$4)) -> 0 | Q50: =Q49+L50 -> 1.8840278 | V50: =U50-T50 -> 0 | W50: =IF(V50="","",IF(SUM(V50-ref!E$38)>0,0,IF(V50=0, "0:00", SUM(V50-ref!E$38)))) -> 0:00 | AA50: =Z50-Y50 -> 0 | AB50: =IF(AA50="","",IF(SUM(AA50-ref!E$38)>0,0,IF(AA50=0, "0:00", SUM(AA50-ref!E$38)))) -> 0:00 | AE50: =ref!E$11 -> 2 | AF50: =IF(AND(H50<>"",J50<>""),1,0+OR(N(J49)<N(H49),F50="récupération",F50="congé 1 jour",F50="congé 1/2 jour ",F50="congé 5h24",F50="arrêt maladie",F50="arrêt travail",F50="férié ",F50="congé parentale",F50="congé de naissance")) -> 0 | AH50: J6 | AI50: à | AJ50: J7 | AK50: {=IF(ISNUMBER(G51),G51-_xlfn.AGGREGATE(14,6,(K$4:K50<G51)*K$4:K50,1),"")} | AL50: =IF(ISNUMBER(AK50),ABS(IF(SUM(AK50-ref!E$9)>0,0,SUM(AK50-ref!E$9))),"")
E51: =E50+1 -> 43864 | F51: off | G51: =IF(AND(J51="",H51=""),"",E51+H51) | I51: =SUM(V51+AA51+AC51) -> 0 | K51: =IF(AND(H51="",J51=""),"",E51+J51+(H51>J51)) | L51: =IF(OR(F51="télétravail",F51="férié travaillé",F51="travail"),(J51-H51+IF(H51>J51,1)-I51),INDEX(ref!$E$22:'ref'!$E$37,MATCH(F51,gerald3,0))) -> 0 | M51: =IF(SUM(L51-ref!E$8)<0,0,SUM(L51-ref!E$8)) -> 0 | N51: =L51-(hs!D50+hs!F50+hs!H50+hs!J50) -> 0 | O51: =IF(OR(F51="férié travaillé",F51="travail",F51="asa",F51="rtt"),J51-H51+IF(H51>J51,1),INDEX(ref!$E$22:'ref'!$E$37,MATCH(F51,gerald2,0))) -> 0 | P51: =IF(SUM(O51-ref!E$4)<0,0,SUM(O51-ref!E$4)) -> 0 | Q51: =Q50+L51 -> 1.8840278 | V51: =U51-T51 -> 0 | W51: =IF(V51="","",IF(SUM(V51-ref!E$38)>0,0,IF(V51=0, "0:00", SUM(V51-ref!E$38)))) -> 0:00 | AA51: =Z51-Y51 -> 0 | AB51: =IF(AA51="","",IF(SUM(AA51-ref!E$38)>0,0,IF(AA51=0, "0:00", SUM(AA51-ref!E$38)))) -> 0:00 | AE51: =IF(SUM(Q51-ref!E$11)<0,0,SUM(Q51-ref!E$11)) -> 0 | AF51: =IF(AND(H51<>"",J51<>""),1,0+OR(N(J50)<N(H50),F51="récupération",F51="congé 1 jour",F51="congé 1/2 jour ",F51="congé 5h24",F51="arrêt maladie",F51="arrêt travail",F51="férié ",F51="congé parentale",F51="congé de naissance")) -> 0
B55: date | C55: travail | E55: =DATE(ref!E$2,B59,B57) -> 43865 | F55: travail | G55: =IF(AND(J55="",H55=""),"",E55+H55) -> 43865.378 | H55: 0.37777778 | I55: =SUM(V55+AA55+AC55) -> 0.033333333 | J55: 0.71388889 | K55: =IF(AND(H55="",J55=""),"",E55+J55+(H55>J55)) -> 43865.714 | L55: =IF(OR(F55="télétravail",F55="férié travaillé",F55="travail"),(J55-H55+IF(H55>J55,1)-I55),INDEX(ref!$E$22:'ref'!$E$37,MATCH(F55,gerald3,0))) -> 0.30277778 | M55: =IF(SUM(L55-ref!E$8)<0,0,SUM(L55-ref!E$8)) -> 0 | N55: =L55-(hs!D54+hs!F54+hs!H54+hs!J54) -> -0.033333333 | O55: =IF(OR(F55="férié travaillé",F55="travail",F55="asa",F55="rtt"),J55-H55+IF(H55>J55,1),INDEX(ref!$E$22:'ref'!$E$37,MATCH(F55,gerald2,0))) -> 0.33611111 | P55: =IF(SUM(O55-ref!E$4)<0,0,SUM(O55-ref!E$4)) -> 0 | Q55: =L55 -> 0.30277778 | T55: 0.51597222 | U55: 0.54930556 | V55: =U55-T55 -> 0.033333333 | W55: =IF(V55="","",IF(SUM(V55-ref!E$38)>0,0,IF(V55=0, "0:00", SUM(V55-ref!E$38)))) -> 0 | AA55: =Z55-Y55 -> 0 | AB55: =IF(AA55="","",IF(SUM(AA55-ref!E$38)>0,0,IF(AA55=0, "0:00", SUM(AA55-ref!E$38)))) -> 0:00 | AE55: =SUM(AF55:AF61) -> 5 | AF55: =IF(AND(H55<>"",J55<>""),1,0+OR(N(J54)<N(H54),F55="récupération",F55="congé 1 jour",F55="congé 1/2 jour ",F55="congé 5h24",F55="arrêt maladie",F55="arrêt travail",F55="férié ",F55="congé parentale",F55="congé de naissance")) -> 1 | AH55: J1 | AI55: à | AJ55: J2 | AK55: {=IF(ISNUMBER(G56),G56-_xlfn.AGGREGATE(14,6,(K$4:K55<G56)*K$4:K55,1),"")} -> 0.66597222 | AL55: =IF(ISNUMBER(AK55),ABS(IF(SUM(AK55-ref!E$9)>0,0,SUM(AK55-ref!E$9))),"") -> 0
B56: date | C56: travail | E56: =E55+1 -> 43866 | F56: travail | G56: =IF(AND(J56="",H56=""),"",E56+H56) -> 43866.38 | H56: 0.37986111 | I56: =SUM(V56+AA56+AC56) -> 0.03125 | J56: 0.83333333 | K56: =IF(AND(H56="",J56=""),"",E56+J56+(H56>J56)) -> 43866.833 | L56: =IF(OR(F56="télétravail",F56="férié travaillé",F56="travail"),(J56-H56+IF(H56>J56,1)-I56),INDEX(ref!$E$22:'ref'!$E$37,MATCH(F56,gerald3,0))) -> 0.42222222 | M56: =IF(SUM(L56-ref!E$8)<0,0,SUM(L56-ref!E$8)) -> 0.0055555556 | N56: =L56-(hs!D55+hs!F55+hs!H55+hs!J55) -> -0.09375 | O56: =IF(OR(F56="férié travaillé",F56="travail",F56="asa",F56="rtt"),J56-H56+IF(H56>J56,1),INDEX(ref!$E$22:'ref'!$E$37,MATCH(F56,gerald2,0))) -> 0.45347222 | P56: =IF(SUM(O56-ref!E$4)<0,0,SUM(O56-ref!E$4)) -> 0 | Q56: =Q55+L56 -> 0.725 | T56: 0.54513889 | U56: 0.57638889 | V56: =U56-T56 -> 0.03125 | W56: =IF(V56="","",IF(SUM(V56-ref!E$38)>0,0,IF(V56=0, "0:00", SUM(V56-ref!E$38)))) -> 0 | AA56: =Z56-Y56 -> 0 | AB56: =IF(AA56="","",IF(SUM(AA56-ref!E$38)>0,0,IF(AA56=0, "0:00", SUM(AA56-ref!E$38)))) -> 0:00 | AE56: =IF(SUM(AE55-ref!E$7)<0,0,SUM(AE55-ref!E$7)) -> 0 | AF56: =IF(AND(H56<>"",J56<>""),1,0+OR(N(J55)<N(H55),F56="récupération",F56="congé 1 jour",F56="congé 1/2 jour ",F56="congé 5h24",F56="arrêt maladie",F56="arrêt travail",F56="férié ",F56="congé parentale",F56="congé de naissance")) -> 1 | AH56: J2 | AI56: à | AJ56: J3 | AK56: {=IF(ISNUMBER(G57),G57-_xlfn.AGGREGATE(14,6,(K$4:K56<G57)*K$4:K56,1),"")} -> 0.58333333 | AL56: =IF(ISNUMBER(AK56),ABS(IF(SUM(AK56-ref!E$9)>0,0,SUM(AK56-ref!E$9))),"") -> 0
B57: 5 | C57: travail | E57: =E56+1 -> 43867 | F57: travail | G57: =IF(AND(J57="",H57=""),"",E57+H57) -> 43867.417 | H57: 0.41666667 | I57: =SUM(V57+AA57+AC57) -> 0.041666667 | J57: 0.76805556 | K57: =IF(AND(H57="",J57=""),"",E57+J57+(H57>J57)) -> 43867.768 | L57: =IF(OR(F57="télétravail",F57="férié travaillé",F57="travail"),(J57-H57+IF(H57>J57,1)-I57),INDEX(ref!$E$22:'ref'!$E$37,MATCH(F57,gerald3,0))) -> 0.30972222 | M57: =IF(SUM(L57-ref!E$8)<0,0,SUM(L57-ref!E$8)) -> 0 | N57: =L57-(hs!D56+hs!F56+hs!H56+hs!J56) -> -0.041666667 | O57: =IF(OR(F57="férié travaillé",F57="travail",F57="asa",F57="rtt"),J57-H57+IF(H57>J57,1),INDEX(ref!$E$22:'ref'!$E$37,MATCH(F57,gerald2,0))) -> 0.35138889 | P57: =IF(SUM(O57-ref!E$4)<0,0,SUM(O57-ref!E$4)) -> 0 | Q57: =Q56+L57 -> 1.0347222 | T57: 0.5125 | U57: 0.55416667 | V57: =U57-T57 -> 0.041666667 | W57: =IF(V57="","",IF(SUM(V57-ref!E$38)>0,0,IF(V57=0, "0:00", SUM(V57-ref!E$38)))) -> 0 | AA57: =Z57-Y57 -> 0 | AB57: =IF(AA57="","",IF(SUM(AA57-ref!E$38)>0,0,IF(AA57=0, "0:00", SUM(AA57-ref!E$38)))) -> 0:00 | AE57: H semaine | AF57: =IF(AND(H57<>"",J57<>""),1,0+OR(N(J56)<N(H56),F57="récupération",F57="congé 1 jour",F57="congé 1/2 jour ",F57="congé 5h24",F57="arrêt maladie",F57="arrêt travail",F57="férié ",F57="congé parentale",F57="congé de naissance")) -> 1 | AH57: J3 | AI57: à | AJ57: J4 | AK57: {=IF(ISNUMBER(G58),G58-_xlfn.AGGREGATE(14,6,(K$4:K57<G58)*K$4:K57,1),"")} -> 0.61597222 | AL57: =IF(ISNUMBER(AK57),ABS(IF(SUM(AK57-ref!E$9)>0,0,SUM(AK57-ref!E$9))),"") -> 0
B58: mois | C58: travail | E58: =E57+1 -> 43868 | F58: travail | G58: =IF(AND(J58="",H58=""),"",E58+H58) -> 43868.384 | H58: 0.38402778 | I58: =SUM(V58+AA58+AC58) -> 0.036111111 | J58: 0.9375 | K58: =IF(AND(H58="",J58=""),"",E58+J58+(H58>J58)) -> 43868.938 | L58: =IF(OR(F58="télétravail",F58="férié travaillé",F58="travail"),(J58-H58+IF(H58>J58,1)-I58),INDEX(ref!$E$22:'ref'!$E$37,MATCH(F58,gerald3,0))) -> 0.51736111 | M58: =IF(SUM(L58-ref!E$8)<0,0,SUM(L58-ref!E$8)) -> 0.10069444 | N58: =L58-(hs!D57+hs!F57+hs!H57+hs!J57) -> -0.20277778 | O58: =IF(OR(F58="férié travaillé",F58="travail",F58="asa",F58="rtt"),J58-H58+IF(H58>J58,1),INDEX(ref!$E$22:'ref'!$E$37,MATCH(F58,gerald2,0))) -> 0.55347222 | P58: =IF(SUM(O58-ref!E$4)<0,0,SUM(O58-ref!E$4)) -> 0.053472222 | Q58: =Q57+L58 -> 1.5520833 | T58: 0.52361111 | U58: 0.55972222 | V58: =U58-T58 -> 0.036111111 | W58: =IF(V58="","",IF(SUM(V58-ref!E$38)>0,0,IF(V58=0, "0:00", SUM(V58-ref!E$38)))) -> 0 | AA58: =Z58-Y58 -> 0 | AB58: =IF(AA58="","",IF(SUM(AA58-ref!E$38)>0,0,IF(AA58=0, "0:00", SUM(AA58-ref!E$38)))) -> 0:00 | AE58: =Q61 -> 1.9111111 | AF58: =IF(AND(H58<>"",J58<>""),1,0+OR(N(J57)<N(H57),F58="récupération",F58="congé 1 jour",F58="congé 1/2 jour ",F58="congé 5h24",F58="arrêt maladie",F58="arrêt travail",F58="férié ",F58="congé parentale",F58="congé de naissance")) -> 1 | AH58: J4 | AI58: à | AJ58: J5 | AK58: {=IF(ISNUMBER(G59),G59-_xlfn.AGGREGATE(14,6,(K$4:K58<G59)*K$4:K58,1),"")} -> 0.44583333 | AL58: =IF(ISNUMBER(AK58),ABS(IF(SUM(AK58-ref!E$9)>0,0,SUM(AK58-ref!E$9))),"") -> 0.0125
B59: 2 | C59: travail | E59: =E58+1 -> 43869 | F59: travail | G59: =IF(AND(J59="",H59=""),"",E59+H59) -> 43869.383 | H59: 0.38333333 | I59: =SUM(V59+AA59+AC59) -> 0.0125 | J59: 0.75486111 | K59: =IF(AND(H59="",J59=""),"",E59+J59+(H59>J59)) -> 43869.755 | L59: =IF(OR(F59="télétravail",F59="férié travaillé",F59="travail"),(J59-H59+IF(H59>J59,1)-I59),INDEX(ref!$E$22:'ref'!$E$37,MATCH(F59,gerald3,0))) -> 0.35902778 | M59: =IF(SUM(L59-ref!E$8)<0,0,SUM(L59-ref!E$8)) -> 0 | N59: =L59-(hs!D58+hs!F58+hs!H58+hs!J58) -> -0.0125 | O59: =IF(OR(F59="férié travaillé",F59="travail",F59="asa",F59="rtt"),J59-H59+IF(H59>J59,1),INDEX(ref!$E$22:'ref'!$E$37,MATCH(F59,gerald2,0))) -> 0.37152778 | P59: =IF(SUM(O59-ref!E$4)<0,0,SUM(O59-ref!E$4)) -> 0 | Q59: =Q58+L59 -> 1.9111111 | T59: 0.57291667 | U59: 0.58541667 | V59: =U59-T59 -> 0.0125 | W59: =IF(V59="","",IF(SUM(V59-ref!E$38)>0,0,IF(V59=0, "0:00", SUM(V59-ref!E$38)))) -> -0.01875 | AA59: =Z59-Y59 -> 0 | AB59: =IF(AA59="","",IF(SUM(AA59-ref!E$38)>0,0,IF(AA59=0, "0:00", SUM(AA59-ref!E$38)))) -> 0:00 | AE59: H semaine hc de | AF59: =IF(AND(H59<>"",J59<>""),1,0+OR(N(J58)<N(H58),F59="récupération",F59="congé 1 jour",F59="congé 1/2 jour ",F59="congé 5h24",F59="arrêt maladie",F59="arrêt travail",F59="férié ",F59="congé parentale",F59="congé de naissance")) -> 1 | AH59: J5 | AI59: à | AJ59: J6 | AK59: {=IF(ISNUMBER(G60),G60-_xlfn.AGGREGATE(14,6,(K$4:K59<G60)*K$4:K59,1),"")} | AL59: =IF(ISNUMBER(AK59),ABS(IF(SUM(AK59-ref!E$9)>0,0,SUM(AK59-ref!E$9))),"")
E60: =E59+1 -> 43870 | F60: off | G60: =IF(AND(J60="",H60=""),"",E60+H60) | I60: =SUM(V60+AA60+AC60) -> 0 | K60: =IF(AND(H60="",J60=""),"",E60+J60+(H60>J60)) | L60: =IF(OR(F60="télétravail",F60="férié travaillé",F60="travail"),(J60-H60+IF(H60>J60,1)-I60),INDEX(ref!$E$22:'ref'!$E$37,MATCH(F60,gerald3,0))) -> 0 | M60: =IF(SUM(L60-ref!E$8)<0,0,SUM(L60-ref!E$8)) -> 0 | N60: =L60-(hs!D59+hs!F59+hs!H59+hs!J59) -> 0 | O60: =IF(OR(F60="férié travaillé",F60="travail",F60="asa",F60="rtt"),J60-H60+IF(H60>J60,1),INDEX(ref!$E$22:'ref'!$E$37,MATCH(F60,gerald2,0))) -> 0 | P60: =IF(SUM(O60-ref!E$4)<0,0,SUM(O60-ref!E$4)) -> 0 | Q60: =Q59+L60 -> 1.9111111 | V60: =U60-T60 -> 0 | W60: =IF(V60="","",IF(SUM(V60-ref!E$38)>0,0,IF(V60=0, "0:00", SUM(V60-ref!E$38)))) -> 0:00 | AA60: =Z60-Y60 -> 0 | AB60: =IF(AA60="","",IF(SUM(AA60-ref!E$38)>0,0,IF(AA60=0, "0:00", SUM(AA60-ref!E$38)))) -> 0:00 | AE60: =ref!E$11 -> 2 | AF60: =IF(AND(H60<>"",J60<>""),1,0+OR(N(J59)<N(H59),F60="récupération",F60="congé 1 jour",F60="congé 1/2 jour ",F60="congé 5h24",F60="arrêt maladie",F60="arrêt travail",F60="férié ",F60="congé parentale",F60="congé de naissance")) -> 0 | AH60: J6 | AI60: à | AJ60: J7 | AK60: {=IF(ISNUMBER(G61),G61-_xlfn.AGGREGATE(14,6,(K$4:K60<G61)*K$4:K60,1),"")} | AL60: =IF(ISNUMBER(AK60),ABS(IF(SUM(AK60-ref!E$9)>0,0,SUM(AK60-ref!E$9))),"")
E61: =E60+1 -> 43871 | F61: off | G61: =IF(AND(J61="",H61=""),"",E61+H61) | I61: =SUM(V61+AA61+AC61) -> 0 | K61: =IF(AND(H61="",J61=""),"",E61+J61+(H61>J61)) | L61: =IF(OR(F61="télétravail",F61="férié travaillé",F61="travail"),(J61-H61+IF(H61>J61,1)-I61),INDEX(ref!$E$22:'ref'!$E$37,MATCH(F61,gerald3,0))) -> 0 | M61: =IF(SUM(L61-ref!E$8)<0,0,SUM(L61-ref!E$8)) -> 0 | N61: =L61-(hs!D60+hs!F60+hs!H60+hs!J60) -> 0 | O61: =IF(OR(F61="férié travaillé",F61="travail",F61="asa",F61="rtt"),J61-H61+IF(H61>J61,1),INDEX(ref!$E$22:'ref'!$E$37,MATCH(F61,gerald2,0))) -> 0 | P61: =IF(SUM(O61-ref!E$4)<0,0,SUM(O61-ref!E$4)) -> 0 | Q61: =Q60+L61 -> 1.9111111 | V61: =U61-T61 -> 0 | W61: =IF(V61="","",IF(SUM(V61-ref!E$38)>0,0,IF(V61=0, "0:00", SUM(V61-ref!E$38)))) -> 0:00 | AA61: =Z61-Y61 -> 0 | AB61: =IF(AA61="","",IF(SUM(AA61-ref!E$38)>0,0,IF(AA61=0, "0:00", SUM(AA61-ref!E$38)))) -> 0:00 | AE61: =IF(SUM(Q61-ref!E$11)<0,0,SUM(Q61-ref!E$11)) -> 0 | AF61: =IF(AND(H61<>"",J61<>""),1,0+OR(N(J60)<N(H60),F61="récupération",F61="congé 1 jour",F61="congé 1/2 jour ",F61="congé 5h24",F61="arrêt maladie",F61="arrêt travail",F61="férié ",F61="congé parentale",F61="congé de naissance")) -> 0
B65: date | C65: travail | E65: =DATE(ref!E$2,B69,B67) -> 43872 | F65: travail | G65: =IF(AND(J65="",H65=""),"",E65+H65) -> 43872.383 | H65: 0.38333333 | I65: =SUM(V65+AA65+AC65) -> 0.047222222 | J65: 0.71944444 | K65: =IF(AND(H65="",J65=""),"",E65+J65+(H65>J65)) -> 43872.719 | L65: =IF(OR(F65="télétravail",F65="férié travaillé",F65="travail"),(J65-H65+IF(H65>J65,1)-I65),INDEX(ref!$E$22:'ref'!$E$37,MATCH(F65,gerald3,0))) -> 0.28888889 | M65: =IF(SUM(L65-ref!E$8)<0,0,SUM(L65-ref!E$8)) -> 0 | N65: =L65-(hs!D64+hs!F64+hs!H64+hs!J64) -> -0.047222222 | O65: =IF(OR(F65="férié travaillé",F65="travail",F65="asa",F65="rtt"),J65-H65+IF(H65>J65,1),INDEX(ref!$E$22:'ref'!$E$37,MATCH(F65,gerald2,0))) -> 0.33611111 | P65: =IF(SUM(O65-ref!E$4)<0,0,SUM(O65-ref!E$4)) -> 0 | Q65: =L65 -> 0.28888889 | T65: 0.51944444 | U65: 0.56666667 | V65: =U65-T65 -> 0.047222222 | W65: =IF(V65="","",IF(SUM(V65-ref!E$38)>0,0,IF(V65=0, "0:00", SUM(V65-ref!E$38)))) -> 0 | AA65: =Z65-Y65 -> 0 | AB65: =IF(AA65="","",IF(SUM(AA65-ref!E$38)>0,0,IF(AA65=0, "0:00", SUM(AA65-ref!E$38)))) -> 0:00 | AE65: =SUM(AF65:AF71) -> 5 | AF65: =IF(AND(H65<>"",J65<>""),1,0+OR(N(J64)<N(H64),F65="récupération",F65="congé 1 jour",F65="congé 1/2 jour ",F65="congé 5h24",F65="arrêt maladie",F65="arrêt travail",F65="férié ",F65="congé parentale",F65="congé de naissance")) -> 1 | AH65: J1 | AI65: à | AJ65: J2 | AK65: {=IF(ISNUMBER(G66),G66-_xlfn.AGGREGATE(14,6,(K$4:K65<G66)*K$4:K65,1),"")} -> 0.66666667 | AL65: =IF(ISNUMBER(AK65),ABS(IF(SUM(AK65-ref!E$9)>0,0,SUM(AK65-ref!E$9))),"") -> 0
B66: date | C66: travail | E66: =E65+1 -> 43873 | F66: travail | G66: =IF(AND(J66="",H66=""),"",E66+H66) -> 43873.386 | H66: 0.38611111 | I66: =SUM(V66+AA66+AC66) -> 0.035416667 | J66: 0.83611111 | K66: =IF(AND(H66="",J66=""),"",E66+J66+(H66>J66)) -> 43873.836 | L66: =IF(OR(F66="télétravail",F66="férié travaillé",F66="travail"),(J66-H66+IF(H66>J66,1)-I66),INDEX(ref!$E$22:'ref'!$E$37,MATCH(F66,gerald3,0))) -> 0.41458333 | M66: =IF(SUM(L66-ref!E$8)<0,0,SUM(L66-ref!E$8)) -> 0 | N66: =L66-(hs!D65+hs!F65+hs!H65+hs!J65) -> -0.10069444 | O66: =IF(OR(F66="férié travaillé",F66="travail",F66="asa",F66="rtt"),J66-H66+IF(H66>J66,1),INDEX(ref!$E$22:'ref'!$E$37,MATCH(F66,gerald2,0))) -> 0.45 | P66: =IF(SUM(O66-ref!E$4)<0,0,SUM(O66-ref!E$4)) -> 0 | Q66: =Q65+L66 -> 0.70347222 | T66: 0.51388889 | U66: 0.54930556 | V66: =U66-T66 -> 0.035416667 | W66: =IF(V66="","",IF(SUM(V66-ref!E$38)>0,0,IF(V66=0, "0:00", SUM(V66-ref!E$38)))) -> 0 | AA66: =Z66-Y66 -> 0 | AB66: =IF(AA66="","",IF(SUM(AA66-ref!E$38)>0,0,IF(AA66=0, "0:00", SUM(AA66-ref!E$38)))) -> 0:00 | AE66: =IF(SUM(AE65-ref!E$7)<0,0,SUM(AE65-ref!E$7)) -> 0 | AF66: =IF(AND(H66<>"",J66<>""),1,0+OR(N(J65)<N(H65),F66="récupération",F66="congé 1 jour",F66="congé 1/2 jour ",F66="congé 5h24",F66="arrêt maladie",F66="arrêt travail",F66="férié ",F66="congé parentale",F66="congé de naissance")) -> 1 | AH66: J2 | AI66: à | AJ66: J3 | AK66: {=IF(ISNUMBER(G67),G67-_xlfn.AGGREGATE(14,6,(K$4:K66<G67)*K$4:K66,1),"")} -> 0.58680556 | AL66: =IF(ISNUMBER(AK66),ABS(IF(SUM(AK66-ref!E$9)>0,0,SUM(AK66-ref!E$9))),"") -> 0
B67: 12 | C67: travail | E67: =E66+1 -> 43874 | F67: travail | G67: =IF(AND(J67="",H67=""),"",E67+H67) -> 43874.423 | H67: 0.42291667 | I67: =SUM(V67+AA67+AC67) -> 0.032638889 | J67: 0.84305556 | K67: =IF(AND(H67="",J67=""),"",E67+J67+(H67>J67)) -> 43874.843 | L67: =IF(OR(F67="télétravail",F67="férié travaillé",F67="travail"),(J67-H67+IF(H67>J67,1)-I67),INDEX(ref!$E$22:'ref'!$E$37,MATCH(F67,gerald3,0))) -> 0.3875 | M67: =IF(SUM(L67-ref!E$8)<0,0,SUM(L67-ref!E$8)) -> 0 | N67: =L67-(hs!D66+hs!F66+hs!H66+hs!J66) -> -0.10486111 | O67: =IF(OR(F67="férié travaillé",F67="travail",F67="asa",F67="rtt"),J67-H67+IF(H67>J67,1),INDEX(ref!$E$22:'ref'!$E$37,MATCH(F67,gerald2,0))) -> 0.42013889 | P67: =IF(SUM(O67-ref!E$4)<0,0,SUM(O67-ref!E$4)) -> 0 | Q67: =Q66+L67 -> 1.0909722 | T67: 0.5 | U67: 0.53263889 | V67: =U67-T67 -> 0.032638889 | W67: =IF(V67="","",IF(SUM(V67-ref!E$38)>0,0,IF(V67=0, "0:00", SUM(V67-ref!E$38)))) -> 0 | AA67: =Z67-Y67 -> 0 | AB67: =IF(AA67="","",IF(SUM(AA67-ref!E$38)>0,0,IF(AA67=0, "0:00", SUM(AA67-ref!E$38)))) -> 0:00 | AE67: H semaine | AF67: =IF(AND(H67<>"",J67<>""),1,0+OR(N(J66)<N(H66),F67="récupération",F67="congé 1 jour",F67="congé 1/2 jour ",F67="congé 5h24",F67="arrêt maladie",F67="arrêt travail",F67="férié ",F67="congé parentale",F67="congé de naissance")) -> 1 | AH67: J3 | AI67: à | AJ67: J4 | AK67: {=IF(ISNUMBER(G68),G68-_xlfn.AGGREGATE(14,6,(K$4:K67<G68)*K$4:K67,1),"")} -> 0.53541667 | AL67: =IF(ISNUMBER(AK67),ABS(IF(SUM(AK67-ref!E$9)>0,0,SUM(AK67-ref!E$9))),"") -> 0
B68: mois | C68: travail | E68: =E67+1 -> 43875 | F68: travail | G68: =IF(AND(J68="",H68=""),"",E68+H68) -> 43875.378 | H68: 0.37847222 | I68: =SUM(V68+AA68+AC68) -> 0.033333333 | J68: 0.90486111 | K68: =IF(AND(H68="",J68=""),"",E68+J68+(H68>J68)) -> 43875.905 | L68: =IF(OR(F68="télétravail",F68="férié travaillé",F68="travail"),(J68-H68+IF(H68>J68,1)-I68),INDEX(ref!$E$22:'ref'!$E$37,MATCH(F68,gerald3,0))) -> 0.49305556 | M68: =IF(SUM(L68-ref!E$8)<0,0,SUM(L68-ref!E$8)) -> 0.076388889 | N68: =L68-(hs!D67+hs!F67+hs!H67+hs!J67) -> -0.16736111 | O68: =IF(OR(F68="férié travaillé",F68="travail",F68="asa",F68="rtt"),J68-H68+IF(H68>J68,1),INDEX(ref!$E$22:'ref'!$E$37,MATCH(F68,gerald2,0))) -> 0.52638889 | P68: =IF(SUM(O68-ref!E$4)<0,0,SUM(O68-ref!E$4)) -> 0.026388889 | Q68: =Q67+L68 -> 1.5840278 | T68: 0.51666667 | U68: 0.55 | V68: =U68-T68 -> 0.033333333 | W68: =IF(V68="","",IF(SUM(V68-ref!E$38)>0,0,IF(V68=0, "0:00", SUM(V68-ref!E$38)))) -> 0 | AA68: =Z68-Y68 -> 0 | AB68: =IF(AA68="","",IF(SUM(AA68-ref!E$38)>0,0,IF(AA68=0, "0:00", SUM(AA68-ref!E$38)))) -> 0:00 | AE68: =Q71 -> 1.9263889 | AF68: =IF(AND(H68<>"",J68<>""),1,0+OR(N(J67)<N(H67),F68="récupération",F68="congé 1 jour",F68="congé 1/2 jour ",F68="congé 5h24",F68="arrêt maladie",F68="arrêt travail",F68="férié ",F68="congé parentale",F68="congé de naissance")) -> 1 | AH68: J4 | AI68: à | AJ68: J5 | AK68: {=IF(ISNUMBER(G69),G69-_xlfn.AGGREGATE(14,6,(K$4:K68<G69)*K$4:K68,1),"")} -> 0.47430556 | AL68: =IF(ISNUMBER(AK68),ABS(IF(SUM(AK68-ref!E$9)>0,0,SUM(AK68-ref!E$9))),"") -> 0
B69: 2 | C69: travail | E69: =E68+1 -> 43876 | F69: travail | G69: =IF(AND(J69="",H69=""),"",E69+H69) -> 43876.379 | H69: 0.37916667 | I69: =SUM(V69+AA69+AC69) -> 0.019444444 | J69: 0.74097222 | K69: =IF(AND(H69="",J69=""),"",E69+J69+(H69>J69)) -> 43876.741 | L69: =IF(OR(F69="télétravail",F69="férié travaillé",F69="travail"),(J69-H69+IF(H69>J69,1)-I69),INDEX(ref!$E$22:'ref'!$E$37,MATCH(F69,gerald3,0))) -> 0.34236111 | M69: =IF(SUM(L69-ref!E$8)<0,0,SUM(L69-ref!E$8)) -> 0 | N69: =L69-(hs!D68+hs!F68+hs!H68+hs!J68) -> -0.019444444 | O69: =IF(OR(F69="férié travaillé",F69="travail",F69="asa",F69="rtt"),J69-H69+IF(H69>J69,1),INDEX(ref!$E$22:'ref'!$E$37,MATCH(F69,gerald2,0))) -> 0.36180556 | P69: =IF(SUM(O69-ref!E$4)<0,0,SUM(O69-ref!E$4)) -> 0 | Q69: =Q68+L69 -> 1.9263889 | T69: 0.55972222 | U69: 0.57916667 | V69: =U69-T69 -> 0.019444444 | W69: =IF(V69="","",IF(SUM(V69-ref!E$38)>0,0,IF(V69=0, "0:00", SUM(V69-ref!E$38)))) -> -0.011805556 | AA69: =Z69-Y69 -> 0 | AB69: =IF(AA69="","",IF(SUM(AA69-ref!E$38)>0,0,IF(AA69=0, "0:00", SUM(AA69-ref!E$38)))) -> 0:00 | AE69: H semaine hc de | AF69: =IF(AND(H69<>"",J69<>""),1,0+OR(N(J68)<N(H68),F69="récupération",F69="congé 1 jour",F69="congé 1/2 jour ",F69="congé 5h24",F69="arrêt maladie",F69="arrêt travail",F69="férié ",F69="congé parentale",F69="congé de naissance")) -> 1 | AH69: J5 | AI69: à | AJ69: J6 | AK69: {=IF(ISNUMBER(G70),G70-_xlfn.AGGREGATE(14,6,(K$4:K69<G70)*K$4:K69,1),"")} | AL69: =IF(ISNUMBER(AK69),ABS(IF(SUM(AK69-ref!E$9)>0,0,SUM(AK69-ref!E$9))),"")
E70: =E69+1 -> 43877 | F70: off | G70: =IF(AND(J70="",H70=""),"",E70+H70) | I70: =SUM(V70+AA70+AC70) -> 0 | K70: =IF(AND(H70="",J70=""),"",E70+J70+(H70>J70)) | L70: =IF(OR(F70="télétravail",F70="férié travaillé",F70="travail"),(J70-H70+IF(H70>J70,1)-I70),INDEX(ref!$E$22:'ref'!$E$37,MATCH(F70,gerald3,0))) -> 0 | M70: =IF(SUM(L70-ref!E$8)<0,0,SUM(L70-ref!E$8)) -> 0 | N70: =L70-(hs!D69+hs!F69+hs!H69+hs!J69) -> 0 | O70: =IF(OR(F70="férié travaillé",F70="travail",F70="asa",F70="rtt"),J70-H70+IF(H70>J70,1),INDEX(ref!$E$22:'ref'!$E$37,MATCH(F70,gerald2,0))) -> 0 | P70: =IF(SUM(O70-ref!E$4)<0,0,SUM(O70-ref!E$4)) -> 0 | Q70: =Q69+L70 -> 1.9263889 | V70: =U70-T70 -> 0 | W70: =IF(V70="","",IF(SUM(V70-ref!E$38)>0,0,IF(V70=0, "0:00", SUM(V70-ref!E$38)))) -> 0:00 | AA70: =Z70-Y70 -> 0 | AB70: =IF(AA70="","",IF(SUM(AA70-ref!E$38)>0,0,IF(AA70=0, "0:00", SUM(AA70-ref!E$38)))) -> 0:00 | AE70: =ref!E$11 -> 2 | AF70: =IF(AND(H70<>"",J70<>""),1,0+OR(N(J69)<N(H69),F70="récupération",F70="congé 1 jour",F70="congé 1/2 jour ",F70="congé 5h24",F70="arrêt maladie",F70="arrêt travail",F70="férié ",F70="congé parentale",F70="congé de naissance")) -> 0 | AH70: J6 | AI70: à | AJ70: J7 | AK70: {=IF(ISNUMBER(G71),G71-_xlfn.AGGREGATE(14,6,(K$4:K70<G71)*K$4:K70,1),"")} | AL70: =IF(ISNUMBER(AK70),ABS(IF(SUM(AK70-ref!E$9)>0,0,SUM(AK70-ref!E$9))),"")
E71: =E70+1 -> 43878 | F71: off | G71: =IF(AND(J71="",H71=""),"",E71+H71) | I71: =SUM(V71+AA71+AC71) -> 0 | K71: =IF(AND(H71="",J71=""),"",E71+J71+(H71>J71)) | L71: =IF(OR(F71="télétravail",F71="férié travaillé",F71="travail"),(J71-H71+IF(H71>J71,1)-I71),INDEX(ref!$E$22:'ref'!$E$37,MATCH(F71,gerald3,0))) -> 0 | M71: =IF(SUM(L71-ref!E$8)<0,0,SUM(L71-ref!E$8)) -> 0 | N71: =L71-(hs!D70+hs!F70+hs!H70+hs!J70) -> 0 | O71: =IF(OR(F71="férié travaillé",F71="travail",F71="asa",F71="rtt"),J71-H71+IF(H71>J71,1),INDEX(ref!$E$22:'ref'!$E$37,MATCH(F71,gerald2,0))) -> 0 | P71: =IF(SUM(O71-ref!E$4)<0,0,SUM(O71-ref!E$4)) -> 0 | Q71: =Q70+L71 -> 1.9263889 | V71: =U71-T71 -> 0 | W71: =IF(V71="","",IF(SUM(V71-ref!E$38)>0,0,IF(V71=0, "0:00", SUM(V71-ref!E$38)))) -> 0:00 | AA71: =Z71-Y71 -> 0 | AB71: =IF(AA71="","",IF(SUM(AA71-ref!E$38)>0,0,IF(AA71=0, "0:00", SUM(AA71-ref!E$38)))) -> 0:00 | AE71: =IF(SUM(Q71-ref!E$11)<0,0,SUM(Q71-ref!E$11)) -> 0 | AF71: =IF(AND(H71<>"",J71<>""),1,0+OR(N(J70)<N(H70),F71="récupération",F71="congé 1 jour",F71="congé 1/2 jour ",F71="congé 5h24",F71="arrêt maladie",F71="arrêt travail",F71="férié ",F71="congé parentale",F71="congé de naissance")) -> 0
B75: date | C75: Vscolaire | E75: =DATE(ref!E$2,B79,B77) -> 43879 | F75: congé 1 jour | G75: =IF(AND(J75="",H75=""),"",E75+H75) | I75: =SUM(V75+AA75+AC75) -> 0 | K75: =IF(AND(H75="",J75=""),"",E75+J75+(H75>J75)) | L75: =IF(OR(F75="télétravail",F75="férié travaillé",F75="travail"),(J75-H75+IF(H75>J75,1)-I75),INDEX(ref!$E$22:'ref'!$E$37,MATCH(F75,gerald3,0))) -> 0.29166667 | M75: =IF(SUM(L75-ref!E$8)<0,0,SUM(L75-ref!E$8)) -> 0 | N75: =L75-(hs!D74+hs!F74+hs!H74+hs!J74) -> 0.29166667 | O75: =IF(OR(F75="férié travaillé",F75="travail",F75="asa",F75="rtt"),J75-H75+IF(H75>J75,1),INDEX(ref!$E$22:'ref'!$E$37,MATCH(F75,gerald2,0))) -> 0.29166667 | P75: =IF(SUM(O75-ref!E$4)<0,0,SUM(O75-ref!E$4)) -> 0 | Q75: =L75 -> 0.29166667 | V75: =U75-T75 -> 0 | W75: =IF(V75="","",IF(SUM(V75-ref!E$38)>0,0,IF(V75=0, "0:00", SUM(V75-ref!E$38)))) -> 0:00 | AA75: =Z75-Y75 -> 0 | AB75: =IF(AA75="","",IF(SUM(AA75-ref!E$38)>0,0,IF(AA75=0, "0:00", SUM(AA75-ref!E$38)))) -> 0:00 | AE75: =SUM(AF75:AF81) -> 5 | AF75: =IF(AND(H75<>"",J75<>""),1,0+OR(N(J74)<N(H74),F75="récupération",F75="congé 1 jour",F75="congé 1/2 jour ",F75="congé 5h24",F75="arrêt maladie",F75="arrêt travail",F75="férié ",F75="congé parentale",F75="congé de naissance")) -> 1 | AH75: J1 | AI75: à | AJ75: J2 | AK75: {=IF(ISNUMBER(G76),G76-_xlfn.AGGREGATE(14,6,(K$4:K75<G76)*K$4:K75,1),"")} | AL75: =IF(ISNUMBER(AK75),ABS(IF(SUM(AK75-ref!E$9)>0,0,SUM(AK75-ref!E$9))),"")
B76: date | C76: Vscolaire | E76: =E75+1 -> 43880 | F76: congé 1 jour | G76: =IF(AND(J76="",H76=""),"",E76+H76) | I76: =SUM(V76+AA76+AC76) -> 0 | K76: =IF(AND(H76="",J76=""),"",E76+J76+(H76>J76)) | L76: =IF(OR(F76="télétravail",F76="férié travaillé",F76="travail"),(J76-H76+IF(H76>J76,1)-I76),INDEX(ref!$E$22:'ref'!$E$37,MATCH(F76,gerald3,0))) -> 0.29166667 | M76: =IF(SUM(L76-ref!E$8)<0,0,SUM(L76-ref!E$8)) -> 0 | N76: =L76-(hs!D75+hs!F75+hs!H75+hs!J75) -> 0.29166667 | O76: =IF(OR(F76="férié travaillé",F76="travail",F76="asa",F76="rtt"),J76-H76+IF(H76>J76,1),INDEX(ref!$E$22:'ref'!$E$37,MATCH(F76,gerald2,0))) -> 0.29166667 | P76: =IF(SUM(O76-ref!E$4)<0,0,SUM(O76-ref!E$4)) -> 0 | Q76: =Q75+L76 -> 0.58333333 | V76: =U76-T76 -> 0 | W76: =IF(V76="","",IF(SUM(V76-ref!E$38)>0,0,IF(V76=0, "0:00", SUM(V76-ref!E$38)))) -> 0:00 | AA76: =Z76-Y76 -> 0 | AB76: =IF(AA76="","",IF(SUM(AA76-ref!E$38)>0,0,IF(AA76=0, "0:00", SUM(AA76-ref!E$38)))) -> 0:00 | AE76: =IF(SUM(AE75-ref!E$7)<0,0,SUM(AE75-ref!E$7)) -> 0 | AF76: =IF(AND(H76<>"",J76<>""),1,0+OR(N(J75)<N(H75),F76="récupération",F76="congé 1 jour",F76="congé 1/2 jour ",F76="congé 5h24",F76="arrêt maladie",F76="arrêt travail",F76="férié ",F76="congé parentale",F76="congé de naissance")) -> 1 | AH76: J2 | AI76: à | AJ76: J3 | AK76: {=IF(ISNUMBER(G77),G77-_xlfn.AGGREGATE(14,6,(K$4:K76<G77)*K$4:K76,1),"")} | AL76: =IF(ISNUMBER(AK76),ABS(IF(SUM(AK76-ref!E$9)>0,0,SUM(AK76-ref!E$9))),"")
B77: 19 | C77: Vscolaire | E77: =E76+1 -> 43881 | F77: congé 1 jour | G77: =IF(AND(J77="",H77=""),"",E77+H77) | I77: =SUM(V77+AA77+AC77) -> 0 | K77: =IF(AND(H77="",J77=""),"",E77+J77+(H77>J77)) | L77: =IF(OR(F77="télétravail",F77="férié travaillé",F77="travail"),(J77-H77+IF(H77>J77,1)-I77),INDEX(ref!$E$22:'ref'!$E$37,MATCH(F77,gerald3,0))) -> 0.29166667 | M77: =IF(SUM(L77-ref!E$8)<0,0,SUM(L77-ref!E$8)) -> 0 | N77: =L77-(hs!D76+hs!F76+hs!H76+hs!J76) -> 0.29166667 | O77: =IF(OR(F77="férié travaillé",F77="travail",F77="asa",F77="rtt"),J77-H77+IF(H77>J77,1),INDEX(ref!$E$22:'ref'!$E$37,MATCH(F77,gerald2,0))) -> 0.29166667 | P77: =IF(SUM(O77-ref!E$4)<0,0,SUM(O77-ref!E$4)) -> 0 | Q77: =Q76+L77 -> 0.875 | V77: =U77-T77 -> 0 | W77: =IF(V77="","",IF(SUM(V77-ref!E$38)>0,0,IF(V77=0, "0:00", SUM(V77-ref!E$38)))) -> 0:00 | AA77: =Z77-Y77 -> 0 | AB77: =IF(AA77="","",IF(SUM(AA77-ref!E$38)>0,0,IF(AA77=0, "0:00", SUM(AA77-ref!E$38)))) -> 0:00 | AE77: H semaine | AF77: =IF(AND(H77<>"",J77<>""),1,0+OR(N(J76)<N(H76),F77="récupération",F77="congé 1 jour",F77="congé 1/2 jour ",F77="congé 5h24",F77="arrêt maladie",F77="arrêt travail",F77="férié ",F77="congé parentale",F77="congé de naissance")) -> 1 | AH77: J3 | AI77: à | AJ77: J4 | AK77: {=IF(ISNUMBER(G78),G78-_xlfn.AGGREGATE(14,6,(K$4:K77<G78)*K$4:K77,1),"")} | AL77: =IF(ISNUMBER(AK77),ABS(IF(SUM(AK77-ref!E$9)>0,0,SUM(AK77-ref!E$9))),"")
B78: mois | C78: Vscolaire | E78: =E77+1 -> 43882 | F78: congé 1 jour | G78: =IF(AND(J78="",H78=""),"",E78+H78) | I78: =SUM(V78+AA78+AC78) -> 0 | K78: =IF(AND(H78="",J78=""),"",E78+J78+(H78>J78)) | L78: =IF(OR(F78="télétravail",F78="férié travaillé",F78="travail"),(J78-H78+IF(H78>J78,1)-I78),INDEX(ref!$E$22:'ref'!$E$37,MATCH(F78,gerald3,0))) -> 0.29166667 | M78: =IF(SUM(L78-ref!E$8)<0,0,SUM(L78-ref!E$8)) -> 0 | N78: =L78-(hs!D77+hs!F77+hs!H77+hs!J77) -> 0.29166667 | O78: =IF(OR(F78="férié travaillé",F78="travail",F78="asa",F78="rtt"),J78-H78+IF(H78>J78,1),INDEX(ref!$E$22:'ref'!$E$37,MATCH(F78,gerald2,0))) -> 0.29166667 | P78: =IF(SUM(O78-ref!E$4)<0,0,SUM(O78-ref!E$4)) -> 0 | Q78: =Q77+L78 -> 1.1666667 | V78: =U78-T78 -> 0 | W78: =IF(V78="","",IF(SUM(V78-ref!E$38)>0,0,IF(V78=0, "0:00", SUM(V78-ref!E$38)))) -> 0:00 | AA78: =Z78-Y78 -> 0 | AB78: =IF(AA78="","",IF(SUM(AA78-ref!E$38)>0,0,IF(AA78=0, "0:00", SUM(AA78-ref!E$38)))) -> 0:00 | AE78: =Q81 -> 1.4583333 | AF78: =IF(AND(H78<>"",J78<>""),1,0+OR(N(J77)<N(H77),F78="récupération",F78="congé 1 jour",F78="congé 1/2 jour ",F78="congé 5h24",F78="arrêt maladie",F78="arrêt travail",F78="férié ",F78="congé parentale",F78="congé de naissance")) -> 1 | AH78: J4 | AI78: à | AJ78: J5 | AK78: {=IF(ISNUMBER(G79),G79-_xlfn.AGGREGATE(14,6,(K$4:K78<G79)*K$4:K78,1),"")} | AL78: =IF(ISNUMBER(AK78),ABS(IF(SUM(AK78-ref!E$9)>0,0,SUM(AK78-ref!E$9))),"")
B79: 2 | C79: Vscolaire | E79: =E78+1 -> 43883 | F79: congé 1 jour | G79: =IF(AND(J79="",H79=""),"",E79+H79) | I79: =SUM(V79+AA79+AC79) -> 0 | K79: =IF(AND(H79="",J79=""),"",E79+J79+(H79>J79)) | L79: =IF(OR(F79="télétravail",F79="férié travaillé",F79="travail"),(J79-H79+IF(H79>J79,1)-I79),INDEX(ref!$E$22:'ref'!$E$37,MATCH(F79,gerald3,0))) -> 0.29166667 | M79: =IF(SUM(L79-ref!E$8)<0,0,SUM(L79-ref!E$8)) -> 0 | N79: =L79-(hs!D78+hs!F78+hs!H78+hs!J78) -> 0.29166667 | O79: =IF(OR(F79="férié travaillé",F79="travail",F79="asa",F79="rtt"),J79-H79+IF(H79>J79,1),INDEX(ref!$E$22:'ref'!$E$37,MATCH(F79,gerald2,0))) -> 0.29166667 | P79: =IF(SUM(O79-ref!E$4)<0,0,SUM(O79-ref!E$4)) -> 0 | Q79: =Q78+L79 -> 1.4583333 | V79: =U79-T79 -> 0 | W79: =IF(V79="","",IF(SUM(V79-ref!E$38)>0,0,IF(V79=0, "0:00", SUM(V79-ref!E$38)))) -> 0:00 | AA79: =Z79-Y79 -> 0 | AB79: =IF(AA79="","",IF(SUM(AA79-ref!E$38)>0,0,IF(AA79=0, "0:00", SUM(AA79-ref!E$38)))) -> 0:00 | AE79: H semaine hc de | AF79: =IF(AND(H79<>"",J79<>""),1,0+OR(N(J78)<N(H78),F79="récupération",F79="congé 1 jour",F79="congé 1/2 jour ",F79="congé 5h24",F79="arrêt maladie",F79="arrêt travail",F79="férié ",F79="congé parentale",F79="congé de naissance")) -> 1 | AH79: J5 | AI79: à | AJ79: J6 | AK79: {=IF(ISNUMBER(G80),G80-_xlfn.AGGREGATE(14,6,(K$4:K79<G80)*K$4:K79,1),"")} | AL79: =IF(ISNUMBER(AK79),ABS(IF(SUM(AK79-ref!E$9)>0,0,SUM(AK79-ref!E$9))),"")
E80: =E79+1 -> 43884 | F80: off | G80: =IF(AND(J80="",H80=""),"",E80+H80) | I80: =SUM(V80+AA80+AC80) -> 0 | K80: =IF(AND(H80="",J80=""),"",E80+J80+(H80>J80)) | L80: =IF(OR(F80="télétravail",F80="férié travaillé",F80="travail"),(J80-H80+IF(H80>J80,1)-I80),INDEX(ref!$E$22:'ref'!$E$37,MATCH(F80,gerald3,0))) -> 0 | M80: =IF(SUM(L80-ref!E$8)<0,0,SUM(L80-ref!E$8)) -> 0 | N80: =L80-(hs!D79+hs!F79+hs!H79+hs!J79) -> 0 | O80: =IF(OR(F80="férié travaillé",F80="travail",F80="asa",F80="rtt"),J80-H80+IF(H80>J80,1),INDEX(ref!$E$22:'ref'!$E$37,MATCH(F80,gerald2,0))) -> 0 | P80: =IF(SUM(O80-ref!E$4)<0,0,SUM(O80-ref!E$4)) -> 0 | Q80: =Q79+L80 -> 1.4583333 | V80: =U80-T80 -> 0 | W80: =IF(V80="","",IF(SUM(V80-ref!E$38)>0,0,IF(V80=0, "0:00", SUM(V80-ref!E$38)))) -> 0:00 | AA80: =Z80-Y80 -> 0 | AB80: =IF(AA80="","",IF(SUM(AA80-ref!E$38)>0,0,IF(AA80=0, "0:00", SUM(AA80-ref!E$38)))) -> 0:00 | AE80: =ref!E$11 -> 2 | AF80: =IF(AND(H80<>"",J80<>""),1,0+OR(N(J79)<N(H79),F80="récupération",F80="congé 1 jour",F80="congé 1/2 jour ",F80="congé 5h24",F80="arrêt maladie",F80="arrêt travail",F80="férié ",F80="congé parentale",F80="congé de naissance")) -> 0 | AH80: J6 | AI80: à | AJ80: J7 | AK80: {=IF(ISNUMBER(G81),G81-_xlfn.AGGREGATE(14,6,(K$4:K80<G81)*K$4:K80,1),"")} | AL80: =IF(ISNUMBER(AK80),ABS(IF(SUM(AK80-ref!E$9)>0,0,SUM(AK80-ref!E$9))),"")
E81: =E80+1 -> 43885 | F81: off | G81: =IF(AND(J81="",H81=""),"",E81+H81) | I81: =SUM(V81+AA81+AC81) -> 0 | K81: =IF(AND(H81="",J81=""),"",E81+J81+(H81>J81)) | L81: =IF(OR(F81="télétravail",F81="férié travaillé",F81="travail"),(J81-H81+IF(H81>J81,1)-I81),INDEX(ref!$E$22:'ref'!$E$37,MATCH(F81,gerald3,0))) -> 0 | M81: =IF(SUM(L81-ref!E$8)<0,0,SUM(L81-ref!E$8)) -> 0 | N81: =L81-(hs!D80+hs!F80+hs!H80+hs!J80) -> 0 | O81: =IF(OR(F81="férié travaillé",F81="travail",F81="asa",F81="rtt"),J81-H81+IF(H81>J81,1),INDEX(ref!$E$22:'ref'!$E$37,MATCH(F81,gerald2,0))) -> 0 | P81: =IF(SUM(O81-ref!E$4)<0,0,SUM(O81-ref!E$4)) -> 0 | Q81: =Q80+L81 -> 1.4583333 | V81: =U81-T81 -> 0 | W81: =IF(V81="","",IF(SUM(V81-ref!E$38)>0,0,IF(V81=0, "0:00", SUM(V81-ref!E$38)))) -> 0:00 | AA81: =Z81-Y81 -> 0 | AB81: =IF(AA81="","",IF(SUM(AA81-ref!E$38)>0,0,IF(AA81=0, "0:00", SUM(AA81-ref!E$38)))) -> 0:00 | AE81: =IF(SUM(Q81-ref!E$11)<0,0,SUM(Q81-ref!E$11)) -> 0 | AF81: =IF(AND(H81<>"",J81<>""),1,0+OR(N(J80)<N(H80),F81="récupération",F81="congé 1 jour",F81="congé 1/2 jour ",F81="congé 5h24",F81="arrêt maladie",F81="arrêt travail",F81="férié ",F81="congé parentale",F81="congé de naissance")) -> 0
B85: date | C85: Vscolaire | E85: =DATE(ref!E$2,B89,B87) -> 43886 | F85: arrêt maladie | G85: =IF(AND(J85="",H85=""),"",E85+H85) | I85: =SUM(V85+AA85+AC85) -> 0 | K85: =IF(AND(H85="",J85=""),"",E85+J85+(H85>J85)) | L85: =IF(OR(F85="télétravail",F85="férié travaillé",F85="travail"),(J85-H85+IF(H85>J85,1)-I85),INDEX(ref!$E$22:'ref'!$E$37,MATCH(F85,gerald3,0))) -> 0.29166667 | M85: =IF(SUM(L85-ref!E$8)<0,0,SUM(L85-ref!E$8)) -> 0 | N85: =L85-(hs!D84+hs!F84+hs!H84+hs!J84) -> 0.29166667 | O85: =IF(OR(F85="férié travaillé",F85="travail",F85="asa",F85="rtt"),J85-H85+IF(H85>J85,1),INDEX(ref!$E$22:'ref'!$E$37,MATCH(F85,gerald2,0))) -> 0.29166667 | P85: =IF(SUM(O85-ref!E$4)<0,0,SUM(O85-ref!E$4)) -> 0 | Q85: =L85 -> 0.29166667 | V85: =U85-T85 -> 0 | W85: =IF(V85="","",IF(SUM(V85-ref!E$38)>0,0,IF(V85=0, "0:00", SUM(V85-ref!E$38)))) -> 0:00 | AA85: =Z85-Y85 -> 0 | AB85: =IF(AA85="","",IF(SUM(AA85-ref!E$38)>0,0,IF(AA85=0, "0:00", SUM(AA85-ref!E$38)))) -> 0:00 | AE85: =SUM(AF85:AF91) -> 5 | AF85: =IF(AND(H85<>"",J85<>""),1,0+OR(N(J84)<N(H84),F85="récupération",F85="congé 1 jour",F85="congé 1/2 jour ",F85="congé 5h24",F85="arrêt maladie",F85="arrêt travail",F85="férié ",F85="congé parentale",F85="congé de naissance")) -> 1 | AH85: J1 | AI85: à | AJ85: J2 | AK85: {=IF(ISNUMBER(G86),G86-_xlfn.AGGREGATE(14,6,(K$4:K85<G86)*K$4:K85,1),"")} | AL85: =IF(ISNUMBER(AK85),ABS(IF(SUM(AK85-ref!E$9)>0,0,SUM(AK85-ref!E$9))),"")
B86: date | C86: Vscolaire | E86: =E85+1 -> 43887 | F86: arrêt maladie | G86: =IF(AND(J86="",H86=""),"",E86+H86) | I86: =SUM(V86+AA86+AC86) -> 0 | K86: =IF(AND(H86="",J86=""),"",E86+J86+(H86>J86)) | L86: =IF(OR(F86="télétravail",F86="férié travaillé",F86="travail"),(J86-H86+IF(H86>J86,1)-I86),INDEX(ref!$E$22:'ref'!$E$37,MATCH(F86,gerald3,0))) -> 0.29166667 | M86: =IF(SUM(L86-ref!E$8)<0,0,SUM(L86-ref!E$8)) -> 0 | N86: =L86-(hs!D85+hs!F85+hs!H85+hs!J85) -> 0.29166667 | O86: =IF(OR(F86="férié travaillé",F86="travail",F86="asa",F86="rtt"),J86-H86+IF(H86>J86,1),INDEX(ref!$E$22:'ref'!$E$37,MATCH(F86,gerald2,0))) -> 0.29166667 | P86: =IF(SUM(O86-ref!E$4)<0,0,SUM(O86-ref!E$4)) -> 0 | Q86: =Q85+L86 -> 0.58333333 | V86: =U86-T86 -> 0 | W86: =IF(V86="","",IF(SUM(V86-ref!E$38)>0,0,IF(V86=0, "0:00", SUM(V86-ref!E$38)))) -> 0:00 | AA86: =Z86-Y86 -> 0 | AB86: =IF(AA86="","",IF(SUM(AA86-ref!E$38)>0,0,IF(AA86=0, "0:00", SUM(AA86-ref!E$38)))) -> 0:00 | AE86: =IF(SUM(AE85-ref!E$7)<0,0,SUM(AE85-ref!E$7)) -> 0 | AF86: =IF(AND(H86<>"",J86<>""),1,0+OR(N(J85)<N(H85),F86="récupération",F86="congé 1 jour",F86="congé 1/2 jour ",F86="congé 5h24",F86="arrêt maladie",F86="arrêt travail",F86="férié ",F86="congé parentale",F86="congé de naissance")) -> 1 | AH86: J2 | AI86: à | AJ86: J3 | AK86: {=IF(ISNUMBER(G87),G87-_xlfn.AGGREGATE(14,6,(K$4:K86<G87)*K$4:K86,1),"")} | AL86: =IF(ISNUMBER(AK86),ABS(IF(SUM(AK86-ref!E$9)>0,0,SUM(AK86-ref!E$9))),"")
B87: 26 | C87: Vscolaire | E87: =E86+1 -> 43888 | F87: arrêt maladie | G87: =IF(AND(J87="",H87=""),"",E87+H87) | I87: =SUM(V87+AA87+AC87) -> 0 | K87: =IF(AND(H87="",J87=""),"",E87+J87+(H87>J87)) | L87: =IF(OR(F87="télétravail",F87="férié travaillé",F87="travail"),(J87-H87+IF(H87>J87,1)-I87),INDEX(ref!$E$22:'ref'!$E$37,MATCH(F87,gerald3,0))) -> 0.29166667 | M87: =IF(SUM(L87-ref!E$8)<0,0,SUM(L87-ref!E$8)) -> 0 | N87: =L87-(hs!D86+hs!F86+hs!H86+hs!J86) -> 0.29166667 | O87: =IF(OR(F87="férié travaillé",F87="travail",F87="asa",F87="rtt"),J87-H87+IF(H87>J87,1),INDEX(ref!$E$22:'ref'!$E$37,MATCH(F87,gerald2,0))) -> 0.29166667 | P87: =IF(SUM(O87-ref!E$4)<0,0,SUM(O87-ref!E$4)) -> 0 | Q87: =Q86+L87 -> 0.875 | V87: =U87-T87 -> 0 | W87: =IF(V87="","",IF(SUM(V87-ref!E$38)>0,0,IF(V87=0, "0:00", SUM(V87-ref!E$38)))) -> 0:00 | AA87: =Z87-Y87 -> 0 | AB87: =IF(AA87="","",IF(SUM(AA87-ref!E$38)>0,0,IF(AA87=0, "0:00", SUM(AA87-ref!E$38)))) -> 0:00 | AE87: H semaine | AF87: =IF(AND(H87<>"",J87<>""),1,0+OR(N(J86)<N(H86),F87="récupération",F87="congé 1 jour",F87="congé 1/2 jour ",F87="congé 5h24",F87="arrêt maladie",F87="arrêt travail",F87="férié ",F87="congé parentale",F87="congé de naissance")) -> 1 | AH87: J3 | AI87: à | AJ87: J4 | AK87: {=IF(ISNUMBER(G88),G88-_xlfn.AGGREGATE(14,6,(K$4:K87<G88)*K$4:K87,1),"")} | AL87: =IF(ISNUMBER(AK87),ABS(IF(SUM(AK87-ref!E$9)>0,0,SUM(AK87-ref!E$9))),"")
B88: mois | C88: Vscolaire | E88: =E87+1 -> 43889 | F88: arrêt maladie | G88: =IF(AND(J88="",H88=""),"",E88+H88) | I88: =SUM(V88+AA88+AC88) -> 0 | K88: =IF(AND(H88="",J88=""),"",E88+J88+(H88>J88)) | L88: =IF(OR(F88="télétravail",F88="férié travaillé",F88="travail"),(J88-H88+IF(H88>J88,1)-I88),INDEX(ref!$E$22:'ref'!$E$37,MATCH(F88,gerald3,0))) -> 0.29166667 | M88: =IF(SUM(L88-ref!E$8)<0,0,SUM(L88-ref!E$8)) -> 0 | N88: =L88-(hs!D87+hs!F87+hs!H87+hs!J87) -> 0.29166667 | O88: =IF(OR(F88="férié travaillé",F88="travail",F88="asa",F88="rtt"),J88-H88+IF(H88>J88,1),INDEX(ref!$E$22:'ref'!$E$37,MATCH(F88,gerald2,0))) -> 0.29166667 | P88: =IF(SUM(O88-ref!E$4)<0,0,SUM(O88-ref!E$4)) -> 0 | Q88: =Q87+L88 -> 1.1666667 | V88: =U88-T88 -> 0 | W88: =IF(V88="","",IF(SUM(V88-ref!E$38)>0,0,IF(V88=0, "0:00", SUM(V88-ref!E$38)))) -> 0:00 | AA88: =Z88-Y88 -> 0 | AB88: =IF(AA88="","",IF(SUM(AA88-ref!E$38)>0,0,IF(AA88=0, "0:00", SUM(AA88-ref!E$38)))) -> 0:00 | AE88: =Q91 -> 1.4583333 | AF88: =IF(AND(H88<>"",J88<>""),1,0+OR(N(J87)<N(H87),F88="récupération",F88="congé 1 jour",F88="congé 1/2 jour ",F88="congé 5h24",F88="arrêt maladie",F88="arrêt travail",F88="férié ",F88="congé parentale",F88="congé de naissance")) -> 1 | AH88: J4 | AI88: à | AJ88: J5 | AK88: {=IF(ISNUMBER(G89),G89-_xlfn.AGGREGATE(14,6,(K$4:K88<G89)*K$4:K88,1),"")} | AL88: =IF(ISNUMBER(AK88),ABS(IF(SUM(AK88-ref!E$9)>0,0,SUM(AK88-ref!E$9))),"")
B89: 2 | C89: Vscolaire | E89: =E88+1 -> 43890 | F89: arrêt maladie | G89: =IF(AND(J89="",H89=""),"",E89+H89) | I89: =SUM(V89+AA89+AC89) -> 0 | K89: =IF(AND(H89="",J89=""),"",E89+J89+(H89>J89)) | L89: =IF(OR(F89="télétravail",F89="férié travaillé",F89="travail"),(J89-H89+IF(H89>J89,1)-I89),INDEX(ref!$E$22:'ref'!$E$37,MATCH(F89,gerald3,0))) -> 0.29166667 | M89: =IF(SUM(L89-ref!E$8)<0,0,SUM(L89-ref!E$8)) -> 0 | N89: =L89-(hs!D88+hs!F88+hs!H88+hs!J88) -> 0.29166667 | O89: =IF(OR(F89="férié travaillé",F89="travail",F89="asa",F89="rtt"),J89-H89+IF(H89>J89,1),INDEX(ref!$E$22:'ref'!$E$37,MATCH(F89,gerald2,0))) -> 0.29166667 | P89: =IF(SUM(O89-ref!E$4)<0,0,SUM(O89-ref!E$4)) -> 0 | Q89: =Q88+L89 -> 1.4583333 | V89: =U89-T89 -> 0 | W89: =IF(V89="","",IF(SUM(V89-ref!E$38)>0,0,IF(V89=0, "0:00", SUM(V89-ref!E$38)))) -> 0:00 | AA89: =Z89-Y89 -> 0 | AB89: =IF(AA89="","",IF(SUM(AA89-ref!E$38)>0,0,IF(AA89=0, "0:00", SUM(AA89-ref!E$38)))) -> 0:00 | AE89: H semaine hc de | AF89: =IF(AND(H89<>"",J89<>""),1,0+OR(N(J88)<N(H88),F89="récupération",F89="congé 1 jour",F89="congé 1/2 jour ",F89="congé 5h24",F89="arrêt maladie",F89="arrêt travail",F89="férié ",F89="congé parentale",F89="congé de naissance")) -> 1 | AH89: J5 | AI89: à | AJ89: J6 | AK89: {=IF(ISNUMBER(G90),G90-_xlfn.AGGREGATE(14,6,(K$4:K89<G90)*K$4:K89,1),"")} | AL89: =IF(ISNUMBER(AK89),ABS(IF(SUM(AK89-ref!E$9)>0,0,SUM(AK89-ref!E$9))),"")
E90: =E89+1 -> 43891 | F90: off | G90: =IF(AND(J90="",H90=""),"",E90+H90) | I90: =SUM(V90+AA90+AC90) -> 0 | K90: =IF(AND(H90="",J90=""),"",E90+J90+(H90>J90)) | L90: =IF(OR(F90="télétravail",F90="férié travaillé",F90="travail"),(J90-H90+IF(H90>J90,1)-I90),INDEX(ref!$E$22:'ref'!$E$37,MATCH(F90,gerald3,0))) -> 0 | M90: =IF(SUM(L90-ref!E$8)<0,0,SUM(L90-ref!E$8)) -> 0 | N90: =L90-(hs!D89+hs!F89+hs!H89+hs!J89) -> 0 | O90: =IF(OR(F90="férié travaillé",F90="travail",F90="asa",F90="rtt"),J90-H90+IF(H90>J90,1),INDEX(ref!$E$22:'ref'!$E$37,MATCH(F90,gerald2,0))) -> 0 | P90: =IF(SUM(O90-ref!E$4)<0,0,SUM(O90-ref!E$4)) -> 0 | Q90: =Q89+L90 -> 1.4583333 | V90: =U90-T90 -> 0 | W90: =IF(V90="","",IF(SUM(V90-ref!E$38)>0,0,IF(V90=0, "0:00", SUM(V90-ref!E$38)))) -> 0:00 | AA90: =Z90-Y90 -> 0 | AB90: =IF(AA90="","",IF(SUM(AA90-ref!E$38)>0,0,IF(AA90=0, "0:00", SUM(AA90-ref!E$38)))) -> 0:00 | AE90: =ref!E$11 -> 2 | AF90: =IF(AND(H90<>"",J90<>""),1,0+OR(N(J89)<N(H89),F90="récupération",F90="congé 1 jour",F90="congé 1/2 jour ",F90="congé 5h24",F90="arrêt maladie",F90="arrêt travail",F90="férié ",F90="congé parentale",F90="congé de naissance")) -> 0 | AH90: J6 | AI90: à | AJ90: J7 | AK90: {=IF(ISNUMBER(G91),G91-_xlfn.AGGREGATE(14,6,(K$4:K90<G91)*K$4:K90,1),"")} | AL90: =IF(ISNUMBER(AK90),ABS(IF(SUM(AK90-ref!E$9)>0,0,SUM(AK90-ref!E$9))),"")
E91: =E90+1 -> 43892 | F91: off | G91: =IF(AND(J91="",H91=""),"",E91+H91) | I91: =SUM(V91+AA91+AC91) -> 0 | K91: =IF(AND(H91="",J91=""),"",E91+J91+(H91>J91)) | L91: =IF(OR(F91="télétravail",F91="férié travaillé",F91="travail"),(J91-H91+IF(H91>J91,1)-I91),INDEX(ref!$E$22:'ref'!$E$37,MATCH(F91,gerald3,0))) -> 0 | M91: =IF(SUM(L91-ref!E$8)<0,0,SUM(L91-ref!E$8)) -> 0 | N91: =L91-(hs!D90+hs!F90+hs!H90+hs!J90) -> 0 | O91: =IF(OR(F91="férié travaillé",F91="travail",F91="asa",F91="rtt"),J91-H91+IF(H91>J91,1),INDEX(ref!$E$22:'ref'!$E$37,MATCH(F91,gerald2,0))) -> 0 | P91: =IF(SUM(O91-ref!E$4)<0,0,SUM(O91-ref!E$4)) -> 0 | Q91: =Q90+L91 -> 1.4583333 | V91: =U91-T91 -> 0 | W91: =IF(V91="","",IF(SUM(V91-ref!E$38)>0,0,IF(V91=0, "0:00", SUM(V91-ref!E$38)))) -> 0:00 | AA91: =Z91-Y91 -> 0 | AB91: =IF(AA91="","",IF(SUM(AA91-ref!E$38)>0,0,IF(AA91=0, "0:00", SUM(AA91-ref!E$38)))) -> 0:00 | AE91: =IF(SUM(Q91-ref!E$11)<0,0,SUM(Q91-ref!E$11)) -> 0 | AF91: =IF(AND(H91<>"",J91<>""),1,0+OR(N(J90)<N(H90),F91="récupération",F91="congé 1 jour",F91="congé 1/2 jour ",F91="congé 5h24",F91="arrêt maladie",F91="arrêt travail",F91="férié ",F91="congé parentale",F91="congé de naissance")) -> 0
B95: date | C95: travail | E95: =DATE(ref!E$2,B99,B97) -> 43893 | F95: travail | G95: =IF(AND(J95="",H95=""),"",E95+H95) -> 43893.377 | H95: 0.37708333 | I95: =SUM(V95+AA95+AC95) -> 0.031944444 | J95: 0.67847222 | K95: =IF(AND(H95="",J95=""),"",E95+J95+(H95>J95)) -> 43893.678 | L95: =IF(OR(F95="télétravail",F95="férié travaillé",F95="travail"),(J95-H95+IF(H95>J95,1)-I95),INDEX(ref!$E$22:'ref'!$E$37,MATCH(F95,gerald3,0))) -> 0.26944444 | M95: =IF(SUM(L95-ref!E$8)<0,0,SUM(L95-ref!E$8)) -> 0 | N95: =L95-(hs!D94+hs!F94+hs!H94+hs!J94) -> -0.031944444 | O95: =IF(OR(F95="férié travaillé",F95="travail",F95="asa",F95="rtt"),J95-H95+IF(H95>J95,1),INDEX(ref!$E$22:'ref'!$E$37,MATCH(F95,gerald2,0))) -> 0.30138889 | P95: =IF(SUM(O95-ref!E$4)<0,0,SUM(O95-ref!E$4)) -> 0 | Q95: =L95 -> 0.26944444 | T95: 0.52083333 | U95: 0.55277778 | V95: =U95-T95 -> 0.031944444 | W95: =IF(V95="","",IF(SUM(V95-ref!E$38)>0,0,IF(V95=0, "0:00", SUM(V95-ref!E$38)))) -> 0 | AA95: =Z95-Y95 -> 0 | AB95: =IF(AA95="","",IF(SUM(AA95-ref!E$38)>0,0,IF(AA95=0, "0:00", SUM(AA95-ref!E$38)))) -> 0:00 | AE95: =SUM(AF95:AF101) -> 5 | AF95: =IF(AND(H95<>"",J95<>""),1,0+OR(N(J94)<N(H94),F95="récupération",F95="congé 1 jour",F95="congé 1/2 jour ",F95="congé 5h24",F95="arrêt maladie",F95="arrêt travail",F95="férié ",F95="congé parentale",F95="congé de naissance")) -> 1 | AH95: J1 | AI95: à | AJ95: J2 | AK95: {=IF(ISNUMBER(G96),G96-_xlfn.AGGREGATE(14,6,(K$4:K95<G96)*K$4:K95,1),"")} -> 0.69652778 | AL95: =IF(ISNUMBER(AK95),ABS(IF(SUM(AK95-ref!E$9)>0,0,SUM(AK95-ref!E$9))),"") -> 0
B96: date | C96: travail | E96: =E95+1 -> 43894 | F96: travail | G96: =IF(AND(J96="",H96=""),"",E96+H96) -> 43894.375 | H96: 0.375 | I96: =SUM(V96+AA96+AC96) -> 0.033333333 | J96: 0.90347222 | K96: =IF(AND(H96="",J96=""),"",E96+J96+(H96>J96)) -> 43894.903 | L96: =IF(OR(F96="télétravail",F96="férié travaillé",F96="travail"),(J96-H96+IF(H96>J96,1)-I96),INDEX(ref!$E$22:'ref'!$E$37,MATCH(F96,gerald3,0))) -> 0.49513889 | M96: =IF(SUM(L96-ref!E$8)<0,0,SUM(L96-ref!E$8)) -> 0.078472222 | N96: =L96-(hs!D95+hs!F95+hs!H95+hs!J95) -> -0.16597222 | O96: =IF(OR(F96="férié travaillé",F96="travail",F96="asa",F96="rtt"),J96-H96+IF(H96>J96,1),INDEX(ref!$E$22:'ref'!$E$37,MATCH(F96,gerald2,0))) -> 0.52847222 | P96: =IF(SUM(O96-ref!E$4)<0,0,SUM(O96-ref!E$4)) -> 0.028472222 | Q96: =Q95+L96 -> 0.76458333 | T96: 0.50486111 | U96: 0.53819444 | V96: =U96-T96 -> 0.033333333 | W96: =IF(V96="","",IF(SUM(V96-ref!E$38)>0,0,IF(V96=0, "0:00", SUM(V96-ref!E$38)))) -> 0 | AA96: =Z96-Y96 -> 0 | AB96: =IF(AA96="","",IF(SUM(AA96-ref!E$38)>0,0,IF(AA96=0, "0:00", SUM(AA96-ref!E$38)))) -> 0:00 | AE96: =IF(SUM(AE95-ref!E$7)<0,0,SUM(AE95-ref!E$7)) -> 0 | AF96: =IF(AND(H96<>"",J96<>""),1,0+OR(N(J95)<N(H95),F96="récupération",F96="congé 1 jour",F96="congé 1/2 jour ",F96="congé 5h24",F96="arrêt maladie",F96="arrêt travail",F96="férié ",F96="congé parentale",F96="congé de naissance")) -> 1 | AH96: J2 | AI96: à | AJ96: J3 | AK96: {=IF(ISNUMBER(G97),G97-_xlfn.AGGREGATE(14,6,(K$4:K96<G97)*K$4:K96,1),"")} -> 0.56805556 | AL96: =IF(ISNUMBER(AK96),ABS(IF(SUM(AK96-ref!E$9)>0,0,SUM(AK96-ref!E$9))),"") -> 0
B97: 4 | C97: travail | E97: =E96+1 -> 43895 | F97: travail | G97: =IF(AND(J97="",H97=""),"",E97+H97) -> 43895.472 | H97: 0.47152778 | I97: =SUM(V97+AA97+AC97) -> 0.041666667 | J97: 0.75555556 | K97: =IF(AND(H97="",J97=""),"",E97+J97+(H97>J97)) -> 43895.756 | L97: =IF(OR(F97="télétravail",F97="férié travaillé",F97="travail"),(J97-H97+IF(H97>J97,1)-I97),INDEX(ref!$E$22:'ref'!$E$37,MATCH(F97,gerald3,0))) -> 0.24236111 | M97: =IF(SUM(L97-ref!E$8)<0,0,SUM(L97-ref!E$8)) -> 0 | N97: =L97-(hs!D96+hs!F96+hs!H96+hs!J96) -> -0.041666667 | O97: =IF(OR(F97="férié travaillé",F97="travail",F97="asa",F97="rtt"),J97-H97+IF(H97>J97,1),INDEX(ref!$E$22:'ref'!$E$37,MATCH(F97,gerald2,0))) -> 0.28402778 | P97: =IF(SUM(O97-ref!E$4)<0,0,SUM(O97-ref!E$4)) -> 0 | Q97: =Q96+L97 -> 1.0069444 | T97: 0.51111111 | U97: 0.55277778 | V97: =U97-T97 -> 0.041666667 | W97: =IF(V97="","",IF(SUM(V97-ref!E$38)>0,0,IF(V97=0, "0:00", SUM(V97-ref!E$38)))) -> 0 | AA97: =Z97-Y97 -> 0 | AB97: =IF(AA97="","",IF(SUM(AA97-ref!E$38)>0,0,IF(AA97=0, "0:00", SUM(AA97-ref!E$38)))) -> 0:00 | AE97: H semaine | AF97: =IF(AND(H97<>"",J97<>""),1,0+OR(N(J96)<N(H96),F97="récupération",F97="congé 1 jour",F97="congé 1/2 jour ",F97="congé 5h24",F97="arrêt maladie",F97="arrêt travail",F97="férié ",F97="congé parentale",F97="congé de naissance")) -> 1 | AH97: J3 | AI97: à | AJ97: J4 | AK97: {=IF(ISNUMBER(G98),G98-_xlfn.AGGREGATE(14,6,(K$4:K97<G98)*K$4:K97,1),"")} -> 0.62291667 | AL97: =IF(ISNUMBER(AK97),ABS(IF(SUM(AK97-ref!E$9)>0,0,SUM(AK97-ref!E$9))),"") -> 0
B98: mois | C98: travail | E98: =E97+1 -> 43896 | F98: travail | G98: =IF(AND(J98="",H98=""),"",E98+H98) -> 43896.378 | H98: 0.37847222 | I98: =SUM(V98+AA98+AC98) -> 0.035416667 | J98: 0.76180556 | K98: =IF(AND(H98="",J98=""),"",E98+J98+(H98>J98)) -> 43896.762 | L98: =IF(OR(F98="télétravail",F98="férié travaillé",F98="travail"),(J98-H98+IF(H98>J98,1)-I98),INDEX(ref!$E$22:'ref'!$E$37,MATCH(F98,gerald3,0))) -> 0.34791667 | M98: =IF(SUM(L98-ref!E$8)<0,0,SUM(L98-ref!E$8)) -> 0 | N98: =L98-(hs!D97+hs!F97+hs!H97+hs!J97) -> -0.035416667 | O98: =IF(OR(F98="férié travaillé",F98="travail",F98="asa",F98="rtt"),J98-H98+IF(H98>J98,1),INDEX(ref!$E$22:'ref'!$E$37,MATCH(F98,gerald2,0))) -> 0.38333333 | P98: =IF(SUM(O98-ref!E$4)<0,0,SUM(O98-ref!E$4)) -> 0 | Q98: =Q97+L98 -> 1.3548611 | T98: 0.53680556 | U98: 0.57222222 | V98: =U98-T98 -> 0.035416667 | W98: =IF(V98="","",IF(SUM(V98-ref!E$38)>0,0,IF(V98=0, "0:00", SUM(V98-ref!E$38)))) -> 0 | AA98: =Z98-Y98 -> 0 | AB98: =IF(AA98="","",IF(SUM(AA98-ref!E$38)>0,0,IF(AA98=0, "0:00", SUM(AA98-ref!E$38)))) -> 0:00 | AE98: =Q101 -> 1.7638889 | AF98: =IF(AND(H98<>"",J98<>""),1,0+OR(N(J97)<N(H97),F98="récupération",F98="congé 1 jour",F98="congé 1/2 jour ",F98="congé 5h24",F98="arrêt maladie",F98="arrêt travail",F98="férié ",F98="congé parentale",F98="congé de naissance")) -> 1 | AH98: J4 | AI98: à | AJ98: J5 | AK98: {=IF(ISNUMBER(G99),G99-_xlfn.AGGREGATE(14,6,(K$4:K98<G99)*K$4:K98,1),"")} -> 0.68958333 | AL98: =IF(ISNUMBER(AK98),ABS(IF(SUM(AK98-ref!E$9)>0,0,SUM(AK98-ref!E$9))),"") -> 0
B99: 3 | C99: travail | E99: =E98+1 -> 43897 | F99: travail | G99: =IF(AND(J99="",H99=""),"",E99+H99) -> 43897.451 | H99: 0.45138889 | I99: =SUM(V99+AA99+AC99) -> 0.020833333 | J99: 0.88125 | K99: =IF(AND(H99="",J99=""),"",E99+J99+(H99>J99)) -> 43897.881 | L99: =IF(OR(F99="télétravail",F99="férié travaillé",F99="travail"),(J99-H99+IF(H99>J99,1)-I99),INDEX(ref!$E$22:'ref'!$E$37,MATCH(F99,gerald3,0))) -> 0.40902778 | M99: =IF(SUM(L99-ref!E$8)<0,0,SUM(L99-ref!E$8)) -> 0 | N99: =L99-(hs!D98+hs!F98+hs!H98+hs!J98) -> -0.13125 | O99: =IF(OR(F99="férié travaillé",F99="travail",F99="asa",F99="rtt"),J99-H99+IF(H99>J99,1),INDEX(ref!$E$22:'ref'!$E$37,MATCH(F99,gerald2,0))) -> 0.42986111 | P99: =IF(SUM(O99-ref!E$4)<0,0,SUM(O99-ref!E$4)) -> 0 | Q99: =Q98+L99 -> 1.7638889 | T99: 0.56111111 | U99: 0.58194444 | V99: =U99-T99 -> 0.020833333 | W99: =IF(V99="","",IF(SUM(V99-ref!E$38)>0,0,IF(V99=0, "0:00", SUM(V99-ref!E$38)))) -> -0.010416667 | AA99: =Z99-Y99 -> 0 | AB99: =IF(AA99="","",IF(SUM(AA99-ref!E$38)>0,0,IF(AA99=0, "0:00", SUM(AA99-ref!E$38)))) -> 0:00 | AE99: H semaine hc de | AF99: =IF(AND(H99<>"",J99<>""),1,0+OR(N(J98)<N(H98),F99="récupération",F99="congé 1 jour",F99="congé 1/2 jour ",F99="congé 5h24",F99="arrêt maladie",F99="arrêt travail",F99="férié ",F99="congé parentale",F99="congé de naissance")) -> 1 | AH99: J5 | AI99: à | AJ99: J6 | AK99: {=IF(ISNUMBER(G100),G100-_xlfn.AGGREGATE(14,6,(K$4:K99<G100)*K$4:K99,1),"")} | AL99: =IF(ISNUMBER(AK99),ABS(IF(SUM(AK99-ref!E$9)>0,0,SUM(AK99-ref!E$9))),"")
E100: =E99+1 -> 43898 | F100: off | G100: =IF(AND(J100="",H100=""),"",E100+H100) | I100: =SUM(V100+AA100+AC100) -> 0 | K100: =IF(AND(H100="",J100=""),"",E100+J100+(H100>J100)) | L100: =IF(OR(F100="télétravail",F100="férié travaillé",F100="travail"),(J100-H100+IF(H100>J100,1)-I100),INDEX(ref!$E$22:'ref'!$E$37,MATCH(F100,gerald3,0))) -> 0 | M100: =IF(SUM(L100-ref!E$8)<0,0,SUM(L100-ref!E$8)) -> 0 | N100: =L100-(hs!D99+hs!F99+hs!H99+hs!J99) -> 0 | O100: =IF(OR(F100="férié travaillé",F100="travail",F100="asa",F100="rtt"),J100-H100+IF(H100>J100,1),INDEX(ref!$E$22:'ref'!$E$37,MATCH(F100,gerald2,0))) -> 0 | P100: =IF(SUM(O100-ref!E$4)<0,0,SUM(O100-ref!E$4)) -> 0 | Q100: =Q99+L100 -> 1.7638889 | V100: =U100-T100 -> 0 | W100: =IF(V100="","",IF(SUM(V100-ref!E$38)>0,0,IF(V100=0, "0:00", SUM(V100-ref!E$38)))) -> 0:00 | AA100: =Z100-Y100 -> 0 | AB100: =IF(AA100="","",IF(SUM(AA100-ref!E$38)>0,0,IF(AA100=0, "0:00", SUM(AA100-ref!E$38)))) -> 0:00 | AE100: =ref!E$11 -> 2 | AF100: =IF(AND(H100<>"",J100<>""),1,0+OR(N(J99)<N(H99),F100="récupération",F100="congé 1 jour",F100="congé 1/2 jour ",F100="congé 5h24",F100="arrêt maladie",F100="arrêt travail",F100="férié ",F100="congé parentale",F100="congé de naissance")) -> 0 | AH100: J6 | AI100: à | AJ100: J7 | AK100: {=IF(ISNUMBER(G101),G101-_xlfn.AGGREGATE(14,6,(K$4:K100<G101)*K$4:K100,1),"")} | AL100: =IF(ISNUMBER(AK100),ABS(IF(SUM(AK100-ref!E$9)>0,0,SUM(AK100-ref!E$9))),"")
E101: =E100+1 -> 43899 | F101: off | G101: =IF(AND(J101="",H101=""),"",E101+H101) | I101: =SUM(V101+AA101+AC101) -> 0 | K101: =IF(AND(H101="",J101=""),"",E101+J101+(H101>J101)) | L101: =IF(OR(F101="télétravail",F101="férié travaillé",F101="travail"),(J101-H101+IF(H101>J101,1)-I101),INDEX(ref!$E$22:'ref'!$E$37,MATCH(F101,gerald3,0))) -> 0 | M101: =IF(SUM(L101-ref!E$8)<0,0,SUM(L101-ref!E$8)) -> 0 | N101: =L101-(hs!D100+hs!F100+hs!H100+hs!J100) -> 0 | O101: =IF(OR(F101="férié travaillé",F101="travail",F101="asa",F101="rtt"),J101-H101+IF(H101>J101,1),INDEX(ref!$E$22:'ref'!$E$37,MATCH(F101,gerald2,0))) -> 0 | P101: =IF(SUM(O101-ref!E$4)<0,0,SUM(O101-ref!E$4)) -> 0 | Q101: =Q100+L101 -> 1.7638889 | V101: =U101-T101 -> 0 | W101: =IF(V101="","",IF(SUM(V101-ref!E$38)>0,0,IF(V101=0, "0:00", SUM(V101-ref!E$38)))) -> 0:00 | AA101: =Z101-Y101 -> 0 | AB101: =IF(AA101="","",IF(SUM(AA101-ref!E$38)>0,0,IF(AA101=0, "0:00", SUM(AA101-ref!E$38)))) -> 0:00 | AE101: =IF(SUM(Q101-ref!E$11)<0,0,SUM(Q101-ref!E$11)) -> 0 | AF101: =IF(AND(H101<>"",J101<>""),1,0+OR(N(J100)<N(H100),F101="récupération",F101="congé 1 jour",F101="congé 1/2 jour ",F101="congé 5h24",F101="arrêt maladie",F101="arrêt travail",F101="férié ",F101="congé parentale",F101="congé de naissance")) -> 0
B105: date | C105: travail | E105: =DATE(ref!E$2,B109,B107) -> 43900 | F105: travail | G105: =IF(AND(J105="",H105=""),"",E105+H105) -> 43900.379 | H105: 0.37916667 | I105: =SUM(V105+AA105+AC105) -> 0.034027778 | J105: 0.79861111 | K105: =IF(AND(H105="",J105=""),"",E105+J105+(H105>J105)) -> 43900.799 | L105: =IF(OR(F105="télétravail",F105="férié travaillé",F105="travail"),(J105-H105+IF(H105>J105,1)-I105),INDEX(ref!$E$22:'ref'!$E$37,MATCH(F105,gerald3,0))) -> 0.38541667 | M105: =IF(SUM(L105-ref!E$8)<0,0,SUM(L105-ref!E$8)) -> 0 | N105: =L105-(hs!D104+hs!F104+hs!H104+hs!J104) -> -0.061805556 | O105: =IF(OR(F105="férié travaillé",F105="travail",F105="asa",F105="rtt"),J105-H105+IF(H105>J105,1),INDEX(ref!$E$22:'ref'!$E$37,MATCH(F105,gerald2,0))) -> 0.41944444 | P105: =IF(SUM(O105-ref!E$4)<0,0,SUM(O105-ref!E$4)) -> 0 | Q105: =L105 -> 0.38541667 | T105: 0.52152778 | U105: 0.55555556 | V105: =U105-T105 -> 0.034027778 | W105: =IF(V105="","",IF(SUM(V105-ref!E$38)>0,0,IF(V105=0, "0:00", SUM(V105-ref!E$38)))) -> 0 | AA105: =Z105-Y105 -> 0 | AB105: =IF(AA105="","",IF(SUM(AA105-ref!E$38)>0,0,IF(AA105=0, "0:00", SUM(AA105-ref!E$38)))) -> 0:00 | AE105: =SUM(AF105:AF111) -> 5 | AF105: =IF(AND(H105<>"",J105<>""),1,0+OR(N(J104)<N(H104),F105="récupération",F105="congé 1 jour",F105="congé 1/2 jour ",F105="congé 5h24",F105="arrêt maladie",F105="arrêt travail",F105="férié ",F105="congé parentale",F105="congé de naissance")) -> 1 | AH105: J1 | AI105: à | AJ105: J2 | AK105: {=IF(ISNUMBER(G106),G106-_xlfn.AGGREGATE(14,6,(K$4:K105<G106)*K$4:K105,1),"")} -> 0.58194444 | AL105: =IF(ISNUMBER(AK105),ABS(IF(SUM(AK105-ref!E$9)>0,0,SUM(AK105-ref!E$9))),"") -> 0
B106: date | C106: travail | E106: =E105+1 -> 43901 | F106: travail | G106: =IF(AND(J106="",H106=""),"",E106+H106) -> 43901.381 | H106: 0.38055556 | I106: =SUM(V106+AA106+AC106) -> 0.024305556 | J106: 0.76527778 | K106: =IF(AND(H106="",J106=""),"",E106+J106+(H106>J106)) -> 43901.765 | L106: =IF(OR(F106="télétravail",F106="férié travaillé",F106="travail"),(J106-H106+IF(H106>J106,1)-I106),INDEX(ref!$E$22:'ref'!$E$37,MATCH(F106,gerald3,0))) -> 0.36041667 | M106: =IF(SUM(L106-ref!E$8)<0,0,SUM(L106-ref!E$8)) -> 0 | N106: =L106-(hs!D105+hs!F105+hs!H105+hs!J105) -> -0.024305556 | O106: =IF(OR(F106="férié travaillé",F106="travail",F106="asa",F106="rtt"),J106-H106+IF(H106>J106,1),INDEX(ref!$E$22:'ref'!$E$37,MATCH(F106,gerald2,0))) -> 0.38472222 | P106: =IF(SUM(O106-ref!E$4)<0,0,SUM(O106-ref!E$4)) -> 0 | Q106: =Q105+L106 -> 0.74583333 | T106: 0.50277778 | U106: 0.52708333 | V106: =U106-T106 -> 0.024305556 | W106: =IF(V106="","",IF(SUM(V106-ref!E$38)>0,0,IF(V106=0, "0:00", SUM(V106-ref!E$38)))) -> -0.0069444444 | AA106: =Z106-Y106 -> 0 | AB106: =IF(AA106="","",IF(SUM(AA106-ref!E$38)>0,0,IF(AA106=0, "0:00", SUM(AA106-ref!E$38)))) -> 0:00 | AE106: =IF(SUM(AE105-ref!E$7)<0,0,SUM(AE105-ref!E$7)) -> 0 | AF106: =IF(AND(H106<>"",J106<>""),1,0+OR(N(J105)<N(H105),F106="récupération",F106="congé 1 jour",F106="congé 1/2 jour ",F106="congé 5h24",F106="arrêt maladie",F106="arrêt travail",F106="férié ",F106="congé parentale",F106="congé de naissance")) -> 1 | AH106: J2 | AI106: à | AJ106: J3 | AK106: {=IF(ISNUMBER(G107),G107-_xlfn.AGGREGATE(14,6,(K$4:K106<G107)*K$4:K106,1),"")} -> 0.64583333 | AL106: =IF(ISNUMBER(AK106),ABS(IF(SUM(AK106-ref!E$9)>0,0,SUM(AK106-ref!E$9))),"") -> 0
B107: 11 | C107: travail | E107: =E106+1 -> 43902 | F107: travail | G107: =IF(AND(J107="",H107=""),"",E107+H107) -> 43902.411 | H107: 0.41111111 | I107: =SUM(V107+AA107+AC107) -> 0.039583333 | J107: 0.92430556 | K107: =IF(AND(H107="",J107=""),"",E107+J107+(H107>J107)) -> 43902.924 | L107: =IF(OR(F107="télétravail",F107="férié travaillé",F107="travail"),(J107-H107+IF(H107>J107,1)-I107),INDEX(ref!$E$22:'ref'!$E$37,MATCH(F107,gerald3,0))) -> 0.47361111 | M107: =IF(SUM(L107-ref!E$8)<0,0,SUM(L107-ref!E$8)) -> 0.056944444 | N107: =L107-(hs!D106+hs!F106+hs!H106+hs!J106) -> -0.19305556 | O107: =IF(OR(F107="férié travaillé",F107="travail",F107="asa",F107="rtt"),J107-H107+IF(H107>J107,1),INDEX(ref!$E$22:'ref'!$E$37,MATCH(F107,gerald2,0))) -> 0.51319444 | P107: =IF(SUM(O107-ref!E$4)<0,0,SUM(O107-ref!E$4)) -> 0.013194444 | Q107: =Q106+L107 -> 1.2194444 | T107: 0.50486111 | U107: 0.54444444 | V107: =U107-T107 -> 0.039583333 | W107: =IF(V107="","",IF(SUM(V107-ref!E$38)>0,0,IF(V107=0, "0:00", SUM(V107-ref!E$38)))) -> 0 | AA107: =Z107-Y107 -> 0 | AB107: =IF(AA107="","",IF(SUM(AA107-ref!E$38)>0,0,IF(AA107=0, "0:00", SUM(AA107-ref!E$38)))) -> 0:00 | AE107: H semaine | AF107: =IF(AND(H107<>"",J107<>""),1,0+OR(N(J106)<N(H106),F107="récupération",F107="congé 1 jour",F107="congé 1/2 jour ",F107="congé 5h24",F107="arrêt maladie",F107="arrêt travail",F107="férié ",F107="congé parentale",F107="congé de naissance")) -> 1 | AH107: J3 | AI107: à | AJ107: J4 | AK107: {=IF(ISNUMBER(G108),G108-_xlfn.AGGREGATE(14,6,(K$4:K107<G108)*K$4:K107,1),"")} -> 0.49236111 | AL107: =IF(ISNUMBER(AK107),ABS(IF(SUM(AK107-ref!E$9)>0,0,SUM(AK107-ref!E$9))),"") -> 0
B108: mois | C108: travail | E108: =E107+1 -> 43903 | F108: travail | G108: =IF(AND(J108="",H108=""),"",E108+H108) -> 43903.417 | H108: 0.41666667 | I108: =SUM(V108+AA108+AC108) -> 0.031944444 | J108: 0.83472222 | K108: =IF(AND(H108="",J108=""),"",E108+J108+(H108>J108)) -> 43903.835 | L108: =IF(OR(F108="télétravail",F108="férié travaillé",F108="travail"),(J108-H108+IF(H108>J108,1)-I108),INDEX(ref!$E$22:'ref'!$E$37,MATCH(F108,gerald3,0))) -> 0.38611111 | M108: =IF(SUM(L108-ref!E$8)<0,0,SUM(L108-ref!E$8)) -> 0 | N108: =L108-(hs!D107+hs!F107+hs!H107+hs!J107) -> -0.095833333 | O108: =IF(OR(F108="férié travaillé",F108="travail",F108="asa",F108="rtt"),J108-H108+IF(H108>J108,1),INDEX(ref!$E$22:'ref'!$E$37,MATCH(F108,gerald2,0))) -> 0.41805556 | P108: =IF(SUM(O108-ref!E$4)<0,0,SUM(O108-ref!E$4)) -> 0 | Q108: =Q107+L108 -> 1.6055556 | T108: 0.52013889 | U108: 0.55208333 | V108: =U108-T108 -> 0.031944444 | W108: =IF(V108="","",IF(SUM(V108-ref!E$38)>0,0,IF(V108=0, "0:00", SUM(V108-ref!E$38)))) -> 0 | AA108: =Z108-Y108 -> 0 | AB108: =IF(AA108="","",IF(SUM(AA108-ref!E$38)>0,0,IF(AA108=0, "0:00", SUM(AA108-ref!E$38)))) -> 0:00 | AE108: =Q111 -> 1.9583333 | AF108: =IF(AND(H108<>"",J108<>""),1,0+OR(N(J107)<N(H107),F108="récupération",F108="congé 1 jour",F108="congé 1/2 jour ",F108="congé 5h24",F108="arrêt maladie",F108="arrêt travail",F108="férié ",F108="congé parentale",F108="congé de naissance")) -> 1 | AH108: J4 | AI108: à | AJ108: J5 | AK108: {=IF(ISNUMBER(G109),G109-_xlfn.AGGREGATE(14,6,(K$4:K108<G109)*K$4:K108,1),"")} -> 0.54027778 | AL108: =IF(ISNUMBER(AK108),ABS(IF(SUM(AK108-ref!E$9)>0,0,SUM(AK108-ref!E$9))),"") -> 0
B109: 3 | C109: travail | E109: =E108+1 -> 43904 | F109: travail | G109: =IF(AND(J109="",H109=""),"",E109+H109) -> 43904.375 | H109: 0.375 | I109: =SUM(V109+AA109+AC109) -> 0.019444444 | J109: 0.74722222 | K109: =IF(AND(H109="",J109=""),"",E109+J109+(H109>J109)) -> 43904.747 | L109: =IF(OR(F109="télétravail",F109="férié travaillé",F109="travail"),(J109-H109+IF(H109>J109,1)-I109),INDEX(ref!$E$22:'ref'!$E$37,MATCH(F109,gerald3,0))) -> 0.35277778 | M109: =IF(SUM(L109-ref!E$8)<0,0,SUM(L109-ref!E$8)) -> 0 | N109: =L109-(hs!D108+hs!F108+hs!H108+hs!J108) -> -0.019444444 | O109: =IF(OR(F109="férié travaillé",F109="travail",F109="asa",F109="rtt"),J109-H109+IF(H109>J109,1),INDEX(ref!$E$22:'ref'!$E$37,MATCH(F109,gerald2,0))) -> 0.37222222 | P109: =IF(SUM(O109-ref!E$4)<0,0,SUM(O109-ref!E$4)) -> 0 | Q109: =Q108+L109 -> 1.9583333 | T109: 0.56597222 | U109: 0.58541667 | V109: =U109-T109 -> 0.019444444 | W109: =IF(V109="","",IF(SUM(V109-ref!E$38)>0,0,IF(V109=0, "0:00", SUM(V109-ref!E$38)))) -> -0.011805556 | AA109: =Z109-Y109 -> 0 | AB109: =IF(AA109="","",IF(SUM(AA109-ref!E$38)>0,0,IF(AA109=0, "0:00", SUM(AA109-ref!E$38)))) -> 0:00 | AE109: H semaine hc de | AF109: =IF(AND(H109<>"",J109<>""),1,0+OR(N(J108)<N(H108),F109="récupération",F109="congé 1 jour",F109="congé 1/2 jour ",F109="congé 5h24",F109="arrêt maladie",F109="arrêt travail",F109="férié ",F109="congé parentale",F109="congé de naissance")) -> 1 | AH109: J5 | AI109: à | AJ109: J6 | AK109: {=IF(ISNUMBER(G110),G110-_xlfn.AGGREGATE(14,6,(K$4:K109<G110)*K$4:K109,1),"")} | AL109: =IF(ISNUMBER(AK109),ABS(IF(SUM(AK109-ref!E$9)>0,0,SUM(AK109-ref!E$9))),"")
E110: =E109+1 -> 43905 | F110: off | G110: =IF(AND(J110="",H110=""),"",E110+H110) | I110: =SUM(V110+AA110+AC110) -> 0 | K110: =IF(AND(H110="",J110=""),"",E110+J110+(H110>J110)) | L110: =IF(OR(F110="télétravail",F110="férié travaillé",F110="travail"),(J110-H110+IF(H110>J110,1)-I110),INDEX(ref!$E$22:'ref'!$E$37,MATCH(F110,gerald3,0))) -> 0 | M110: =IF(SUM(L110-ref!E$8)<0,0,SUM(L110-ref!E$8)) -> 0 | N110: =L110-(hs!D109+hs!F109+hs!H109+hs!J109) -> 0 | O110: =IF(OR(F110="férié travaillé",F110="travail",F110="asa",F110="rtt"),J110-H110+IF(H110>J110,1),INDEX(ref!$E$22:'ref'!$E$37,MATCH(F110,gerald2,0))) -> 0 | P110: =IF(SUM(O110-ref!E$4)<0,0,SUM(O110-ref!E$4)) -> 0 | Q110: =Q109+L110 -> 1.9583333 | V110: =U110-T110 -> 0 | W110: =IF(V110="","",IF(SUM(V110-ref!E$38)>0,0,IF(V110=0, "0:00", SUM(V110-ref!E$38)))) -> 0:00 | AA110: =Z110-Y110 -> 0 | AB110: =IF(AA110="","",IF(SUM(AA110-ref!E$38)>0,0,IF(AA110=0, "0:00", SUM(AA110-ref!E$38)))) -> 0:00 | AE110: =ref!E$11 -> 2 | AF110: =IF(AND(H110<>"",J110<>""),1,0+OR(N(J109)<N(H109),F110="récupération",F110="congé 1 jour",F110="congé 1/2 jour ",F110="congé 5h24",F110="arrêt maladie",F110="arrêt travail",F110="férié ",F110="congé parentale",F110="congé de naissance")) -> 0 | AH110: J6 | AI110: à | AJ110: J7 | AK110: {=IF(ISNUMBER(G111),G111-_xlfn.AGGREGATE(14,6,(K$4:K110<G111)*K$4:K110,1),"")} | AL110: =IF(ISNUMBER(AK110),ABS(IF(SUM(AK110-ref!E$9)>0,0,SUM(AK110-ref!E$9))),"")
E111: =E110+1 -> 43906 | F111: off | G111: =IF(AND(J111="",H111=""),"",E111+H111) | I111: =SUM(V111+AA111+AC111) -> 0 | K111: =IF(AND(H111="",J111=""),"",E111+J111+(H111>J111)) | L111: =IF(OR(F111="télétravail",F111="férié travaillé",F111="travail"),(J111-H111+IF(H111>J111,1)-I111),INDEX(ref!$E$22:'ref'!$E$37,MATCH(F111,gerald3,0))) -> 0 | M111: =IF(SUM(L111-ref!E$8)<0,0,SUM(L111-ref!E$8)) -> 0 | N111: =L111-(hs!D110+hs!F110+hs!H110+hs!J110) -> 0 | O111: =IF(OR(F111="férié travaillé",F111="travail",F111="asa",F111="rtt"),J111-H111+IF(H111>J111,1),INDEX(ref!$E$22:'ref'!$E$37,MATCH(F111,gerald2,0))) -> 0 | P111: =IF(SUM(O111-ref!E$4)<0,0,SUM(O111-ref!E$4)) -> 0 | Q111: =Q110+L111 -> 1.9583333 | V111: =U111-T111 -> 0 | W111: =IF(V111="","",IF(SUM(V111-ref!E$38)>0,0,IF(V111=0, "0:00", SUM(V111-ref!E$38)))) -> 0:00 | AA111: =Z111-Y111 -> 0 | AB111: =IF(AA111="","",IF(SUM(AA111-ref!E$38)>0,0,IF(AA111=0, "0:00", SUM(AA111-ref!E$38)))) -> 0:00 | AE111: =IF(SUM(Q111-ref!E$11)<0,0,SUM(Q111-ref!E$11)) -> 0 | AF111: =IF(AND(H111<>"",J111<>""),1,0+OR(N(J110)<N(H110),F111="récupération",F111="congé 1 jour",F111="congé 1/2 jour ",F111="congé 5h24",F111="arrêt maladie",F111="arrêt travail",F111="férié ",F111="congé parentale",F111="congé de naissance")) -> 0
B115: date | C115: travail | E115: =DATE(ref!E$2,B119,B117) -> 43907 | F115: travail | G115: =IF(AND(J115="",H115=""),"",E115+H115) -> 43907.378 | H115: 0.37847222 | I115: =SUM(V115+AA115+AC115) -> 0.034722222 | J115: 0.7125 | K115: =IF(AND(H115="",J115=""),"",E115+J115+(H115>J115)) -> 43907.713 | L115: =IF(OR(F115="télétravail",F115="férié travaillé",F115="travail"),(J115-H115+IF(H115>J115,1)-I115),INDEX(ref!$E$22:'ref'!$E$37,MATCH(F115,gerald3,0))) -> 0.29930556 | M115: =IF(SUM(L115-ref!E$8)<0,0,SUM(L115-ref!E$8)) -> 0 | N115: =L115-(hs!D114+hs!F114+hs!H114+hs!J114) -> -0.034722222 | O115: =IF(OR(F115="férié travaillé",F115="travail",F115="asa",F115="rtt"),J115-H115+IF(H115>J115,1),INDEX(ref!$E$22:'ref'!$E$37,MATCH(F115,gerald2,0))) -> 0.33402778 | P115: =IF(SUM(O115-ref!E$4)<0,0,SUM(O115-ref!E$4)) -> 0 | Q115: =L115 -> 0.29930556 | T115: 0.50902778 | U115: 0.54375 | V115: =U115-T115 -> 0.034722222 | W115: =IF(V115="","",IF(SUM(V115-ref!E$38)>0,0,IF(V115=0, "0:00", SUM(V115-ref!E$38)))) -> 0 | AA115: =Z115-Y115 -> 0 | AB115: =IF(AA115="","",IF(SUM(AA115-ref!E$38)>0,0,IF(AA115=0, "0:00", SUM(AA115-ref!E$38)))) -> 0:00 | AE115: =SUM(AF115:AF121) -> 5 | AF115: =IF(AND(H115<>"",J115<>""),1,0+OR(N(J114)<N(H114),F115="récupération",F115="congé 1 jour",F115="congé 1/2 jour ",F115="congé 5h24",F115="arrêt maladie",F115="arrêt travail",F115="férié ",F115="congé parentale",F115="congé de naissance")) -> 1 | AH115: J1 | AI115: à | AJ115: J2 | AK115: {=IF(ISNUMBER(G116),G116-_xlfn.AGGREGATE(14,6,(K$4:K115<G116)*K$4:K115,1),"")} -> 0.6625 | AL115: =IF(ISNUMBER(AK115),ABS(IF(SUM(AK115-ref!E$9)>0,0,SUM(AK115-ref!E$9))),"") -> 0
B116: date | C116: travail | E116: =E115+1 -> 43908 | F116: travail | G116: =IF(AND(J116="",H116=""),"",E116+H116) -> 43908.375 | H116: 0.375 | I116: =SUM(V116+AA116+AC116) -> 0.045833333 | J116: 0.0076388889 | K116: =IF(AND(H116="",J116=""),"",E116+J116+(H116>J116)) -> 43909.008 | L116: =IF(OR(F116="télétravail",F116="férié travaillé",F116="travail"),(J116-H116+IF(H116>J116,1)-I116),INDEX(ref!$E$22:'ref'!$E$37,MATCH(F116,gerald3,0))) -> 0.58680556 | M116: =IF(SUM(L116-ref!E$8)<0,0,SUM(L116-ref!E$8)) -> 0.17013889 | N116: =L116-(hs!D115+hs!F115+hs!H115+hs!J115) -> 1.2326389 | O116: =IF(OR(F116="férié travaillé",F116="travail",F116="asa",F116="rtt"),J116-H116+IF(H116>J116,1),INDEX(ref!$E$22:'ref'!$E$37,MATCH(F116,gerald2,0))) -> 0.63263889 | P116: =IF(SUM(O116-ref!E$4)<0,0,SUM(O116-ref!E$4)) -> 0.13263889 | Q116: =Q115+L116 -> 0.88611111 | T116: 0.50277778 | U116: 0.54861111 | V116: =U116-T116 -> 0.045833333 | W116: =IF(V116="","",IF(SUM(V116-ref!E$38)>0,0,IF(V116=0, "0:00", SUM(V116-ref!E$38)))) -> 0 | AA116: =Z116-Y116 -> 0 | AB116: =IF(AA116="","",IF(SUM(AA116-ref!E$38)>0,0,IF(AA116=0, "0:00", SUM(AA116-ref!E$38)))) -> 0:00 | AE116: =IF(SUM(AE115-ref!E$7)<0,0,SUM(AE115-ref!E$7)) -> 0 | AF116: =IF(AND(H116<>"",J116<>""),1,0+OR(N(J115)<N(H115),F116="récupération",F116="congé 1 jour",F116="congé 1/2 jour ",F116="congé 5h24",F116="arrêt maladie",F116="arrêt travail",F116="férié ",F116="congé parentale",F116="congé de naissance")) -> 1 | AH116: J2 | AI116: à | AJ116: J3 | AK116: {=IF(ISNUMBER(G117),G117-_xlfn.AGGREGATE(14,6,(K$4:K116<G117)*K$4:K116,1),"")} -> 0.47986111 | AL116: =IF(ISNUMBER(AK116),ABS(IF(SUM(AK116-ref!E$9)>0,0,SUM(AK116-ref!E$9))),"") -> 0
B117: 18 | C117: travail | E117: =E116+1 -> 43909 | F117: travail | G117: =IF(AND(J117="",H117=""),"",E117+H117) -> 43909.488 | H117: 0.4875 | I117: =SUM(V117+AA117+AC117) -> 0.032638889 | J117: 0.76736111 | K117: =IF(AND(H117="",J117=""),"",E117+J117+(H117>J117)) -> 43909.767 | L117: =IF(OR(F117="télétravail",F117="férié travaillé",F117="travail"),(J117-H117+IF(H117>J117,1)-I117),INDEX(ref!$E$22:'ref'!$E$37,MATCH(F117,gerald3,0))) -> 0.24722222 | M117: =IF(SUM(L117-ref!E$8)<0,0,SUM(L117-ref!E$8)) -> 0 | N117: =L117-(hs!D116+hs!F116+hs!H116+hs!J116) -> -0.032638889 | O117: =IF(OR(F117="férié travaillé",F117="travail",F117="asa",F117="rtt"),J117-H117+IF(H117>J117,1),INDEX(ref!$E$22:'ref'!$E$37,MATCH(F117,gerald2,0))) -> 0.27986111 | P117: =IF(SUM(O117-ref!E$4)<0,0,SUM(O117-ref!E$4)) -> 0 | Q117: =Q116+L117 -> 1.1333333 | T117: 0.54375 | U117: 0.57638889 | V117: =U117-T117 -> 0.032638889 | W117: =IF(V117="","",IF(SUM(V117-ref!E$38)>0,0,IF(V117=0, "0:00", SUM(V117-ref!E$38)))) -> 0 | AA117: =Z117-Y117 -> 0 | AB117: =IF(AA117="","",IF(SUM(AA117-ref!E$38)>0,0,IF(AA117=0, "0:00", SUM(AA117-ref!E$38)))) -> 0:00 | AE117: H semaine | AF117: =IF(AND(H117<>"",J117<>""),1,0+OR(N(J116)<N(H116),F117="récupération",F117="congé 1 jour",F117="congé 1/2 jour ",F117="congé 5h24",F117="arrêt maladie",F117="arrêt travail",F117="férié ",F117="congé parentale",F117="congé de naissance")) -> 1 | AH117: J3 | AI117: à | AJ117: J4 | AK117: {=IF(ISNUMBER(G118),G118-_xlfn.AGGREGATE(14,6,(K$4:K117<G118)*K$4:K117,1),"")} -> 0.60694444 | AL117: =IF(ISNUMBER(AK117),ABS(IF(SUM(AK117-ref!E$9)>0,0,SUM(AK117-ref!E$9))),"") -> 0
B118: mois | C118: travail | E118: =E117+1 -> 43910 | F118: travail | G118: =IF(AND(J118="",H118=""),"",E118+H118) -> 43910.374 | H118: 0.37430556 | I118: =SUM(V118+AA118+AC118) -> 0.040972222 | J118: 0.75 | K118: =IF(AND(H118="",J118=""),"",E118+J118+(H118>J118)) -> 43910.75 | L118: =IF(OR(F118="télétravail",F118="férié travaillé",F118="travail"),(J118-H118+IF(H118>J118,1)-I118),INDEX(ref!$E$22:'ref'!$E$37,MATCH(F118,gerald3,0))) -> 0.33472222 | M118: =IF(SUM(L118-ref!E$8)<0,0,SUM(L118-ref!E$8)) -> 0 | N118: =L118-(hs!D117+hs!F117+hs!H117+hs!J117) -> -0.040972222 | O118: =IF(OR(F118="férié travaillé",F118="travail",F118="asa",F118="rtt"),J118-H118+IF(H118>J118,1),INDEX(ref!$E$22:'ref'!$E$37,MATCH(F118,gerald2,0))) -> 0.37569444 | P118: =IF(SUM(O118-ref!E$4)<0,0,SUM(O118-ref!E$4)) -> 0 | Q118: =Q117+L118 -> 1.4680556 | T118: 0.51458333 | U118: 0.55555556 | V118: =U118-T118 -> 0.040972222 | W118: =IF(V118="","",IF(SUM(V118-ref!E$38)>0,0,IF(V118=0, "0:00", SUM(V118-ref!E$38)))) -> 0 | AA118: =Z118-Y118 -> 0 | AB118: =IF(AA118="","",IF(SUM(AA118-ref!E$38)>0,0,IF(AA118=0, "0:00", SUM(AA118-ref!E$38)))) -> 0:00 | AE118: =Q121 -> 1.81875 | AF118: =IF(AND(H118<>"",J118<>""),1,0+OR(N(J117)<N(H117),F118="récupération",F118="congé 1 jour",F118="congé 1/2 jour ",F118="congé 5h24",F118="arrêt maladie",F118="arrêt travail",F118="férié ",F118="congé parentale",F118="congé de naissance")) -> 1 | AH118: J4 | AI118: à | AJ118: J5 | AK118: {=IF(ISNUMBER(G119),G119-_xlfn.AGGREGATE(14,6,(K$4:K118<G119)*K$4:K118,1),"")} -> 0.62222222 | AL118: =IF(ISNUMBER(AK118),ABS(IF(SUM(AK118-ref!E$9)>0,0,SUM(AK118-ref!E$9))),"") -> 0
B119: 3 | C119: travail | E119: =E118+1 -> 43911 | F119: travail | G119: =IF(AND(J119="",H119=""),"",E119+H119) -> 43911.372 | H119: 0.37222222 | I119: =SUM(V119+AA119+AC119) -> 0.01875 | J119: 0.74166667 | K119: =IF(AND(H119="",J119=""),"",E119+J119+(H119>J119)) -> 43911.742 | L119: =IF(OR(F119="télétravail",F119="férié travaillé",F119="travail"),(J119-H119+IF(H119>J119,1)-I119),INDEX(ref!$E$22:'ref'!$E$37,MATCH(F119,gerald3,0))) -> 0.35069444 | M119: =IF(SUM(L119-ref!E$8)<0,0,SUM(L119-ref!E$8)) -> 0 | N119: =L119-(hs!D118+hs!F118+hs!H118+hs!J118) -> -0.01875 | O119: =IF(OR(F119="férié travaillé",F119="travail",F119="asa",F119="rtt"),J119-H119+IF(H119>J119,1),INDEX(ref!$E$22:'ref'!$E$37,MATCH(F119,gerald2,0))) -> 0.36944444 | P119: =IF(SUM(O119-ref!E$4)<0,0,SUM(O119-ref!E$4)) -> 0 | Q119: =Q118+L119 -> 1.81875 | T119: 0.56458333 | U119: 0.58333333 | V119: =U119-T119 -> 0.01875 | W119: =IF(V119="","",IF(SUM(V119-ref!E$38)>0,0,IF(V119=0, "0:00", SUM(V119-ref!E$38)))) -> -0.0125 | AA119: =Z119-Y119 -> 0 | AB119: =IF(AA119="","",IF(SUM(AA119-ref!E$38)>0,0,IF(AA119=0, "0:00", SUM(AA119-ref!E$38)))) -> 0:00 | AE119: H semaine hc de | AF119: =IF(AND(H119<>"",J119<>""),1,0+OR(N(J118)<N(H118),F119="récupération",F119="congé 1 jour",F119="congé 1/2 jour ",F119="congé 5h24",F119="arrêt maladie",F119="arrêt travail",F119="férié ",F119="congé parentale",F119="congé de naissance")) -> 1 | AH119: J5 | AI119: à | AJ119: J6 | AK119: {=IF(ISNUMBER(G120),G120-_xlfn.AGGREGATE(14,6,(K$4:K119<G120)*K$4:K119,1),"")} | AL119: =IF(ISNUMBER(AK119),ABS(IF(SUM(AK119-ref!E$9)>0,0,SUM(AK119-ref!E$9))),"")
E120: =E119+1 -> 43912 | F120: off | G120: =IF(AND(J120="",H120=""),"",E120+H120) | I120: =SUM(V120+AA120+AC120) -> 0 | K120: =IF(AND(H120="",J120=""),"",E120+J120+(H120>J120)) | L120: =IF(OR(F120="télétravail",F120="férié travaillé",F120="travail"),(J120-H120+IF(H120>J120,1)-I120),INDEX(ref!$E$22:'ref'!$E$37,MATCH(F120,gerald3,0))) -> 0 | M120: =IF(SUM(L120-ref!E$8)<0,0,SUM(L120-ref!E$8)) -> 0 | N120: =L120-(hs!D119+hs!F119+hs!H119+hs!J119) -> 0 | O120: =IF(OR(F120="férié travaillé",F120="travail",F120="asa",F120="rtt"),J120-H120+IF(H120>J120,1),INDEX(ref!$E$22:'ref'!$E$37,MATCH(F120,gerald2,0))) -> 0 | P120: =IF(SUM(O120-ref!E$4)<0,0,SUM(O120-ref!E$4)) -> 0 | Q120: =Q119+L120 -> 1.81875 | V120: =U120-T120 -> 0 | W120: =IF(V120="","",IF(SUM(V120-ref!E$38)>0,0,IF(V120=0, "0:00", SUM(V120-ref!E$38)))) -> 0:00 | AA120: =Z120-Y120 -> 0 | AB120: =IF(AA120="","",IF(SUM(AA120-ref!E$38)>0,0,IF(AA120=0, "0:00", SUM(AA120-ref!E$38)))) -> 0:00 | AE120: =ref!E$11 -> 2 | AF120: =IF(AND(H120<>"",J120<>""),1,0+OR(N(J119)<N(H119),F120="récupération",F120="congé 1 jour",F120="congé 1/2 jour ",F120="congé 5h24",F120="arrêt maladie",F120="arrêt travail",F120="férié ",F120="congé parentale",F120="congé de naissance")) -> 0 | AH120: J6 | AI120: à | AJ120: J7 | AK120: {=IF(ISNUMBER(G121),G121-_xlfn.AGGREGATE(14,6,(K$4:K120<G121)*K$4:K120,1),"")} | AL120: =IF(ISNUMBER(AK120),ABS(IF(SUM(AK120-ref!E$9)>0,0,SUM(AK120-ref!E$9))),"")
E121: =E120+1 -> 43913 | F121: off | G121: =IF(AND(J121="",H121=""),"",E121+H121) | I121: =SUM(V121+AA121+AC121) -> 0 | K121: =IF(AND(H121="",J121=""),"",E121+J121+(H121>J121)) | L121: =IF(OR(F121="télétravail",F121="férié travaillé",F121="travail"),(J121-H121+IF(H121>J121,1)-I121),INDEX(ref!$E$22:'ref'!$E$37,MATCH(F121,gerald3,0))) -> 0 | M121: =IF(SUM(L121-ref!E$8)<0,0,SUM(L121-ref!E$8)) -> 0 | N121: =L121-(hs!D120+hs!F120+hs!H120+hs!J120) -> 0 | O121: =IF(OR(F121="férié travaillé",F121="travail",F121="asa",F121="rtt"),J121-H121+IF(H121>J121,1),INDEX(ref!$E$22:'ref'!$E$37,MATCH(F121,gerald2,0))) -> 0 | P121: =IF(SUM(O121-ref!E$4)<0,0,SUM(O121-ref!E$4)) -> 0 | Q121: =Q120+L121 -> 1.81875 | V121: =U121-T121 -> 0 | W121: =IF(V121="","",IF(SUM(V121-ref!E$38)>0,0,IF(V121=0, "0:00", SUM(V121-ref!E$38)))) -> 0:00 | AA121: =Z121-Y121 -> 0 | AB121: =IF(AA121="","",IF(SUM(AA121-ref!E$38)>0,0,IF(AA121=0, "0:00", SUM(AA121-ref!E$38)))) -> 0:00 | AE121: =IF(SUM(Q121-ref!E$11)<0,0,SUM(Q121-ref!E$11)) -> 0 | AF121: =IF(AND(H121<>"",J121<>""),1,0+OR(N(J120)<N(H120),F121="récupération",F121="congé 1 jour",F121="congé 1/2 jour ",F121="congé 5h24",F121="arrêt maladie",F121="arrêt travail",F121="férié ",F121="congé parentale",F121="congé de naissance")) -> 0
B125: date | C125: travail | E125: =DATE(ref!E$2,B129,B127) -> 43914 | F125: travail | G125: =IF(AND(J125="",H125=""),"",E125+H125) -> 43914.375 | H125: 0.375 | I125: =SUM(V125+AA125+AC125) -> 0.013888889 | J125: 0.88541667 | K125: =IF(AND(H125="",J125=""),"",E125+J125+(H125>J125)) -> 43914.885 | L125: =IF(OR(F125="télétravail",F125="férié travaillé",F125="travail"),(J125-H125+IF(H125>J125,1)-I125),INDEX(ref!$E$22:'ref'!$E$37,MATCH(F125,gerald3,0))) -> 0.49652778 | M125: =IF(SUM(L125-ref!E$8)<0,0,SUM(L125-ref!E$8)) -> 0.079861111 | N125: =L125-(hs!D124+hs!F124+hs!H124+hs!J124) -> -0.12847222 | O125: =IF(OR(F125="férié travaillé",F125="travail",F125="asa",F125="rtt"),J125-H125+IF(H125>J125,1),INDEX(ref!$E$22:'ref'!$E$37,MATCH(F125,gerald2,0))) -> 0.51041667 | P125: =IF(SUM(O125-ref!E$4)<0,0,SUM(O125-ref!E$4)) -> 0.010416667 | Q125: =L125 -> 0.49652778 | T125: 0.54166667 | U125: 0.55555556 | V125: =U125-T125 -> 0.013888889 | W125: =IF(V125="","",IF(SUM(V125-ref!E$38)>0,0,IF(V125=0, "0:00", SUM(V125-ref!E$38)))) -> -0.017361111 | AA125: =Z125-Y125 -> 0 | AB125: =IF(AA125="","",IF(SUM(AA125-ref!E$38)>0,0,IF(AA125=0, "0:00", SUM(AA125-ref!E$38)))) -> 0:00 | AE125: =SUM(AF125:AF131) -> 5 | AF125: =IF(AND(H125<>"",J125<>""),1,0+OR(N(J124)<N(H124),F125="récupération",F125="congé 1 jour",F125="congé 1/2 jour ",F125="congé 5h24",F125="arrêt maladie",F125="arrêt travail",F125="férié ",F125="congé parentale",F125="congé de naissance")) -> 1 | AH125: J1 | AI125: à | AJ125: J2 | AK125: {=IF(ISNUMBER(G126),G126-_xlfn.AGGREGATE(14,6,(K$4:K125<G126)*K$4:K125,1),"")} -> 0.49027778 | AL125: =IF(ISNUMBER(AK125),ABS(IF(SUM(AK125-ref!E$9)>0,0,SUM(AK125-ref!E$9))),"") -> 0
B126: date | C126: travail | E126: =E125+1 -> 43915 | F126: travail | G126: =IF(AND(J126="",H126=""),"",E126+H126) -> 43915.376 | H126: 0.37569444 | I126: =SUM(V126+AA126+AC126) -> 0.036111111 | J126: 0.89791667 | K126: =IF(AND(H126="",J126=""),"",E126+J126+(H126>J126)) -> 43915.898 | L126: =IF(OR(F126="télétravail",F126="férié travaillé",F126="travail"),(J126-H126+IF(H126>J126,1)-I126),INDEX(ref!$E$22:'ref'!$E$37,MATCH(F126,gerald3,0))) -> 0.48611111 | M126: =IF(SUM(L126-ref!E$8)<0,0,SUM(L126-ref!E$8)) -> 0.069444444 | N126: =L126-(hs!D125+hs!F125+hs!H125+hs!J125) -> -0.16319444 | O126: =IF(OR(F126="férié travaillé",F126="travail",F126="asa",F126="rtt"),J126-H126+IF(H126>J126,1),INDEX(ref!$E$22:'ref'!$E$37,MATCH(F126,gerald2,0))) -> 0.52222222 | P126: =IF(SUM(O126-ref!E$4)<0,0,SUM(O126-ref!E$4)) -> 0.022222222 | Q126: =Q125+L126 -> 0.98263889 | T126: 0.50902778 | U126: 0.54513889 | V126: =U126-T126 -> 0.036111111 | W126: =IF(V126="","",IF(SUM(V126-ref!E$38)>0,0,IF(V126=0, "0:00", SUM(V126-ref!E$38)))) -> 0 | AA126: =Z126-Y126 -> 0 | AB126: =IF(AA126="","",IF(SUM(AA126-ref!E$38)>0,0,IF(AA126=0, "0:00", SUM(AA126-ref!E$38)))) -> 0:00 | AE126: =IF(SUM(AE125-ref!E$7)<0,0,SUM(AE125-ref!E$7)) -> 0 | AF126: =IF(AND(H126<>"",J126<>""),1,0+OR(N(J125)<N(H125),F126="récupération",F126="congé 1 jour",F126="congé 1/2 jour ",F126="congé 5h24",F126="arrêt maladie",F126="arrêt travail",F126="férié ",F126="congé parentale",F126="congé de naissance")) -> 1 | AH126: J2 | AI126: à | AJ126: J3 | AK126: {=IF(ISNUMBER(G127),G127-_xlfn.AGGREGATE(14,6,(K$4:K126<G127)*K$4:K126,1),"")} -> 0.52847222 | AL126: =IF(ISNUMBER(AK126),ABS(IF(SUM(AK126-ref!E$9)>0,0,SUM(AK126-ref!E$9))),"") -> 0
B127: 25 | C127: travail | E127: =E126+1 -> 43916 | F127: travail | G127: =IF(AND(J127="",H127=""),"",E127+H127) -> 43916.426 | H127: 0.42638889 | I127: =SUM(V127+AA127+AC127) -> 0.03125 | J127: 0.98472222 | K127: =IF(AND(H127="",J127=""),"",E127+J127+(H127>J127)) -> 43916.985 | L127: =IF(OR(F127="télétravail",F127="férié travaillé",F127="travail"),(J127-H127+IF(H127>J127,1)-I127),INDEX(ref!$E$22:'ref'!$E$37,MATCH(F127,gerald3,0))) -> 0.52708333 | M127: =IF(SUM(L127-ref!E$8)<0,0,SUM(L127-ref!E$8)) -> 0.11041667 | N127: =L127-(hs!D126+hs!F126+hs!H126+hs!J126) -> -0.24513889 | O127: =IF(OR(F127="férié travaillé",F127="travail",F127="asa",F127="rtt"),J127-H127+IF(H127>J127,1),INDEX(ref!$E$22:'ref'!$E$37,MATCH(F127,gerald2,0))) -> 0.55833333 | P127: =IF(SUM(O127-ref!E$4)<0,0,SUM(O127-ref!E$4)) -> 0.058333333 | Q127: =Q126+L127 -> 1.5097222 | T127: 0.54166667 | U127: 0.57291667 | V127: =U127-T127 -> 0.03125 | W127: =IF(V127="","",IF(SUM(V127-ref!E$38)>0,0,IF(V127=0, "0:00", SUM(V127-ref!E$38)))) -> 0 | AA127: =Z127-Y127 -> 0 | AB127: =IF(AA127="","",IF(SUM(AA127-ref!E$38)>0,0,IF(AA127=0, "0:00", SUM(AA127-ref!E$38)))) -> 0:00 | AE127: H semaine | AF127: =IF(AND(H127<>"",J127<>""),1,0+OR(N(J126)<N(H126),F127="récupération",F127="congé 1 jour",F127="congé 1/2 jour ",F127="congé 5h24",F127="arrêt maladie",F127="arrêt travail",F127="férié ",F127="congé parentale",F127="congé de naissance")) -> 1 | AH127: J3 | AI127: à | AJ127: J4 | AK127: {=IF(ISNUMBER(G128),G128-_xlfn.AGGREGATE(14,6,(K$4:K127<G128)*K$4:K127,1),"")} -> 0.46805556 | AL127: =IF(ISNUMBER(AK127),ABS(IF(SUM(AK127-ref!E$9)>0,0,SUM(AK127-ref!E$9))),"") -> 0
B128: mois | C128: travail | E128: =E127+1 -> 43917 | F128: travail | G128: =IF(AND(J128="",H128=""),"",E128+H128) -> 43917.453 | H128: 0.45277778 | I128: =SUM(V128+AA128+AC128) -> 0.036805556 | J128: 0.86041667 | K128: =IF(AND(H128="",J128=""),"",E128+J128+(H128>J128)) -> 43917.86 | L128: =IF(OR(F128="télétravail",F128="férié travaillé",F128="travail"),(J128-H128+IF(H128>J128,1)-I128),INDEX(ref!$E$22:'ref'!$E$37,MATCH(F128,gerald3,0))) -> 0.37083333 | M128: =IF(SUM(L128-ref!E$8)<0,0,SUM(L128-ref!E$8)) -> 0 | N128: =L128-(hs!D127+hs!F127+hs!H127+hs!J127) -> -0.12638889 | O128: =IF(OR(F128="férié travaillé",F128="travail",F128="asa",F128="rtt"),J128-H128+IF(H128>J128,1),INDEX(ref!$E$22:'ref'!$E$37,MATCH(F128,gerald2,0))) -> 0.40763889 | P128: =IF(SUM(O128-ref!E$4)<0,0,SUM(O128-ref!E$4)) -> 0 | Q128: =Q127+L128 -> 1.8805556 | T128: 0.52013889 | U128: 0.55694444 | V128: =U128-T128 -> 0.036805556 | W128: =IF(V128="","",IF(SUM(V128-ref!E$38)>0,0,IF(V128=0, "0:00", SUM(V128-ref!E$38)))) -> 0 | AA128: =Z128-Y128 -> 0 | AB128: =IF(AA128="","",IF(SUM(AA128-ref!E$38)>0,0,IF(AA128=0, "0:00", SUM(AA128-ref!E$38)))) -> 0:00 | AE128: =Q131 -> 2.4763889 | AF128: =IF(AND(H128<>"",J128<>""),1,0+OR(N(J127)<N(H127),F128="récupération",F128="congé 1 jour",F128="congé 1/2 jour ",F128="congé 5h24",F128="arrêt maladie",F128="arrêt travail",F128="férié ",F128="congé parentale",F128="congé de naissance")) -> 1 | AH128: J4 | AI128: à | AJ128: J5 | AK128: {=IF(ISNUMBER(G129),G129-_xlfn.AGGREGATE(14,6,(K$4:K128<G129)*K$4:K128,1),"")} -> 0.5 | AL128: =IF(ISNUMBER(AK128),ABS(IF(SUM(AK128-ref!E$9)>0,0,SUM(AK128-ref!E$9))),"") -> 0
B129: 3 | C129: travail | E129: =E128+1 -> 43918 | F129: travail | G129: =IF(AND(J129="",H129=""),"",E129+H129) -> 43918.36 | H129: 0.36041667 | I129: =SUM(V129+AA129+AC129) -> 0.018055556 | J129: 0.97430556 | K129: =IF(AND(H129="",J129=""),"",E129+J129+(H129>J129)) -> 43918.974 | L129: =IF(OR(F129="télétravail",F129="férié travaillé",F129="travail"),(J129-H129+IF(H129>J129,1)-I129),INDEX(ref!$E$22:'ref'!$E$37,MATCH(F129,gerald3,0))) -> 0.59583333 | M129: =IF(SUM(L129-ref!E$8)<0,0,SUM(L129-ref!E$8)) -> 0.17916667 | N129: =L129-(hs!D128+hs!F128+hs!H128+hs!J128) -> -0.22152778 | O129: =IF(OR(F129="férié travaillé",F129="travail",F129="asa",F129="rtt"),J129-H129+IF(H129>J129,1),INDEX(ref!$E$22:'ref'!$E$37,MATCH(F129,gerald2,0))) -> 0.61388889 | P129: =IF(SUM(O129-ref!E$4)<0,0,SUM(O129-ref!E$4)) -> 0.11388889 | Q129: =Q128+L129 -> 2.4763889 | T129: 0.56180556 | U129: 0.57986111 | V129: =U129-T129 -> 0.018055556 | W129: =IF(V129="","",IF(SUM(V129-ref!E$38)>0,0,IF(V129=0, "0:00", SUM(V129-ref!E$38)))) -> -0.013194444 | AA129: =Z129-Y129 -> 0 | AB129: =IF(AA129="","",IF(SUM(AA129-ref!E$38)>0,0,IF(AA129=0, "0:00", SUM(AA129-ref!E$38)))) -> 0:00 | AE129: H semaine hc de | AF129: =IF(AND(H129<>"",J129<>""),1,0+OR(N(J128)<N(H128),F129="récupération",F129="congé 1 jour",F129="congé 1/2 jour ",F129="congé 5h24",F129="arrêt maladie",F129="arrêt travail",F129="férié ",F129="congé parentale",F129="congé de naissance")) -> 1 | AH129: J5 | AI129: à | AJ129: J6 | AK129: {=IF(ISNUMBER(G130),G130-_xlfn.AGGREGATE(14,6,(K$4:K129<G130)*K$4:K129,1),"")} | AL129: =IF(ISNUMBER(AK129),ABS(IF(SUM(AK129-ref!E$9)>0,0,SUM(AK129-ref!E$9))),"")
E130: =E129+1 -> 43919 | F130: off | G130: =IF(AND(J130="",H130=""),"",E130+H130) | I130: =SUM(V130+AA130+AC130) -> 0 | K130: =IF(AND(H130="",J130=""),"",E130+J130+(H130>J130)) | L130: =IF(OR(F130="télétravail",F130="férié travaillé",F130="travail"),(J130-H130+IF(H130>J130,1)-I130),INDEX(ref!$E$22:'ref'!$E$37,MATCH(F130,gerald3,0))) -> 0 | M130: =IF(SUM(L130-ref!E$8)<0,0,SUM(L130-ref!E$8)) -> 0 | N130: =L130-(hs!D129+hs!F129+hs!H129+hs!J129) -> 0 | O130: =IF(OR(F130="férié travaillé",F130="travail",F130="asa",F130="rtt"),J130-H130+IF(H130>J130,1),INDEX(ref!$E$22:'ref'!$E$37,MATCH(F130,gerald2,0))) -> 0 | P130: =IF(SUM(O130-ref!E$4)<0,0,SUM(O130-ref!E$4)) -> 0 | Q130: =Q129+L130 -> 2.4763889 | V130: =U130-T130 -> 0 | W130: =IF(V130="","",IF(SUM(V130-ref!E$38)>0,0,IF(V130=0, "0:00", SUM(V130-ref!E$38)))) -> 0:00 | AA130: =Z130-Y130 -> 0 | AB130: =IF(AA130="","",IF(SUM(AA130-ref!E$38)>0,0,IF(AA130=0, "0:00", SUM(AA130-ref!E$38)))) -> 0:00 | AE130: =ref!E$11 -> 2 | AF130: =IF(AND(H130<>"",J130<>""),1,0+OR(N(J129)<N(H129),F130="récupération",F130="congé 1 jour",F130="congé 1/2 jour ",F130="congé 5h24",F130="arrêt maladie",F130="arrêt travail",F130="férié ",F130="congé parentale",F130="congé de naissance")) -> 0 | AH130: J6 | AI130: à | AJ130: J7 | AK130: {=IF(ISNUMBER(G131),G131-_xlfn.AGGREGATE(14,6,(K$4:K130<G131)*K$4:K130,1),"")} | AL130: =IF(ISNUMBER(AK130),ABS(IF(SUM(AK130-ref!E$9)>0,0,SUM(AK130-ref!E$9))),"")
E131: =E130+1 -> 43920 | F131: off | G131: =IF(AND(J131="",H131=""),"",E131+H131) | I131: =SUM(V131+AA131+AC131) -> 0 | K131: =IF(AND(H131="",J131=""),"",E131+J131+(H131>J131)) | L131: =IF(OR(F131="télétravail",F131="férié travaillé",F131="travail"),(J131-H131+IF(H131>J131,1)-I131),INDEX(ref!$E$22:'ref'!$E$37,MATCH(F131,gerald3,0))) -> 0 | M131: =IF(SUM(L131-ref!E$8)<0,0,SUM(L131-ref!E$8)) -> 0 | N131: =L131-(hs!D130+hs!F130+hs!H130+hs!J130) -> 0 | O131: =IF(OR(F131="férié travaillé",F131="travail",F131="asa",F131="rtt"),J131-H131+IF(H131>J131,1),INDEX(ref!$E$22:'ref'!$E$37,MATCH(F131,gerald2,0))) -> 0 | P131: =IF(SUM(O131-ref!E$4)<0,0,SUM(O131-ref!E$4)) -> 0 | Q131: =Q130+L131 -> 2.4763889 | V131: =U131-T131 -> 0 | W131: =IF(V131="","",IF(SUM(V131-ref!E$38)>0,0,IF(V131=0, "0:00", SUM(V131-ref!E$38)))) -> 0:00 | AA131: =Z131-Y131 -> 0 | AB131: =IF(AA131="","",IF(SUM(AA131-ref!E$38)>0,0,IF(AA131=0, "0:00", SUM(AA131-ref!E$38)))) -> 0:00 | AE131: =IF(SUM(Q131-ref!E$11)<0,0,SUM(Q131-ref!E$11)) -> 0.47638889 | AF131: =IF(AND(H131<>"",J131<>""),1,0+OR(N(J130)<N(H130),F131="récupération",F131="congé 1 jour",F131="congé 1/2 jour ",F131="congé 5h24",F131="arrêt maladie",F131="arrêt travail",F131="férié ",F131="congé parentale",F131="congé de naissance")) -> 0
B135: date | C135: travail | E135: =DATE(ref!E$2,B139,B137) -> 43921 | F135: férié | G135: =IF(AND(J135="",H135=""),"",E135+H135) | I135: =SUM(V135+AA135+AC135) -> 0 | K135: =IF(AND(H135="",J135=""),"",E135+J135+(H135>J135)) | L135: =IF(OR(F135="télétravail",F135="férié travaillé",F135="travail"),(J135-H135+IF(H135>J135,1)-I135),INDEX(ref!$E$22:'ref'!$E$37,MATCH(F135,gerald3,0))) -> 0.29166667 | M135: =IF(SUM(L135-ref!E$8)<0,0,SUM(L135-ref!E$8)) -> 0 | N135: =L135-(hs!D134+hs!F134+hs!H134+hs!J134) -> 0.29166667 | O135: =IF(OR(F135="férié travaillé",F135="travail",F135="asa",F135="rtt"),J135-H135+IF(H135>J135,1),INDEX(ref!$E$22:'ref'!$E$37,MATCH(F135,gerald2,0))) -> 0.29166667 | P135: =IF(SUM(O135-ref!E$4)<0,0,SUM(O135-ref!E$4)) -> 0 | Q135: =L135 -> 0.29166667 | V135: =U135-T135 -> 0 | W135: =IF(V135="","",IF(SUM(V135-ref!E$38)>0,0,IF(V135=0, "0:00", SUM(V135-ref!E$38)))) -> 0:00 | AA135: =Z135-Y135 -> 0 | AB135: =IF(AA135="","",IF(SUM(AA135-ref!E$38)>0,0,IF(AA135=0, "0:00", SUM(AA135-ref!E$38)))) -> 0:00 | AE135: =SUM(AF135:AF141) -> 5 | AF135: =IF(AND(H135<>"",J135<>""),1,0+OR(N(J134)<N(H134),F135="récupération",F135="congé 1 jour",F135="congé 1/2 jour ",F135="congé 5h24",F135="arrêt maladie",F135="arrêt travail",F135="férié ",F135="congé parentale",F135="congé de naissance")) -> 1 | AH135: J1 | AI135: à | AJ135: J2 | AK135: {=IF(ISNUMBER(G136),G136-_xlfn.AGGREGATE(14,6,(K$4:K135<G136)*K$4:K135,1),"")} -> 3.4013889 | AL135: =IF(ISNUMBER(AK135),ABS(IF(SUM(AK135-ref!E$9)>0,0,SUM(AK135-ref!E$9))),"") -> 0
B136: date | C136: travail | E136: =E135+1 -> 43922 | F136: travail | G136: =IF(AND(J136="",H136=""),"",E136+H136) -> 43922.376 | H136: 0.37569444 | I136: =SUM(V136+AA136+AC136) -> 0.024305556 | J136: 0.71527778 | K136: =IF(AND(H136="",J136=""),"",E136+J136+(H136>J136)) -> 43922.715 | L136: =IF(OR(F136="télétravail",F136="férié travaillé",F136="travail"),(J136-H136+IF(H136>J136,1)-I136),INDEX(ref!$E$22:'ref'!$E$37,MATCH(F136,gerald3,0))) -> 0.31527778 | M136: =IF(SUM(L136-ref!E$8)<0,0,SUM(L136-ref!E$8)) -> 0 | N136: =L136-(hs!D135+hs!F135+hs!H135+hs!J135) -> -0.024305556 | O136: =IF(OR(F136="férié travaillé",F136="travail",F136="asa",F136="rtt"),J136-H136+IF(H136>J136,1),INDEX(ref!$E$22:'ref'!$E$37,MATCH(F136,gerald2,0))) -> 0.33958333 | P136: =IF(SUM(O136-ref!E$4)<0,0,SUM(O136-ref!E$4)) -> 0 | Q136: =Q135+L136 -> 0.60694444 | T136: 0.53125 | U136: 0.55555556 | V136: =U136-T136 -> 0.024305556 | W136: =IF(V136="","",IF(SUM(V136-ref!E$38)>0,0,IF(V136=0, "0:00", SUM(V136-ref!E$38)))) -> -0.0069444444 | AA136: =Z136-Y136 -> 0 | AB136: =IF(AA136="","",IF(SUM(AA136-ref!E$38)>0,0,IF(AA136=0, "0:00", SUM(AA136-ref!E$38)))) -> 0:00 | AE136: =IF(SUM(AE135-ref!E$7)<0,0,SUM(AE135-ref!E$7)) -> 0 | AF136: =IF(AND(H136<>"",J136<>""),1,0+OR(N(J135)<N(H135),F136="récupération",F136="congé 1 jour",F136="congé 1/2 jour ",F136="congé 5h24",F136="arrêt maladie",F136="arrêt travail",F136="férié ",F136="congé parentale",F136="congé de naissance")) -> 1 | AH136: J2 | AI136: à | AJ136: J3 | AK136: {=IF(ISNUMBER(G137),G137-_xlfn.AGGREGATE(14,6,(K$4:K136<G137)*K$4:K136,1),"")} -> 0.66319444 | AL136: =IF(ISNUMBER(AK136),ABS(IF(SUM(AK136-ref!E$9)>0,0,SUM(AK136-ref!E$9))),"") -> 0
B137: 1 | C137: travail | E137: =E136+1 -> 43923 | F137: travail | G137: =IF(AND(J137="",H137=""),"",E137+H137) -> 43923.378 | H137: 0.37847222 | I137: =SUM(V137+AA137+AC137) -> 0.019444444 | J137: 0.88194444 | K137: =IF(AND(H137="",J137=""),"",E137+J137+(H137>J137)) -> 43923.882 | L137: =IF(OR(F137="télétravail",F137="férié travaillé",F137="travail"),(J137-H137+IF(H137>J137,1)-I137),INDEX(ref!$E$22:'ref'!$E$37,MATCH(F137,gerald3,0))) -> 0.48402778 | M137: =IF(SUM(L137-ref!E$8)<0,0,SUM(L137-ref!E$8)) -> 0.067361111 | N137: =L137-(hs!D136+hs!F136+hs!H136+hs!J136) -> -0.13055556 | O137: =IF(OR(F137="férié travaillé",F137="travail",F137="asa",F137="rtt"),J137-H137+IF(H137>J137,1),INDEX(ref!$E$22:'ref'!$E$37,MATCH(F137,gerald2,0))) -> 0.50347222 | P137: =IF(SUM(O137-ref!E$4)<0,0,SUM(O137-ref!E$4)) -> 0.0034722222 | Q137: =Q136+L137 -> 1.0909722 | T137: 0.54305556 | U137: 0.5625 | V137: =U137-T137 -> 0.019444444 | W137: =IF(V137="","",IF(SUM(V137-ref!E$38)>0,0,IF(V137=0, "0:00", SUM(V137-ref!E$38)))) -> -0.011805556 | AA137: =Z137-Y137 -> 0 | AB137: =IF(AA137="","",IF(SUM(AA137-ref!E$38)>0,0,IF(AA137=0, "0:00", SUM(AA137-ref!E$38)))) -> 0:00 | AE137: H semaine | AF137: =IF(AND(H137<>"",J137<>""),1,0+OR(N(J136)<N(H136),F137="récupération",F137="congé 1 jour",F137="congé 1/2 jour ",F137="congé 5h24",F137="arrêt maladie",F137="arrêt travail",F137="férié ",F137="congé parentale",F137="congé de naissance")) -> 1 | AH137: J3 | AI137: à | AJ137: J4 | AK137: {=IF(ISNUMBER(G138),G138-_xlfn.AGGREGATE(14,6,(K$4:K137<G138)*K$4:K137,1),"")} -> 0.69930556 | AL137: =IF(ISNUMBER(AK137),ABS(IF(SUM(AK137-ref!E$9)>0,0,SUM(AK137-ref!E$9))),"") -> 0
B138: mois | C138: travail | E138: =E137+1 -> 43924 | F138: travail | G138: =IF(AND(J138="",H138=""),"",E138+H138) -> 43924.581 | H138: 0.58125 | I138: =SUM(V138+AA138+AC138) -> 0 | J138: 0.99513889 | K138: =IF(AND(H138="",J138=""),"",E138+J138+(H138>J138)) -> 43924.995 | L138: =IF(OR(F138="télétravail",F138="férié travaillé",F138="travail"),(J138-H138+IF(H138>J138,1)-I138),INDEX(ref!$E$22:'ref'!$E$37,MATCH(F138,gerald3,0))) -> 0.41388889 | M138: =IF(SUM(L138-ref!E$8)<0,0,SUM(L138-ref!E$8)) -> 0 | N138: =L138-(hs!D137+hs!F137+hs!H137+hs!J137) -> -0.22430556 | O138: =IF(OR(F138="férié travaillé",F138="travail",F138="asa",F138="rtt"),J138-H138+IF(H138>J138,1),INDEX(ref!$E$22:'ref'!$E$37,MATCH(F138,gerald2,0))) -> 0.41388889 | P138: =IF(SUM(O138-ref!E$4)<0,0,SUM(O138-ref!E$4)) -> 0 | Q138: =Q137+L138 -> 1.5048611 | V138: =U138-T138 -> 0 | W138: =IF(V138="","",IF(SUM(V138-ref!E$38)>0,0,IF(V138=0, "0:00", SUM(V138-ref!E$38)))) -> 0:00 | AA138: =Z138-Y138 -> 0 | AB138: =IF(AA138="","",IF(SUM(AA138-ref!E$38)>0,0,IF(AA138=0, "0:00", SUM(AA138-ref!E$38)))) -> 0:00 | AE138: =Q141 -> 1.8486111 | AF138: =IF(AND(H138<>"",J138<>""),1,0+OR(N(J137)<N(H137),F138="récupération",F138="congé 1 jour",F138="congé 1/2 jour ",F138="congé 5h24",F138="arrêt maladie",F138="arrêt travail",F138="férié ",F138="congé parentale",F138="congé de naissance")) -> 1 | AH138: J4 | AI138: à | AJ138: J5 | AK138: {=IF(ISNUMBER(G139),G139-_xlfn.AGGREGATE(14,6,(K$4:K138<G139)*K$4:K138,1),"")} -> 0.37708333 | AL138: =IF(ISNUMBER(AK138),ABS(IF(SUM(AK138-ref!E$9)>0,0,SUM(AK138-ref!E$9))),"") -> 0.08125
B139: 4 | C139: travail | E139: =E138+1 -> 43925 | F139: travail | G139: =IF(AND(J139="",H139=""),"",E139+H139) -> 43925.372 | H139: 0.37222222 | I139: =SUM(V139+AA139+AC139) -> 0.015972222 | J139: 0.73194444 | K139: =IF(AND(H139="",J139=""),"",E139+J139+(H139>J139)) -> 43925.732 | L139: =IF(OR(F139="télétravail",F139="férié travaillé",F139="travail"),(J139-H139+IF(H139>J139,1)-I139),INDEX(ref!$E$22:'ref'!$E$37,MATCH(F139,gerald3,0))) -> 0.34375 | M139: =IF(SUM(L139-ref!E$8)<0,0,SUM(L139-ref!E$8)) -> 0 | N139: =L139-(hs!D138+hs!F138+hs!H138+hs!J138) -> -0.015972222 | O139: =IF(OR(F139="férié travaillé",F139="travail",F139="asa",F139="rtt"),J139-H139+IF(H139>J139,1),INDEX(ref!$E$22:'ref'!$E$37,MATCH(F139,gerald2,0))) -> 0.35972222 | P139: =IF(SUM(O139-ref!E$4)<0,0,SUM(O139-ref!E$4)) -> 0 | Q139: =Q138+L139 -> 1.8486111 | T139: 0.56388889 | U139: 0.57986111 | V139: =U139-T139 -> 0.015972222 | W139: =IF(V139="","",IF(SUM(V139-ref!E$38)>0,0,IF(V139=0, "0:00", SUM(V139-ref!E$38)))) -> -0.015277778 | AA139: =Z139-Y139 -> 0 | AB139: =IF(AA139="","",IF(SUM(AA139-ref!E$38)>0,0,IF(AA139=0, "0:00", SUM(AA139-ref!E$38)))) -> 0:00 | AE139: H semaine hc de | AF139: =IF(AND(H139<>"",J139<>""),1,0+OR(N(J138)<N(H138),F139="récupération",F139="congé 1 jour",F139="congé 1/2 jour ",F139="congé 5h24",F139="arrêt maladie",F139="arrêt travail",F139="férié ",F139="congé parentale",F139="congé de naissance")) -> 1 | AH139: J5 | AI139: à | AJ139: J6 | AK139: {=IF(ISNUMBER(G140),G140-_xlfn.AGGREGATE(14,6,(K$4:K139<G140)*K$4:K139,1),"")} | AL139: =IF(ISNUMBER(AK139),ABS(IF(SUM(AK139-ref!E$9)>0,0,SUM(AK139-ref!E$9))),"")
E140: =E139+1 -> 43926 | F140: off | G140: =IF(AND(J140="",H140=""),"",E140+H140) | I140: =SUM(V140+AA140+AC140) -> 0 | K140: =IF(AND(H140="",J140=""),"",E140+J140+(H140>J140)) | L140: =IF(OR(F140="télétravail",F140="férié travaillé",F140="travail"),(J140-H140+IF(H140>J140,1)-I140),INDEX(ref!$E$22:'ref'!$E$37,MATCH(F140,gerald3,0))) -> 0 | M140: =IF(SUM(L140-ref!E$8)<0,0,SUM(L140-ref!E$8)) -> 0 | N140: =L140-(hs!D139+hs!F139+hs!H139+hs!J139) -> 0 | O140: =IF(OR(F140="férié travaillé",F140="travail",F140="asa",F140="rtt"),J140-H140+IF(H140>J140,1),INDEX(ref!$E$22:'ref'!$E$37,MATCH(F140,gerald2,0))) -> 0 | P140: =IF(SUM(O140-ref!E$4)<0,0,SUM(O140-ref!E$4)) -> 0 | Q140: =Q139+L140 -> 1.8486111 | V140: =U140-T140 -> 0 | W140: =IF(V140="","",IF(SUM(V140-ref!E$38)>0,0,IF(V140=0, "0:00", SUM(V140-ref!E$38)))) -> 0:00 | AA140: =Z140-Y140 -> 0 | AB140: =IF(AA140="","",IF(SUM(AA140-ref!E$38)>0,0,IF(AA140=0, "0:00", SUM(AA140-ref!E$38)))) -> 0:00 | AE140: =ref!E$11 -> 2 | AF140: =IF(AND(H140<>"",J140<>""),1,0+OR(N(J139)<N(H139),F140="récupération",F140="congé 1 jour",F140="congé 1/2 jour ",F140="congé 5h24",F140="arrêt maladie",F140="arrêt travail",F140="férié ",F140="congé parentale",F140="congé de naissance")) -> 0 | AH140: J6 | AI140: à | AJ140: J7 | AK140: {=IF(ISNUMBER(G141),G141-_xlfn.AGGREGATE(14,6,(K$4:K140<G141)*K$4:K140,1),"")} | AL140: =IF(ISNUMBER(AK140),ABS(IF(SUM(AK140-ref!E$9)>0,0,SUM(AK140-ref!E$9))),"")
E141: =E140+1 -> 43927 | F141: off | G141: =IF(AND(J141="",H141=""),"",E141+H141) | I141: =SUM(V141+AA141+AC141) -> 0 | K141: =IF(AND(H141="",J141=""),"",E141+J141+(H141>J141)) | L141: =IF(OR(F141="télétravail",F141="férié travaillé",F141="travail"),(J141-H141+IF(H141>J141,1)-I141),INDEX(ref!$E$22:'ref'!$E$37,MATCH(F141,gerald3,0))) -> 0 | M141: =IF(SUM(L141-ref!E$8)<0,0,SUM(L141-ref!E$8)) -> 0 | N141: =L141-(hs!D140+hs!F140+hs!H140+hs!J140) -> 0 | O141: =IF(OR(F141="férié travaillé",F141="travail",F141="asa",F141="rtt"),J141-H141+IF(H141>J141,1),INDEX(ref!$E$22:'ref'!$E$37,MATCH(F141,gerald2,0))) -> 0 | P141: =IF(SUM(O141-ref!E$4)<0,0,SUM(O141-ref!E$4)) -> 0 | Q141: =Q140+L141 -> 1.8486111 | V141: =U141-T141 -> 0 | W141: =IF(V141="","",IF(SUM(V141-ref!E$38)>0,0,IF(V141=0, "0:00", SUM(V141-ref!E$38)))) -> 0:00 | AA141: =Z141-Y141 -> 0 | AB141: =IF(AA141="","",IF(SUM(AA141-ref!E$38)>0,0,IF(AA141=0, "0:00", SUM(AA141-ref!E$38)))) -> 0:00 | AE141: =IF(SUM(Q141-ref!E$11)<0,0,SUM(Q141-ref!E$11)) -> 0 | AF141: =IF(AND(H141<>"",J141<>""),1,0+OR(N(J140)<N(H140),F141="récupération",F141="congé 1 jour",F141="congé 1/2 jour ",F141="congé 5h24",F141="arrêt maladie",F141="arrêt travail",F141="férié ",F141="congé parentale",F141="congé de naissance")) -> 0
...

Sheet hs
C1: début | D1: 0.25 | F1: 0.77083333 | H1: 0.91666667 | J1: 1
C2: fin | D2: 0.77083333 | F2: 0.91666667 | H2: 1 | J2: 0.25
B4: ='planning '!F5 -> férié | C4: ='planning '!E5 -> 43830 | F4: =IF(OR('planning '!$H5="",'planning '!$J5=""),0,IF('planning '!$J5>'planning '!$H5,MEDIAN('planning '!$J5,F$2,F$1)-MEDIAN('planning '!$H5,F$2,F$1),+('planning '!$J5<'planning '!$H5)*(F$2-F$1)+MEDIAN('planning '!$J5,F$1,F$2)-MEDIAN('planning '!$H5,F$1,F$2)))-'planning '!AA5 -> 0 | H4: =IF(OR('planning '!$H5="",'planning '!$J5=""),0,IF('planning '!$J5>'planning '!$H5,MEDIAN('planning '!$J5,H$2,H$1)-MEDIAN('planning '!$H5,H$2,H$1),+('planning '!$J5<'planning '!$H5)*(H$2-H$1)+MEDIAN('planning '!$J5,H$1,H$2)-MEDIAN('planning '!$H5,H$1,H$2))) -> 0 | J4: =IF(OR('planning '!$H5="",'planning '!$J5=""),0,IF('planning '!$J5>'planning '!$H5,MEDIAN('planning '!$J5,J$2,J$1)-MEDIAN('planning '!$H5,J$2,J$1),+('planning '!$J5<'planning '!$H5)*(J$2-J$1)+MEDIAN('planning '!$J5,J$1,J$2)-MEDIAN('planning '!$H5,J$1,J$2))) -> 0 | O4: résultat hebdomadaire
B5: ='planning '!F6 -> récupération | C5: =C4+1 -> 43831 | F5: =IF(OR('planning '!$H6="",'planning '!$J6=""),0,IF('planning '!$J6>'planning '!$H6,MEDIAN('planning '!$J6,F$2,F$1)-MEDIAN('planning '!$H6,F$2,F$1),+('planning '!$J6<'planning '!$H6)*(F$2-F$1)+MEDIAN('planning '!$J6,F$1,F$2)-MEDIAN('planning '!$H6,F$1,F$2)))-'planning '!AA6 -> 0 | H5: =IF(OR('planning '!$H6="",'planning '!$J6=""),0,IF('planning '!$J6>'planning '!$H6,MEDIAN('planning '!$J6,H$2,H$1)-MEDIAN('planning '!$H6,H$2,H$1),+('planning '!$J6<'planning '!$H6)*(H$2-H$1)+MEDIAN('planning '!$J6,H$1,H$2)-MEDIAN('planning '!$H6,H$1,H$2))) -> 0 | J5: =IF(OR('planning '!$H6="",'planning '!$J6=""),0,IF('planning '!$J6>'planning '!$H6,MEDIAN('planning '!$J6,J$2,J$1)-MEDIAN('planning '!$H6,J$2,J$1),+('planning '!$J6<'planning '!$H6)*(J$2-J$1)+MEDIAN('planning '!$J6,J$1,J$2)-MEDIAN('planning '!$H6,J$1,J$2))) -> 0 | N5: 06h - 18h30 | O5: 18h30-22h00 | P5: 22h00 -00h00 | Q5: 00h00-06h
B6: ='planning '!F7 -> récupération | C6: =C5+1 -> 43832 | F6: =IF(OR('planning '!$H7="",'planning '!$J7=""),0,IF('planning '!$J7>'planning '!$H7,MEDIAN('planning '!$J7,F$2,F$1)-MEDIAN('planning '!$H7,F$2,F$1),+('planning '!$J7<'planning '!$H7)*(F$2-F$1)+MEDIAN('planning '!$J7,F$1,F$2)-MEDIAN('planning '!$H7,F$1,F$2)))-'planning '!AA7 -> 0 | H6: =IF(OR('planning '!$H7="",'planning '!$J7=""),0,IF('planning '!$J7>'planning '!$H7,MEDIAN('planning '!$J7,H$2,H$1)-MEDIAN('planning '!$H7,H$2,H$1),+('planning '!$J7<'planning '!$H7)*(H$2-H$1)+MEDIAN('planning '!$J7,H$1,H$2)-MEDIAN('planning '!$H7,H$1,H$2))) -> 0 | J6: =IF(OR('planning '!$H7="",'planning '!$J7=""),0,IF('planning '!$J7>'planning '!$H7,MEDIAN('planning '!$J7,J$2,J$1)-MEDIAN('planning '!$H7,J$2,J$1),+('planning '!$J7<'planning '!$H7)*(J$2-J$1)+MEDIAN('planning '!$J7,J$1,J$2)-MEDIAN('planning '!$H7,J$1,J$2))) -> 0 | M6: paiement | N6: =SUMIF(OFFSET($C4:$C11,0,MATCH(N$10,$B$5:$H$5,0)-1,7,1),$K7,OFFSET($B4:$B10,0,MATCH(N$10,$B$5:$H$5,0)-1,7,1)) -> 0 | O6: =SUMIF(OFFSET($C4:$C11,0,MATCH(O$10,$B$5:$H$5,0)-1,7,1),$K7,OFFSET($B4:$B10,0,MATCH(O$10,$B$5:$H$5,0)-1,7,1)) -> 0 | P6: =SUMIF(OFFSET($C4:$C11,0,MATCH(P$10,$B$5:$H$5,0)-1,7,1),$K7,OFFSET($B4:$B10,0,MATCH(P$10,$B$5:$H$5,0)-1,7,1)) -> 0 | Q6: =SUMIF(OFFSET($C4:$C11,0,MATCH(Q$10,$B$5:$H$5,0)-1,7,1),$K7,OFFSET($B4:$B10,0,MATCH(Q$10,$B$5:$H$5,0)-1,7,1)) -> 0
B7: ='planning '!F8 -> récupération | C7: =C6+1 -> 43833 | F7: =IF(OR('planning '!$H8="",'planning '!$J8=""),0,IF('planning '!$J8>'planning '!$H8,MEDIAN('planning '!$J8,F$2,F$1)-MEDIAN('planning '!$H8,F$2,F$1),+('planning '!$J8<'planning '!$H8)*(F$2-F$1)+MEDIAN('planning '!$J8,F$1,F$2)-MEDIAN('planning '!$H8,F$1,F$2)))-'planning '!AA8 -> 0 | H7: =IF(OR('planning '!$H8="",'planning '!$J8=""),0,IF('planning '!$J8>'planning '!$H8,MEDIAN('planning '!$J8,H$2,H$1)-MEDIAN('planning '!$H8,H$2,H$1),+('planning '!$J8<'planning '!$H8)*(H$2-H$1)+MEDIAN('planning '!$J8,H$1,H$2)-MEDIAN('planning '!$H8,H$1,H$2))) -> 0 | J7: =IF(OR('planning '!$H8="",'planning '!$J8=""),0,IF('planning '!$J8>'planning '!$H8,MEDIAN('planning '!$J8,J$2,J$1)-MEDIAN('planning '!$H8,J$2,J$1),+('planning '!$J8<'planning '!$H8)*(J$2-J$1)+MEDIAN('planning '!$J8,J$1,J$2)-MEDIAN('planning '!$H8,J$1,J$2))) -> 0 | M7: récupération | N7: =SUMIF(OFFSET($C5:$C12,0,MATCH(N$10,$B$5:$H$5,0)-1,7,1),$K8,OFFSET($B5:$B11,0,MATCH(N$10,$B$5:$H$5,0)-1,7,1)) -> 0 | O7: =SUMIF(OFFSET($C5:$C12,0,MATCH(O$10,$B$5:$H$5,0)-1,7,1),$K8,OFFSET($B5:$B11,0,MATCH(O$10,$B$5:$H$5,0)-1,7,1)) -> 0 | P7: =SUMIF(OFFSET($C5:$C12,0,MATCH(P$10,$B$5:$H$5,0)-1,7,1),$K8,OFFSET($B5:$B11,0,MATCH(P$10,$B$5:$H$5,0)-1,7,1)) -> 0 | Q7: =SUMIF(OFFSET($C5:$C12,0,MATCH(Q$10,$B$5:$H$5,0)-1,7,1),$K8,OFFSET($B5:$B11,0,MATCH(Q$10,$B$5:$H$5,0)-1,7,1)) -> 0
B8: ='planning '!F9 -> récupération | C8: =C7+1 -> 43834 | F8: =IF(OR('planning '!$H9="",'planning '!$J9=""),0,IF('planning '!$J9>'planning '!$H9,MEDIAN('planning '!$J9,F$2,F$1)-MEDIAN('planning '!$H9,F$2,F$1),+('planning '!$J9<'planning '!$H9)*(F$2-F$1)+MEDIAN('planning '!$J9,F$1,F$2)-MEDIAN('planning '!$H9,F$1,F$2)))-'planning '!AA9 -> 0 | H8: =IF(OR('planning '!$H9="",'planning '!$J9=""),0,IF('planning '!$J9>'planning '!$H9,MEDIAN('planning '!$J9,H$2,H$1)-MEDIAN('planning '!$H9,H$2,H$1),+('planning '!$J9<'planning '!$H9)*(H$2-H$1)+MEDIAN('planning '!$J9,H$1,H$2)-MEDIAN('planning '!$H9,H$1,H$2))) -> 0 | J8: =IF(OR('planning '!$H9="",'planning '!$J9=""),0,IF('planning '!$J9>'planning '!$H9,MEDIAN('planning '!$J9,J$2,J$1)-MEDIAN('planning '!$H9,J$2,J$1),+('planning '!$J9<'planning '!$H9)*(J$2-J$1)+MEDIAN('planning '!$J9,J$1,J$2)-MEDIAN('planning '!$H9,J$1,J$2))) -> 0
B9: ='planning '!F10 -> off | C9: =C8+1 -> 43835 | D9: =IF(OR('planning '!$H10="",'planning '!$J10=""),0,IF('planning '!$J10>'planning '!$H10,MEDIAN('planning '!$J10,D$2,D$1)-MEDIAN('planning '!$H10,D$2,D$1),+('planning '!$J10<'planning '!$H10)*(D$2-D$1)+MEDIAN('planning '!$J10,D$1,D$2)-MEDIAN('planning '!$H10,D$1,D$2)))-'planning '!V10 -> 0 | F9: =IF(OR('planning '!$H10="",'planning '!$J10=""),0,IF('planning '!$J10>'planning '!$H10,MEDIAN('planning '!$J10,F$2,F$1)-MEDIAN('planning '!$H10,F$2,F$1),+('planning '!$J10<'planning '!$H10)*(F$2-F$1)+MEDIAN('planning '!$J10,F$1,F$2)-MEDIAN('planning '!$H10,F$1,F$2)))-'planning '!AA10 -> 0 | H9: =IF(OR('planning '!$H10="",'planning '!$J10=""),0,IF('planning '!$J10>'planning '!$H10,MEDIAN('planning '!$J10,H$2,H$1)-MEDIAN('planning '!$H10,H$2,H$1),+('planning '!$J10<'planning '!$H10)*(H$2-H$1)+MEDIAN('planning '!$J10,H$1,H$2)-MEDIAN('planning '!$H10,H$1,H$2))) -> 0 | J9: =IF(OR('planning '!$H10="",'planning '!$J10=""),0,IF('planning '!$J10>'planning '!$H10,MEDIAN('planning '!$J10,J$2,J$1)-MEDIAN('planning '!$H10,J$2,J$1),+('planning '!$J10<'planning '!$H10)*(J$2-J$1)+MEDIAN('planning '!$J10,J$1,J$2)-MEDIAN('planning '!$H10,J$1,J$2))) -> 0
B10: ='planning '!F11 -> off | C10: =C9+1 -> 43836 | D10: =IF(OR('planning '!$H11="",'planning '!$J11=""),0,IF('planning '!$J11>'planning '!$H11,MEDIAN('planning '!$J11,D$2,D$1)-MEDIAN('planning '!$H11,D$2,D$1),+('planning '!$J11<'planning '!$H11)*(D$2-D$1)+MEDIAN('planning '!$J11,D$1,D$2)-MEDIAN('planning '!$H11,D$1,D$2)))-'planning '!V11 -> 0 | F10: =IF(OR('planning '!$H11="",'planning '!$J11=""),0,IF('planning '!$J11>'planning '!$H11,MEDIAN('planning '!$J11,F$2,F$1)-MEDIAN('planning '!$H11,F$2,F$1),+('planning '!$J11<'planning '!$H11)*(F$2-F$1)+MEDIAN('planning '!$J11,F$1,F$2)-MEDIAN('planning '!$H11,F$1,F$2)))-'planning '!AA11 -> 0 | H10: =IF(OR('planning '!$H11="",'planning '!$J11=""),0,IF('planning '!$J11>'planning '!$H11,MEDIAN('planning '!$J11,H$2,H$1)-MEDIAN('planning '!$H11,H$2,H$1),+('planning '!$J11<'planning '!$H11)*(H$2-H$1)+MEDIAN('planning '!$J11,H$1,H$2)-MEDIAN('planning '!$H11,H$1,H$2))) -> 0 | J10: =IF(OR('planning '!$H11="",'planning '!$J11=""),0,IF('planning '!$J11>'planning '!$H11,MEDIAN('planning '!$J11,J$2,J$1)-MEDIAN('planning '!$H11,J$2,J$1),+('planning '!$J11<'planning '!$H11)*(J$2-J$1)+MEDIAN('planning '!$J11,J$1,J$2)-MEDIAN('planning '!$H11,J$1,J$2))) -> 0
B14: ='planning '!F15 -> travail | C14: ='planning '!E15 -> 43837 | F14: =IF(OR('planning '!$H15="",'planning '!$J15=""),0,IF('planning '!$J15>'planning '!$H15,MEDIAN('planning '!$J15,F$2,F$1)-MEDIAN('planning '!$H15,F$2,F$1),+('planning '!$J15<'planning '!$H15)*(F$2-F$1)+MEDIAN('planning '!$J15,F$1,F$2)-MEDIAN('planning '!$H15,F$1,F$2)))-'planning '!AA15 -> 0 | H14: =IF(OR('planning '!$H15="",'planning '!$J15=""),0,IF('planning '!$J15>'planning '!$H15,MEDIAN('planning '!$J15,H$2,H$1)-MEDIAN('planning '!$H15,H$2,H$1),+('planning '!$J15<'planning '!$H15)*(H$2-H$1)+MEDIAN('planning '!$J15,H$1,H$2)-MEDIAN('planning '!$H15,H$1,H$2))) -> 0 | J14: =IF(OR('planning '!$H15="",'planning '!$J15=""),0,IF('planning '!$J15>'planning '!$H15,MEDIAN('planning '!$J15,J$2,J$1)-MEDIAN('planning '!$H15,J$2,J$1),+('planning '!$J15<'planning '!$H15)*(J$2-J$1)+MEDIAN('planning '!$J15,J$1,J$2)-MEDIAN('planning '!$H15,J$1,J$2))) -> 0.33333333 | O14: résultat hebdomadaire
B15: ='planning '!F16 -> travail | C15: =C14+1 -> 43838 | F15: =IF(OR('planning '!$H16="",'planning '!$J16=""),0,IF('planning '!$J16>'planning '!$H16,MEDIAN('planning '!$J16,F$2,F$1)-MEDIAN('planning '!$H16,F$2,F$1),+('planning '!$J16<'planning '!$H16)*(F$2-F$1)+MEDIAN('planning '!$J16,F$1,F$2)-MEDIAN('planning '!$H16,F$1,F$2)))-'planning '!AA16 -> 0 | H15: =IF(OR('planning '!$H16="",'planning '!$J16=""),0,IF('planning '!$J16>'planning '!$H16,MEDIAN('planning '!$J16,H$2,H$1)-MEDIAN('planning '!$H16,H$2,H$1),+('planning '!$J16<'planning '!$H16)*(H$2-H$1)+MEDIAN('planning '!$J16,H$1,H$2)-MEDIAN('planning '!$H16,H$1,H$2))) -> 0 | J15: =IF(OR('planning '!$H16="",'planning '!$J16=""),0,IF('planning '!$J16>'planning '!$H16,MEDIAN('planning '!$J16,J$2,J$1)-MEDIAN('planning '!$H16,J$2,J$1),+('planning '!$J16<'planning '!$H16)*(J$2-J$1)+MEDIAN('planning '!$J16,J$1,J$2)-MEDIAN('planning '!$H16,J$1,J$2))) -> 0.38402778 | N15: 06h - 18h30 | O15: 18h30-22h00 | P15: 22h00 -00h00 | Q15: 00h00-06h
B16: ='planning '!F17 -> travail | C16: =C15+1 -> 43839 | F16: =IF(OR('planning '!$H17="",'planning '!$J17=""),0,IF('planning '!$J17>'planning '!$H17,MEDIAN('planning '!$J17,F$2,F$1)-MEDIAN('planning '!$H17,F$2,F$1),+('planning '!$J17<'planning '!$H17)*(F$2-F$1)+MEDIAN('planning '!$J17,F$1,F$2)-MEDIAN('planning '!$H17,F$1,F$2)))-'planning '!AA17 -> 0.0125 | G16: récupération | H16: =IF(OR('planning '!$H17="",'planning '!$J17=""),0,IF('planning '!$J17>'planning '!$H17,MEDIAN('planning '!$J17,H$2,H$1)-MEDIAN('planning '!$H17,H$2,H$1),+('planning '!$J17<'planning '!$H17)*(H$2-H$1)+MEDIAN('planning '!$J17,H$1,H$2)-MEDIAN('planning '!$H17,H$1,H$2))) -> 0 | J16: =IF(OR('planning '!$H17="",'planning '!$J17=""),0,IF('planning '!$J17>'planning '!$H17,MEDIAN('planning '!$J17,J$2,J$1)-MEDIAN('planning '!$H17,J$2,J$1),+('planning '!$J17<'planning '!$H17)*(J$2-J$1)+MEDIAN('planning '!$J17,J$1,J$2)-MEDIAN('planning '!$H17,J$1,J$2))) -> 0.38819444 | M16: paiement | N16: =SUMIF(OFFSET($C14:$C21,0,MATCH(N$10,$B$5:$H$5,0)-1,7,1),$K17,OFFSET($B14:$B20,0,MATCH(N$10,$B$5:$H$5,0)-1,7,1)) -> 0 | O16: =SUMIF(OFFSET($C14:$C21,0,MATCH(O$10,$B$5:$H$5,0)-1,7,1),$K17,OFFSET($B14:$B20,0,MATCH(O$10,$B$5:$H$5,0)-1,7,1)) -> 0 | P16: =SUMIF(OFFSET($C14:$C21,0,MATCH(P$10,$B$5:$H$5,0)-1,7,1),$K17,OFFSET($B14:$B20,0,MATCH(P$10,$B$5:$H$5,0)-1,7,1)) -> 0 | Q16: =SUMIF(OFFSET($C14:$C21,0,MATCH(Q$10,$B$5:$H$5,0)-1,7,1),$K17,OFFSET($B14:$B20,0,MATCH(Q$10,$B$5:$H$5,0)-1,7,1)) -> 0
B17: ='planning '!F18 -> travail | C17: =C16+1 -> 43840 | F17: =IF(OR('planning '!$H18="",'planning '!$J18=""),0,IF('planning '!$J18>'planning '!$H18,MEDIAN('planning '!$J18,F$2,F$1)-MEDIAN('planning '!$H18,F$2,F$1),+('planning '!$J18<'planning '!$H18)*(F$2-F$1)+MEDIAN('planning '!$J18,F$1,F$2)-MEDIAN('planning '!$H18,F$1,F$2)))-'planning '!AA18 -> 0 | H17: =IF(OR('planning '!$H18="",'planning '!$J18=""),0,IF('planning '!$J18>'planning '!$H18,MEDIAN('planning '!$J18,H$2,H$1)-MEDIAN('planning '!$H18,H$2,H$1),+('planning '!$J18<'planning '!$H18)*(H$2-H$1)+MEDIAN('planning '!$J18,H$1,H$2)-MEDIAN('planning '!$H18,H$1,H$2))) -> 0 | J17: =IF(OR('planning '!$H18="",'planning '!$J18=""),0,IF('planning '!$J18>'planning '!$H18,MEDIAN('planning '!$J18,J$2,J$1)-MEDIAN('planning '!$H18,J$2,J$1),+('planning '!$J18<'planning '!$H18)*(J$2-J$1)+MEDIAN('planning '!$J18,J$1,J$2)-MEDIAN('planning '!$H18,J$1,J$2))) -> 0.35763889 | M17: récupération | N17: =SUMIF(OFFSET($C15:$C22,0,MATCH(N$10,$B$5:$H$5,0)-1,7,1),$K18,OFFSET($B15:$B21,0,MATCH(N$10,$B$5:$H$5,0)-1,7,1)) -> 0 | O17: =SUMIF(OFFSET($C15:$C22,0,MATCH(O$10,$B$5:$H$5,0)-1,7,1),$K18,OFFSET($B15:$B21,0,MATCH(O$10,$B$5:$H$5,0)-1,7,1)) -> 0 | P17: =SUMIF(OFFSET($C15:$C22,0,MATCH(P$10,$B$5:$H$5,0)-1,7,1),$K18,OFFSET($B15:$B21,0,MATCH(P$10,$B$5:$H$5,0)-1,7,1)) -> 0 | Q17: =SUMIF(OFFSET($C15:$C22,0,MATCH(Q$10,$B$5:$H$5,0)-1,7,1),$K18,OFFSET($B15:$B21,0,MATCH(Q$10,$B$5:$H$5,0)-1,7,1)) -> 0
B18: ='planning '!F19 -> travail | C18: =C17+1 -> 43841 | F18: =IF(OR('planning '!$H19="",'planning '!$J19=""),0,IF('planning '!$J19>'planning '!$H19,MEDIAN('planning '!$J19,F$2,F$1)-MEDIAN('planning '!$H19,F$2,F$1),+('planning '!$J19<'planning '!$H19)*(F$2-F$1)+MEDIAN('planning '!$J19,F$1,F$2)-MEDIAN('planning '!$H19,F$1,F$2)))-'planning '!AA19 -> 0 | H18: =IF(OR('planning '!$H19="",'planning '!$J19=""),0,IF('planning '!$J19>'planning '!$H19,MEDIAN('planning '!$J19,H$2,H$1)-MEDIAN('planning '!$H19,H$2,H$1),+('planning '!$J19<'planning '!$H19)*(H$2-H$1)+MEDIAN('planning '!$J19,H$1,H$2)-MEDIAN('planning '!$H19,H$1,H$2))) -> 0 | J18: =IF(OR('planning '!$H19="",'planning '!$J19=""),0,IF('planning '!$J19>'planning '!$H19,MEDIAN('planning '!$J19,J$2,J$1)-MEDIAN('planning '!$H19,J$2,J$1),+('planning '!$J19<'planning '!$H19)*(J$2-J$1)+MEDIAN('planning '!$J19,J$1,J$2)-MEDIAN('planning '!$H19,J$1,J$2))) -> 0.37152778
B19: ='planning '!F20 -> off | C19: =C18+1 -> 43842 | D19: =IF(OR('planning '!$H20="",'planning '!$J20=""),0,IF('planning '!$J20>'planning '!$H20,MEDIAN('planning '!$J20,D$2,D$1)-MEDIAN('planning '!$H20,D$2,D$1),+('planning '!$J20<'planning '!$H20)*(D$2-D$1)+MEDIAN('planning '!$J20,D$1,D$2)-MEDIAN('planning '!$H20,D$1,D$2)))-'planning '!V20 -> 0 | F19: =IF(OR('planning '!$H20="",'planning '!$J20=""),0,IF('planning '!$J20>'planning '!$H20,MEDIAN('planning '!$J20,F$2,F$1)-MEDIAN('planning '!$H20,F$2,F$1),+('planning '!$J20<'planning '!$H20)*(F$2-F$1)+MEDIAN('planning '!$J20,F$1,F$2)-MEDIAN('planning '!$H20,F$1,F$2)))-'planning '!AA20 -> 0 | H19: =IF(OR('planning '!$H20="",'planning '!$J20=""),0,IF('planning '!$J20>'planning '!$H20,MEDIAN('planning '!$J20,H$2,H$1)-MEDIAN('planning '!$H20,H$2,H$1),+('planning '!$J20<'planning '!$H20)*(H$2-H$1)+MEDIAN('planning '!$J20,H$1,H$2)-MEDIAN('planning '!$H20,H$1,H$2))) -> 0 | J19: =IF(OR('planning '!$H20="",'planning '!$J20=""),0,IF('planning '!$J20>'planning '!$H20,MEDIAN('planning '!$J20,J$2,J$1)-MEDIAN('planning '!$H20,J$2,J$1),+('planning '!$J20<'planning '!$H20)*(J$2-J$1)+MEDIAN('planning '!$J20,J$1,J$2)-MEDIAN('planning '!$H20,J$1,J$2))) -> 0
B20: ='planning '!F21 -> off | C20: =C19+1 -> 43843 | D20: =IF(OR('planning '!$H21="",'planning '!$J21=""),0,IF('planning '!$J21>'planning '!$H21,MEDIAN('planning '!$J21,D$2,D$1)-MEDIAN('planning '!$H21,D$2,D$1),+('planning '!$J21<'planning '!$H21)*(D$2-D$1)+MEDIAN('planning '!$J21,D$1,D$2)-MEDIAN('planning '!$H21,D$1,D$2)))-'planning '!V21 -> 0 | F20: =IF(OR('planning '!$H21="",'planning '!$J21=""),0,IF('planning '!$J21>'planning '!$H21,MEDIAN('planning '!$J21,F$2,F$1)-MEDIAN('planning '!$H21,F$2,F$1),+('planning '!$J21<'planning '!$H21)*(F$2-F$1)+MEDIAN('planning '!$J21,F$1,F$2)-MEDIAN('planning '!$H21,F$1,F$2)))-'planning '!AA21 -> 0 | H20: =IF(OR('planning '!$H21="",'planning '!$J21=""),0,IF('planning '!$J21>'planning '!$H21,MEDIAN('planning '!$J21,H$2,H$1)-MEDIAN('planning '!$H21,H$2,H$1),+('planning '!$J21<'planning '!$H21)*(H$2-H$1)+MEDIAN('planning '!$J21,H$1,H$2)-MEDIAN('planning '!$H21,H$1,H$2))) -> 0 | J20: =IF(OR('planning '!$H21="",'planning '!$J21=""),0,IF('planning '!$J21>'planning '!$H21,MEDIAN('planning '!$J21,J$2,J$1)-MEDIAN('planning '!$H21,J$2,J$1),+('planning '!$J21<'planning '!$H21)*(J$2-J$1)+MEDIAN('planning '!$J21,J$1,J$2)-MEDIAN('planning '!$H21,J$1,J$2))) -> 0
B24: ='planning '!F25 -> travail | C24: ='planning '!E25 -> 43844 | F24: =IF(OR('planning '!$H25="",'planning '!$J25=""),0,IF('planning '!$J25>'planning '!$H25,MEDIAN('planning '!$J25,F$2,F$1)-MEDIAN('planning '!$H25,F$2,F$1),+('planning '!$J25<'planning '!$H25)*(F$2-F$1)+MEDIAN('planning '!$J25,F$1,F$2)-MEDIAN('planning '!$H25,F$1,F$2)))-'planning '!AA25 -> 0 | H24: =IF(OR('planning '!$H25="",'planning '!$J25=""),0,IF('planning '!$J25>'planning '!$H25,MEDIAN('planning '!$J25,H$2,H$1)-MEDIAN('planning '!$H25,H$2,H$1),+('planning '!$J25<'planning '!$H25)*(H$2-H$1)+MEDIAN('planning '!$J25,H$1,H$2)-MEDIAN('planning '!$H25,H$1,H$2))) -> 0 | J24: =IF(OR('planning '!$H25="",'planning '!$J25=""),0,IF('planning '!$J25>'planning '!$H25,MEDIAN('planning '!$J25,J$2,J$1)-MEDIAN('planning '!$H25,J$2,J$1),+('planning '!$J25<'planning '!$H25)*(J$2-J$1)+MEDIAN('planning '!$J25,J$1,J$2)-MEDIAN('planning '!$H25,J$1,J$2))) -> 0.33402778 | O24: résultat hebdomadaire
B25: ='planning '!F26 -> travail | C25: =C24+1 -> 43845 | F25: =IF(OR('planning '!$H26="",'planning '!$J26=""),0,IF('planning '!$J26>'planning '!$H26,MEDIAN('planning '!$J26,F$2,F$1)-MEDIAN('planning '!$H26,F$2,F$1),+('planning '!$J26<'planning '!$H26)*(F$2-F$1)+MEDIAN('planning '!$J26,F$1,F$2)-MEDIAN('planning '!$H26,F$1,F$2)))-'planning '!AA26 -> 0.084722222 | G25: récupération | H25: =IF(OR('planning '!$H26="",'planning '!$J26=""),0,IF('planning '!$J26>'planning '!$H26,MEDIAN('planning '!$J26,H$2,H$1)-MEDIAN('planning '!$H26,H$2,H$1),+('planning '!$J26<'planning '!$H26)*(H$2-H$1)+MEDIAN('planning '!$J26,H$1,H$2)-MEDIAN('planning '!$H26,H$1,H$2))) -> 0 | J25: =IF(OR('planning '!$H26="",'planning '!$J26=""),0,IF('planning '!$J26>'planning '!$H26,MEDIAN('planning '!$J26,J$2,J$1)-MEDIAN('planning '!$H26,J$2,J$1),+('planning '!$J26<'planning '!$H26)*(J$2-J$1)+MEDIAN('planning '!$J26,J$1,J$2)-MEDIAN('planning '!$H26,J$1,J$2))) -> 0.475 | N25: 06h - 18h30 | O25: 18h30-22h00 | P25: 22h00 -00h00 | Q25: 00h00-06h
B26: ='planning '!F27 -> travail | C26: =C25+1 -> 43846 | F26: =IF(OR('planning '!$H27="",'planning '!$J27=""),0,IF('planning '!$J27>'planning '!$H27,MEDIAN('planning '!$J27,F$2,F$1)-MEDIAN('planning '!$H27,F$2,F$1),+('planning '!$J27<'planning '!$H27)*(F$2-F$1)+MEDIAN('planning '!$J27,F$1,F$2)-MEDIAN('planning '!$H27,F$1,F$2)))-'planning '!AA27 -> 0.0125 | G26: récupération | H26: =IF(OR('planning '!$H27="",'planning '!$J27=""),0,IF('planning '!$J27>'planning '!$H27,MEDIAN('planning '!$J27,H$2,H$1)-MEDIAN('planning '!$H27,H$2,H$1),+('planning '!$J27<'planning '!$H27)*(H$2-H$1)+MEDIAN('planning '!$J27,H$1,H$2)-MEDIAN('planning '!$H27,H$1,H$2))) -> 0 | J26: =IF(OR('planning '!$H27="",'planning '!$J27=""),0,IF('planning '!$J27>'planning '!$H27,MEDIAN('planning '!$J27,J$2,J$1)-MEDIAN('planning '!$H27,J$2,J$1),+('planning '!$J27<'planning '!$H27)*(J$2-J$1)+MEDIAN('planning '!$J27,J$1,J$2)-MEDIAN('planning '!$H27,J$1,J$2))) -> 0.35555556 | M26: paiement | N26: =SUMIF(OFFSET($C24:$C31,0,MATCH(N$10,$B$5:$H$5,0)-1,7,1),$K27,OFFSET($B24:$B30,0,MATCH(N$10,$B$5:$H$5,0)-1,7,1)) -> 0 | O26: =SUMIF(OFFSET($C24:$C31,0,MATCH(O$10,$B$5:$H$5,0)-1,7,1),$K27,OFFSET($B24:$B30,0,MATCH(O$10,$B$5:$H$5,0)-1,7,1)) -> 0 | P26: =SUMIF(OFFSET($C24:$C31,0,MATCH(P$10,$B$5:$H$5,0)-1,7,1),$K27,OFFSET($B24:$B30,0,MATCH(P$10,$B$5:$H$5,0)-1,7,1)) -> 0 | Q26: =SUMIF(OFFSET($C24:$C31,0,MATCH(Q$10,$B$5:$H$5,0)-1,7,1),$K27,OFFSET($B24:$B30,0,MATCH(Q$10,$B$5:$H$5,0)-1,7,1)) -> 0
B27: ='planning '!F28 -> travail | C27: =C26+1 -> 43847 | F27: =IF(OR('planning '!$H28="",'planning '!$J28=""),0,IF('planning '!$J28>'planning '!$H28,MEDIAN('planning '!$J28,F$2,F$1)-MEDIAN('planning '!$H28,F$2,F$1),+('planning '!$J28<'planning '!$H28)*(F$2-F$1)+MEDIAN('planning '!$J28,F$1,F$2)-MEDIAN('planning '!$H28,F$1,F$2)))-'planning '!AA28 -> 0.0041666667 | G27: récupération | H27: =IF(OR('planning '!$H28="",'planning '!$J28=""),0,IF('planning '!$J28>'planning '!$H28,MEDIAN('planning '!$J28,H$2,H$1)-MEDIAN('planning '!$H28,H$2,H$1),+('planning '!$J28<'planning '!$H28)*(H$2-H$1)+MEDIAN('planning '!$J28,H$1,H$2)-MEDIAN('planning '!$H28,H$1,H$2))) -> 0 | J27: =IF(OR('planning '!$H28="",'planning '!$J28=""),0,IF('planning '!$J28>'planning '!$H28,MEDIAN('planning '!$J28,J$2,J$1)-MEDIAN('planning '!$H28,J$2,J$1),+('planning '!$J28<'planning '!$H28)*(J$2-J$1)+MEDIAN('planning '!$J28,J$1,J$2)-MEDIAN('planning '!$H28,J$1,J$2))) -> 0.4 | M27: récupération | N27: =SUMIF(OFFSET($C25:$C32,0,MATCH(N$10,$B$5:$H$5,0)-1,7,1),$K28,OFFSET($B25:$B31,0,MATCH(N$10,$B$5:$H$5,0)-1,7,1)) -> 0 | O27: =SUMIF(OFFSET($C25:$C32,0,MATCH(O$10,$B$5:$H$5,0)-1,7,1),$K28,OFFSET($B25:$B31,0,MATCH(O$10,$B$5:$H$5,0)-1,7,1)) -> 0 | P27: =SUMIF(OFFSET($C25:$C32,0,MATCH(P$10,$B$5:$H$5,0)-1,7,1),$K28,OFFSET($B25:$B31,0,MATCH(P$10,$B$5:$H$5,0)-1,7,1)) -> 0 | Q27: =SUMIF(OFFSET($C25:$C32,0,MATCH(Q$10,$B$5:$H$5,0)-1,7,1),$K28,OFFSET($B25:$B31,0,MATCH(Q$10,$B$5:$H$5,0)-1,7,1)) -> 0
B28: ='planning '!F29 -> travail | C28: =C27+1 -> 43848 | F28: =IF(OR('planning '!$H29="",'planning '!$J29=""),0,IF('planning '!$J29>'planning '!$H29,MEDIAN('planning '!$J29,F$2,F$1)-MEDIAN('planning '!$H29,F$2,F$1),+('planning '!$J29<'planning '!$H29)*(F$2-F$1)+MEDIAN('planning '!$J29,F$1,F$2)-MEDIAN('planning '!$H29,F$1,F$2)))-'planning '!AA29 -> 0 | H28: =IF(OR('planning '!$H29="",'planning '!$J29=""),0,IF('planning '!$J29>'planning '!$H29,MEDIAN('planning '!$J29,H$2,H$1)-MEDIAN('planning '!$H29,H$2,H$1),+('planning '!$J29<'planning '!$H29)*(H$2-H$1)+MEDIAN('planning '!$J29,H$1,H$2)-MEDIAN('planning '!$H29,H$1,H$2))) -> 0 | J28: =IF(OR('planning '!$H29="",'planning '!$J29=""),0,IF('planning '!$J29>'planning '!$H29,MEDIAN('planning '!$J29,J$2,J$1)-MEDIAN('planning '!$H29,J$2,J$1),+('planning '!$J29<'planning '!$H29)*(J$2-J$1)+MEDIAN('planning '!$J29,J$1,J$2)-MEDIAN('planning '!$H29,J$1,J$2))) -> 0.38888889
B29: ='planning '!F30 -> travail | C29: =C28+1 -> 43849 | D29: =IF(OR('planning '!$H30="",'planning '!$J30=""),0,IF('planning '!$J30>'planning '!$H30,MEDIAN('planning '!$J30,D$2,D$1)-MEDIAN('planning '!$H30,D$2,D$1),+('planning '!$J30<'planning '!$H30)*(D$2-D$1)+MEDIAN('planning '!$J30,D$1,D$2)-MEDIAN('planning '!$H30,D$1,D$2)))-'planning '!V30 -> 0.2 | E29: récupération | F29: =IF(OR('planning '!$H30="",'planning '!$J30=""),0,IF('planning '!$J30>'planning '!$H30,MEDIAN('planning '!$J30,F$2,F$1)-MEDIAN('planning '!$H30,F$2,F$1),+('planning '!$J30<'planning '!$H30)*(F$2-F$1)+MEDIAN('planning '!$J30,F$1,F$2)-MEDIAN('planning '!$H30,F$1,F$2)))-'planning '!AA30 -> 0.086805556 | G29: récupération | H29: =IF(OR('planning '!$H30="",'planning '!$J30=""),0,IF('planning '!$J30>'planning '!$H30,MEDIAN('planning '!$J30,H$2,H$1)-MEDIAN('planning '!$H30,H$2,H$1),+('planning '!$J30<'planning '!$H30)*(H$2-H$1)+MEDIAN('planning '!$J30,H$1,H$2)-MEDIAN('planning '!$H30,H$1,H$2))) -> 0 | J29: =IF(OR('planning '!$H30="",'planning '!$J30=""),0,IF('planning '!$J30>'planning '!$H30,MEDIAN('planning '!$J30,J$2,J$1)-MEDIAN('planning '!$H30,J$2,J$1),+('planning '!$J30<'planning '!$H30)*(J$2-J$1)+MEDIAN('planning '!$J30,J$1,J$2)-MEDIAN('planning '!$H30,J$1,J$2))) -> 0.28680556
B30: ='planning '!F31 -> off | C30: =C29+1 -> 43850 | D30: =IF(OR('planning '!$H31="",'planning '!$J31=""),0,IF('planning '!$J31>'planning '!$H31,MEDIAN('planning '!$J31,D$2,D$1)-MEDIAN('planning '!$H31,D$2,D$1),+('planning '!$J31<'planning '!$H31)*(D$2-D$1)+MEDIAN('planning '!$J31,D$1,D$2)-MEDIAN('planning '!$H31,D$1,D$2)))-'planning '!V31 -> 0 | F30: =IF(OR('planning '!$H31="",'planning '!$J31=""),0,IF('planning '!$J31>'planning '!$H31,MEDIAN('planning '!$J31,F$2,F$1)-MEDIAN('planning '!$H31,F$2,F$1),+('planning '!$J31<'planning '!$H31)*(F$2-F$1)+MEDIAN('planning '!$J31,F$1,F$2)-MEDIAN('planning '!$H31,F$1,F$2)))-'planning '!AA31 -> 0 | H30: =IF(OR('planning '!$H31="",'planning '!$J31=""),0,IF('planning '!$J31>'planning '!$H31,MEDIAN('planning '!$J31,H$2,H$1)-MEDIAN('planning '!$H31,H$2,H$1),+('planning '!$J31<'planning '!$H31)*(H$2-H$1)+MEDIAN('planning '!$J31,H$1,H$2)-MEDIAN('planning '!$H31,H$1,H$2))) -> 0 | J30: =IF(OR('planning '!$H31="",'planning '!$J31=""),0,IF('planning '!$J31>'planning '!$H31,MEDIAN('planning '!$J31,J$2,J$1)-MEDIAN('planning '!$H31,J$2,J$1),+('planning '!$J31<'planning '!$H31)*(J$2-J$1)+MEDIAN('planning '!$J31,J$1,J$2)-MEDIAN('planning '!$H31,J$1,J$2))) -> 0
B34: ='planning '!F35 -> travail | C34: ='planning '!E35 -> 43851 | F34: =IF(OR('planning '!$H35="",'planning '!$J35=""),0,IF('planning '!$J35>'planning '!$H35,MEDIAN('planning '!$J35,F$2,F$1)-MEDIAN('planning '!$H35,F$2,F$1),+('planning '!$J35<'planning '!$H35)*(F$2-F$1)+MEDIAN('planning '!$J35,F$1,F$2)-MEDIAN('planning '!$H35,F$1,F$2)))-'planning '!AA35 -> 0 | H34: =IF(OR('planning '!$H35="",'planning '!$J35=""),0,IF('planning '!$J35>'planning '!$H35,MEDIAN('planning '!$J35,H$2,H$1)-MEDIAN('planning '!$H35,H$2,H$1),+('planning '!$J35<'planning '!$H35)*(H$2-H$1)+MEDIAN('planning '!$J35,H$1,H$2)-MEDIAN('planning '!$H35,H$1,H$2))) -> 0 | J34: =IF(OR('planning '!$H35="",'planning '!$J35=""),0,IF('planning '!$J35>'planning '!$H35,MEDIAN('planning '!$J35,J$2,J$1)-MEDIAN('planning '!$H35,J$2,J$1),+('planning '!$J35<'planning '!$H35)*(J$2-J$1)+MEDIAN('planning '!$J35,J$1,J$2)-MEDIAN('planning '!$H35,J$1,J$2))) -> 0.32222222 | O34: résultat hebdomadaire
B35: ='planning '!F36 -> travail | C35: =C34+1 -> 43852 | F35: =IF(OR('planning '!$H36="",'planning '!$J36=""),0,IF('planning '!$J36>'planning '!$H36,MEDIAN('planning '!$J36,F$2,F$1)-MEDIAN('planning '!$H36,F$2,F$1),+('planning '!$J36<'planning '!$H36)*(F$2-F$1)+MEDIAN('planning '!$J36,F$1,F$2)-MEDIAN('planning '!$H36,F$1,F$2)))-'planning '!AA36 -> 0 | H35: =IF(OR('planning '!$H36="",'planning '!$J36=""),0,IF('planning '!$J36>'planning '!$H36,MEDIAN('planning '!$J36,H$2,H$1)-MEDIAN('planning '!$H36,H$2,H$1),+('planning '!$J36<'planning '!$H36)*(H$2-H$1)+MEDIAN('planning '!$J36,H$1,H$2)-MEDIAN('planning '!$H36,H$1,H$2))) -> 0 | J35: =IF(OR('planning '!$H36="",'planning '!$J36=""),0,IF('planning '!$J36>'planning '!$H36,MEDIAN('planning '!$J36,J$2,J$1)-MEDIAN('planning '!$H36,J$2,J$1),+('planning '!$J36<'planning '!$H36)*(J$2-J$1)+MEDIAN('planning '!$J36,J$1,J$2)-MEDIAN('planning '!$H36,J$1,J$2))) -> 0.34444444 | N35: 06h - 18h30 | O35: 18h30-22h00 | P35: 22h00 -00h00 | Q35: 00h00-06h
B36: ='planning '!F37 -> travail | C36: =C35+1 -> 43853 | F36: =IF(OR('planning '!$H37="",'planning '!$J37=""),0,IF('planning '!$J37>'planning '!$H37,MEDIAN('planning '!$J37,F$2,F$1)-MEDIAN('planning '!$H37,F$2,F$1),+('planning '!$J37<'planning '!$H37)*(F$2-F$1)+MEDIAN('planning '!$J37,F$1,F$2)-MEDIAN('planning '!$H37,F$1,F$2)))-'planning '!AA37 -> 0.058333333 | G36: récupération | H36: =IF(OR('planning '!$H37="",'planning '!$J37=""),0,IF('planning '!$J37>'planning '!$H37,MEDIAN('planning '!$J37,H$2,H$1)-MEDIAN('planning '!$H37,H$2,H$1),+('planning '!$J37<'planning '!$H37)*(H$2-H$1)+MEDIAN('planning '!$J37,H$1,H$2)-MEDIAN('planning '!$H37,H$1,H$2))) -> 0 | J36: =IF(OR('planning '!$H37="",'planning '!$J37=""),0,IF('planning '!$J37>'planning '!$H37,MEDIAN('planning '!$J37,J$2,J$1)-MEDIAN('planning '!$H37,J$2,J$1),+('planning '!$J37<'planning '!$H37)*(J$2-J$1)+MEDIAN('planning '!$J37,J$1,J$2)-MEDIAN('planning '!$H37,J$1,J$2))) -> 0.39583333 | M36: paiement | N36: =SUMIF(OFFSET($C34:$C41,0,MATCH(N$10,$B$5:$H$5,0)-1,7,1),$K37,OFFSET($B34:$B40,0,MATCH(N$10,$B$5:$H$5,0)-1,7,1)) -> 0 | O36: =SUMIF(OFFSET($C34:$C41,0,MATCH(O$10,$B$5:$H$5,0)-1,7,1),$K37,OFFSET($B34:$B40,0,MATCH(O$10,$B$5:$H$5,0)-1,7,1)) -> 0 | P36: =SUMIF(OFFSET($C34:$C41,0,MATCH(P$10,$B$5:$H$5,0)-1,7,1),$K37,OFFSET($B34:$B40,0,MATCH(P$10,$B$5:$H$5,0)-1,7,1)) -> 0 | Q36: =SUMIF(OFFSET($C34:$C41,0,MATCH(Q$10,$B$5:$H$5,0)-1,7,1),$K37,OFFSET($B34:$B40,0,MATCH(Q$10,$B$5:$H$5,0)-1,7,1)) -> 0
B37: ='planning '!F38 -> travail | C37: =C36+1 -> 43854 | F37: =IF(OR('planning '!$H38="",'planning '!$J38=""),0,IF('planning '!$J38>'planning '!$H38,MEDIAN('planning '!$J38,F$2,F$1)-MEDIAN('planning '!$H38,F$2,F$1),+('planning '!$J38<'planning '!$H38)*(F$2-F$1)+MEDIAN('planning '!$J38,F$1,F$2)-MEDIAN('planning '!$H38,F$1,F$2)))-'planning '!AA38 -> 0.0013888889 | H37: =IF(OR('planning '!$H38="",'planning '!$J38=""),0,IF('planning '!$J38>'planning '!$H38,MEDIAN('planning '!$J38,H$2,H$1)-MEDIAN('planning '!$H38,H$2,H$1),+('planning '!$J38<'planning '!$H38)*(H$2-H$1)+MEDIAN('planning '!$J38,H$1,H$2)-MEDIAN('planning '!$H38,H$1,H$2))) -> 0 | J37: =IF(OR('planning '!$H38="",'planning '!$J38=""),0,IF('planning '!$J38>'planning '!$H38,MEDIAN('planning '!$J38,J$2,J$1)-MEDIAN('planning '!$H38,J$2,J$1),+('planning '!$J38<'planning '!$H38)*(J$2-J$1)+MEDIAN('planning '!$J38,J$1,J$2)-MEDIAN('planning '!$H38,J$1,J$2))) -> 0.39166667 | M37: récupération | N37: =SUMIF(OFFSET($C35:$C42,0,MATCH(N$10,$B$5:$H$5,0)-1,7,1),$K38,OFFSET($B35:$B41,0,MATCH(N$10,$B$5:$H$5,0)-1,7,1)) -> 0 | O37: =SUMIF(OFFSET($C35:$C42,0,MATCH(O$10,$B$5:$H$5,0)-1,7,1),$K38,OFFSET($B35:$B41,0,MATCH(O$10,$B$5:$H$5,0)-1,7,1)) -> 0 | P37: =SUMIF(OFFSET($C35:$C42,0,MATCH(P$10,$B$5:$H$5,0)-1,7,1),$K38,OFFSET($B35:$B41,0,MATCH(P$10,$B$5:$H$5,0)-1,7,1)) -> 0 | Q37: =SUMIF(OFFSET($C35:$C42,0,MATCH(Q$10,$B$5:$H$5,0)-1,7,1),$K38,OFFSET($B35:$B41,0,MATCH(Q$10,$B$5:$H$5,0)-1,7,1)) -> 0
B38: ='planning '!F39 -> travail | C38: =C37+1 -> 43855 | F38: =IF(OR('planning '!$H39="",'planning '!$J39=""),0,IF('planning '!$J39>'planning '!$H39,MEDIAN('planning '!$J39,F$2,F$1)-MEDIAN('planning '!$H39,F$2,F$1),+('planning '!$J39<'planning '!$H39)*(F$2-F$1)+MEDIAN('planning '!$J39,F$1,F$2)-MEDIAN('planning '!$H39,F$1,F$2)))-'planning '!AA39 -> 0.13541667 | G38: récupération | H38: =IF(OR('planning '!$H39="",'planning '!$J39=""),0,IF('planning '!$J39>'planning '!$H39,MEDIAN('planning '!$J39,H$2,H$1)-MEDIAN('planning '!$H39,H$2,H$1),+('planning '!$J39<'planning '!$H39)*(H$2-H$1)+MEDIAN('planning '!$J39,H$1,H$2)-MEDIAN('planning '!$H39,H$1,H$2))) -> 0 | J38: =IF(OR('planning '!$H39="",'planning '!$J39=""),0,IF('planning '!$J39>'planning '!$H39,MEDIAN('planning '!$J39,J$2,J$1)-MEDIAN('planning '!$H39,J$2,J$1),+('planning '!$J39<'planning '!$H39)*(J$2-J$1)+MEDIAN('planning '!$J39,J$1,J$2)-MEDIAN('planning '!$H39,J$1,J$2))) -> 0.525
B39: ='planning '!F40 -> off | C39: =C38+1 -> 43856 | D39: =IF(OR('planning '!$H40="",'planning '!$J40=""),0,IF('planning '!$J40>'planning '!$H40,MEDIAN('planning '!$J40,D$2,D$1)-MEDIAN('planning '!$H40,D$2,D$1),+('planning '!$J40<'planning '!$H40)*(D$2-D$1)+MEDIAN('planning '!$J40,D$1,D$2)-MEDIAN('planning '!$H40,D$1,D$2)))-'planning '!V40 -> 0 | F39: =IF(OR('planning '!$H40="",'planning '!$J40=""),0,IF('planning '!$J40>'planning '!$H40,MEDIAN('planning '!$J40,F$2,F$1)-MEDIAN('planning '!$H40,F$2,F$1),+('planning '!$J40<'planning '!$H40)*(F$2-F$1)+MEDIAN('planning '!$J40,F$1,F$2)-MEDIAN('planning '!$H40,F$1,F$2)))-'planning '!AA40 -> 0 | H39: =IF(OR('planning '!$H40="",'planning '!$J40=""),0,IF('planning '!$J40>'planning '!$H40,MEDIAN('planning '!$J40,H$2,H$1)-MEDIAN('planning '!$H40,H$2,H$1),+('planning '!$J40<'planning '!$H40)*(H$2-H$1)+MEDIAN('planning '!$J40,H$1,H$2)-MEDIAN('planning '!$H40,H$1,H$2))) -> 0 | J39: =IF(OR('planning '!$H40="",'planning '!$J40=""),0,IF('planning '!$J40>'planning '!$H40,MEDIAN('planning '!$J40,J$2,J$1)-MEDIAN('planning '!$H40,J$2,J$1),+('planning '!$J40<'planning '!$H40)*(J$2-J$1)+MEDIAN('planning '!$J40,J$1,J$2)-MEDIAN('planning '!$H40,J$1,J$2))) -> 0
B40: ='planning '!F41 -> off | C40: =C39+1 -> 43857 | D40: =IF(OR('planning '!$H41="",'planning '!$J41=""),0,IF('planning '!$J41>'planning '!$H41,MEDIAN('planning '!$J41,D$2,D$1)-MEDIAN('planning '!$H41,D$2,D$1),+('planning '!$J41<'planning '!$H41)*(D$2-D$1)+MEDIAN('planning '!$J41,D$1,D$2)-MEDIAN('planning '!$H41,D$1,D$2)))-'planning '!V41 -> 0 | F40: =IF(OR('planning '!$H41="",'planning '!$J41=""),0,IF('planning '!$J41>'planning '!$H41,MEDIAN('planning '!$J41,F$2,F$1)-MEDIAN('planning '!$H41,F$2,F$1),+('planning '!$J41<'planning '!$H41)*(F$2-F$1)+MEDIAN('planning '!$J41,F$1,F$2)-MEDIAN('planning '!$H41,F$1,F$2)))-'planning '!AA41 -> 0 | H40: =IF(OR('planning '!$H41="",'planning '!$J41=""),0,IF('planning '!$J41>'planning '!$H41,MEDIAN('planning '!$J41,H$2,H$1)-MEDIAN('planning '!$H41,H$2,H$1),+('planning '!$J41<'planning '!$H41)*(H$2-H$1)+MEDIAN('planning '!$J41,H$1,H$2)-MEDIAN('planning '!$H41,H$1,H$2))) -> 0 | J40: =IF(OR('planning '!$H41="",'planning '!$J41=""),0,IF('planning '!$J41>'planning '!$H41,MEDIAN('planning '!$J41,J$2,J$1)-MEDIAN('planning '!$H41,J$2,J$1),+('planning '!$J41<'planning '!$H41)*(J$2-J$1)+MEDIAN('planning '!$J41,J$1,J$2)-MEDIAN('planning '!$H41,J$1,J$2))) -> 0
B44: ='planning '!F45 -> travail | C44: ='planning '!E45 -> 43858 | F44: =IF(OR('planning '!$H45="",'planning '!$J45=""),0,IF('planning '!$J45>'planning '!$H45,MEDIAN('planning '!$J45,F$2,F$1)-MEDIAN('planning '!$H45,F$2,F$1),+('planning '!$J45<'planning '!$H45)*(F$2-F$1)+MEDIAN('planning '!$J45,F$1,F$2)-MEDIAN('planning '!$H45,F$1,F$2)))-'planning '!AA45 -> 0.055555556 | G44: récupération | H44: =IF(OR('planning '!$H45="",'planning '!$J45=""),0,IF('planning '!$J45>'planning '!$H45,MEDIAN('planning '!$J45,H$2,H$1)-MEDIAN('planning '!$H45,H$2,H$1),+('planning '!$J45<'planning '!$H45)*(H$2-H$1)+MEDIAN('planning '!$J45,H$1,H$2)-MEDIAN('planning '!$H45,H$1,H$2))) -> 0 | J44: =IF(OR('planning '!$H45="",'planning '!$J45=""),0,IF('planning '!$J45>'planning '!$H45,MEDIAN('planning '!$J45,J$2,J$1)-MEDIAN('planning '!$H45,J$2,J$1),+('planning '!$J45<'planning '!$H45)*(J$2-J$1)+MEDIAN('planning '!$J45,J$1,J$2)-MEDIAN('planning '!$H45,J$1,J$2))) -> 0.44027778 | O44: résultat hebdomadaire
B45: ='planning '!F46 -> travail | C45: =C44+1 -> 43859 | F45: =IF(OR('planning '!$H46="",'planning '!$J46=""),0,IF('planning '!$J46>'planning '!$H46,MEDIAN('planning '!$J46,F$2,F$1)-MEDIAN('planning '!$H46,F$2,F$1),+('planning '!$J46<'planning '!$H46)*(F$2-F$1)+MEDIAN('planning '!$J46,F$1,F$2)-MEDIAN('planning '!$H46,F$1,F$2)))-'planning '!AA46 -> 0 | H45: =IF(OR('planning '!$H46="",'planning '!$J46=""),0,IF('planning '!$J46>'planning '!$H46,MEDIAN('planning '!$J46,H$2,H$1)-MEDIAN('planning '!$H46,H$2,H$1),+('planning '!$J46<'planning '!$H46)*(H$2-H$1)+MEDIAN('planning '!$J46,H$1,H$2)-MEDIAN('planning '!$H46,H$1,H$2))) -> 0 | J45: =IF(OR('planning '!$H46="",'planning '!$J46=""),0,IF('planning '!$J46>'planning '!$H46,MEDIAN('planning '!$J46,J$2,J$1)-MEDIAN('planning '!$H46,J$2,J$1),+('planning '!$J46<'planning '!$H46)*(J$2-J$1)+MEDIAN('planning '!$J46,J$1,J$2)-MEDIAN('planning '!$H46,J$1,J$2))) -> 0.39097222 | N45: 06h - 18h30 | O45: 18h30-22h00 | P45: 22h00 -00h00 | Q45: 00h00-06h
B46: ='planning '!F47 -> travail | C46: =C45+1 -> 43860 | F46: =IF(OR('planning '!$H47="",'planning '!$J47=""),0,IF('planning '!$J47>'planning '!$H47,MEDIAN('planning '!$J47,F$2,F$1)-MEDIAN('planning '!$H47,F$2,F$1),+('planning '!$J47<'planning '!$H47)*(F$2-F$1)+MEDIAN('planning '!$J47,F$1,F$2)-MEDIAN('planning '!$H47,F$1,F$2)))-'planning '!AA47 -> 0 | H46: =IF(OR('planning '!$H47="",'planning '!$J47=""),0,IF('planning '!$J47>'planning '!$H47,MEDIAN('planning '!$J47,H$2,H$1)-MEDIAN('planning '!$H47,H$2,H$1),+('planning '!$J47<'planning '!$H47)*(H$2-H$1)+MEDIAN('planning '!$J47,H$1,H$2)-MEDIAN('planning '!$H47,H$1,H$2))) -> 0 | J46: =IF(OR('planning '!$H47="",'planning '!$J47=""),0,IF('planning '!$J47>'planning '!$H47,MEDIAN('planning '!$J47,J$2,J$1)-MEDIAN('planning '!$H47,J$2,J$1),+('planning '!$J47<'planning '!$H47)*(J$2-J$1)+MEDIAN('planning '!$J47,J$1,J$2)-MEDIAN('planning '!$H47,J$1,J$2))) -> 0.36666667 | M46: paiement | N46: =SUMIF(OFFSET($C44:$C51,0,MATCH(N$10,$B$5:$H$5,0)-1,7,1),$K47,OFFSET($B44:$B50,0,MATCH(N$10,$B$5:$H$5,0)-1,7,1)) -> 0 | O46: =SUMIF(OFFSET($C44:$C51,0,MATCH(O$10,$B$5:$H$5,0)-1,7,1),$K47,OFFSET($B44:$B50,0,MATCH(O$10,$B$5:$H$5,0)-1,7,1)) -> 0 | P46: =SUMIF(OFFSET($C44:$C51,0,MATCH(P$10,$B$5:$H$5,0)-1,7,1),$K47,OFFSET($B44:$B50,0,MATCH(P$10,$B$5:$H$5,0)-1,7,1)) -> 0 | Q46: =SUMIF(OFFSET($C44:$C51,0,MATCH(Q$10,$B$5:$H$5,0)-1,7,1),$K47,OFFSET($B44:$B50,0,MATCH(Q$10,$B$5:$H$5,0)-1,7,1)) -> 0
B47: ='planning '!F48 -> travail | C47: =C46+1 -> 43861 | F47: =IF(OR('planning '!$H48="",'planning '!$J48=""),0,IF('planning '!$J48>'planning '!$H48,MEDIAN('planning '!$J48,F$2,F$1)-MEDIAN('planning '!$H48,F$2,F$1),+('planning '!$J48<'planning '!$H48)*(F$2-F$1)+MEDIAN('planning '!$J48,F$1,F$2)-MEDIAN('planning '!$H48,F$1,F$2)))-'planning '!AA48 -> 0.076388889 | G47: récupération | H47: =IF(OR('planning '!$H48="",'planning '!$J48=""),0,IF('planning '!$J48>'planning '!$H48,MEDIAN('planning '!$J48,H$2,H$1)-MEDIAN('planning '!$H48,H$2,H$1),+('planning '!$J48<'planning '!$H48)*(H$2-H$1)+MEDIAN('planning '!$J48,H$1,H$2)-MEDIAN('planning '!$H48,H$1,H$2))) -> 0 | J47: =IF(OR('planning '!$H48="",'planning '!$J48=""),0,IF('planning '!$J48>'planning '!$H48,MEDIAN('planning '!$J48,J$2,J$1)-MEDIAN('planning '!$H48,J$2,J$1),+('planning '!$J48<'planning '!$H48)*(J$2-J$1)+MEDIAN('planning '!$J48,J$1,J$2)-MEDIAN('planning '!$H48,J$1,J$2))) -> 0.47013889 | M47: récupération | N47: =SUMIF(OFFSET($C45:$C52,0,MATCH(N$10,$B$5:$H$5,0)-1,7,1),$K48,OFFSET($B45:$B51,0,MATCH(N$10,$B$5:$H$5,0)-1,7,1)) -> 0 | O47: =SUMIF(OFFSET($C45:$C52,0,MATCH(O$10,$B$5:$H$5,0)-1,7,1),$K48,OFFSET($B45:$B51,0,MATCH(O$10,$B$5:$H$5,0)-1,7,1)) -> 0 | P47: =SUMIF(OFFSET($C45:$C52,0,MATCH(P$10,$B$5:$H$5,0)-1,7,1),$K48,OFFSET($B45:$B51,0,MATCH(P$10,$B$5:$H$5,0)-1,7,1)) -> 0 | Q47: =SUMIF(OFFSET($C45:$C52,0,MATCH(Q$10,$B$5:$H$5,0)-1,7,1),$K48,OFFSET($B45:$B51,0,MATCH(Q$10,$B$5:$H$5,0)-1,7,1)) -> 0
B48: ='planning '!F49 -> travail | C48: =C47+1 -> 43862 | F48: =IF(OR('planning '!$H49="",'planning '!$J49=""),0,IF('planning '!$J49>'planning '!$H49,MEDIAN('planning '!$J49,F$2,F$1)-MEDIAN('planning '!$H49,F$2,F$1),+('planning '!$J49<'planning '!$H49)*(F$2-F$1)+MEDIAN('planning '!$J49,F$1,F$2)-MEDIAN('planning '!$H49,F$1,F$2)))-'planning '!AA49 -> 0.0041666667 | G48: récupération | H48: =IF(OR('planning '!$H49="",'planning '!$J49=""),0,IF('planning '!$J49>'planning '!$H49,MEDIAN('planning '!$J49,H$2,H$1)-MEDIAN('planning '!$H49,H$2,H$1),+('planning '!$J49<'planning '!$H49)*(H$2-H$1)+MEDIAN('planning '!$J49,H$1,H$2)-MEDIAN('planning '!$H49,H$1,H$2))) -> 0 | J48: =IF(OR('planning '!$H49="",'planning '!$J49=""),0,IF('planning '!$J49>'planning '!$H49,MEDIAN('planning '!$J49,J$2,J$1)-MEDIAN('planning '!$H49,J$2,J$1),+('planning '!$J49<'planning '!$H49)*(J$2-J$1)+MEDIAN('planning '!$J49,J$1,J$2)-MEDIAN('planning '!$H49,J$1,J$2))) -> 0.39652778
B49: ='planning '!F50 -> off | C49: =C48+1 -> 43863 | D49: =IF(OR('planning '!$H50="",'planning '!$J50=""),0,IF('planning '!$J50>'planning '!$H50,MEDIAN('planning '!$J50,D$2,D$1)-MEDIAN('planning '!$H50,D$2,D$1),+('planning '!$J50<'planning '!$H50)*(D$2-D$1)+MEDIAN('planning '!$J50,D$1,D$2)-MEDIAN('planning '!$H50,D$1,D$2)))-'planning '!V50 -> 0 | F49: =IF(OR('planning '!$H50="",'planning '!$J50=""),0,IF('planning '!$J50>'planning '!$H50,MEDIAN('planning '!$J50,F$2,F$1)-MEDIAN('planning '!$H50,F$2,F$1),+('planning '!$J50<'planning '!$H50)*(F$2-F$1)+MEDIAN('planning '!$J50,F$1,F$2)-MEDIAN('planning '!$H50,F$1,F$2)))-'planning '!AA50 -> 0 | H49: =IF(OR('planning '!$H50="",'planning '!$J50=""),0,IF('planning '!$J50>'planning '!$H50,MEDIAN('planning '!$J50,H$2,H$1)-MEDIAN('planning '!$H50,H$2,H$1),+('planning '!$J50<'planning '!$H50)*(H$2-H$1)+MEDIAN('planning '!$J50,H$1,H$2)-MEDIAN('planning '!$H50,H$1,H$2))) -> 0 | J49: =IF(OR('planning '!$H50="",'planning '!$J50=""),0,IF('planning '!$J50>'planning '!$H50,MEDIAN('planning '!$J50,J$2,J$1)-MEDIAN('planning '!$H50,J$2,J$1),+('planning '!$J50<'planning '!$H50)*(J$2-J$1)+MEDIAN('planning '!$J50,J$1,J$2)-MEDIAN('planning '!$H50,J$1,J$2))) -> 0
B50: ='planning '!F51 -> off | C50: =C49+1 -> 43864 | D50: =IF(OR('planning '!$H51="",'planning '!$J51=""),0,IF('planning '!$J51>'planning '!$H51,MEDIAN('planning '!$J51,D$2,D$1)-MEDIAN('planning '!$H51,D$2,D$1),+('planning '!$J51<'planning '!$H51)*(D$2-D$1)+MEDIAN('planning '!$J51,D$1,D$2)-MEDIAN('planning '!$H51,D$1,D$2)))-'planning '!V51 -> 0 | F50: =IF(OR('planning '!$H51="",'planning '!$J51=""),0,IF('planning '!$J51>'planning '!$H51,MEDIAN('planning '!$J51,F$2,F$1)-MEDIAN('planning '!$H51,F$2,F$1),+('planning '!$J51<'planning '!$H51)*(F$2-F$1)+MEDIAN('planning '!$J51,F$1,F$2)-MEDIAN('planning '!$H51,F$1,F$2)))-'planning '!AA51 -> 0 | H50: =IF(OR('planning '!$H51="",'planning '!$J51=""),0,IF('planning '!$J51>'planning '!$H51,MEDIAN('planning '!$J51,H$2,H$1)-MEDIAN('planning '!$H51,H$2,H$1),+('planning '!$J51<'planning '!$H51)*(H$2-H$1)+MEDIAN('planning '!$J51,H$1,H$2)-MEDIAN('planning '!$H51,H$1,H$2))) -> 0 | J50: =IF(OR('planning '!$H51="",'planning '!$J51=""),0,IF('planning '!$J51>'planning '!$H51,MEDIAN('planning '!$J51,J$2,J$1)-MEDIAN('planning '!$H51,J$2,J$1),+('planning '!$J51<'planning '!$H51)*(J$2-J$1)+MEDIAN('planning '!$J51,J$1,J$2)-MEDIAN('planning '!$H51,J$1,J$2))) -> 0
B54: ='planning '!F55 -> travail | C54: ='planning '!E55 -> 43865 | F54: =IF(OR('planning '!$H55="",'planning '!$J55=""),0,IF('planning '!$J55>'planning '!$H55,MEDIAN('planning '!$J55,F$2,F$1)-MEDIAN('planning '!$H55,F$2,F$1),+('planning '!$J55<'planning '!$H55)*(F$2-F$1)+MEDIAN('planning '!$J55,F$1,F$2)-MEDIAN('planning '!$H55,F$1,F$2)))-'planning '!AA55 -> 0 | H54: =IF(OR('planning '!$H55="",'planning '!$J55=""),0,IF('planning '!$J55>'planning '!$H55,MEDIAN('planning '!$J55,H$2,H$1)-MEDIAN('planning '!$H55,H$2,H$1),+('planning '!$J55<'planning '!$H55)*(H$2-H$1)+MEDIAN('planning '!$J55,H$1,H$2)-MEDIAN('planning '!$H55,H$1,H$2))) -> 0 | J54: =IF(OR('planning '!$H55="",'planning '!$J55=""),0,IF('planning '!$J55>'planning '!$H55,MEDIAN('planning '!$J55,J$2,J$1)-MEDIAN('planning '!$H55,J$2,J$1),+('planning '!$J55<'planning '!$H55)*(J$2-J$1)+MEDIAN('planning '!$J55,J$1,J$2)-MEDIAN('planning '!$H55,J$1,J$2))) -> 0.33611111 | O54: résultat hebdomadaire
B55: ='planning '!F56 -> travail | C55: =C54+1 -> 43866 | F55: =IF(OR('planning '!$H56="",'planning '!$J56=""),0,IF('planning '!$J56>'planning '!$H56,MEDIAN('planning '!$J56,F$2,F$1)-MEDIAN('planning '!$H56,F$2,F$1),+('planning '!$J56<'planning '!$H56)*(F$2-F$1)+MEDIAN('planning '!$J56,F$1,F$2)-MEDIAN('planning '!$H56,F$1,F$2)))-'planning '!AA56 -> 0.0625 | G55: récupération | H55: =IF(OR('planning '!$H56="",'planning '!$J56=""),0,IF('planning '!$J56>'planning '!$H56,MEDIAN('planning '!$J56,H$2,H$1)-MEDIAN('planning '!$H56,H$2,H$1),+('planning '!$J56<'planning '!$H56)*(H$2-H$1)+MEDIAN('planning '!$J56,H$1,H$2)-MEDIAN('planning '!$H56,H$1,H$2))) -> 0 | J55: =IF(OR('planning '!$H56="",'planning '!$J56=""),0,IF('planning '!$J56>'planning '!$H56,MEDIAN('planning '!$J56,J$2,J$1)-MEDIAN('planning '!$H56,J$2,J$1),+('planning '!$J56<'planning '!$H56)*(J$2-J$1)+MEDIAN('planning '!$J56,J$1,J$2)-MEDIAN('planning '!$H56,J$1,J$2))) -> 0.45347222 | N55: 06h - 18h30 | O55: 18h30-22h00 | P55: 22h00 -00h00 | Q55: 00h00-06h
B56: ='planning '!F57 -> travail | C56: =C55+1 -> 43867 | F56: =IF(OR('planning '!$H57="",'planning '!$J57=""),0,IF('planning '!$J57>'planning '!$H57,MEDIAN('planning '!$J57,F$2,F$1)-MEDIAN('planning '!$H57,F$2,F$1),+('planning '!$J57<'planning '!$H57)*(F$2-F$1)+MEDIAN('planning '!$J57,F$1,F$2)-MEDIAN('planning '!$H57,F$1,F$2)))-'planning '!AA57 -> 0 | H56: =IF(OR('planning '!$H57="",'planning '!$J57=""),0,IF('planning '!$J57>'planning '!$H57,MEDIAN('planning '!$J57,H$2,H$1)-MEDIAN('planning '!$H57,H$2,H$1),+('planning '!$J57<'planning '!$H57)*(H$2-H$1)+MEDIAN('planning '!$J57,H$1,H$2)-MEDIAN('planning '!$H57,H$1,H$2))) -> 0 | J56: =IF(OR('planning '!$H57="",'planning '!$J57=""),0,IF('planning '!$J57>'planning '!$H57,MEDIAN('planning '!$J57,J$2,J$1)-MEDIAN('planning '!$H57,J$2,J$1),+('planning '!$J57<'planning '!$H57)*(J$2-J$1)+MEDIAN('planning '!$J57,J$1,J$2)-MEDIAN('planning '!$H57,J$1,J$2))) -> 0.35138889 | M56: paiement | N56: =SUMIF(OFFSET($C54:$C61,0,MATCH(N$10,$B$5:$H$5,0)-1,7,1),$K57,OFFSET($B54:$B60,0,MATCH(N$10,$B$5:$H$5,0)-1,7,1)) -> 0 | O56: =SUMIF(OFFSET($C54:$C61,0,MATCH(O$10,$B$5:$H$5,0)-1,7,1),$K57,OFFSET($B54:$B60,0,MATCH(O$10,$B$5:$H$5,0)-1,7,1)) -> 0 | P56: =SUMIF(OFFSET($C54:$C61,0,MATCH(P$10,$B$5:$H$5,0)-1,7,1),$K57,OFFSET($B54:$B60,0,MATCH(P$10,$B$5:$H$5,0)-1,7,1)) -> 0 | Q56: =SUMIF(OFFSET($C54:$C61,0,MATCH(Q$10,$B$5:$H$5,0)-1,7,1),$K57,OFFSET($B54:$B60,0,MATCH(Q$10,$B$5:$H$5,0)-1,7,1)) -> 0
B57: ='planning '!F58 -> travail | C57: =C56+1 -> 43868 | F57: =IF(OR('planning '!$H58="",'planning '!$J58=""),0,IF('planning '!$J58>'planning '!$H58,MEDIAN('planning '!$J58,F$2,F$1)-MEDIAN('planning '!$H58,F$2,F$1),+('planning '!$J58<'planning '!$H58)*(F$2-F$1)+MEDIAN('planning '!$J58,F$1,F$2)-MEDIAN('planning '!$H58,F$1,F$2)))-'planning '!AA58 -> 0.14583333 | G57: récupération | H57: =IF(OR('planning '!$H58="",'planning '!$J58=""),0,IF('planning '!$J58>'planning '!$H58,MEDIAN('planning '!$J58,H$2,H$1)-MEDIAN('planning '!$H58,H$2,H$1),+('planning '!$J58<'planning '!$H58)*(H$2-H$1)+MEDIAN('planning '!$J58,H$1,H$2)-MEDIAN('planning '!$H58,H$1,H$2))) -> 0.020833333 | I57: paiement | J57: =IF(OR('planning '!$H58="",'planning '!$J58=""),0,IF('planning '!$J58>'planning '!$H58,MEDIAN('planning '!$J58,J$2,J$1)-MEDIAN('planning '!$H58,J$2,J$1),+('planning '!$J58<'planning '!$H58)*(J$2-J$1)+MEDIAN('planning '!$J58,J$1,J$2)-MEDIAN('planning '!$H58,J$1,J$2))) -> 0.55347222 | M57: récupération | N57: =SUMIF(OFFSET($C55:$C62,0,MATCH(N$10,$B$5:$H$5,0)-1,7,1),$K58,OFFSET($B55:$B61,0,MATCH(N$10,$B$5:$H$5,0)-1,7,1)) -> 0 | O57: =SUMIF(OFFSET($C55:$C62,0,MATCH(O$10,$B$5:$H$5,0)-1,7,1),$K58,OFFSET($B55:$B61,0,MATCH(O$10,$B$5:$H$5,0)-1,7,1)) -> 0 | P57: =SUMIF(OFFSET($C55:$C62,0,MATCH(P$10,$B$5:$H$5,0)-1,7,1),$K58,OFFSET($B55:$B61,0,MATCH(P$10,$B$5:$H$5,0)-1,7,1)) -> 0 | Q57: =SUMIF(OFFSET($C55:$C62,0,MATCH(Q$10,$B$5:$H$5,0)-1,7,1),$K58,OFFSET($B55:$B61,0,MATCH(Q$10,$B$5:$H$5,0)-1,7,1)) -> 0
B58: ='planning '!F59 -> travail | C58: =C57+1 -> 43869 | F58: =IF(OR('planning '!$H59="",'planning '!$J59=""),0,IF('planning '!$J59>'planning '!$H59,MEDIAN('planning '!$J59,F$2,F$1)-MEDIAN('planning '!$H59,F$2,F$1),+('planning '!$J59<'planning '!$H59)*(F$2-F$1)+MEDIAN('planning '!$J59,F$1,F$2)-MEDIAN('planning '!$H59,F$1,F$2)))-'planning '!AA59 -> 0 | H58: =IF(OR('planning '!$H59="",'planning '!$J59=""),0,IF('planning '!$J59>'planning '!$H59,MEDIAN('planning '!$J59,H$2,H$1)-MEDIAN('planning '!$H59,H$2,H$1),+('planning '!$J59<'planning '!$H59)*(H$2-H$1)+MEDIAN('planning '!$J59,H$1,H$2)-MEDIAN('planning '!$H59,H$1,H$2))) -> 0 | J58: =IF(OR('planning '!$H59="",'planning '!$J59=""),0,IF('planning '!$J59>'planning '!$H59,MEDIAN('planning '!$J59,J$2,J$1)-MEDIAN('planning '!$H59,J$2,J$1),+('planning '!$J59<'planning '!$H59)*(J$2-J$1)+MEDIAN('planning '!$J59,J$1,J$2)-MEDIAN('planning '!$H59,J$1,J$2))) -> 0.37152778
B59: ='planning '!F60 -> off | C59: =C58+1 -> 43870 | D59: =IF(OR('planning '!$H60="",'planning '!$J60=""),0,IF('planning '!$J60>'planning '!$H60,MEDIAN('planning '!$J60,D$2,D$1)-MEDIAN('planning '!$H60,D$2,D$1),+('planning '!$J60<'planning '!$H60)*(D$2-D$1)+MEDIAN('planning '!$J60,D$1,D$2)-MEDIAN('planning '!$H60,D$1,D$2)))-'planning '!V60 -> 0 | F59: =IF(OR('planning '!$H60="",'planning '!$J60=""),0,IF('planning '!$J60>'planning '!$H60,MEDIAN('planning '!$J60,F$2,F$1)-MEDIAN('planning '!$H60,F$2,F$1),+('planning '!$J60<'planning '!$H60)*(F$2-F$1)+MEDIAN('planning '!$J60,F$1,F$2)-MEDIAN('planning '!$H60,F$1,F$2)))-'planning '!AA60 -> 0 | H59: =IF(OR('planning '!$H60="",'planning '!$J60=""),0,IF('planning '!$J60>'planning '!$H60,MEDIAN('planning '!$J60,H$2,H$1)-MEDIAN('planning '!$H60,H$2,H$1),+('planning '!$J60<'planning '!$H60)*(H$2-H$1)+MEDIAN('planning '!$J60,H$1,H$2)-MEDIAN('planning '!$H60,H$1,H$2))) -> 0 | J59: =IF(OR('planning '!$H60="",'planning '!$J60=""),0,IF('planning '!$J60>'planning '!$H60,MEDIAN('planning '!$J60,J$2,J$1)-MEDIAN('planning '!$H60,J$2,J$1),+('planning '!$J60<'planning '!$H60)*(J$2-J$1)+MEDIAN('planning '!$J60,J$1,J$2)-MEDIAN('planning '!$H60,J$1,J$2))) -> 0
B60: ='planning '!F61 -> off | C60: =C59+1 -> 43871 | D60: =IF(OR('planning '!$H61="",'planning '!$J61=""),0,IF('planning '!$J61>'planning '!$H61,MEDIAN('planning '!$J61,D$2,D$1)-MEDIAN('planning '!$H61,D$2,D$1),+('planning '!$J61<'planning '!$H61)*(D$2-D$1)+MEDIAN('planning '!$J61,D$1,D$2)-MEDIAN('planning '!$H61,D$1,D$2)))-'planning '!V61 -> 0 | F60: =IF(OR('planning '!$H61="",'planning '!$J61=""),0,IF('planning '!$J61>'planning '!$H61,MEDIAN('planning '!$J61,F$2,F$1)-MEDIAN('planning '!$H61,F$2,F$1),+('planning '!$J61<'planning '!$H61)*(F$2-F$1)+MEDIAN('planning '!$J61,F$1,F$2)-MEDIAN('planning '!$H61,F$1,F$2)))-'planning '!AA61 -> 0 | H60: =IF(OR('planning '!$H61="",'planning '!$J61=""),0,IF('planning '!$J61>'planning '!$H61,MEDIAN('planning '!$J61,H$2,H$1)-MEDIAN('planning '!$H61,H$2,H$1),+('planning '!$J61<'planning '!$H61)*(H$2-H$1)+MEDIAN('planning '!$J61,H$1,H$2)-MEDIAN('planning '!$H61,H$1,H$2))) -> 0 | J60: =IF(OR('planning '!$H61="",'planning '!$J61=""),0,IF('planning '!$J61>'planning '!$H61,MEDIAN('planning '!$J61,J$2,J$1)-MEDIAN('planning '!$H61,J$2,J$1),+('planning '!$J61<'planning '!$H61)*(J$2-J$1)+MEDIAN('planning '!$J61,J$1,J$2)-MEDIAN('planning '!$H61,J$1,J$2))) -> 0
B64: ='planning '!F65 -> travail | C64: ='planning '!E65 -> 43872 | F64: =IF(OR('planning '!$H65="",'planning '!$J65=""),0,IF('planning '!$J65>'planning '!$H65,MEDIAN('planning '!$J65,F$2,F$1)-MEDIAN('planning '!$H65,F$2,F$1),+('planning '!$J65<'planning '!$H65)*(F$2-F$1)+MEDIAN('planning '!$J65,F$1,F$2)-MEDIAN('planning '!$H65,F$1,F$2)))-'planning '!AA65 -> 0 | H64: =IF(OR('planning '!$H65="",'planning '!$J65=""),0,IF('planning '!$J65>'planning '!$H65,MEDIAN('planning '!$J65,H$2,H$1)-MEDIAN('planning '!$H65,H$2,H$1),+('planning '!$J65<'planning '!$H65)*(H$2-H$1)+MEDIAN('planning '!$J65,H$1,H$2)-MEDIAN('planning '!$H65,H$1,H$2))) -> 0 | J64: =IF(OR('planning '!$H65="",'planning '!$J65=""),0,IF('planning '!$J65>'planning '!$H65,MEDIAN('planning '!$J65,J$2,J$1)-MEDIAN('planning '!$H65,J$2,J$1),+('planning '!$J65<'planning '!$H65)*(J$2-J$1)+MEDIAN('planning '!$J65,J$1,J$2)-MEDIAN('planning '!$H65,J$1,J$2))) -> 0.33611111 | O64: résultat hebdomadaire
