Workbook
Name gérald: ref!$D$22:$D$32
Name gérald1: ref!$D$22:$E$32
Name gerald2: ref!$D$22:$D$35
Name gerald3: ref!$D$22:$D$37
Name gérald4: ref!$D$21:$D$37
Name listeMois: [1]ref!$L$2:$M$13

Sheet Bilan
C3: jours et heures réels | E3: heures incovar | I3: Heures suplémentaires | M3: h par mois | R3: résultat des heures hc 2024 | V3: Pause repas
C4: jours | D4: heures | E4: heures | I4: 18h30 à 22h | J4: =SUM(hs!F4:F12) -> 0 | M4: mois | N4: h | Q4: travail annuel +1607h | T4: midi | U4: non | V4: =COUNTIF('planning '!S5:S531,ref!Q5) -> 0
B5: travail | C5: =COUNTIF('planning '!$F$5:$F$526,B5) -> 197 | D5: =SUM('planning '!L5:L531)-D14-D13 -> 77.525694 | E5: =SUM('planning '!N5:N531)-D14-D9 -> -0.33402778 | I5: 22h à 24 | J5: =SUM(hs!H4:H12) -> 0 | L5: =VLOOKUP(M5,listeMois,2) -> 1 | M5: janvier | N5: {=SUM(IFERROR(( MONTH('planning '!E:E)=Bilan!L5)*'planning '!L:L, 0))} -> 8.1291667 | Q5: repas midi | R5: =SUM('planning '!W5:W531) -> 0.22847222 | T5: soir | U5: non | V5: =COUNTIF('planning '!X5:X531,ref!Q5) -> 0
B6: récupération | C6: =COUNTIF('planning '!$F$5:$F$526,B6) -> 24 | D6: =C6*ref!E$5 -> 7 | I6: 24h à 6h | J6: =SUM(hs!J4:J12) -> 0 | L6: =VLOOKUP(M6,listeMois,2) -> 2 | M6: février | N6: {=SUM(IFERROR(( MONTH('planning '!E:E)=Bilan!L6)*'planning '!L:L, 0))} -> 7.2631944 | Q6: repas soir | R6: =SUM('planning '!AB5:AB411) -> 0
B7: arrêt maladie | C7: =COUNTIF('planning '!$F$5:$F$526,B7) -> 5 | D7: =C7*ref!E$5 -> 1.4583333 | I7: dimanche | J7: =SUM('planning '!#REF!) -> #REF! | L7: =VLOOKUP(M7,listeMois,2) -> 3 | M7: mars | N7: {=SUM(IFERROR(( MONTH('planning '!E:E)=Bilan!L7)*'planning '!L:L, 0))} -> 8.3090278 | Q7: jour +10 h | R7: =SUM('planning '!M5:M531) -> 2.4729167
B8: arrêt travail | C8: =COUNTIF('planning '!$F$5:$F$526,B8) -> 0 | D8: =C8*ref!E$5 -> 0 | I8: samedi | J8: =SUM('planning '!#REF!) -> #REF! | L8: =VLOOKUP(M8,listeMois,2) -> 4 | M8: avril | N8: {=SUM(IFERROR(( MONTH('planning '!E:E)=Bilan!L8)*'planning '!L:L, 0))} -> 7.4368056 | Q8: amplitude jour +12 h | R8: =SUM('planning '!P5:P531) -> #N/A
B9: férié | C9: =COUNTIF('planning '!$F$5:$F$526,B9) -> 10 | D9: =C9*ref!E$5 -> 2.9166667 | I9: heures + 35 | J9: =SUM('planning '!#REF!) -> #REF! | L9: =VLOOKUP(M9,listeMois,2) -> 5 | M9: mai | N9: {=SUM(IFERROR(( MONTH('planning '!E:E)=Bilan!L9)*'planning '!L:L, 0))} -> 8.5097222 | Q9: jours hedbomadaire + 6 jours | R9: =SUM('planning '!AE46+'planning '!AE66+'planning '!AE76+'planning '!AE86+'planning '!AE96+'planning '!AE106+'planning '!AE116+'planning '!AE126+'planning '!AE136+'planning '!AE146+'planning '!AE156+'planning '!AE166+'planning '!AE176+'planning '!AE186+'planning '!AE196+'planning '!AE206+'planning '!AE216+'planning '!AE226+'planning '!AE236+'planning '!AE246+'planning '!AE256+'planning '!AE266+'planning '!AE276+'planning '!AE286+'planning '!AE296+'planning '!AE306+'planning '!AE316+'planning '!AE326+'planning '!AE336+'planning '!AE346+'planning '!AE356+'planning '!AE366+'planning '!AE376+'planning '!AE386+'planning '!AE396+'planning '!AE406+'planning '!AE416+'planning '!AE426+'planning '!AE436+'planning '!AE446+'planning '!AE456+'planning '!AE466+'planning '!AE476+'planning '!AE486+'planning '!AE496+'planning '!AE506+'planning '!AE516+'planning '!AE526) -> 1
B10: férié travaillé | C10: =COUNTIF('planning '!$F$5:$F$526,B10) -> 0 | D10: =C10*ref!E$5 -> 0 | I10: jours fériés | J10: =SUM('planning '!#REF!) -> #REF! | L10: =VLOOKUP(M10,listeMois,2) -> 6 | M10: juin | N10: {=SUM(IFERROR(( MONTH('planning '!E:E)=Bilan!L10)*'planning '!L:L, 0))} -> 7.6097222 | Q10: heures semaine + 48h | R10: ='planning '!AE11+'planning '!AE21+'planning '!AE31+'planning '!AE41+'planning '!AE51+'planning '!AE61+'planning '!AE71+'planning '!AE81+'planning '!AE91+'planning '!AE111+'planning '!AE121+'planning '!AE131+'planning '!AE141+'planning '!AE151+'planning '!AE161+'planning '!AE171+'planning '!AE181+'planning '!AE191+'planning '!AE201+'planning '!AE211+'planning '!AE221+'planning '!AE231+'planning '!AE241+'planning '!AE251+'planning '!AE261+'planning '!AE271+'planning '!AE281+'planning '!AE291+'planning '!AE301+'planning '!AE311+'planning '!AE321+'planning '!AE331+'planning '!AE341+'planning '!AE351+'planning '!AE361+'planning '!AE371+'planning '!AE381+'planning '!AE391+'planning '!AE401+'planning '!AE411+'planning '!AE421+'planning '!AE431+'planning '!AE441+'planning '!AE451+'planning '!AE461+'planning '!AE471+'planning '!AE481+'planning '!AE491+'planning '!AE501+'planning '!AE511+'planning '!AE521+'planning '!AE531 -> 1.7041667
B11: autorisation d'absence | C11: =COUNTIF('planning '!$F$5:$F$526,B11) -> 1 | D11: =C11*ref!E$5 -> 0.29166667 | L11: =VLOOKUP(M11,listeMois,2) -> 7 | M11: juillet | N11: {=SUM(IFERROR(( MONTH('planning '!E:E)=Bilan!L11)*'planning '!L:L, 0))} -> 6.9347222 | Q11: repos journalier | R11: =SUM('planning '!AL5:AL530) -> 0.13541667
B12: télétravail | C12: =COUNTIF('planning '!$F$5:$F$526,B12) -> 0 | D12: =C12*ref!E$5 -> 0 | L12: =VLOOKUP(M12,listeMois,2) -> 8 | M12: août | N12: {=SUM(IFERROR(( MONTH('planning '!E:E)=Bilan!L12)*'planning '!L:L, 0))} -> 5.8333333 | Q12: repos hebdomadaire
B13: rtt | C13: =COUNTIF('planning '!$F$5:$F$526,B13) -> 10 | D13: =C13*ref!E$5 -> 2.9166667 | L13: =VLOOKUP(M13,listeMois,2) -> 9 | M13: septembre | N13: {=SUM(IFERROR(( MONTH('planning '!E:E)=Bilan!L13)*'planning '!L:L, 0))} -> 6.125
B14: congé 1 jour | C14: =COUNTIF('planning '!$F$5:$F$526,B14) -> 12 | D14: =C14*ref!E$5 -> 3.5 | L14: =VLOOKUP(M14,listeMois,2) -> 10 | M14: octobre | N14: {=SUM(IFERROR(( MONTH('planning '!E:E)=Bilan!L14)*'planning '!L:L, 0))} -> 5.25
B15: off | C15: =COUNTIF('planning '!$F$5:$F$526,B15) -> 107 | L15: =VLOOKUP(M15,listeMois,2) -> 11 | M15: novembre | N15: {=SUM(IFERROR(( MONTH('planning '!E:E)=Bilan!L15)*'planning '!L:L, 0))} -> 6.125
L16: =VLOOKUP(M16,listeMois,2) -> 12 | M16: décembre | N16: {=SUM(IFERROR(( MONTH('planning '!E:E)=Bilan!L16)*'planning '!L:L, 0))} -> 6.4166667
B17: jours 2024 (366 j) | C17: =SUM(C5:C15) -> 366

Sheet planning 
U2: pause repas midi | Z2: pause repas soir entre 18h30 et 22h | AC2: divers pause avant 18:30
E3: jour | F3: type de journée | H3: Début | I3: pause | J3: Fin | L3: H Jour réel | M3: hc de | N3: h incovar | O3: H amp | P3: hc de | Q3: hs semaine | S3: non | T3: début | U3: fin | V3: résultat | W3: hc de | X3: oui/non | Y3: début | Z3: fin | AA3: résultat | AB3: hc de | AF3: j et h semaine | AH3: repos journalier du | AL3: hc de
B5: date | C5: Vscolaire | E5: =DATE(ref!E$2,B$9,B$7) -> 43830 | F5: férié | G5: =IF(AND(J5="",H5=""),"",E5+H5) | I5: =SUM(V5+AA5+AC5) -> 0 | K5: =IF(AND(H5="",J5=""),"",E5+J5+(H5>J5)) | L5: =IF(OR(F5="télétravail",F5="férié travaillé",F5="travail"),(J5-H5+IF(H5>J5,1)-I5),INDEX(ref!$E$22:'ref'!$E$37,MATCH(F5,gerald3,0))) -> 0.29166667 | M5: =IF(SUM(L5-ref!E$8)<0,0,SUM(L5-ref!E$8)) -> 0 | N5: =L5-(hs!D4+hs!F4+hs!H4+hs!J4) -> 0.29166667 | O5: =IF(OR(F5="férié travaillé",F5="travail",F5="asa",F5="rtt"),J5-H5+IF(H5>J5,1),INDEX(ref!$E$22:'ref'!$E$37,MATCH(F5,gerald2,0))) -> 0.29166667 | P5: =IF(SUM(O5-ref!E$4)<0,0,SUM(O5-ref!E$4)) -> 0 | Q5: =L5 -> 0.29166667 | V5: =U5-T5 -> 0 | W5: =IF(V5="","",IF(SUM(V5-ref!E$38)>0,0,IF(V5=0, "0:00", SUM(V5-ref!E$38)))) -> 0:00 | AA5: =Z5-Y5 -> 0 | AB5: =IF(AA5="","",IF(SUM(AA5-ref!E$38)>0,0,IF(AA5=0, "0:00", SUM(AA5-ref!E$38)))) -> 0:00 | AE5: =SUM(AF5:AF11) -> 5 | AF5: =IF(AND(H5<>"",J5<>""),1,0+OR(N(J4)<N(H4),F5="récupération",F5="congé 1 jour",F5="congé 1/2 jour ",F5="congé 5h24",F5="arrêt maladie",F5="arrêt travail",F5="férié ",F5="congé parentale",F5="congé de naissance")) -> 1 | AH5: J1 | AI5: à | AJ5: J2 | AK5: {=IF(ISNUMBER(G6),G6-_xlfn.AGGREGATE(14,6,(K$4:K5<G6)*K$4:K5,1),"")} | AL5: =IF(ISNUMBER(AK5),ABS(IF(SUM(AK5-ref!E$9)>0,0,SUM(AK5-ref!E$9))),"")
B6: date | C6: Vscolaire | E6: =E5+1 -> 43831 | F6: récupération | G6: =IF(AND(J6="",H6=""),"",E6+H6) | I6: =SUM(V6+AA6+AC6) -> 0 | K6: =IF(AND(H6="",J6=""),"",E6+J6+(H6>J6)) | L6: =IF(OR(F6="télétravail",F6="férié travaillé",F6="travail"),(J6-H6+IF(H6>J6,1)-I6),INDEX(ref!$E$22:'ref'!$E$37,MATCH(F6,gerald3,0))) -> 0.29166667 | M6: =IF(SUM(L6-ref!E$8)<0,0,SUM(L6-ref!E$8)) -> 0 | N6: =L6-(hs!D5+hs!F5+hs!H5+hs!J5) -> 0.29166667 | O6: =IF(OR(F6="férié travaillé",F6="travail",F6="asa",F6="rtt"),J6-H6+IF(H6>J6,1),INDEX(ref!$E$22:'ref'!$E$37,MATCH(F6,gerald2,0))) -> 0.29166667 | P6: =IF(SUM(O6-ref!E$4)<0,0,SUM(O6-ref!E$4)) -> 0 | Q6: =Q5+L6 -> 0.58333333 | V6: =U6-T6 -> 0 | W6: =IF(V6="","",IF(SUM(V6-ref!E$38)>0,0,IF(V6=0, "0:00", SUM(V6-ref!E$38)))) -> 0:00 | AA6: =Z6-Y6 -> 0 | AB6: =IF(AA6="","",IF(SUM(AA6-ref!E$38)>0,0,IF(AA6=0, "0:00", SUM(AA6-ref!E$38)))) -> 0:00 | AE6: =IF(SUM(AE5-ref!E$7)<0,0,SUM(AE5-ref!E$7)) -> 0 | AF6: =IF(AND(H6<>"",J6<>""),1,0+OR(N(J5)<N(H5),F6="récupération",F6="congé 1 jour",F6="congé 1/2 jour ",F6="congé 5h24",F6="arrêt maladie",F6="arrêt travail",F6="férié ",F6="congé parentale",F6="congé de naissance")) -> 1 | AH6: J2 | AI6: à | AJ6: J3 | AK6: {=IF(ISNUMBER(G7),G7-_xlfn.AGGREGATE(14,6,(K$4:K6<G7)*K$4:K6,1),"")} | AL6: =IF(ISNUMBER(AK6),ABS(IF(SUM(AK6-ref!E$9)>0,0,SUM(AK6-ref!E$9))),"")
B7: 1 | C7: Vscolaire | E7: =E6+1 -> 43832 | F7: récupération | G7: =IF(AND(J7="",H7=""),"",E7+H7) | I7: =SUM(V7+AA7+AC7) -> 0 | K7: =IF(AND(H7="",J7=""),"",E7+J7+(H7>J7)) | L7: =IF(OR(F7="télétravail",F7="férié travaillé",F7="travail"),(J7-H7+IF(H7>J7,1)-I7),INDEX(ref!$E$22:'ref'!$E$37,MATCH(F7,gerald3,0))) -> 0.29166667 | M7: =IF(SUM(L7-ref!E$8)<0,0,SUM(L7-ref!E$8)) -> 0 | N7: =L7-(hs!D6+hs!F6+hs!H6+hs!J6) -> 0.29166667 | O7: =IF(OR(F7="férié travaillé",F7="travail",F7="asa",F7="rtt"),J7-H7+IF(H7>J7,1),INDEX(ref!$E$22:'ref'!$E$37,MATCH(F7,gerald2,0))) -> 0.29166667 | P7: =IF(SUM(O7-ref!E$4)<0,0,SUM(O7-ref!E$4)) -> 0 | Q7: =Q6+L7 -> 0.875 | V7: =U7-T7 -> 0 | W7: =IF(V7="","",IF(SUM(V7-ref!E$38)>0,0,IF(V7=0, "0:00", SUM(V7-ref!E$38)))) -> 0:00 | AA7: =Z7-Y7 -> 0 | AB7: =IF(AA7="","",IF(SUM(AA7-ref!E$38)>0,0,IF(AA7=0, "0:00", SUM(AA7-ref!E$38)))) -> 0:00 | AE7: H semaine | AF7: =IF(AND(H7<>"",J7<>""),1,0+OR(N(J6)<N(H6),F7="récupération",F7="congé 1 jour",F7="congé 1/2 jour ",F7="congé 5h24",F7="arrêt maladie",F7="arrêt travail",F7="férié ",F7="congé parentale",F7="congé de naissance")) -> 1 | AH7: J3 | AI7: à | AJ7: J4 | AK7: {=IF(ISNUMBER(G8),G8-_xlfn.AGGREGATE(14,6,(K$4:K7<G8)*K$4:K7,1),"")} | AL7: =IF(ISNUMBER(AK7),ABS(IF(SUM(AK7-ref!E$9)>0,0,SUM(AK7-ref!E$9))),"")
B8: mois | C8: Vscolaire | E8: =E7+1 -> 43833 | F8: récupération | G8: =IF(AND(J8="",H8=""),"",E8+H8) | I8: =SUM(V8+AA8+AC8) -> 0 | K8: =IF(AND(H8="",J8=""),"",E8+J8+(H8>J8)) | L8: =IF(OR(F8="télétravail",F8="férié travaillé",F8="travail"),(J8-H8+IF(H8>J8,1)-I8),INDEX(ref!$E$22:'ref'!$E$37,MATCH(F8,gerald3,0))) -> 0.29166667 | M8: =IF(SUM(L8-ref!E$8)<0,0,SUM(L8-ref!E$8)) -> 0 | N8: =L8-(hs!D7+hs!F7+hs!H7+hs!J7) -> 0.29166667 | O8: =IF(OR(F8="férié travaillé",F8="travail",F8="asa",F8="rtt"),J8-H8+IF(H8>J8,1),INDEX(ref!$E$22:'ref'!$E$37,MATCH(F8,gerald2,0))) -> 0.29166667 | P8: =IF(SUM(O8-ref!E$4)<0,0,SUM(O8-ref!E$4)) -> 0 | Q8: =Q7+L8 -> 1.1666667 | V8: =U8-T8 -> 0 | W8: =IF(V8="","",IF(SUM(V8-ref!E$38)>0,0,IF(V8=0, "0:00", SUM(V8-ref!E$38)))) -> 0:00 | AA8: =Z8-Y8 -> 0 | AB8: =IF(AA8="","",IF(SUM(AA8-ref!E$38)>0,0,IF(AA8=0, "0:00", SUM(AA8-ref!E$38)))) -> 0:00 | AE8: =Q11 -> 1.4583333 | AF8: =IF(AND(H8<>"",J8<>""),1,0+OR(N(J7)<N(H7),F8="récupération",F8="congé 1 jour",F8="congé 1/2 jour ",F8="congé 5h24",F8="arrêt maladie",F8="arrêt travail",F8="férié ",F8="congé parentale",F8="congé de naissance")) -> 1 | AH8: J4 | AI8: à | AJ8: J5 | AK8: {=IF(ISNUMBER(G9),G9-_xlfn.AGGREGATE(14,6,(K$4:K8<G9)*K$4:K8,1),"")} | AL8: =IF(ISNUMBER(AK8),ABS(IF(SUM(AK8-ref!E$9)>0,0,SUM(AK8-ref!E$9))),"")
B9: 1 | C9: Vscolaire | E9: =E8+1 -> 43834 | F9: récupération | G9: =IF(AND(J9="",H9=""),"",E9+H9) | I9: =SUM(V9+AA9+AC9) -> 0 | K9: =IF(AND(H9="",J9=""),"",E9+J9+(H9>J9)) | L9: =IF(OR(F9="télétravail",F9="férié travaillé",F9="travail"),(J9-H9+IF(H9>J9,1)-I9),INDEX(ref!$E$22:'ref'!$E$37,MATCH(F9,gerald3,0))) -> 0.29166667 | M9: =IF(SUM(L9-ref!E$8)<0,0,SUM(L9-ref!E$8)) -> 0 | N9: =L9-(hs!D8+hs!F8+hs!H8+hs!J8) -> 0.29166667 | O9: =IF(OR(F9="férié travaillé",F9="travail",F9="asa",F9="rtt"),J9-H9+IF(H9>J9,1),INDEX(ref!$E$22:'ref'!$E$37,MATCH(F9,gerald2,0))) -> 0.29166667 | P9: =IF(SUM(O9-ref!E$4)<0,0,SUM(O9-ref!E$4)) -> 0 | Q9: =Q8+L9 -> 1.4583333 | V9: =U9-T9 -> 0 | W9: =IF(V9="","",IF(SUM(V9-ref!E$38)>0,0,IF(V9=0, "0:00", SUM(V9-ref!E$38)))) -> 0:00 | AA9: =Z9-Y9 -> 0 | AB9: =IF(AA9="","",IF(SUM(AA9-ref!E$38)>0,0,IF(AA9=0, "0:00", SUM(AA9-ref!E$38)))) -> 0:00 | AE9: H semaine hc de | AF9: =IF(AND(H9<>"",J9<>""),1,0+OR(N(J8)<N(H8),F9="récupération",F9="congé 1 jour",F9="congé 1/2 jour ",F9="congé 5h24",F9="arrêt maladie",F9="arrêt travail",F9="férié ",F9="congé parentale",F9="congé de naissance")) -> 1 | AH9: J5 | AI9: à | AJ9: J6 | AK9: {=IF(ISNUMBER(G10),G10-_xlfn.AGGREGATE(14,6,(K$4:K9<G10)*K$4:K9,1),"")} | AL9: =IF(ISNUMBER(AK9),ABS(IF(SUM(AK9-ref!E$9)>0,0,SUM(AK9-ref!E$9))),"")
E10: =E9+1 -> 43835 | F10: off | G10: =IF(AND(J10="",H10=""),"",E10+H10) | I10: =SUM(V10+AA10+AC10) -> 0 | K10: =IF(AND(H10="",J10=""),"",E10+J10+(H10>J10)) | L10: =IF(OR(F10="télétravail",F10="férié travaillé",F10="travail"),(J10-H10+IF(H10>J10,1)-I10),INDEX(ref!$E$22:'ref'!$E$37,MATCH(F10,gerald3,0))) -> 0 | M10: =IF(SUM(L10-ref!E$8)<0,0,SUM(L10-ref!E$8)) -> 0 | N10: =L10-(hs!D9+hs!F9+hs!H9+hs!J9) -> 0 | O10: =IF(OR(F10="férié travaillé",F10="travail",F10="asa",F10="rtt"),J10-H10+IF(H10>J10,1),INDEX(ref!$E$22:'ref'!$E$37,MATCH(F10,gerald2,0))) -> 0 | P10: =IF(SUM(O10-ref!E$4)<0,0,SUM(O10-ref!E$4)) -> 0 | Q10: =Q9+L10 -> 1.4583333 | V10: =U10-T10 -> 0 | W10: =IF(V10="","",IF(SUM(V10-ref!E$38)>0,0,IF(V10=0, "0:00", SUM(V10-ref!E$38)))) -> 0:00 | AA10: =Z10-Y10 -> 0 | AB10: =IF(AA10="","",IF(SUM(AA10-ref!E$38)>0,0,IF(AA10=0, "0:00", SUM(AA10-ref!E$38)))) -> 0:00 | AE10: =ref!E$11 -> 2 | AF10: =IF(AND(H10<>"",J10<>""),1,0+OR(N(J9)<N(H9),F10="récupération",F10="congé 1 jour",F10="congé 1/2 jour ",F10="congé 5h24",F10="arrêt maladie",F10="arrêt travail",F10="férié ",F10="congé parentale",F10="congé de naissance")) -> 0 | AH10: J6 | AI10: à | AJ10: J7 | AK10: {=IF(ISNUMBER(G11),G11-_xlfn.AGGREGATE(14,6,(K$4:K10<G11)*K$4:K10,1),"")} | AL10: =IF(ISNUMBER(AK10),ABS(IF(SUM(AK10-ref!E$9)>0,0,SUM(AK10-ref!E$9))),"")
E11: =E10+1 -> 43836 | F11: off | G11: =IF(AND(J11="",H11=""),"",E11+H11) | I11: =SUM(V11+AA11+AC11) -> 0 | K11: =IF(AND(H11="",J11=""),"",E11+J11+(H11>J11)) | L11: =IF(OR(F11="télétravail",F11="férié travaillé",F11="travail"),(J11-H11+IF(H11>J11,1)-I11),INDEX(ref!$E$22:'ref'!$E$37,MATCH(F11,gerald3,0))) -> 0 | M11: =IF(SUM(L11-ref!E$8)<0,0,SUM(L11-ref!E$8)) -> 0 | N11: =L11-(hs!D10+hs!F10+hs!H10+hs!J10) -> 0 | O11: =IF(OR(F11="férié travaillé",F11="travail",F11="asa",F11="rtt"),J11-H11+IF(H11>J11,1),INDEX(ref!$E$22:'ref'!$E$37,MATCH(F11,gerald2,0))) -> 0 | P11: =IF(SUM(O11-ref!E$4)<0,0,SUM(O11-ref!E$4)) -> 0 | Q11: =Q10+L11 -> 1.4583333 | V11: =U11-T11 -> 0 | W11: =IF(V11="","",IF(SUM(V11-ref!E$38)>0,0,IF(V11=0, "0:00", SUM(V11-ref!E$38)))) -> 0:00 | AA11: =Z11-Y11 -> 0 | AB11: =IF(AA11="","",IF(SUM(AA11-ref!E$38)>0,0,IF(AA11=0, "0:00", SUM(AA11-ref!E$38)))) -> 0:00 | AE11: =IF(SUM(Q11-ref!E$11)<0,0,SUM(Q11-ref!E$11)) -> 0 | AF11: =IF(AND(H11<>"",J11<>""),1,0+OR(N(J10)<N(H10),F11="récupération",F11="congé 1 jour",F11="congé 1/2 jour ",F11="congé 5h24",F11="arrêt maladie",F11="arrêt travail",F11="férié ",F11="congé parentale",F11="congé de naissance")) -> 0
B15: date | C15: travail | E15: =DATE(ref!E$2,B19,B17) -> 43837 | F15: travail | G15: =IF(AND(J15="",H15=""),"",E15+H15) -> 43837.375 | H15: 0.375 | I15: =SUM(V15+AA15+AC15) -> 0.034027778 | J15: 0.70833333 | K15: =IF(AND(H15="",J15=""),"",E15+J15+(H15>J15)) -> 43837.708 | L15: =IF(OR(F15="télétravail",F15="férié travaillé",F15="travail"),(J15-H15+IF(H15>J15,1)-I15),INDEX(ref!$E$22:'ref'!$E$37,MATCH(F15,gerald3,0))) -> 0.29930556 | M15: =IF(SUM(L15-ref!E$8)<0,0,SUM(L15-ref!E$8)) -> 0 | N15: =L15-(hs!D14+hs!F14+hs!H14+hs!J14) -> -0.034027778 | O15: =IF(OR(F15="férié travaillé",F15="travail",F15="asa",F15="rtt"),J15-H15+IF(H15>J15,1),INDEX(ref!$E$22:'ref'!$E$37,MATCH(F15,gerald2,0))) -> 0.33333333 | P15: =IF(SUM(O15-ref!E$4)<0,0,SUM(O15-ref!E$4)) -> 0 | Q15: =L15 -> 0.29930556 | T15: 0.52152778 | U15: 0.55555556 | V15: =U15-T15 -> 0.034027778 | W15: =IF(V15="","",IF(SUM(V15-ref!E$38)>0,0,IF(V15=0, "0:00", SUM(V15-ref!E$38)))) -> 0 | AA15: =Z15-Y15 -> 0 | AB15: =IF(AA15="","",IF(SUM(AA15-ref!E$38)>0,0,IF(AA15=0, "0:00", SUM(AA15-ref!E$38)))) -> 0:00 | AE15: =SUM(AF15:AF21) -> 5 | AF15: =IF(AND(H15<>"",J15<>""),1,0+OR(N(J14)<N(H14),F15="récupération",F15="congé 1 jour",F15="congé 1/2 jour ",F15="congé 5h24",F15="arrêt maladie",F15="arrêt travail",F15="férié ",F15="congé parentale",F15="congé de naissance")) -> 1 | AH15: J1 | AI15: à | AJ15: J2 | AK15: {=IF(ISNUMBER(G16),G16-_xlfn.AGGREGATE(14,6,(K$4:K15<G16)*K$4:K15,1),"")} -> 0.66944444 | AL15: =IF(ISNUMBER(AK15),ABS(IF(SUM(AK15-ref!E$9)>0,0,SUM(AK15-ref!E$9))),"") -> 0
B16: date | C16: travail | E16: =E15+1 -> 43838 | F16: travail | G16: =IF(AND(J16="",H16=""),"",E16+H16) -> 43838.378 | H16: 0.37777778 | I16: =SUM(V16+AA16+AC16) -> 0.035416667 | J16: 0.76180556 | K16: =IF(AND(H16="",J16=""),"",E16+J16+(H16>J16)) -> 43838.762 | L16: =IF(OR(F16="télétravail",F16="férié travaillé",F16="travail"),(J16-H16+IF(H16>J16,1)-I16),INDEX(ref!$E$22:'ref'!$E$37,MATCH(F16,gerald3,0))) -> 0.34861111 | M16: =IF(SUM(L16-ref!E$8)<0,0,SUM(L16-ref!E$8)) -> 0 | N16: =L16-(hs!D15+hs!F15+hs!H15+hs!J15) -> -0.035416667 | O16: =IF(OR(F16="férié travaillé",F16="travail",F16="asa",F16="rtt"),J16-H16+IF(H16>J16,1),INDEX(ref!$E$22:'ref'!$E$37,MATCH(F16,gerald2,0))) -> 0.38402778 | P16: =IF(SUM(O16-ref!E$4)<0,0,SUM(O16-ref!E$4)) -> 0 | Q16: =Q15+L16 -> 0.64791667 | T16: 0.50625 | U16: 0.54166667 | V16: =U16-T16 -> 0.035416667 | W16: =IF(V16="","",IF(SUM(V16-ref!E$38)>0,0,IF(V16=0, "0:00", SUM(V16-ref!E$38)))) -> 0 | AA16: =Z16-Y16 -> 0 | AB16: =IF(AA16="","",IF(SUM(AA16-ref!E$38)>0,0,IF(AA16=0, "0:00", SUM(AA16-ref!E$38)))) -> 0:00 | AE16: =IF(SUM(AE15-ref!E$7)<0,0,SUM(AE15-ref!E$7)) -> 0 | AF16: =IF(AND(H16<>"",J16<>""),1,0+OR(N(J15)<N(H15),F16="récupération",F16="congé 1 jour",F16="congé 1/2 jour ",F16="congé 5h24",F16="arrêt maladie",F16="arrêt travail",F16="férié ",F16="congé parentale",F16="congé de naissance")) -> 1 | AH16: J2 | AI16: à | AJ16: J3 | AK16: {=IF(ISNUMBER(G17),G17-_xlfn.AGGREGATE(14,6,(K$4:K16<G17)*K$4:K16,1),"")} -> 0.63333333 | AL16: =IF(ISNUMBER(AK16),ABS(IF(SUM(AK16-ref!E$9)>0,0,SUM(AK16-ref!E$9))),"") -> 0
B17: 8 | C17: travail | E17: =E16+1 -> 43839 | F17: travail | G17: =IF(AND(J17="",H17=""),"",E17+H17) -> 43839.395 | H17: 0.39513889 | I17: =SUM(V17+AA17+AC17) -> 0.036805556 | J17: 0.78333333 | K17: =IF(AND(H17="",J17=""),"",E17+J17+(H17>J17)) -> 43839.783 | L17: =IF(OR(F17="télétravail",F17="férié travaillé",F17="travail"),(J17-H17+IF(H17>J17,1)-I17),INDEX(ref!$E$22:'ref'!$E$37,MATCH(F17,gerald3,0))) -> 0.35138889 | M17: =IF(SUM(L17-ref!E$8)<0,0,SUM(L17-ref!E$8)) -> 0 | N17: =L17-(hs!D16+hs!F16+hs!H16+hs!J16) -> -0.049305556 | O17: =IF(OR(F17="férié travaillé",F17="travail",F17="asa",F17="rtt"),J17-H17+IF(H17>J17,1),INDEX(ref!$E$22:'ref'!$E$37,MATCH(F17,gerald2,0))) -> 0.38819444 | P17: =IF(SUM(O17-ref!E$4)<0,0,SUM(O17-ref!E$4)) -> 0 | Q17: =Q16+L17 -> 0.99930556 | T17: 0.52152778 | U17: 0.55833333 | V17: =U17-T17 -> 0.036805556 | W17: =IF(V17="","",IF(SUM(V17-ref!E$38)>0,0,IF(V17=0, "0:00", SUM(V17-ref!E$38)))) -> 0 | AA17: =Z17-Y17 -> 0 | AB17: =IF(AA17="","",IF(SUM(AA17-ref!E$38)>0,0,IF(AA17=0, "0:00", SUM(AA17-ref!E$38)))) -> 0:00 | AE17: H semaine | AF17: =IF(AND(H17<>"",J17<>""),1,0+OR(N(J16)<N(H16),F17="récupération",F17="congé 1 jour",F17="congé 1/2 jour ",F17="congé 5h24",F17="arrêt maladie",F17="arrêt travail",F17="férié ",F17="congé parentale",F17="congé de naissance")) -> 1 | AH17: J3 | AI17: à | AJ17: J4 | AK17: {=IF(ISNUMBER(G18),G18-_xlfn.AGGREGATE(14,6,(K$4:K17<G18)*K$4:K17,1),"")} -> 0.60347222 | AL17: =IF(ISNUMBER(AK17),ABS(IF(SUM(AK17-ref!E$9)>0,0,SUM(AK17-ref!E$9))),"") -> 0
B18: mois | C18: travail | E18: =E17+1 -> 43840 | F18: travail | G18: =IF(AND(J18="",H18=""),"",E18+H18) -> 43840.387 | H18: 0.38680556 | I18: =SUM(V18+AA18+AC18) -> 0.033333333 | J18: 0.74444444 | K18: =IF(AND(H18="",J18=""),"",E18+J18+(H18>J18)) -> 43840.744 | L18: =IF(OR(F18="télétravail",F18="férié travaillé",F18="travail"),(J18-H18+IF(H18>J18,1)-I18),INDEX(ref!$E$22:'ref'!$E$37,MATCH(F18,gerald3,0))) -> 0.32430556 | M18: =IF(SUM(L18-ref!E$8)<0,0,SUM(L18-ref!E$8)) -> 0 | N18: =L18-(hs!D17+hs!F17+hs!H17+hs!J17) -> -0.033333333 | O18: =IF(OR(F18="férié travaillé",F18="travail",F18="asa",F18="rtt"),J18-H18+IF(H18>J18,1),INDEX(ref!$E$22:'ref'!$E$37,MATCH(F18,gerald2,0))) -> 0.35763889 | P18: =IF(SUM(O18-ref!E$4)<0,0,SUM(O18-ref!E$4)) -> 0 | Q18: =Q17+L18 -> 1.3236111 | T18: 0.51875 | U18: 0.55208333 | V18: =U18-T18 -> 0.033333333 | W18: =IF(V18="","",IF(SUM(V18-ref!E$38)>0,0,IF(V18=0, "0:00", SUM(V18-ref!E$38)))) -> 0 | AA18: =Z18-Y18 -> 0 | AB18: =IF(AA18="","",IF(SUM(AA18-ref!E$38)>0,0,IF(AA18=0, "0:00", SUM(AA18-ref!E$38)))) -> 0:00 | AE18: =Q21 -> 1.6743056 | AF18: =IF(AND(H18<>"",J18<>""),1,0+OR(N(J17)<N(H17),F18="récupération",F18="congé 1 jour",F18="congé 1/2 jour ",F18="congé 5h24",F18="arrêt maladie",F18="arrêt travail",F18="férié ",F18="congé parentale",F18="congé de naissance")) -> 1 | AH18: J4 | AI18: à | AJ18: J5 | AK18: {=IF(ISNUMBER(G19),G19-_xlfn.AGGREGATE(14,6,(K$4:K18<G19)*K$4:K18,1),"")} -> 0.63055556 | AL18: =IF(ISNUMBER(AK18),ABS(IF(SUM(AK18-ref!E$9)>0,0,SUM(AK18-ref!E$9))),"") -> 0
B19: 1 | C19: travail | E19: =E18+1 -> 43841 | F19: travail | G19: =IF(AND(J19="",H19=""),"",E19+H19) -> 43841.375 | H19: 0.375 | I19: =SUM(V19+AA19+AC19) -> 0.020833333 | J19: 0.74652778 | K19: =IF(AND(H19="",J19=""),"",E19+J19+(H19>J19)) -> 43841.747 | L19: =IF(OR(F19="télétravail",F19="férié travaillé",F19="travail"),(J19-H19+IF(H19>J19,1)-I19),INDEX(ref!$E$22:'ref'!$E$37,MATCH(F19,gerald3,0))) -> 0.35069444 | M19: =IF(SUM(L19-ref!E$8)<0,0,SUM(L19-ref!E$8)) -> 0 | N19: =L19-(hs!D18+hs!F18+hs!H18+hs!J18) -> -0.020833333 | O19: =IF(OR(F19="férié travaillé",F19="travail",F19="asa",F19="rtt"),J19-H19+IF(H19>J19,1),INDEX(ref!$E$22:'ref'!$E$37,MATCH(F19,gerald2,0))) -> 0.37152778 | P19: =IF(SUM(O19-ref!E$4)<0,0,SUM(O19-ref!E$4)) -> 0 | Q19: =Q18+L19 -> 1.6743056 | T19: 0.55555556 | U19: 0.57638889 | V19: =U19-T19 -> 0.020833333 | W19: =IF(V19="","",IF(SUM(V19-ref!E$38)>0,0,IF(V19=0, "0:00", SUM(V19-ref!E$38)))) -> -0.010416667 | AA19: =Z19-Y19 -> 0 | AB19: =IF(AA19="","",IF(SUM(AA19-ref!E$38)>0,0,IF(AA19=0, "0:00", SUM(AA19-ref!E$38)))) -> 0:00 | AE19: H semaine hc de | AF19: =IF(AND(H19<>"",J19<>""),1,0+OR(N(J18)<N(H18),F19="récupération",F19="congé 1 jour",F19="congé 1/2 jour ",F19="congé 5h24",F19="arrêt maladie",F19="arrêt travail",F19="férié ",F19="congé parentale",F19="congé de naissance")) -> 1 | AH19: J5 | AI19: à | AJ19: J6 | AK19: {=IF(ISNUMBER(G20),G20-_xlfn.AGGREGATE(14,6,(K$4:K19<G20)*K$4:K19,1),"")} | AL19: =IF(ISNUMBER(AK19),ABS(IF(SUM(AK19-ref!E$9)>0,0,SUM(AK19-ref!E$9))),"")
E20: =E19+1 -> 43842 | F20: off | G20: =IF(AND(J20="",H20=""),"",E20+H20) | I20: =SUM(V20+AA20+AC20) -> 0 | K20: =IF(AND(H20="",J20=""),"",E20+J20+(H20>J20)) | L20: =IF(OR(F20="télétravail",F20="férié travaillé",F20="travail"),(J20-H20+IF(H20>J20,1)-I20),INDEX(ref!$E$22:'ref'!$E$37,MATCH(F20,gerald3,0))) -> 0 | M20: =IF(SUM(L20-ref!E$8)<0,0,SUM(L20-ref!E$8)) -> 0 | N20: =L20-(hs!D19+hs!F19+hs!H19+hs!J19) -> 0 | O20: =IF(OR(F20="férié travaillé",F20="travail",F20="asa",F20="rtt"),J20-H20+IF(H20>J20,1),INDEX(ref!$E$22:'ref'!$E$37,MATCH(F20,gerald2,0))) -> 0 | P20: =IF(SUM(O20-ref!E$4)<0,0,SUM(O20-ref!E$4)) -> 0 | Q20: =Q19+L20 -> 1.6743056 | V20: =U20-T20 -> 0 | W20: =IF(V20="","",IF(SUM(V20-ref!E$38)>0,0,IF(V20=0, "0:00", SUM(V20-ref!E$38)))) -> 0:00 | AA20: =Z20-Y20 -> 0 | AB20: =IF(AA20="","",IF(SUM(AA20-ref!E$38)>0,0,IF(AA20=0, "0:00", SUM(AA20-ref!E$38)))) -> 0:00 | AE20: =ref!E$11 -> 2 | AF20: =IF(AND(H20<>"",J20<>""),1,0+OR(N(J19)<N(H19),F20="récupération",F20="congé 1 jour",F20="congé 1/2 jour ",F20="congé 5h24",F20="arrêt maladie",F20="arrêt travail",F20="férié ",F20="congé parentale",F20="congé de naissance")) -> 0 | AH20: J6 | AI20: à | AJ20: J7 | AK20: {=IF(ISNUMBER(G21),G21-_xlfn.AGGREGATE(14,6,(K$4:K20<G21)*K$4:K20,1),"")} | AL20: =IF(ISNUMBER(AK20),ABS(IF(SUM(AK20-ref!E$9)>0,0,SUM(AK20-ref!E$9))),"")
E21: =E20+1 -> 43843 | F21: off | G21: =IF(AND(J21="",H21=""),"",E21+H21) | I21: =SUM(V21+AA21+AC21) -> 0 | K21: =IF(AND(H21="",J21=""),"",E21+J21+(H21>J21)) | L21: =IF(OR(F21="télétravail",F21="férié travaillé",F21="travail"),(J21-H21+IF(H21>J21,1)-I21),INDEX(ref!$E$22:'ref'!$E$37,MATCH(F21,gerald3,0))) -> 0 | M21: =IF(SUM(L21-ref!E$8)<0,0,SUM(L21-ref!E$8)) -> 0 | N21: =L21-(hs!D20+hs!F20+hs!H20+hs!J20) -> 0 | O21: =IF(OR(F21="férié travaillé",F21="travail",F21="asa",F21="rtt"),J21-H21+IF(H21>J21,1),INDEX(ref!$E$22:'ref'!$E$37,MATCH(F21,gerald2,0))) -> 0 | P21: =IF(SUM(O21-ref!E$4)<0,0,SUM(O21-ref!E$4)) -> 0 | Q21: =Q20+L21 -> 1.6743056 | V21: =U21-T21 -> 0 | W21: =IF(V21="","",IF(SUM(V21-ref!E$38)>0,0,IF(V21=0, "0:00", SUM(V21-ref!E$38)))) -> 0:00 | AA21: =Z21-Y21 -> 0 | AB21: =IF(AA21="","",IF(SUM(AA21-ref!E$38)>0,0,IF(AA21=0, "0:00", SUM(AA21-ref!E$38)))) -> 0:00 | AE21: =IF(SUM(Q21-ref!E$11)<0,0,SUM(Q21-ref!E$11)) -> 0 | AF21: =IF(AND(H21<>"",J21<>""),1,0+OR(N(J20)<N(H20),F21="récupération",F21="congé 1 jour",F21="congé 1/2 jour ",F21="congé 5h24",F21="arrêt maladie",F21="arrêt travail",F21="férié ",F21="congé parentale",F21="congé de naissance")) -> 0
B25: date | C25: travail | E25: =DATE(ref!E$2,B29,B27) -> 43844 | F25: travail | G25: =IF(AND(J25="",H25=""),"",E25+H25) -> 43844.378 | H25: 0.37777778 | I25: =SUM(V25+AA25+AC25) -> 0.033333333 | J25: 0.71180556 | K25: =IF(AND(H25="",J25=""),"",E25+J25+(H25>J25)) -> 43844.712 | L25: =IF(OR(F25="télétravail",F25="férié travaillé",F25="travail"),(J25-H25+IF(H25>J25,1)-I25),INDEX(ref!$E$22:'ref'!$E$37,MATCH(F25,gerald3,0))) -> 0.30069444 | M25: =IF(SUM(L25-ref!E$8)<0,0,SUM(L25-ref!E$8)) -> 0 | N25: =L25-(hs!D24+hs!F24+hs!H24+hs!J24) -> -0.033333333 | O25: =IF(OR(F25="férié travaillé",F25="travail",F25="asa",F25="rtt"),J25-H25+IF(H25>J25,1),INDEX(ref!$E$22:'ref'!$E$37,MATCH(F25,gerald2,0))) -> 0.33402778 | P25: =IF(SUM(O25-ref!E$4)<0,0,SUM(O25-ref!E$4)) -> 0 | Q25: =L25 -> 0.30069444 | T25: 0.53958333 | U25: 0.57291667 | V25: =U25-T25 -> 0.033333333 | W25: =IF(V25="","",IF(SUM(V25-ref!E$38)>0,0,IF(V25=0, "0:00", SUM(V25-ref!E$38)))) -> 0 | AA25: =Z25-Y25 -> 0 | AB25: =IF(AA25="","",IF(SUM(AA25-ref!E$38)>0,0,IF(AA25=0, "0:00", SUM(AA25-ref!E$38)))) -> 0:00 | AE25: =SUM(AF25:AF31) -> 6 | AF25: =IF(AND(H25<>"",J25<>""),1,0+OR(N(J24)<N(H24),F25="récupération",F25="congé 1 jour",F25="congé 1/2 jour ",F25="congé 5h24",F25="arrêt maladie",F25="arrêt travail",F25="férié ",F25="congé parentale",F25="congé de naissance")) -> 1 | AH25: J1 | AI25: à | AJ25: J2 | AK25: {=IF(ISNUMBER(G26),G26-_xlfn.AGGREGATE(14,6,(K$4:K25<G26)*K$4:K25,1),"")} -> 0.66875 | AL25: =IF(ISNUMBER(AK25),ABS(IF(SUM(AK25-ref!E$9)>0,0,SUM(AK25-ref!E$9))),"") -> 0
B26: date | C26: travail | E26: =E25+1 -> 43845 | F26: travail | G26: =IF(AND(J26="",H26=""),"",E26+H26) -> 43845.381 | H26: 0.38055556 | I26: =SUM(V26+AA26+AC26) -> 0.032638889 | J26: 0.85555556 | K26: =IF(AND(H26="",J26=""),"",E26+J26+(H26>J26)) -> 43845.856 | L26: =IF(OR(F26="télétravail",F26="férié travaillé",F26="travail"),(J26-H26+IF(H26>J26,1)-I26),INDEX(ref!$E$22:'ref'!$E$37,MATCH(F26,gerald3,0))) -> 0.44236111 | M26: =IF(SUM(L26-ref!E$8)<0,0,SUM(L26-ref!E$8)) -> 0.025694444 | N26: =L26-(hs!D25+hs!F25+hs!H25+hs!J25) -> -0.11736111 | O26: =IF(OR(F26="férié travaillé",F26="travail",F26="asa",F26="rtt"),J26-H26+IF(H26>J26,1),INDEX(ref!$E$22:'ref'!$E$37,MATCH(F26,gerald2,0))) -> 0.475 | P26: =IF(SUM(O26-ref!E$4)<0,0,SUM(O26-ref!E$4)) -> 0 | Q26: =Q25+L26 -> 0.74305556 | T26: 0.50972222 | U26: 0.54236111 | V26: =U26-T26 -> 0.032638889 | W26: =IF(V26="","",IF(SUM(V26-ref!E$38)>0,0,IF(V26=0, "0:00", SUM(V26-ref!E$38)))) -> 0 | AA26: =Z26-Y26 -> 0 | AB26: =IF(AA26="","",IF(SUM(AA26-ref!E$38)>0,0,IF(AA26=0, "0:00", SUM(AA26-ref!E$38)))) -> 0:00 | AE26: =IF(SUM(AE25-ref!E$7)<0,0,SUM(AE25-ref!E$7)) -> 0 | AF26: =IF(AND(H26<>"",J26<>""),1,0+OR(N(J25)<N(H25),F26="récupération",F26="congé 1 jour",F26="congé 1/2 jour ",F26="congé 5h24",F26="arrêt maladie",F26="arrêt travail",F26="férié ",F26="congé parentale",F26="congé de naissance")) -> 1 | AH26: J2 | AI26: à | AJ26: J3 | AK26: {=IF(ISNUMBER(G27),G27-_xlfn.AGGREGATE(14,6,(K$4:K26<G27)*K$4:K26,1),"")} -> 0.57222222 | AL26: =IF(ISNUMBER(AK26),ABS(IF(SUM(AK26-ref!E$9)>0,0,SUM(AK26-ref!E$9))),"") -> 0
B27: 15 | C27: travail | E27: =E26+1 -> 43846 | F27: travail | G27: =IF(AND(J27="",H27=""),"",E27+H27) -> 43846.428 | H27: 0.42777778 | I27: =SUM(V27+AA27+AC27) -> 0.034722222 | J27: 0.78333333 | K27: =IF(AND(H27="",J27=""),"",E27+J27+(H27>J27)) -> 43846.783 | L27: =IF(OR(F27="télétravail",F27="férié travaillé",F27="travail"),(J27-H27+IF(H27>J27,1)-I27),INDEX(ref!$E$22:'ref'!$E$37,MATCH(F27,gerald3,0))) -> 0.32083333 | M27: =IF(SUM(L27-ref!E$8)<0,0,SUM(L27-ref!E$8)) -> 0 | N27: =L27-(hs!D26+hs!F26+hs!H26+hs!J26) -> -0.047222222 | O27: =IF(OR(F27="férié travaillé",F27="travail",F27="asa",F27="rtt"),J27-H27+IF(H27>J27,1),INDEX(ref!$E$22:'ref'!$E$37,MATCH(F27,gerald2,0))) -> 0.35555556 | P27: =IF(SUM(O27-ref!E$4)<0,0,SUM(O27-ref!E$4)) -> 0 | Q27: =Q26+L27 -> 1.0638889 | T27: 0.51319444 | U27: 0.54791667 | V27: =U27-T27 -> 0.034722222 | W27: =IF(V27="","",IF(SUM(V27-ref!E$38)>0,0,IF(V27=0, "0:00", SUM(V27-ref!E$38)))) -> 0 | AA27: =Z27-Y27 -> 0 | AB27: =IF(AA27="","",IF(SUM(AA27-ref!E$38)>0,0,IF(AA27=0, "0:00", SUM(AA27-ref!E$38)))) -> 0:00 | AE27: H semaine | AF27: =IF(AND(H27<>"",J27<>""),1,0+OR(N(J26)<N(H26),F27="récupération",F27="congé 1 jour",F27="congé 1/2 jour ",F27="congé 5h24",F27="arrêt maladie",F27="arrêt travail",F27="férié ",F27="congé parentale",F27="congé de naissance")) -> 1 | AH27: J3 | AI27: à | AJ27: J4 | AK27: {=IF(ISNUMBER(G28),G28-_xlfn.AGGREGATE(14,6,(K$4:K27<G28)*K$4:K27,1),"")} -> 0.59166667 | AL27: =IF(ISNUMBER(AK27),ABS(IF(SUM(AK27-ref!E$9)>0,0,SUM(AK27-ref!E$9))),"") -> 0
B28: mois | C28: travail | E28: =E27+1 -> 43847 | F28: travail | G28: =IF(AND(J28="",H28=""),"",E28+H28) -> 43847.375 | H28: 0.375 | I28: =SUM(V28+AA28+AC28) -> 0.03125 | J28: 0.775 | K28: =IF(AND(H28="",J28=""),"",E28+J28+(H28>J28)) -> 43847.775 | L28: =IF(OR(F28="télétravail",F28="férié travaillé",F28="travail"),(J28-H28+IF(H28>J28,1)-I28),INDEX(ref!$E$22:'ref'!$E$37,MATCH(F28,gerald3,0))) -> 0.36875 | M28: =IF(SUM(L28-ref!E$8)<0,0,SUM(L28-ref!E$8)) -> 0 | N28: =L28-(hs!D27+hs!F27+hs!H27+hs!J27) -> -0.035416667 | O28: =IF(OR(F28="férié travaillé",F28="travail",F28="asa",F28="rtt"),J28-H28+IF(H28>J28,1),INDEX(ref!$E$22:'ref'!$E$37,MATCH(F28,gerald2,0))) -> 0.4 | P28: =IF(SUM(O28-ref!E$4)<0,0,SUM(O28-ref!E$4)) -> 0 | Q28: =Q27+L28 -> 1.4326389 | T28: 0.54166667 | U28: 0.57291667 | V28: =U28-T28 -> 0.03125 | W28: =IF(V28="","",IF(SUM(V28-ref!E$38)>0,0,IF(V28=0, "0:00", SUM(V28-ref!E$38)))) -> 0 | AA28: =Z28-Y28 -> 0 | AB28: =IF(AA28="","",IF(SUM(AA28-ref!E$38)>0,0,IF(AA28=0, "0:00", SUM(AA28-ref!E$38)))) -> 0:00 | AE28: =Q31 -> 2.0881944 | AF28: =IF(AND(H28<>"",J28<>""),1,0+OR(N(J27)<N(H27),F28="récupération",F28="congé 1 jour",F28="congé 1/2 jour ",F28="congé 5h24",F28="arrêt maladie",F28="arrêt travail",F28="férié ",F28="congé parentale",F28="congé de naissance")) -> 1 | AH28: J4 | AI28: à | AJ28: J5 | AK28: {=IF(ISNUMBER(G29),G29-_xlfn.AGGREGATE(14,6,(K$4:K28<G29)*K$4:K28,1),"")} -> 0.60347222 | AL28: =IF(ISNUMBER(AK28),ABS(IF(SUM(AK28-ref!E$9)>0,0,SUM(AK28-ref!E$9))),"") -> 0
B29: 1 | C29: travail | E29: =E28+1 -> 43848 | F29: travail | G29: =IF(AND(J29="",H29=""),"",E29+H29) -> 43848.378 | H29: 0.37847222 | I29: =SUM(V29+AA29+AC29) -> 0.020138889 | J29: 0.76736111 | K29: =IF(AND(H29="",J29=""),"",E29+J29+(H29>J29)) -> 43848.767 | L29: =IF(OR(F29="télétravail",F29="férié travaillé",F29="travail"),(J29-H29+IF(H29>J29,1)-I29),INDEX(ref!$E$22:'ref'!$E$37,MATCH(F29,gerald3,0))) -> 0.36875 | M29: =IF(SUM(L29-ref!E$8)<0,0,SUM(L29-ref!E$8)) -> 0 | N29: =L29-(hs!D28+hs!F28+hs!H28+hs!J28) -> -0.020138889 | O29: =IF(OR(F29="férié travaillé",F29="travail",F29="asa",F29="rtt"),J29-H29+IF(H29>J29,1),INDEX(ref!$E$22:'ref'!$E$37,MATCH(F29,gerald2,0))) -> 0.38888889 | P29: =IF(SUM(O29-ref!E$4)<0,0,SUM(O29-ref!E$4)) -> 0 | Q29: =Q28+L29 -> 1.8013889 | T29: 0.57291667 | U29: 0.59305556 | V29: =U29-T29 -> 0.020138889 | W29: =IF(V29="","",IF(SUM(V29-ref!E$38)>0,0,IF(V29=0, "0:00", SUM(V29-ref!E$38)))) -> -0.011111111 | AA29: =Z29-Y29 -> 0 | AB29: =IF(AA29="","",IF(SUM(AA29-ref!E$38)>0,0,IF(AA29=0, "0:00", SUM(AA29-ref!E$38)))) -> 0:00 | AE29: H semaine hc de | AF29: =IF(AND(H29<>"",J29<>""),1,0+OR(N(J28)<N(H28),F29="récupération",F29="congé 1 jour",F29="congé 1/2 jour ",F29="congé 5h24",F29="arrêt maladie",F29="arrêt travail",F29="férié ",F29="congé parentale",F29="congé de naissance")) -> 1 | AH29: J5 | AI29: à | AJ29: J6 | AK29: {=IF(ISNUMBER(G30),G30-_xlfn.AGGREGATE(14,6,(K$4:K29<G30)*K$4:K29,1),"")} -> 0.80347222 | AL29: =IF(ISNUMBER(AK29),ABS(IF(SUM(AK29-ref!E$9)>0,0,SUM(AK29-ref!E$9))),"") -> 0
E30: =E29+1 -> 43849 | F30: travail | G30: =IF(AND(J30="",H30=""),"",E30+H30) -> 43849.571 | H30: 0.57083333 | I30: =SUM(V30+AA30+AC30) -> 0 | J30: 0.85763889 | K30: =IF(AND(H30="",J30=""),"",E30+J30+(H30>J30)) -> 43849.858 | L30: =IF(OR(F30="télétravail",F30="férié travaillé",F30="travail"),(J30-H30+IF(H30>J30,1)-I30),INDEX(ref!$E$22:'ref'!$E$37,MATCH(F30,gerald3,0))) -> 0.28680556 | M30: =IF(SUM(L30-ref!E$8)<0,0,SUM(L30-ref!E$8)) -> 0 | N30: =L30-(hs!D29+hs!F29+hs!H29+hs!J29) -> -0.28680556 | O30: =IF(OR(F30="férié travaillé",F30="travail",F30="asa",F30="rtt"),J30-H30+IF(H30>J30,1),INDEX(ref!$E$22:'ref'!$E$37,MATCH(F30,gerald2,0))) -> 0.28680556 | P30: =IF(SUM(O30-ref!E$4)<0,0,SUM(O30-ref!E$4)) -> 0 | Q30: =Q29+L30 -> 2.0881944 | V30: =U30-T30 -> 0 | W30: =IF(V30="","",IF(SUM(V30-ref!E$38)>0,0,IF(V30=0, "0:00", SUM(V30-ref!E$38)))) -> 0:00 | AA30: =Z30-Y30 -> 0 | AB30: =IF(AA30="","",IF(SUM(AA30-ref!E$38)>0,0,IF(AA30=0, "0:00", SUM(AA30-ref!E$38)))) -> 0:00 | AE30: =ref!E$11 -> 2 | AF30: =IF(AND(H30<>"",J30<>""),1,0+OR(N(J29)<N(H29),F30="récupération",F30="congé 1 jour",F30="congé 1/2 jour ",F30="congé 5h24",F30="arrêt maladie",F30="arrêt travail",F30="férié ",F30="congé parentale",F30="congé de naissance")) -> 1 | AH30: J6 | AI30: à | AJ30: J7 | AK30: {=IF(ISNUMBER(G31),G31-_xlfn.AGGREGATE(14,6,(K$4:K30<G31)*K$4:K30,1),"")} | AL30: =IF(ISNUMBER(AK30),ABS(IF(SUM(AK30-ref!E$9)>0,0,SUM(AK30-ref!E$9))),"")
E31: =E30+1 -> 43850 | F31: off | G31: =IF(AND(J31="",H31=""),"",E31+H31) | I31: =SUM(V31+AA31+AC31) -> 0 | K31: =IF(AND(H31="",J31=""),"",E31+J31+(H31>J31)) | L31: =IF(OR(F31="télétravail",F31="férié travaillé",F31="travail"),(J31-H31+IF(H31>J31,1)-I31),INDEX(ref!$E$22:'ref'!$E$37,MATCH(F31,gerald3,0))) -> 0 | M31: =IF(SUM(L31-ref!E$8)<0,0,SUM(L31-ref!E$8)) -> 0 | N31: =L31-(hs!D30+hs!F30+hs!H30+hs!J30) -> 0 | O31: =IF(OR(F31="férié travaillé",F31="travail",F31="asa",F31="rtt"),J31-H31+IF(H31>J31,1),INDEX(ref!$E$22:'ref'!$E$37,MATCH(F31,gerald2,0))) -> 0 | P31: =IF(SUM(O31-ref!E$4)<0,0,SUM(O31-ref!E$4)) -> 0 | Q31: =Q30+L31 -> 2.0881944 | V31: =U31-T31 -> 0 | W31: =IF(V31="","",IF(SUM(V31-ref!E$38)>0,0,IF(V31=0, "0:00", SUM(V31-ref!E$38)))) -> 0:00 | AA31: =Z31-Y31 -> 0 | AB31: =IF(AA31="","",IF(SUM(AA31-ref!E$38)>0,0,IF(AA31=0, "0:00", SUM(AA31-ref!E$38)))) -> 0:00 | AE31: =IF(SUM(Q31-ref!E$11)<0,0,SUM(Q31-ref!E$11)) -> 0.088194444 | AF31: =IF(AND(H31<>"",J31<>""),1,0+OR(N(J30)<N(H30),F31="récupération",F31="congé 1 jour",F31="congé 1/2 jour ",F31="congé 5h24",F31="arrêt maladie",F31="arrêt travail",F31="férié ",F31="congé parentale",F31="congé de naissance")) -> 0
B35: date | C35: travail | E35: =DATE(ref!E$2,B39,B37) -> 43851 | F35: travail | G35: =IF(AND(J35="",H35=""),"",E35+H35) -> 43851.386 | H35: 0.38611111 | I35: =SUM(V35+AA35+AC35) -> 0.034027778 | J35: 0.70833333 | K35: =IF(AND(H35="",J35=""),"",E35+J35+(H35>J35)) -> 43851.708 | L35: =IF(OR(F35="télétravail",F35="férié travaillé",F35="travail"),(J35-H35+IF(H35>J35,1)-I35),INDEX(ref!$E$22:'ref'!$E$37,MATCH(F35,gerald3,0))) -> 0.28819444 | M35: =IF(SUM(L35-ref!E$8)<0,0,SUM(L35-ref!E$8)) -> 0 | N35: =L35-(hs!D34+hs!F34+hs!H34+hs!J34) -> -0.034027778 | O35: =IF(OR(F35="férié travaillé",F35="travail",F35="asa",F35="rtt"),J35-H35+IF(H35>J35,1),INDEX(ref!$E$22:'ref'!$E$37,MATCH(F35,gerald2,0))) -> 0.32222222 | P35: =IF(SUM(O35-ref!E$4)<0,0,SUM(O35-ref!E$4)) -> 0 | Q35: =L35 -> 0.28819444 | T35: 0.50763889 | U35: 0.54166667 | V35: =U35-T35 -> 0.034027778 | W35: =IF(V35="","",IF(SUM(V35-ref!E$38)>0,0,IF(V35=0, "0:00", SUM(V35-ref!E$38)))) -> 0 | AA35: =Z35-Y35 -> 0 | AB35: =IF(AA35="","",IF(SUM(AA35-ref!E$38)>0,0,IF(AA35=0, "0:00", SUM(AA35-ref!E$38)))) -> 0:00 | AE35: =SUM(AF35:AF41) -> 5 | AF35: =IF(AND(H35<>"",J35<>""),1,0+OR(N(J34)<N(H34),F35="récupération",F35="congé 1 jour",F35="congé 1/2 jour ",F35="congé 5h24",F35="arrêt maladie",F35="arrêt travail",F35="férié ",F35="congé parentale",F35="congé de naissance")) -> 1 | AH35: J1 | AI35: à | AJ35: J2 | AK35: {=IF(ISNUMBER(G36),G36-_xlfn.AGGREGATE(14,6,(K$4:K35<G36)*K$4:K35,1),"")} -> 0.66666667 | AL35: =IF(ISNUMBER(AK35),ABS(IF(SUM(AK35-ref!E$9)>0,0,SUM(AK35-ref!E$9))),"") -> 0
B36: date | C36: travail | E36: =E35+1 -> 43852 | F36: travail | G36: =IF(AND(J36="",H36=""),"",E36+H36) -> 43852.375 | H36: 0.375 | I36: =SUM(V36+AA36+AC36) -> 0.031944444 | J36: 0.71944444 | K36: =IF(AND(H36="",J36=""),"",E36+J36+(H36>J36)) -> 43852.719 | L36: =IF(OR(F36="télétravail",F36="férié travaillé",F36="travail"),(J36-H36+IF(H36>J36,1)-I36),INDEX(ref!$E$22:'ref'!$E$37,MATCH(F36,gerald3,0))) -> 0.3125 | M36: =IF(SUM(L36-ref!E$8)<0,0,SUM(L36-ref!E$8)) -> 0 | N36: =L36-(hs!D35+hs!F35+hs!H35+hs!J35) -> -0.031944444 | O36: =IF(OR(F36="férié travaillé",F36="travail",F36="asa",F36="rtt"),J36-H36+IF(H36>J36,1),INDEX(ref!$E$22:'ref'!$E$37,MATCH(F36,gerald2,0))) -> 0.34444444 | P36: =IF(SUM(O36-ref!E$4)<0,0,SUM(O36-ref!E$4)) -> 0 | Q36: =Q35+L36 -> 0.60069444 | T36: 0.54236111 | U36: 0.57430556 | V36: =U36-T36 -> 0.031944444 | W36: =IF(V36="","",IF(SUM(V36-ref!E$38)>0,0,IF(V36=0, "0:00", SUM(V36-ref!E$38)))) -> 0 | AA36: =Z36-Y36 -> 0 | AB36: =IF(AA36="","",IF(SUM(AA36-ref!E$38)>0,0,IF(AA36=0, "0:00", SUM(AA36-ref!E$38)))) -> 0:00 | AE36: =IF(SUM(AE35-ref!E$7)<0,0,SUM(AE35-ref!E$7)) -> 0 | AF36: =IF(AND(H36<>"",J36<>""),1,0+OR(N(J35)<N(H35),F36="récupération",F36="congé 1 jour",F36="congé 1/2 jour ",F36="congé 5h24",F36="arrêt maladie",F36="arrêt travail",F36="férié ",F36="congé parentale",F36="congé de naissance")) -> 1 | AH36: J2 | AI36: à | AJ36: J3 | AK36: {=IF(ISNUMBER(G37),G37-_xlfn.AGGREGATE(14,6,(K$4:K36<G37)*K$4:K36,1),"")} -> 0.71388889 | AL36: =IF(ISNUMBER(AK36),ABS(IF(SUM(AK36-ref!E$9)>0,0,SUM(AK36-ref!E$9))),"") -> 0
B37: 22 | C37: travail | E37: =E36+1 -> 43853 | F37: travail | G37: =IF(AND(J37="",H37=""),"",E37+H37) -> 43853.433 | H37: 0.43333333 | I37: =SUM(V37+AA37+AC37) -> 0.033333333 | J37: 0.82916667 | K37: =IF(AND(H37="",J37=""),"",E37+J37+(H37>J37)) -> 43853.829 | L37: =IF(OR(F37="télétravail",F37="férié travaillé",F37="travail"),(J37-H37+IF(H37>J37,1)-I37),INDEX(ref!$E$22:'ref'!$E$37,MATCH(F37,gerald3,0))) -> 0.3625 | M37: =IF(SUM(L37-ref!E$8)<0,0,SUM(L37-ref!E$8)) -> 0 | N37: =L37-(hs!D36+hs!F36+hs!H36+hs!J36) -> -0.091666667 | O37: =IF(OR(F37="férié travaillé",F37="travail",F37="asa",F37="rtt"),J37-H37+IF(H37>J37,1),INDEX(ref!$E$22:'ref'!$E$37,MATCH(F37,gerald2,0))) -> 0.39583333 | P37: =IF(SUM(O37-ref!E$4)<0,0,SUM(O37-ref!E$4)) -> 0 | Q37: =Q36+L37 -> 0.96319444 | T37: 0.54166667 | U37: 0.575 | V37: =U37-T37 -> 0.033333333 | W37: =IF(V37="","",IF(SUM(V37-ref!E$38)>0,0,IF(V37=0, "0:00", SUM(V37-ref!E$38)))) -> 0 | AA37: =Z37-Y37 -> 0 | AB37: =IF(AA37="","",IF(SUM(AA37-ref!E$38)>0,0,IF(AA37=0, "0:00", SUM(AA37-ref!E$38)))) -> 0:00 | AE37: H semaine | AF37: =IF(AND(H37<>"",J37<>""),1,0+OR(N(J36)<N(H36),F37="récupération",F37="congé 1 jour",F37="congé 1/2 jour ",F37="congé 5h24",F37="arrêt maladie",F37="arrêt travail",F37="férié ",F37="congé parentale",F37="congé de naissance")) -> 1 | AH37: J3 | AI37: à | AJ37: J4 | AK37: {=IF(ISNUMBER(G38),G38-_xlfn.AGGREGATE(14,6,(K$4:K37<G38)*K$4:K37,1),"")} -> 0.55138889 | AL37: =IF(ISNUMBER(AK37),ABS(IF(SUM(AK37-ref!E$9)>0,0,SUM(AK37-ref!E$9))),"") -> 0
B38: mois | C38: travail | E38: =E37+1 -> 43854 | F38: travail | G38: =IF(AND(J38="",H38=""),"",E38+H38) -> 43854.381 | H38: 0.38055556 | I38: =SUM(V38+AA38+AC38) -> 0.034027778 | J38: 0.77222222 | K38: =IF(AND(H38="",J38=""),"",E38+J38+(H38>J38)) -> 43854.772 | L38: =IF(OR(F38="télétravail",F38="férié travaillé",F38="travail"),(J38-H38+IF(H38>J38,1)-I38),INDEX(ref!$E$22:'ref'!$E$37,MATCH(F38,gerald3,0))) -> 0.35763889 | M38: =IF(SUM(L38-ref!E$8)<0,0,SUM(L38-ref!E$8)) -> 0 | N38: =L38-(hs!D37+hs!F37+hs!H37+hs!J37) -> -0.035416667 | O38: =IF(OR(F38="férié travaillé",F38="travail",F38="asa",F38="rtt"),J38-H38+IF(H38>J38,1),INDEX(ref!$E$22:'ref'!$E$37,MATCH(F38,gerald2,0))) -> 0.39166667 | P38: =IF(SUM(O38-ref!E$4)<0,0,SUM(O38-ref!E$4)) -> 0 | Q38: =Q37+L38 -> 1.3208333 | T38: 0.52013889 | U38: 0.55416667 | V38: =U38-T38 -> 0.034027778 | W38: =IF(V38="","",IF(SUM(V38-ref!E$38)>0,0,IF(V38=0, "0:00", SUM(V38-ref!E$38)))) -> 0 | AA38: =Z38-Y38 -> 0 | AB38: =IF(AA38="","",IF(SUM(AA38-ref!E$38)>0,0,IF(AA38=0, "0:00", SUM(AA38-ref!E$38)))) -> 0:00 | AE38: =Q41 -> 1.825 | AF38: =IF(AND(H38<>"",J38<>""),1,0+OR(N(J37)<N(H37),F38="récupération",F38="congé 1 jour",F38="congé 1/2 jour ",F38="congé 5h24",F38="arrêt maladie",F38="arrêt travail",F38="férié ",F38="congé parentale",F38="congé de naissance")) -> 1 | AH38: J4 | AI38: à | AJ38: J5 | AK38: {=IF(ISNUMBER(G39),G39-_xlfn.AGGREGATE(14,6,(K$4:K38<G39)*K$4:K38,1),"")} -> 0.60902778 | AL38: =IF(ISNUMBER(AK38),ABS(IF(SUM(AK38-ref!E$9)>0,0,SUM(AK38-ref!E$9))),"") -> 0
B39: 1 | C39: travail | E39: =E38+1 -> 43855 | F39: travail | G39: =IF(AND(J39="",H39=""),"",E39+H39) -> 43855.381 | H39: 0.38125 | I39: =SUM(V39+AA39+AC39) -> 0.020833333 | J39: 0.90625 | K39: =IF(AND(H39="",J39=""),"",E39+J39+(H39>J39)) -> 43855.906 | L39: =IF(OR(F39="télétravail",F39="férié travaillé",F39="travail"),(J39-H39+IF(H39>J39,1)-I39),INDEX(ref!$E$22:'ref'!$E$37,MATCH(F39,gerald3,0))) -> 0.50416667 | M39: =IF(SUM(L39-ref!E$8)<0,0,SUM(L39-ref!E$8)) -> 0.0875 | N39: =L39-(hs!D38+hs!F38+hs!H38+hs!J38) -> -0.15625 | O39: =IF(OR(F39="férié travaillé",F39="travail",F39="asa",F39="rtt"),J39-H39+IF(H39>J39,1),INDEX(ref!$E$22:'ref'!$E$37,MATCH(F39,gerald2,0))) -> 0.525 | P39: =IF(SUM(O39-ref!E$4)<0,0,SUM(O39-ref!E$4)) -> 0.025 | Q39: =Q38+L39 -> 1.825 | T39: 0.56180556 | U39: 0.58263889 | V39: =U39-T39 -> 0.020833333 | W39: =IF(V39="","",IF(SUM(V39-ref!E$38)>0,0,IF(V39=0, "0:00", SUM(V39-ref!E$38)))) -> -0.010416667 | AA39: =Z39-Y39 -> 0 | AB39: =IF(AA39="","",IF(SUM(AA39-ref!E$38)>0,0,IF(AA39=0, "0:00", SUM(AA39-ref!E$38)))) -> 0:00 | AE39: H semaine hc de | AF39: =IF(AND(H39<>"",J39<>""),1,0+OR(N(J38)<N(H38),F39="récupération",F39="congé 1 jour",F39="congé 1/2 jour ",F39="congé 5h24",F39="arrêt maladie",F39="arrêt travail",F39="férié ",F39="congé parentale",F39="congé de naissance")) -> 1 | AH39: J5 | AI39: à | AJ39: J6 | AK39: {=IF(ISNUMBER(G40),G40-_xlfn.AGGREGATE(14,6,(K$4:K39<G40)*K$4:K39,1),"")} | AL39: =IF(ISNUMBER(AK39),ABS(IF(SUM(AK39-ref!E$9)>0,0,SUM(AK39-ref!E$9))),"")
E40: =E39+1 -> 43856 | F40: off | G40: =IF(AND(J40="",H40=""),"",E40+H40) | I40: =SUM(V40+AA40+AC40) -> 0 | K40: =IF(AND(H40="",J40=""),"",E40+J40+(H40>J40)) | L40: =IF(OR(F40="télétravail",F40="férié travaillé",F40="travail"),(J40-H40+IF(H40>J40,1)-I40),INDEX(ref!$E$22:'ref'!$E$37,MATCH(F40,gerald3,0))) -> 0 | M40: =IF(SUM(L40-ref!E$8)<0,0,SUM(L40-ref!E$8)) -> 0 | N40: =L40-(hs!D39+hs!F39+hs!H39+hs!J39) -> 0 | O40: =IF(OR(F40="férié travaillé",F40="travail",F40="asa",F40="rtt"),J40-H40+IF(H40>J40,1),INDEX(ref!$E$22:'ref'!$E$37,MATCH(F40,gerald2,0))) -> 0 | P40: =IF(SUM(O40-ref!E$4)<0,0,SUM(O40-ref!E$4)) -> 0 | Q40: =Q39+L40 -> 1.825 | V40: =U40-T40 -> 0 | W40: =IF(V40="","",IF(SUM(V40-ref!E$38)>0,0,IF(V40=0, "0:00", SUM(V40-ref!E$38)))) -> 0:00 | AA40: =Z40-Y40 -> 0 | AB40: =IF(AA40="","",IF(SUM(AA40-ref!E$38)>0,0,IF(AA40=0, "0:00", SUM(AA40-ref!E$38)))) -> 0:00 | AE40: =ref!E$11 -> 2 | AF40: =IF(AND(H40<>"",J40<>""),1,0+OR(N(J39)<N(H39),F40="récupération",F40="congé 1 jour",F40="congé 1/2 jour ",F40="congé 5h24",F40="arrêt maladie",F40="arrêt travail",F40="férié ",F40="congé parentale",F40="congé de naissance")) -> 0 | AH40: J6 | AI40: à | AJ40: J7 | AK40: {=IF(ISNUMBER(G41),G41-_xlfn.AGGREGATE(14,6,(K$4:K40<G41)*K$4:K40,1),"")} | AL40: =IF(ISNUMBER(AK40),ABS(IF(SUM(AK40-ref!E$9)>0,0,SUM(AK40-ref!E$9))),"")
E41: =E40+1 -> 43857 | F41: off | G41: =IF(AND(J41="",H41=""),"",E41+H41) | I41: =SUM(V41+AA41+AC41) -> 0 | K41: =IF(AND(H41="",J41=""),"",E41+J41+(H41>J41)) | L41: =IF(OR(F41="télétravail",F41="férié travaillé",F41="travail"),(J41-H41+IF(H41>J41,1)-I41),INDEX(ref!$E$22:'ref'!$E$37,MATCH(F41,gerald3,0))) -> 0 | M41: =IF(SUM(L41-ref!E$8)<0,0,SUM(L41-ref!E$8)) -> 0 | N41: =L41-(hs!D40+hs!F40+hs!H40+hs!J40) -> 0 | O41: =IF(OR(F41="férié travaillé",F41="travail",F41="asa",F41="rtt"),J41-H41+IF(H41>J41,1),INDEX(ref!$E$22:'ref'!$E$37,MATCH(F41,gerald2,0))) -> 0 | P41: =IF(SUM(O41-ref!E$4)<0,0,SUM(O41-ref!E$4)) -> 0 | Q41: =Q40+L41 -> 1.825 | V41: =U41-T41 -> 0 | W41: =IF(V41="","",IF(SUM(V41-ref!E$38)>0,0,IF(V41=0, "0:00", SUM(V41-ref!E$38)))) -> 0:00 | AA41: =Z41-Y41 -> 0 | AB41: =IF(AA41="","",IF(SUM(AA41-ref!E$38)>0,0,IF(AA41=0, "0:00", SUM(AA41-ref!E$38)))) -> 0:00 | AE41: =IF(SUM(Q41-ref!E$11)<0,0,SUM(Q41-ref!E$11)) -> 0 | AF41: =IF(AND(H41<>"",J41<>""),1,0+OR(N(J40)<N(H40),F41="récupération",F41="congé 1 jour",F41="congé 1/2 jour ",F41="congé 5h24",F41="arrêt maladie",F41="arrêt travail",F41="férié ",F41="congé parentale",F41="congé de naissance")) -> 0
B45: date | C45: travail | E45: =DATE(ref!E$2,B49,B47) -> 43858 | F45: travail | G45: =IF(AND(J45="",H45=""),"",E45+H45) -> 43858.386 | H45: 0.38611111 | I45: =SUM(V45+AA45+AC45) -> 0.045138889 | J45: 0.82638889 | K45: =IF(AND(H45="",J45=""),"",E45+J45+(H45>J45)) -> 43858.826 | L45: =IF(OR(F45="télétravail",F45="férié travaillé",F45="travail"),(J45-H45+IF(H45>J45,1)-I45),INDEX(ref!$E$22:'ref'!$E$37,MATCH(F45,gerald3,0))) -> 0.39513889 | M45: =IF(SUM(L45-ref!E$8)<0,0,SUM(L45-ref!E$8)) -> 0 | N45: =L45-(hs!D44+hs!F44+hs!H44+hs!J44) -> -0.10069444 | O45: =IF(OR(F45="férié travaillé",F45="travail",F45="asa",F45="rtt"),J45-H45+IF(H45>J45,1),INDEX(ref!$E$22:'ref'!$E$37,MATCH(F45,gerald2,0))) -> 0.44027778 | P45: =IF(SUM(O45-ref!E$4)<0,0,SUM(O45-ref!E$4)) -> 0 | Q45: =L45 -> 0.39513889 | T45: 0.52847222 | U45: 0.57361111 | V45: =U45-T45 -> 0.045138889 | W45: =IF(V45="","",IF(SUM(V45-ref!E$38)>0,0,IF(V45=0, "0:00", SUM(V45-ref!E$38)))) -> 0 | AA45: =Z45-Y45 -> 0 | AB45: =IF(AA45="","",IF(SUM(AA45-ref!E$38)>0,0,IF(AA45=0, "0:00", SUM(AA45-ref!E$38)))) -> 0:00 | AE45: =SUM(AF45:AF51) -> 5 | AF45: =IF(AND(H45<>"",J45<>""),1,0+OR(N(J44)<N(H44),F45="récupération",F45="congé 1 jour",F45="congé 1/2 jour ",F45="congé 5h24",F45="arrêt maladie",F45="arrêt travail",F45="férié ",F45="congé parentale",F45="congé de naissance")) -> 1 | AH45: J1 | AI45: à | AJ45: J2 | AK45: {=IF(ISNUMBER(G46),G46-_xlfn.AGGREGATE(14,6,(K$4:K45<G46)*K$4:K45,1),"")} -> 0.55277778 | AL45: =IF(ISNUMBER(AK45),ABS(IF(SUM(AK45-ref!E$9)>0,0,SUM(AK45-ref!E$9))),"") -> 0
B46: date | C46: travail | E46: =E45+1 -> 43859 | F46: travail | G46: =IF(AND(J46="",H46=""),"",E46+H46) -> 43859.379 | H46: 0.37916667 | I46: =SUM(V46+AA46+AC46) -> 0.034722222 | J46: 0.77013889 | K46: =IF(AND(H46="",J46=""),"",E46+J46+(H46>J46)) -> 43859.77 | L46: =IF(OR(F46="télétravail",F46="férié travaillé",F46="travail"),(J46-H46+IF(H46>J46,1)-I46),INDEX(ref!$E$22:'ref'!$E$37,MATCH(F46,gerald3,0))) -> 0.35625 | M46: =IF(SUM(L46-ref!E$8)<0,0,SUM(L46-ref!E$8)) -> 0 | N46: =L46-(hs!D45+hs!F45+hs!H45+hs!J45) -> -0.034722222 | O46: =IF(OR(F46="férié travaillé",F46="travail",F46="asa",F46="rtt"),J46-H46+IF(H46>J46,1),INDEX(ref!$E$22:'ref'!$E$37,MATCH(F46,gerald2,0))) -> 0.39097222 | P46: =IF(SUM(O46-ref!E$4)<0,0,SUM(O46-ref!E$4)) -> 0 | Q46: =Q45+L46 -> 0.75138889 | T46: 0.52083333 | U46: 0.55555556 | V46: =U46-T46 -> 0.034722222 | W46: =IF(V46="","",IF(SUM(V46-ref!E$38)>0,0,IF(V46=0, "0:00", SUM(V46-ref!E$38)))) -> 0 | AA46: =Z46-Y46 -> 0 | AB46: =IF(AA46="","",IF(SUM(AA46-ref!E$38)>0,0,IF(AA46=0, "0:00", SUM(AA46-ref!E$38)))) -> 0:00 | AE46: =IF(SUM(AE45-ref!E$7)<0,0,SUM(AE45-ref!E$7)) -> 0 | AF46: =IF(AND(H46<>"",J46<>""),1,0+OR(N(J45)<N(H45),F46="récupération",F46="congé 1 jour",F46="congé 1/2 jour ",F46="congé 5h24",F46="arrêt maladie",F46="arrêt travail",F46="férié ",F46="congé parentale",F46="congé de naissance")) -> 1 | AH46: J2 | AI46: à | AJ46: J3 | AK46: {=IF(ISNUMBER(G47),G47-_xlfn.AGGREGATE(14,6,(K$4:K46<G47)*K$4:K46,1),"")} -> 0.62916667 | AL46: =IF(ISNUMBER(AK46),ABS(IF(SUM(AK46-ref!E$9)>0,0,SUM(AK46-ref!E$9))),"") -> 0
B47: 29 | C47: travail | E47: =E46+1 -> 43860 | F47: travail | G47: =IF(AND(J47="",H47=""),"",E47+H47) -> 43860.399 | H47: 0.39930556 | I47: =SUM(V47+AA47+AC47) -> 0.034722222 | J47: 0.76597222 | K47: =IF(AND(H47="",J47=""),"",E47+J47+(H47>J47)) -> 43860.766 | L47: =IF(OR(F47="télétravail",F47="férié travaillé",F47="travail"),(J47-H47+IF(H47>J47,1)-I47),INDEX(ref!$E$22:'ref'!$E$37,MATCH(F47,gerald3,0))) -> 0.33194444 | M47: =IF(SUM(L47-ref!E$8)<0,0,SUM(L47-ref!E$8)) -> 0 | N47: =L47-(hs!D46+hs!F46+hs!H46+hs!J46) -> -0.034722222 | O47: =IF(OR(F47="férié travaillé",F47="travail",F47="asa",F47="rtt"),J47-H47+IF(H47>J47,1),INDEX(ref!$E$22:'ref'!$E$37,MATCH(F47,gerald2,0))) -> 0.36666667 | P47: =IF(SUM(O47-ref!E$4)<0,0,SUM(O47-ref!E$4)) -> 0 | Q47: =Q46+L47 -> 1.0833333 | T47: 0.52361111 | U47: 0.55833333 | V47: =U47-T47 -> 0.034722222 | W47: =IF(V47="","",IF(SUM(V47-ref!E$38)>0,0,IF(V47=0, "0:00", SUM(V47-ref!E$38)))) -> 0 | AA47: =Z47-Y47 -> 0 | AB47: =IF(AA47="","",IF(SUM(AA47-ref!E$38)>0,0,IF(AA47=0, "0:00", SUM(AA47-ref!E$38)))) -> 0:00 | AE47: H semaine | AF47: =IF(AND(H47<>"",J47<>""),1,0+OR(N(J46)<N(H46),F47="récupération",F47="congé 1 jour",F47="congé 1/2 jour ",F47="congé 5h24",F47="arrêt maladie",F47="arrêt travail",F47="férié ",F47="congé parentale",F47="congé de naissance")) -> 1 | AH47: J3 | AI47: à | AJ47: J4 | AK47: {=IF(ISNUMBER(G48),G48-_xlfn.AGGREGATE(14,6,(K$4:K47<G48)*K$4:K47,1),"")} -> 0.61111111 | AL47: =IF(ISNUMBER(AK47),ABS(IF(SUM(AK47-ref!E$9)>0,0,SUM(AK47-ref!E$9))),"") -> 0
B48: mois | C48: travail | E48: =E47+1 -> 43861 | F48: travail | G48: =IF(AND(J48="",H48=""),"",E48+H48) -> 43861.377 | H48: 0.37708333 | I48: =SUM(V48+AA48+AC48) -> 0.032638889 | J48: 0.84722222 | K48: =IF(AND(H48="",J48=""),"",E48+J48+(H48>J48)) -> 43861.847 | L48: =IF(OR(F48="télétravail",F48="férié travaillé",F48="travail"),(J48-H48+IF(H48>J48,1)-I48),INDEX(ref!$E$22:'ref'!$E$37,MATCH(F48,gerald3,0))) -> 0.4375 | M48: =IF(SUM(L48-ref!E$8)<0,0,SUM(L48-ref!E$8)) -> 0.020833333 | N48: =L48-(hs!D47+hs!F47+hs!H47+hs!J47) -> -0.10902778 | O48: =IF(OR(F48="férié travaillé",F48="travail",F48="asa",F48="rtt"),J48-H48+IF(H48>J48,1),INDEX(ref!$E$22:'ref'!$E$37,MATCH(F48,gerald2,0))) -> 0.47013889 | P48: =IF(SUM(O48-ref!E$4)<0,0,SUM(O48-ref!E$4)) -> 0 | Q48: =Q47+L48 -> 1.5208333 | T48: 0.52152778 | U48: 0.55416667 | V48: =U48-T48 -> 0.032638889 | W48: =IF(V48="","",IF(SUM(V48-ref!E$38)>0,0,IF(V48=0, "0:00", SUM(V48-ref!E$38)))) -> 0 | AA48: =Z48-Y48 -> 0 | AB48: =IF(AA48="","",IF(SUM(AA48-ref!E$38)>0,0,IF(AA48=0, "0:00", SUM(AA48-ref!E$38)))) -> 0:00 | AE48: =Q51 -> 1.8840278 | AF48: =IF(AND(H48<>"",J48<>""),1,0+OR(N(J47)<N(H47),F48="récupération",F48="congé 1 jour",F48="congé 1/2 jour ",F48="congé 5h24",F48="arrêt maladie",F48="arrêt travail",F48="férié ",F48="congé parentale",F48="congé de naissance")) -> 1 | AH48: J4 | AI48: à | AJ48: J5 | AK48: {=IF(ISNUMBER(G49),G49-_xlfn.AGGREGATE(14,6,(K$4:K48<G49)*K$4:K48,1),"")} -> 0.53125 | AL48: =IF(ISNUMBER(AK48),ABS(IF(SUM(AK48-ref!E$9)>0,0,SUM(AK48-ref!E$9))),"") -> 0
B49: 1 | C49: travail | E49: =E48+1 -> 43862 | F49: travail | G49: =IF(AND(J49="",H49=""),"",E49+H49) -> 43862.378 | H49: 0.37847222 | I49: =SUM(V49+AA49+AC49) -> 0.033333333 | J49: 0.775 | K49: =IF(AND(H49="",J49=""),"",E49+J49+(H49>J49)) -> 43862.775 | L49: =IF(OR(F49="télétravail",F49="férié travaillé",F49="travail"),(J49-H49+IF(H49>J49,1)-I49),INDEX(ref!$E$22:'ref'!$E$37,MATCH(F49,gerald3,0))) -> 0.36319444 | M49: =IF(SUM(L49-ref!E$8)<0,0,SUM(L49-ref!E$8)) -> 0 | N49: =L49-(hs!D48+hs!F48+hs!H48+hs!J48) -> -0.0375 | O49: =IF(OR(F49="férié travaillé",F49="travail",F49="asa",F49="rtt"),J49-H49+IF(H49>J49,1),INDEX(ref!$E$22:'ref'!$E$37,MATCH(F49,gerald2,0))) -> 0.39652778 | P49: =IF(SUM(O49-ref!E$4)<0,0,SUM(O49-ref!E$4)) -> 0 | Q49: =Q48+L49 -> 1.8840278 | T49: 0.50972222 | U49: 0.54305556 | V49: =U49-T49 -> 0.033333333 | W49: =IF(V49="","",IF(SUM(V49-ref!E$38)>0,0,IF(V49=0, "0:00", SUM(V49-ref!E$38)))) -> 0 | AA49: =Z49-Y49 -> 0 | AB49: =IF(AA49="","",IF(SUM(AA49-ref!E$38)>0,0,IF(AA49=0, "0:00", SUM(AA49-ref!E$38)))) -> 0:00 | AE49: H semaine hc de | AF49: =IF(AND(H49<>"",J49<>""),1,0+OR(N(J48)<N(H48),F49="récupération",F49="congé 1 jour",F49="congé 1/2 jour ",F49="congé 5h24",F49="arrêt maladie",F49="arrêt travail",F49="férié ",F49="congé parentale",F49="congé de naissance")) -> 1 | AH49: J5 | AI49: à | AJ49: J6 | AK49: {=IF(ISNUMBER(G50),G50-_xlfn.AGGREGATE(14,6,(K$4:K49<G50)*K$4:K49,1),"")} | AL49: =IF(ISNUMBER(AK49),ABS(IF(SUM(AK49-ref!E$9)>0,0,SUM(AK49-ref!E$9))),"")
E50: =E49+1 -> 43863 | F50: off | G50: =IF(AND(J50="",H50=""),"",E50+H50) | I50: =SUM(V50+AA50+AC50) -> 0 | K50: =IF(AND(H50="",J50=""),"",E50+J50+(H50>J50)) | L50: =IF(OR(F50="télétravail",F50="férié travaillé",F50="travail"),(J50-H50+IF(H50>J50,1)-I50),INDEX(ref!$E$22:'ref'!$E$37,MATCH(F50,gerald3,0))) -> 0 | M50: =IF(SUM(L50-ref!E$8)<0,0,SUM(L50-ref!E$8)) -> 0 | N50: =L50-(hs!D49+hs!F49+hs!H49+hs!J49) -> 0 | O50: =IF(OR(F50="férié travaillé",F50="travail",F50="asa",F50="rtt"),J50-H50+IF(H50>J50,1),INDEX(ref!$E$22:'ref'!$E$37,MATCH(F50,gerald2,0))) -> 0 | P50: =IF(SUM(O50-ref!E$4)<0,0,SUM(O50-ref!E$4)) -> 0 | Q50: =Q49+L50 -> 1.8840278 | V50: =U50-T50 -> 0 | W50: =IF(V50="","",IF(SUM(V50-ref!E$38)>0,0,IF(V50=0, "0:00", SUM(V50-ref!E$38)))) -> 0:00 | AA50: =Z50-Y50 -> 0 | AB50: =IF(AA50="","",IF(SUM(AA50-ref!E$38)>0,0,IF(AA50=0, "0:00", SUM(AA50-ref!E$38)))) -> 0:00 | AE50: =ref!E$11 -> 2 | AF50: =IF(AND(H50<>"",J50<>""),1,0+OR(N(J49)<N(H49),F50="récupération",F50="congé 1 jour",F50="congé 1/2 jour ",F50="congé 5h24",F50="arrêt maladie",F50="arrêt travail",F50="férié ",F50="congé parentale",F50="congé de naissance")) -> 0 | AH50: J6 | AI50: à | AJ50: J7 | AK50: {=IF(ISNUMBER(G51),G51-_xlfn.AGGREGATE(14,6,(K$4:K50<G51)*K$4:K50,1),"")} | AL50: =IF(ISNUMBER(AK50),ABS(IF(SUM(AK50-ref!E$9)>0,0,SUM(AK50-ref!E$9))),"")
E51: =E50+1 -> 43864 | F51: off | G51: =IF(AND(J51="",H51=""),"",E51+H51) | I51: =SUM(V51+AA51+AC51) -> 0 | K51: =IF(AND(H51="",J51=""),"",E51+J51+(H51>J51)) | L51: =IF(OR(F51="télétravail",F51="férié travaillé",F51="travail"),(J51-H51+IF(H51>J51,1)-I51),INDEX(ref!$E$22:'ref'!$E$37,MATCH(F51,gerald3,0))) -> 0 | M51: =IF(SUM(L51-ref!E$8)<0,0,SUM(L51-ref!E$8)) -> 0 | N51: =L51-(hs!D50+hs!F50+hs!H50+hs!J50) -> 0 | O51: =IF(OR(F51="férié travaillé",F51="travail",F51="asa",F51="rtt"),J51-H51+IF(H51>J51,1),INDEX(ref!$E$22:'ref'!$E$37,MATCH(F51,gerald2,0))) -> 0 | P51: =IF(SUM(O51-ref!E$4)<0,0,SUM(O51-ref!E$4)) -> 0 | Q51: =Q50+L51 -> 1.8840278 | V51: =U51-T51 -> 0 | W51: =IF(V51="","",IF(SUM(V51-ref!E$38)>0,0,IF(V51=0, "0:00", SUM(V51-ref!E$38)))) -> 0:00 | AA51: =Z51-Y51 -> 0 | AB51: =IF(AA51="","",IF(SUM(AA51-ref!E$38)>0,0,IF(AA51=0, "0:00", SUM(AA51-ref!E$38)))) -> 0:00 | AE51: =IF(SUM(Q51-ref!E$11)<0,0,SUM(Q51-ref!E$11)) -> 0 | AF51: =IF(AND(H51<>"",J51<>""),1,0+OR(N(J50)<N(H50),F51="récupération",F51="congé 1 jour",F51="congé 1/2 jour ",F51="congé 5h24",F51="arrêt maladie",F51="arrêt travail",F51="férié ",F51="congé parentale",F51="congé de naissance")) -> 0
B55: date | C55: travail | E55: =DATE(ref!E$2,B59,B57) -> 43865 | F55: travail | G55: =IF(AND(J55="",H55=""),"",E55+H55) -> 43865.378 | H55: 0.37777778 | I55: =SUM(V55+AA55+AC55) -> 0.033333333 | J55: 0.71388889 | K55: =IF(AND(H55="",J55=""),"",E55+J55+(H55>J55)) -> 43865.714 | L55: =IF(OR(F55="télétravail",F55="férié travaillé",F55="travail"),(J55-H55+IF(H55>J55,1)-I55),INDEX(ref!$E$22:'ref'!$E$37,MATCH(F55,gerald3,0))) -> 0.30277778 | M55: =IF(SUM(L55-ref!E$8)<0,0,SUM(L55-ref!E$8)) -> 0 | N55: =L55-(hs!D54+hs!F54+hs!H54+hs!J54) -> -0.033333333 | O55: =IF(OR(F55="férié travaillé",F55="travail",F55="asa",F55="rtt"),J55-H55+IF(H55>J55,1),INDEX(ref!$E$22:'ref'!$E$37,MATCH(F55,gerald2,0))) -> 0.33611111 | P55: =IF(SUM(O55-ref!E$4)<0,0,SUM(O55-ref!E$4)) -> 0 | Q55: =L55 -> 0.30277778 | T55: 0.51597222 | U55: 0.54930556 | V55: =U55-T55 -> 0.033333333 | W55: =IF(V55="","",IF(SUM(V55-ref!E$38)>0,0,IF(V55=0, "0:00", SUM(V55-ref!E$38)))) -> 0 | AA55: =Z55-Y55 -> 0 | AB55: =IF(AA55="","",IF(SUM(AA55-ref!E$38)>0,0,IF(AA55=0, "0:00", SUM(AA55-ref!E$38)))) -> 0:00 | AE55: =SUM(AF55:AF61) -> 5 | AF55: =IF(AND(H55<>"",J55<>""),1,0+OR(N(J54)<N(H54),F55="récupération",F55="congé 1 jour",F55="congé 1/2 jour ",F55="congé 5h24",F55="arrêt maladie",F55="arrêt travail",F55="férié ",F55="congé parentale",F55="congé de naissance")) -> 1 | AH55: J1 | AI55: à | AJ55: J2 | AK55: {=IF(ISNUMBER(G56),G56-_xlfn.AGGREGATE(14,6,(K$4:K55<G56)*K$4:K55,1),"")} -> 0.66597222 | AL55: =IF(ISNUMBER(AK55),ABS(IF(SUM(AK55-ref!E$9)>0,0,SUM(AK55-ref!E$9))),"") -> 0
B56: date | C56: travail | E56: =E55+1 -> 43866 | F56: travail | G56: =IF(AND(J56="",H56=""),"",E56+H56) -> 43866.38 | H56: 0.37986111 | I56: =SUM(V56+AA56+AC56) -> 0.03125 | J56: 0.83333333 | K56: =IF(AND(H56="",J56=""),"",E56+J56+(H56>J56)) -> 43866.833 | L56: =IF(OR(F56="télétravail",F56="férié travaillé",F56="travail"),(J56-H56+IF(H56>J56,1)-I56),INDEX(ref!$E$22:'ref'!$E$37,MATCH(F56,gerald3,0))) -> 0.42222222 | M56: =IF(SUM(L56-ref!E$8)<0,0,SUM(L56-ref!E$8)) -> 0.0055555556 | N56: =L56-(hs!D55+hs!F55+hs!H55+hs!J55) -> -0.09375 | O56: =IF(OR(F56="férié travaillé",F56="travail",F56="asa",F56="rtt"),J56-H56+IF(H56>J56,1),INDEX(ref!$E$22:'ref'!$E$37,MATCH(F56,gerald2,0))) -> 0.45347222 | P56: =IF(SUM(O56-ref!E$4)<0,0,SUM(O56-ref!E$4)) -> 0 | Q56: =Q55+L56 -> 0.725 | T56: 0.54513889 | U56: 0.57638889 | V56: =U56-T56 -> 0.03125 | W56: =IF(V56="","",IF(SUM(V56-ref!E$38)>0,0,IF(V56=0, "0:00", SUM(V56-ref!E$38)))) -> 0 | AA56: =Z56-Y56 -> 0 | AB56: =IF(AA56="","",IF(SUM(AA56-ref!E$38)>0,0,IF(AA56=0, "0:00", SUM(AA56-ref!E$38)))) -> 0:00 | AE56: =IF(SUM(AE55-ref!E$7)<0,0,SUM(AE55-ref!E$7)) -> 0 | AF56: =IF(AND(H56<>"",J56<>""),1,0+OR(N(J55)<N(H55),F56="récupération",F56="congé 1 jour",F56="congé 1/2 jour ",F56="congé 5h24",F56="arrêt maladie",F56="arrêt travail",F56="férié ",F56="congé parentale",F56="congé de naissance")) -> 1 | AH56: J2 | AI56: à | AJ56: J3 | AK56: {=IF(ISNUMBER(G57),G57-_xlfn.AGGREGATE(14,6,(K$4:K56<G57)*K$4:K56,1),"")} -> 0.58333333 | AL56: =IF(ISNUMBER(AK56),ABS(IF(SUM(AK56-ref!E$9)>0,0,SUM(AK56-ref!E$9))),"") -> 0
