Workbook
Name gérald: ref!$D$22:$D$32
Name gérald1: ref!$D$22:$E$32
Name gerald2: ref!$D$22:$D$35
Name gerald3: ref!$D$22:$D$37
Name gérald4: ref!$D$21:$D$37

Sheet Bilan
B1: 2024
D5: jours et heures réels | F5: résultat Incovar | H5: Heures suplémentaires
D6: jours | E6: heures | F6: heures | H6: 18h30 à 22h | I6: =SUM('planning '!#REF!) -> #REF!
C7: travail | D7: =COUNTIF('planning '!$D$5:$D$14,C7) -> 7 | E7: =SUM('planning '!#REF!)-E16 -> #REF! | F7: =SUM('planning '!#REF!)-E16 -> #REF! | H7: 22h à 24 | I7: =SUM('planning '!#REF!) -> #REF! | L7: jour | M7: heure
C8: récupération | D8: =COUNTIF('planning '!$D$5:$D$14,C8) -> 0 | E8: =D8*ref!E$5 -> 0 | H8: 24h à 6h | I8: =SUM('planning '!#REF!) -> #REF! | K8: vscolaire | L8: =COUNTIF('planning '!#REF!,K8) -> #REF! | M8: =L8*ref!E$5 -> #REF!
C9: arrêt maladie | D9: =COUNTIF('planning '!$D$5:$D$14,C9) -> 0 | E9: =D9*ref!E$5 -> 0 | H9: dimanche | I9: =SUM('planning '!#REF!) -> #REF! | K9: travail | L9: =COUNTIF('planning '!#REF!,K9) -> #REF! | M9: =L9*ref!E$5 -> #REF!
C10: arrêt travail | D10: =COUNTIF('planning '!$D$5:$D$14,C10) -> 0 | E10: =D10*ref!E$5 -> 0 | H10: samedi | I10: =SUM('planning '!#REF!) -> #REF!
C11: férié | D11: =COUNTIF('planning '!$D$5:$D$14,C11) -> 0 | E11: =D11*ref!E$5 -> 0 | H11: heures + 35 | I11: =SUM('planning '!#REF!) -> #REF!
C12: férié travaillé | D12: =COUNTIF('planning '!$D$5:$D$14,C12) -> 0 | E12: =D12*ref!E$5 -> 0 | H12: jours fériés | I12: =SUM('planning '!#REF!) -> #REF!
C13: asa | D13: =COUNTIF('planning '!$D$5:$D$14,C13) -> 0 | E13: =D13*ref!E$5 -> 0
C14: télétravail | D14: =COUNTIF('planning '!$D$5:$D$14,C14) -> 0 | E14: =D14*ref!E$5 -> 0
C15: rtt | D15: =COUNTIF('planning '!$D$5:$D$14,C15) -> 0 | E15: =D15*ref!E$5 -> 0
C16: congé 1 jour | D16: =COUNTIF('planning '!$D$5:$D$14,C16) -> 0 | E16: =D16*ref!E$5 -> 0
C17: off | D17: =COUNTIF('planning '!$D$5:$D$14,C17) -> 0
C19: résultat en jour 366 | D19: =SUM(D7:D17) -> 7
G22: hs +35 / 25h par mois
E23: résultat des heures hors cadre pour 2024 | G23: mois | I23: hc de
E24: hc de | G24: janvier | H24: =SUMPRODUCT((YEAR('planning '!$C$5:$C$14)=ref!E$2)*(MONTH('planning '!$C$5:$C$14)=MONTH(1&G24))*('planning '!#REF!)) -> #REF! | I24: =IF(SUM(H24-ref!E$13)<0,0,SUM(H24-ref!E$13)) -> #REF!
D25: travail annuel +1607h | G25: février | H25: =SUMPRODUCT((YEAR('planning '!$C$5:$C$14)=ref!E$2)*(MONTH('planning '!$C$5:$C$14)=MONTH(1&G25))*('planning '!#REF!)) -> #REF! | I25: =IF(SUM(H25-ref!E$13)<0,0,SUM(H25-ref!E$13)) -> #REF!
D26: repas | E26: =SUM('planning '!#REF!)+('planning '!#REF!) -> #REF! | G26: mars | H26: =SUMPRODUCT((YEAR('planning '!$C$5:$C$14)=ref!E$2)*(MONTH('planning '!$C$5:$C$14)=MONTH(1&G26))*('planning '!#REF!)) -> #REF! | I26: =IF(SUM(H26-ref!E$13)<0,0,SUM(H26-ref!E$13)) -> #REF!
D27: jour +10 h | E27: =SUM('planning '!#REF!) -> #REF! | G27: avril | H27: =SUMPRODUCT((YEAR('planning '!$C$5:$C$14)=ref!E$2)*(MONTH('planning '!$C$5:$C$14)=MONTH(1&G27))*('planning '!#REF!)) -> #REF! | I27: =IF(SUM(H27-ref!E$13)<0,0,SUM(H27-ref!E$13)) -> #REF!
D28: amplitude jour +12 h | E28: =SUM('planning '!#REF!) -> #REF! | G28: mai | H28: =SUMPRODUCT((YEAR('planning '!$C$5:$C$14)=ref!E$2)*(MONTH('planning '!$C$5:$C$14)=MONTH(1&G28))*('planning '!#REF!)) -> #REF! | I28: =IF(SUM(H28-ref!E$13)<0,0,SUM(H28-ref!E$13)) -> #REF!
D29: jours hedbomadaire + 6 jours | E29: =SUM('planning '!#REF!+'planning '!#REF!+'planning '!#REF!+'planning '!#REF!+'planning '!#REF!+'planning '!#REF!+'planning '!#REF!+'planning '!#REF!+'planning '!#REF!+'planning '!#REF!+'planning '!#REF!+'planning '!#REF!+'planning '!#REF!+'planning '!#REF!+'planning '!#REF!+'planning '!#REF!+'planning '!#REF!+'planning '!#REF!+'planning '!#REF!+'planning '!#REF!+'planning '!#REF!+'planning '!#REF!+'planning '!#REF!+'planning '!#REF!+'planning '!#REF!+'planning '!#REF!+'planning '!#REF!+'planning '!#REF!+'planning '!#REF!+'planning '!#REF!+'planning '!#REF!+'planning '!#REF!+'planning '!#REF!+'planning '!#REF!+'planning '!#REF!+'planning '!#REF!+'planning '!#REF!+'planning '!#REF!+'planning '!#REF!+'planning '!#REF!+'planning '!#REF!+'planning '!#REF!+'planning '!#REF!+'planning '!#REF!+'planning '!#REF!+'planning '!#REF!+'planning '!#REF!+'planning '!#REF!) -> #REF! | G29: juin | H29: =SUMPRODUCT((YEAR('planning '!$C$5:$C$14)=ref!E$2)*(MONTH('planning '!$C$5:$C$14)=MONTH(1&G29))*('planning '!#REF!)) -> #REF! | I29: =IF(SUM(H29-ref!E$13)<0,0,SUM(H29-ref!E$13)) -> #REF!
D30: heures semaine + 48h | E30: ='planning '!#REF!+'planning '!#REF!+'planning '!#REF!+'planning '!#REF!+'planning '!#REF!+'planning '!#REF!+'planning '!#REF!+'planning '!#REF!+'planning '!#REF!+'planning '!#REF!+'planning '!#REF!+'planning '!#REF!+'planning '!#REF!+'planning '!#REF!+'planning '!#REF!+'planning '!#REF!+'planning '!#REF!+'planning '!#REF!+'planning '!#REF!+'planning '!#REF!+'planning '!#REF!+'planning '!#REF!+'planning '!#REF!+'planning '!#REF!+'planning '!#REF!+'planning '!#REF!+'planning '!#REF!+'planning '!#REF!+'planning '!#REF!+'planning '!#REF!+'planning '!#REF!+'planning '!#REF!+'planning '!#REF!+'planning '!#REF!+'planning '!#REF!+'planning '!#REF!+'planning '!#REF!+'planning '!#REF!+'planning '!#REF!+'planning '!#REF!+'planning '!#REF!+'planning '!#REF!+'planning '!#REF!+'planning '!#REF!+'planning '!#REF!+'planning '!#REF!+'planning '!#REF!+'planning '!#REF!+'planning '!#REF!+'planning '!#REF!+'planning '!#REF!+'planning '!#REF! -> #REF! | G30: juillet | H30: =SUMPRODUCT((YEAR('planning '!$C$5:$C$14)=ref!E$2)*(MONTH('planning '!$C$5:$C$14)=MONTH(1&G30))*('planning '!#REF!)) -> #REF! | I30: =IF(SUM(H30-ref!E$13)<0,0,SUM(H30-ref!E$13)) -> #REF!
D31: repos journalier | G31: août | H31: =SUMPRODUCT((YEAR('planning '!$C$5:$C$14)=ref!E$2)*(MONTH('planning '!$C$5:$C$14)=MONTH(1&G31))*('planning '!#REF!)) -> #REF! | I31: =IF(SUM(H31-ref!E$13)<0,0,SUM(H31-ref!E$13)) -> #REF!
D32: repos hebdomadaire | G32: septembre | H32: =SUMPRODUCT((YEAR('planning '!$C$5:$C$14)=ref!E$2)*(MONTH('planning '!$C$5:$C$14)=MONTH(1&G32))*('planning '!#REF!)) -> #REF! | I32: =IF(SUM(H32-ref!E$13)<0,0,SUM(H32-ref!E$13)) -> #REF!
G33: octobre | H33: =SUMPRODUCT((YEAR('planning '!$C$5:$C$14)=ref!E$2)*(MONTH('planning '!$C$5:$C$14)=MONTH(1&G33))*('planning '!#REF!)) -> #REF! | I33: =IF(SUM(H33-ref!E$13)<0,0,SUM(H33-ref!E$13)) -> #REF!
G34: novembre | H34: =SUMPRODUCT((YEAR('planning '!$C$5:$C$14)=ref!E$2)*(MONTH('planning '!$C$5:$C$14)=MONTH(1&G34))*('planning '!#REF!)) -> #REF! | I34: =IF(SUM(H34-ref!E$13)<0,0,SUM(H34-ref!E$13)) -> #REF!
G35: décembre | H35: =SUMPRODUCT((YEAR('planning '!$C$5:$C$14)=ref!E$2)*(MONTH('planning '!$C$5:$C$14)=MONTH(1&G35))*('planning '!#REF!)) -> #REF! | I35: =IF(SUM(H35-ref!E$13)<0,0,SUM(H35-ref!E$13)) -> #REF!
H37: h sup +37 2023 + 25h | I37: =SUM(H24:H35) -> #REF!
H38: h sup +37 / hc 2022 | I38: =SUM(I24:I35) -> #REF!

Sheet planning 
C3: jour | D3: type de journée | F3: Début | G3: Fin
B5: date | C5: =DATE(ref!E$2,B$9,B$7) -> 43830 | D5: travail | E5: =IF(AND(G5="",F5=""),"",C5+F5) | H5: =IF(AND(F5="",G5=""),"",C5+G5+(F5>G5)) | L5: repos hebdomadire | N5: 1.4583333
B6: date | C6: =C5+1 -> 43831 | D6: travail | E6: =IF(AND(G6="",F6=""),"",C6+F6) | H6: =IF(AND(F6="",G6=""),"",C6+G6+(F6>G6))
B7: 1 | C7: =C6+1 -> 43832 | D7: travail | E7: =IF(AND(G7="",F7=""),"",C7+F7) | H7: =IF(AND(F7="",G7=""),"",C7+G7+(F7>G7))
B8: mois | C8: =C7+1 -> 43833 | D8: travail | E8: =IF(AND(G8="",F8=""),"",C8+F8) | H8: =IF(AND(F8="",G8=""),"",C8+G8+(F8>G8))
B9: 1 | C9: =C8+1 -> 43834 | D9: travail | E9: =IF(AND(G9="",F9=""),"",C9+F9) | H9: =IF(AND(F9="",G9=""),"",C9+G9+(F9>G9))
C10: =C9+1 -> 43835 | D10: travail | E10: =IF(AND(G10="",F10=""),"",C10+F10) | H10: =IF(AND(F10="",G10=""),"",C10+G10+(F10>G10))
C11: =C10+1 -> 43836 | D11: travail | E11: =IF(AND(G11="",F11=""),"",C11+F11) | H11: =IF(AND(F11="",G11=""),"",C11+G11+(F11>G11))
O12: repos hebdomadaire - 35h
L13: Repos hebdomadaire | N13: =SMALL(E17:E23,1)-LOOKUP(SMALL(E17:E23,1),H5:H11) -> #N/A | O13: =IF(SUM(N13-ref!E$12)>0,0,SUM(N13-ref!E$12)) -> #N/A
C15: jour | D15: type de journée | F15: Début | G15: Fin
B17: date | C17: =DATE(ref!E$2,B21,B19) -> 43837 | D17: travail | E17: =IF(AND(G17="",F17=""),"",C17+F17) -> 43837.375 | F17: 0.375 | H17: =IF(AND(F17="",G17=""),"",C17+G17+(F17>G17)) -> 43838
B18: date | C18: =C17+1 -> 43838 | D18: travail | E18: =IF(AND(G18="",F18=""),"",C18+F18) | H18: =IF(AND(F18="",G18=""),"",C18+G18+(F18>G18))
B19: 8 | C19: =C18+1 -> 43839 | D19: travail | E19: =IF(AND(G19="",F19=""),"",C19+F19) | H19: =IF(AND(F19="",G19=""),"",C19+G19+(F19>G19))
B20: mois | C20: =C19+1 -> 43840 | D20: travail | E20: =IF(AND(G20="",F20=""),"",C20+F20) | H20: =IF(AND(F20="",G20=""),"",C20+G20+(F20>G20))
B21: 1 | C21: =C20+1 -> 43841 | D21: travail | E21: =IF(AND(G21="",F21=""),"",C21+F21) | H21: =IF(AND(F21="",G21=""),"",C21+G21+(F21>G21))
C22: =C21+1 -> 43842 | D22: travail | E22: =IF(AND(G22="",F22=""),"",C22+F22) | H22: =IF(AND(F22="",G22=""),"",C22+G22+(F22>G22))
C23: =C22+1 -> 43843 | D23: travail | E23: =IF(AND(G23="",F23=""),"",C23+F23) | H23: =IF(AND(F23="",G23=""),"",C23+G23+(F23>G23))

Sheet ref
D2: année | E2: 2024
D3: heures annueltravail | E3: 66.958333
D4: amplitude du temps | E4: 0.5
D5: heure jour | E5: 0.29166667
D6: jour semaine | E6: 5
D7: jour semaine maximun | E7: 6
D8: la durée de travail jour | E8: 0.41666667
D9: repos quotidien | E9: 0.45833333
D10: durée du travail hebdomadaire | E10: 1.4583333 | Q10: nuit | R10: dimanche
D11: durée du travail hebdomadaire max | E11: 2 | O11: 6 | P11: 0.1875 | Q11: 0.041666667
D12: repos hebdomadaire | E12: 1.4583333 | O12: 7 | P12: 0.125
D13: heures sup mensuel max par mois | E13: 1.0416667 | O13: 8 | P13: 0.12638889
D14: congés | E14: 7.7083333 | O14: 9 | P14: 0.42708333 | Q14: 0.048611111
D15: rtt | E15: 3.4166667 | O15: 10 | P15: 0.40555556 | R15: 0.40555556
D16: heures sup 1 à 25 | E16: 0.052083333 | O16: 12 | P16: 0.14583333 | Q16: 0.020833333
D17: début H nuit | E17: 22 | O17: 13 | P17: 0.16666667
D18: heures de nuit | E18: 0.10416667 | O18: 15 | P18: 0.19791667 | Q18: 0.052083333
D19: heures de dimanche | E19: 0.083333333 | O19: 20 | P19: 0.13541667
D20: heures de samedi | E20: 0.052083333 | O20: 21 | P20: 0.16666667 | Q20: 0.053472222
D21: Férié travaillé | E21: 0.069444444 | P21: =P11+P12+P13+P14+P15+P16+P17+P18+P19+P20 -> 2.0840278 | Q21: =Q11+Q12+Q13+Q14+Q15+Q16+Q17+Q18+Q19+Q20 -> 0.21666667 | R21: =R11+R12+R13+R14+R15+R16+R17+R18+R19+R20 -> 0.40555556
D22: off | E22: 0
D23: travail | E23: 0
D24: récupération | E24: =E5 -> 0.29166667
D25: congé 1 jour | E25: =E5 -> 0.29166667
D26: congé 1/2 jour | E26: 0.16388889
D27: congé 4H | E27: 0.16666667
D28: arrêt maladie | E28: =E5 -> 0.29166667
D29: arrêt travail | E29: =E5 -> 0.29166667
D30: férié | E30: =E5 -> 0.29166667
D31: télétravail | E31: 0
D32: férié travaillé | E32: 0
D33: congé parentale | E33: =E5 -> 0.29166667
D34: congé parentale week end | E34: 0
D35: congé de naissance | E35: =E5 -> 0.29166667
D36: autorisation d'absence | E36: =E5 -> 0.29166667
D37: rtt | E37: =E5 -> 0.29166667
D38: heure de pause repas | E38: 0.03125
