Workbook

Sheet base
D2: heures annueltravail | E2: 66.125 | F2: H travail + congés | G2: =SUM(travail!M3:M366)+O34 -> 2 | H2: jour travail | I2: =SUM(travail!H3:H366) -> 6 | K2: Congés | L2: 2017 | P2: J | R2: CP
D3: amplitude du temps | E3: 0.5 | F3: H travail | G3: =G2-M3 -> 2 | H3: jour récup | I3: =SUM(travail!D3:D366) -> 0 | L3: congés pris | M3: =SUM(I4*E4)+O34 -> 0 | R3: date | S3: Jour
D4: heure jour | E4: 0.3 | H4: jour congés | I4: =SUM(travail!C3:C366)+P34 -> 0 | L4: reste | M4: =E11-M3 -> 10.125 | S4: 1
D5: la durée de travail jour | E5: 0.41666667 | H5: congé CP | I5: =SUM(travail!E3:E366) -> 0 | S5: 2
D6: repos quotidien | E6: 0.45833333 | H6: férié | I6: =SUM(travail!F3:F366) -> 0 | S6: 3
D7: durée du travail hebdomadaire | E7: 1.5 | H7: férié travail | I7: =SUM(travail!G3:G366) -> 0
D8: durée du travail hebdomadaire max | E8: 2
D9: repos hebdomadaire | E9: 1.4583333
D10: heures sup mensuel max par mois | E10: 1.0416667 | H10: Total HC travail annuel | I10: =G3-E2 -> -64.125 | R10: date
D11: congés | E11: 10.125 | H11: Total HC travail jour | I11: =SUM(travail!O3:O366) -> 0 | S11: 1
D12: heures sup 1 à 14 | E12: 0.052083333 | H12: Total HC travail amplitude | I12: =SUM(travail!R3:R366) -> 0 | S12: 2
D13: heures sup 15 à 25 | E13: 0.0625 | H13: Total HC hedbomadaire | I13: =SUM(travail!V3:V366) -> 0 | S13: 3
D14: début H nuit | E14: 21 | H14: Toatl HC heure sup mois | I14: =SUM(K18:K29) -> 0 | S14: 4
D15: heures de nuit | E15: 0.10416667 | S15: 5
D16: heures de dimanche | E16: 0.083333333 | S16: 6
D17: Férié travaillé | E17: 0.083333333 | I17: H SUP | J17: HC | L17: récup | S17: 7
D18: récup 2016 | H18: janvier | I18: =SUM(travail!T3:T33) -> 0.54166667 | J18: =IF(I18<=E$10,"","hc") | K18: =IF(SUM(I18-E$10)<0,0,SUM(I18-E$10)) -> 0 | L18: =IF(I18<0.625,I18*$E$12,(0.583333*$E$12)+(I18-0.583333)*$E$13)*24 -> 0.67708333 | S18: 8
H19: février | I19: =SUM(travail!T34:T60) -> -0.20833333 | J19: =IF(I19<=E$10,"","hc") | K19: =IF(SUM(I19-E$10)<0,0,SUM(I19-E$10)) -> 0 | L19: =IF(I19<0.625,I19*$E$12,(0.583333*$E$12)+(I19-0.583333)*$E$13)*24 -> -0.26041667 | S19: 9
H20: mars | I20: =SUM(travail!T62:T92) -> -0.20833333 | J20: =IF(I20<=E$10,"","HC") | K20: =IF(SUM(I20-E$10)<0,0,SUM(I20-E$10)) -> 0 | L20: =IF(I20<0.625,I20*$E$12,(0.583333*$E$12)+(I20-0.583333)*$E$13)*24 -> -0.26041667 | S20: 10
F21: H récup | H21: avril | I21: =SUM(travail!T93:T122) -> 0 | J21: =IF(I21<=E$10,"","hc") | K21: =IF(SUM(I21-E$10)<0,0,SUM(I21-E$10)) -> 0 | L21: =IF(I21<0.625,I21*$E$12,(0.583333*$E$12)+(I21-0.583333)*$E$13)*24 -> 0 | S21: 11
E22: 1 à 25 | F22: =SUM(L18:L29) -> -0.36458333 | H22: mai | I22: =SUM(travail!T123:T153) -> 0.20833333 | J22: =IF(I22<=E$10,"","hc") | K22: =IF(SUM(I22-E$10)<0,0,SUM(I22-E$10)) -> 0 | L22: =IF(I22<0.625,I22*$E$12,(0.583333*$E$12)+(I22-0.583333)*$E$13)*24 -> 0.26041667
E23: nuit | F23: =SUM(travail!X3:X366)*E15*24 -> 0 | H23: juin | I23: =SUM(travail!T154:T183) -> 0 | J23: =IF(I23<=E$10,"","hc") | K23: =IF(SUM(I23-E$10)<0,0,SUM(I23-E$10)) -> 0 | L23: =IF(I23<0.625,I23*$E$12,(0.583333*$E$12)+(I23-0.583333)*$E$13)*24 -> 0
E24: dimanche | F24: =SUM(travail!Y3:Y366)*E16*24 -> 0 | H24: juillet | I24: =SUM(travail!T184:T214) -> -0.20833333 | J24: =IF(I24<=E$10,"","hc") | K24: =IF(SUM(I24-E$10)<0,0,SUM(I24-E$10)) -> 0 | L24: =IF(I24<0.625,I24*$E$12,(0.583333*$E$12)+(I24-0.583333)*$E$13)*24 -> -0.26041667
E25: férié | F25: =SUM(travail!Z3:Z366)*E17*24 -> 0 | H25: août | I25: =SUM(travail!T214:T245) -> 0 | J25: =IF(I25<=E$10,"","hc") | K25: =IF(SUM(I25-E$10)<0,0,SUM(I25-E$10)) -> 0 | L25: =IF(I25<0.625,I25*$E$12,(0.583333*$E$12)+(I25-0.583333)*$E$13)*24 -> 0
E26: HS 2016 | F26: =SUM(E18) -> 0 | H26: septembre | I26: =SUM(travail!T246:T275) -> 0 | J26: =IF(I26<=E$10,"","hc") | K26: =IF(SUM(I26-E$10)<0,0,SUM(I26-E$10)) -> 0 | L26: =IF(I26<0.625,I26*$E$12,(0.583333*$E$12)+(I26-0.583333)*$E$13)*24 -> 0
E27: Total | F27: =SUM(F22:F26) -> -0.36458333 | H27: octobre | I27: =SUM(travail!T276:T306) -> -0.20833333 | J27: =IF(I27<=E$10,"","hc") | K27: =IF(SUM(I27-E$10)<0,0,SUM(I27-E$10)) -> 0 | L27: =IF(I27<0.625,I27*$E$12,(0.583333*$E$12)+(I27-0.583333)*$E$13)*24 -> -0.26041667
F28: =SUM(travail!D3:D366)*E4 -> 0 | H28: novembre | I28: =SUM(travail!T307:T336) -> 0 | J28: =IF(I28<=E$10,"","hc") | K28: =IF(SUM(I28-E$10)<0,0,SUM(I28-E$10)) -> 0 | L28: =IF(I28<0.625,I28*$E$12,(0.583333*$E$12)+(I28-0.583333)*$E$13)*24 -> 0
E29: Résultat en H | F29: =F27-F28 -> -0.36458333 | H29: décembre | I29: =SUM(travail!T336:T366) -> -0.20833333 | J29: =IF(I29<=E$10,"","hc") | K29: =IF(SUM(I29-E$10)<0,0,SUM(I29-E$10)) -> 0 | L29: =IF(I29<0.625,I29*$E$12,(0.583333*$E$12)+(I29-0.583333)*$E$13)*24 -> -0.26041667
N34: total | O34: =SUM(O3:O16) -> 0 | P34: =SUM(P3:P33) -> 0

Sheet travail
A1: 2017
A2: jour | B2: date | C2: C | D2: R | E2: CP | F2: F | G2: FT | H2: J | I2: Début | J2: pause | K2: Fin | M2: h Jour | N2: HC | P2: h amp | Q2: HC | S2: H semaine | T2: HS semaine | U2: HC | X2: H nuit | Y2: H dim | Z2: H férié
A3: dimanche | B3: 41274 | L3: =C3+D3+E3+F3+G3+H3 -> 0 | M3: =K3-I3+IF(I3>K3,1)-J3+(E3*base!E$4)+(D3*base!E$4)+(C3*base!E$4)+(F3*base!E$4) -> 0 | N3: =IF(M3<=base!E$5,"","FAUX") | O3: =IF(SUM(M3-base!E$5)<0,0,SUM(M3-base!E$5)) -> 0 | P3: =K3-I3+IF(I3>K3,1) -> 0 | Q3: =IF(P3<=base!E$3,"","FAUX") | R3: =IF(SUM(P3-base!E$3)<0,0,SUM(P3-base!E$3)) -> 0 | S3: =L3*M3 -> 0 | T3: =IF(S3>("36:00"*1),S3-("36:00"*1),0) -> 0 | U3: =IF(travail!S3<=base!E$8,"","FAUX") | V3: =IF(SUM(S3-base!E$8)<0,0,SUM(S3-base!E$8)) -> 0 | X3: =IF(SUM(MOD(K3-I3,1)-IF(K3>I3,MAX(0,MIN(K3,base!E$14/24)-MAX(I3,7/24)),MAX(0,base!E$14/24-MAX(I3,7/24))+MAX(0,MIN(K3,base!E$14/24)-7/24)))<0,0,SUM(MOD(K3-I3,1)-IF(K3>I3,MAX(0,MIN(K3,base!E$14/24)-MAX(I3,7/24)),MAX(0,base!E$14/24-MAX(I3,7/24))+MAX(0,MIN(K3,base!E$14/24)-7/24)))) -> 0 | Y3: =M3 -> 0
A4: lundi | B4: 41275 | H4: 1 | I4: 0.375 | K4: 0.79166667 | L4: =C4+D4+E4+F4+G4+H4 -> 1 | M4: =K4-I4+IF(I4>K4,1)-J4+(E4*base!E$4)+(D4*base!E$4)+(C4*base!E$4)+(F4*base!E$4) -> 0.41666667 | N4: =IF(M4<=base!E$5,"","FAUX") | O4: =IF(SUM(M4-base!E$5)<0,0,SUM(M4-base!E$5)) -> 0 | P4: =K4-I4+IF(I4>K4,1) -> 0.41666667 | Q4: =IF(P4<=base!E$3,"","FAUX") | R4: =IF(SUM(P4-base!E$3)<0,0,SUM(P4-base!E$3)) -> 0 | S4: =L4*SUM(S3+M4) -> 0.41666667 | T4: =IF(S4>("36:00"*1),S4-("36:00"*1),0)-T3 -> 0 | U4: =IF(travail!S4<=base!E$8,"","FAUX") | V4: =IF(SUM(S4-base!E$8)<0,0,SUM(S4-base!E$8)) -> 0 | X4: =IF(SUM(MOD(K4-I4,1)-IF(K4>I4,MAX(0,MIN(K4,base!E$14/24)-MAX(I4,7/24)),MAX(0,base!E$14/24-MAX(I4,7/24))+MAX(0,MIN(K4,base!E$14/24)-7/24)))<0,0,SUM(MOD(K4-I4,1)-IF(K4>I4,MAX(0,MIN(K4,base!E$14/24)-MAX(I4,7/24)),MAX(0,base!E$14/24-MAX(I4,7/24))+MAX(0,MIN(K4,base!E$14/24)-7/24)))) -> 0 | Z4: =M4*G4*1 -> 0
A5: mardi | B5: 41276 | H5: 1 | I5: 0.375 | K5: 0.79166667 | L5: =C5+D5+E5+F5+G5+H5 -> 1 | M5: =K5-I5+IF(I5>K5,1)-J5+(E5*base!E$4)+(D5*base!E$4)+(C5*base!E$4)+(F5*base!E$4) -> 0.41666667 | N5: =IF(M5<=base!E$5,"","FAUX") | O5: =IF(SUM(M5-base!E$5)<0,0,SUM(M5-base!E$5)) -> 0 | P5: =K5-I5+IF(I5>K5,1) -> 0.41666667 | Q5: =IF(P5<=base!E$3,"","FAUX") | R5: =IF(SUM(P5-base!E$3)<0,0,SUM(P5-base!E$3)) -> 0 | S5: =L5*SUM(S4+M5) -> 0.83333333 | T5: =IF(S5>("36:00"*1),S5-("36:00"*1),0)-T4 -> 0 | U5: =IF(travail!S5<=base!E$8,"","FAUX") | V5: =IF(SUM(S5-base!E$8)<0,0,SUM(S5-base!E$8)) -> 0 | X5: =IF(SUM(MOD(K5-I5,1)-IF(K5>I5,MAX(0,MIN(K5,base!E$14/24)-MAX(I5,7/24)),MAX(0,base!E$14/24-MAX(I5,7/24))+MAX(0,MIN(K5,base!E$14/24)-7/24)))<0,0,SUM(MOD(K5-I5,1)-IF(K5>I5,MAX(0,MIN(K5,base!E$14/24)-MAX(I5,7/24)),MAX(0,base!E$14/24-MAX(I5,7/24))+MAX(0,MIN(K5,base!E$14/24)-7/24)))) -> 0 | Z5: =M5*G5*1 -> 0
A6: mercredi | B6: 41277 | H6: 1 | I6: 0.375 | K6: 0.79166667 | L6: =C6+D6+E6+F6+G6+H6 -> 1 | M6: =K6-I6+IF(I6>K6,1)-J6+(E6*base!E$4)+(D6*base!E$4)+(C6*base!E$4)+(F6*base!E$4) -> 0.41666667 | N6: =IF(M6<=base!E$5,"","FAUX") | O6: =IF(SUM(M6-base!E$5)<0,0,SUM(M6-base!E$5)) -> 0 | P6: =K6-I6+IF(I6>K6,1) -> 0.41666667 | Q6: =IF(P6<=base!E$3,"","FAUX") | R6: =IF(SUM(P6-base!E$3)<0,0,SUM(P6-base!E$3)) -> 0 | S6: =L6*SUM(S5+M6) -> 1.25 | T6: =IF(S6>("36:00"*1),S6-("36:00"*1),0)-T5 -> 0 | U6: =IF(travail!S6<=base!E$8,"","FAUX") | V6: =IF(SUM(S6-base!E$8)<0,0,SUM(S6-base!E$8)) -> 0 | X6: =IF(SUM(MOD(K6-I6,1)-IF(K6>I6,MAX(0,MIN(K6,base!E$14/24)-MAX(I6,7/24)),MAX(0,base!E$14/24-MAX(I6,7/24))+MAX(0,MIN(K6,base!E$14/24)-7/24)))<0,0,SUM(MOD(K6-I6,1)-IF(K6>I6,MAX(0,MIN(K6,base!E$14/24)-MAX(I6,7/24)),MAX(0,base!E$14/24-MAX(I6,7/24))+MAX(0,MIN(K6,base!E$14/24)-7/24)))) -> 0 | Z6: =M6*G6*1 -> 0
A7: jeudi | B7: 41278 | H7: 1 | I7: 0.58333333 | K7: 0.875 | L7: =C7+D7+E7+F7+G7+H7 -> 1 | M7: =K7-I7+IF(I7>K7,1)-J7+(E7*base!E$4)+(D7*base!E$4)+(C7*base!E$4)+(F7*base!E$4) -> 0.29166667 | N7: =IF(M7<=base!E$5,"","FAUX") | O7: =IF(SUM(M7-base!E$5)<0,0,SUM(M7-base!E$5)) -> 0 | P7: =K7-I7+IF(I7>K7,1) -> 0.29166667 | Q7: =IF(P7<=base!E$3,"","FAUX") | R7: =IF(SUM(P7-base!E$3)<0,0,SUM(P7-base!E$3)) -> 0 | S7: =L7*SUM(S6+M7) -> 1.5416667 | T7: =IF(S7>("36:00"*1),S7-("36:00"*1),0)-T6 -> 0.041666667 | U7: =IF(travail!S7<=base!E$8,"","FAUX") | V7: =IF(SUM(S7-base!E$8)<0,0,SUM(S7-base!E$8)) -> 0 | X7: =IF(SUM(MOD(K7-I7,1)-IF(K7>I7,MAX(0,MIN(K7,base!E$14/24)-MAX(I7,7/24)),MAX(0,base!E$14/24-MAX(I7,7/24))+MAX(0,MIN(K7,base!E$14/24)-7/24)))<0,0,SUM(MOD(K7-I7,1)-IF(K7>I7,MAX(0,MIN(K7,base!E$14/24)-MAX(I7,7/24)),MAX(0,base!E$14/24-MAX(I7,7/24))+MAX(0,MIN(K7,base!E$14/24)-7/24)))) -> 0 | Z7: =M7*G7*1 -> 0
A8: vendredi | B8: 41279 | H8: 1 | I8: 0.58333333 | K8: 0.875 | L8: =C8+D8+E8+F8+G8+H8 -> 1 | M8: =K8-I8+IF(I8>K8,1)-J8+(E8*base!E$4)+(D8*base!E$4)+(C8*base!E$4)+(F8*base!E$4) -> 0.29166667 | N8: =IF(M8<=base!E$5,"","FAUX") | O8: =IF(SUM(M8-base!E$5)<0,0,SUM(M8-base!E$5)) -> 0 | P8: =K8-I8+IF(I8>K8,1) -> 0.29166667 | Q8: =IF(P8<=base!E$3,"","FAUX") | R8: =IF(SUM(P8-base!E$3)<0,0,SUM(P8-base!E$3)) -> 0 | S8: =L8*SUM(S7+M8) -> 1.8333333 | T8: =IF(S8>("36:00"*1),S8-("36:00"*1),0)-T7 -> 0.29166667 | U8: =IF(travail!S8<=base!E$8,"","FAUX") | V8: =IF(SUM(S8-base!E$8)<0,0,SUM(S8-base!E$8)) -> 0 | X8: =IF(SUM(MOD(K8-I8,1)-IF(K8>I8,MAX(0,MIN(K8,base!E$14/24)-MAX(I8,7/24)),MAX(0,base!E$14/24-MAX(I8,7/24))+MAX(0,MIN(K8,base!E$14/24)-7/24)))<0,0,SUM(MOD(K8-I8,1)-IF(K8>I8,MAX(0,MIN(K8,base!E$14/24)-MAX(I8,7/24)),MAX(0,base!E$14/24-MAX(I8,7/24))+MAX(0,MIN(K8,base!E$14/24)-7/24)))) -> 0 | Z8: =M8*G8*1 -> 0
A9: samedi | B9: 41280 | H9: 1 | I9: 0.58333333 | K9: 0.75 | L9: =C9+D9+E9+F9+G9+H9 -> 1 | M9: =K9-I9+IF(I9>K9,1)-J9+(E9*base!E$4)+(D9*base!E$4)+(C9*base!E$4)+(F9*base!E$4) -> 0.16666667 | N9: =IF(M9<=base!E$5,"","FAUX") | O9: =IF(SUM(M9-base!E$5)<0,0,SUM(M9-base!E$5)) -> 0 | P9: =K9-I9+IF(I9>K9,1) -> 0.16666667 | Q9: =IF(P9<=base!E$3,"","FAUX") | R9: =IF(SUM(P9-base!E$3)<0,0,SUM(P9-base!E$3)) -> 0 | S9: =L9*SUM(S8+M9) -> 2 | T9: =IF(S9>("36:00"*1),S9-("36:00"*1),0)-T8 -> 0.20833333 | U9: =IF(travail!S9<=base!E$8,"","FAUX") | V9: =IF(SUM(S9-base!E$8)<0,0,SUM(S9-base!E$8)) -> 0 | X9: =IF(SUM(MOD(K9-I9,1)-IF(K9>I9,MAX(0,MIN(K9,base!E$14/24)-MAX(I9,7/24)),MAX(0,base!E$14/24-MAX(I9,7/24))+MAX(0,MIN(K9,base!E$14/24)-7/24)))<0,0,SUM(MOD(K9-I9,1)-IF(K9>I9,MAX(0,MIN(K9,base!E$14/24)-MAX(I9,7/24)),MAX(0,base!E$14/24-MAX(I9,7/24))+MAX(0,MIN(K9,base!E$14/24)-7/24)))) -> 0
A10: dimanche | B10: 41281 | L10: =C10+D10+E10+F10+G10+H10 -> 0 | M10: =K10-I10+IF(I10>K10,1)-J10+(E10*base!E$4)+(D10*base!E$4)+(C10*base!E$4)+(F10*base!E$4) -> 0 | N10: =IF(M10<=base!E$5,"","FAUX") | O10: =IF(SUM(M10-base!E$5)<0,0,SUM(M10-base!E$5)) -> 0 | P10: =K10-I10+IF(I10>K10,1) -> 0 | Q10: =IF(P10<=base!E$3,"","FAUX") | R10: =IF(SUM(P10-base!E$3)<0,0,SUM(P10-base!E$3)) -> 0 | S10: =L10*SUM(S9+M10) -> 0 | T10: =IF(S10>("36:00"*1),S10-("36:00"*1),0)-T9 -> -0.20833333 | U10: =IF(travail!S10<=base!E$8,"","FAUX") | V10: =IF(SUM(S10-base!E$8)<0,0,SUM(S10-base!E$8)) -> 0 | X10: =IF(SUM(MOD(K10-I10,1)-IF(K10>I10,MAX(0,MIN(K10,base!E$14/24)-MAX(I10,7/24)),MAX(0,base!E$14/24-MAX(I10,7/24))+MAX(0,MIN(K10,base!E$14/24)-7/24)))<0,0,SUM(MOD(K10-I10,1)-IF(K10>I10,MAX(0,MIN(K10,base!E$14/24)-MAX(I10,7/24)),MAX(0,base!E$14/24-MAX(I10,7/24))+MAX(0,MIN(K10,base!E$14/24)-7/24)))) -> 0 | Y10: =M10 -> 0
A11: lundi | B11: 41282 | L11: =C11+D11+E11+F11+G11+H11 -> 0 | M11: =K11-I11+IF(I11>K11,1)-J11+(E11*base!E$4)+(D11*base!E$4)+(C11*base!E$4)+(F11*base!E$4) -> 0 | N11: =IF(M11<=base!E$5,"","FAUX") | O11: =IF(SUM(M11-base!E$5)<0,0,SUM(M11-base!E$5)) -> 0 | P11: =K11-I11+IF(I11>K11,1) -> 0 | Q11: =IF(P11<=base!E$3,"","FAUX") | R11: =IF(SUM(P11-base!E$3)<0,0,SUM(P11-base!E$3)) -> 0 | S11: =L11*SUM(S10+M11) -> 0 | T11: =IF(S11>("36:00"*1),S11-("36:00"*1),0)-T10 -> 0.20833333 | U11: =IF(travail!S11<=base!E$8,"","FAUX") | V11: =IF(SUM(S11-base!E$8)<0,0,SUM(S11-base!E$8)) -> 0 | X11: =IF(SUM(MOD(K11-I11,1)-IF(K11>I11,MAX(0,MIN(K11,base!E$14/24)-MAX(I11,7/24)),MAX(0,base!E$14/24-MAX(I11,7/24))+MAX(0,MIN(K11,base!E$14/24)-7/24)))<0,0,SUM(MOD(K11-I11,1)-IF(K11>I11,MAX(0,MIN(K11,base!E$14/24)-MAX(I11,7/24)),MAX(0,base!E$14/24-MAX(I11,7/24))+MAX(0,MIN(K11,base!E$14/24)-7/24)))) -> 0 | Z11: =M11*G11*1 -> 0
A12: mardi | B12: 41283 | L12: =C12+D12+E12+F12+G12+H12 -> 0 | M12: =K12-I12+IF(I12>K12,1)-J12+(E12*base!E$4)+(D12*base!E$4)+(C12*base!E$4)+(F12*base!E$4) -> 0 | N12: =IF(M12<=base!E$5,"","FAUX") | O12: =IF(SUM(M12-base!E$5)<0,0,SUM(M12-base!E$5)) -> 0 | P12: =K12-I12+IF(I12>K12,1) -> 0 | Q12: =IF(P12<=base!E$3,"","FAUX") | R12: =IF(SUM(P12-base!E$3)<0,0,SUM(P12-base!E$3)) -> 0 | S12: =L12*SUM(S11+M12) -> 0 | T12: =IF(S12>("36:00"*1),S12-("36:00"*1),0)-T11 -> -0.20833333 | U12: =IF(travail!S12<=base!E$8,"","FAUX") | V12: =IF(SUM(S12-base!E$8)<0,0,SUM(S12-base!E$8)) -> 0 | X12: =IF(SUM(MOD(K12-I12,1)-IF(K12>I12,MAX(0,MIN(K12,base!E$14/24)-MAX(I12,7/24)),MAX(0,base!E$14/24-MAX(I12,7/24))+MAX(0,MIN(K12,base!E$14/24)-7/24)))<0,0,SUM(MOD(K12-I12,1)-IF(K12>I12,MAX(0,MIN(K12,base!E$14/24)-MAX(I12,7/24)),MAX(0,base!E$14/24-MAX(I12,7/24))+MAX(0,MIN(K12,base!E$14/24)-7/24)))) -> 0 | Z12: =M12*G12*1 -> 0
A13: mercredi | B13: 41284 | L13: =C13+D13+E13+F13+G13+H13 -> 0 | M13: =K13-I13+IF(I13>K13,1)-J13+(E13*base!E$4)+(D13*base!E$4)+(C13*base!E$4)+(F13*base!E$4) -> 0 | N13: =IF(M13<=base!E$5,"","FAUX") | O13: =IF(SUM(M13-base!E$5)<0,0,SUM(M13-base!E$5)) -> 0 | P13: =K13-I13+IF(I13>K13,1) -> 0 | Q13: =IF(P13<=base!E$3,"","FAUX") | R13: =IF(SUM(P13-base!E$3)<0,0,SUM(P13-base!E$3)) -> 0 | S13: =L13*SUM(S12+M13) -> 0 | T13: =IF(S13>("36:00"*1),S13-("36:00"*1),0)-T12 -> 0.20833333 | U13: =IF(travail!S13<=base!E$8,"","FAUX") | V13: =IF(SUM(S13-base!E$8)<0,0,SUM(S13-base!E$8)) -> 0 | X13: =IF(SUM(MOD(K13-I13,1)-IF(K13>I13,MAX(0,MIN(K13,base!E$14/24)-MAX(I13,7/24)),MAX(0,base!E$14/24-MAX(I13,7/24))+MAX(0,MIN(K13,base!E$14/24)-7/24)))<0,0,SUM(MOD(K13-I13,1)-IF(K13>I13,MAX(0,MIN(K13,base!E$14/24)-MAX(I13,7/24)),MAX(0,base!E$14/24-MAX(I13,7/24))+MAX(0,MIN(K13,base!E$14/24)-7/24)))) -> 0 | Z13: =M13*G13*1 -> 0
A14: jeudi | B14: 41285 | L14: =C14+D14+E14+F14+G14+H14 -> 0 | M14: =K14-I14+IF(I14>K14,1)-J14+(E14*base!E$4)+(D14*base!E$4)+(C14*base!E$4)+(F14*base!E$4) -> 0 | N14: =IF(M14<=base!E$5,"","FAUX") | O14: =IF(SUM(M14-base!E$5)<0,0,SUM(M14-base!E$5)) -> 0 | P14: =K14-I14+IF(I14>K14,1) -> 0 | Q14: =IF(P14<=base!E$3,"","FAUX") | R14: =IF(SUM(P14-base!E$3)<0,0,SUM(P14-base!E$3)) -> 0 | S14: =L14*SUM(S13+M14) -> 0 | T14: =IF(S14>("36:00"*1),S14-("36:00"*1),0)-T13 -> -0.20833333 | U14: =IF(travail!S14<=base!E$8,"","FAUX") | V14: =IF(SUM(S14-base!E$8)<0,0,SUM(S14-base!E$8)) -> 0 | X14: =IF(SUM(MOD(K14-I14,1)-IF(K14>I14,MAX(0,MIN(K14,base!E$14/24)-MAX(I14,7/24)),MAX(0,base!E$14/24-MAX(I14,7/24))+MAX(0,MIN(K14,base!E$14/24)-7/24)))<0,0,SUM(MOD(K14-I14,1)-IF(K14>I14,MAX(0,MIN(K14,base!E$14/24)-MAX(I14,7/24)),MAX(0,base!E$14/24-MAX(I14,7/24))+MAX(0,MIN(K14,base!E$14/24)-7/24)))) -> 0 | Z14: =M14*G14*1 -> 0
A15: vendredi | B15: 41286 | L15: =C15+D15+E15+F15+G15+H15 -> 0 | M15: =K15-I15+IF(I15>K15,1)-J15+(E15*base!E$4)+(D15*base!E$4)+(C15*base!E$4)+(F15*base!E$4) -> 0 | N15: =IF(M15<=base!E$5,"","FAUX") | O15: =IF(SUM(M15-base!E$5)<0,0,SUM(M15-base!E$5)) -> 0 | P15: =K15-I15+IF(I15>K15,1) -> 0 | Q15: =IF(P15<=base!E$3,"","FAUX") | R15: =IF(SUM(P15-base!E$3)<0,0,SUM(P15-base!E$3)) -> 0 | S15: =L15*SUM(S14+M15) -> 0 | T15: =IF(S15>("36:00"*1),S15-("36:00"*1),0)-T14 -> 0.20833333 | U15: =IF(travail!S15<=base!E$8,"","FAUX") | V15: =IF(SUM(S15-base!E$8)<0,0,SUM(S15-base!E$8)) -> 0 | X15: =IF(SUM(MOD(K15-I15,1)-IF(K15>I15,MAX(0,MIN(K15,base!E$14/24)-MAX(I15,7/24)),MAX(0,base!E$14/24-MAX(I15,7/24))+MAX(0,MIN(K15,base!E$14/24)-7/24)))<0,0,SUM(MOD(K15-I15,1)-IF(K15>I15,MAX(0,MIN(K15,base!E$14/24)-MAX(I15,7/24)),MAX(0,base!E$14/24-MAX(I15,7/24))+MAX(0,MIN(K15,base!E$14/24)-7/24)))) -> 0 | Z15: =M15*G15*1 -> 0
A16: samedi | B16: 41287 | L16: =C16+D16+E16+F16+G16+H16 -> 0 | M16: =K16-I16+IF(I16>K16,1)-J16+(E16*base!E$4)+(D16*base!E$4)+(C16*base!E$4)+(F16*base!E$4) -> 0 | N16: =IF(M16<=base!E$5,"","FAUX") | O16: =IF(SUM(M16-base!E$5)<0,0,SUM(M16-base!E$5)) -> 0 | P16: =K16-I16+IF(I16>K16,1) -> 0 | Q16: =IF(P16<=base!E$3,"","FAUX") | R16: =IF(SUM(P16-base!E$3)<0,0,SUM(P16-base!E$3)) -> 0 | S16: =L16*SUM(S15+M16) -> 0 | T16: =IF(S16>("36:00"*1),S16-("36:00"*1),0)-T15 -> -0.20833333 | U16: =IF(travail!S16<=base!E$8,"","FAUX") | V16: =IF(SUM(S16-base!E$8)<0,0,SUM(S16-base!E$8)) -> 0 | X16: =IF(SUM(MOD(K16-I16,1)-IF(K16>I16,MAX(0,MIN(K16,base!E$14/24)-MAX(I16,7/24)),MAX(0,base!E$14/24-MAX(I16,7/24))+MAX(0,MIN(K16,base!E$14/24)-7/24)))<0,0,SUM(MOD(K16-I16,1)-IF(K16>I16,MAX(0,MIN(K16,base!E$14/24)-MAX(I16,7/24)),MAX(0,base!E$14/24-MAX(I16,7/24))+MAX(0,MIN(K16,base!E$14/24)-7/24)))) -> 0
A17: dimanche | B17: 41288 | L17: =C17+D17+E17+F17+G17+H17 -> 0 | M17: =K17-I17+IF(I17>K17,1)-J17+(E17*base!E$4)+(D17*base!E$4)+(C17*base!E$4)+(F17*base!E$4) -> 0 | N17: =IF(M17<=base!E$5,"","FAUX") | O17: =IF(SUM(M17-base!E$5)<0,0,SUM(M17-base!E$5)) -> 0 | P17: =K17-I17+IF(I17>K17,1) -> 0 | Q17: =IF(P17<=base!E$3,"","FAUX") | R17: =IF(SUM(P17-base!E$3)<0,0,SUM(P17-base!E$3)) -> 0 | S17: =L17*SUM(S16+M17) -> 0 | T17: =IF(S17>("36:00"*1),S17-("36:00"*1),0)-T16 -> 0.20833333 | U17: =IF(travail!S17<=base!E$8,"","FAUX") | V17: =IF(SUM(S17-base!E$8)<0,0,SUM(S17-base!E$8)) -> 0 | X17: =IF(SUM(MOD(K17-I17,1)-IF(K17>I17,MAX(0,MIN(K17,base!E$14/24)-MAX(I17,7/24)),MAX(0,base!E$14/24-MAX(I17,7/24))+MAX(0,MIN(K17,base!E$14/24)-7/24)))<0,0,SUM(MOD(K17-I17,1)-IF(K17>I17,MAX(0,MIN(K17,base!E$14/24)-MAX(I17,7/24)),MAX(0,base!E$14/24-MAX(I17,7/24))+MAX(0,MIN(K17,base!E$14/24)-7/24)))) -> 0 | Y17: =K17-I17+IF(I17>K17,1) -> 0
A18: lundi | B18: 41289 | L18: =C18+D18+E18+F18+G18+H18 -> 0 | M18: =K18-I18+IF(I18>K18,1)-J18+(E18*base!E$4)+(D18*base!E$4)+(C18*base!E$4)+(F18*base!E$4) -> 0 | N18: =IF(M18<=base!E$5,"","FAUX") | O18: =IF(SUM(M18-base!E$5)<0,0,SUM(M18-base!E$5)) -> 0 | P18: =K18-I18+IF(I18>K18,1) -> 0 | Q18: =IF(P18<=base!E$3,"","FAUX") | R18: =IF(SUM(P18-base!E$3)<0,0,SUM(P18-base!E$3)) -> 0 | S18: =L18*SUM(S17+M18) -> 0 | T18: =IF(S18>("36:00"*1),S18-("36:00"*1),0)-T17 -> -0.20833333 | U18: =IF(travail!S18<=base!E$8,"","FAUX") | V18: =IF(SUM(S18-base!E$8)<0,0,SUM(S18-base!E$8)) -> 0 | X18: =IF(SUM(MOD(K18-I18,1)-IF(K18>I18,MAX(0,MIN(K18,base!E$14/24)-MAX(I18,7/24)),MAX(0,base!E$14/24-MAX(I18,7/24))+MAX(0,MIN(K18,base!E$14/24)-7/24)))<0,0,SUM(MOD(K18-I18,1)-IF(K18>I18,MAX(0,MIN(K18,base!E$14/24)-MAX(I18,7/24)),MAX(0,base!E$14/24-MAX(I18,7/24))+MAX(0,MIN(K18,base!E$14/24)-7/24)))) -> 0 | Z18: =M18*G18*1 -> 0
A19: mardi | B19: 41290 | L19: =C19+D19+E19+F19+G19+H19 -> 0 | M19: =K19-I19+IF(I19>K19,1)-J19+(E19*base!E$4)+(D19*base!E$4)+(C19*base!E$4)+(F19*base!E$4) -> 0 | N19: =IF(M19<=base!E$5,"","FAUX") | O19: =IF(SUM(M19-base!E$5)<0,0,SUM(M19-base!E$5)) -> 0 | P19: =K19-I19+IF(I19>K19,1) -> 0 | Q19: =IF(P19<=base!E$3,"","FAUX") | R19: =IF(SUM(P19-base!E$3)<0,0,SUM(P19-base!E$3)) -> 0 | S19: =L19*SUM(S18+M19) -> 0 | T19: =IF(S19>("36:00"*1),S19-("36:00"*1),0)-T18 -> 0.20833333 | U19: =IF(travail!S19<=base!E$8,"","FAUX") | V19: =IF(SUM(S19-base!E$8)<0,0,SUM(S19-base!E$8)) -> 0 | X19: =IF(SUM(MOD(K19-I19,1)-IF(K19>I19,MAX(0,MIN(K19,base!E$14/24)-MAX(I19,7/24)),MAX(0,base!E$14/24-MAX(I19,7/24))+MAX(0,MIN(K19,base!E$14/24)-7/24)))<0,0,SUM(MOD(K19-I19,1)-IF(K19>I19,MAX(0,MIN(K19,base!E$14/24)-MAX(I19,7/24)),MAX(0,base!E$14/24-MAX(I19,7/24))+MAX(0,MIN(K19,base!E$14/24)-7/24)))) -> 0 | Z19: =M19*G19*1 -> 0
A20: mercredi | B20: 41291 | L20: =C20+D20+E20+F20+G20+H20 -> 0 | M20: =K20-I20+IF(I20>K20,1)-J20+(E20*base!E$4)+(D20*base!E$4)+(C20*base!E$4)+(F20*base!E$4) -> 0 | N20: =IF(M20<=base!E$5,"","FAUX") | O20: =IF(SUM(M20-base!E$5)<0,0,SUM(M20-base!E$5)) -> 0 | P20: =K20-I20+IF(I20>K20,1) -> 0 | Q20: =IF(P20<=base!E$3,"","FAUX") | R20: =IF(SUM(P20-base!E$3)<0,0,SUM(P20-base!E$3)) -> 0 | S20: =L20*SUM(S19+M20) -> 0 | T20: =IF(S20>("36:00"*1),S20-("36:00"*1),0)-T19 -> -0.20833333 | U20: =IF(travail!S20<=base!E$8,"","FAUX") | V20: =IF(SUM(S20-base!E$8)<0,0,SUM(S20-base!E$8)) -> 0 | X20: =IF(SUM(MOD(K20-I20,1)-IF(K20>I20,MAX(0,MIN(K20,base!E$14/24)-MAX(I20,7/24)),MAX(0,base!E$14/24-MAX(I20,7/24))+MAX(0,MIN(K20,base!E$14/24)-7/24)))<0,0,SUM(MOD(K20-I20,1)-IF(K20>I20,MAX(0,MIN(K20,base!E$14/24)-MAX(I20,7/24)),MAX(0,base!E$14/24-MAX(I20,7/24))+MAX(0,MIN(K20,base!E$14/24)-7/24)))) -> 0 | Z20: =M20*G20*1 -> 0
A21: jeudi | B21: 41292 | L21: =C21+D21+E21+F21+G21+H21 -> 0 | M21: =K21-I21+IF(I21>K21,1)-J21+(E21*base!E$4)+(D21*base!E$4)+(C21*base!E$4)+(F21*base!E$4) -> 0 | N21: =IF(M21<=base!E$5,"","FAUX") | O21: =IF(SUM(M21-base!E$5)<0,0,SUM(M21-base!E$5)) -> 0 | P21: =K21-I21+IF(I21>K21,1) -> 0 | Q21: =IF(P21<=base!E$3,"","FAUX") | R21: =IF(SUM(P21-base!E$3)<0,0,SUM(P21-base!E$3)) -> 0 | S21: =L21*SUM(S20+M21) -> 0 | T21: =IF(S21>("36:00"*1),S21-("36:00"*1),0)-T20 -> 0.20833333 | U21: =IF(travail!S21<=base!E$8,"","FAUX") | V21: =IF(SUM(S21-base!E$8)<0,0,SUM(S21-base!E$8)) -> 0 | X21: =IF(SUM(MOD(K21-I21,1)-IF(K21>I21,MAX(0,MIN(K21,base!E$14/24)-MAX(I21,7/24)),MAX(0,base!E$14/24-MAX(I21,7/24))+MAX(0,MIN(K21,base!E$14/24)-7/24)))<0,0,SUM(MOD(K21-I21,1)-IF(K21>I21,MAX(0,MIN(K21,base!E$14/24)-MAX(I21,7/24)),MAX(0,base!E$14/24-MAX(I21,7/24))+MAX(0,MIN(K21,base!E$14/24)-7/24)))) -> 0 | Z21: =M21*G21*1 -> 0
A22: vendredi | B22: 41293 | L22: =C22+D22+E22+F22+G22+H22 -> 0 | M22: =K22-I22+IF(I22>K22,1)-J22+(E22*base!E$4)+(D22*base!E$4)+(C22*base!E$4)+(F22*base!E$4) -> 0 | N22: =IF(M22<=base!E$5,"","FAUX") | O22: =IF(SUM(M22-base!E$5)<0,0,SUM(M22-base!E$5)) -> 0 | P22: =K22-I22+IF(I22>K22,1) -> 0 | Q22: =IF(P22<=base!E$3,"","FAUX") | R22: =IF(SUM(P22-base!E$3)<0,0,SUM(P22-base!E$3)) -> 0 | S22: =L22*SUM(S21+M22) -> 0 | T22: =IF(S22>("36:00"*1),S22-("36:00"*1),0)-T21 -> -0.20833333 | U22: =IF(travail!S22<=base!E$8,"","FAUX") | V22: =IF(SUM(S22-base!E$8)<0,0,SUM(S22-base!E$8)) -> 0 | X22: =IF(SUM(MOD(K22-I22,1)-IF(K22>I22,MAX(0,MIN(K22,base!E$14/24)-MAX(I22,7/24)),MAX(0,base!E$14/24-MAX(I22,7/24))+MAX(0,MIN(K22,base!E$14/24)-7/24)))<0,0,SUM(MOD(K22-I22,1)-IF(K22>I22,MAX(0,MIN(K22,base!E$14/24)-MAX(I22,7/24)),MAX(0,base!E$14/24-MAX(I22,7/24))+MAX(0,MIN(K22,base!E$14/24)-7/24)))) -> 0 | Z22: =M22*G22*1 -> 0
A23: samedi | B23: 41294 | L23: =C23+D23+E23+F23+G23+H23 -> 0 | M23: =K23-I23+IF(I23>K23,1)-J23+(E23*base!E$4)+(D23*base!E$4)+(C23*base!E$4)+(F23*base!E$4) -> 0 | N23: =IF(M23<=base!E$5,"","FAUX") | O23: =IF(SUM(M23-base!E$5)<0,0,SUM(M23-base!E$5)) -> 0 | P23: =K23-I23+IF(I23>K23,1) -> 0 | Q23: =IF(P23<=base!E$3,"","FAUX") | R23: =IF(SUM(P23-base!E$3)<0,0,SUM(P23-base!E$3)) -> 0 | S23: =L23*SUM(S22+M23) -> 0 | T23: =IF(S23>("36:00"*1),S23-("36:00"*1),0)-T22 -> 0.20833333 | U23: =IF(travail!S23<=base!E$8,"","FAUX") | V23: =IF(SUM(S23-base!E$8)<0,0,SUM(S23-base!E$8)) -> 0 | X23: =IF(SUM(MOD(K23-I23,1)-IF(K23>I23,MAX(0,MIN(K23,base!E$14/24)-MAX(I23,7/24)),MAX(0,base!E$14/24-MAX(I23,7/24))+MAX(0,MIN(K23,base!E$14/24)-7/24)))<0,0,SUM(MOD(K23-I23,1)-IF(K23>I23,MAX(0,MIN(K23,base!E$14/24)-MAX(I23,7/24)),MAX(0,base!E$14/24-MAX(I23,7/24))+MAX(0,MIN(K23,base!E$14/24)-7/24)))) -> 0
A24: dimanche | B24: 41295 | L24: =C24+D24+E24+F24+G24+H24 -> 0 | M24: =K24-I24+IF(I24>K24,1)-J24+(E24*base!E$4)+(D24*base!E$4)+(C24*base!E$4)+(F24*base!E$4) -> 0 | N24: =IF(M24<=base!E$5,"","FAUX") | O24: =IF(SUM(M24-base!E$5)<0,0,SUM(M24-base!E$5)) -> 0 | P24: =K24-I24+IF(I24>K24,1) -> 0 | Q24: =IF(P24<=base!E$3,"","FAUX") | R24: =IF(SUM(P24-base!E$3)<0,0,SUM(P24-base!E$3)) -> 0 | S24: =L24*SUM(S23+M24) -> 0 | T24: =IF(S24>("36:00"*1),S24-("36:00"*1),0)-T23 -> -0.20833333 | U24: =IF(travail!S24<=base!E$8,"","FAUX") | V24: =IF(SUM(S24-base!E$8)<0,0,SUM(S24-base!E$8)) -> 0 | X24: =IF(SUM(MOD(K24-I24,1)-IF(K24>I24,MAX(0,MIN(K24,base!E$14/24)-MAX(I24,7/24)),MAX(0,base!E$14/24-MAX(I24,7/24))+MAX(0,MIN(K24,base!E$14/24)-7/24)))<0,0,SUM(MOD(K24-I24,1)-IF(K24>I24,MAX(0,MIN(K24,base!E$14/24)-MAX(I24,7/24)),MAX(0,base!E$14/24-MAX(I24,7/24))+MAX(0,MIN(K24,base!E$14/24)-7/24)))) -> 0 | Y24: =M24 -> 0
A25: lundi | B25: 41296 | L25: =C25+D25+E25+F25+G25+H25 -> 0 | M25: =K25-I25+IF(I25>K25,1)-J25+(E25*base!E$4)+(D25*base!E$4)+(C25*base!E$4)+(F25*base!E$4) -> 0 | N25: =IF(M25<=base!E$5,"","FAUX") | O25: =IF(SUM(M25-base!E$5)<0,0,SUM(M25-base!E$5)) -> 0 | P25: =K25-I25+IF(I25>K25,1) -> 0 | Q25: =IF(P25<=base!E$3,"","FAUX") | R25: =IF(SUM(P25-base!E$3)<0,0,SUM(P25-base!E$3)) -> 0 | S25: =L25*SUM(S24+M25) -> 0 | T25: =IF(S25>("36:00"*1),S25-("36:00"*1),0)-T24 -> 0.20833333 | U25: =IF(travail!S25<=base!E$8,"","FAUX") | V25: =IF(SUM(S25-base!E$8)<0,0,SUM(S25-base!E$8)) -> 0 | X25: =IF(SUM(MOD(K25-I25,1)-IF(K25>I25,MAX(0,MIN(K25,base!E$14/24)-MAX(I25,7/24)),MAX(0,base!E$14/24-MAX(I25,7/24))+MAX(0,MIN(K25,base!E$14/24)-7/24)))<0,0,SUM(MOD(K25-I25,1)-IF(K25>I25,MAX(0,MIN(K25,base!E$14/24)-MAX(I25,7/24)),MAX(0,base!E$14/24-MAX(I25,7/24))+MAX(0,MIN(K25,base!E$14/24)-7/24)))) -> 0 | Z25: =M25*G25*1 -> 0
A26: mardi | B26: 41297 | L26: =C26+D26+E26+F26+G26+H26 -> 0 | M26: =K26-I26+IF(I26>K26,1)-J26+(E26*base!E$4)+(D26*base!E$4)+(C26*base!E$4)+(F26*base!E$4) -> 0 | N26: =IF(M26<=base!E$5,"","FAUX") | O26: =IF(SUM(M26-base!E$5)<0,0,SUM(M26-base!E$5)) -> 0 | P26: =K26-I26+IF(I26>K26,1) -> 0 | Q26: =IF(P26<=base!E$3,"","FAUX") | R26: =IF(SUM(P26-base!E$3)<0,0,SUM(P26-base!E$3)) -> 0 | S26: =L26*SUM(S25+M26) -> 0 | T26: =IF(S26>("36:00"*1),S26-("36:00"*1),0)-T25 -> -0.20833333 | U26: =IF(travail!S26<=base!E$8,"","FAUX") | V26: =IF(SUM(S26-base!E$8)<0,0,SUM(S26-base!E$8)) -> 0 | X26: =IF(SUM(MOD(K26-I26,1)-IF(K26>I26,MAX(0,MIN(K26,base!E$14/24)-MAX(I26,7/24)),MAX(0,base!E$14/24-MAX(I26,7/24))+MAX(0,MIN(K26,base!E$14/24)-7/24)))<0,0,SUM(MOD(K26-I26,1)-IF(K26>I26,MAX(0,MIN(K26,base!E$14/24)-MAX(I26,7/24)),MAX(0,base!E$14/24-MAX(I26,7/24))+MAX(0,MIN(K26,base!E$14/24)-7/24)))) -> 0 | Z26: =M26*G26*1 -> 0
A27: mercredi | B27: 41298 | L27: =C27+D27+E27+F27+G27+H27 -> 0 | M27: =K27-I27+IF(I27>K27,1)-J27+(E27*base!E$4)+(D27*base!E$4)+(C27*base!E$4)+(F27*base!E$4) -> 0 | N27: =IF(M27<=base!E$5,"","FAUX") | O27: =IF(SUM(M27-base!E$5)<0,0,SUM(M27-base!E$5)) -> 0 | P27: =K27-I27+IF(I27>K27,1) -> 0 | Q27: =IF(P27<=base!E$3,"","FAUX") | R27: =IF(SUM(P27-base!E$3)<0,0,SUM(P27-base!E$3)) -> 0 | S27: =L27*SUM(S26+M27) -> 0 | T27: =IF(S27>("36:00"*1),S27-("36:00"*1),0)-T26 -> 0.20833333 | U27: =IF(travail!S27<=base!E$8,"","FAUX") | V27: =IF(SUM(S27-base!E$8)<0,0,SUM(S27-base!E$8)) -> 0 | X27: =IF(SUM(MOD(K27-I27,1)-IF(K27>I27,MAX(0,MIN(K27,base!E$14/24)-MAX(I27,7/24)),MAX(0,base!E$14/24-MAX(I27,7/24))+MAX(0,MIN(K27,base!E$14/24)-7/24)))<0,0,SUM(MOD(K27-I27,1)-IF(K27>I27,MAX(0,MIN(K27,base!E$14/24)-MAX(I27,7/24)),MAX(0,base!E$14/24-MAX(I27,7/24))+MAX(0,MIN(K27,base!E$14/24)-7/24)))) -> 0 | Z27: =M27*G27*1 -> 0
A28: jeudi | B28: 41299 | L28: =C28+D28+E28+F28+G28+H28 -> 0 | M28: =K28-I28+IF(I28>K28,1)-J28+(E28*base!E$4)+(D28*base!E$4)+(C28*base!E$4)+(F28*base!E$4) -> 0 | N28: =IF(M28<=base!E$5,"","FAUX") | O28: =IF(SUM(M28-base!E$5)<0,0,SUM(M28-base!E$5)) -> 0 | P28: =K28-I28+IF(I28>K28,1) -> 0 | Q28: =IF(P28<=base!E$3,"","FAUX") | R28: =IF(SUM(P28-base!E$3)<0,0,SUM(P28-base!E$3)) -> 0 | S28: =L28*SUM(S27+M28) -> 0 | T28: =IF(S28>("36:00"*1),S28-("36:00"*1),0)-T27 -> -0.20833333 | U28: =IF(travail!S28<=base!E$8,"","FAUX") | V28: =IF(SUM(S28-base!E$8)<0,0,SUM(S28-base!E$8)) -> 0 | X28: =IF(SUM(MOD(K28-I28,1)-IF(K28>I28,MAX(0,MIN(K28,base!E$14/24)-MAX(I28,7/24)),MAX(0,base!E$14/24-MAX(I28,7/24))+MAX(0,MIN(K28,base!E$14/24)-7/24)))<0,0,SUM(MOD(K28-I28,1)-IF(K28>I28,MAX(0,MIN(K28,base!E$14/24)-MAX(I28,7/24)),MAX(0,base!E$14/24-MAX(I28,7/24))+MAX(0,MIN(K28,base!E$14/24)-7/24)))) -> 0 | Z28: =M28*G28*1 -> 0
A29: vendredi | B29: 41300 | L29: =C29+D29+E29+F29+G29+H29 -> 0 | M29: =K29-I29+IF(I29>K29,1)-J29+(E29*base!E$4)+(D29*base!E$4)+(C29*base!E$4)+(F29*base!E$4) -> 0 | N29: =IF(M29<=base!E$5,"","FAUX") | O29: =IF(SUM(M29-base!E$5)<0,0,SUM(M29-base!E$5)) -> 0 | P29: =K29-I29+IF(I29>K29,1) -> 0 | Q29: =IF(P29<=base!E$3,"","FAUX") | R29: =IF(SUM(P29-base!E$3)<0,0,SUM(P29-base!E$3)) -> 0 | S29: =L29*SUM(S28+M29) -> 0 | T29: =IF(S29>("36:00"*1),S29-("36:00"*1),0)-T28 -> 0.20833333 | U29: =IF(travail!S29<=base!E$8,"","FAUX") | V29: =IF(SUM(S29-base!E$8)<0,0,SUM(S29-base!E$8)) -> 0 | X29: =IF(SUM(MOD(K29-I29,1)-IF(K29>I29,MAX(0,MIN(K29,base!E$14/24)-MAX(I29,7/24)),MAX(0,base!E$14/24-MAX(I29,7/24))+MAX(0,MIN(K29,base!E$14/24)-7/24)))<0,0,SUM(MOD(K29-I29,1)-IF(K29>I29,MAX(0,MIN(K29,base!E$14/24)-MAX(I29,7/24)),MAX(0,base!E$14/24-MAX(I29,7/24))+MAX(0,MIN(K29,base!E$14/24)-7/24)))) -> 0 | Z29: =M29*G29*1 -> 0
A30: samedi | B30: 41301 | L30: =C30+D30+E30+F30+G30+H30 -> 0 | M30: =K30-I30+IF(I30>K30,1)-J30+(E30*base!E$4)+(D30*base!E$4)+(C30*base!E$4)+(F30*base!E$4) -> 0 | N30: =IF(M30<=base!E$5,"","FAUX") | O30: =IF(SUM(M30-base!E$5)<0,0,SUM(M30-base!E$5)) -> 0 | P30: =K30-I30+IF(I30>K30,1) -> 0 | Q30: =IF(P30<=base!E$3,"","FAUX") | R30: =IF(SUM(P30-base!E$3)<0,0,SUM(P30-base!E$3)) -> 0 | S30: =L30*SUM(S29+M30) -> 0 | T30: =IF(S30>("36:00"*1),S30-("36:00"*1),0)-T29 -> -0.20833333 | U30: =IF(travail!S30<=base!E$8,"","FAUX") | V30: =IF(SUM(S30-base!E$8)<0,0,SUM(S30-base!E$8)) -> 0 | X30: =IF(SUM(MOD(K30-I30,1)-IF(K30>I30,MAX(0,MIN(K30,base!E$14/24)-MAX(I30,7/24)),MAX(0,base!E$14/24-MAX(I30,7/24))+MAX(0,MIN(K30,base!E$14/24)-7/24)))<0,0,SUM(MOD(K30-I30,1)-IF(K30>I30,MAX(0,MIN(K30,base!E$14/24)-MAX(I30,7/24)),MAX(0,base!E$14/24-MAX(I30,7/24))+MAX(0,MIN(K30,base!E$14/24)-7/24)))) -> 0
A31: dimanche | B31: 41302 | L31: =C31+D31+E31+F31+G31+H31 -> 0 | M31: =K31-I31+IF(I31>K31,1)-J31+(E31*base!E$4)+(D31*base!E$4)+(C31*base!E$4)+(F31*base!E$4) -> 0 | N31: =IF(M31<=base!E$5,"","FAUX") | O31: =IF(SUM(M31-base!E$5)<0,0,SUM(M31-base!E$5)) -> 0 | P31: =K31-I31+IF(I31>K31,1) -> 0 | Q31: =IF(P31<=base!E$3,"","FAUX") | R31: =IF(SUM(P31-base!E$3)<0,0,SUM(P31-base!E$3)) -> 0 | S31: =L31*SUM(S30+M31) -> 0 | T31: =IF(S31>("36:00"*1),S31-("36:00"*1),0)-T30 -> 0.20833333 | U31: =IF(travail!S31<=base!E$8,"","FAUX") | V31: =IF(SUM(S31-base!E$8)<0,0,SUM(S31-base!E$8)) -> 0 | X31: =IF(SUM(MOD(K31-I31,1)-IF(K31>I31,MAX(0,MIN(K31,base!E$14/24)-MAX(I31,7/24)),MAX(0,base!E$14/24-MAX(I31,7/24))+MAX(0,MIN(K31,base!E$14/24)-7/24)))<0,0,SUM(MOD(K31-I31,1)-IF(K31>I31,MAX(0,MIN(K31,base!E$14/24)-MAX(I31,7/24)),MAX(0,base!E$14/24-MAX(I31,7/24))+MAX(0,MIN(K31,base!E$14/24)-7/24)))) -> 0 | Y31: =M31 -> 0
A32: lundi | B32: 41303 | L32: =C32+D32+E32+F32+G32+H32 -> 0 | M32: =K32-I32+IF(I32>K32,1)-J32+(E32*base!E$4)+(D32*base!E$4)+(C32*base!E$4)+(F32*base!E$4) -> 0 | N32: =IF(M32<=base!E$5,"","FAUX") | O32: =IF(SUM(M32-base!E$5)<0,0,SUM(M32-base!E$5)) -> 0 | P32: =K32-I32+IF(I32>K32,1) -> 0 | Q32: =IF(P32<=base!E$3,"","FAUX") | R32: =IF(SUM(P32-base!E$3)<0,0,SUM(P32-base!E$3)) -> 0 | S32: =L32*SUM(S31+M32) -> 0 | T32: =IF(S32>("36:00"*1),S32-("36:00"*1),0)-T31 -> -0.20833333 | U32: =IF(travail!S32<=base!E$8,"","FAUX") | V32: =IF(SUM(S32-base!E$8)<0,0,SUM(S32-base!E$8)) -> 0 | X32: =IF(SUM(MOD(K32-I32,1)-IF(K32>I32,MAX(0,MIN(K32,base!E$14/24)-MAX(I32,7/24)),MAX(0,base!E$14/24-MAX(I32,7/24))+MAX(0,MIN(K32,base!E$14/24)-7/24)))<0,0,SUM(MOD(K32-I32,1)-IF(K32>I32,MAX(0,MIN(K32,base!E$14/24)-MAX(I32,7/24)),MAX(0,base!E$14/24-MAX(I32,7/24))+MAX(0,MIN(K32,base!E$14/24)-7/24)))) -> 0 | Z32: =M32*G32*1 -> 0
A33: mardi | B33: 41304 | L33: =C33+D33+E33+F33+G33+H33 -> 0 | M33: =K33-I33+IF(I33>K33,1)-J33+(E33*base!E$4)+(D33*base!E$4)+(C33*base!E$4)+(F33*base!E$4) -> 0 | N33: =IF(M33<=base!E$5,"","FAUX") | O33: =IF(SUM(M33-base!E$5)<0,0,SUM(M33-base!E$5)) -> 0 | P33: =K33-I33+IF(I33>K33,1) -> 0 | Q33: =IF(P33<=base!E$3,"","FAUX") | R33: =IF(SUM(P33-base!E$3)<0,0,SUM(P33-base!E$3)) -> 0 | S33: =L33*SUM(S32+M33) -> 0 | T33: =IF(S33>("36:00"*1),S33-("36:00"*1),0)-T32 -> 0.20833333 | U33: =IF(travail!S33<=base!E$8,"","FAUX") | V33: =IF(SUM(S33-base!E$8)<0,0,SUM(S33-base!E$8)) -> 0 | X33: =IF(SUM(MOD(K33-I33,1)-IF(K33>I33,MAX(0,MIN(K33,base!E$14/24)-MAX(I33,7/24)),MAX(0,base!E$14/24-MAX(I33,7/24))+MAX(0,MIN(K33,base!E$14/24)-7/24)))<0,0,SUM(MOD(K33-I33,1)-IF(K33>I33,MAX(0,MIN(K33,base!E$14/24)-MAX(I33,7/24)),MAX(0,base!E$14/24-MAX(I33,7/24))+MAX(0,MIN(K33,base!E$14/24)-7/24)))) -> 0 | Z33: =M33*G33*1 -> 0
A34: mercredi | B34: 41305 | L34: =C34+D34+E34+F34+G34+H34 -> 0 | M34: =K34-I34+IF(I34>K34,1)-J34+(E34*base!E$4)+(D34*base!E$4)+(C34*base!E$4)+(F34*base!E$4) -> 0 | N34: =IF(M34<=base!E$5,"","FAUX") | O34: =IF(SUM(M34-base!E$5)<0,0,SUM(M34-base!E$5)) -> 0 | P34: =K34-I34+IF(I34>K34,1) -> 0 | Q34: =IF(P34<=base!E$3,"","FAUX") | R34: =IF(SUM(P34-base!E$3)<0,0,SUM(P34-base!E$3)) -> 0 | S34: =L34*SUM(S33+M34) -> 0 | T34: =IF(S34>("36:00"*1),S34-("36:00"*1),0)-T33 -> -0.20833333 | U34: =IF(travail!S34<=base!E$8,"","FAUX") | V34: =IF(SUM(S34-base!E$8)<0,0,SUM(S34-base!E$8)) -> 0 | X34: =IF(SUM(MOD(K34-I34,1)-IF(K34>I34,MAX(0,MIN(K34,base!E$14/24)-MAX(I34,7/24)),MAX(0,base!E$14/24-MAX(I34,7/24))+MAX(0,MIN(K34,base!E$14/24)-7/24)))<0,0,SUM(MOD(K34-I34,1)-IF(K34>I34,MAX(0,MIN(K34,base!E$14/24)-MAX(I34,7/24)),MAX(0,base!E$14/24-MAX(I34,7/24))+MAX(0,MIN(K34,base!E$14/24)-7/24)))) -> 0 | Z34: =M34*G34*1 -> 0
A35: jeudi | B35: 41306 | L35: =C35+D35+E35+F35+G35+H35 -> 0 | M35: =K35-I35+IF(I35>K35,1)-J35+(E35*base!E$4)+(D35*base!E$4)+(C35*base!E$4)+(F35*base!E$4) -> 0 | N35: =IF(M35<=base!E$5,"","FAUX") | O35: =IF(SUM(M35-base!E$5)<0,0,SUM(M35-base!E$5)) -> 0 | P35: =K35-I35+IF(I35>K35,1) -> 0 | Q35: =IF(P35<=base!E$3,"","FAUX") | R35: =IF(SUM(P35-base!E$3)<0,0,SUM(P35-base!E$3)) -> 0 | S35: =L35*SUM(S34+M35) -> 0 | T35: =IF(S35>("36:00"*1),S35-("36:00"*1),0)-T34 -> 0.20833333 | U35: =IF(travail!S35<=base!E$8,"","FAUX") | V35: =IF(SUM(S35-base!E$8)<0,0,SUM(S35-base!E$8)) -> 0 | X35: =IF(SUM(MOD(K35-I35,1)-IF(K35>I35,MAX(0,MIN(K35,base!E$14/24)-MAX(I35,7/24)),MAX(0,base!E$14/24-MAX(I35,7/24))+MAX(0,MIN(K35,base!E$14/24)-7/24)))<0,0,SUM(MOD(K35-I35,1)-IF(K35>I35,MAX(0,MIN(K35,base!E$14/24)-MAX(I35,7/24)),MAX(0,base!E$14/24-MAX(I35,7/24))+MAX(0,MIN(K35,base!E$14/24)-7/24)))) -> 0 | Z35: =M35*G35*1 -> 0
A36: vendredi | B36: 41307 | L36: =C36+D36+E36+F36+G36+H36 -> 0 | M36: =K36-I36+IF(I36>K36,1)-J36+(E36*base!E$4)+(D36*base!E$4)+(C36*base!E$4)+(F36*base!E$4) -> 0 | N36: =IF(M36<=base!E$5,"","FAUX") | O36: =IF(SUM(M36-base!E$5)<0,0,SUM(M36-base!E$5)) -> 0 | P36: =K36-I36+IF(I36>K36,1) -> 0 | Q36: =IF(P36<=base!E$3,"","FAUX") | R36: =IF(SUM(P36-base!E$3)<0,0,SUM(P36-base!E$3)) -> 0 | S36: =L36*SUM(S35+M36) -> 0 | T36: =IF(S36>("36:00"*1),S36-("36:00"*1),0)-T35 -> -0.20833333 | U36: =IF(travail!S36<=base!E$8,"","FAUX") | V36: =IF(SUM(S36-base!E$8)<0,0,SUM(S36-base!E$8)) -> 0 | X36: =IF(SUM(MOD(K36-I36,1)-IF(K36>I36,MAX(0,MIN(K36,base!E$14/24)-MAX(I36,7/24)),MAX(0,base!E$14/24-MAX(I36,7/24))+MAX(0,MIN(K36,base!E$14/24)-7/24)))<0,0,SUM(MOD(K36-I36,1)-IF(K36>I36,MAX(0,MIN(K36,base!E$14/24)-MAX(I36,7/24)),MAX(0,base!E$14/24-MAX(I36,7/24))+MAX(0,MIN(K36,base!E$14/24)-7/24)))) -> 0 | Z36: =M36*G36*1 -> 0
A37: samedi | B37: 41308 | L37: =C37+D37+E37+F37+G37+H37 -> 0 | M37: =K37-I37+IF(I37>K37,1)-J37+(E37*base!E$4)+(D37*base!E$4)+(C37*base!E$4)+(F37*base!E$4) -> 0 | N37: =IF(M37<=base!E$5,"","FAUX") | O37: =IF(SUM(M37-base!E$5)<0,0,SUM(M37-base!E$5)) -> 0 | P37: =K37-I37+IF(I37>K37,1) -> 0 | Q37: =IF(P37<=base!E$3,"","FAUX") | R37: =IF(SUM(P37-base!E$3)<0,0,SUM(P37-base!E$3)) -> 0 | S37: =L37*SUM(S36+M37) -> 0 | T37: =IF(S37>("36:00"*1),S37-("36:00"*1),0)-T36 -> 0.20833333 | U37: =IF(travail!S37<=base!E$8,"","FAUX") | V37: =IF(SUM(S37-base!E$8)<0,0,SUM(S37-base!E$8)) -> 0 | X37: =IF(SUM(MOD(K37-I37,1)-IF(K37>I37,MAX(0,MIN(K37,base!E$14/24)-MAX(I37,7/24)),MAX(0,base!E$14/24-MAX(I37,7/24))+MAX(0,MIN(K37,base!E$14/24)-7/24)))<0,0,SUM(MOD(K37-I37,1)-IF(K37>I37,MAX(0,MIN(K37,base!E$14/24)-MAX(I37,7/24)),MAX(0,base!E$14/24-MAX(I37,7/24))+MAX(0,MIN(K37,base!E$14/24)-7/24)))) -> 0
A38: dimanche | B38: 41309 | L38: =C38+D38+E38+F38+G38+H38 -> 0 | M38: =K38-I38+IF(I38>K38,1)-J38+(E38*base!E$4)+(D38*base!E$4)+(C38*base!E$4)+(F38*base!E$4) -> 0 | N38: =IF(M38<=base!E$5,"","FAUX") | O38: =IF(SUM(M38-base!E$5)<0,0,SUM(M38-base!E$5)) -> 0 | P38: =K38-I38+IF(I38>K38,1) -> 0 | Q38: =IF(P38<=base!E$3,"","FAUX") | R38: =IF(SUM(P38-base!E$3)<0,0,SUM(P38-base!E$3)) -> 0 | S38: =L38*SUM(S37+M38) -> 0 | T38: =IF(S38>("36:00"*1),S38-("36:00"*1),0)-T37 -> -0.20833333 | U38: =IF(travail!S38<=base!E$8,"","FAUX") | V38: =IF(SUM(S38-base!E$8)<0,0,SUM(S38-base!E$8)) -> 0 | X38: =IF(SUM(MOD(K38-I38,1)-IF(K38>I38,MAX(0,MIN(K38,base!E$14/24)-MAX(I38,7/24)),MAX(0,base!E$14/24-MAX(I38,7/24))+MAX(0,MIN(K38,base!E$14/24)-7/24)))<0,0,SUM(MOD(K38-I38,1)-IF(K38>I38,MAX(0,MIN(K38,base!E$14/24)-MAX(I38,7/24)),MAX(0,base!E$14/24-MAX(I38,7/24))+MAX(0,MIN(K38,base!E$14/24)-7/24)))) -> 0 | Y38: =M38 -> 0
A39: lundi | B39: 41310 | L39: =C39+D39+E39+F39+G39+H39 -> 0 | M39: =K39-I39+IF(I39>K39,1)-J39+(E39*base!E$4)+(D39*base!E$4)+(C39*base!E$4)+(F39*base!E$4) -> 0 | N39: =IF(M39<=base!E$5,"","FAUX") | O39: =IF(SUM(M39-base!E$5)<0,0,SUM(M39-base!E$5)) -> 0 | P39: =K39-I39+IF(I39>K39,1) -> 0 | Q39: =IF(P39<=base!E$3,"","FAUX") | R39: =IF(SUM(P39-base!E$3)<0,0,SUM(P39-base!E$3)) -> 0 | S39: =L39*SUM(S38+M39) -> 0 | T39: =IF(S39>("36:00"*1),S39-("36:00"*1),0)-T38 -> 0.20833333 | U39: =IF(travail!S39<=base!E$8,"","FAUX") | V39: =IF(SUM(S39-base!E$8)<0,0,SUM(S39-base!E$8)) -> 0 | X39: =IF(SUM(MOD(K39-I39,1)-IF(K39>I39,MAX(0,MIN(K39,base!E$14/24)-MAX(I39,7/24)),MAX(0,base!E$14/24-MAX(I39,7/24))+MAX(0,MIN(K39,base!E$14/24)-7/24)))<0,0,SUM(MOD(K39-I39,1)-IF(K39>I39,MAX(0,MIN(K39,base!E$14/24)-MAX(I39,7/24)),MAX(0,base!E$14/24-MAX(I39,7/24))+MAX(0,MIN(K39,base!E$14/24)-7/24)))) -> 0 | Z39: =M39*G39*1 -> 0
A40: mardi | B40: 41311 | L40: =C40+D40+E40+F40+G40+H40 -> 0 | M40: =K40-I40+IF(I40>K40,1)-J40+(E40*base!E$4)+(D40*base!E$4)+(C40*base!E$4)+(F40*base!E$4) -> 0 | N40: =IF(M40<=base!E$5,"","FAUX") | O40: =IF(SUM(M40-base!E$5)<0,0,SUM(M40-base!E$5)) -> 0 | P40: =K40-I40+IF(I40>K40,1) -> 0 | Q40: =IF(P40<=base!E$3,"","FAUX") | R40: =IF(SUM(P40-base!E$3)<0,0,SUM(P40-base!E$3)) -> 0 | S40: =L40*SUM(S39+M40) -> 0 | T40: =IF(S40>("36:00"*1),S40-("36:00"*1),0)-T39 -> -0.20833333 | U40: =IF(travail!S40<=base!E$8,"","FAUX") | V40: =IF(SUM(S40-base!E$8)<0,0,SUM(S40-base!E$8)) -> 0 | X40: =IF(SUM(MOD(K40-I40,1)-IF(K40>I40,MAX(0,MIN(K40,base!E$14/24)-MAX(I40,7/24)),MAX(0,base!E$14/24-MAX(I40,7/24))+MAX(0,MIN(K40,base!E$14/24)-7/24)))<0,0,SUM(MOD(K40-I40,1)-IF(K40>I40,MAX(0,MIN(K40,base!E$14/24)-MAX(I40,7/24)),MAX(0,base!E$14/24-MAX(I40,7/24))+MAX(0,MIN(K40,base!E$14/24)-7/24)))) -> 0 | Z40: =M40*G40*1 -> 0
A41: mercredi | B41: 41312 | L41: =C41+D41+E41+F41+G41+H41 -> 0 | M41: =K41-I41+IF(I41>K41,1)-J41+(E41*base!E$4)+(D41*base!E$4)+(C41*base!E$4)+(F41*base!E$4) -> 0 | N41: =IF(M41<=base!E$5,"","FAUX") | O41: =IF(SUM(M41-base!E$5)<0,0,SUM(M41-base!E$5)) -> 0 | P41: =K41-I41+IF(I41>K41,1) -> 0 | Q41: =IF(P41<=base!E$3,"","FAUX") | R41: =IF(SUM(P41-base!E$3)<0,0,SUM(P41-base!E$3)) -> 0 | S41: =L41*SUM(S40+M41) -> 0 | T41: =IF(S41>("36:00"*1),S41-("36:00"*1),0)-T40 -> 0.20833333 | U41: =IF(travail!S41<=base!E$8,"","FAUX") | V41: =IF(SUM(S41-base!E$8)<0,0,SUM(S41-base!E$8)) -> 0 | X41: =IF(SUM(MOD(K41-I41,1)-IF(K41>I41,MAX(0,MIN(K41,base!E$14/24)-MAX(I41,7/24)),MAX(0,base!E$14/24-MAX(I41,7/24))+MAX(0,MIN(K41,base!E$14/24)-7/24)))<0,0,SUM(MOD(K41-I41,1)-IF(K41>I41,MAX(0,MIN(K41,base!E$14/24)-MAX(I41,7/24)),MAX(0,base!E$14/24-MAX(I41,7/24))+MAX(0,MIN(K41,base!E$14/24)-7/24)))) -> 0 | Z41: =M41*G41*1 -> 0
A42: jeudi | B42: 41313 | L42: =C42+D42+E42+F42+G42+H42 -> 0 | M42: =K42-I42+IF(I42>K42,1)-J42+(E42*base!E$4)+(D42*base!E$4)+(C42*base!E$4)+(F42*base!E$4) -> 0 | N42: =IF(M42<=base!E$5,"","FAUX") | O42: =IF(SUM(M42-base!E$5)<0,0,SUM(M42-base!E$5)) -> 0 | P42: =K42-I42+IF(I42>K42,1) -> 0 | Q42: =IF(P42<=base!E$3,"","FAUX") | R42: =IF(SUM(P42-base!E$3)<0,0,SUM(P42-base!E$3)) -> 0 | S42: =L42*SUM(S41+M42) -> 0 | T42: =IF(S42>("36:00"*1),S42-("36:00"*1),0)-T41 -> -0.20833333 | U42: =IF(travail!S42<=base!E$8,"","FAUX") | V42: =IF(SUM(S42-base!E$8)<0,0,SUM(S42-base!E$8)) -> 0 | X42: =IF(SUM(MOD(K42-I42,1)-IF(K42>I42,MAX(0,MIN(K42,base!E$14/24)-MAX(I42,7/24)),MAX(0,base!E$14/24-MAX(I42,7/24))+MAX(0,MIN(K42,base!E$14/24)-7/24)))<0,0,SUM(MOD(K42-I42,1)-IF(K42>I42,MAX(0,MIN(K42,base!E$14/24)-MAX(I42,7/24)),MAX(0,base!E$14/24-MAX(I42,7/24))+MAX(0,MIN(K42,base!E$14/24)-7/24)))) -> 0 | Z42: =M42*G42*1 -> 0
A43: vendredi | B43: 41314 | L43: =C43+D43+E43+F43+G43+H43 -> 0 | M43: =K43-I43+IF(I43>K43,1)-J43+(E43*base!E$4)+(D43*base!E$4)+(C43*base!E$4)+(F43*base!E$4) -> 0 | N43: =IF(M43<=base!E$5,"","FAUX") | O43: =IF(SUM(M43-base!E$5)<0,0,SUM(M43-base!E$5)) -> 0 | P43: =K43-I43+IF(I43>K43,1) -> 0 | Q43: =IF(P43<=base!E$3,"","FAUX") | R43: =IF(SUM(P43-base!E$3)<0,0,SUM(P43-base!E$3)) -> 0 | S43: =L43*SUM(S42+M43) -> 0 | T43: =IF(S43>("36:00"*1),S43-("36:00"*1),0)-T42 -> 0.20833333 | U43: =IF(travail!S43<=base!E$8,"","FAUX") | V43: =IF(SUM(S43-base!E$8)<0,0,SUM(S43-base!E$8)) -> 0 | X43: =IF(SUM(MOD(K43-I43,1)-IF(K43>I43,MAX(0,MIN(K43,base!E$14/24)-MAX(I43,7/24)),MAX(0,base!E$14/24-MAX(I43,7/24))+MAX(0,MIN(K43,base!E$14/24)-7/24)))<0,0,SUM(MOD(K43-I43,1)-IF(K43>I43,MAX(0,MIN(K43,base!E$14/24)-MAX(I43,7/24)),MAX(0,base!E$14/24-MAX(I43,7/24))+MAX(0,MIN(K43,base!E$14/24)-7/24)))) -> 0 | Z43: =M43*G43*1 -> 0
A44: samedi | B44: 41315 | L44: =C44+D44+E44+F44+G44+H44 -> 0 | M44: =K44-I44+IF(I44>K44,1)-J44+(E44*base!E$4)+(D44*base!E$4)+(C44*base!E$4)+(F44*base!E$4) -> 0 | N44: =IF(M44<=base!E$5,"","FAUX") | O44: =IF(SUM(M44-base!E$5)<0,0,SUM(M44-base!E$5)) -> 0 | P44: =K44-I44+IF(I44>K44,1) -> 0 | Q44: =IF(P44<=base!E$3,"","FAUX") | R44: =IF(SUM(P44-base!E$3)<0,0,SUM(P44-base!E$3)) -> 0 | S44: =L44*SUM(S43+M44) -> 0 | T44: =IF(S44>("36:00"*1),S44-("36:00"*1),0)-T43 -> -0.20833333 | U44: =IF(travail!S44<=base!E$8,"","FAUX") | V44: =IF(SUM(S44-base!E$8)<0,0,SUM(S44-base!E$8)) -> 0 | X44: =IF(SUM(MOD(K44-I44,1)-IF(K44>I44,MAX(0,MIN(K44,base!E$14/24)-MAX(I44,7/24)),MAX(0,base!E$14/24-MAX(I44,7/24))+MAX(0,MIN(K44,base!E$14/24)-7/24)))<0,0,SUM(MOD(K44-I44,1)-IF(K44>I44,MAX(0,MIN(K44,base!E$14/24)-MAX(I44,7/24)),MAX(0,base!E$14/24-MAX(I44,7/24))+MAX(0,MIN(K44,base!E$14/24)-7/24)))) -> 0
A45: dimanche | B45: 41316 | L45: =C45+D45+E45+F45+G45+H45 -> 0 | M45: =K45-I45+IF(I45>K45,1)-J45+(E45*base!E$4)+(D45*base!E$4)+(C45*base!E$4)+(F45*base!E$4) -> 0 | N45: =IF(M45<=base!E$5,"","FAUX") | O45: =IF(SUM(M45-base!E$5)<0,0,SUM(M45-base!E$5)) -> 0 | P45: =K45-I45+IF(I45>K45,1) -> 0 | Q45: =IF(P45<=base!E$3,"","FAUX") | R45: =IF(SUM(P45-base!E$3)<0,0,SUM(P45-base!E$3)) -> 0 | S45: =L45*SUM(S44+M45) -> 0 | T45: =IF(S45>("36:00"*1),S45-("36:00"*1),0)-T44 -> 0.20833333 | U45: =IF(travail!S45<=base!E$8,"","FAUX") | V45: =IF(SUM(S45-base!E$8)<0,0,SUM(S45-base!E$8)) -> 0 | X45: =IF(SUM(MOD(K45-I45,1)-IF(K45>I45,MAX(0,MIN(K45,base!E$14/24)-MAX(I45,7/24)),MAX(0,base!E$14/24-MAX(I45,7/24))+MAX(0,MIN(K45,base!E$14/24)-7/24)))<0,0,SUM(MOD(K45-I45,1)-IF(K45>I45,MAX(0,MIN(K45,base!E$14/24)-MAX(I45,7/24)),MAX(0,base!E$14/24-MAX(I45,7/24))+MAX(0,MIN(K45,base!E$14/24)-7/24)))) -> 0 | Y45: =M45 -> 0
A46: lundi | B46: 41317 | L46: =C46+D46+E46+F46+G46+H46 -> 0 | M46: =K46-I46+IF(I46>K46,1)-J46+(E46*base!E$4)+(D46*base!E$4)+(C46*base!E$4)+(F46*base!E$4) -> 0 | N46: =IF(M46<=base!E$5,"","FAUX") | O46: =IF(SUM(M46-base!E$5)<0,0,SUM(M46-base!E$5)) -> 0 | P46: =K46-I46+IF(I46>K46,1) -> 0 | Q46: =IF(P46<=base!E$3,"","FAUX") | R46: =IF(SUM(P46-base!E$3)<0,0,SUM(P46-base!E$3)) -> 0 | S46: =L46*SUM(S45+M46) -> 0 | T46: =IF(S46>("36:00"*1),S46-("36:00"*1),0)-T45 -> -0.20833333 | U46: =IF(travail!S46<=base!E$8,"","FAUX") | V46: =IF(SUM(S46-base!E$8)<0,0,SUM(S46-base!E$8)) -> 0 | X46: =IF(SUM(MOD(K46-I46,1)-IF(K46>I46,MAX(0,MIN(K46,base!E$14/24)-MAX(I46,7/24)),MAX(0,base!E$14/24-MAX(I46,7/24))+MAX(0,MIN(K46,base!E$14/24)-7/24)))<0,0,SUM(MOD(K46-I46,1)-IF(K46>I46,MAX(0,MIN(K46,base!E$14/24)-MAX(I46,7/24)),MAX(0,base!E$14/24-MAX(I46,7/24))+MAX(0,MIN(K46,base!E$14/24)-7/24)))) -> 0 | Z46: =M46*G46*1 -> 0
A47: mardi | B47: 41318 | L47: =C47+D47+E47+F47+G47+H47 -> 0 | M47: =K47-I47+IF(I47>K47,1)-J47+(E47*base!E$4)+(D47*base!E$4)+(C47*base!E$4)+(F47*base!E$4) -> 0 | N47: =IF(M47<=base!E$5,"","FAUX") | O47: =IF(SUM(M47-base!E$5)<0,0,SUM(M47-base!E$5)) -> 0 | P47: =K47-I47+IF(I47>K47,1) -> 0 | Q47: =IF(P47<=base!E$3,"","FAUX") | R47: =IF(SUM(P47-base!E$3)<0,0,SUM(P47-base!E$3)) -> 0 | S47: =L47*SUM(S46+M47) -> 0 | T47: =IF(S47>("36:00"*1),S47-("36:00"*1),0)-T46 -> 0.20833333 | U47: =IF(travail!S47<=base!E$8,"","FAUX") | V47: =IF(SUM(S47-base!E$8)<0,0,SUM(S47-base!E$8)) -> 0 | X47: =IF(SUM(MOD(K47-I47,1)-IF(K47>I47,MAX(0,MIN(K47,base!E$14/24)-MAX(I47,7/24)),MAX(0,base!E$14/24-MAX(I47,7/24))+MAX(0,MIN(K47,base!E$14/24)-7/24)))<0,0,SUM(MOD(K47-I47,1)-IF(K47>I47,MAX(0,MIN(K47,base!E$14/24)-MAX(I47,7/24)),MAX(0,base!E$14/24-MAX(I47,7/24))+MAX(0,MIN(K47,base!E$14/24)-7/24)))) -> 0 | Z47: =M47*G47*1 -> 0
A48: mercredi | B48: 41319 | L48: =C48+D48+E48+F48+G48+H48 -> 0 | M48: =K48-I48+IF(I48>K48,1)-J48+(E48*base!E$4)+(D48*base!E$4)+(C48*base!E$4)+(F48*base!E$4) -> 0 | N48: =IF(M48<=base!E$5,"","FAUX") | O48: =IF(SUM(M48-base!E$5)<0,0,SUM(M48-base!E$5)) -> 0 | P48: =K48-I48+IF(I48>K48,1) -> 0 | Q48: =IF(P48<=base!E$3,"","FAUX") | R48: =IF(SUM(P48-base!E$3)<0,0,SUM(P48-base!E$3)) -> 0 | S48: =L48*SUM(S47+M48) -> 0 | T48: =IF(S48>("36:00"*1),S48-("36:00"*1),0)-T47 -> -0.20833333 | U48: =IF(travail!S48<=base!E$8,"","FAUX") | V48: =IF(SUM(S48-base!E$8)<0,0,SUM(S48-base!E$8)) -> 0 | X48: =IF(SUM(MOD(K48-I48,1)-IF(K48>I48,MAX(0,MIN(K48,base!E$14/24)-MAX(I48,7/24)),MAX(0,base!E$14/24-MAX(I48,7/24))+MAX(0,MIN(K48,base!E$14/24)-7/24)))<0,0,SUM(MOD(K48-I48,1)-IF(K48>I48,MAX(0,MIN(K48,base!E$14/24)-MAX(I48,7/24)),MAX(0,base!E$14/24-MAX(I48,7/24))+MAX(0,MIN(K48,base!E$14/24)-7/24)))) -> 0 | Z48: =M48*G48*1 -> 0
A49: jeudi | B49: 41320 | L49: =C49+D49+E49+F49+G49+H49 -> 0 | M49: =K49-I49+IF(I49>K49,1)-J49+(E49*base!E$4)+(D49*base!E$4)+(C49*base!E$4)+(F49*base!E$4) -> 0 | N49: =IF(M49<=base!E$5,"","FAUX") | O49: =IF(SUM(M49-base!E$5)<0,0,SUM(M49-base!E$5)) -> 0 | P49: =K49-I49+IF(I49>K49,1) -> 0 | Q49: =IF(P49<=base!E$3,"","FAUX") | R49: =IF(SUM(P49-base!E$3)<0,0,SUM(P49-base!E$3)) -> 0 | S49: =L49*SUM(S48+M49) -> 0 | T49: =IF(S49>("36:00"*1),S49-("36:00"*1),0)-T48 -> 0.20833333 | U49: =IF(travail!S49<=base!E$8,"","FAUX") | V49: =IF(SUM(S49-base!E$8)<0,0,SUM(S49-base!E$8)) -> 0 | X49: =IF(SUM(MOD(K49-I49,1)-IF(K49>I49,MAX(0,MIN(K49,base!E$14/24)-MAX(I49,7/24)),MAX(0,base!E$14/24-MAX(I49,7/24))+MAX(0,MIN(K49,base!E$14/24)-7/24)))<0,0,SUM(MOD(K49-I49,1)-IF(K49>I49,MAX(0,MIN(K49,base!E$14/24)-MAX(I49,7/24)),MAX(0,base!E$14/24-MAX(I49,7/24))+MAX(0,MIN(K49,base!E$14/24)-7/24)))) -> 0 | Z49: =M49*G49*1 -> 0
A50: vendredi | B50: 41321 | L50: =C50+D50+E50+F50+G50+H50 -> 0 | M50: =K50-I50+IF(I50>K50,1)-J50+(E50*base!E$4)+(D50*base!E$4)+(C50*base!E$4)+(F50*base!E$4) -> 0 | N50: =IF(M50<=base!E$5,"","FAUX") | O50: =IF(SUM(M50-base!E$5)<0,0,SUM(M50-base!E$5)) -> 0 | P50: =K50-I50+IF(I50>K50,1) -> 0 | Q50: =IF(P50<=base!E$3,"","FAUX") | R50: =IF(SUM(P50-base!E$3)<0,0,SUM(P50-base!E$3)) -> 0 | S50: =L50*SUM(S49+M50) -> 0 | T50: =IF(S50>("36:00"*1),S50-("36:00"*1),0)-T49 -> -0.20833333 | U50: =IF(travail!S50<=base!E$8,"","FAUX") | V50: =IF(SUM(S50-base!E$8)<0,0,SUM(S50-base!E$8)) -> 0 | X50: =IF(SUM(MOD(K50-I50,1)-IF(K50>I50,MAX(0,MIN(K50,base!E$14/24)-MAX(I50,7/24)),MAX(0,base!E$14/24-MAX(I50,7/24))+MAX(0,MIN(K50,base!E$14/24)-7/24)))<0,0,SUM(MOD(K50-I50,1)-IF(K50>I50,MAX(0,MIN(K50,base!E$14/24)-MAX(I50,7/24)),MAX(0,base!E$14/24-MAX(I50,7/24))+MAX(0,MIN(K50,base!E$14/24)-7/24)))) -> 0 | Z50: =M50*G50*1 -> 0
A51: samedi | B51: 41322 | L51: =C51+D51+E51+F51+G51+H51 -> 0 | M51: =K51-I51+IF(I51>K51,1)-J51+(E51*base!E$4)+(D51*base!E$4)+(C51*base!E$4)+(F51*base!E$4) -> 0 | N51: =IF(M51<=base!E$5,"","FAUX") | O51: =IF(SUM(M51-base!E$5)<0,0,SUM(M51-base!E$5)) -> 0 | P51: =K51-I51+IF(I51>K51,1) -> 0 | Q51: =IF(P51<=base!E$3,"","FAUX") | R51: =IF(SUM(P51-base!E$3)<0,0,SUM(P51-base!E$3)) -> 0 | S51: =L51*SUM(S50+M51) -> 0 | T51: =IF(S51>("36:00"*1),S51-("36:00"*1),0)-T50 -> 0.20833333 | U51: =IF(travail!S51<=base!E$8,"","FAUX") | V51: =IF(SUM(S51-base!E$8)<0,0,SUM(S51-base!E$8)) -> 0 | X51: =IF(SUM(MOD(K51-I51,1)-IF(K51>I51,MAX(0,MIN(K51,base!E$14/24)-MAX(I51,7/24)),MAX(0,base!E$14/24-MAX(I51,7/24))+MAX(0,MIN(K51,base!E$14/24)-7/24)))<0,0,SUM(MOD(K51-I51,1)-IF(K51>I51,MAX(0,MIN(K51,base!E$14/24)-MAX(I51,7/24)),MAX(0,base!E$14/24-MAX(I51,7/24))+MAX(0,MIN(K51,base!E$14/24)-7/24)))) -> 0
A52: dimanche | B52: 41323 | L52: =C52+D52+E52+F52+G52+H52 -> 0 | M52: =K52-I52+IF(I52>K52,1)-J52+(E52*base!E$4)+(D52*base!E$4)+(C52*base!E$4)+(F52*base!E$4) -> 0 | N52: =IF(M52<=base!E$5,"","FAUX") | O52: =IF(SUM(M52-base!E$5)<0,0,SUM(M52-base!E$5)) -> 0 | P52: =K52-I52+IF(I52>K52,1) -> 0 | Q52: =IF(P52<=base!E$3,"","FAUX") | R52: =IF(SUM(P52-base!E$3)<0,0,SUM(P52-base!E$3)) -> 0 | S52: =L52*SUM(S51+M52) -> 0 | T52: =IF(S52>("36:00"*1),S52-("36:00"*1),0)-T51 -> -0.20833333 | U52: =IF(travail!S52<=base!E$8,"","FAUX") | V52: =IF(SUM(S52-base!E$8)<0,0,SUM(S52-base!E$8)) -> 0 | X52: =IF(SUM(MOD(K52-I52,1)-IF(K52>I52,MAX(0,MIN(K52,base!E$14/24)-MAX(I52,7/24)),MAX(0,base!E$14/24-MAX(I52,7/24))+MAX(0,MIN(K52,base!E$14/24)-7/24)))<0,0,SUM(MOD(K52-I52,1)-IF(K52>I52,MAX(0,MIN(K52,base!E$14/24)-MAX(I52,7/24)),MAX(0,base!E$14/24-MAX(I52,7/24))+MAX(0,MIN(K52,base!E$14/24)-7/24)))) -> 0 | Y52: =M52 -> 0
A53: lundi | B53: 41324 | L53: =C53+D53+E53+F53+G53+H53 -> 0 | M53: =K53-I53+IF(I53>K53,1)-J53+(E53*base!E$4)+(D53*base!E$4)+(C53*base!E$4)+(F53*base!E$4) -> 0 | N53: =IF(M53<=base!E$5,"","FAUX") | O53: =IF(SUM(M53-base!E$5)<0,0,SUM(M53-base!E$5)) -> 0 | P53: =K53-I53+IF(I53>K53,1) -> 0 | Q53: =IF(P53<=base!E$3,"","FAUX") | R53: =IF(SUM(P53-base!E$3)<0,0,SUM(P53-base!E$3)) -> 0 | S53: =L53*SUM(S52+M53) -> 0 | T53: =IF(S53>("36:00"*1),S53-("36:00"*1),0)-T52 -> 0.20833333 | U53: =IF(travail!S53<=base!E$8,"","FAUX") | V53: =IF(SUM(S53-base!E$8)<0,0,SUM(S53-base!E$8)) -> 0 | X53: =IF(SUM(MOD(K53-I53,1)-IF(K53>I53,MAX(0,MIN(K53,base!E$14/24)-MAX(I53,7/24)),MAX(0,base!E$14/24-MAX(I53,7/24))+MAX(0,MIN(K53,base!E$14/24)-7/24)))<0,0,SUM(MOD(K53-I53,1)-IF(K53>I53,MAX(0,MIN(K53,base!E$14/24)-MAX(I53,7/24)),MAX(0,base!E$14/24-MAX(I53,7/24))+MAX(0,MIN(K53,base!E$14/24)-7/24)))) -> 0 | Z53: =M53*G53*1 -> 0
A54: mardi | B54: 41325 | L54: =C54+D54+E54+F54+G54+H54 -> 0 | M54: =K54-I54+IF(I54>K54,1)-J54+(E54*base!E$4)+(D54*base!E$4)+(C54*base!E$4)+(F54*base!E$4) -> 0 | N54: =IF(M54<=base!E$5,"","FAUX") | O54: =IF(SUM(M54-base!E$5)<0,0,SUM(M54-base!E$5)) -> 0 | P54: =K54-I54+IF(I54>K54,1) -> 0 | Q54: =IF(P54<=base!E$3,"","FAUX") | R54: =IF(SUM(P54-base!E$3)<0,0,SUM(P54-base!E$3)) -> 0 | S54: =L54*SUM(S53+M54) -> 0 | T54: =IF(S54>("36:00"*1),S54-("36:00"*1),0)-T53 -> -0.20833333 | U54: =IF(travail!S54<=base!E$8,"","FAUX") | V54: =IF(SUM(S54-base!E$8)<0,0,SUM(S54-base!E$8)) -> 0 | X54: =IF(SUM(MOD(K54-I54,1)-IF(K54>I54,MAX(0,MIN(K54,base!E$14/24)-MAX(I54,7/24)),MAX(0,base!E$14/24-MAX(I54,7/24))+MAX(0,MIN(K54,base!E$14/24)-7/24)))<0,0,SUM(MOD(K54-I54,1)-IF(K54>I54,MAX(0,MIN(K54,base!E$14/24)-MAX(I54,7/24)),MAX(0,base!E$14/24-MAX(I54,7/24))+MAX(0,MIN(K54,base!E$14/24)-7/24)))) -> 0 | Z54: =M54*G54*1 -> 0
A55: mercredi | B55: 41326 | L55: =C55+D55+E55+F55+G55+H55 -> 0 | M55: =K55-I55+IF(I55>K55,1)-J55+(E55*base!E$4)+(D55*base!E$4)+(C55*base!E$4)+(F55*base!E$4) -> 0 | N55: =IF(M55<=base!E$5,"","FAUX") | O55: =IF(SUM(M55-base!E$5)<0,0,SUM(M55-base!E$5)) -> 0 | P55: =K55-I55+IF(I55>K55,1) -> 0 | Q55: =IF(P55<=base!E$3,"","FAUX") | R55: =IF(SUM(P55-base!E$3)<0,0,SUM(P55-base!E$3)) -> 0 | S55: =L55*SUM(S54+M55) -> 0 | T55: =IF(S55>("36:00"*1),S55-("36:00"*1),0)-T54 -> 0.20833333 | U55: =IF(travail!S55<=base!E$8,"","FAUX") | V55: =IF(SUM(S55-base!E$8)<0,0,SUM(S55-base!E$8)) -> 0 | X55: =IF(SUM(MOD(K55-I55,1)-IF(K55>I55,MAX(0,MIN(K55,base!E$14/24)-MAX(I55,7/24)),MAX(0,base!E$14/24-MAX(I55,7/24))+MAX(0,MIN(K55,base!E$14/24)-7/24)))<0,0,SUM(MOD(K55-I55,1)-IF(K55>I55,MAX(0,MIN(K55,base!E$14/24)-MAX(I55,7/24)),MAX(0,base!E$14/24-MAX(I55,7/24))+MAX(0,MIN(K55,base!E$14/24)-7/24)))) -> 0 | Z55: =M55*G55*1 -> 0
A56: jeudi | B56: 41327 | L56: =C56+D56+E56+F56+G56+H56 -> 0 | M56: =K56-I56+IF(I56>K56,1)-J56+(E56*base!E$4)+(D56*base!E$4)+(C56*base!E$4)+(F56*base!E$4) -> 0 | N56: =IF(M56<=base!E$5,"","FAUX") | O56: =IF(SUM(M56-base!E$5)<0,0,SUM(M56-base!E$5)) -> 0 | P56: =K56-I56+IF(I56>K56,1) -> 0 | Q56: =IF(P56<=base!E$3,"","FAUX") | R56: =IF(SUM(P56-base!E$3)<0,0,SUM(P56-base!E$3)) -> 0 | S56: =L56*SUM(S55+M56) -> 0 | T56: =IF(S56>("36:00"*1),S56-("36:00"*1),0)-T55 -> -0.20833333 | U56: =IF(travail!S56<=base!E$8,"","FAUX") | V56: =IF(SUM(S56-base!E$8)<0,0,SUM(S56-base!E$8)) -> 0 | X56: =IF(SUM(MOD(K56-I56,1)-IF(K56>I56,MAX(0,MIN(K56,base!E$14/24)-MAX(I56,7/24)),MAX(0,base!E$14/24-MAX(I56,7/24))+MAX(0,MIN(K56,base!E$14/24)-7/24)))<0,0,SUM(MOD(K56-I56,1)-IF(K56>I56,MAX(0,MIN(K56,base!E$14/24)-MAX(I56,7/24)),MAX(0,base!E$14/24-MAX(I56,7/24))+MAX(0,MIN(K56,base!E$14/24)-7/24)))) -> 0 | Z56: =M56*G56*1 -> 0
A57: vendredi | B57: 41328 | L57: =C57+D57+E57+F57+G57+H57 -> 0 | M57: =K57-I57+IF(I57>K57,1)-J57+(E57*base!E$4)+(D57*base!E$4)+(C57*base!E$4)+(F57*base!E$4) -> 0 | N57: =IF(M57<=base!E$5,"","FAUX") | O57: =IF(SUM(M57-base!E$5)<0,0,SUM(M57-base!E$5)) -> 0 | P57: =K57-I57+IF(I57>K57,1) -> 0 | Q57: =IF(P57<=base!E$3,"","FAUX") | R57: =IF(SUM(P57-base!E$3)<0,0,SUM(P57-base!E$3)) -> 0 | S57: =L57*SUM(S56+M57) -> 0 | T57: =IF(S57>("36:00"*1),S57-("36:00"*1),0)-T56 -> 0.20833333 | U57: =IF(travail!S57<=base!E$8,"","FAUX") | V57: =IF(SUM(S57-base!E$8)<0,0,SUM(S57-base!E$8)) -> 0 | X57: =IF(SUM(MOD(K57-I57,1)-IF(K57>I57,MAX(0,MIN(K57,base!E$14/24)-MAX(I57,7/24)),MAX(0,base!E$14/24-MAX(I57,7/24))+MAX(0,MIN(K57,base!E$14/24)-7/24)))<0,0,SUM(MOD(K57-I57,1)-IF(K57>I57,MAX(0,MIN(K57,base!E$14/24)-MAX(I57,7/24)),MAX(0,base!E$14/24-MAX(I57,7/24))+MAX(0,MIN(K57,base!E$14/24)-7/24)))) -> 0 | Z57: =M57*G57*1 -> 0
A58: samedi | B58: 41329 | L58: =C58+D58+E58+F58+G58+H58 -> 0 | M58: =K58-I58+IF(I58>K58,1)-J58+(E58*base!E$4)+(D58*base!E$4)+(C58*base!E$4)+(F58*base!E$4) -> 0 | N58: =IF(M58<=base!E$5,"","FAUX") | O58: =IF(SUM(M58-base!E$5)<0,0,SUM(M58-base!E$5)) -> 0 | P58: =K58-I58+IF(I58>K58,1) -> 0 | Q58: =IF(P58<=base!E$3,"","FAUX") | R58: =IF(SUM(P58-base!E$3)<0,0,SUM(P58-base!E$3)) -> 0 | S58: =L58*SUM(S57+M58) -> 0 | T58: =IF(S58>("36:00"*1),S58-("36:00"*1),0)-T57 -> -0.20833333 | U58: =IF(travail!S58<=base!E$8,"","FAUX") | V58: =IF(SUM(S58-base!E$8)<0,0,SUM(S58-base!E$8)) -> 0 | X58: =IF(SUM(MOD(K58-I58,1)-IF(K58>I58,MAX(0,MIN(K58,base!E$14/24)-MAX(I58,7/24)),MAX(0,base!E$14/24-MAX(I58,7/24))+MAX(0,MIN(K58,base!E$14/24)-7/24)))<0,0,SUM(MOD(K58-I58,1)-IF(K58>I58,MAX(0,MIN(K58,base!E$14/24)-MAX(I58,7/24)),MAX(0,base!E$14/24-MAX(I58,7/24))+MAX(0,MIN(K58,base!E$14/24)-7/24)))) -> 0
A59: dimanche | B59: 41330 | L59: =C59+D59+E59+F59+G59+H59 -> 0 | M59: =K59-I59+IF(I59>K59,1)-J59+(E59*base!E$4)+(D59*base!E$4)+(C59*base!E$4)+(F59*base!E$4) -> 0 | N59: =IF(M59<=base!E$5,"","FAUX") | O59: =IF(SUM(M59-base!E$5)<0,0,SUM(M59-base!E$5)) -> 0 | P59: =K59-I59+IF(I59>K59,1) -> 0 | Q59: =IF(P59<=base!E$3,"","FAUX") | R59: =IF(SUM(P59-base!E$3)<0,0,SUM(P59-base!E$3)) -> 0 | S59: =L59*SUM(S58+M59) -> 0 | T59: =IF(S59>("36:00"*1),S59-("36:00"*1),0)-T58 -> 0.20833333 | U59: =IF(travail!S59<=base!E$8,"","FAUX") | V59: =IF(SUM(S59-base!E$8)<0,0,SUM(S59-base!E$8)) -> 0 | X59: =IF(SUM(MOD(K59-I59,1)-IF(K59>I59,MAX(0,MIN(K59,base!E$14/24)-MAX(I59,7/24)),MAX(0,base!E$14/24-MAX(I59,7/24))+MAX(0,MIN(K59,base!E$14/24)-7/24)))<0,0,SUM(MOD(K59-I59,1)-IF(K59>I59,MAX(0,MIN(K59,base!E$14/24)-MAX(I59,7/24)),MAX(0,base!E$14/24-MAX(I59,7/24))+MAX(0,MIN(K59,base!E$14/24)-7/24)))) -> 0 | Y59: =M59 -> 0
A60: lundi | B60: 41331 | L60: =C60+D60+E60+F60+G60+H60 -> 0 | M60: =K60-I60+IF(I60>K60,1)-J60+(E60*base!E$4)+(D60*base!E$4)+(C60*base!E$4)+(F60*base!E$4) -> 0 | N60: =IF(M60<=base!E$5,"","FAUX") | O60: =IF(SUM(M60-base!E$5)<0,0,SUM(M60-base!E$5)) -> 0 | P60: =K60-I60+IF(I60>K60,1) -> 0 | Q60: =IF(P60<=base!E$3,"","FAUX") | R60: =IF(SUM(P60-base!E$3)<0,0,SUM(P60-base!E$3)) -> 0 | S60: =L60*SUM(S59+M60) -> 0 | T60: =IF(S60>("36:00"*1),S60-("36:00"*1),0)-T59 -> -0.20833333 | U60: =IF(travail!S60<=base!E$8,"","FAUX") | V60: =IF(SUM(S60-base!E$8)<0,0,SUM(S60-base!E$8)) -> 0 | X60: =IF(SUM(MOD(K60-I60,1)-IF(K60>I60,MAX(0,MIN(K60,base!E$14/24)-MAX(I60,7/24)),MAX(0,base!E$14/24-MAX(I60,7/24))+MAX(0,MIN(K60,base!E$14/24)-7/24)))<0,0,SUM(MOD(K60-I60,1)-IF(K60>I60,MAX(0,MIN(K60,base!E$14/24)-MAX(I60,7/24)),MAX(0,base!E$14/24-MAX(I60,7/24))+MAX(0,MIN(K60,base!E$14/24)-7/24)))) -> 0 | Z60: =M60*G60*1 -> 0
A61: mardi | B61: 41332 | L61: =C61+D61+E61+F61+G61+H61 -> 0 | M61: =K61-I61+IF(I61>K61,1)-J61+(E61*base!E$4)+(D61*base!E$4)+(C61*base!E$4)+(F61*base!E$4) -> 0 | N61: =IF(M61<=base!E$5,"","FAUX") | O61: =IF(SUM(M61-base!E$5)<0,0,SUM(M61-base!E$5)) -> 0 | P61: =K61-I61+IF(I61>K61,1) -> 0 | Q61: =IF(P61<=base!E$3,"","FAUX") | R61: =IF(SUM(P61-base!E$3)<0,0,SUM(P61-base!E$3)) -> 0 | S61: =L61*SUM(S60+M61) -> 0 | T61: =IF(S61>("36:00"*1),S61-("36:00"*1),0)-T60 -> 0.20833333 | U61: =IF(travail!S61<=base!E$8,"","FAUX") | V61: =IF(SUM(S61-base!E$8)<0,0,SUM(S61-base!E$8)) -> 0 | X61: =IF(SUM(MOD(K61-I61,1)-IF(K61>I61,MAX(0,MIN(K61,base!E$14/24)-MAX(I61,7/24)),MAX(0,base!E$14/24-MAX(I61,7/24))+MAX(0,MIN(K61,base!E$14/24)-7/24)))<0,0,SUM(MOD(K61-I61,1)-IF(K61>I61,MAX(0,MIN(K61,base!E$14/24)-MAX(I61,7/24)),MAX(0,base!E$14/24-MAX(I61,7/24))+MAX(0,MIN(K61,base!E$14/24)-7/24)))) -> 0 | Z61: =M61*G61*1 -> 0
A62: mercredi | B62: 41333 | L62: =C62+D62+E62+F62+G62+H62 -> 0 | M62: =K62-I62+IF(I62>K62,1)-J62+(E62*base!E$4)+(D62*base!E$4)+(C62*base!E$4)+(F62*base!E$4) -> 0 | N62: =IF(M62<=base!E$5,"","FAUX") | O62: =IF(SUM(M62-base!E$5)<0,0,SUM(M62-base!E$5)) -> 0 | P62: =K62-I62+IF(I62>K62,1) -> 0 | Q62: =IF(P62<=base!E$3,"","FAUX") | R62: =IF(SUM(P62-base!E$3)<0,0,SUM(P62-base!E$3)) -> 0 | S62: =L62*SUM(S61+M62) -> 0 | T62: =IF(S62>("36:00"*1),S62-("36:00"*1),0)-T61 -> -0.20833333 | U62: =IF(travail!S62<=base!E$8,"","FAUX") | V62: =IF(SUM(S62-base!E$8)<0,0,SUM(S62-base!E$8)) -> 0 | X62: =IF(SUM(MOD(K62-I62,1)-IF(K62>I62,MAX(0,MIN(K62,base!E$14/24)-MAX(I62,7/24)),MAX(0,base!E$14/24-MAX(I62,7/24))+MAX(0,MIN(K62,base!E$14/24)-7/24)))<0,0,SUM(MOD(K62-I62,1)-IF(K62>I62,MAX(0,MIN(K62,base!E$14/24)-MAX(I62,7/24)),MAX(0,base!E$14/24-MAX(I62,7/24))+MAX(0,MIN(K62,base!E$14/24)-7/24)))) -> 0 | Z62: =M62*G62*1 -> 0
A63: jeudi | B63: 41334 | L63: =C63+D63+E63+F63+G63+H63 -> 0 | M63: =K63-I63+IF(I63>K63,1)-J63+(E63*base!E$4)+(D63*base!E$4)+(C63*base!E$4)+(F63*base!E$4) -> 0 | N63: =IF(M63<=base!E$5,"","FAUX") | O63: =IF(SUM(M63-base!E$5)<0,0,SUM(M63-base!E$5)) -> 0 | P63: =K63-I63+IF(I63>K63,1) -> 0 | Q63: =IF(P63<=base!E$3,"","FAUX") | R63: =IF(SUM(P63-base!E$3)<0,0,SUM(P63-base!E$3)) -> 0 | S63: =L63*SUM(S62+M63) -> 0 | T63: =IF(S63>("36:00"*1),S63-("36:00"*1),0)-T62 -> 0.20833333 | U63: =IF(travail!S63<=base!E$8,"","FAUX") | V63: =IF(SUM(S63-base!E$8)<0,0,SUM(S63-base!E$8)) -> 0 | X63: =IF(SUM(MOD(K63-I63,1)-IF(K63>I63,MAX(0,MIN(K63,base!E$14/24)-MAX(I63,7/24)),MAX(0,base!E$14/24-MAX(I63,7/24))+MAX(0,MIN(K63,base!E$14/24)-7/24)))<0,0,SUM(MOD(K63-I63,1)-IF(K63>I63,MAX(0,MIN(K63,base!E$14/24)-MAX(I63,7/24)),MAX(0,base!E$14/24-MAX(I63,7/24))+MAX(0,MIN(K63,base!E$14/24)-7/24)))) -> 0 | Z63: =M63*G63*1 -> 0
A64: vendredi | B64: 41335 | L64: =C64+D64+E64+F64+G64+H64 -> 0 | M64: =K64-I64+IF(I64>K64,1)-J64+(E64*base!E$4)+(D64*base!E$4)+(C64*base!E$4)+(F64*base!E$4) -> 0 | N64: =IF(M64<=base!E$5,"","FAUX") | O64: =IF(SUM(M64-base!E$5)<0,0,SUM(M64-base!E$5)) -> 0 | P64: =K64-I64+IF(I64>K64,1) -> 0 | Q64: =IF(P64<=base!E$3,"","FAUX") | R64: =IF(SUM(P64-base!E$3)<0,0,SUM(P64-base!E$3)) -> 0 | S64: =L64*SUM(S63+M64) -> 0 | T64: =IF(S64>("36:00"*1),S64-("36:00"*1),0)-T63 -> -0.20833333 | U64: =IF(travail!S64<=base!E$8,"","FAUX") | V64: =IF(SUM(S64-base!E$8)<0,0,SUM(S64-base!E$8)) -> 0 | X64: =IF(SUM(MOD(K64-I64,1)-IF(K64>I64,MAX(0,MIN(K64,base!E$14/24)-MAX(I64,7/24)),MAX(0,base!E$14/24-MAX(I64,7/24))+MAX(0,MIN(K64,base!E$14/24)-7/24)))<0,0,SUM(MOD(K64-I64,1)-IF(K64>I64,MAX(0,MIN(K64,base!E$14/24)-MAX(I64,7/24)),MAX(0,base!E$14/24-MAX(I64,7/24))+MAX(0,MIN(K64,base!E$14/24)-7/24)))) -> 0 | Z64: =M64*G64*1 -> 0
A65: samedi | B65: 41336 | L65: =C65+D65+E65+F65+G65+H65 -> 0 | M65: =K65-I65+IF(I65>K65,1)-J65+(E65*base!E$4)+(D65*base!E$4)+(C65*base!E$4)+(F65*base!E$4) -> 0 | N65: =IF(M65<=base!E$5,"","FAUX") | O65: =IF(SUM(M65-base!E$5)<0,0,SUM(M65-base!E$5)) -> 0 | P65: =K65-I65+IF(I65>K65,1) -> 0 | Q65: =IF(P65<=base!E$3,"","FAUX") | R65: =IF(SUM(P65-base!E$3)<0,0,SUM(P65-base!E$3)) -> 0 | S65: =L65*SUM(S64+M65) -> 0 | T65: =IF(S65>("36:00"*1),S65-("36:00"*1),0)-T64 -> 0.20833333 | U65: =IF(travail!S65<=base!E$8,"","FAUX") | V65: =IF(SUM(S65-base!E$8)<0,0,SUM(S65-base!E$8)) -> 0 | X65: =IF(SUM(MOD(K65-I65,1)-IF(K65>I65,MAX(0,MIN(K65,base!E$14/24)-MAX(I65,7/24)),MAX(0,base!E$14/24-MAX(I65,7/24))+MAX(0,MIN(K65,base!E$14/24)-7/24)))<0,0,SUM(MOD(K65-I65,1)-IF(K65>I65,MAX(0,MIN(K65,base!E$14/24)-MAX(I65,7/24)),MAX(0,base!E$14/24-MAX(I65,7/24))+MAX(0,MIN(K65,base!E$14/24)-7/24)))) -> 0
A66: dimanche | B66: 41337 | L66: =C66+D66+E66+F66+G66+H66 -> 0 | M66: =K66-I66+IF(I66>K66,1)-J66+(E66*base!E$4)+(D66*base!E$4)+(C66*base!E$4)+(F66*base!E$4) -> 0 | N66: =IF(M66<=base!E$5,"","FAUX") | O66: =IF(SUM(M66-base!E$5)<0,0,SUM(M66-base!E$5)) -> 0 | P66: =K66-I66+IF(I66>K66,1) -> 0 | Q66: =IF(P66<=base!E$3,"","FAUX") | R66: =IF(SUM(P66-base!E$3)<0,0,SUM(P66-base!E$3)) -> 0 | S66: =L66*SUM(S65+M66) -> 0 | T66: =IF(S66>("36:00"*1),S66-("36:00"*1),0)-T65 -> -0.20833333 | U66: =IF(travail!S66<=base!E$8,"","FAUX") | V66: =IF(SUM(S66-base!E$8)<0,0,SUM(S66-base!E$8)) -> 0 | X66: =IF(SUM(MOD(K66-I66,1)-IF(K66>I66,MAX(0,MIN(K66,base!E$14/24)-MAX(I66,7/24)),MAX(0,base!E$14/24-MAX(I66,7/24))+MAX(0,MIN(K66,base!E$14/24)-7/24)))<0,0,SUM(MOD(K66-I66,1)-IF(K66>I66,MAX(0,MIN(K66,base!E$14/24)-MAX(I66,7/24)),MAX(0,base!E$14/24-MAX(I66,7/24))+MAX(0,MIN(K66,base!E$14/24)-7/24)))) -> 0 | Y66: =M66 -> 0
A67: lundi | B67: 41338 | L67: =C67+D67+E67+F67+G67+H67 -> 0 | M67: =K67-I67+IF(I67>K67,1)-J67+(E67*base!E$4)+(D67*base!E$4)+(C67*base!E$4)+(F67*base!E$4) -> 0 | N67: =IF(M67<=base!E$5,"","FAUX") | O67: =IF(SUM(M67-base!E$5)<0,0,SUM(M67-base!E$5)) -> 0 | P67: =K67-I67+IF(I67>K67,1) -> 0 | Q67: =IF(P67<=base!E$3,"","FAUX") | R67: =IF(SUM(P67-base!E$3)<0,0,SUM(P67-base!E$3)) -> 0 | S67: =L67*SUM(S66+M67) -> 0 | T67: =IF(S67>("36:00"*1),S67-("36:00"*1),0)-T66 -> 0.20833333 | U67: =IF(travail!S67<=base!E$8,"","FAUX") | V67: =IF(SUM(S67-base!E$8)<0,0,SUM(S67-base!E$8)) -> 0 | X67: =IF(SUM(MOD(K67-I67,1)-IF(K67>I67,MAX(0,MIN(K67,base!E$14/24)-MAX(I67,7/24)),MAX(0,base!E$14/24-MAX(I67,7/24))+MAX(0,MIN(K67,base!E$14/24)-7/24)))<0,0,SUM(MOD(K67-I67,1)-IF(K67>I67,MAX(0,MIN(K67,base!E$14/24)-MAX(I67,7/24)),MAX(0,base!E$14/24-MAX(I67,7/24))+MAX(0,MIN(K67,base!E$14/24)-7/24)))) -> 0 | Z67: =M67*G67*1 -> 0
A68: mardi | B68: 41339 | L68: =C68+D68+E68+F68+G68+H68 -> 0 | M68: =K68-I68+IF(I68>K68,1)-J68+(E68*base!E$4)+(D68*base!E$4)+(C68*base!E$4)+(F68*base!E$4) -> 0 | N68: =IF(M68<=base!E$5,"","FAUX") | O68: =IF(SUM(M68-base!E$5)<0,0,SUM(M68-base!E$5)) -> 0 | P68: =K68-I68+IF(I68>K68,1) -> 0 | Q68: =IF(P68<=base!E$3,"","FAUX") | R68: =IF(SUM(P68-base!E$3)<0,0,SUM(P68-base!E$3)) -> 0 | S68: =L68*SUM(S67+M68) -> 0 | T68: =IF(S68>("36:00"*1),S68-("36:00"*1),0)-T67 -> -0.20833333 | U68: =IF(travail!S68<=base!E$8,"","FAUX") | V68: =IF(SUM(S68-base!E$8)<0,0,SUM(S68-base!E$8)) -> 0 | X68: =IF(SUM(MOD(K68-I68,1)-IF(K68>I68,MAX(0,MIN(K68,base!E$14/24)-MAX(I68,7/24)),MAX(0,base!E$14/24-MAX(I68,7/24))+MAX(0,MIN(K68,base!E$14/24)-7/24)))<0,0,SUM(MOD(K68-I68,1)-IF(K68>I68,MAX(0,MIN(K68,base!E$14/24)-MAX(I68,7/24)),MAX(0,base!E$14/24-MAX(I68,7/24))+MAX(0,MIN(K68,base!E$14/24)-7/24)))) -> 0 | Z68: =M68*G68*1 -> 0
A69: mercredi | B69: 41340 | L69: =C69+D69+E69+F69+G69+H69 -> 0 | M69: =K69-I69+IF(I69>K69,1)-J69+(E69*base!E$4)+(D69*base!E$4)+(C69*base!E$4)+(F69*base!E$4) -> 0 | N69: =IF(M69<=base!E$5,"","FAUX") | O69: =IF(SUM(M69-base!E$5)<0,0,SUM(M69-base!E$5)) -> 0 | P69: =K69-I69+IF(I69>K69,1) -> 0 | Q69: =IF(P69<=base!E$3,"","FAUX") | R69: =IF(SUM(P69-base!E$3)<0,0,SUM(P69-base!E$3)) -> 0 | S69: =L69*SUM(S68+M69) -> 0 | T69: =IF(S69>("36:00"*1),S69-("36:00"*1),0)-T68 -> 0.20833333 | U69: =IF(travail!S69<=base!E$8,"","FAUX") | V69: =IF(SUM(S69-base!E$8)<0,0,SUM(S69-base!E$8)) -> 0 | X69: =IF(SUM(MOD(K69-I69,1)-IF(K69>I69,MAX(0,MIN(K69,base!E$14/24)-MAX(I69,7/24)),MAX(0,base!E$14/24-MAX(I69,7/24))+MAX(0,MIN(K69,base!E$14/24)-7/24)))<0,0,SUM(MOD(K69-I69,1)-IF(K69>I69,MAX(0,MIN(K69,base!E$14/24)-MAX(I69,7/24)),MAX(0,base!E$14/24-MAX(I69,7/24))+MAX(0,MIN(K69,base!E$14/24)-7/24)))) -> 0 | Z69: =M69*G69*1 -> 0
A70: jeudi | B70: 41341 | L70: =C70+D70+E70+F70+G70+H70 -> 0 | M70: =K70-I70+IF(I70>K70,1)-J70+(E70*base!E$4)+(D70*base!E$4)+(C70*base!E$4)+(F70*base!E$4) -> 0 | N70: =IF(M70<=base!E$5,"","FAUX") | O70: =IF(SUM(M70-base!E$5)<0,0,SUM(M70-base!E$5)) -> 0 | P70: =K70-I70+IF(I70>K70,1) -> 0 | Q70: =IF(P70<=base!E$3,"","FAUX") | R70: =IF(SUM(P70-base!E$3)<0,0,SUM(P70-base!E$3)) -> 0 | S70: =L70*SUM(S69+M70) -> 0 | T70: =IF(S70>("36:00"*1),S70-("36:00"*1),0)-T69 -> -0.20833333 | U70: =IF(travail!S70<=base!E$8,"","FAUX") | V70: =IF(SUM(S70-base!E$8)<0,0,SUM(S70-base!E$8)) -> 0 | X70: =IF(SUM(MOD(K70-I70,1)-IF(K70>I70,MAX(0,MIN(K70,base!E$14/24)-MAX(I70,7/24)),MAX(0,base!E$14/24-MAX(I70,7/24))+MAX(0,MIN(K70,base!E$14/24)-7/24)))<0,0,SUM(MOD(K70-I70,1)-IF(K70>I70,MAX(0,MIN(K70,base!E$14/24)-MAX(I70,7/24)),MAX(0,base!E$14/24-MAX(I70,7/24))+MAX(0,MIN(K70,base!E$14/24)-7/24)))) -> 0 | Z70: =M70*G70*1 -> 0
A71: vendredi | B71: 41342 | L71: =C71+D71+E71+F71+G71+H71 -> 0 | M71: =K71-I71+IF(I71>K71,1)-J71+(E71*base!E$4)+(D71*base!E$4)+(C71*base!E$4)+(F71*base!E$4) -> 0 | N71: =IF(M71<=base!E$5,"","FAUX") | O71: =IF(SUM(M71-base!E$5)<0,0,SUM(M71-base!E$5)) -> 0 | P71: =K71-I71+IF(I71>K71,1) -> 0 | Q71: =IF(P71<=base!E$3,"","FAUX") | R71: =IF(SUM(P71-base!E$3)<0,0,SUM(P71-base!E$3)) -> 0 | S71: =L71*SUM(S70+M71) -> 0 | T71: =IF(S71>("36:00"*1),S71-("36:00"*1),0)-T70 -> 0.20833333 | U71: =IF(travail!S71<=base!E$8,"","FAUX") | V71: =IF(SUM(S71-base!E$8)<0,0,SUM(S71-base!E$8)) -> 0 | X71: =IF(SUM(MOD(K71-I71,1)-IF(K71>I71,MAX(0,MIN(K71,base!E$14/24)-MAX(I71,7/24)),MAX(0,base!E$14/24-MAX(I71,7/24))+MAX(0,MIN(K71,base!E$14/24)-7/24)))<0,0,SUM(MOD(K71-I71,1)-IF(K71>I71,MAX(0,MIN(K71,base!E$14/24)-MAX(I71,7/24)),MAX(0,base!E$14/24-MAX(I71,7/24))+MAX(0,MIN(K71,base!E$14/24)-7/24)))) -> 0 | Z71: =M71*G71*1 -> 0
A72: samedi | B72: 41343 | L72: =C72+D72+E72+F72+G72+H72 -> 0 | M72: =K72-I72+IF(I72>K72,1)-J72+(E72*base!E$4)+(D72*base!E$4)+(C72*base!E$4)+(F72*base!E$4) -> 0 | N72: =IF(M72<=base!E$5,"","FAUX") | O72: =IF(SUM(M72-base!E$5)<0,0,SUM(M72-base!E$5)) -> 0 | P72: =K72-I72+IF(I72>K72,1) -> 0 | Q72: =IF(P72<=base!E$3,"","FAUX") | R72: =IF(SUM(P72-base!E$3)<0,0,SUM(P72-base!E$3)) -> 0 | S72: =L72*SUM(S71+M72) -> 0 | T72: =IF(S72>("36:00"*1),S72-("36:00"*1),0)-T71 -> -0.20833333 | U72: =IF(travail!S72<=base!E$8,"","FAUX") | V72: =IF(SUM(S72-base!E$8)<0,0,SUM(S72-base!E$8)) -> 0 | X72: =IF(SUM(MOD(K72-I72,1)-IF(K72>I72,MAX(0,MIN(K72,base!E$14/24)-MAX(I72,7/24)),MAX(0,base!E$14/24-MAX(I72,7/24))+MAX(0,MIN(K72,base!E$14/24)-7/24)))<0,0,SUM(MOD(K72-I72,1)-IF(K72>I72,MAX(0,MIN(K72,base!E$14/24)-MAX(I72,7/24)),MAX(0,base!E$14/24-MAX(I72,7/24))+MAX(0,MIN(K72,base!E$14/24)-7/24)))) -> 0
A73: dimanche | B73: 41344 | L73: =C73+D73+E73+F73+G73+H73 -> 0 | M73: =K73-I73+IF(I73>K73,1)-J73+(E73*base!E$4)+(D73*base!E$4)+(C73*base!E$4)+(F73*base!E$4) -> 0 | N73: =IF(M73<=base!E$5,"","FAUX") | O73: =IF(SUM(M73-base!E$5)<0,0,SUM(M73-base!E$5)) -> 0 | P73: =K73-I73+IF(I73>K73,1) -> 0 | Q73: =IF(P73<=base!E$3,"","FAUX") | R73: =IF(SUM(P73-base!E$3)<0,0,SUM(P73-base!E$3)) -> 0 | S73: =L73*SUM(S72+M73) -> 0 | T73: =IF(S73>("36:00"*1),S73-("36:00"*1),0)-T72 -> 0.20833333 | U73: =IF(travail!S73<=base!E$8,"","FAUX") | V73: =IF(SUM(S73-base!E$8)<0,0,SUM(S73-base!E$8)) -> 0 | X73: =IF(SUM(MOD(K73-I73,1)-IF(K73>I73,MAX(0,MIN(K73,base!E$14/24)-MAX(I73,7/24)),MAX(0,base!E$14/24-MAX(I73,7/24))+MAX(0,MIN(K73,base!E$14/24)-7/24)))<0,0,SUM(MOD(K73-I73,1)-IF(K73>I73,MAX(0,MIN(K73,base!E$14/24)-MAX(I73,7/24)),MAX(0,base!E$14/24-MAX(I73,7/24))+MAX(0,MIN(K73,base!E$14/24)-7/24)))) -> 0 | Y73: =M73 -> 0
A74: lundi | B74: 41345 | L74: =C74+D74+E74+F74+G74+H74 -> 0 | M74: =K74-I74+IF(I74>K74,1)-J74+(E74*base!E$4)+(D74*base!E$4)+(C74*base!E$4)+(F74*base!E$4) -> 0 | N74: =IF(M74<=base!E$5,"","FAUX") | O74: =IF(SUM(M74-base!E$5)<0,0,SUM(M74-base!E$5)) -> 0 | P74: =K74-I74+IF(I74>K74,1) -> 0 | Q74: =IF(P74<=base!E$3,"","FAUX") | R74: =IF(SUM(P74-base!E$3)<0,0,SUM(P74-base!E$3)) -> 0 | S74: =L74*SUM(S73+M74) -> 0 | T74: =IF(S74>("36:00"*1),S74-("36:00"*1),0)-T73 -> -0.20833333 | U74: =IF(travail!S74<=base!E$8,"","FAUX") | V74: =IF(SUM(S74-base!E$8)<0,0,SUM(S74-base!E$8)) -> 0 | X74: =IF(SUM(MOD(K74-I74,1)-IF(K74>I74,MAX(0,MIN(K74,base!E$14/24)-MAX(I74,7/24)),MAX(0,base!E$14/24-MAX(I74,7/24))+MAX(0,MIN(K74,base!E$14/24)-7/24)))<0,0,SUM(MOD(K74-I74,1)-IF(K74>I74,MAX(0,MIN(K74,base!E$14/24)-MAX(I74,7/24)),MAX(0,base!E$14/24-MAX(I74,7/24))+MAX(0,MIN(K74,base!E$14/24)-7/24)))) -> 0 | Z74: =M74*G74*1 -> 0
A75: mardi | B75: 41346 | L75: =C75+D75+E75+F75+G75+H75 -> 0 | M75: =K75-I75+IF(I75>K75,1)-J75+(E75*base!E$4)+(D75*base!E$4)+(C75*base!E$4)+(F75*base!E$4) -> 0 | N75: =IF(M75<=base!E$5,"","FAUX") | O75: =IF(SUM(M75-base!E$5)<0,0,SUM(M75-base!E$5)) -> 0 | P75: =K75-I75+IF(I75>K75,1) -> 0 | Q75: =IF(P75<=base!E$3,"","FAUX") | R75: =IF(SUM(P75-base!E$3)<0,0,SUM(P75-base!E$3)) -> 0 | S75: =L75*SUM(S74+M75) -> 0 | T75: =IF(S75>("36:00"*1),S75-("36:00"*1),0)-T74 -> 0.20833333 | U75: =IF(travail!S75<=base!E$8,"","FAUX") | V75: =IF(SUM(S75-base!E$8)<0,0,SUM(S75-base!E$8)) -> 0 | X75: =IF(SUM(MOD(K75-I75,1)-IF(K75>I75,MAX(0,MIN(K75,base!E$14/24)-MAX(I75,7/24)),MAX(0,base!E$14/24-MAX(I75,7/24))+MAX(0,MIN(K75,base!E$14/24)-7/24)))<0,0,SUM(MOD(K75-I75,1)-IF(K75>I75,MAX(0,MIN(K75,base!E$14/24)-MAX(I75,7/24)),MAX(0,base!E$14/24-MAX(I75,7/24))+MAX(0,MIN(K75,base!E$14/24)-7/24)))) -> 0 | Z75: =M75*G75*1 -> 0
A76: mercredi | B76: 41347 | L76: =C76+D76+E76+F76+G76+H76 -> 0 | M76: =K76-I76+IF(I76>K76,1)-J76+(E76*base!E$4)+(D76*base!E$4)+(C76*base!E$4)+(F76*base!E$4) -> 0 | N76: =IF(M76<=base!E$5,"","FAUX") | O76: =IF(SUM(M76-base!E$5)<0,0,SUM(M76-base!E$5)) -> 0 | P76: =K76-I76+IF(I76>K76,1) -> 0 | Q76: =IF(P76<=base!E$3,"","FAUX") | R76: =IF(SUM(P76-base!E$3)<0,0,SUM(P76-base!E$3)) -> 0 | S76: =L76*SUM(S75+M76) -> 0 | T76: =IF(S76>("36:00"*1),S76-("36:00"*1),0)-T75 -> -0.20833333 | U76: =IF(travail!S76<=base!E$8,"","FAUX") | V76: =IF(SUM(S76-base!E$8)<0,0,SUM(S76-base!E$8)) -> 0 | X76: =IF(SUM(MOD(K76-I76,1)-IF(K76>I76,MAX(0,MIN(K76,base!E$14/24)-MAX(I76,7/24)),MAX(0,base!E$14/24-MAX(I76,7/24))+MAX(0,MIN(K76,base!E$14/24)-7/24)))<0,0,SUM(MOD(K76-I76,1)-IF(K76>I76,MAX(0,MIN(K76,base!E$14/24)-MAX(I76,7/24)),MAX(0,base!E$14/24-MAX(I76,7/24))+MAX(0,MIN(K76,base!E$14/24)-7/24)))) -> 0 | Z76: =M76*G76*1 -> 0
A77: jeudi | B77: 41348 | L77: =C77+D77+E77+F77+G77+H77 -> 0 | M77: =K77-I77+IF(I77>K77,1)-J77+(E77*base!E$4)+(D77*base!E$4)+(C77*base!E$4)+(F77*base!E$4) -> 0 | N77: =IF(M77<=base!E$5,"","FAUX") | O77: =IF(SUM(M77-base!E$5)<0,0,SUM(M77-base!E$5)) -> 0 | P77: =K77-I77+IF(I77>K77,1) -> 0 | Q77: =IF(P77<=base!E$3,"","FAUX") | R77: =IF(SUM(P77-base!E$3)<0,0,SUM(P77-base!E$3)) -> 0 | S77: =L77*SUM(S76+M77) -> 0 | T77: =IF(S77>("36:00"*1),S77-("36:00"*1),0)-T76 -> 0.20833333 | U77: =IF(travail!S77<=base!E$8,"","FAUX") | V77: =IF(SUM(S77-base!E$8)<0,0,SUM(S77-base!E$8)) -> 0 | X77: =IF(SUM(MOD(K77-I77,1)-IF(K77>I77,MAX(0,MIN(K77,base!E$14/24)-MAX(I77,7/24)),MAX(0,base!E$14/24-MAX(I77,7/24))+MAX(0,MIN(K77,base!E$14/24)-7/24)))<0,0,SUM(MOD(K77-I77,1)-IF(K77>I77,MAX(0,MIN(K77,base!E$14/24)-MAX(I77,7/24)),MAX(0,base!E$14/24-MAX(I77,7/24))+MAX(0,MIN(K77,base!E$14/24)-7/24)))) -> 0 | Z77: =M77*G77*1 -> 0
A78: vendredi | B78: 41349 | L78: =C78+D78+E78+F78+G78+H78 -> 0 | M78: =K78-I78+IF(I78>K78,1)-J78+(E78*base!E$4)+(D78*base!E$4)+(C78*base!E$4)+(F78*base!E$4) -> 0 | N78: =IF(M78<=base!E$5,"","FAUX") | O78: =IF(SUM(M78-base!E$5)<0,0,SUM(M78-base!E$5)) -> 0 | P78: =K78-I78+IF(I78>K78,1) -> 0 | Q78: =IF(P78<=base!E$3,"","FAUX") | R78: =IF(SUM(P78-base!E$3)<0,0,SUM(P78-base!E$3)) -> 0 | S78: =L78*SUM(S77+M78) -> 0 | T78: =IF(S78>("36:00"*1),S78-("36:00"*1),0)-T77 -> -0.20833333 | U78: =IF(travail!S78<=base!E$8,"","FAUX") | V78: =IF(SUM(S78-base!E$8)<0,0,SUM(S78-base!E$8)) -> 0 | X78: =IF(SUM(MOD(K78-I78,1)-IF(K78>I78,MAX(0,MIN(K78,base!E$14/24)-MAX(I78,7/24)),MAX(0,base!E$14/24-MAX(I78,7/24))+MAX(0,MIN(K78,base!E$14/24)-7/24)))<0,0,SUM(MOD(K78-I78,1)-IF(K78>I78,MAX(0,MIN(K78,base!E$14/24)-MAX(I78,7/24)),MAX(0,base!E$14/24-MAX(I78,7/24))+MAX(0,MIN(K78,base!E$14/24)-7/24)))) -> 0 | Z78: =M78*G78*1 -> 0
A79: samedi | B79: 41350 | L79: =C79+D79+E79+F79+G79+H79 -> 0 | M79: =K79-I79+IF(I79>K79,1)-J79+(E79*base!E$4)+(D79*base!E$4)+(C79*base!E$4)+(F79*base!E$4) -> 0 | N79: =IF(M79<=base!E$5,"","FAUX") | O79: =IF(SUM(M79-base!E$5)<0,0,SUM(M79-base!E$5)) -> 0 | P79: =K79-I79+IF(I79>K79,1) -> 0 | Q79: =IF(P79<=base!E$3,"","FAUX") | R79: =IF(SUM(P79-base!E$3)<0,0,SUM(P79-base!E$3)) -> 0 | S79: =L79*SUM(S78+M79) -> 0 | T79: =IF(S79>("36:00"*1),S79-("36:00"*1),0)-T78 -> 0.20833333 | U79: =IF(travail!S79<=base!E$8,"","FAUX") | V79: =IF(SUM(S79-base!E$8)<0,0,SUM(S79-base!E$8)) -> 0 | X79: =IF(SUM(MOD(K79-I79,1)-IF(K79>I79,MAX(0,MIN(K79,base!E$14/24)-MAX(I79,7/24)),MAX(0,base!E$14/24-MAX(I79,7/24))+MAX(0,MIN(K79,base!E$14/24)-7/24)))<0,0,SUM(MOD(K79-I79,1)-IF(K79>I79,MAX(0,MIN(K79,base!E$14/24)-MAX(I79,7/24)),MAX(0,base!E$14/24-MAX(I79,7/24))+MAX(0,MIN(K79,base!E$14/24)-7/24)))) -> 0
A80: dimanche | B80: 41351 | L80: =C80+D80+E80+F80+G80+H80 -> 0 | M80: =K80-I80+IF(I80>K80,1)-J80+(E80*base!E$4)+(D80*base!E$4)+(C80*base!E$4)+(F80*base!E$4) -> 0 | N80: =IF(M80<=base!E$5,"","FAUX") | O80: =IF(SUM(M80-base!E$5)<0,0,SUM(M80-base!E$5)) -> 0 | P80: =K80-I80+IF(I80>K80,1) -> 0 | Q80: =IF(P80<=base!E$3,"","FAUX") | R80: =IF(SUM(P80-base!E$3)<0,0,SUM(P80-base!E$3)) -> 0 | S80: =L80*SUM(S79+M80) -> 0 | T80: =IF(S80>("36:00"*1),S80-("36:00"*1),0)-T79 -> -0.20833333 | U80: =IF(travail!S80<=base!E$8,"","FAUX") | V80: =IF(SUM(S80-base!E$8)<0,0,SUM(S80-base!E$8)) -> 0 | X80: =IF(SUM(MOD(K80-I80,1)-IF(K80>I80,MAX(0,MIN(K80,base!E$14/24)-MAX(I80,7/24)),MAX(0,base!E$14/24-MAX(I80,7/24))+MAX(0,MIN(K80,base!E$14/24)-7/24)))<0,0,SUM(MOD(K80-I80,1)-IF(K80>I80,MAX(0,MIN(K80,base!E$14/24)-MAX(I80,7/24)),MAX(0,base!E$14/24-MAX(I80,7/24))+MAX(0,MIN(K80,base!E$14/24)-7/24)))) -> 0 | Y80: =M80 -> 0
A81: lundi | B81: 41352 | L81: =C81+D81+E81+F81+G81+H81 -> 0 | M81: =K81-I81+IF(I81>K81,1)-J81+(E81*base!E$4)+(D81*base!E$4)+(C81*base!E$4)+(F81*base!E$4) -> 0 | N81: =IF(M81<=base!E$5,"","FAUX") | O81: =IF(SUM(M81-base!E$5)<0,0,SUM(M81-base!E$5)) -> 0 | P81: =K81-I81+IF(I81>K81,1) -> 0 | Q81: =IF(P81<=base!E$3,"","FAUX") | R81: =IF(SUM(P81-base!E$3)<0,0,SUM(P81-base!E$3)) -> 0 | S81: =L81*SUM(S80+M81) -> 0 | T81: =IF(S81>("36:00"*1),S81-("36:00"*1),0)-T80 -> 0.20833333 | U81: =IF(travail!S81<=base!E$8,"","FAUX") | V81: =IF(SUM(S81-base!E$8)<0,0,SUM(S81-base!E$8)) -> 0 | X81: =IF(SUM(MOD(K81-I81,1)-IF(K81>I81,MAX(0,MIN(K81,base!E$14/24)-MAX(I81,7/24)),MAX(0,base!E$14/24-MAX(I81,7/24))+MAX(0,MIN(K81,base!E$14/24)-7/24)))<0,0,SUM(MOD(K81-I81,1)-IF(K81>I81,MAX(0,MIN(K81,base!E$14/24)-MAX(I81,7/24)),MAX(0,base!E$14/24-MAX(I81,7/24))+MAX(0,MIN(K81,base!E$14/24)-7/24)))) -> 0 | Z81: =M81*G81*1 -> 0
A82: mardi | B82: 41353 | L82: =C82+D82+E82+F82+G82+H82 -> 0 | M82: =K82-I82+IF(I82>K82,1)-J82+(E82*base!E$4)+(D82*base!E$4)+(C82*base!E$4)+(F82*base!E$4) -> 0 | N82: =IF(M82<=base!E$5,"","FAUX") | O82: =IF(SUM(M82-base!E$5)<0,0,SUM(M82-base!E$5)) -> 0 | P82: =K82-I82+IF(I82>K82,1) -> 0 | Q82: =IF(P82<=base!E$3,"","FAUX") | R82: =IF(SUM(P82-base!E$3)<0,0,SUM(P82-base!E$3)) -> 0 | S82: =L82*SUM(S81+M82) -> 0 | T82: =IF(S82>("36:00"*1),S82-("36:00"*1),0)-T81 -> -0.20833333 | U82: =IF(travail!S82<=base!E$8,"","FAUX") | V82: =IF(SUM(S82-base!E$8)<0,0,SUM(S82-base!E$8)) -> 0 | X82: =IF(SUM(MOD(K82-I82,1)-IF(K82>I82,MAX(0,MIN(K82,base!E$14/24)-MAX(I82,7/24)),MAX(0,base!E$14/24-MAX(I82,7/24))+MAX(0,MIN(K82,base!E$14/24)-7/24)))<0,0,SUM(MOD(K82-I82,1)-IF(K82>I82,MAX(0,MIN(K82,base!E$14/24)-MAX(I82,7/24)),MAX(0,base!E$14/24-MAX(I82,7/24))+MAX(0,MIN(K82,base!E$14/24)-7/24)))) -> 0 | Z82: =M82*G82*1 -> 0
A83: mercredi | B83: 41354 | L83: =C83+D83+E83+F83+G83+H83 -> 0 | M83: =K83-I83+IF(I83>K83,1)-J83+(E83*base!E$4)+(D83*base!E$4)+(C83*base!E$4)+(F83*base!E$4) -> 0 | N83: =IF(M83<=base!E$5,"","FAUX") | O83: =IF(SUM(M83-base!E$5)<0,0,SUM(M83-base!E$5)) -> 0 | P83: =K83-I83+IF(I83>K83,1) -> 0 | Q83: =IF(P83<=base!E$3,"","FAUX") | R83: =IF(SUM(P83-base!E$3)<0,0,SUM(P83-base!E$3)) -> 0 | S83: =L83*SUM(S82+M83) -> 0 | T83: =IF(S83>("36:00"*1),S83-("36:00"*1),0)-T82 -> 0.20833333 | U83: =IF(travail!S83<=base!E$8,"","FAUX") | V83: =IF(SUM(S83-base!E$8)<0,0,SUM(S83-base!E$8)) -> 0 | X83: =IF(SUM(MOD(K83-I83,1)-IF(K83>I83,MAX(0,MIN(K83,base!E$14/24)-MAX(I83,7/24)),MAX(0,base!E$14/24-MAX(I83,7/24))+MAX(0,MIN(K83,base!E$14/24)-7/24)))<0,0,SUM(MOD(K83-I83,1)-IF(K83>I83,MAX(0,MIN(K83,base!E$14/24)-MAX(I83,7/24)),MAX(0,base!E$14/24-MAX(I83,7/24))+MAX(0,MIN(K83,base!E$14/24)-7/24)))) -> 0 | Z83: =M83*G83*1 -> 0
A84: jeudi | B84: 41355 | L84: =C84+D84+E84+F84+G84+H84 -> 0 | M84: =K84-I84+IF(I84>K84,1)-J84+(E84*base!E$4)+(D84*base!E$4)+(C84*base!E$4)+(F84*base!E$4) -> 0 | N84: =IF(M84<=base!E$5,"","FAUX") | O84: =IF(SUM(M84-base!E$5)<0,0,SUM(M84-base!E$5)) -> 0 | P84: =K84-I84+IF(I84>K84,1) -> 0 | Q84: =IF(P84<=base!E$3,"","FAUX") | R84: =IF(SUM(P84-base!E$3)<0,0,SUM(P84-base!E$3)) -> 0 | S84: =L84*SUM(S83+M84) -> 0 | T84: =IF(S84>("36:00"*1),S84-("36:00"*1),0)-T83 -> -0.20833333 | U84: =IF(travail!S84<=base!E$8,"","FAUX") | V84: =IF(SUM(S84-base!E$8)<0,0,SUM(S84-base!E$8)) -> 0 | X84: =IF(SUM(MOD(K84-I84,1)-IF(K84>I84,MAX(0,MIN(K84,base!E$14/24)-MAX(I84,7/24)),MAX(0,base!E$14/24-MAX(I84,7/24))+MAX(0,MIN(K84,base!E$14/24)-7/24)))<0,0,SUM(MOD(K84-I84,1)-IF(K84>I84,MAX(0,MIN(K84,base!E$14/24)-MAX(I84,7/24)),MAX(0,base!E$14/24-MAX(I84,7/24))+MAX(0,MIN(K84,base!E$14/24)-7/24)))) -> 0 | Z84: =M84*G84*1 -> 0
A85: vendredi | B85: 41356 | L85: =C85+D85+E85+F85+G85+H85 -> 0 | M85: =K85-I85+IF(I85>K85,1)-J85+(E85*base!E$4)+(D85*base!E$4)+(C85*base!E$4)+(F85*base!E$4) -> 0 | N85: =IF(M85<=base!E$5,"","FAUX") | O85: =IF(SUM(M85-base!E$5)<0,0,SUM(M85-base!E$5)) -> 0 | P85: =K85-I85+IF(I85>K85,1) -> 0 | Q85: =IF(P85<=base!E$3,"","FAUX") | R85: =IF(SUM(P85-base!E$3)<0,0,SUM(P85-base!E$3)) -> 0 | S85: =L85*SUM(S84+M85) -> 0 | T85: =IF(S85>("36:00"*1),S85-("36:00"*1),0)-T84 -> 0.20833333 | U85: =IF(travail!S85<=base!E$8,"","FAUX") | V85: =IF(SUM(S85-base!E$8)<0,0,SUM(S85-base!E$8)) -> 0 | X85: =IF(SUM(MOD(K85-I85,1)-IF(K85>I85,MAX(0,MIN(K85,base!E$14/24)-MAX(I85,7/24)),MAX(0,base!E$14/24-MAX(I85,7/24))+MAX(0,MIN(K85,base!E$14/24)-7/24)))<0,0,SUM(MOD(K85-I85,1)-IF(K85>I85,MAX(0,MIN(K85,base!E$14/24)-MAX(I85,7/24)),MAX(0,base!E$14/24-MAX(I85,7/24))+MAX(0,MIN(K85,base!E$14/24)-7/24)))) -> 0 | Z85: =M85*G85*1 -> 0
A86: samedi | B86: 41357 | L86: =C86+D86+E86+F86+G86+H86 -> 0 | M86: =K86-I86+IF(I86>K86,1)-J86+(E86*base!E$4)+(D86*base!E$4)+(C86*base!E$4)+(F86*base!E$4) -> 0 | N86: =IF(M86<=base!E$5,"","FAUX") | O86: =IF(SUM(M86-base!E$5)<0,0,SUM(M86-base!E$5)) -> 0 | P86: =K86-I86+IF(I86>K86,1) -> 0 | Q86: =IF(P86<=base!E$3,"","FAUX") | R86: =IF(SUM(P86-base!E$3)<0,0,SUM(P86-base!E$3)) -> 0 | S86: =L86*SUM(S85+M86) -> 0 | T86: =IF(S86>("36:00"*1),S86-("36:00"*1),0)-T85 -> -0.20833333 | U86: =IF(travail!S86<=base!E$8,"","FAUX") | V86: =IF(SUM(S86-base!E$8)<0,0,SUM(S86-base!E$8)) -> 0 | X86: =IF(SUM(MOD(K86-I86,1)-IF(K86>I86,MAX(0,MIN(K86,base!E$14/24)-MAX(I86,7/24)),MAX(0,base!E$14/24-MAX(I86,7/24))+MAX(0,MIN(K86,base!E$14/24)-7/24)))<0,0,SUM(MOD(K86-I86,1)-IF(K86>I86,MAX(0,MIN(K86,base!E$14/24)-MAX(I86,7/24)),MAX(0,base!E$14/24-MAX(I86,7/24))+MAX(0,MIN(K86,base!E$14/24)-7/24)))) -> 0
A87: dimanche | B87: 41358 | L87: =C87+D87+E87+F87+G87+H87 -> 0 | M87: =K87-I87+IF(I87>K87,1)-J87+(E87*base!E$4)+(D87*base!E$4)+(C87*base!E$4)+(F87*base!E$4) -> 0 | N87: =IF(M87<=base!E$5,"","FAUX") | O87: =IF(SUM(M87-base!E$5)<0,0,SUM(M87-base!E$5)) -> 0 | P87: =K87-I87+IF(I87>K87,1) -> 0 | Q87: =IF(P87<=base!E$3,"","FAUX") | R87: =IF(SUM(P87-base!E$3)<0,0,SUM(P87-base!E$3)) -> 0 | S87: =L87*SUM(S86+M87) -> 0 | T87: =IF(S87>("36:00"*1),S87-("36:00"*1),0)-T86 -> 0.20833333 | U87: =IF(travail!S87<=base!E$8,"","FAUX") | V87: =IF(SUM(S87-base!E$8)<0,0,SUM(S87-base!E$8)) -> 0 | X87: =IF(SUM(MOD(K87-I87,1)-IF(K87>I87,MAX(0,MIN(K87,base!E$14/24)-MAX(I87,7/24)),MAX(0,base!E$14/24-MAX(I87,7/24))+MAX(0,MIN(K87,base!E$14/24)-7/24)))<0,0,SUM(MOD(K87-I87,1)-IF(K87>I87,MAX(0,MIN(K87,base!E$14/24)-MAX(I87,7/24)),MAX(0,base!E$14/24-MAX(I87,7/24))+MAX(0,MIN(K87,base!E$14/24)-7/24)))) -> 0 | Y87: =M87 -> 0
A88: lundi | B88: 41359 | L88: =C88+D88+E88+F88+G88+H88 -> 0 | M88: =K88-I88+IF(I88>K88,1)-J88+(E88*base!E$4)+(D88*base!E$4)+(C88*base!E$4)+(F88*base!E$4) -> 0 | N88: =IF(M88<=base!E$5,"","FAUX") | O88: =IF(SUM(M88-base!E$5)<0,0,SUM(M88-base!E$5)) -> 0 | P88: =K88-I88+IF(I88>K88,1) -> 0 | Q88: =IF(P88<=base!E$3,"","FAUX") | R88: =IF(SUM(P88-base!E$3)<0,0,SUM(P88-base!E$3)) -> 0 | S88: =L88*SUM(S87+M88) -> 0 | T88: =IF(S88>("36:00"*1),S88-("36:00"*1),0)-T87 -> -0.20833333 | U88: =IF(travail!S88<=base!E$8,"","FAUX") | V88: =IF(SUM(S88-base!E$8)<0,0,SUM(S88-base!E$8)) -> 0 | X88: =IF(SUM(MOD(K88-I88,1)-IF(K88>I88,MAX(0,MIN(K88,base!E$14/24)-MAX(I88,7/24)),MAX(0,base!E$14/24-MAX(I88,7/24))+MAX(0,MIN(K88,base!E$14/24)-7/24)))<0,0,SUM(MOD(K88-I88,1)-IF(K88>I88,MAX(0,MIN(K88,base!E$14/24)-MAX(I88,7/24)),MAX(0,base!E$14/24-MAX(I88,7/24))+MAX(0,MIN(K88,base!E$14/24)-7/24)))) -> 0 | Z88: =M88*G88*1 -> 0
A89: mardi | B89: 41360 | L89: =C89+D89+E89+F89+G89+H89 -> 0 | M89: =K89-I89+IF(I89>K89,1)-J89+(E89*base!E$4)+(D89*base!E$4)+(C89*base!E$4)+(F89*base!E$4) -> 0 | N89: =IF(M89<=base!E$5,"","FAUX") | O89: =IF(SUM(M89-base!E$5)<0,0,SUM(M89-base!E$5)) -> 0 | P89: =K89-I89+IF(I89>K89,1) -> 0 | Q89: =IF(P89<=base!E$3,"","FAUX") | R89: =IF(SUM(P89-base!E$3)<0,0,SUM(P89-base!E$3)) -> 0 | S89: =L89*SUM(S88+M89) -> 0 | T89: =IF(S89>("36:00"*1),S89-("36:00"*1),0)-T88 -> 0.20833333 | U89: =IF(travail!S89<=base!E$8,"","FAUX") | V89: =IF(SUM(S89-base!E$8)<0,0,SUM(S89-base!E$8)) -> 0 | X89: =IF(SUM(MOD(K89-I89,1)-IF(K89>I89,MAX(0,MIN(K89,base!E$14/24)-MAX(I89,7/24)),MAX(0,base!E$14/24-MAX(I89,7/24))+MAX(0,MIN(K89,base!E$14/24)-7/24)))<0,0,SUM(MOD(K89-I89,1)-IF(K89>I89,MAX(0,MIN(K89,base!E$14/24)-MAX(I89,7/24)),MAX(0,base!E$14/24-MAX(I89,7/24))+MAX(0,MIN(K89,base!E$14/24)-7/24)))) -> 0 | Z89: =M89*G89*1 -> 0
A90: mercredi | B90: 41361 | L90: =C90+D90+E90+F90+G90+H90 -> 0 | M90: =K90-I90+IF(I90>K90,1)-J90+(E90*base!E$4)+(D90*base!E$4)+(C90*base!E$4)+(F90*base!E$4) -> 0 | N90: =IF(M90<=base!E$5,"","FAUX") | O90: =IF(SUM(M90-base!E$5)<0,0,SUM(M90-base!E$5)) -> 0 | P90: =K90-I90+IF(I90>K90,1) -> 0 | Q90: =IF(P90<=base!E$3,"","FAUX") | R90: =IF(SUM(P90-base!E$3)<0,0,SUM(P90-base!E$3)) -> 0 | S90: =L90*SUM(S89+M90) -> 0 | T90: =IF(S90>("36:00"*1),S90-("36:00"*1),0)-T89 -> -0.20833333 | U90: =IF(travail!S90<=base!E$8,"","FAUX") | V90: =IF(SUM(S90-base!E$8)<0,0,SUM(S90-base!E$8)) -> 0 | X90: =IF(SUM(MOD(K90-I90,1)-IF(K90>I90,MAX(0,MIN(K90,base!E$14/24)-MAX(I90,7/24)),MAX(0,base!E$14/24-MAX(I90,7/24))+MAX(0,MIN(K90,base!E$14/24)-7/24)))<0,0,SUM(MOD(K90-I90,1)-IF(K90>I90,MAX(0,MIN(K90,base!E$14/24)-MAX(I90,7/24)),MAX(0,base!E$14/24-MAX(I90,7/24))+MAX(0,MIN(K90,base!E$14/24)-7/24)))) -> 0 | Z90: =M90*G90*1 -> 0
A91: jeudi | B91: 41362 | L91: =C91+D91+E91+F91+G91+H91 -> 0 | M91: =K91-I91+IF(I91>K91,1)-J91+(E91*base!E$4)+(D91*base!E$4)+(C91*base!E$4)+(F91*base!E$4) -> 0 | N91: =IF(M91<=base!E$5,"","FAUX") | O91: =IF(SUM(M91-base!E$5)<0,0,SUM(M91-base!E$5)) -> 0 | P91: =K91-I91+IF(I91>K91,1) -> 0 | Q91: =IF(P91<=base!E$3,"","FAUX") | R91: =IF(SUM(P91-base!E$3)<0,0,SUM(P91-base!E$3)) -> 0 | S91: =L91*SUM(S90+M91) -> 0 | T91: =IF(S91>("36:00"*1),S91-("36:00"*1),0)-T90 -> 0.20833333 | U91: =IF(travail!S91<=base!E$8,"","FAUX") | V91: =IF(SUM(S91-base!E$8)<0,0,SUM(S91-base!E$8)) -> 0 | X91: =IF(SUM(MOD(K91-I91,1)-IF(K91>I91,MAX(0,MIN(K91,base!E$14/24)-MAX(I91,7/24)),MAX(0,base!E$14/24-MAX(I91,7/24))+MAX(0,MIN(K91,base!E$14/24)-7/24)))<0,0,SUM(MOD(K91-I91,1)-IF(K91>I91,MAX(0,MIN(K91,base!E$14/24)-MAX(I91,7/24)),MAX(0,base!E$14/24-MAX(I91,7/24))+MAX(0,MIN(K91,base!E$14/24)-7/24)))) -> 0 | Z91: =M91*G91*1 -> 0
A92: vendredi | B92: 41363 | L92: =C92+D92+E92+F92+G92+H92 -> 0 | M92: =K92-I92+IF(I92>K92,1)-J92+(E92*base!E$4)+(D92*base!E$4)+(C92*base!E$4)+(F92*base!E$4) -> 0 | N92: =IF(M92<=base!E$5,"","FAUX") | O92: =IF(SUM(M92-base!E$5)<0,0,SUM(M92-base!E$5)) -> 0 | P92: =K92-I92+IF(I92>K92,1) -> 0 | Q92: =IF(P92<=base!E$3,"","FAUX") | R92: =IF(SUM(P92-base!E$3)<0,0,SUM(P92-base!E$3)) -> 0 | S92: =L92*SUM(S91+M92) -> 0 | T92: =IF(S92>("36:00"*1),S92-("36:00"*1),0)-T91 -> -0.20833333 | U92: =IF(travail!S92<=base!E$8,"","FAUX") | V92: =IF(SUM(S92-base!E$8)<0,0,SUM(S92-base!E$8)) -> 0 | X92: =IF(SUM(MOD(K92-I92,1)-IF(K92>I92,MAX(0,MIN(K92,base!E$14/24)-MAX(I92,7/24)),MAX(0,base!E$14/24-MAX(I92,7/24))+MAX(0,MIN(K92,base!E$14/24)-7/24)))<0,0,SUM(MOD(K92-I92,1)-IF(K92>I92,MAX(0,MIN(K92,base!E$14/24)-MAX(I92,7/24)),MAX(0,base!E$14/24-MAX(I92,7/24))+MAX(0,MIN(K92,base!E$14/24)-7/24)))) -> 0 | Z92: =M92*G92*1 -> 0
A93: samedi | B93: 41364 | L93: =C93+D93+E93+F93+G93+H93 -> 0 | M93: =K93-I93+IF(I93>K93,1)-J93+(E93*base!E$4)+(D93*base!E$4)+(C93*base!E$4)+(F93*base!E$4) -> 0 | N93: =IF(M93<=base!E$5,"","FAUX") | O93: =IF(SUM(M93-base!E$5)<0,0,SUM(M93-base!E$5)) -> 0 | P93: =K93-I93+IF(I93>K93,1) -> 0 | Q93: =IF(P93<=base!E$3,"","FAUX") | R93: =IF(SUM(P93-base!E$3)<0,0,SUM(P93-base!E$3)) -> 0 | S93: =L93*SUM(S92+M93) -> 0 | T93: =IF(S93>("36:00"*1),S93-("36:00"*1),0)-T92 -> 0.20833333 | U93: =IF(travail!S93<=base!E$8,"","FAUX") | V93: =IF(SUM(S93-base!E$8)<0,0,SUM(S93-base!E$8)) -> 0 | X93: =IF(SUM(MOD(K93-I93,1)-IF(K93>I93,MAX(0,MIN(K93,base!E$14/24)-MAX(I93,7/24)),MAX(0,base!E$14/24-MAX(I93,7/24))+MAX(0,MIN(K93,base!E$14/24)-7/24)))<0,0,SUM(MOD(K93-I93,1)-IF(K93>I93,MAX(0,MIN(K93,base!E$14/24)-MAX(I93,7/24)),MAX(0,base!E$14/24-MAX(I93,7/24))+MAX(0,MIN(K93,base!E$14/24)-7/24)))) -> 0
A94: dimanche | B94: 41365 | L94: =C94+D94+E94+F94+G94+H94 -> 0 | M94: =K94-I94+IF(I94>K94,1)-J94+(E94*base!E$4)+(D94*base!E$4)+(C94*base!E$4)+(F94*base!E$4) -> 0 | N94: =IF(M94<=base!E$5,"","FAUX") | O94: =IF(SUM(M94-base!E$5)<0,0,SUM(M94-base!E$5)) -> 0 | P94: =K94-I94+IF(I94>K94,1) -> 0 | Q94: =IF(P94<=base!E$3,"","FAUX") | R94: =IF(SUM(P94-base!E$3)<0,0,SUM(P94-base!E$3)) -> 0 | S94: =L94*SUM(S93+M94) -> 0 | T94: =IF(S94>("36:00"*1),S94-("36:00"*1),0)-T93 -> -0.20833333 | U94: =IF(travail!S94<=base!E$8,"","FAUX") | V94: =IF(SUM(S94-base!E$8)<0,0,SUM(S94-base!E$8)) -> 0 | X94: =IF(SUM(MOD(K94-I94,1)-IF(K94>I94,MAX(0,MIN(K94,base!E$14/24)-MAX(I94,7/24)),MAX(0,base!E$14/24-MAX(I94,7/24))+MAX(0,MIN(K94,base!E$14/24)-7/24)))<0,0,SUM(MOD(K94-I94,1)-IF(K94>I94,MAX(0,MIN(K94,base!E$14/24)-MAX(I94,7/24)),MAX(0,base!E$14/24-MAX(I94,7/24))+MAX(0,MIN(K94,base!E$14/24)-7/24)))) -> 0 | Y94: =M94 -> 0
A95: lundi | B95: 41366 | L95: =C95+D95+E95+F95+G95+H95 -> 0 | M95: =K95-I95+IF(I95>K95,1)-J95+(E95*base!E$4)+(D95*base!E$4)+(C95*base!E$4)+(F95*base!E$4) -> 0 | N95: =IF(M95<=base!E$5,"","FAUX") | O95: =IF(SUM(M95-base!E$5)<0,0,SUM(M95-base!E$5)) -> 0 | P95: =K95-I95+IF(I95>K95,1) -> 0 | Q95: =IF(P95<=base!E$3,"","FAUX") | R95: =IF(SUM(P95-base!E$3)<0,0,SUM(P95-base!E$3)) -> 0 | S95: =L95*SUM(S94+M95) -> 0 | T95: =IF(S95>("36:00"*1),S95-("36:00"*1),0)-T94 -> 0.20833333 | U95: =IF(travail!S95<=base!E$8,"","FAUX") | V95: =IF(SUM(S95-base!E$8)<0,0,SUM(S95-base!E$8)) -> 0 | X95: =IF(SUM(MOD(K95-I95,1)-IF(K95>I95,MAX(0,MIN(K95,base!E$14/24)-MAX(I95,7/24)),MAX(0,base!E$14/24-MAX(I95,7/24))+MAX(0,MIN(K95,base!E$14/24)-7/24)))<0,0,SUM(MOD(K95-I95,1)-IF(K95>I95,MAX(0,MIN(K95,base!E$14/24)-MAX(I95,7/24)),MAX(0,base!E$14/24-MAX(I95,7/24))+MAX(0,MIN(K95,base!E$14/24)-7/24)))) -> 0 | Z95: =M95*G95*1 -> 0
A96: mardi | B96: 41367 | L96: =C96+D96+E96+F96+G96+H96 -> 0 | M96: =K96-I96+IF(I96>K96,1)-J96+(E96*base!E$4)+(D96*base!E$4)+(C96*base!E$4)+(F96*base!E$4) -> 0 | N96: =IF(M96<=base!E$5,"","FAUX") | O96: =IF(SUM(M96-base!E$5)<0,0,SUM(M96-base!E$5)) -> 0 | P96: =K96-I96+IF(I96>K96,1) -> 0 | Q96: =IF(P96<=base!E$3,"","FAUX") | R96: =IF(SUM(P96-base!E$3)<0,0,SUM(P96-base!E$3)) -> 0 | S96: =L96*SUM(S95+M96) -> 0 | T96: =IF(S96>("36:00"*1),S96-("36:00"*1),0)-T95 -> -0.20833333 | U96: =IF(travail!S96<=base!E$8,"","FAUX") | V96: =IF(SUM(S96-base!E$8)<0,0,SUM(S96-base!E$8)) -> 0 | X96: =IF(SUM(MOD(K96-I96,1)-IF(K96>I96,MAX(0,MIN(K96,base!E$14/24)-MAX(I96,7/24)),MAX(0,base!E$14/24-MAX(I96,7/24))+MAX(0,MIN(K96,base!E$14/24)-7/24)))<0,0,SUM(MOD(K96-I96,1)-IF(K96>I96,MAX(0,MIN(K96,base!E$14/24)-MAX(I96,7/24)),MAX(0,base!E$14/24-MAX(I96,7/24))+MAX(0,MIN(K96,base!E$14/24)-7/24)))) -> 0 | Z96: =M96*G96*1 -> 0
A97: mercredi | B97: 41368 | L97: =C97+D97+E97+F97+G97+H97 -> 0 | M97: =K97-I97+IF(I97>K97,1)-J97+(E97*base!E$4)+(D97*base!E$4)+(C97*base!E$4)+(F97*base!E$4) -> 0 | N97: =IF(M97<=base!E$5,"","FAUX") | O97: =IF(SUM(M97-base!E$5)<0,0,SUM(M97-base!E$5)) -> 0 | P97: =K97-I97+IF(I97>K97,1) -> 0 | Q97: =IF(P97<=base!E$3,"","FAUX") | R97: =IF(SUM(P97-base!E$3)<0,0,SUM(P97-base!E$3)) -> 0 | S97: =L97*SUM(S96+M97) -> 0 | T97: =IF(S97>("36:00"*1),S97-("36:00"*1),0)-T96 -> 0.20833333 | U97: =IF(travail!S97<=base!E$8,"","FAUX") | V97: =IF(SUM(S97-base!E$8)<0,0,SUM(S97-base!E$8)) -> 0 | X97: =IF(SUM(MOD(K97-I97,1)-IF(K97>I97,MAX(0,MIN(K97,base!E$14/24)-MAX(I97,7/24)),MAX(0,base!E$14/24-MAX(I97,7/24))+MAX(0,MIN(K97,base!E$14/24)-7/24)))<0,0,SUM(MOD(K97-I97,1)-IF(K97>I97,MAX(0,MIN(K97,base!E$14/24)-MAX(I97,7/24)),MAX(0,base!E$14/24-MAX(I97,7/24))+MAX(0,MIN(K97,base!E$14/24)-7/24)))) -> 0 | Z97: =M97*G97*1 -> 0
A98: jeudi | B98: 41369 | L98: =C98+D98+E98+F98+G98+H98 -> 0 | M98: =K98-I98+IF(I98>K98,1)-J98+(E98*base!E$4)+(D98*base!E$4)+(C98*base!E$4)+(F98*base!E$4) -> 0 | N98: =IF(M98<=base!E$5,"","FAUX") | O98: =IF(SUM(M98-base!E$5)<0,0,SUM(M98-base!E$5)) -> 0 | P98: =K98-I98+IF(I98>K98,1) -> 0 | Q98: =IF(P98<=base!E$3,"","FAUX") | R98: =IF(SUM(P98-base!E$3)<0,0,SUM(P98-base!E$3)) -> 0 | S98: =L98*SUM(S97+M98) -> 0 | T98: =IF(S98>("36:00"*1),S98-("36:00"*1),0)-T97 -> -0.20833333 | U98: =IF(travail!S98<=base!E$8,"","FAUX") | V98: =IF(SUM(S98-base!E$8)<0,0,SUM(S98-base!E$8)) -> 0 | X98: =IF(SUM(MOD(K98-I98,1)-IF(K98>I98,MAX(0,MIN(K98,base!E$14/24)-MAX(I98,7/24)),MAX(0,base!E$14/24-MAX(I98,7/24))+MAX(0,MIN(K98,base!E$14/24)-7/24)))<0,0,SUM(MOD(K98-I98,1)-IF(K98>I98,MAX(0,MIN(K98,base!E$14/24)-MAX(I98,7/24)),MAX(0,base!E$14/24-MAX(I98,7/24))+MAX(0,MIN(K98,base!E$14/24)-7/24)))) -> 0 | Z98: =M98*G98*1 -> 0
A99: vendredi | B99: 41370 | L99: =C99+D99+E99+F99+G99+H99 -> 0 | M99: =K99-I99+IF(I99>K99,1)-J99+(E99*base!E$4)+(D99*base!E$4)+(C99*base!E$4)+(F99*base!E$4) -> 0 | N99: =IF(M99<=base!E$5,"","FAUX") | O99: =IF(SUM(M99-base!E$5)<0,0,SUM(M99-base!E$5)) -> 0 | P99: =K99-I99+IF(I99>K99,1) -> 0 | Q99: =IF(P99<=base!E$3,"","FAUX") | R99: =IF(SUM(P99-base!E$3)<0,0,SUM(P99-base!E$3)) -> 0 | S99: =L99*SUM(S98+M99) -> 0 | T99: =IF(S99>("36:00"*1),S99-("36:00"*1),0)-T98 -> 0.20833333 | U99: =IF(travail!S99<=base!E$8,"","FAUX") | V99: =IF(SUM(S99-base!E$8)<0,0,SUM(S99-base!E$8)) -> 0 | X99: =IF(SUM(MOD(K99-I99,1)-IF(K99>I99,MAX(0,MIN(K99,base!E$14/24)-MAX(I99,7/24)),MAX(0,base!E$14/24-MAX(I99,7/24))+MAX(0,MIN(K99,base!E$14/24)-7/24)))<0,0,SUM(MOD(K99-I99,1)-IF(K99>I99,MAX(0,MIN(K99,base!E$14/24)-MAX(I99,7/24)),MAX(0,base!E$14/24-MAX(I99,7/24))+MAX(0,MIN(K99,base!E$14/24)-7/24)))) -> 0 | Z99: =M99*G99*1 -> 0
A100: samedi | B100: 41371 | L100: =C100+D100+E100+F100+G100+H100 -> 0 | M100: =K100-I100+IF(I100>K100,1)-J100+(E100*base!E$4)+(D100*base!E$4)+(C100*base!E$4)+(F100*base!E$4) -> 0 | N100: =IF(M100<=base!E$5,"","FAUX") | O100: =IF(SUM(M100-base!E$5)<0,0,SUM(M100-base!E$5)) -> 0 | P100: =K100-I100+IF(I100>K100,1) -> 0 | Q100: =IF(P100<=base!E$3,"","FAUX") | R100: =IF(SUM(P100-base!E$3)<0,0,SUM(P100-base!E$3)) -> 0 | S100: =L100*SUM(S99+M100) -> 0 | T100: =IF(S100>("36:00"*1),S100-("36:00"*1),0)-T99 -> -0.20833333 | U100: =IF(travail!S100<=base!E$8,"","FAUX") | V100: =IF(SUM(S100-base!E$8)<0,0,SUM(S100-base!E$8)) -> 0 | X100: =IF(SUM(MOD(K100-I100,1)-IF(K100>I100,MAX(0,MIN(K100,base!E$14/24)-MAX(I100,7/24)),MAX(0,base!E$14/24-MAX(I100,7/24))+MAX(0,MIN(K100,base!E$14/24)-7/24)))<0,0,SUM(MOD(K100-I100,1)-IF(K100>I100,MAX(0,MIN(K100,base!E$14/24)-MAX(I100,7/24)),MAX(0,base!E$14/24-MAX(I100,7/24))+MAX(0,MIN(K100,base!E$14/24)-7/24)))) -> 0
...
