Workbook
Name gérald: 'bases de donnée'!$D$20:$D$29
Name gérald1: 'bases de donnée'!$D$20:$E$29
Name gerald2: 'bases de donnée'!$D$20:$D$32

Sheet planning 
T3: Heures suplémentaires réels | X3: résultat suite à la réglementation depuis 2008
B4: date | C4: jour | D4: date | G4: Début | H4: pause | I4: Fin | K4: H Jour | L4: hc de | M4: H amp | N4: hc de | O4: hs semaine | Q4: j semaine | S4: H nuit | T4: H dimanche | U4: H férié travaillé | V4: H sup + 36h | X4: H nuit | Y4: H dimanche | Z4: H férié travaillé | AA4: H sup + 36
B5: date | C5: =TEXT(D5,"jjjj") -> mercredi | D5: =DATE('bases de donnée'!E$2,B8,B6) -> 42369 | E5: travail | G5: 0.375 | H5: 0.041666667 | I5: 0.041666667 | J5: =IF(AND(G5="",I5=""),"",D5+I5) -> 42369.042 | K5: =IF(OR(E5="férié travaillé",E5="travail"),(I5-G5+IF(G5>I5,1)-H5),INDEX('bases de donnée'!$E$20:'bases de donnée'!$E$32,MATCH(E5,gerald2,0))) -> 0.625 | L5: =IF(SUM(K5-'bases de donnée'!E$7)<0,0,SUM(K5-'bases de donnée'!E$7)) -> 0.20833333 | M5: =IF(OR(E5="férié travaillé",E5="travail"),I5-G5+IF(G5>I5,1),INDEX('bases de donnée'!$E$20:'bases de donnée'!$E$32,MATCH(E5,gerald2,0))) -> 0.66666667 | N5: =IF(SUM(M5-'bases de donnée'!E$4)<0,0,SUM(M5-'bases de donnée'!E$4)) -> 0.16666667 | O5: =K5 -> 0.625 | P5: =SUM(Q5:Q11) -> 7 | Q5: =IF(AND(G5<>"",I5<>""),1,0+OR(N(G3)<N(I3),E5="récupération",E5="congé 1 jour",E5="congé 1/2 jour ",E5="congé 5h24",E5="arrêt maladie",E5="arrêt travail",E5="férié ",E5="congé parentale",E5="congé de naissance")) -> 1 | S5: =IF(SUM(MOD(I5-G5,1)-IF(I5>G5,MAX(0,MIN(I5,'bases de donnée'!E$16/24)-MAX('planning '!G5,7/24)),MAX(0,'bases de donnée'!E$16/24-MAX('planning '!G5,7/24))+MAX(0,MIN('planning '!I5,'bases de donnée'!E$16/24)-7/24)))<0,0,SUM(MOD('planning '!I5-'planning '!G5,1)-IF('planning '!I5>'planning '!G5,MAX(0,MIN('planning '!I5,'bases de donnée'!E$16/24)-MAX('planning '!G5,7/24)),MAX(0,'bases de donnée'!E$16/24-MAX('planning '!G5,7/24))+MAX(0,MIN('planning '!I5,'bases de donnée'!E$16/24)-7/24)))) -> 0.16666667 | U5: =IF(E5<>"travail",IF(E5="férié travaillé",MOD(I5-G5,1)-H5,"00:00"),"00:00") -> 00:00 | X5: =S5 -> 0.16666667 | Z5: =IF(SUM(U5-X5)<0,0,SUM(U5-X5)) -> 0 | AA5: =IF(SUM(V5-X5-Z5)<0,0,SUM(V5-X5-Z5)) -> 0
B6: 1 | C6: mardi | D6: =D5+1 -> 42370 | E6: travail | G6: 0.375 | H6: 0.041666667 | I6: 0.041666667 | J6: =IF(AND(G6="",I6=""),"",D6+I6) -> 42370.042 | K6: =IF(OR(E6="férié travaillé",E6="travail"),(I6-G6+IF(G6>I6,1)-H6),INDEX('bases de donnée'!$E$20:'bases de donnée'!$E$32,MATCH(E6,gerald2,0))) -> 0.625 | L6: =IF(SUM(K6-'bases de donnée'!E$7)<0,0,SUM(K6-'bases de donnée'!E$7)) -> 0.20833333 | M6: =IF(OR(E6="férié travaillé",E6="travail"),I6-G6+IF(G6>I6,1),INDEX('bases de donnée'!$E$20:'bases de donnée'!$E$32,MATCH(E6,gerald2,0))) -> 0.66666667 | N6: =IF(SUM(M6-'bases de donnée'!E$4)<0,0,SUM(M6-'bases de donnée'!E$4)) -> 0.16666667 | O6: =O5+K6 -> 1.25 | P6: =IF(SUM(P5-'bases de donnée'!E$6)<0,0,SUM(P5-'bases de donnée'!E$6)) -> 1 | Q6: =IF(AND(G6<>"",I6<>""),1,0+OR(N(I5)<N(G5),E6="récupération",E6="congé 1 jour",E6="congé 1/2 jour ",E6="congé 5h24",E6="arrêt maladie",E6="arrêt travail",E6="férié ",E6="congé parentale",E6="congé de naissance")) -> 1 | S6: =IF(SUM(MOD(I6-G6,1)-IF(I6>G6,MAX(0,MIN(I6,'bases de donnée'!E$16/24)-MAX('planning '!G6,7/24)),MAX(0,'bases de donnée'!E$16/24-MAX('planning '!G6,7/24))+MAX(0,MIN('planning '!I6,'bases de donnée'!E$16/24)-7/24)))<0,0,SUM(MOD('planning '!I6-'planning '!G6,1)-IF('planning '!I6>'planning '!G6,MAX(0,MIN('planning '!I6,'bases de donnée'!E$16/24)-MAX('planning '!G6,7/24)),MAX(0,'bases de donnée'!E$16/24-MAX('planning '!G6,7/24))+MAX(0,MIN('planning '!I6,'bases de donnée'!E$16/24)-7/24)))) -> 0.16666667 | U6: =IF(E6<>"travail",IF(E6="férié travaillé",MOD(I6-G6,1)-H6,"00:00"),"00:00") -> 00:00 | V6: =IF(SUM(IF(O6>('bases de donnée'!E$9*1),O6-('bases de donnée'!E$9*1),0)-V5)<0,0,SUM(IF(O6>('bases de donnée'!E$9*1),O6-('bases de donnée'!E$9*1),0)-V5)) -> 0 | X6: =S6 -> 0.16666667 | Z6: =IF(SUM(U6-X6)<0,0,SUM(U6-X6)) -> 0 | AA6: =IF(SUM(V6-X6-Z6)<0,0,SUM(V6-X6-Z6)) -> 0
B7: mois | C7: mercredi | D7: =D6+1 -> 42371 | E7: travail | G7: 0.375 | H7: 0.041666667 | I7: 0.041666667 | J7: =IF(AND(G7="",I7=""),"",D7+I7) -> 42371.042 | K7: =IF(OR(E7="férié travaillé",E7="travail"),(I7-G7+IF(G7>I7,1)-H7),INDEX('bases de donnée'!$E$20:'bases de donnée'!$E$32,MATCH(E7,gerald2,0))) -> 0.625 | L7: =IF(SUM(K7-'bases de donnée'!E$7)<0,0,SUM(K7-'bases de donnée'!E$7)) -> 0.20833333 | M7: =IF(OR(E7="férié travaillé",E7="travail"),I7-G7+IF(G7>I7,1),INDEX('bases de donnée'!$E$20:'bases de donnée'!$E$32,MATCH(E7,gerald2,0))) -> 0.66666667 | N7: =IF(SUM(M7-'bases de donnée'!E$4)<0,0,SUM(M7-'bases de donnée'!E$4)) -> 0.16666667 | O7: =O6+K7 -> 1.875 | P7: H semaine | Q7: =IF(AND(G7<>"",I7<>""),1,0+OR(N(I6)<N(G6),E7="récupération",E7="congé 1 jour",E7="congé 1/2 jour ",E7="congé 5h24",E7="arrêt maladie",E7="arrêt travail",E7="férié ",E7="congé parentale",E7="congé de naissance")) -> 1 | S7: =IF(SUM(MOD(I7-G7,1)-IF(I7>G7,MAX(0,MIN(I7,'bases de donnée'!E$16/24)-MAX('planning '!G7,7/24)),MAX(0,'bases de donnée'!E$16/24-MAX('planning '!G7,7/24))+MAX(0,MIN('planning '!I7,'bases de donnée'!E$16/24)-7/24)))<0,0,SUM(MOD('planning '!I7-'planning '!G7,1)-IF('planning '!I7>'planning '!G7,MAX(0,MIN('planning '!I7,'bases de donnée'!E$16/24)-MAX('planning '!G7,7/24)),MAX(0,'bases de donnée'!E$16/24-MAX('planning '!G7,7/24))+MAX(0,MIN('planning '!I7,'bases de donnée'!E$16/24)-7/24)))) -> 0.16666667 | U7: =IF(E7<>"travail",IF(E7="férié travaillé",MOD(I7-G7,1)-H7,"00:00"),"00:00") -> 00:00 | V7: =IF(SUM(IF(O7>('bases de donnée'!E$9*1),O7-('bases de donnée'!E$9*1),0)-V6)<0,0,SUM(IF(O7>('bases de donnée'!E$9*1),O7-('bases de donnée'!E$9*1),0)-V5-V6)) -> 0.33333333 | X7: =S7 -> 0.16666667 | Z7: =IF(SUM(U7-X7)<0,0,SUM(U7-X7)) -> 0 | AA7: =IF(SUM(V7-X7-Z7)<0,0,SUM(V7-X7-Z7)) -> 0.16666667
B8: 1 | C8: jeudi | D8: =D7+1 -> 42372 | E8: travail | G8: 0.375 | H8: 0.041666667 | I8: 0.041666667 | J8: =IF(AND(G8="",I8=""),"",D8+I8) -> 42372.042 | K8: =IF(OR(E8="férié travaillé",E8="travail"),(I8-G8+IF(G8>I8,1)-H8),INDEX('bases de donnée'!$E$20:'bases de donnée'!$E$32,MATCH(E8,gerald2,0))) -> 0.625 | L8: =IF(SUM(K8-'bases de donnée'!E$7)<0,0,SUM(K8-'bases de donnée'!E$7)) -> 0.20833333 | M8: =IF(OR(E8="férié travaillé",E8="travail"),I8-G8+IF(G8>I8,1),INDEX('bases de donnée'!$E$20:'bases de donnée'!$E$32,MATCH(E8,gerald2,0))) -> 0.66666667 | N8: =IF(SUM(M8-'bases de donnée'!E$4)<0,0,SUM(M8-'bases de donnée'!E$4)) -> 0.16666667 | O8: =O7+K8 -> 2.5 | P8: =O11 -> 4.375 | Q8: =IF(AND(G8<>"",I8<>""),1,0+OR(N(I7)<N(G7),E8="récupération",E8="congé 1 jour",E8="congé 1/2 jour ",E8="congé 5h24",E8="arrêt maladie",E8="arrêt travail",E8="férié ",E8="congé parentale",E8="congé de naissance")) -> 1 | S8: =IF(SUM(MOD(I8-G8,1)-IF(I8>G8,MAX(0,MIN(I8,'bases de donnée'!E$16/24)-MAX('planning '!G8,7/24)),MAX(0,'bases de donnée'!E$16/24-MAX('planning '!G8,7/24))+MAX(0,MIN('planning '!I8,'bases de donnée'!E$16/24)-7/24)))<0,0,SUM(MOD('planning '!I8-'planning '!G8,1)-IF('planning '!I8>'planning '!G8,MAX(0,MIN('planning '!I8,'bases de donnée'!E$16/24)-MAX('planning '!G8,7/24)),MAX(0,'bases de donnée'!E$16/24-MAX('planning '!G8,7/24))+MAX(0,MIN('planning '!I8,'bases de donnée'!E$16/24)-7/24)))) -> 0.16666667 | U8: =IF(E8<>"travail",IF(E8="férié travaillé",MOD(I8-G8,1)-H8,"00:00"),"00:00") -> 00:00 | V8: =IF(SUM(IF(O8>('bases de donnée'!E$9*1),O8-('bases de donnée'!E$9*1),0)-V7)<0,0,SUM(IF(O8>('bases de donnée'!E$9*1),O8-('bases de donnée'!E$9*1),0)-V5-V6-V7)) -> 0.625 | X8: =S8 -> 0.16666667 | Z8: =IF(SUM(U8-X8)<0,0,SUM(U8-X8)) -> 0 | AA8: =IF(SUM(V8-X8-Z8)<0,0,SUM(V8-X8-Z8)) -> 0.45833333
C9: vendredi | D9: =D8+1 -> 42373 | E9: travail | G9: 0.375 | H9: 0.041666667 | I9: 0.041666667 | J9: =IF(AND(G9="",I9=""),"",D9+I9) -> 42373.042 | K9: =IF(OR(E9="férié travaillé",E9="travail"),(I9-G9+IF(G9>I9,1)-H9),INDEX('bases de donnée'!$E$20:'bases de donnée'!$E$32,MATCH(E9,gerald2,0))) -> 0.625 | L9: =IF(SUM(K9-'bases de donnée'!E$7)<0,0,SUM(K9-'bases de donnée'!E$7)) -> 0.20833333 | M9: =IF(OR(E9="férié travaillé",E9="travail"),I9-G9+IF(G9>I9,1),INDEX('bases de donnée'!$E$20:'bases de donnée'!$E$32,MATCH(E9,gerald2,0))) -> 0.66666667 | N9: =IF(SUM(M9-'bases de donnée'!E$4)<0,0,SUM(M9-'bases de donnée'!E$4)) -> 0.16666667 | O9: =O8+K9 -> 3.125 | P9: H semaine hc de | Q9: =IF(AND(G9<>"",I9<>""),1,0+OR(N(I8)<N(G8),E9="récupération",E9="congé 1 jour",E9="congé 1/2 jour ",E9="congé 5h24",E9="arrêt maladie",E9="arrêt travail",E9="férié ",E9="congé parentale",E9="congé de naissance")) -> 1 | S9: =IF(SUM(MOD(I9-G9,1)-IF(I9>G9,MAX(0,MIN(I9,'bases de donnée'!E$16/24)-MAX('planning '!G9,7/24)),MAX(0,'bases de donnée'!E$16/24-MAX('planning '!G9,7/24))+MAX(0,MIN('planning '!I9,'bases de donnée'!E$16/24)-7/24)))<0,0,SUM(MOD('planning '!I9-'planning '!G9,1)-IF('planning '!I9>'planning '!G9,MAX(0,MIN('planning '!I9,'bases de donnée'!E$16/24)-MAX('planning '!G9,7/24)),MAX(0,'bases de donnée'!E$16/24-MAX('planning '!G9,7/24))+MAX(0,MIN('planning '!I9,'bases de donnée'!E$16/24)-7/24)))) -> 0.16666667 | U9: =IF(E9<>"travail",IF(E9="férié travaillé",MOD(I9-G9,1)-H9,"00:00"),"00:00") -> 00:00 | V9: =IF(SUM(IF(O9>('bases de donnée'!E$9*1),O9-('bases de donnée'!E$9*1),0)-V8)<0,0,SUM(IF(O9>('bases de donnée'!E$9*1),O9-('bases de donnée'!E$9*1),0)-V5-V6-V7-V8)) -> 0.625 | X9: =S9 -> 0.16666667 | Z9: =IF(SUM(U9-X9)<0,0,SUM(U9-X9)) -> 0 | AA9: =IF(SUM(V9-X9-Z9)<0,0,SUM(V9-X9-Z9)) -> 0.45833333
C10: samedi | D10: =D9+1 -> 42374 | E10: travail | G10: 0.375 | H10: 0.041666667 | I10: 0.041666667 | J10: =IF(AND(G10="",I10=""),"",D10+I10) -> 42374.042 | K10: =IF(OR(E10="férié travaillé",E10="travail"),(I10-G10+IF(G10>I10,1)-H10),INDEX('bases de donnée'!$E$20:'bases de donnée'!$E$32,MATCH(E10,gerald2,0))) -> 0.625 | L10: =IF(SUM(K10-'bases de donnée'!E$7)<0,0,SUM(K10-'bases de donnée'!E$7)) -> 0.20833333 | M10: =IF(OR(E10="férié travaillé",E10="travail"),I10-G10+IF(G10>I10,1),INDEX('bases de donnée'!$E$20:'bases de donnée'!$E$32,MATCH(E10,gerald2,0))) -> 0.66666667 | N10: =IF(SUM(M10-'bases de donnée'!E$4)<0,0,SUM(M10-'bases de donnée'!E$4)) -> 0.16666667 | O10: =O9+K10 -> 3.75 | P10: ='bases de donnée'!E$10 -> 2 | Q10: =IF(AND(G10<>"",I10<>""),1,0+OR(N(I9)<N(G9),E10="récupération",E10="congé 1 jour",E10="congé 1/2 jour ",E10="congé 5h24",E10="arrêt maladie",E10="arrêt travail",E10="férié ",E10="congé parentale",E10="congé de naissance")) -> 1 | S10: =IF(SUM(MOD(I10-G10,1)-IF(I10>G10,MAX(0,MIN(I10,'bases de donnée'!E$16/24)-MAX('planning '!G10,7/24)),MAX(0,'bases de donnée'!E$16/24-MAX('planning '!G10,7/24))+MAX(0,MIN('planning '!I10,'bases de donnée'!E$16/24)-7/24)))<0,0,SUM(MOD('planning '!I10-'planning '!G10,1)-IF('planning '!I10>'planning '!G10,MAX(0,MIN('planning '!I10,'bases de donnée'!E$16/24)-MAX('planning '!G10,7/24)),MAX(0,'bases de donnée'!E$16/24-MAX('planning '!G10,7/24))+MAX(0,MIN('planning '!I10,'bases de donnée'!E$16/24)-7/24)))) -> 0.16666667 | U10: =IF(E10<>"travail",IF(E10="férié travaillé",MOD(I10-G10,1)-H10,"00:00"),"00:00") -> 00:00 | V10: =IF(SUM(IF(O10>('bases de donnée'!E$9*1),O10-('bases de donnée'!E$9*1),0)-V9)<0,0,SUM(IF(O10>('bases de donnée'!E$9*1),O10-('bases de donnée'!E$9*1),0)-V5-V6-V7-V8-V9)) -> 0.625 | X10: =S10 -> 0.16666667 | Z10: =IF(SUM(U10-X10)<0,0,SUM(U10-X10)) -> 0 | AA10: =IF(SUM(V10-X10-Z10)<0,0,SUM(V10-X10-Z10)) -> 0.45833333
C11: dimanche | D11: =D10+1 -> 42375 | E11: travail | G11: 0.375 | H11: 0.041666667 | I11: 0.041666667 | J11: =IF(AND(G11="",I11=""),"",D11+I11) -> 42375.042 | K11: =IF(OR(E11="férié travaillé",E11="travail"),(I11-G11+IF(G11>I11,1)-H11),INDEX('bases de donnée'!$E$20:'bases de donnée'!$E$32,MATCH(E11,gerald2,0))) -> 0.625 | L11: =IF(SUM(K11-'bases de donnée'!E$7)<0,0,SUM(K11-'bases de donnée'!E$7)) -> 0.20833333 | M11: =IF(OR(E11="férié travaillé",E11="travail"),I11-G11+IF(G11>I11,1),INDEX('bases de donnée'!$E$20:'bases de donnée'!$E$32,MATCH(E11,gerald2,0))) -> 0.66666667 | N11: =IF(SUM(M11-'bases de donnée'!E$4)<0,0,SUM(M11-'bases de donnée'!E$4)) -> 0.16666667 | O11: =O10+K11 -> 4.375 | P11: =IF(SUM(O11-'bases de donnée'!E$10)<0,0,SUM(O11-'bases de donnée'!E$10)) -> 2.375 | Q11: =IF(AND(G11<>"",I11<>""),1,0+OR(N(I10)<N(G10),E11="récupération",E11="congé 1 jour",E11="congé 1/2 jour ",E11="congé 5h24",E11="arrêt maladie",E11="arrêt travail",E11="férié ",E11="congé parentale",E11="congé de naissance")) -> 1 | S11: =IF(SUM(MOD(I11-G11,1)-IF(I11>G11,MAX(0,MIN(I11,'bases de donnée'!E$16/24)-MAX('planning '!G11,7/24)),MAX(0,'bases de donnée'!E$16/24-MAX('planning '!G11,7/24))+MAX(0,MIN('planning '!I11,'bases de donnée'!E$16/24)-7/24)))<0,0,SUM(MOD('planning '!I11-'planning '!G11,1)-IF('planning '!I11>'planning '!G11,MAX(0,MIN('planning '!I11,'bases de donnée'!E$16/24)-MAX('planning '!G11,7/24)),MAX(0,'bases de donnée'!E$16/24-MAX('planning '!G11,7/24))+MAX(0,MIN('planning '!I11,'bases de donnée'!E$16/24)-7/24)))) -> 0.16666667 | T11: =K11 -> 0.625 | U11: =IF(E11<>"travail",IF(E11="férié travaillé",MOD(I11-G11,1)-H11,"00:00"),"00:00") -> 00:00 | V11: =IF(SUM(IF(O11>('bases de donnée'!E$9*1),O11-('bases de donnée'!E$9*1),0)-V10)<0,0,SUM(IF(O11>('bases de donnée'!E$9*1),O11-('bases de donnée'!E$9*1),0)-V5-V6-V7-V8-V9-V10)) -> 0.625 | X11: =S11 -> 0.16666667 | Y11: =IF(SUM(T11-S11)<0,0,SUM(T11-S11)) -> 0.45833333 | Z11: =IF(SUM(U11-T11-S11)<0,0,SUM(U11-T11-S11)) -> 0 | AA11: =IF(SUM(V11-S11-T11-U11)<0,0,SUM(V11-S11-T11-U11)) -> 0
J13: repos hebdomadaire | K13: =SUM(-MAX(J5:J11),MIN(J18:J24)) -> 1.3333333
B17: date | C17: jour | D17: date | G17: Début | H17: pause | I17: Fin | K17: H Jour | L17: hc de | M17: H amp | N17: hc de | O17: hs semaine | Q17: j semaine | S17: H nuit | T17: H dimanche | U17: H férié travaillé | V17: H sup + 36h | X17: H nuit | Y17: H dimanche | Z17: H férié travaillé | AA17: H sup + 36
B18: date | C18: =TEXT(D18,"jjjj") -> mercredi | D18: =DATE('bases de donnée'!E$2,B21,B19) -> 42376 | E18: travail | G18: 0.375 | H18: 0.041666667 | I18: 0.041666667 | J18: =IF(AND(G18="",I18=""),"",D18+G18) -> 42376.375 | K18: =IF(OR(E18="férié travaillé",E18="travail"),(I18-G18+IF(G18>I18,1)-H18),INDEX('bases de donnée'!$E$20:'bases de donnée'!$E$32,MATCH(E18,gerald2,0))) -> 0.625 | L18: =IF(SUM(K18-'bases de donnée'!E$7)<0,0,SUM(K18-'bases de donnée'!E$7)) -> 0.20833333 | M18: =IF(OR(E18="férié travaillé",E18="travail"),I18-G18+IF(G18>I18,1),INDEX('bases de donnée'!$E$20:'bases de donnée'!$E$32,MATCH(E18,gerald2,0))) -> 0.66666667 | N18: =IF(SUM(M18-'bases de donnée'!E$4)<0,0,SUM(M18-'bases de donnée'!E$4)) -> 0.16666667 | O18: =K18 -> 0.625 | P18: =SUM(Q18:Q24) -> 7 | Q18: =IF(AND(G18<>"",I18<>""),1,0+OR(N(G16)<N(I16),E18="récupération",E18="congé 1 jour",E18="congé 1/2 jour ",E18="congé 5h24",E18="arrêt maladie",E18="arrêt travail",E18="férié ",E18="congé parentale",E18="congé de naissance")) -> 1 | S18: =IF(SUM(MOD(I18-G18,1)-IF(I18>G18,MAX(0,MIN(I18,'bases de donnée'!E$16/24)-MAX('planning '!G18,7/24)),MAX(0,'bases de donnée'!E$16/24-MAX('planning '!G18,7/24))+MAX(0,MIN('planning '!I18,'bases de donnée'!E$16/24)-7/24)))<0,0,SUM(MOD('planning '!I18-'planning '!G18,1)-IF('planning '!I18>'planning '!G18,MAX(0,MIN('planning '!I18,'bases de donnée'!E$16/24)-MAX('planning '!G18,7/24)),MAX(0,'bases de donnée'!E$16/24-MAX('planning '!G18,7/24))+MAX(0,MIN('planning '!I18,'bases de donnée'!E$16/24)-7/24)))) -> 0.16666667 | U18: =IF(E18<>"travail",IF(E18="férié travaillé",MOD(I18-G18,1)-H18,"00:00"),"00:00") -> 00:00 | X18: =S18 -> 0.16666667 | Z18: =IF(SUM(U18-X18)<0,0,SUM(U18-X18)) -> 0 | AA18: =IF(SUM(V18-X18-Z18)<0,0,SUM(V18-X18-Z18)) -> 0
B19: 8 | C19: mardi | D19: =D18+1 -> 42377 | E19: travail | G19: 0.375 | H19: 0.041666667 | I19: 0.70833333 | J19: =IF(AND(G19="",I19=""),"",D19+I19) -> 42377.708 | K19: =IF(OR(E19="férié travaillé",E19="travail"),(I19-G19+IF(G19>I19,1)-H19),INDEX('bases de donnée'!$E$20:'bases de donnée'!$E$32,MATCH(E19,gerald2,0))) -> 0.29166667 | L19: =IF(SUM(K19-'bases de donnée'!E$7)<0,0,SUM(K19-'bases de donnée'!E$7)) -> 0 | M19: =IF(OR(E19="férié travaillé",E19="travail"),I19-G19+IF(G19>I19,1),INDEX('bases de donnée'!$E$20:'bases de donnée'!$E$32,MATCH(E19,gerald2,0))) -> 0.33333333 | N19: =IF(SUM(M19-'bases de donnée'!E$4)<0,0,SUM(M19-'bases de donnée'!E$4)) -> 0 | O19: =O18+K19 -> 0.91666667 | P19: =IF(SUM(P18-'bases de donnée'!E$6)<0,0,SUM(P18-'bases de donnée'!E$6)) -> 1 | Q19: =IF(AND(G19<>"",I19<>""),1,0+OR(N(I18)<N(G18),E19="récupération",E19="congé 1 jour",E19="congé 1/2 jour ",E19="congé 5h24",E19="arrêt maladie",E19="arrêt travail",E19="férié ",E19="congé parentale",E19="congé de naissance")) -> 1 | S19: =IF(SUM(MOD(I19-G19,1)-IF(I19>G19,MAX(0,MIN(I19,'bases de donnée'!E$16/24)-MAX('planning '!G19,7/24)),MAX(0,'bases de donnée'!E$16/24-MAX('planning '!G19,7/24))+MAX(0,MIN('planning '!I19,'bases de donnée'!E$16/24)-7/24)))<0,0,SUM(MOD('planning '!I19-'planning '!G19,1)-IF('planning '!I19>'planning '!G19,MAX(0,MIN('planning '!I19,'bases de donnée'!E$16/24)-MAX('planning '!G19,7/24)),MAX(0,'bases de donnée'!E$16/24-MAX('planning '!G19,7/24))+MAX(0,MIN('planning '!I19,'bases de donnée'!E$16/24)-7/24)))) -> 0 | U19: =IF(E19<>"travail",IF(E19="férié travaillé",MOD(I19-G19,1)-H19,"00:00"),"00:00") -> 00:00 | V19: =IF(SUM(IF(O19>('bases de donnée'!E$9*1),O19-('bases de donnée'!E$9*1),0)-V18)<0,0,SUM(IF(O19>('bases de donnée'!E$9*1),O19-('bases de donnée'!E$9*1),0)-V18)) -> 0 | X19: =S19 -> 0 | Z19: =IF(SUM(U19-X19)<0,0,SUM(U19-X19)) -> 0 | AA19: =IF(SUM(V19-X19-Z19)<0,0,SUM(V19-X19-Z19)) -> 0
B20: mois | C20: mercredi | D20: =D19+1 -> 42378 | E20: travail | G20: 0.375 | H20: 0.041666667 | I20: 0.70833333 | J20: =IF(AND(G20="",I20=""),"",D20+I20) -> 42378.708 | K20: =IF(OR(E20="férié travaillé",E20="travail"),(I20-G20+IF(G20>I20,1)-H20),INDEX('bases de donnée'!$E$20:'bases de donnée'!$E$32,MATCH(E20,gerald2,0))) -> 0.29166667 | L20: =IF(SUM(K20-'bases de donnée'!E$7)<0,0,SUM(K20-'bases de donnée'!E$7)) -> 0 | M20: =IF(OR(E20="férié travaillé",E20="travail"),I20-G20+IF(G20>I20,1),INDEX('bases de donnée'!$E$20:'bases de donnée'!$E$32,MATCH(E20,gerald2,0))) -> 0.33333333 | N20: =IF(SUM(M20-'bases de donnée'!E$4)<0,0,SUM(M20-'bases de donnée'!E$4)) -> 0 | O20: =O19+K20 -> 1.2083333 | P20: H semaine | Q20: =IF(AND(G20<>"",I20<>""),1,0+OR(N(I19)<N(G19),E20="récupération",E20="congé 1 jour",E20="congé 1/2 jour ",E20="congé 5h24",E20="arrêt maladie",E20="arrêt travail",E20="férié ",E20="congé parentale",E20="congé de naissance")) -> 1 | S20: =IF(SUM(MOD(I20-G20,1)-IF(I20>G20,MAX(0,MIN(I20,'bases de donnée'!E$16/24)-MAX('planning '!G20,7/24)),MAX(0,'bases de donnée'!E$16/24-MAX('planning '!G20,7/24))+MAX(0,MIN('planning '!I20,'bases de donnée'!E$16/24)-7/24)))<0,0,SUM(MOD('planning '!I20-'planning '!G20,1)-IF('planning '!I20>'planning '!G20,MAX(0,MIN('planning '!I20,'bases de donnée'!E$16/24)-MAX('planning '!G20,7/24)),MAX(0,'bases de donnée'!E$16/24-MAX('planning '!G20,7/24))+MAX(0,MIN('planning '!I20,'bases de donnée'!E$16/24)-7/24)))) -> 0 | U20: =IF(E20<>"travail",IF(E20="férié travaillé",MOD(I20-G20,1)-H20,"00:00"),"00:00") -> 00:00 | V20: =IF(SUM(IF(O20>('bases de donnée'!E$9*1),O20-('bases de donnée'!E$9*1),0)-V19)<0,0,SUM(IF(O20>('bases de donnée'!E$9*1),O20-('bases de donnée'!E$9*1),0)-V18-V19)) -> 0 | X20: =S20 -> 0 | Z20: =IF(SUM(U20-X20)<0,0,SUM(U20-X20)) -> 0 | AA20: =IF(SUM(V20-X20-Z20)<0,0,SUM(V20-X20-Z20)) -> 0
B21: 1 | C21: jeudi | D21: =D20+1 -> 42379 | E21: travail | G21: 0.375 | H21: 0.041666667 | I21: 0.70833333 | J21: =IF(AND(G21="",I21=""),"",D21+I21) -> 42379.708 | K21: =IF(OR(E21="férié travaillé",E21="travail"),(I21-G21+IF(G21>I21,1)-H21),INDEX('bases de donnée'!$E$20:'bases de donnée'!$E$32,MATCH(E21,gerald2,0))) -> 0.29166667 | L21: =IF(SUM(K21-'bases de donnée'!E$7)<0,0,SUM(K21-'bases de donnée'!E$7)) -> 0 | M21: =IF(OR(E21="férié travaillé",E21="travail"),I21-G21+IF(G21>I21,1),INDEX('bases de donnée'!$E$20:'bases de donnée'!$E$32,MATCH(E21,gerald2,0))) -> 0.33333333 | N21: =IF(SUM(M21-'bases de donnée'!E$4)<0,0,SUM(M21-'bases de donnée'!E$4)) -> 0 | O21: =O20+K21 -> 1.5 | P21: =O24 -> 2.7916667 | Q21: =IF(AND(G21<>"",I21<>""),1,0+OR(N(I20)<N(G20),E21="récupération",E21="congé 1 jour",E21="congé 1/2 jour ",E21="congé 5h24",E21="arrêt maladie",E21="arrêt travail",E21="férié ",E21="congé parentale",E21="congé de naissance")) -> 1 | S21: =IF(SUM(MOD(I21-G21,1)-IF(I21>G21,MAX(0,MIN(I21,'bases de donnée'!E$16/24)-MAX('planning '!G21,7/24)),MAX(0,'bases de donnée'!E$16/24-MAX('planning '!G21,7/24))+MAX(0,MIN('planning '!I21,'bases de donnée'!E$16/24)-7/24)))<0,0,SUM(MOD('planning '!I21-'planning '!G21,1)-IF('planning '!I21>'planning '!G21,MAX(0,MIN('planning '!I21,'bases de donnée'!E$16/24)-MAX('planning '!G21,7/24)),MAX(0,'bases de donnée'!E$16/24-MAX('planning '!G21,7/24))+MAX(0,MIN('planning '!I21,'bases de donnée'!E$16/24)-7/24)))) -> 0 | U21: =IF(E21<>"travail",IF(E21="férié travaillé",MOD(I21-G21,1)-H21,"00:00"),"00:00") -> 00:00 | V21: =IF(SUM(IF(O21>('bases de donnée'!E$9*1),O21-('bases de donnée'!E$9*1),0)-V20)<0,0,SUM(IF(O21>('bases de donnée'!E$9*1),O21-('bases de donnée'!E$9*1),0)-V18-V19-V20)) -> 0 | X21: =S21 -> 0 | Z21: =IF(SUM(U21-X21)<0,0,SUM(U21-X21)) -> 0 | AA21: =IF(SUM(V21-X21-Z21)<0,0,SUM(V21-X21-Z21)) -> 0
C22: vendredi | D22: =D21+1 -> 42380 | E22: travail | G22: 0.375 | H22: 0.041666667 | I22: 0.041666667 | J22: =IF(AND(G22="",I22=""),"",D22+I22) -> 42380.042 | K22: =IF(OR(E22="férié travaillé",E22="travail"),(I22-G22+IF(G22>I22,1)-H22),INDEX('bases de donnée'!$E$20:'bases de donnée'!$E$32,MATCH(E22,gerald2,0))) -> 0.625 | L22: =IF(SUM(K22-'bases de donnée'!E$7)<0,0,SUM(K22-'bases de donnée'!E$7)) -> 0.20833333 | M22: =IF(OR(E22="férié travaillé",E22="travail"),I22-G22+IF(G22>I22,1),INDEX('bases de donnée'!$E$20:'bases de donnée'!$E$32,MATCH(E22,gerald2,0))) -> 0.66666667 | N22: =IF(SUM(M22-'bases de donnée'!E$4)<0,0,SUM(M22-'bases de donnée'!E$4)) -> 0.16666667 | O22: =O21+K22 -> 2.125 | P22: H semaine hc de | Q22: =IF(AND(G22<>"",I22<>""),1,0+OR(N(I21)<N(G21),E22="récupération",E22="congé 1 jour",E22="congé 1/2 jour ",E22="congé 5h24",E22="arrêt maladie",E22="arrêt travail",E22="férié ",E22="congé parentale",E22="congé de naissance")) -> 1 | S22: =IF(SUM(MOD(I22-G22,1)-IF(I22>G22,MAX(0,MIN(I22,'bases de donnée'!E$16/24)-MAX('planning '!G22,7/24)),MAX(0,'bases de donnée'!E$16/24-MAX('planning '!G22,7/24))+MAX(0,MIN('planning '!I22,'bases de donnée'!E$16/24)-7/24)))<0,0,SUM(MOD('planning '!I22-'planning '!G22,1)-IF('planning '!I22>'planning '!G22,MAX(0,MIN('planning '!I22,'bases de donnée'!E$16/24)-MAX('planning '!G22,7/24)),MAX(0,'bases de donnée'!E$16/24-MAX('planning '!G22,7/24))+MAX(0,MIN('planning '!I22,'bases de donnée'!E$16/24)-7/24)))) -> 0.16666667 | U22: =IF(E22<>"travail",IF(E22="férié travaillé",MOD(I22-G22,1)-H22,"00:00"),"00:00") -> 00:00 | V22: =IF(SUM(IF(O22>('bases de donnée'!E$9*1),O22-('bases de donnée'!E$9*1),0)-V21)<0,0,SUM(IF(O22>('bases de donnée'!E$9*1),O22-('bases de donnée'!E$9*1),0)-V18-V19-V20-V21)) -> 0.58333333 | X22: =S22 -> 0.16666667 | Z22: =IF(SUM(U22-X22)<0,0,SUM(U22-X22)) -> 0 | AA22: =IF(SUM(V22-X22-Z22)<0,0,SUM(V22-X22-Z22)) -> 0.41666667
C23: samedi | D23: =D22+1 -> 42381 | E23: travail | G23: 0.375 | H23: 0.041666667 | I23: 0.041666667 | J23: =IF(AND(G23="",I23=""),"",D23+I23) -> 42381.042 | K23: =IF(OR(E23="férié travaillé",E23="travail"),(I23-G23+IF(G23>I23,1)-H23),INDEX('bases de donnée'!$E$20:'bases de donnée'!$E$32,MATCH(E23,gerald2,0))) -> 0.625 | L23: =IF(SUM(K23-'bases de donnée'!E$7)<0,0,SUM(K23-'bases de donnée'!E$7)) -> 0.20833333 | M23: =IF(OR(E23="férié travaillé",E23="travail"),I23-G23+IF(G23>I23,1),INDEX('bases de donnée'!$E$20:'bases de donnée'!$E$32,MATCH(E23,gerald2,0))) -> 0.66666667 | N23: =IF(SUM(M23-'bases de donnée'!E$4)<0,0,SUM(M23-'bases de donnée'!E$4)) -> 0.16666667 | O23: =O22+K23 -> 2.75 | P23: ='bases de donnée'!E$10 -> 2 | Q23: =IF(AND(G23<>"",I23<>""),1,0+OR(N(I22)<N(G22),E23="récupération",E23="congé 1 jour",E23="congé 1/2 jour ",E23="congé 5h24",E23="arrêt maladie",E23="arrêt travail",E23="férié ",E23="congé parentale",E23="congé de naissance")) -> 1 | S23: =IF(SUM(MOD(I23-G23,1)-IF(I23>G23,MAX(0,MIN(I23,'bases de donnée'!E$16/24)-MAX('planning '!G23,7/24)),MAX(0,'bases de donnée'!E$16/24-MAX('planning '!G23,7/24))+MAX(0,MIN('planning '!I23,'bases de donnée'!E$16/24)-7/24)))<0,0,SUM(MOD('planning '!I23-'planning '!G23,1)-IF('planning '!I23>'planning '!G23,MAX(0,MIN('planning '!I23,'bases de donnée'!E$16/24)-MAX('planning '!G23,7/24)),MAX(0,'bases de donnée'!E$16/24-MAX('planning '!G23,7/24))+MAX(0,MIN('planning '!I23,'bases de donnée'!E$16/24)-7/24)))) -> 0.16666667 | U23: =IF(E23<>"travail",IF(E23="férié travaillé",MOD(I23-G23,1)-H23,"00:00"),"00:00") -> 00:00 | V23: =IF(SUM(IF(O23>('bases de donnée'!E$9*1),O23-('bases de donnée'!E$9*1),0)-V22)<0,0,SUM(IF(O23>('bases de donnée'!E$9*1),O23-('bases de donnée'!E$9*1),0)-V18-V19-V20-V21-V22)) -> 0.625 | X23: =S23 -> 0.16666667 | Z23: =IF(SUM(U23-X23)<0,0,SUM(U23-X23)) -> 0 | AA23: =IF(SUM(V23-X23-Z23)<0,0,SUM(V23-X23-Z23)) -> 0.45833333
C24: dimanche | D24: =D23+1 -> 42382 | E24: travail | G24: 0.54166667 | I24: 0.58333333 | J24: =IF(AND(G24="",I24=""),"",D24+I24) -> 42382.583 | K24: =IF(OR(E24="férié travaillé",E24="travail"),(I24-G24+IF(G24>I24,1)-H24),INDEX('bases de donnée'!$E$20:'bases de donnée'!$E$32,MATCH(E24,gerald2,0))) -> 0.041666667 | L24: =IF(SUM(K24-'bases de donnée'!E$7)<0,0,SUM(K24-'bases de donnée'!E$7)) -> 0 | M24: =IF(OR(E24="férié travaillé",E24="travail"),I24-G24+IF(G24>I24,1),INDEX('bases de donnée'!$E$20:'bases de donnée'!$E$32,MATCH(E24,gerald2,0))) -> 0.041666667 | N24: =IF(SUM(M24-'bases de donnée'!E$4)<0,0,SUM(M24-'bases de donnée'!E$4)) -> 0 | O24: =O23+K24 -> 2.7916667 | P24: =IF(SUM(O24-'bases de donnée'!E$10)<0,0,SUM(O24-'bases de donnée'!E$10)) -> 0.79166667 | Q24: =IF(AND(G24<>"",I24<>""),1,0+OR(N(I23)<N(G23),E24="récupération",E24="congé 1 jour",E24="congé 1/2 jour ",E24="congé 5h24",E24="arrêt maladie",E24="arrêt travail",E24="férié ",E24="congé parentale",E24="congé de naissance")) -> 1 | S24: =IF(SUM(MOD(I24-G24,1)-IF(I24>G24,MAX(0,MIN(I24,'bases de donnée'!E$16/24)-MAX('planning '!G24,7/24)),MAX(0,'bases de donnée'!E$16/24-MAX('planning '!G24,7/24))+MAX(0,MIN('planning '!I24,'bases de donnée'!E$16/24)-7/24)))<0,0,SUM(MOD('planning '!I24-'planning '!G24,1)-IF('planning '!I24>'planning '!G24,MAX(0,MIN('planning '!I24,'bases de donnée'!E$16/24)-MAX('planning '!G24,7/24)),MAX(0,'bases de donnée'!E$16/24-MAX('planning '!G24,7/24))+MAX(0,MIN('planning '!I24,'bases de donnée'!E$16/24)-7/24)))) -> 0 | T24: =K24 -> 0.041666667 | U24: =IF(E24<>"travail",IF(E24="férié travaillé",MOD(I24-G24,1)-H24,"00:00"),"00:00") -> 00:00 | V24: =IF(SUM(IF(O24>('bases de donnée'!E$9*1),O24-('bases de donnée'!E$9*1),0)-V23)<0,0,SUM(IF(O24>('bases de donnée'!E$9*1),O24-('bases de donnée'!E$9*1),0)-V18-V19-V20-V21-V22-V23)) -> 0.041666667 | X24: =S24 -> 0 | Y24: =IF(SUM(T24-S24)<0,0,SUM(T24-S24)) -> 0.041666667 | Z24: =IF(SUM(U24-T24-S24)<0,0,SUM(U24-T24-S24)) -> 0 | AA24: =IF(SUM(V24-S24-T24-U24)<0,0,SUM(V24-S24-T24-U24)) -> 0

Sheet résultat 
C2: jours sur l'année | G2: congé = 243 h | L2: hs +36 réel | O2: hs +36 réglementation 2018 | R2: perte heures non majoré suite à la réglementation 2008
C3: jours | F3: congé 1 jour | G3: =COUNTIF('planning '!$E$6:$E$14,F3) -> 0 | H3: =G3*'bases de donnée'!E5 -> 0 | K3: mois | M3: hc de | N3: h sup | O3: heures majoré | Q3: H dimanche | R3: =SUM('planning '!AC12:AC14) -> 0
B4: travail | C4: =COUNTIF('planning '!$E$6:$E$14,B4) -> 6 | F4: congé 1/2 jour | G4: =COUNTIF('planning '!$E$6:$E$14,F4) -> 0 | H4: =SUM(G4*'bases de donnée'!E24) -> 0 | K4: janvier | L4: =SUMPRODUCT((YEAR('planning '!$D$6:$D$14)='bases de donnée'!E$2)*(MONTH('planning '!$D$6:$D$14)=MONTH(1&K4))*('planning '!$V$6:$V$14)) -> 2.8333333 | M4: =IF(SUM(L4-'bases de donnée'!E$12)<0,0,SUM(L4-'bases de donnée'!E$12)) -> 1.7916667 | N4: =SUMPRODUCT((YEAR('planning '!$D$6:$D$14)='bases de donnée'!E$2)*(MONTH('planning '!$D$6:$D$14)=MONTH(1&K4))*('planning '!$AA$6:$AA$14)) -> 1.5416667 | O4: =IF(N4<0.625,N4*'bases de donnée'!$E$14,(0.583333*'bases de donnée'!$E$14)+(N4-0.583333)*'bases de donnée'!$E$15)*24 -> 2.1666668 | Q4: H férié travaillé | R4: =SUM('planning '!AD12:AD16) -> 0
B5: off | C5: =COUNTIF('planning '!$E$6:$E$14,B5) -> 0 | F5: congé 5h24 | G5: =COUNTIF('planning '!$E$6:$E$14,F5) -> 0 | H5: =G5*'bases de donnée'!E25 -> 0 | K5: février | L5: =SUMPRODUCT((YEAR('planning '!$D$6:$D$14)='bases de donnée'!E$2)*(MONTH('planning '!$D$6:$D$14)=MONTH(1&K5))*('planning '!$V$6:$V$14)) -> 0 | M5: =IF(SUM(L5-'bases de donnée'!E$12)<0,0,SUM(L5-'bases de donnée'!E$12)) -> 0 | N5: =SUMPRODUCT((YEAR('planning '!$D$6:$D$14)='bases de donnée'!E$2)*(MONTH('planning '!$D$6:$D$14)=MONTH(1&K5))*('planning '!$AA$6:$AA$14)) -> 0 | O5: =IF(N5<0.625,N5*'bases de donnée'!$E$14,(0.583333*'bases de donnée'!$E$14)+(N5-0.583333)*'bases de donnée'!$E$15)*24 -> 0 | Q5: H sup + 36 | R5: =SUM('planning '!AE12:AE16) -> 0
B6: récupération | C6: =COUNTIF('planning '!$E$6:$E$14,B6) -> 0 | F6: résultat | G6: =SUM(G3:G5) -> 0 | H6: =SUM(H3+H4+H5) -> 0 | K6: mars | L6: =SUMPRODUCT((YEAR('planning '!$D$6:$D$14)='bases de donnée'!E$2)*(MONTH('planning '!$D$6:$D$14)=MONTH(1&K6))*('planning '!$V$6:$V$14)) -> 0 | M6: =IF(SUM(L6-'bases de donnée'!E$12)<0,0,SUM(L6-'bases de donnée'!E$12)) -> 0 | N6: =SUMPRODUCT((YEAR('planning '!$D$6:$D$14)='bases de donnée'!E$2)*(MONTH('planning '!$D$6:$D$14)=MONTH(1&K6))*('planning '!$AA$6:$AA$14)) -> 0 | O6: =IF(N6<0.625,N6*'bases de donnée'!$E$14,(0.583333*'bases de donnée'!$E$14)+(N6-0.583333)*'bases de donnée'!$E$15)*24 -> 0
B7: arrêt maladie | C7: =COUNTIF('planning '!$E$6:$E$14,B7) -> 0 | K7: avril | L7: =SUMPRODUCT((YEAR('planning '!$D$6:$D$14)='bases de donnée'!E$2)*(MONTH('planning '!$D$6:$D$14)=MONTH(1&K7))*('planning '!$V$6:$V$14)) -> 0 | M7: =IF(SUM(L7-'bases de donnée'!E$12)<0,0,SUM(L7-'bases de donnée'!E$12)) -> 0 | N7: =SUMPRODUCT((YEAR('planning '!$D$6:$D$14)='bases de donnée'!E$2)*(MONTH('planning '!$D$6:$D$14)=MONTH(1&K7))*('planning '!$AA$6:$AA$14)) -> 0 | O7: =IF(N7<0.625,N7*'bases de donnée'!$E$14,(0.583333*'bases de donnée'!$E$14)+(N7-0.583333)*'bases de donnée'!$E$15)*24 -> 0
B8: arrêt travail | C8: =COUNTIF('planning '!$E$6:$E$14,B8) -> 0 | G8: congé parentale 11 jours - naissance 3 jours | K8: mai | L8: =SUMPRODUCT((YEAR('planning '!$D$6:$D$14)='bases de donnée'!E$2)*(MONTH('planning '!$D$6:$D$14)=MONTH(1&K8))*('planning '!$V$6:$V$14)) -> 0 | M8: =IF(SUM(L8-'bases de donnée'!E$12)<0,0,SUM(L8-'bases de donnée'!E$12)) -> 0 | N8: =SUMPRODUCT((YEAR('planning '!$D$6:$D$14)='bases de donnée'!E$2)*(MONTH('planning '!$D$6:$D$14)=MONTH(1&K8))*('planning '!$AA$6:$AA$14)) -> 0 | O8: =IF(N8<0.625,N8*'bases de donnée'!$E$14,(0.583333*'bases de donnée'!$E$14)+(N8-0.583333)*'bases de donnée'!$E$15)*24 -> 0
B9: férié | C9: =COUNTIF('planning '!$E$6:$E$14,B9) -> 0 | F9: congé parentale | G9: =COUNTIF('planning '!$E$6:$E$14,F9) -> 0 | K9: juin | L9: =SUMPRODUCT((YEAR('planning '!$D$6:$D$14)='bases de donnée'!E$2)*(MONTH('planning '!$D$6:$D$14)=MONTH(1&K9))*('planning '!$V$6:$V$14)) -> 0 | M9: =IF(SUM(L9-'bases de donnée'!E$12)<0,0,SUM(L9-'bases de donnée'!E$12)) -> 0 | N9: =SUMPRODUCT((YEAR('planning '!$D$6:$D$14)='bases de donnée'!E$2)*(MONTH('planning '!$D$6:$D$14)=MONTH(1&K9))*('planning '!$AA$6:$AA$14)) -> 0 | O9: =IF(N9<0.625,N9*'bases de donnée'!$E$14,(0.583333*'bases de donnée'!$E$14)+(N9-0.583333)*'bases de donnée'!$E$15)*24 -> 0
B10: férié travaillé | C10: =COUNTIF('planning '!$E$6:$E$14,B10) -> 0 | F10: congé parentale week end | G10: =COUNTIF('planning '!$E$6:$E$14,F10) -> 0 | K10: juillet | L10: =SUMPRODUCT((YEAR('planning '!$D$6:$D$14)='bases de donnée'!E$2)*(MONTH('planning '!$D$6:$D$14)=MONTH(1&K10))*('planning '!$V$6:$V$14)) -> 0 | M10: =IF(SUM(L10-'bases de donnée'!E$12)<0,0,SUM(L10-'bases de donnée'!E$12)) -> 0 | N10: =SUMPRODUCT((YEAR('planning '!$D$6:$D$14)='bases de donnée'!E$2)*(MONTH('planning '!$D$6:$D$14)=MONTH(1&K10))*('planning '!$AA$6:$AA$14)) -> 0 | O10: =IF(N10<0.625,N10*'bases de donnée'!$E$14,(0.583333*'bases de donnée'!$E$14)+(N10-0.583333)*'bases de donnée'!$E$15)*24 -> 0
F11: congé de naissance | G11: =COUNTIF('planning '!$E$9:$E$14,F11) -> 0 | K11: août | L11: =SUMPRODUCT((YEAR('planning '!$D$6:$D$14)='bases de donnée'!E$2)*(MONTH('planning '!$D$6:$D$14)=MONTH(1&K11))*('planning '!$V$6:$V$14)) -> 0 | M11: =IF(SUM(L11-'bases de donnée'!E$12)<0,0,SUM(L11-'bases de donnée'!E$12)) -> 0 | N11: =SUMPRODUCT((YEAR('planning '!$D$6:$D$14)='bases de donnée'!E$2)*(MONTH('planning '!$D$6:$D$14)=MONTH(1&K11))*('planning '!$AA$6:$AA$14)) -> 0 | O11: =IF(N11<0.625,N11*'bases de donnée'!$E$14,(0.583333*'bases de donnée'!$E$14)+(N11-0.583333)*'bases de donnée'!$E$15)*24 -> 0
B12: résultat en jours | C12: =SUM(C4+C5+C6+C7+C8+C9+C10+G6+G12+G13) -> 6 | F12: résultat congé parentale | G12: =G9+G10 -> 0 | K12: septembre | L12: =SUMPRODUCT((YEAR('planning '!$D$6:$D$14)='bases de donnée'!E$2)*(MONTH('planning '!$D$6:$D$14)=MONTH(1&K12))*('planning '!$V$6:$V$14)) -> 0 | M12: =IF(SUM(L12-'bases de donnée'!E$12)<0,0,SUM(L12-'bases de donnée'!E$12)) -> 0 | N12: =SUMPRODUCT((YEAR('planning '!$D$6:$D$14)='bases de donnée'!E$2)*(MONTH('planning '!$D$6:$D$14)=MONTH(1&K12))*('planning '!$AA$6:$AA$14)) -> 0 | O12: =IF(N12<0.625,N12*'bases de donnée'!$E$14,(0.583333*'bases de donnée'!$E$14)+(N12-0.583333)*'bases de donnée'!$E$15)*24 -> 0
B13: résultat sur l'année en heures | C13: =SUMPRODUCT((YEAR('planning '!$D$6:$D$14)='bases de donnée'!E$2)*('planning '!$K$6:$K$14))-H6 -> 3.75 | F13: résultat congé naissance | G13: =G11 -> 0 | K13: octobre | L13: =SUMPRODUCT((YEAR('planning '!$D$5:$D$14)='bases de donnée'!E$2)*(MONTH('planning '!$D$5:$D$14)=MONTH(1&K13))*('planning '!$V$5:$V$14)) -> 0 | M13: =IF(SUM(L13-'bases de donnée'!E$12)<0,0,SUM(L13-'bases de donnée'!E$12)) -> 0 | N13: =SUMPRODUCT((YEAR('planning '!$D$6:$D$14)='bases de donnée'!E$2)*(MONTH('planning '!$D$6:$D$14)=MONTH(1&K13))*('planning '!$AA$6:$AA$14)) -> 0 | O13: =IF(N13<0.625,N13*'bases de donnée'!$E$14,(0.583333*'bases de donnée'!$E$14)+(N13-0.583333)*'bases de donnée'!$E$15)*24 -> 0
K14: novembre | L14: =SUMPRODUCT((YEAR('planning '!$D$6:$D$14)='bases de donnée'!E$2)*(MONTH('planning '!$D$6:$D$14)=MONTH(1&K14))*('planning '!$V$6:$V$14)) -> 0 | M14: =IF(SUM(L14-'bases de donnée'!E$12)<0,0,SUM(L14-'bases de donnée'!E$12)) -> 0 | N14: =SUMPRODUCT((YEAR('planning '!$D$6:$D$14)='bases de donnée'!E$2)*(MONTH('planning '!$D$6:$D$14)=MONTH(1&K14))*('planning '!$AA$6:$AA$14)) -> 0 | O14: =IF(N14<0.625,N14*'bases de donnée'!$E$14,(0.583333*'bases de donnée'!$E$14)+(N14-0.583333)*'bases de donnée'!$E$15)*24 -> 0
K15: décembre | L15: =SUMPRODUCT((YEAR('planning '!$D$6:$D$14)='bases de donnée'!E$2)*(MONTH('planning '!$D$6:$D$14)=MONTH(1&K15))*('planning '!$V$6:$V$14)) -> 0 | M15: =IF(SUM(L15-'bases de donnée'!E$12)<0,0,SUM(L15-'bases de donnée'!E$12)) -> 0 | N15: =SUMPRODUCT((YEAR('planning '!$D$6:$D$14)='bases de donnée'!E$2)*(MONTH('planning '!$D$6:$D$14)=MONTH(1&K15))*('planning '!$AA$6:$AA$14)) -> 0 | O15: =IF(N15<0.625,N15*'bases de donnée'!$E$14,(0.583333*'bases de donnée'!$E$14)+(N15-0.583333)*'bases de donnée'!$E$15)*24 -> 0
D16: résultat récupération sur l'année | H16: résultat des heures hors cadre sur l'année
C17: heures | D17: heures majoré | H17: hc de
B18: HS + 36 | C18: =SUM(N4:N15) -> 1.5416667 | D18: =SUM(O4:O15) -> 2.1666668 | G18: travail annuel +1580 h | H18: =IF(SUM(C13-'bases de donnée'!E$3)<0,0,SUM(C13-'bases de donnée'!E$3)) -> 0
B19: H nuit | C19: =SUMPRODUCT((YEAR('planning '!$D$6:$D$14)='bases de donnée'!E$2)*('planning '!$X$6:$X$14)) -> 1 | D19: =SUM(C19*'bases de donnée'!E17)*24 -> 2.5 | G19: jour +10 h | H19: =SUM('planning '!L5:L14) -> 1.4583333
B20: H dimanche | C20: =SUMPRODUCT((YEAR('planning '!$D$6:$D$14)='bases de donnée'!E$2)*('planning '!$Y$6:$Y$14)) -> 0.45833333 | D20: =SUM(C20*'bases de donnée'!E18)*24 -> 0.91666667 | G20: amplitude jour +12 h | H20: =SUM('planning '!N5:N14) -> 1.1666667
B21: H férié travaillé | C21: =SUMPRODUCT((YEAR('planning '!$D$6:$D$14)='bases de donnée'!E$2)*('planning '!$Z$6:$Z$14)) -> 0 | D21: =SUM(C21*'bases de donnée'!E19)*24 -> 0 | G21: jours hedbomadaire + 6 jours | H21: =SUM('planning '!P6+'planning '!#REF!+'planning '!#REF!+'planning '!#REF!+'planning '!#REF!+'planning '!#REF!+'planning '!#REF!+'planning '!#REF!+'planning '!#REF!+'planning '!#REF!+'planning '!#REF!+'planning '!#REF!+'planning '!#REF!+'planning '!#REF!+'planning '!#REF!+'planning '!#REF!+'planning '!#REF!+'planning '!#REF!+'planning '!#REF!+'planning '!#REF!+'planning '!#REF!+'planning '!#REF!+'planning '!#REF!+'planning '!#REF!+'planning '!#REF!+'planning '!#REF!+'planning '!#REF!+'planning '!#REF!+'planning '!#REF!+'planning '!#REF!++'planning '!#REF!+'planning '!#REF!+'planning '!#REF!+'planning '!#REF!+'planning '!#REF!+'planning '!#REF!+'planning '!#REF!+'planning '!#REF!+'planning '!#REF!+'planning '!#REF!+'planning '!#REF!+'planning '!#REF!+'planning '!#REF!+'planning '!#REF!+'planning '!#REF!+'planning '!#REF!+'planning '!#REF!+'planning '!#REF!+'planning '!#REF!+'planning '!#REF!+'planning '!#REF!+'planning '!#REF!+'planning '!#REF!) -> #REF!
B22: Heures supplémenatires 2018 | D22: 3.6041667 | G22: heures semaine + 48h | H22: =SUM('planning '!P11+'planning '!#REF!+'planning '!#REF!+'planning '!#REF!+'planning '!#REF!+'planning '!#REF!+'planning '!#REF!+'planning '!#REF!+'planning '!#REF!+'planning '!#REF!+'planning '!#REF!+'planning '!#REF!+'planning '!#REF!+'planning '!#REF!++'planning '!#REF!+'planning '!#REF!+'planning '!#REF!+'planning '!#REF!+'planning '!#REF!+'planning '!#REF!+'planning '!#REF!+'planning '!#REF!+'planning '!#REF!+'planning '!#REF!+'planning '!#REF!+'planning '!#REF!+'planning '!#REF!+'planning '!#REF!+'planning '!#REF!+'planning '!#REF!+'planning '!#REF!+'planning '!#REF!+'planning '!#REF!+'planning '!#REF!+'planning '!#REF!+'planning '!#REF!+'planning '!#REF!+'planning '!#REF!+'planning '!#REF!+'planning '!#REF!+'planning '!#REF!+'planning '!#REF!+'planning '!#REF!+'planning '!#REF!+'planning '!#REF!+'planning '!#REF!+'planning '!#REF!+'planning '!#REF!+'planning '!#REF!+'planning '!#REF!+'planning '!#REF!+'planning '!#REF!+'planning '!#REF!+'planning '!#REF!) -> #REF!
B23: récup pris | D23: =SUM(C6*'bases de donnée'!E5) -> 0 | G23: congé | H23: =IF(SUM(H6-'bases de donnée'!E$13)<0,0,SUM(H6-'bases de donnée'!E$13)) -> 0
C24: résutat | D24: =SUM(D18+D19+D20+D21+D22-D23) -> 9.1875001 | G24: repos journalier /hebdo | H24: =SUM('planning '!#REF!) -> #REF!
G25: h sup mois + 25h | H25: =SUM(M4:M15) -> 1.7916667

Sheet bases de donnée
D2: année | E2: 2020
D3: heures annueltravail | E3: 65.833333
D4: amplitude du temps | E4: 0.5
D5: heure jour | E5: 0.3 | O5: =IF(SUM(O4-'bases de donnée'!E$6)<0,0,SUM(O4-'bases de donnée'!E$6)) -> 0
D6: jour semaine maximun | E6: 6
D7: la durée de travail jour | E7: 0.41666667
D8: repos quotidien | E8: 0.45833333
D9: durée du travail hebdomadaire | E9: 1.5416667
D10: durée du travail hebdomadaire max | E10: 2
D11: repos hebdomadaire | E11: 1.4583333
D12: heures sup mensuel max par mois | E12: 1.0416667
D13: congés | E13: 10.125
D14: heures sup 1 à 14 | E14: 0.052083333
D15: heures sup 15 à 25 | E15: 0.0625
D16: début H nuit | E16: 21
D17: heures de nuit | E17: 0.10416667
... D21: travail | E21: 0
D22: récupération | E22: =E5 -> 0.3
D23: congé 1 jour | E23: =E5 -> 0.3
D24: congé 1/2 jour | E24: 0.16388889
D25: congé 5h24 | E25: 0.225
D26: arrêt maladie | E26: =E5 -> 0.3
D27: arrêt travail | E27: =E5 -> 0.3
D28: férié | E28: =E5 -> 0.3
D29: férié travaillé | E29: 0
D30: congé parentale | E30: =E5 -> 0.3
D31: congé parentale week end | E31: 0
D32: congé de naissance | E32: =E5 -> 0.3
