Workbook
Name gérald: 'bases de donnée'!$D$20:$D$29
Name gérald1: 'bases de donnée'!$D$20:$E$29
Name gerald2: 'bases de donnée'!$D$20:$D$32

Sheet planning 
S3: Heures suplémentaires réels | W3: résultat suite à la réglementation depuis 2008
B4: date | C4: date | F4: Début | G4: pause | H4: Fin | J4: H Jour | K4: hc de | L4: H amp | M4: hc de | N4: hs semaine | P4: j semaine | R4: H nuit | S4: H dimanche | T4: H férié travaillé | U4: H sup + 36h | W4: H nuit | X4: H dimanche | Y4: H férié travaillé | Z4: H sup + 36
B5: date | C5: =DATE('bases de donnée'!E$2,B8,B6) -> 42369 | D5: travail | E5: =IF(AND(H5="",F5=""),"",C5+F5) | I5: =IF(AND(F5="",H5=""),"",C5+H5+(F5>H5)) | J5: =IF(OR(D5="férié travaillé",D5="travail"),(H5+(F5>H5)-F5-G5),INDEX('bases de donnée'!$E$20:$E$32,MATCH(D5,gerald2,0))) -> 0 | K5: =IF((J5-'bases de donnée'!E$7)<0,0,(J5-'bases de donnée'!E$7)) -> 0 | L5: =IF(OR(D5="férié travaillé",D5="travail"),(H5+(F5>H5)-F5),INDEX('bases de donnée'!$E$20:$E$32,MATCH(D5,gerald2,0))) -> 0 | M5: =IF((L5-'bases de donnée'!E$4)<0,0,(L5-'bases de donnée'!E$4)) -> 0 | N5: =J5 -> 0 | O5: =SUM(P5:P11) -> 1 | P5: =IF(AND(F5<>"",H5<>""),1,0+OR(N(F3)<N(H3),D5="récupération",D5="congé 1 jour",D5="congé 1/2 jour ",D5="congé 5h24",D5="arrêt maladie",D5="arrêt travail",D5="férié ",D5="congé parentale",D5="congé de naissance")) -> 0 | R5: =IF(SUM(MOD(H5-F5,1)-IF(H5>F5,MAX(0,MIN(H5,'bases de donnée'!E$16/24)-MAX('planning '!F5,7/24)),MAX(0,'bases de donnée'!E$16/24-MAX('planning '!F5,7/24))+MAX(0,MIN('planning '!H5,'bases de donnée'!E$16/24)-7/24)))<0,0,SUM(MOD('planning '!H5-'planning '!F5,1)-IF('planning '!H5>'planning '!F5,MAX(0,MIN('planning '!H5,'bases de donnée'!E$16/24)-MAX('planning '!F5,7/24)),MAX(0,'bases de donnée'!E$16/24-MAX('planning '!F5,7/24))+MAX(0,MIN('planning '!H5,'bases de donnée'!E$16/24)-7/24)))) -> 0 | T5: =IF(D5<>"travail",IF(D5="férié travaillé",MOD(H5-F5,1)-G5,"00:00"),"00:00") -> 00:00 | W5: =R5 -> 0 | Y5: =IF(SUM(T5-W5)<0,0,SUM(T5-W5)) -> 0 | Z5: =IF(SUM(U5-W5-Y5)<0,0,SUM(U5-W5-Y5)) -> 0
B6: 1 | C6: =C5+1 -> 42370 | D6: travail | E6: =IF(AND(H6="",F6=""),"",C6+F6) | I6: =IF(AND(F6="",H6=""),"",C6+H6+(F6>H6)) | J6: =IF(OR(D6="férié travaillé",D6="travail"),(H6+(F6>H6)-F6-G6),INDEX('bases de donnée'!$E$20:$E$32,MATCH(D6,gerald2,0))) -> 0 | K6: =IF((J6-'bases de donnée'!E$7)<0,0,(J6-'bases de donnée'!E$7)) -> 0 | L6: =IF(OR(D6="férié travaillé",D6="travail"),(H6+(F6>H6)-F6),INDEX('bases de donnée'!$E$20:$E$32,MATCH(D6,gerald2,0))) -> 0 | M6: =IF((L6-'bases de donnée'!E$4)<0,0,(L6-'bases de donnée'!E$4)) -> 0 | N6: =N5+J6 -> 0 | O6: =IF((O5-'bases de donnée'!E$6)<0,0,(O5-'bases de donnée'!E$6)) -> 0 | P6: =IF(AND(F6<>"",H6<>""),1,0+OR(N(H5)<N(F5),D6="récupération",D6="congé 1 jour",D6="congé 1/2 jour ",D6="congé 5h24",D6="arrêt maladie",D6="arrêt travail",D6="férié ",D6="congé parentale",D6="congé de naissance")) -> 0 | R6: =IF(SUM(MOD(H6-F6,1)-IF(H6>F6,MAX(0,MIN(H6,'bases de donnée'!E$16/24)-MAX('planning '!F6,7/24)),MAX(0,'bases de donnée'!E$16/24-MAX('planning '!F6,7/24))+MAX(0,MIN('planning '!H6,'bases de donnée'!E$16/24)-7/24)))<0,0,SUM(MOD('planning '!H6-'planning '!F6,1)-IF('planning '!H6>'planning '!F6,MAX(0,MIN('planning '!H6,'bases de donnée'!E$16/24)-MAX('planning '!F6,7/24)),MAX(0,'bases de donnée'!E$16/24-MAX('planning '!F6,7/24))+MAX(0,MIN('planning '!H6,'bases de donnée'!E$16/24)-7/24)))) -> 0 | T6: =IF(D6<>"travail",IF(D6="férié travaillé",MOD(H6-F6,1)-G6,"00:00"),"00:00") -> 00:00 | U6: =IF(SUM(IF(N6>('bases de donnée'!E$9*1),N6-('bases de donnée'!E$9*1),0)-U5)<0,0,SUM(IF(N6>('bases de donnée'!E$9*1),N6-('bases de donnée'!E$9*1),0)-U5)) -> 0 | W6: =R6 -> 0 | Y6: =IF(SUM(T6-W6)<0,0,SUM(T6-W6)) -> 0 | Z6: =IF(SUM(U6-W6-Y6)<0,0,SUM(U6-W6-Y6)) -> 0
B7: mois | C7: =C6+1 -> 42371 | D7: travail | E7: =IF(AND(H7="",F7=""),"",C7+F7) | I7: =IF(AND(F7="",H7=""),"",C7+H7+(F7>H7)) | J7: =IF(OR(D7="férié travaillé",D7="travail"),(H7+(F7>H7)-F7-G7),INDEX('bases de donnée'!$E$20:$E$32,MATCH(D7,gerald2,0))) -> 0 | K7: =IF((J7-'bases de donnée'!E$7)<0,0,(J7-'bases de donnée'!E$7)) -> 0 | L7: =IF(OR(D7="férié travaillé",D7="travail"),(H7+(F7>H7)-F7),INDEX('bases de donnée'!$E$20:$E$32,MATCH(D7,gerald2,0))) -> 0 | M7: =IF((L7-'bases de donnée'!E$4)<0,0,(L7-'bases de donnée'!E$4)) -> 0 | N7: =N6+J7 -> 0 | O7: H semaine | P7: =IF(AND(F7<>"",H7<>""),1,0+OR(N(H6)<N(F6),D7="récupération",D7="congé 1 jour",D7="congé 1/2 jour ",D7="congé 5h24",D7="arrêt maladie",D7="arrêt travail",D7="férié ",D7="congé parentale",D7="congé de naissance")) -> 0 | R7: =IF(SUM(MOD(H7-F7,1)-IF(H7>F7,MAX(0,MIN(H7,'bases de donnée'!E$16/24)-MAX('planning '!F7,7/24)),MAX(0,'bases de donnée'!E$16/24-MAX('planning '!F7,7/24))+MAX(0,MIN('planning '!H7,'bases de donnée'!E$16/24)-7/24)))<0,0,SUM(MOD('planning '!H7-'planning '!F7,1)-IF('planning '!H7>'planning '!F7,MAX(0,MIN('planning '!H7,'bases de donnée'!E$16/24)-MAX('planning '!F7,7/24)),MAX(0,'bases de donnée'!E$16/24-MAX('planning '!F7,7/24))+MAX(0,MIN('planning '!H7,'bases de donnée'!E$16/24)-7/24)))) -> 0 | T7: =IF(D7<>"travail",IF(D7="férié travaillé",MOD(H7-F7,1)-G7,"00:00"),"00:00") -> 00:00 | U7: =IF(SUM(IF(N7>('bases de donnée'!E$9*1),N7-('bases de donnée'!E$9*1),0)-U6)<0,0,SUM(IF(N7>('bases de donnée'!E$9*1),N7-('bases de donnée'!E$9*1),0)-U5-U6)) -> 0 | W7: =R7 -> 0 | Y7: =IF(SUM(T7-W7)<0,0,SUM(T7-W7)) -> 0 | Z7: =IF(SUM(U7-W7-Y7)<0,0,SUM(U7-W7-Y7)) -> 0
B8: 1 | C8: =C7+1 -> 42372 | D8: travail | E8: =IF(AND(H8="",F8=""),"",C8+F8) | I8: =IF(AND(F8="",H8=""),"",C8+H8+(F8>H8)) | J8: =IF(OR(D8="férié travaillé",D8="travail"),(H8+(F8>H8)-F8-G8),INDEX('bases de donnée'!$E$20:$E$32,MATCH(D8,gerald2,0))) -> 0 | K8: =IF((J8-'bases de donnée'!E$7)<0,0,(J8-'bases de donnée'!E$7)) -> 0 | L8: =IF(OR(D8="férié travaillé",D8="travail"),(H8+(F8>H8)-F8),INDEX('bases de donnée'!$E$20:$E$32,MATCH(D8,gerald2,0))) -> 0 | M8: =IF((L8-'bases de donnée'!E$4)<0,0,(L8-'bases de donnée'!E$4)) -> 0 | N8: =N7+J8 -> 0 | O8: =N11 -> 0.33333333 | P8: =IF(AND(F8<>"",H8<>""),1,0+OR(N(H7)<N(F7),D8="récupération",D8="congé 1 jour",D8="congé 1/2 jour ",D8="congé 5h24",D8="arrêt maladie",D8="arrêt travail",D8="férié ",D8="congé parentale",D8="congé de naissance")) -> 0 | R8: =IF(SUM(MOD(H8-F8,1)-IF(H8>F8,MAX(0,MIN(H8,'bases de donnée'!E$16/24)-MAX('planning '!F8,7/24)),MAX(0,'bases de donnée'!E$16/24-MAX('planning '!F8,7/24))+MAX(0,MIN('planning '!H8,'bases de donnée'!E$16/24)-7/24)))<0,0,SUM(MOD('planning '!H8-'planning '!F8,1)-IF('planning '!H8>'planning '!F8,MAX(0,MIN('planning '!H8,'bases de donnée'!E$16/24)-MAX('planning '!F8,7/24)),MAX(0,'bases de donnée'!E$16/24-MAX('planning '!F8,7/24))+MAX(0,MIN('planning '!H8,'bases de donnée'!E$16/24)-7/24)))) -> 0 | T8: =IF(D8<>"travail",IF(D8="férié travaillé",MOD(H8-F8,1)-G8,"00:00"),"00:00") -> 00:00 | U8: =IF(SUM(IF(N8>('bases de donnée'!E$9*1),N8-('bases de donnée'!E$9*1),0)-U7)<0,0,SUM(IF(N8>('bases de donnée'!E$9*1),N8-('bases de donnée'!E$9*1),0)-U5-U6-U7)) -> 0 | W8: =R8 -> 0 | Y8: =IF(SUM(T8-W8)<0,0,SUM(T8-W8)) -> 0 | Z8: =IF(SUM(U8-W8-Y8)<0,0,SUM(U8-W8-Y8)) -> 0
C9: =C8+1 -> 42373 | D9: travail | E9: =IF(AND(H9="",F9=""),"",C9+F9) | I9: =IF(AND(F9="",H9=""),"",C9+H9+(F9>H9)) | J9: =IF(OR(D9="férié travaillé",D9="travail"),(H9+(F9>H9)-F9-G9),INDEX('bases de donnée'!$E$20:$E$32,MATCH(D9,gerald2,0))) -> 0 | K9: =IF((J9-'bases de donnée'!E$7)<0,0,(J9-'bases de donnée'!E$7)) -> 0 | L9: =IF(OR(D9="férié travaillé",D9="travail"),(H9+(F9>H9)-F9),INDEX('bases de donnée'!$E$20:$E$32,MATCH(D9,gerald2,0))) -> 0 | M9: =IF((L9-'bases de donnée'!E$4)<0,0,(L9-'bases de donnée'!E$4)) -> 0 | N9: =N8+J9 -> 0 | O9: H semaine hc de | P9: =IF(AND(F9<>"",H9<>""),1,0+OR(N(H8)<N(F8),D9="récupération",D9="congé 1 jour",D9="congé 1/2 jour ",D9="congé 5h24",D9="arrêt maladie",D9="arrêt travail",D9="férié ",D9="congé parentale",D9="congé de naissance")) -> 0 | R9: =IF(SUM(MOD(H9-F9,1)-IF(H9>F9,MAX(0,MIN(H9,'bases de donnée'!E$16/24)-MAX('planning '!F9,7/24)),MAX(0,'bases de donnée'!E$16/24-MAX('planning '!F9,7/24))+MAX(0,MIN('planning '!H9,'bases de donnée'!E$16/24)-7/24)))<0,0,SUM(MOD('planning '!H9-'planning '!F9,1)-IF('planning '!H9>'planning '!F9,MAX(0,MIN('planning '!H9,'bases de donnée'!E$16/24)-MAX('planning '!F9,7/24)),MAX(0,'bases de donnée'!E$16/24-MAX('planning '!F9,7/24))+MAX(0,MIN('planning '!H9,'bases de donnée'!E$16/24)-7/24)))) -> 0 | T9: =IF(D9<>"travail",IF(D9="férié travaillé",MOD(H9-F9,1)-G9,"00:00"),"00:00") -> 00:00 | U9: =IF(SUM(IF(N9>('bases de donnée'!E$9*1),N9-('bases de donnée'!E$9*1),0)-U8)<0,0,SUM(IF(N9>('bases de donnée'!E$9*1),N9-('bases de donnée'!E$9*1),0)-U5-U6-U7-U8)) -> 0 | W9: =R9 -> 0 | Y9: =IF(SUM(T9-W9)<0,0,SUM(T9-W9)) -> 0 | Z9: =IF(SUM(U9-W9-Y9)<0,0,SUM(U9-W9-Y9)) -> 0
C10: =C9+1 -> 42374 | D10: travail | E10: =IF(AND(H10="",F10=""),"",C10+F10) -> 42374.375 | F10: 0.375 | H10: 0.70833333 | I10: =IF(AND(F10="",H10=""),"",C10+H10+(F10>H10)) -> 42374.708 | J10: =IF(OR(D10="férié travaillé",D10="travail"),(H10+(F10>H10)-F10-G10),INDEX('bases de donnée'!$E$20:$E$32,MATCH(D10,gerald2,0))) -> 0.33333333 | K10: =IF((J10-'bases de donnée'!E$7)<0,0,(J10-'bases de donnée'!E$7)) -> 0 | L10: =IF(OR(D10="férié travaillé",D10="travail"),(H10+(F10>H10)-F10),INDEX('bases de donnée'!$E$20:$E$32,MATCH(D10,gerald2,0))) -> 0.33333333 | M10: =IF((L10-'bases de donnée'!E$4)<0,0,(L10-'bases de donnée'!E$4)) -> 0 | N10: =N9+J10 -> 0.33333333 | O10: ='bases de donnée'!E$10 -> 2 | P10: =IF(AND(F10<>"",H10<>""),1,0+OR(N(H9)<N(F9),D10="récupération",D10="congé 1 jour",D10="congé 1/2 jour ",D10="congé 5h24",D10="arrêt maladie",D10="arrêt travail",D10="férié ",D10="congé parentale",D10="congé de naissance")) -> 1 | R10: =IF(SUM(MOD(H10-F10,1)-IF(H10>F10,MAX(0,MIN(H10,'bases de donnée'!E$16/24)-MAX('planning '!F10,7/24)),MAX(0,'bases de donnée'!E$16/24-MAX('planning '!F10,7/24))+MAX(0,MIN('planning '!H10,'bases de donnée'!E$16/24)-7/24)))<0,0,SUM(MOD('planning '!H10-'planning '!F10,1)-IF('planning '!H10>'planning '!F10,MAX(0,MIN('planning '!H10,'bases de donnée'!E$16/24)-MAX('planning '!F10,7/24)),MAX(0,'bases de donnée'!E$16/24-MAX('planning '!F10,7/24))+MAX(0,MIN('planning '!H10,'bases de donnée'!E$16/24)-7/24)))) -> 0 | T10: =IF(D10<>"travail",IF(D10="férié travaillé",MOD(H10-F10,1)-G10,"00:00"),"00:00") -> 00:00 | U10: =IF(SUM(IF(N10>('bases de donnée'!E$9*1),N10-('bases de donnée'!E$9*1),0)-U9)<0,0,SUM(IF(N10>('bases de donnée'!E$9*1),N10-('bases de donnée'!E$9*1),0)-U5-U6-U7-U8-U9)) -> 0 | W10: =R10 -> 0 | Y10: =IF(SUM(T10-W10)<0,0,SUM(T10-W10)) -> 0 | Z10: =IF(SUM(U10-W10-Y10)<0,0,SUM(U10-W10-Y10)) -> 0
C11: =C10+1 -> 42375 | D11: travail | E11: =IF(AND(H11="",F11=""),"",C11+F11) | I11: =IF(AND(F11="",H11=""),"",C11+H11+(F11>H11)) | J11: =IF(OR(D11="férié travaillé",D11="travail"),(H11+(F11>H11)-F11-G11),INDEX('bases de donnée'!$E$20:$E$32,MATCH(D11,gerald2,0))) -> 0 | K11: =IF((J11-'bases de donnée'!E$7)<0,0,(J11-'bases de donnée'!E$7)) -> 0 | L11: =IF(OR(D11="férié travaillé",D11="travail"),(H11+(F11>H11)-F11),INDEX('bases de donnée'!$E$20:$E$32,MATCH(D11,gerald2,0))) -> 0 | M11: =IF((L11-'bases de donnée'!E$4)<0,0,(L11-'bases de donnée'!E$4)) -> 0 | N11: =N10+J11 -> 0.33333333 | O11: =IF((N11-'bases de donnée'!E$10)<0,0,(N11-'bases de donnée'!E$10)) -> 0 | P11: =IF(AND(F11<>"",H11<>""),1,0+OR(N(H10)<N(F10),D11="récupération",D11="congé 1 jour",D11="congé 1/2 jour ",D11="congé 5h24",D11="arrêt maladie",D11="arrêt travail",D11="férié ",D11="congé parentale",D11="congé de naissance")) -> 0 | R11: =IF(SUM(MOD(H11-F11,1)-IF(H11>F11,MAX(0,MIN(H11,'bases de donnée'!E$16/24)-MAX('planning '!F11,7/24)),MAX(0,'bases de donnée'!E$16/24-MAX('planning '!F11,7/24))+MAX(0,MIN('planning '!H11,'bases de donnée'!E$16/24)-7/24)))<0,0,SUM(MOD('planning '!H11-'planning '!F11,1)-IF('planning '!H11>'planning '!F11,MAX(0,MIN('planning '!H11,'bases de donnée'!E$16/24)-MAX('planning '!F11,7/24)),MAX(0,'bases de donnée'!E$16/24-MAX('planning '!F11,7/24))+MAX(0,MIN('planning '!H11,'bases de donnée'!E$16/24)-7/24)))) -> 0 | S11: =J11 -> 0 | T11: =IF(D11<>"travail",IF(D11="férié travaillé",MOD(H11-F11,1)-G11,"00:00"),"00:00") -> 00:00 | U11: =IF(SUM(IF(N11>('bases de donnée'!E$9*1),N11-('bases de donnée'!E$9*1),0)-U10)<0,0,SUM(IF(N11>('bases de donnée'!E$9*1),N11-('bases de donnée'!E$9*1),0)-U5-U6-U7-U8-U9-U10)) -> 0 | W11: =R11 -> 0 | X11: =IF(SUM(S11-R11)<0,0,SUM(S11-R11)) -> 0 | Y11: =IF(SUM(T11-S11-R11)<0,0,SUM(T11-S11-R11)) -> 0 | Z11: =IF(SUM(U11-R11-S11-T11)<0,0,SUM(U11-R11-S11-T11)) -> 0
I13: repos hebdomadaire | J13: =MIN(E18:E24)-MAX(I5:I11) -> -42374.708
I14: Equivaut à I18 - I11
B17: date | C17: date | F17: Début | G17: pause | H17: Fin | J17: H Jour | K17: hc de | L17: H amp | M17: hc de | N17: hs semaine | P17: j semaine | R17: H nuit | S17: H dimanche | T17: H férié travaillé | U17: H sup + 36h | W17: H nuit | X17: H dimanche | Y17: H férié travaillé | Z17: H sup + 36
B18: date | C18: =DATE('bases de donnée'!E$2,B21,B19) -> 42376 | D18: travail | E18: =IF(AND(H18="",F18=""),"",C18+F18) | I18: =IF(AND(F18="",H18=""),"",C18+H18) | J18: =IF(OR(D18="férié travaillé",D18="travail"),(H18+(F18>H18)-F18-G18),INDEX('bases de donnée'!$E$20:$E$32,MATCH(D18,gerald2,0))) -> 0 | K18: =IF((J18-'bases de donnée'!E$7)<0,0,(J18-'bases de donnée'!E$7)) -> 0 | L18: =IF(OR(D18="férié travaillé",D18="travail"),(H18+(F18>H18)-F18),INDEX('bases de donnée'!$E$20:$E$32,MATCH(D18,gerald2,0))) -> 0 | M18: =IF((L18-'bases de donnée'!E$4)<0,0,(L18-'bases de donnée'!E$4)) -> 0 | N18: =J18 -> 0 | O18: =SUM(P18:P24) -> 0 | P18: =IF(AND(F18<>"",H18<>""),1,0+OR(N(F16)<N(H16),D18="récupération",D18="congé 1 jour",D18="congé 1/2 jour ",D18="congé 5h24",D18="arrêt maladie",D18="arrêt travail",D18="férié ",D18="congé parentale",D18="congé de naissance")) -> 0 | R18: =IF(SUM(MOD(H18-F18,1)-IF(H18>F18,MAX(0,MIN(H18,'bases de donnée'!E$16/24)-MAX('planning '!F18,7/24)),MAX(0,'bases de donnée'!E$16/24-MAX('planning '!F18,7/24))+MAX(0,MIN('planning '!H18,'bases de donnée'!E$16/24)-7/24)))<0,0,SUM(MOD('planning '!H18-'planning '!F18,1)-IF('planning '!H18>'planning '!F18,MAX(0,MIN('planning '!H18,'bases de donnée'!E$16/24)-MAX('planning '!F18,7/24)),MAX(0,'bases de donnée'!E$16/24-MAX('planning '!F18,7/24))+MAX(0,MIN('planning '!H18,'bases de donnée'!E$16/24)-7/24)))) -> 0 | T18: =IF(D18<>"travail",IF(D18="férié travaillé",MOD(H18-F18,1)-G18,"00:00"),"00:00") -> 00:00 | W18: =R18 -> 0 | Y18: =IF(SUM(T18-W18)<0,0,SUM(T18-W18)) -> 0 | Z18: =IF(SUM(U18-W18-Y18)<0,0,SUM(U18-W18-Y18)) -> 0
B19: 8 | C19: =C18+1 -> 42377 | D19: travail | E19: =IF(AND(H19="",F19=""),"",C19+F19) | I19: =IF(AND(F19="",H19=""),"",C19+H19) | J19: =IF(OR(D19="férié travaillé",D19="travail"),(H19+(F19>H19)-F19-G19),INDEX('bases de donnée'!$E$20:$E$32,MATCH(D19,gerald2,0))) -> 0 | K19: =IF((J19-'bases de donnée'!E$7)<0,0,(J19-'bases de donnée'!E$7)) -> 0 | L19: =IF(OR(D19="férié travaillé",D19="travail"),(H19+(F19>H19)-F19),INDEX('bases de donnée'!$E$20:$E$32,MATCH(D19,gerald2,0))) -> 0 | M19: =IF((L19-'bases de donnée'!E$4)<0,0,(L19-'bases de donnée'!E$4)) -> 0 | N19: =N18+J19 -> 0 | O19: =IF((O18-'bases de donnée'!E$6)<0,0,(O18-'bases de donnée'!E$6)) -> 0 | P19: =IF(AND(F19<>"",H19<>""),1,0+OR(N(H18)<N(F18),D19="récupération",D19="congé 1 jour",D19="congé 1/2 jour ",D19="congé 5h24",D19="arrêt maladie",D19="arrêt travail",D19="férié ",D19="congé parentale",D19="congé de naissance")) -> 0 | R19: =IF(SUM(MOD(H19-F19,1)-IF(H19>F19,MAX(0,MIN(H19,'bases de donnée'!E$16/24)-MAX('planning '!F19,7/24)),MAX(0,'bases de donnée'!E$16/24-MAX('planning '!F19,7/24))+MAX(0,MIN('planning '!H19,'bases de donnée'!E$16/24)-7/24)))<0,0,SUM(MOD('planning '!H19-'planning '!F19,1)-IF('planning '!H19>'planning '!F19,MAX(0,MIN('planning '!H19,'bases de donnée'!E$16/24)-MAX('planning '!F19,7/24)),MAX(0,'bases de donnée'!E$16/24-MAX('planning '!F19,7/24))+MAX(0,MIN('planning '!H19,'bases de donnée'!E$16/24)-7/24)))) -> 0 | T19: =IF(D19<>"travail",IF(D19="férié travaillé",MOD(H19-F19,1)-G19,"00:00"),"00:00") -> 00:00 | U19: =IF(SUM(IF(N19>('bases de donnée'!E$9*1),N19-('bases de donnée'!E$9*1),0)-U18)<0,0,SUM(IF(N19>('bases de donnée'!E$9*1),N19-('bases de donnée'!E$9*1),0)-U18)) -> 0 | W19: =R19 -> 0 | Y19: =IF(SUM(T19-W19)<0,0,SUM(T19-W19)) -> 0 | Z19: =IF(SUM(U19-W19-Y19)<0,0,SUM(U19-W19-Y19)) -> 0
B20: mois | C20: =C19+1 -> 42378 | D20: travail | E20: =IF(AND(H20="",F20=""),"",C20+F20) | I20: =IF(AND(F20="",H20=""),"",C20+H20) | J20: =IF(OR(D20="férié travaillé",D20="travail"),(H20+(F20>H20)-F20-G20),INDEX('bases de donnée'!$E$20:$E$32,MATCH(D20,gerald2,0))) -> 0 | K20: =IF((J20-'bases de donnée'!E$7)<0,0,(J20-'bases de donnée'!E$7)) -> 0 | L20: =IF(OR(D20="férié travaillé",D20="travail"),(H20+(F20>H20)-F20),INDEX('bases de donnée'!$E$20:$E$32,MATCH(D20,gerald2,0))) -> 0 | M20: =IF((L20-'bases de donnée'!E$4)<0,0,(L20-'bases de donnée'!E$4)) -> 0 | N20: =N19+J20 -> 0 | O20: H semaine | P20: =IF(AND(F20<>"",H20<>""),1,0+OR(N(H19)<N(F19),D20="récupération",D20="congé 1 jour",D20="congé 1/2 jour ",D20="congé 5h24",D20="arrêt maladie",D20="arrêt travail",D20="férié ",D20="congé parentale",D20="congé de naissance")) -> 0 | R20: =IF(SUM(MOD(H20-F20,1)-IF(H20>F20,MAX(0,MIN(H20,'bases de donnée'!E$16/24)-MAX('planning '!F20,7/24)),MAX(0,'bases de donnée'!E$16/24-MAX('planning '!F20,7/24))+MAX(0,MIN('planning '!H20,'bases de donnée'!E$16/24)-7/24)))<0,0,SUM(MOD('planning '!H20-'planning '!F20,1)-IF('planning '!H20>'planning '!F20,MAX(0,MIN('planning '!H20,'bases de donnée'!E$16/24)-MAX('planning '!F20,7/24)),MAX(0,'bases de donnée'!E$16/24-MAX('planning '!F20,7/24))+MAX(0,MIN('planning '!H20,'bases de donnée'!E$16/24)-7/24)))) -> 0 | T20: =IF(D20<>"travail",IF(D20="férié travaillé",MOD(H20-F20,1)-G20,"00:00"),"00:00") -> 00:00 | U20: =IF(SUM(IF(N20>('bases de donnée'!E$9*1),N20-('bases de donnée'!E$9*1),0)-U19)<0,0,SUM(IF(N20>('bases de donnée'!E$9*1),N20-('bases de donnée'!E$9*1),0)-U18-U19)) -> 0 | W20: =R20 -> 0 | Y20: =IF(SUM(T20-W20)<0,0,SUM(T20-W20)) -> 0 | Z20: =IF(SUM(U20-W20-Y20)<0,0,SUM(U20-W20-Y20)) -> 0
B21: 1 | C21: =C20+1 -> 42379 | D21: travail | E21: =IF(AND(H21="",F21=""),"",C21+F21) | I21: =IF(AND(F21="",H21=""),"",C21+H21) | J21: =IF(OR(D21="férié travaillé",D21="travail"),(H21+(F21>H21)-F21-G21),INDEX('bases de donnée'!$E$20:$E$32,MATCH(D21,gerald2,0))) -> 0 | K21: =IF((J21-'bases de donnée'!E$7)<0,0,(J21-'bases de donnée'!E$7)) -> 0 | L21: =IF(OR(D21="férié travaillé",D21="travail"),(H21+(F21>H21)-F21),INDEX('bases de donnée'!$E$20:$E$32,MATCH(D21,gerald2,0))) -> 0 | M21: =IF((L21-'bases de donnée'!E$4)<0,0,(L21-'bases de donnée'!E$4)) -> 0 | N21: =N20+J21 -> 0 | O21: =N24 -> 0 | P21: =IF(AND(F21<>"",H21<>""),1,0+OR(N(H20)<N(F20),D21="récupération",D21="congé 1 jour",D21="congé 1/2 jour ",D21="congé 5h24",D21="arrêt maladie",D21="arrêt travail",D21="férié ",D21="congé parentale",D21="congé de naissance")) -> 0 | R21: =IF(SUM(MOD(H21-F21,1)-IF(H21>F21,MAX(0,MIN(H21,'bases de donnée'!E$16/24)-MAX('planning '!F21,7/24)),MAX(0,'bases de donnée'!E$16/24-MAX('planning '!F21,7/24))+MAX(0,MIN('planning '!H21,'bases de donnée'!E$16/24)-7/24)))<0,0,SUM(MOD('planning '!H21-'planning '!F21,1)-IF('planning '!H21>'planning '!F21,MAX(0,MIN('planning '!H21,'bases de donnée'!E$16/24)-MAX('planning '!F21,7/24)),MAX(0,'bases de donnée'!E$16/24-MAX('planning '!F21,7/24))+MAX(0,MIN('planning '!H21,'bases de donnée'!E$16/24)-7/24)))) -> 0 | T21: =IF(D21<>"travail",IF(D21="férié travaillé",MOD(H21-F21,1)-G21,"00:00"),"00:00") -> 00:00 | U21: =IF(SUM(IF(N21>('bases de donnée'!E$9*1),N21-('bases de donnée'!E$9*1),0)-U20)<0,0,SUM(IF(N21>('bases de donnée'!E$9*1),N21-('bases de donnée'!E$9*1),0)-U18-U19-U20)) -> 0 | W21: =R21 -> 0 | Y21: =IF(SUM(T21-W21)<0,0,SUM(T21-W21)) -> 0 | Z21: =IF(SUM(U21-W21-Y21)<0,0,SUM(U21-W21-Y21)) -> 0
C22: =C21+1 -> 42380 | D22: travail | E22: =IF(AND(H22="",F22=""),"",C22+F22) | I22: =IF(AND(F22="",H22=""),"",C22+H22) | J22: =IF(OR(D22="férié travaillé",D22="travail"),(H22+(F22>H22)-F22-G22),INDEX('bases de donnée'!$E$20:$E$32,MATCH(D22,gerald2,0))) -> 0 | K22: =IF((J22-'bases de donnée'!E$7)<0,0,(J22-'bases de donnée'!E$7)) -> 0 | L22: =IF(OR(D22="férié travaillé",D22="travail"),(H22+(F22>H22)-F22),INDEX('bases de donnée'!$E$20:$E$32,MATCH(D22,gerald2,0))) -> 0 | M22: =IF((L22-'bases de donnée'!E$4)<0,0,(L22-'bases de donnée'!E$4)) -> 0 | N22: =N21+J22 -> 0 | O22: H semaine hc de | P22: =IF(AND(F22<>"",H22<>""),1,0+OR(N(H21)<N(F21),D22="récupération",D22="congé 1 jour",D22="congé 1/2 jour ",D22="congé 5h24",D22="arrêt maladie",D22="arrêt travail",D22="férié ",D22="congé parentale",D22="congé de naissance")) -> 0 | R22: =IF(SUM(MOD(H22-F22,1)-IF(H22>F22,MAX(0,MIN(H22,'bases de donnée'!E$16/24)-MAX('planning '!F22,7/24)),MAX(0,'bases de donnée'!E$16/24-MAX('planning '!F22,7/24))+MAX(0,MIN('planning '!H22,'bases de donnée'!E$16/24)-7/24)))<0,0,SUM(MOD('planning '!H22-'planning '!F22,1)-IF('planning '!H22>'planning '!F22,MAX(0,MIN('planning '!H22,'bases de donnée'!E$16/24)-MAX('planning '!F22,7/24)),MAX(0,'bases de donnée'!E$16/24-MAX('planning '!F22,7/24))+MAX(0,MIN('planning '!H22,'bases de donnée'!E$16/24)-7/24)))) -> 0 | T22: =IF(D22<>"travail",IF(D22="férié travaillé",MOD(H22-F22,1)-G22,"00:00"),"00:00") -> 00:00 | U22: =IF(SUM(IF(N22>('bases de donnée'!E$9*1),N22-('bases de donnée'!E$9*1),0)-U21)<0,0,SUM(IF(N22>('bases de donnée'!E$9*1),N22-('bases de donnée'!E$9*1),0)-U18-U19-U20-U21)) -> 0 | W22: =R22 -> 0 | Y22: =IF(SUM(T22-W22)<0,0,SUM(T22-W22)) -> 0 | Z22: =IF(SUM(U22-W22-Y22)<0,0,SUM(U22-W22-Y22)) -> 0
C23: =C22+1 -> 42381 | D23: travail | E23: =IF(AND(H23="",F23=""),"",C23+F23) | I23: =IF(AND(F23="",H23=""),"",C23+H23) | J23: =IF(OR(D23="férié travaillé",D23="travail"),(H23+(F23>H23)-F23-G23),INDEX('bases de donnée'!$E$20:$E$32,MATCH(D23,gerald2,0))) -> 0 | K23: =IF((J23-'bases de donnée'!E$7)<0,0,(J23-'bases de donnée'!E$7)) -> 0 | L23: =IF(OR(D23="férié travaillé",D23="travail"),(H23+(F23>H23)-F23),INDEX('bases de donnée'!$E$20:$E$32,MATCH(D23,gerald2,0))) -> 0 | M23: =IF((L23-'bases de donnée'!E$4)<0,0,(L23-'bases de donnée'!E$4)) -> 0 | N23: =N22+J23 -> 0 | O23: ='bases de donnée'!E$10 -> 2 | P23: =IF(AND(F23<>"",H23<>""),1,0+OR(N(H22)<N(F22),D23="récupération",D23="congé 1 jour",D23="congé 1/2 jour ",D23="congé 5h24",D23="arrêt maladie",D23="arrêt travail",D23="férié ",D23="congé parentale",D23="congé de naissance")) -> 0 | R23: =IF(SUM(MOD(H23-F23,1)-IF(H23>F23,MAX(0,MIN(H23,'bases de donnée'!E$16/24)-MAX('planning '!F23,7/24)),MAX(0,'bases de donnée'!E$16/24-MAX('planning '!F23,7/24))+MAX(0,MIN('planning '!H23,'bases de donnée'!E$16/24)-7/24)))<0,0,SUM(MOD('planning '!H23-'planning '!F23,1)-IF('planning '!H23>'planning '!F23,MAX(0,MIN('planning '!H23,'bases de donnée'!E$16/24)-MAX('planning '!F23,7/24)),MAX(0,'bases de donnée'!E$16/24-MAX('planning '!F23,7/24))+MAX(0,MIN('planning '!H23,'bases de donnée'!E$16/24)-7/24)))) -> 0 | T23: =IF(D23<>"travail",IF(D23="férié travaillé",MOD(H23-F23,1)-G23,"00:00"),"00:00") -> 00:00 | U23: =IF(SUM(IF(N23>('bases de donnée'!E$9*1),N23-('bases de donnée'!E$9*1),0)-U22)<0,0,SUM(IF(N23>('bases de donnée'!E$9*1),N23-('bases de donnée'!E$9*1),0)-U18-U19-U20-U21-U22)) -> 0 | W23: =R23 -> 0 | Y23: =IF(SUM(T23-W23)<0,0,SUM(T23-W23)) -> 0 | Z23: =IF(SUM(U23-W23-Y23)<0,0,SUM(U23-W23-Y23)) -> 0
C24: =C23+1 -> 42382 | D24: travail | E24: =IF(AND(H24="",F24=""),"",C24+F24) | I24: =IF(AND(F24="",H24=""),"",C24+H24) | J24: =IF(OR(D24="férié travaillé",D24="travail"),(H24+(F24>H24)-F24-G24),INDEX('bases de donnée'!$E$20:$E$32,MATCH(D24,gerald2,0))) -> 0 | K24: =IF((J24-'bases de donnée'!E$7)<0,0,(J24-'bases de donnée'!E$7)) -> 0 | L24: =IF(OR(D24="férié travaillé",D24="travail"),(H24+(F24>H24)-F24),INDEX('bases de donnée'!$E$20:$E$32,MATCH(D24,gerald2,0))) -> 0 | M24: =IF((L24-'bases de donnée'!E$4)<0,0,(L24-'bases de donnée'!E$4)) -> 0 | N24: =N23+J24 -> 0 | O24: =IF((N24-'bases de donnée'!E$10)<0,0,(N24-'bases de donnée'!E$10)) -> 0 | P24: =IF(AND(F24<>"",H24<>""),1,0+OR(N(H23)<N(F23),D24="récupération",D24="congé 1 jour",D24="congé 1/2 jour ",D24="congé 5h24",D24="arrêt maladie",D24="arrêt travail",D24="férié ",D24="congé parentale",D24="congé de naissance")) -> 0 | R24: =IF(SUM(MOD(H24-F24,1)-IF(H24>F24,MAX(0,MIN(H24,'bases de donnée'!E$16/24)-MAX('planning '!F24,7/24)),MAX(0,'bases de donnée'!E$16/24-MAX('planning '!F24,7/24))+MAX(0,MIN('planning '!H24,'bases de donnée'!E$16/24)-7/24)))<0,0,SUM(MOD('planning '!H24-'planning '!F24,1)-IF('planning '!H24>'planning '!F24,MAX(0,MIN('planning '!H24,'bases de donnée'!E$16/24)-MAX('planning '!F24,7/24)),MAX(0,'bases de donnée'!E$16/24-MAX('planning '!F24,7/24))+MAX(0,MIN('planning '!H24,'bases de donnée'!E$16/24)-7/24)))) -> 0 | S24: =J24 -> 0 | T24: =IF(D24<>"travail",IF(D24="férié travaillé",MOD(H24-F24,1)-G24,"00:00"),"00:00") -> 00:00 | U24: =IF(SUM(IF(N24>('bases de donnée'!E$9*1),N24-('bases de donnée'!E$9*1),0)-U23)<0,0,SUM(IF(N24>('bases de donnée'!E$9*1),N24-('bases de donnée'!E$9*1),0)-U18-U19-U20-U21-U22-U23)) -> 0 | W24: =R24 -> 0 | X24: =IF(SUM(S24-R24)<0,0,SUM(S24-R24)) -> 0 | Y24: =IF(SUM(T24-S24-R24)<0,0,SUM(T24-S24-R24)) -> 0 | Z24: =IF(SUM(U24-R24-S24-T24)<0,0,SUM(U24-R24-S24-T24)) -> 0

Sheet résultat 
C2: jours sur l'année | G2: congé = 243 h | L2: hs +36 réel | O2: hs +36 réglementation 2018 | R2: perte heures non majoré suite à la réglementation 2008
C3: jours | F3: congé 1 jour | G3: =COUNTIF('planning '!$D$6:$D$14,F3) -> 0 | H3: =G3*'bases de donnée'!E5 -> 0 | K3: mois | M3: hc de | N3: h sup | O3: heures majoré | Q3: H dimanche | R3: =SUM('planning '!AB12:AB14) -> 0
B4: travail | C4: =COUNTIF('planning '!$D$6:$D$14,B4) -> 6 | F4: congé 1/2 jour | G4: =COUNTIF('planning '!$D$6:$D$14,F4) -> 0 | H4: =SUM(G4*'bases de donnée'!E24) -> 0 | K4: janvier | L4: =SUMPRODUCT((YEAR('planning '!$C$6:$C$14)='bases de donnée'!E$2)*(MONTH('planning '!$C$6:$C$14)=MONTH(1&K4))*('planning '!$U$6:$U$14)) -> 0 | M4: =IF(SUM(L4-'bases de donnée'!E$12)<0,0,SUM(L4-'bases de donnée'!E$12)) -> 0 | N4: =SUMPRODUCT((YEAR('planning '!$C$6:$C$14)='bases de donnée'!E$2)*(MONTH('planning '!$C$6:$C$14)=MONTH(1&K4))*('planning '!$Z$6:$Z$14)) -> 0 | O4: =IF(N4<0.625,N4*'bases de donnée'!$E$14,(0.583333*'bases de donnée'!$E$14)+(N4-0.583333)*'bases de donnée'!$E$15)*24 -> 0 | Q4: H férié travaillé | R4: =SUM('planning '!AC12:AC16) -> 0
B5: off | C5: =COUNTIF('planning '!$D$6:$D$14,B5) -> 0 | F5: congé 5h24 | G5: =COUNTIF('planning '!$D$6:$D$14,F5) -> 0 | H5: =G5*'bases de donnée'!E25 -> 0 | K5: février | L5: =SUMPRODUCT((YEAR('planning '!$C$6:$C$14)='bases de donnée'!E$2)*(MONTH('planning '!$C$6:$C$14)=MONTH(1&K5))*('planning '!$U$6:$U$14)) -> 0 | M5: =IF(SUM(L5-'bases de donnée'!E$12)<0,0,SUM(L5-'bases de donnée'!E$12)) -> 0 | N5: =SUMPRODUCT((YEAR('planning '!$C$6:$C$14)='bases de donnée'!E$2)*(MONTH('planning '!$C$6:$C$14)=MONTH(1&K5))*('planning '!$Z$6:$Z$14)) -> 0 | O5: =IF(N5<0.625,N5*'bases de donnée'!$E$14,(0.583333*'bases de donnée'!$E$14)+(N5-0.583333)*'bases de donnée'!$E$15)*24 -> 0 | Q5: H sup + 36 | R5: =SUM('planning '!AD12:AD16) -> 0
B6: récupération | C6: =COUNTIF('planning '!$D$6:$D$14,B6) -> 0 | F6: résultat | G6: =SUM(G3:G5) -> 0 | H6: =SUM(H3+H4+H5) -> 0 | K6: mars | L6: =SUMPRODUCT((YEAR('planning '!$C$6:$C$14)='bases de donnée'!E$2)*(MONTH('planning '!$C$6:$C$14)=MONTH(1&K6))*('planning '!$U$6:$U$14)) -> 0 | M6: =IF(SUM(L6-'bases de donnée'!E$12)<0,0,SUM(L6-'bases de donnée'!E$12)) -> 0 | N6: =SUMPRODUCT((YEAR('planning '!$C$6:$C$14)='bases de donnée'!E$2)*(MONTH('planning '!$C$6:$C$14)=MONTH(1&K6))*('planning '!$Z$6:$Z$14)) -> 0 | O6: =IF(N6<0.625,N6*'bases de donnée'!$E$14,(0.583333*'bases de donnée'!$E$14)+(N6-0.583333)*'bases de donnée'!$E$15)*24 -> 0
B7: arrêt maladie | C7: =COUNTIF('planning '!$D$6:$D$14,B7) -> 0 | K7: avril | L7: =SUMPRODUCT((YEAR('planning '!$C$6:$C$14)='bases de donnée'!E$2)*(MONTH('planning '!$C$6:$C$14)=MONTH(1&K7))*('planning '!$U$6:$U$14)) -> 0 | M7: =IF(SUM(L7-'bases de donnée'!E$12)<0,0,SUM(L7-'bases de donnée'!E$12)) -> 0 | N7: =SUMPRODUCT((YEAR('planning '!$C$6:$C$14)='bases de donnée'!E$2)*(MONTH('planning '!$C$6:$C$14)=MONTH(1&K7))*('planning '!$Z$6:$Z$14)) -> 0 | O7: =IF(N7<0.625,N7*'bases de donnée'!$E$14,(0.583333*'bases de donnée'!$E$14)+(N7-0.583333)*'bases de donnée'!$E$15)*24 -> 0
B8: arrêt travail | C8: =COUNTIF('planning '!$D$6:$D$14,B8) -> 0 | G8: congé parentale 11 jours - naissance 3 jours | K8: mai | L8: =SUMPRODUCT((YEAR('planning '!$C$6:$C$14)='bases de donnée'!E$2)*(MONTH('planning '!$C$6:$C$14)=MONTH(1&K8))*('planning '!$U$6:$U$14)) -> 0 | M8: =IF(SUM(L8-'bases de donnée'!E$12)<0,0,SUM(L8-'bases de donnée'!E$12)) -> 0 | N8: =SUMPRODUCT((YEAR('planning '!$C$6:$C$14)='bases de donnée'!E$2)*(MONTH('planning '!$C$6:$C$14)=MONTH(1&K8))*('planning '!$Z$6:$Z$14)) -> 0 | O8: =IF(N8<0.625,N8*'bases de donnée'!$E$14,(0.583333*'bases de donnée'!$E$14)+(N8-0.583333)*'bases de donnée'!$E$15)*24 -> 0
B9: férié | C9: =COUNTIF('planning '!$D$6:$D$14,B9) -> 0 | F9: congé parentale | G9: =COUNTIF('planning '!$D$6:$D$14,F9) -> 0 | K9: juin | L9: =SUMPRODUCT((YEAR('planning '!$C$6:$C$14)='bases de donnée'!E$2)*(MONTH('planning '!$C$6:$C$14)=MONTH(1&K9))*('planning '!$U$6:$U$14)) -> 0 | M9: =IF(SUM(L9-'bases de donnée'!E$12)<0,0,SUM(L9-'bases de donnée'!E$12)) -> 0 | N9: =SUMPRODUCT((YEAR('planning '!$C$6:$C$14)='bases de donnée'!E$2)*(MONTH('planning '!$C$6:$C$14)=MONTH(1&K9))*('planning '!$Z$6:$Z$14)) -> 0 | O9: =IF(N9<0.625,N9*'bases de donnée'!$E$14,(0.583333*'bases de donnée'!$E$14)+(N9-0.583333)*'bases de donnée'!$E$15)*24 -> 0
B10: férié travaillé | C10: =COUNTIF('planning '!$D$6:$D$14,B10) -> 0 | F10: congé parentale week end | G10: =COUNTIF('planning '!$D$6:$D$14,F10) -> 0 | K10: juillet | L10: =SUMPRODUCT((YEAR('planning '!$C$6:$C$14)='bases de donnée'!E$2)*(MONTH('planning '!$C$6:$C$14)=MONTH(1&K10))*('planning '!$U$6:$U$14)) -> 0 | M10: =IF(SUM(L10-'bases de donnée'!E$12)<0,0,SUM(L10-'bases de donnée'!E$12)) -> 0 | N10: =SUMPRODUCT((YEAR('planning '!$C$6:$C$14)='bases de donnée'!E$2)*(MONTH('planning '!$C$6:$C$14)=MONTH(1&K10))*('planning '!$Z$6:$Z$14)) -> 0 | O10: =IF(N10<0.625,N10*'bases de donnée'!$E$14,(0.583333*'bases de donnée'!$E$14)+(N10-0.583333)*'bases de donnée'!$E$15)*24 -> 0
F11: congé de naissance | G11: =COUNTIF('planning '!$D$9:$D$14,F11) -> 0 | K11: août | L11: =SUMPRODUCT((YEAR('planning '!$C$6:$C$14)='bases de donnée'!E$2)*(MONTH('planning '!$C$6:$C$14)=MONTH(1&K11))*('planning '!$U$6:$U$14)) -> 0 | M11: =IF(SUM(L11-'bases de donnée'!E$12)<0,0,SUM(L11-'bases de donnée'!E$12)) -> 0 | N11: =SUMPRODUCT((YEAR('planning '!$C$6:$C$14)='bases de donnée'!E$2)*(MONTH('planning '!$C$6:$C$14)=MONTH(1&K11))*('planning '!$Z$6:$Z$14)) -> 0 | O11: =IF(N11<0.625,N11*'bases de donnée'!$E$14,(0.583333*'bases de donnée'!$E$14)+(N11-0.583333)*'bases de donnée'!$E$15)*24 -> 0
B12: résultat en jours | C12: =SUM(C4+C5+C6+C7+C8+C9+C10+G6+G12+G13) -> 6 | F12: résultat congé parentale | G12: =G9+G10 -> 0 | K12: septembre | L12: =SUMPRODUCT((YEAR('planning '!$C$6:$C$14)='bases de donnée'!E$2)*(MONTH('planning '!$C$6:$C$14)=MONTH(1&K12))*('planning '!$U$6:$U$14)) -> 0 | M12: =IF(SUM(L12-'bases de donnée'!E$12)<0,0,SUM(L12-'bases de donnée'!E$12)) -> 0 | N12: =SUMPRODUCT((YEAR('planning '!$C$6:$C$14)='bases de donnée'!E$2)*(MONTH('planning '!$C$6:$C$14)=MONTH(1&K12))*('planning '!$Z$6:$Z$14)) -> 0 | O12: =IF(N12<0.625,N12*'bases de donnée'!$E$14,(0.583333*'bases de donnée'!$E$14)+(N12-0.583333)*'bases de donnée'!$E$15)*24 -> 0
B13: résultat sur l'année en heures | C13: =SUMPRODUCT((YEAR('planning '!$C$6:$C$14)='bases de donnée'!E$2)*('planning '!$J$6:$J$14))-H6 -> 0.33333333 | F13: résultat congé naissance | G13: =G11 -> 0 | K13: octobre | L13: =SUMPRODUCT((YEAR('planning '!$C$5:$C$14)='bases de donnée'!E$2)*(MONTH('planning '!$C$5:$C$14)=MONTH(1&K13))*('planning '!$U$5:$U$14)) -> 0 | M13: =IF(SUM(L13-'bases de donnée'!E$12)<0,0,SUM(L13-'bases de donnée'!E$12)) -> 0 | N13: =SUMPRODUCT((YEAR('planning '!$C$6:$C$14)='bases de donnée'!E$2)*(MONTH('planning '!$C$6:$C$14)=MONTH(1&K13))*('planning '!$Z$6:$Z$14)) -> 0 | O13: =IF(N13<0.625,N13*'bases de donnée'!$E$14,(0.583333*'bases de donnée'!$E$14)+(N13-0.583333)*'bases de donnée'!$E$15)*24 -> 0
K14: novembre | L14: =SUMPRODUCT((YEAR('planning '!$C$6:$C$14)='bases de donnée'!E$2)*(MONTH('planning '!$C$6:$C$14)=MONTH(1&K14))*('planning '!$U$6:$U$14)) -> 0 | M14: =IF(SUM(L14-'bases de donnée'!E$12)<0,0,SUM(L14-'bases de donnée'!E$12)) -> 0 | N14: =SUMPRODUCT((YEAR('planning '!$C$6:$C$14)='bases de donnée'!E$2)*(MONTH('planning '!$C$6:$C$14)=MONTH(1&K14))*('planning '!$Z$6:$Z$14)) -> 0 | O14: =IF(N14<0.625,N14*'bases de donnée'!$E$14,(0.583333*'bases de donnée'!$E$14)+(N14-0.583333)*'bases de donnée'!$E$15)*24 -> 0
K15: décembre | L15: =SUMPRODUCT((YEAR('planning '!$C$6:$C$14)='bases de donnée'!E$2)*(MONTH('planning '!$C$6:$C$14)=MONTH(1&K15))*('planning '!$U$6:$U$14)) -> 0 | M15: =IF(SUM(L15-'bases de donnée'!E$12)<0,0,SUM(L15-'bases de donnée'!E$12)) -> 0 | N15: =SUMPRODUCT((YEAR('planning '!$C$6:$C$14)='bases de donnée'!E$2)*(MONTH('planning '!$C$6:$C$14)=MONTH(1&K15))*('planning '!$Z$6:$Z$14)) -> 0 | O15: =IF(N15<0.625,N15*'bases de donnée'!$E$14,(0.583333*'bases de donnée'!$E$14)+(N15-0.583333)*'bases de donnée'!$E$15)*24 -> 0
D16: résultat récupération sur l'année | H16: résultat des heures hors cadre sur l'année
C17: heures | D17: heures majoré | H17: hc de
B18: HS + 36 | C18: =SUM(N4:N15) -> 0 | D18: =SUM(O4:O15) -> 0 | G18: travail annuel +1580 h | H18: =IF(SUM(C13-'bases de donnée'!E$3)<0,0,SUM(C13-'bases de donnée'!E$3)) -> 0
B19: H nuit | C19: =SUMPRODUCT((YEAR('planning '!$C$6:$C$14)='bases de donnée'!E$2)*('planning '!$W$6:$W$14)) -> 0 | D19: =SUM(C19*'bases de donnée'!E17)*24 -> 0 | G19: jour +10 h | H19: =SUM('planning '!K5:K14) -> 0
B20: H dimanche | C20: =SUMPRODUCT((YEAR('planning '!$C$6:$C$14)='bases de donnée'!E$2)*('planning '!$X$6:$X$14)) -> 0 | D20: =SUM(C20*'bases de donnée'!E18)*24 -> 0 | G20: amplitude jour +12 h | H20: =SUM('planning '!M5:M14) -> 0
B21: H férié travaillé | C21: =SUMPRODUCT((YEAR('planning '!$C$6:$C$14)='bases de donnée'!E$2)*('planning '!$Y$6:$Y$14)) -> 0 | D21: =SUM(C21*'bases de donnée'!E19)*24 -> 0 | G21: jours hedbomadaire + 6 jours | H21: =SUM('planning '!O6+'planning '!#REF!+'planning '!#REF!+'planning '!#REF!+'planning '!#REF!+'planning '!#REF!+'planning '!#REF!+'planning '!#REF!+'planning '!#REF!+'planning '!#REF!+'planning '!#REF!+'planning '!#REF!+'planning '!#REF!+'planning '!#REF!+'planning '!#REF!+'planning '!#REF!+'planning '!#REF!+'planning '!#REF!+'planning '!#REF!+'planning '!#REF!+'planning '!#REF!+'planning '!#REF!+'planning '!#REF!+'planning '!#REF!+'planning '!#REF!+'planning '!#REF!+'planning '!#REF!+'planning '!#REF!+'planning '!#REF!+'planning '!#REF!++'planning '!#REF!+'planning '!#REF!+'planning '!#REF!+'planning '!#REF!+'planning '!#REF!+'planning '!#REF!+'planning '!#REF!+'planning '!#REF!+'planning '!#REF!+'planning '!#REF!+'planning '!#REF!+'planning '!#REF!+'planning '!#REF!+'planning '!#REF!+'planning '!#REF!+'planning '!#REF!+'planning '!#REF!+'planning '!#REF!+'planning '!#REF!+'planning '!#REF!+'planning '!#REF!+'planning '!#REF!+'planning '!#REF!) -> #REF!
B22: Heures supplémenatires 2018 | D22: 3.6041667 | G22: heures semaine + 48h | H22: =SUM('planning '!O11+'planning '!#REF!+'planning '!#REF!+'planning '!#REF!+'planning '!#REF!+'planning '!#REF!+'planning '!#REF!+'planning '!#REF!+'planning '!#REF!+'planning '!#REF!+'planning '!#REF!+'planning '!#REF!+'planning '!#REF!+'planning '!#REF!++'planning '!#REF!+'planning '!#REF!+'planning '!#REF!+'planning '!#REF!+'planning '!#REF!+'planning '!#REF!+'planning '!#REF!+'planning '!#REF!+'planning '!#REF!+'planning '!#REF!+'planning '!#REF!+'planning '!#REF!+'planning '!#REF!+'planning '!#REF!+'planning '!#REF!+'planning '!#REF!+'planning '!#REF!+'planning '!#REF!+'planning '!#REF!+'planning '!#REF!+'planning '!#REF!+'planning '!#REF!+'planning '!#REF!+'planning '!#REF!+'planning '!#REF!+'planning '!#REF!+'planning '!#REF!+'planning '!#REF!+'planning '!#REF!+'planning '!#REF!+'planning '!#REF!+'planning '!#REF!+'planning '!#REF!+'planning '!#REF!+'planning '!#REF!+'planning '!#REF!+'planning '!#REF!+'planning '!#REF!+'planning '!#REF!+'planning '!#REF!) -> #REF!
B23: récup pris | D23: =SUM(C6*'bases de donnée'!E5) -> 0 | G23: congé | H23: =IF(SUM(H6-'bases de donnée'!E$13)<0,0,SUM(H6-'bases de donnée'!E$13)) -> 0
C24: résutat | D24: =SUM(D18+D19+D20+D21+D22-D23) -> 3.6041667 | G24: repos journalier /hebdo | H24: =SUM('planning '!#REF!) -> #REF!
G25: h sup mois + 25h | H25: =SUM(M4:M15) -> 0

Sheet bases de donnée
D2: année | E2: 2020
D3: heures annueltravail | E3: 65.833333
D4: amplitude du temps | E4: 0.5
D5: heure jour | E5: 0.3 | O5: =IF(SUM(O4-'bases de donnée'!E$6)<0,0,SUM(O4-'bases de donnée'!E$6)) -> 0
D6: jour semaine maximun | E6: 6
D7: la durée de travail jour | E7: 0.41666667
D8: repos quotidien | E8: 0.45833333
D9: durée du travail hebdomadaire | E9: 1.5416667
D10: durée du travail hebdomadaire max | E10: 2
D11: repos hebdomadaire | E11: 1.4583333
D12: heures sup mensuel max par mois | E12: 1.0416667
D13: congés | E13: 10.125
D14: heures sup 1 à 14 | E14: 0.052083333
D15: heures sup 15 à 25 | E15: 0.0625
D16: début H nuit | E16: 21
D17: heures de nuit | E17: 0.10416667
... D21: travail | E21: 0
D22: récupération | E22: =E5 -> 0.3
D23: congé 1 jour | E23: =E5 -> 0.3
D24: congé 1/2 jour | E24: 0.16388889
D25: congé 5h24 | E25: 0.225
D26: arrêt maladie | E26: =E5 -> 0.3
D27: arrêt travail | E27: =E5 -> 0.3
D28: férié | E28: =E5 -> 0.3
D29: férié travaillé | E29: 0
D30: congé parentale | E30: =E5 -> 0.3
D31: congé parentale week end | E31: 0
D32: congé de naissance | E32: =E5 -> 0.3
