Workbook

Sheet INDICATEUR RH
A1: Indicateurs RH pour les collèges
A3: Fonctions | B3: Accueil | C3: Maintenance | D3: Restauration | I3: Entretien | L3: Lingerie | M3: Gardiennage gymnase
D4: Chef | E4: Second | F4: Aide + entretien cuisine | G4: Plonge + entretien réfectoire | H4: Magasinier | I4: Surfaces bâties | J4: Surfaces non bâties (cours, préaux, stationnement) | K4: Espaces verts
A5: Normes (ETP) | B5: 1 | C5: 1 | D5: 1 | E5: 1 | F5: 1 | G5: 1 | H5: 0 | I5: 1 500m2/ ETP* | J5: 20 000m2/ ETP* | K5: 20 000m2/ ETP* | L5: 0 | M5: 1
A6: Remplacement pause | B6: +0,2
A7: Nb élèves>700* | B7: +0,2 | C7: +0,5
A8: Cuisine satellite | E8: -1
A9: Nb DP<250* | F9: -1
A10: 500<Nb DP<800* | F10: +0,5 | G10: +0,5
A11: Nb DP>800* | F11: +1 | G11: +1 | H11: +0,5
A12: > 2 bâtiments | I12: +0,3
A13: > 2 étages | I13: +0,3
A14: Réfectoire> 400m2 | F14: +0,2
A15: 17<Nb agents<35* | L15: +0,25
A16: Nb agents>35 | L16: +0,5
A17: Internat | L17: +0,25
A18: REP + | I18: +0,25
A19: Gymnase sans gardien | M19: -0,5
A20: Gymnase avec gardien | M20: -1
A22: * Norme KPMG

Sheet BASE
A1: Nom établissement | B1: Commune | C1: Total eff.Theorique | D1: Total nombre élèves 2016 | E1: REP et REP+ | F1: TYPE PRODUCTION (DATE?) | G1: NB DP | H1: NB INTERNES | I1: Aires baties SHON | J1: Batiments scolaires SHON | K1: Batiments préfabriqués SHON | L1: Equipements sportifs couverts SHON | M1: Aires non baties | N1: Surfaces non bâties (cours, péaux, stationnement, equipement sportifs exterireurs) | O1: Equipements sportifs exterieurs | P1: Cours extérieures | Q1: Stationnement et voirie | R1: Espaces verts | S1: Preau | T1: Logements de fonction SHONx0,95 | U1: SURFACES CUISINE ET DEPENDANCES | V1: SURFACES SALLES A MANGER (REFECTOIRE) | W1: TOTAL | X1: Surfaces vitrées
A2: BERTONE | B2: ANTIBES | C2: 700 | D2: 706 | F2: SUR PLACE/internat | G2: 592 | I2: =SUM(J2:L2) -> 8379 | J2: 7013 | K2: - | L2: 1366 | M2: 7239 | N2: =O2+P2+Q2+S2 -> 7588 | O2: 819 | P2: 985 | Q2: 5435 | R2: 8544 | S2: 349 | T2: 728 | U2: 454.06 | V2: 269.52 | W2: 723.58 | X2: 1284*
A3: FERSEN | B3: ANTIBES | C3: 600 | D3: 488 | F3: SUR PLACE | G3: 402 | I3: =SUM(J3:L3) -> 4384 | J3: 4384 | K3: - | L3: 0 | M3: 651 | N3: =O3+P3+Q3+S3 -> 856 | O3: 0 | P3: 484 | Q3: 167 | R3: 517 | S3: 205 | T3: 517 | U3: 310.12 | V3: 223.72 | W3: 533.84 | X3: 741*
A4: LA FONTONNE | B4: ANTIBES | C4: 700 | D4: 357 | F4: SUR PLACE | G4: 328 | I4: =SUM(J4:L4) -> 6417 | J4: 4929 | K4: - | L4: 1488 | M4: 7134 | N4: =O4+P4+Q4+S4 -> 7269 | O4: 1960 | P4: 1451 | Q4: 3723 | R4: 721 | S4: 135 | T4: 720 | U4: 351.52 | V4: 270.16 | W4: 621.68 | X4: 1110*
A5: SIDNEY BECHET | B5: ANTIBES | C5: 400 | D5: 396 | F5: SUR PLACE | G5: 344 | I5: 0 | J5: 0 | K5: 0 | L5: 0 | N5: =O5+P5+Q5+S5 -> 0 | O5: 0 | P5: 0 | Q5: 0 | R5: 0 | S5: 0 | T5: 0 | U5: 0 | V5: 0 | W5: 0 | X5: 0
A6: ROUSTAN | B6: ANTIBES | C6: 600 | D6: 330 | F6: SUR PLACE | G6: 209 | I6: 4790 | J6: 4790 | K6: - | L6: 0 | M6: 2170 | N6: =O6+P6+Q6+S6 -> 2300 | O6: 0 | P6: 1400 | Q6: 770 | R6: 543 | S6: 130 | T6: 323 | U6: 347.46 | V6: 199.77 | W6: 547.23 | X6: 450 *
A7: JEAN COCTEAU | B7: BEAULIEU | C7: 600 | D7: 503 | F7: SUR PLACE | G7: 494 | I7: 4123 | J7: 4123 | K7: - | L7: 0 | M7: 4938 | N7: =O7+P7+Q7+S7 -> 5196 | O7: 0 | P7: 1828 | Q7: 3110 | R7: 4888 | S7: 258 | T7: 477 | U7: 330.2 | V7: 223.95 | W7: 554.15 | X7: 454*
A8: BELLEVUE | B8: BEAUSOLEIL | C8: 550 | D8: 526 | F8: SUR PLACE | G8: 317 | I8: 3751 | J8: 3540 | K8: - | L8: 211 | M8: 1151 | N8: =O8+P8+Q8+S8 -> 1443 | O8: 0 | P8: 775 | Q8: 376 | R8: 247 | S8: 292 | T8: 397 | U8: 326.97 | V8: 247.84 | W8: 574.81 | X8: 550*
A9: L'EGANAUDE | B9: BIOT | C9: 850 | D9: 737 | F9: SUR PLACE | G9: 686 | I9: 7140 | J9: 6051 | K9: 109 | L9: 980 | M9: 10078 | N9: =O9+P9+Q9+S9 -> 10258 | O9: 2496 | P9: 1617 | Q9: 5965 | R9: 7099 | S9: 180 | T9: 645 | U9: 315.84 | V9: 331.94 | W9: 647.78 | X9: 561*
A10: L'EAU VIVE | B10: BREIL SUR ROYA | C10: 200 | D10: 122 | F10: SUR PLACE/internat | G10: 85 | H10: 30 | I10: 3210 | J10: 3083 | K10: 108 | L10: 19 | M10: 3290 | N10: =O10+P10+Q10+S10 -> 3458 | O10: 624 | P10: 1918 | Q10: 748 | R10: 194 | S10: 168 | T10: 594 | U10: 202.99 | V10: 112.18 | W10: 315.17 | X10: 671*
A11: LES BREGUIERES | B11: CAGNES SUR MER | C11: 800 | D11: 532 | F11: SUR PLACE | G11: 396 | I11: 14447 | J11: 7121 | K11: - | L11: 7326 | M11: 9011 | N11: =O11+P11+Q11+S11 -> 9887 | O11: 2708 | P11: 3021 | Q11: 3282 | R11: 401 | S11: 876 | T11: 851* | U11: 474.49 | V11: 235.58 | W11: 710.07 | X11: 0
A12: ANDRE MALRAUX | B12: CAGNES SUR MER | C12: 600 | D12: 500 | F12: SUR PLACE | G12: 478 | I12: 5673 | J12: 4748 | K12: - | L12: 925 | M12: 5931 | N12: =O12+P12+Q12+S12 -> 5931 | O12: 1882 | P12: 1442 | Q12: 2607 | R12: 2463 | S12: 0 | T12: 567 | U12: 230.37 | V12: 245.36 | W12: 475.73 | X12: 784*
A13: JULES VERNE | B13: CAGNES SUR MER | C13: 700 | D13: 592 | F13: SUR PLACE | G13: 426 | I13: 6685 | J13: 6251 | K13: - | L13: 434 | M13: 2043 | N13: =O13+P13+Q13+S13 -> 2381 | O13: 0 | P13: 1337 | Q13: 706 | R13: 105 | S13: 338 | T13: 525 | U13: 115.35 | V13: 249.49 | W13: 364.84 | X13: 929*
A14: CAPRON | B14: CANNES | C14: 600 | D14: 303 | F14: SUR PLACE | G14: 308 | I14: 5312 | J14: 4899 | K14: - | L14: 413 | M14: 14146 | N14: =O14+P14+Q14+S14 -> 14330 | O14: 6538 | P14: 3249 | Q14: 4359 | R14: 2212 | S14: 184 | T14: 872 | U14: 341.69 | V14: 288.36 | W14: 630.05 | X14: 719 + mur rideau
A15: LES MURIERS | B15: CANNES | C15: 700 | D15: 770 | E15: REP | F15: SUR PLACE | G15: 525 | I15: 7179 | J15: 7179 | K15: - | L15: 0 | M15: 8008 | N15: =O15+P15+Q15+S15 -> 8482 | O15: 1115 | P15: 2525 | Q15: 4368 | R15: 5644 | S15: 474 | T15: 554 | U15: 334.65 | V15: 384.93 | W15: 719.58 | X15: 1 350*
A16: GERARD PHILIPE | B16: CANNES | C16: 700 | D16: 597 | F16: SUR PLACE | G16: 478 | I16: 4907 | J16: 4907 | K16: - | L16: 0 | M16: 5168 | N16: =O16+P16+Q16+S16 -> 5499 | O16: 0 | P16: 2546 | Q16: 2622 | R16: 5243 | S16: 331 | T16: 510 | U16: 370.53 | V16: 308.53 | W16: 679.06 | X16: 721*
A17: LES VALLERGUES | B17: CANNES | C17: 700 | D17: 480 | E17: REP | F17: SUR PLACE | G17: 410 | I17: 6451 | J17: 5240 | K17: - | L17: 1211 | M17: 5950 | N17: =O17+P17+Q17+S17 -> 6253 | O17: 1770 | P17: 767 | Q17: 3413 | R17: 4701 | S17: 303 | T17: 513 | U17: 526.96 | V17: 298.95 | W17: 825.91 | X17: 871*
A18: PAUL LANGEVIN | B18: CARROS | C18: 900 | D18: 796 | E18: REP | F18: SUR PLACE | G18: 575 | I18: 6681 | J18: 6553 | K18: 129 | L18: 0 | M18: 18801 | N18: =O18+P18+Q18+S18 -> 19169 | O18: 1200 | P18: 2201 | Q18: 15400 | R18: 15400 | S18: 368 | T18: 669 | U18: 498.35 | V18: 316.72 | W18: 815.07 | X18: 857**
A19: ROGER CARLES | B19: CONTES | C19: 750 | D19: 706 | F19: SUR PLACE | G19: 667 | I19: 6132 | J19: 5987 | K19: 146 | L19: 0 | M19: 4502 | N19: =O19+P19+Q19+S19 -> 4703 | O19: 1422 | P19: 2320 | Q19: 760 | R19: 2050 | S19: 201 | T19: 296 | U19: 379.26 | V19: 244.85 | W19: 624.11 | X19: 691 + mur rideau
A20: CANTEPERDRIX | B20: GRASSE | C20: 700 | D20: 728 | F20: SUR PLACE | G20: 669 | I20: 8884 | J20: 6783 | K20: - | L20: 2101 | M20: 11298 | N20: =O20+P20+Q20+S20 -> 11760 | O20: 4696 | P20: 1882 | Q20: 4720 | R20: 9683 | S20: 462 | T20: 647 | U20: 478.44 | V20: 272.34 | W20: 750.78 | X20: 958*
A21: CARNOT | B21: GRASSE | C21: 550 | D21: 426 | F21: SUR PLACE/internat | G21: 262 | I21: 3528 | J21: 3528 | K21: - | L21: 0 | M21: 2104 | N21: =O21+P21+Q21+S21 -> 2339 | O21: 0 | P21: 1625 | Q21: 479 | R21: 1180 | S21: 235 | T21: 100 | U21: 289.87 | V21: 221.48 | W21: 511.35 | X21: 601*
A22: LES JASMINS | B22: GRASSE | C22: 600 | D22: 474 | F22: SUR PLACE | G22: 357 | I22: 6178 | J22: 5344 | K22: - | L22: 835 | M22: 8403 | N22: =O22+P22+Q22+S22 -> 8730 | O22: 2036 | P22: 1586 | Q22: 4781 | R22: 1801 | S22: 327 | T22: 749 | U22: 207.4 | V22: 222.24 | W22: 429.64 | X22: 965*
A23: SAINT HILAIRE | B23: GRASSE | C23: 850 | D23: 474 | F23: SUR PLACE/internat | G23: 309 | H23: 13 | I23: 9244 | J23: 8015 | K23: - | L23: 1229 | M23: 3828 | N23: =O23+P23+Q23+S23 -> 3975 | O23: 569 | P23: 1375 | Q23: 1884 | R23: 200 | S23: 147 | T23: 645 | U23: 410.43 | V23: 191.85 | W23: 602.28 | X23: 597*
A24: FRANCOIS RABELAIS | B24: L'ESCARENE | C24: 600 | D24: 388 | F24: SUR PLACE | G24: 316 | I24: 7266 | J24: 5398 | K24: - | L24: 1868 | M24: 8522 | N24: =O24+P24+Q24+S24 -> 9173 | O24: 2685 | P24: 1661 | Q24: 4176 | R24: 2720 | S24: 651 | T24: 467 | U24: 349.16 | V24: 218.76 | W24: 567.92 | X24: 400*
A25: YVES KLEIN | B25: LA COLLE | C25: 850 | D25: 695 | F25: SUR PLACE | G25: 715 | I25: 6303 | J25: 6303 | K25: - | L25: 0 | M25: 5773 | N25: =O25+P25+Q25+S25 -> 6066 | O25: 1010 | P25: 1777 | Q25: 2986 | R25: 8183 | S25: 293 | T25: 540 | U25: 410.55 | V25: 320.54 | W25: 731.09 | X25: 572*
A26: LA BOURGADE | B26: LA TRINITE | C26: 550 | D26: 449 | F26: SUR PLACE | G26: 278 | I26: 4193 | J26: 4041 | K26: - | L26: 152 | M26: 2592 | N26: =O26+P26+Q26+S26 -> 2967 | O26: 469 | P26: 830 | Q26: 1293 | R26: 2772 | S26: 375 | T26: 465 | U26: 361.9 | V26: 254.84 | W26: 616.74 | X26: 631*
A27: PIERRE BONNARD | B27: LE CANNET | C27: 800 | D27: 524 | F27: SUR PLACE | G27: 417 | I27: 7766 | J27: 7766 | K27: - | L27: 0 | M27: 4485 | N27: =O27+P27+Q27+S27 -> 4687 | O27: 0 | P27: 1264 | Q27: 3221 | R27: 9026 | S27: 202 | T27: 439 | U27: 296.62 | V27: 281.4 | W27: 578.02 | X27: 607*
A28: EMILE ROUX | B28: LE CANNET | C28: 600 | D28: 555 | F28: SUR PLACE | G28: 461 | I28: 6379 | J28: 4763 | K28: - | L28: 1617 | M28: 5371 | N28: =O28+P28+Q28+S28 -> 5634 | O28: 2450 | P28: 371 | Q28: 2550 | R28: 2277 | S28: 263 | T28: 917 | U28: 220.26 | V28: 268.27 | W28: 488.53 | X28: 924*
A29: LE PRE DES ROURES | B29: LE ROURET | C29: 800 | D29: 590 | F29: SUR PLACE | G29: 593 | I29: 8658 | J29: 6341 | K29: - | L29: 2317 | M29: 7119 | N29: =O29+P29+Q29+S29 -> 7345 | O29: 2432 | P29: 2304 | Q29: 2383 | R29: 9242 | S29: 226 | T29: 836 | U29: 446.05 | V29: 314 | W29: 760.05 | X29: 1280*
A30: ALBERT CAMUS | B30: MANDELIEU | C30: 750 | D30: 608 | F30: SUR PLACE | G30: 540 | I30: 6967 | J30: 5233 | K30: - | L30: 1734 | M30: 9202 | N30: =O30+P30+Q30+S30 -> 9659 | O30: 3213 | P30: 1760 | Q30: 4229 | R30: 9394 | S30: 457 | T30: 490 | U30: 352.06 | V30: 309.05 | W30: 661.11 | X30: 656*
A31: LES MIMOSAS | B31: MANDELIEU | C31: 800 | D31: 637 | F31: SUR PLACE | G31: 600 | I31: 7011 | J31: 5194 | K31: - | L31: 1817 | M31: 11555 | N31: =O31+P31+Q31+S31 -> 11714 | O31: 1804 | P31: 1577 | Q31: 8174 | R31: 6664 | S31: 159 | T31: 872 | U31: 387.31 | V31: 270.86 | W31: 658.17 | X31: 1 095*
A32: ANDRE MAUROIS | B32: MENTON | C32: 800 | D32: 552 | F32: SUR PLACE | G32: 379 | I32: 6452 | J32: 5382 | K32: - | L32: 1070 | M32: 489 | N32: =O32+P32+Q32+S32 -> 654 | O32: 0 | P32: 489 | Q32: 0 | R32: 377 | S32: 165 | T32: 527 | U32: 339.92 | V32: 228.1 | W32: 568.02 | X32: 1241*
A33: GUILLAUME VENTO | B33: MENTON | C33: 800 | D33: 701 | F33: SUR PLACE | G33: 491 | I33: 7494 | J33: 6544 | K33: - | L33: 950 | M33: 1903 | N33: =O33+P33+Q33+S33 -> 2181 | O33: 1328 | P33: 575 | Q33: 0 | R33: 135 | S33: 278 | T33: 772 | U33: 410.79 | V33: 248.12 | W33: 658.91 | X33: 719 + mur rideau 180 *
A34: LA CHENAIE | B34: MOUANS SARTOUX | C34: 850 | D34: 576 | F34: SUR PLACE | G34: 554 | I34: 7346 | J34: 5614 | K34: - | L34: 1731 | M34: 7205 | N34: =O34+P34+Q34+S34 -> 7737 | O34: 1680 | P34: 1694 | Q34: 3831 | R34: 5776 | S34: 532 | T34: 901 | U34: 352.15 | V34: 271.96 | W34: 624.11 | X34: 940*
A35: LES CAMPELIERES | B35: MOUGINS | C35: 900 | D35: 866 | F35: SUR PLACE | G35: 848 | I35: 9630 | J35: 9521 | K35: 109 | L35: 0 | M35: 11102 | N35: =O35+P35+Q35+S35 -> 11454 | O35: 3434 | P35: 1644 | Q35: 6024 | R35: 7147 | S35: 352 | T35: 849 | U35: 476.91 | V35: 614.32 | W35: 1091.23 | X35: 1 203*
A36: L'ARCHET | B36: NICE | C36: 800 | D36: 772 | F36: SUR PLACE | G36: 714 | I36: 6938 | J36: 6106 | K36: - | L36: 832 | M36: 5571 | N36: =O36+P36+Q36+S36 -> 5851 | O36: 1173 | P36: 1384 | Q36: 3014 | R36: 4298 | S36: 280 | T36: 790 | U36: 343.57 | V36: 290.78 | W36: 634.35 | X36: 849*
A37: LOUIS NUCERA | B37: NICE | C37: 700 | D37: 567 | E37: REP+ | F37: SUR PLACE | G37: 127 | I37: 7542 | J37: 5734 | K37: - | L37: 1808 | M37: 5386 | N37: =O37+P37+Q37+S37 -> 5613 | O37: 1775 | P37: 1621 | Q37: 1990 | R37: 264 | S37: 227 | T37: 477 | U37: 364.65 | V37: 271.18 | W37: 635.83 | X37: 1 131*
A38: ALPHONCE DAUDET | B38: NICE | C38: 750 | D38: 561 | F38: SUR PLACE | G38: 411 | I38: 6264 | J38: 5173 | K38: - | L38: 1091 | M38: 1181 | N38: =O38+P38+Q38+S38 -> 1748 | O38: 0 | P38: 962 | Q38: 219 | R38: 252 | S38: 567 | T38: 814 | U38: 371.5 | V38: 252.41 | W38: 623.91 | X38: 622*
A39: JULES ROMAINS | B39: NICE | C39: 750 | D39: 394 | E39: REP+ | F39: SATELLITE | G39: 64 | I39: 5393 | J39: 5393 | K39: - | L39: 0 | M39: 6653 | N39: =O39+P39+Q39+S39 -> 6845 | O39: 1800 | P39: 1700 | Q39: 3153 | R39: 3200 | S39: 192 | T39: 448 | U39: 179.08 | V39: 125.08 | W39: 304.16 | X39: 552*
A40: RAOUL DUFY | B40: NICE | C40: 1000 | D40: 966 | F40: SUR PLACE | G40: 862 | I40: 8040 | J40: 7823 | K40: - | L40: 217 | M40: 9510 | N40: =O40+P40+Q40+S40 -> 10047 | O40: 3000 | P40: 3700 | Q40: 2810 | R40: 4075 | S40: 537 | T40: 809 | U40: 507.16 | V40: 229.72 | W40: 736.88 | X40: 950*
A41: VICTOR DURUY | B41: NICE | C41: 750 | D41: 394 | E41: REP | F41: SUR PLACE | G41: 211 | I41: 6080 | J41: 6039 | K41: - | L41: 41 | M41: 5738 | N41: =O41+P41+Q41+S41 -> 6244 | O41: 1114 | P41: 2123 | Q41: 2501 | R41: 388 | S41: 506 | T41: 411 | U41: 358.85 | V41: 288.97 | W41: 647.82 | X41: 816 + mur rideau
A42: JEAN HENRY FABRE | B42: NICE | C42: 900 | D42: 701 | F42: SUR PLACE | G42: 466 | I42: 8643 | J42: 7576 | K42: - | L42: 1067 | M42: 6148 | N42: =O42+P42+Q42+S42 -> 6885 | O42: 1455 | P42: 1940 | Q42: 2753 | R42: 1759 | S42: 737 | T42: 708 | U42: 380.15 | V42: 270.75 | W42: 650.9 | X42: 892*
A43: ROLAND GARROS | B43: NICE | C43: 1000 | D43: 656 | F43: SUR PLACE | G43: 575 | I43: 6899 | J43: 6899 | K43: - | L43: 0 | M43: 7765 | N43: =O43+P43+Q43+S43 -> 7982 | O43: 2222 | P43: 1940 | Q43: 3603 | R43: 1208 | S43: 217 | T43: 590 | U43: 452.84 | V43: 453.66 | W43: 906.5 | X43: 871*
A44: JEAN GIONO | B44: NICE | C44: 750 | D44: 630 | F44: SUR PLACE | G44: 331 | I44: 6902 | J44: 6858 | K44: - | L44: 44 | M44: 2967 | N44: =O44+P44+Q44+S44 -> 3267 | O44: 1941 | P44: 1026 | Q44: 0 | R44: 36 | S44: 300 | T44: 747 | U44: 416.86 | V44: 326.68 | W44: 743.54 | X44: 698*
A45: MAURICE JAUBERT | B45: NICE | C45: 900 | D45: 667 | E45: REP+ | F45: SATELLITE | G45: 2 | I45: 10117 | J45: 8092 | K45: - | L45: 2025 | M45: 11148 | N45: =O45+P45+Q45+S45 -> 11638 | O45: 1312 | P45: 2365 | Q45: 7471 | R45: 3447 | S45: 490 | T45: 744 | U45: 690.89 | V45: 182.12 | W45: 873.01 | X45: 900*
A46: HENRI MATISSE | B46: NICE | C46: 800 | D46: 948 | F46: SATELLITE | G46: 865 | I46: 8003 | J46: 8003 | K46: - | L46: 0 | M46: 3657 | N46: =O46+P46+Q46+S46 -> 4026 | O46: 1228 | P46: 636 | Q46: 1793 | R46: 3327 | S46: 369 | T46: 786 | U46: 295.48 | V46: 227.77 | W46: 523.25 | X46: 969*
A47: FREDERIC MISTRAL | B47: NICE | C47: 1000 | D47: 663 | F47: SUR PLACE | G47: 421 | I47: 7465 | J47: 7465 | K47: - | L47: 0 | M47: 9635 | N47: =O47+P47+Q47+S47 -> 10159 | O47: 3524 | P47: 2593 | Q47: 3518 | R47: 2639 | S47: 524 | T47: 799 | U47: 413.63 | V47: 299.27 | W47: 712.9 | X47: 973*
A48: PARC IMPERIAL | B48: NICE | C48: 700 | D48: 790 | F48: SUR PLACE/internat | G48: 1123 | H48: 121 | I48: 26654 | J48: 23952 | K48: - | L48: 2702 | M48: 22509 | N48: =O48+P48+Q48+S48 -> 23283 | O48: 7185 | P48: 7413 | Q48: 7911 | R48: 6792 | S48: 774 | T48: 3093 | U48: 1034.64 | V48: 432.29 | W48: 1466.93 | X48: 2537*
A49: PORT LYMPIA | B49: NICE | C49: 1000 | D49: 727 | F49: SUR PLACE | G49: 627 | I49: 11080 | J49: 9481 | K49: - | L49: 1599 | M49: 12094 | N49: =O49+P49+Q49+S49 -> 12510 | O49: 878 | P49: 2491 | Q49: 8725 | R49: 2467 | S49: 416 | T49: 1091 | U49: 476.28 | V49: 239.62 | W49: 715.9 | X49: 1 093*
A50: ANTOINE RISSO | B50: NICE | C50: 700 | D50: 444 | F50: SATELLITE | G50: 241 | I50: 5015 | J50: 4619 | K50: - | L50: 396 | M50: 618 | N50: =O50+P50+Q50+S50 -> 898 | O50: 83 | P50: 535 | Q50: 0 | R50: 53 | S50: 280 | T50: 297 | U50: 152.23 | V50: 271.82 | W50: 424.05 | X50: 762*
A51: JEAN ROSTAND | B51: NICE | C51: 600 | D51: 491 | F51: SUR PLACE | G51: 351 | I51: 4797 | J51: 4497 | K51: - | L51: 300 | M51: 2349 | N51: =O51+P51+Q51+S51 -> 2646 | O51: 546 | P51: 1023 | Q51: 780 | R51: 531 | S51: 297 | T51: 358 | U51: 410.28 | V51: 249.93 | W51: 660.21 | X51: 551*
A52: SEGURANE | B52: NICE | C52: 600 | D52: 573 | F52: SATELLITE | G52: 395 | I52: 4291 | J52: 4184 | K52: - | L52: 107 | M52: 1321 | N52: =O52+P52+Q52+S52 -> 1646 | O52: 0 | P52: 1198 | Q52: 123 | R52: 80 | S52: 325 | T52: 510 | U52: 255.26 | V52: 232.21 | W52: 487.47 | X52: 547*
A53: PAUL VALERI | B53: NICE | C53: 1000 | D53: 839 | F53: SUR PLACE | G53: 549 | I53: 8695 | J53: 7251 | K53: - | L53: 1444 | M53: 4583 | N53: =O53+P53+Q53+S53 -> 5690 | O53: 1916 | P53: 1840 | Q53: 827 | R53: 604 | S53: 1107 | T53: 773 | U53: 469.65 | V53: 325.59 | W53: 795.24 | X53: 615 + mur rideau 286 *
A54: INTERNATIONAL VERNIER | B54: NICE | C54: 700 | D54: 524 | F54: SATELLITE | G54: 240 | I54: 6685 | J54: 6251 | K54: - | L54: 434 | M54: 2043 | N54: =O54+P54+Q54+S54 -> 2381 | O54: 0 | P54: 1337 | Q54: 706 | R54: 105 | S54: 338 | T54: 525 | U54: 115.35 | V54: 249.49 | W54: 364.84 | X54: 929*
A55: PAUL ARENE | B55: PEYMEINADE | C55: 600 | D55: 597 | F55: SUR PLACE | G55: 551 | I55: 5517 | J55: 5298 | K55: 219 | L55: 0 | M55: 8752 | N55: =O55+P55+Q55+S55 -> 9086 | O55: 2759 | P55: 1817 | Q55: 4176 | R55: 4779 | S55: 334 | T55: 729 | U55: 365.11 | V55: 257.08 | W55: 622.19 | X55: 812*
A56: AUGUSTE BLANCHI | B56: PUGET THENIERS | C56: 250 | D56: 276 | F56: SUR PLACE/internat | G56: 181 | H56: 40 | I56: 5427 | J56: 3967 | K56: 55 | L56: 1405 | M56: 3213 | N56: =O56+P56+Q56+S56 -> 3300 | O56: 0 | P56: 680 | Q56: 2533 | R56: 2533 | S56: 87 | T56: 370 | U56: 296.27 | V56: 208.12 | W56: 504.39 | X56: 401*
A57: JEAN SALINES | B57: ROQUEBILLIERE | C57: 300 | D57: 292 | F57: SUR PLACE/internat | G57: 206 | H57: 41 | I57: 6583 | J57: 5499 | K57: - | L57: 1084 | M57: 4565 | N57: =O57+P57+Q57+S57 -> 4960 | O57: 1664 | P57: 1090 | Q57: 1811 | R57: 2130 | S57: 395 | T57: 283 | U57: 420.69 | V57: 328.31 | W57: 749 | X57: 662*
A58: CESAR | B58: ROQUEFORT LES PINS | C58: 600 | D58: 548 | F58: SUR PLACE/ cuisine centrale primaires | G58: 547 | H58: 500 | I58: 7434 | J58: 5274 | K58: - | L58: 2160 | M58: 0 | N58: =O58+P58+Q58+S58 -> 0 | O58: 0 | P58: 0 | Q58: 0 | R58: 0 | S58: 0 | T58: 679 | U58: 695.25 | V58: 345.72 | W58: 1040.97
A59: JEAN FRANCO | B59: ST ETIENNE DE TINEE | C59: 300 | D59: 192 | F59: SUR PLACE/internat | G59: 43 | H59: 127 | I59: 8337 | J59: 5762 | K59: - | L59: 2575 | M59: 2066 | N59: =O59+P59+Q59+S59 -> 2160 | O59: 1158 | P59: 760 | Q59: 148 | R59: 0 | S59: 94 | T59: 448 | U59: 260.36 | V59: 154.23 | W59: 414.59 | X59: 358*
A60: LES BAOUS | B60: ST JEANNET | C60: 900 | D60: 824 | F60: SUR PLACE | G60: 762 | I60: 8944 | J60: 7879 | K60: - | L60: 1065 | M60: 20333 | N60: =O60+P60+Q60+S60 -> 20660 | O60: 9350 | P60: 1522 | Q60: 9461 | R60: 18004 | S60: 327 | T60: 555 | U60: 264.89 | V60: 218.74 | W60: 483.63 | X60: 1 650*
A61: JOSEPH PAGNOL | B61: ST LAURENT DU VAR | C61: 1000 | D61: 673 | F61: SUR PLACE | G61: 626 | I61: 9121 | J61: 6976 | K61: - | L61: 2145 | M61: 6991 | N61: =O61+P61+Q61+S61 -> 7349 | O61: 0 | P61: 3220 | Q61: 3771 | R61: 6182 | S61: 358 | T61: 806 | U61: 369.34 | V61: 388.93 | W61: 758.27 | X61: 1034*
A62: ST EXUPERY | B62: ST LAURENT DU VAR | C62: 600 | D62: 570 | F62: SUR PLACE | G62: 456 | I62: 5600 | J62: 4692 | K62: - | L62: 908 | M62: 6360 | N62: =O62+P62+Q62+S62 -> 7206 | O62: 2194 | P62: 2733 | Q62: 1433 | R62: 1055 | S62: 846 | T62: 605 | U62: 298.53 | V62: 230.08 | W62: 528.61 | X62: 566*
A63: LUDOVIC BREA | B63: ST MARTIN DU VAR | C63: 450 | D63: 497 | F63: SATELLITE | G63: 459 | I63: 3577 | J63: 3476 | K63: - | L63: 101 | M63: 7157 | N63: =O63+P63+Q63+S63 -> 7673 | O63: 2714 | P63: 1015 | Q63: 3428 | R63: 678 | S63: 516 | T63: 357 | U63: 151.3 | V63: 196.66 | W63: 347.96 | X63: 554*
A64: SAINT BLAISE | B64: ST SAUVEUR SUR TINEE | C64: 200 | D64: 175 | F64: SUR PLACE/internat | G64: 96 | H64: 76 | I64: 3655 | J64: 3522 | K64: 133 | L64: 0 | M64: 1644 | N64: =O64+P64+Q64+S64 -> 1721 | O64: 0 | P64: 684 | Q64: 960 | R64: 723 | S64: 77 | T64: 509 | U64: 94.54 | V64: 144.07 | W64: 238.61 | X64: 480*
A65: SIMON WIESENTHAL | B65: ST VALLIER DE THIEY | C65: 600 | D65: 576 | F65: SUR PLACE/internat | G65: 525 | H65: 26 | I65: 8298 | J65: 5249 | K65: 164 | L65: 2885 | M65: 8565 | N65: =O65+P65+Q65+S65 -> 9019 | O65: 5471 | P65: 1314 | Q65: 1780 | R65: 19800 | S65: 454 | T65: 602 | U65: 395.17 | V65: 262.5 | W65: 657.67 | X65: 1220*
A66: JEAN MEDECIN | B66: SOSPEL | C66: 200 | D66: 188 | F66: SUR PLACE/internat | G66: 98 | H66: 25 | I66: 2795 | J66: 2758 | K66: 36 | L66: 0 | M66: 3653 | N66: =O66+P66+Q66+S66 -> 3906 | O66: 1290 | P66: 893 | Q66: 1470 | R66: 1474 | S66: 253 | T66: 545 | U66: 187.61 | V66: 149.64 | W66: 337.25 | X66: 466*
A67: JEAN BAPTISTE RUSCA | B67: TENDE | C67: 200 | D67: 106 | F67: SUR PLACE/internat | G67: 78 | H67: 26 | I67: 3026 | J67: 2218 | K67: - | L67: 808 | M67: 3527 | N67: =O67+P67+Q67+S67 -> 3897 | O67: 0 | P67: 1297 | Q67: 2230 | R67: 747 | S67: 370 | T67: 218 | U67: 125.42 | V67: 86.68 | W67: 212.1 | X67: 365*
A68: RENE CASSIN | B68: TOURRETTE LEVENS | C68: 700 | D68: 672 | F68: SUR PLACE | G68: 665 | I68: 6012 | J68: 4796 | K68: 55 | L68: 1161 | M68: 12257 | N68: =O68+P68+Q68+S68 -> 12430 | O68: 4560 | P68: 1723 | Q68: 5974 | R68: 2827 | S68: 173 | T68: 1212 | U68: 329.72 | V68: 287.62 | W68: 617.34 | X68: 1 158*
A69: CENTRE INTERNATIONAL VALBONNE | B69: VALBONNE | D69: 749 | I69: 0 | J69: 0 | K69: 0 | L69: 0 | M69: 0 | N69: 0 | O69: 0 | P69: 0 | Q69: 0 | R69: 0 | S69: 0 | T69: 0 | U69: 0 | V69: 0 | W69: 0 | X69: 0
A70: NIKI DE SAINT PHALLE | B70: VALBONNE | C70: 800 | D70: 756 | F70: SUR PLACE | G70: 717 | I70: 8291 | J70: 6637 | K70: - | L70: 1654 | M70: 6382 | N70: =O70+P70+Q70+S70 -> 6642 | O70: 1850 | P70: 2500 | Q70: 2032 | R70: 4300 | S70: 260 | T70: 676 | U70: 377.49 | V70: 308.17 | W70: 685.66 | X70: 985*
A71: PABLO PICASSO | B71: VALLAURIS | C71: 700 | D71: 667 | E71: REP | F71: SUR PLACE | G71: 337 | I71: 8024 | J71: 8024 | K71: 0 | L71: 0 | M71: 7240 | N71: =O71+P71+Q71+S71 -> 7441 | O71: 2339 | P71: 1221 | Q71: 3680 | R71: 6476 | S71: 201 | T71: 649 | U71: 371 | V71: 304 | W71: 675 | X71: 692*
A72: LA SINE | B72: VENCE | C72: 900 | D72: 815 | F72: SUR PLACE | G72: 702 | I72: 6711 | J72: 6428 | K72: - | L72: 283 | M72: 5681 | N72: =O72+P72+Q72+S72 -> 6204 | O72: 1107 | P72: 1579 | Q72: 2995 | R72: 4497 | S72: 523 | T72: 483 | U72: 358.86 | V72: 304.23 | W72: 663.09 | X72: 615*
A73: ROMEE DE VILLENEUVE | B73: VILLENEUVE LOUBET | C73: 700 | D73: 574 | F73: SUR PLACE | G73: 516 | I73: 5712 | J73: 4834 | K73: - | L73: 878 | M73: 4823 | N73: =O73+P73+Q73+S73 -> 5034 | O73: 1997 | P73: 1376 | Q73: 1450 | R73: 2180 | S73: 211 | T73: 665 | U73: 353.24 | V73: 227.7 | W73: 580.94 | X73: 688*

Sheet EFFECTIF_CIBLE_CS
B1: Nom établissement | C1: Commune | D1: ACCUEIL | E1: MAINTENANCE | F1: CHEF | G1: SECOND | H1: AIDE + ENTRETIEN CUISINE | I1: PLONGE + ENTRETIEN REFECTOIRE | J1: MAGASINIER | K1: SURFACES BATIES | L1: SURFACES NON BATIES (COURS, PREAUX, STATIONNEMENT | M1: ESPACES VERTS | N1: LINGERIE | O1: GARDIENNEAGE GYMNASE
A2: 1 | B2: BERTONE | C2: ANTIBES | D2: =1.2+(Tableau2[[#This Row],[Total nombre élèves 2016]]>700)*0.2 -> 1.4 | E2: =H5 -> 0 | F2: =1 -> 1 | H2: =SI(Tableau2[@[NB DP]]>800;2;SI(Tableau2[@[NB DP]]>500;1.5;SI(Tableau2[@[NB DP]]>249;1;0)))+(BASE!V2>400)*0.2 | I2: =IF(Tableau2[[#This Row],[NB DP]]>800,2,IF(Tableau2[[#This Row],[NB DP]]>500,1.5,1)) -> 1.5 | K2: =BASE!I2/1500+(Tableau2[[#This Row],[REP et REP+]]="REP+")*0.25 -> 5.586 | L2: =BASE!N2/20000 -> 0.3794 | M2: =BASE!R2/20000 -> 0.4272
A3: 2 | B3: FERSEN | C3: ANTIBES | D3: =1.2+(Tableau2[[#This Row],[Total nombre élèves 2016]]>700)*0.2 -> 1.2 | E3: =1+(Tableau2[[#This Row],[Total nombre élèves 2016]]>700)*0.5 -> 1 | F3: =1 -> 1 | I3: =IF(Tableau2[[#This Row],[NB DP]]>800,2,IF(Tableau2[[#This Row],[NB DP]]>500,1.5,1)) -> 1 | J3: =(Tableau2[[#This Row],[NB DP]]>800)*0.5 -> 0 | K3: =BASE!I3/1500+(Tableau2[[#This Row],[REP et REP+]]="REP+")*0.25 -> 2.9226667 | L3: =BASE!N3/20000 -> 0.0428 | M3: =BASE!R3/20000 -> 0.02585
A4: 3 | B4: LA FONTONNE | C4: ANTIBES | D4: =1.2+(Tableau2[[#This Row],[Total nombre élèves 2016]]>700)*0.2 -> 1.2 | E4: =1+(Tableau2[[#This Row],[Total nombre élèves 2016]]>700)*0.5 -> 1 | F4: =1 -> 1 | I4: =IF(Tableau2[[#This Row],[NB DP]]>800,2,IF(Tableau2[[#This Row],[NB DP]]>500,1.5,1)) -> 1 | J4: =(Tableau2[[#This Row],[NB DP]]>800)*0.5 -> 0 | K4: =BASE!I4/1500+(Tableau2[[#This Row],[REP et REP+]]="REP+")*0.25 -> 4.278 | L4: =BASE!N4/20000 -> 0.36345 | M4: =BASE!R4/20000 -> 0.03605
A5: 4 | B5: SIDNEY BECHET | C5: ANTIBES | D5: =1.2+(Tableau2[[#This Row],[Total nombre élèves 2016]]>700)*0.2 -> 1.2 | E5: =1+(Tableau2[[#This Row],[Total nombre élèves 2016]]>700)*0.5 -> 1 | F5: =1 -> 1 | I5: =IF(Tableau2[[#This Row],[NB DP]]>800,2,IF(Tableau2[[#This Row],[NB DP]]>500,1.5,1)) -> 1 | J5: =(Tableau2[[#This Row],[NB DP]]>800)*0.5 -> 0 | K5: =BASE!I5/1500+(Tableau2[[#This Row],[REP et REP+]]="REP+")*0.25 -> 0 | L5: =BASE!N5/20000 -> 0 | M5: =BASE!R5/20000 -> 0
A6: 5 | B6: ROUSTAN | C6: ANTIBES | D6: =1.2+(Tableau2[[#This Row],[Total nombre élèves 2016]]>700)*0.2 -> 1.2 | E6: =1+(Tableau2[[#This Row],[Total nombre élèves 2016]]>700)*0.5 -> 1 | F6: =1 -> 1 | I6: =IF(Tableau2[[#This Row],[NB DP]]>800,2,IF(Tableau2[[#This Row],[NB DP]]>500,1.5,1)) -> 1 | J6: =(Tableau2[[#This Row],[NB DP]]>800)*0.5 -> 0 | K6: =BASE!I6/1500+(Tableau2[[#This Row],[REP et REP+]]="REP+")*0.25 -> 3.1933333 | L6: =BASE!N6/20000 -> 0.115 | M6: =BASE!R6/20000 -> 0.02715
A7: 6 | B7: JEAN COCTEAU | C7: BEAULIEU | D7: =1.2+(Tableau2[[#This Row],[Total nombre élèves 2016]]>700)*0.2 -> 1.2 | E7: =1+(Tableau2[[#This Row],[Total nombre élèves 2016]]>700)*0.5 -> 1 | F7: =1 -> 1 | I7: =IF(Tableau2[[#This Row],[NB DP]]>800,2,IF(Tableau2[[#This Row],[NB DP]]>500,1.5,1)) -> 1 | J7: =(Tableau2[[#This Row],[NB DP]]>800)*0.5 -> 0 | K7: =BASE!I7/1500+(Tableau2[[#This Row],[REP et REP+]]="REP+")*0.25 -> 2.7486667 | L7: =BASE!N7/20000 -> 0.2598 | M7: =BASE!R7/20000 -> 0.2444
A8: 7 | B8: BELLEVUE | C8: BEAUSOLEIL | D8: =1.2+(Tableau2[[#This Row],[Total nombre élèves 2016]]>700)*0.2 -> 1.2 | E8: =1+(Tableau2[[#This Row],[Total nombre élèves 2016]]>700)*0.5 -> 1 | F8: =1 -> 1 | I8: =IF(Tableau2[[#This Row],[NB DP]]>800,2,IF(Tableau2[[#This Row],[NB DP]]>500,1.5,1)) -> 1 | J8: =(Tableau2[[#This Row],[NB DP]]>800)*0.5 -> 0 | K8: =BASE!I8/1500+(Tableau2[[#This Row],[REP et REP+]]="REP+")*0.25 -> 2.5006667 | L8: =BASE!N8/20000 -> 0.07215 | M8: =BASE!R8/20000 -> 0.01235
A9: 8 | B9: L'EGANAUDE | C9: BIOT | D9: =1.2+(Tableau2[[#This Row],[Total nombre élèves 2016]]>700)*0.2 -> 1.4 | E9: =1+(Tableau2[[#This Row],[Total nombre élèves 2016]]>700)*0.5 -> 1.5 | F9: =1 -> 1 | I9: =IF(Tableau2[[#This Row],[NB DP]]>800,2,IF(Tableau2[[#This Row],[NB DP]]>500,1.5,1)) -> 1.5 | J9: =(Tableau2[[#This Row],[NB DP]]>800)*0.5 -> 0 | K9: =BASE!I9/1500+(Tableau2[[#This Row],[REP et REP+]]="REP+")*0.25 -> 4.76 | L9: =BASE!N9/20000 -> 0.5129 | M9: =BASE!R9/20000 -> 0.35495
A10: 9 | B10: L'EAU VIVE | C10: BREIL SUR ROYA | D10: =1.2+(Tableau2[[#This Row],[Total nombre élèves 2016]]>700)*0.2 -> 1.2 | E10: =1+(Tableau2[[#This Row],[Total nombre élèves 2016]]>700)*0.5 -> 1 | F10: =1 -> 1 | I10: =IF(Tableau2[[#This Row],[NB DP]]>800,2,IF(Tableau2[[#This Row],[NB DP]]>500,1.5,1)) -> 1 | J10: =(Tableau2[[#This Row],[NB DP]]>800)*0.5 -> 0 | K10: =BASE!I10/1500+(Tableau2[[#This Row],[REP et REP+]]="REP+")*0.25 -> 2.14 | L10: =BASE!N10/20000 -> 0.1729 | M10: =BASE!R10/20000 -> 0.0097
A11: 10 | B11: LES BREGUIERES | C11: CAGNES SUR MER | D11: =1.2+(Tableau2[[#This Row],[Total nombre élèves 2016]]>700)*0.2 -> 1.2 | E11: =1+(Tableau2[[#This Row],[Total nombre élèves 2016]]>700)*0.5 -> 1 | F11: =1 -> 1 | I11: =IF(Tableau2[[#This Row],[NB DP]]>800,2,IF(Tableau2[[#This Row],[NB DP]]>500,1.5,1)) -> 1 | J11: =(Tableau2[[#This Row],[NB DP]]>800)*0.5 -> 0 | K11: =BASE!I11/1500+(Tableau2[[#This Row],[REP et REP+]]="REP+")*0.25 -> 9.6313333 | L11: =BASE!N11/20000 -> 0.49435 | M11: =BASE!R11/20000 -> 0.02005
A12: 11 | B12: ANDRE MALRAUX | C12: CAGNES SUR MER | D12: =1.2+(Tableau2[[#This Row],[Total nombre élèves 2016]]>700)*0.2 -> 1.2 | E12: =1+(Tableau2[[#This Row],[Total nombre élèves 2016]]>700)*0.5 -> 1 | F12: =1 -> 1 | I12: =IF(Tableau2[[#This Row],[NB DP]]>800,2,IF(Tableau2[[#This Row],[NB DP]]>500,1.5,1)) -> 1 | J12: =(Tableau2[[#This Row],[NB DP]]>800)*0.5 -> 0 | K12: =BASE!I12/1500+(Tableau2[[#This Row],[REP et REP+]]="REP+")*0.25 -> 3.782 | L12: =BASE!N12/20000 -> 0.29655 | M12: =BASE!R12/20000 -> 0.12315
A13: 12 | B13: JULES VERNE | C13: CAGNES SUR MER | D13: =1.2+(Tableau2[[#This Row],[Total nombre élèves 2016]]>700)*0.2 -> 1.2 | E13: =1+(Tableau2[[#This Row],[Total nombre élèves 2016]]>700)*0.5 -> 1 | F13: =1 -> 1 | I13: =IF(Tableau2[[#This Row],[NB DP]]>800,2,IF(Tableau2[[#This Row],[NB DP]]>500,1.5,1)) -> 1 | J13: =(Tableau2[[#This Row],[NB DP]]>800)*0.5 -> 0 | K13: =BASE!I13/1500+(Tableau2[[#This Row],[REP et REP+]]="REP+")*0.25 -> 4.4566667 | L13: =BASE!N13/20000 -> 0.11905 | M13: =BASE!R13/20000 -> 0.00525
A14: 13 | B14: CAPRON | C14: CANNES | D14: =1.2+(Tableau2[[#This Row],[Total nombre élèves 2016]]>700)*0.2 -> 1.2 | E14: =1+(Tableau2[[#This Row],[Total nombre élèves 2016]]>700)*0.5 -> 1 | F14: =1 -> 1 | I14: =IF(Tableau2[[#This Row],[NB DP]]>800,2,IF(Tableau2[[#This Row],[NB DP]]>500,1.5,1)) -> 1 | J14: =(Tableau2[[#This Row],[NB DP]]>800)*0.5 -> 0 | K14: =BASE!I14/1500+(Tableau2[[#This Row],[REP et REP+]]="REP+")*0.25 -> 3.5413333 | L14: =BASE!N14/20000 -> 0.7165 | M14: =BASE!R14/20000 -> 0.1106
... A73: 72 | B73: ROMEE DE VILLENEUVE | C73: VILLENEUVE LOUBET | D73: =1.2+(Tableau2[[#This Row],[Total nombre élèves 2016]]>700)*0.2 -> 1.2 | E73: =1+(Tableau2[[#This Row],[Total nombre élèves 2016]]>700)*0.5 -> 1 | F73: =1 -> 1 | I73: =IF(Tableau2[[#This Row],[NB DP]]>800,2,IF(Tableau2[[#This Row],[NB DP]]>500,1.5,1)) -> 1.5 | J73: =(Tableau2[[#This Row],[NB DP]]>800)*0.5 -> 0 | K73: =BASE!I73/1500+(Tableau2[[#This Row],[REP et REP+]]="REP+")*0.25 -> 3.808 | L73: =BASE!N73/20000 -> 0.2517 | M73: =BASE!R73/20000 -> 0.109

Sheet Feuil3
A1: Nom établissement | B1: Commune | C1: Total eff.Theorique | D1: Total nombre élèves 2016 | E1: REP et REP+ | F1: TYPE PRODUCTION (DATE?) | G1: NB DP | H1: NB INTERNES | I1: Aires baties SHON | J1: Batiments scolaires SHON | K1: Batiments préfabriqués SHON | L1: Equipements sportifs couverts SHON | M1: Aires non baties | N1: Surfaces non bâties (cours, péaux, stationnement, equipement sportifs exterireurs) | O1: Equipements sportifs exterieurs | P1: Cours extérieures | Q1: Stationnement et voirie | R1: Espaces verts | S1: Preau | T1: Logements de fonction SHONx0,95 | U1: SURFACES CUISINE ET DEPENDANCES | V1: SURFACES SALLES A MANGER (REFECTOIRE) | W1: TOTAL | X1: Surfaces vitrées
A2: BERTONE | B2: ANTIBES | C2: 700 | D2: 706 | F2: SUR PLACE/internat | G2: 592 | I2: =SUM(J2:L2) -> 8379 | J2: 7013 | K2: 0 | L2: 1366 | M2: 7239 | N2: =O2+P2+Q2+S2 -> 7588 | O2: 819 | P2: 985 | Q2: 5435 | R2: 8544 | S2: 349 | T2: 728 | U2: 454.06 | V2: 269.52 | W2: 723.58 | X2: 1284*
A3: FERSEN | B3: ANTIBES | C3: 600 | D3: 488 | F3: SUR PLACE | G3: 402 | I3: =SUM(J3:L3) -> 4384 | J3: 4384 | K3: 0 | L3: 0 | M3: 651 | N3: =O3+P3+Q3+S3 -> 856 | O3: 0 | P3: 484 | Q3: 167 | R3: 517 | S3: 205 | T3: 517 | U3: 310.12 | V3: 223.72 | W3: 533.84 | X3: 741*
A4: LA FONTONNE | B4: ANTIBES | C4: 700 | D4: 357 | F4: SUR PLACE | G4: 328 | I4: =SUM(J4:L4) -> 6417 | J4: 4929 | K4: 0 | L4: 1488 | M4: 7134 | N4: =O4+P4+Q4+S4 -> 7269 | O4: 1960 | P4: 1451 | Q4: 3723 | R4: 721 | S4: 135 | T4: 720 | U4: 351.52 | V4: 270.16 | W4: 621.68 | X4: 1110*
A5: SIDNEY BECHET | B5: ANTIBES | C5: 400 | D5: 396 | F5: SUR PLACE | G5: 344 | I5: 0 | J5: 0 | K5: 0 | L5: 0 | N5: =O5+P5+Q5+S5 -> 0 | O5: 0 | P5: 0 | Q5: 0 | R5: 0 | S5: 0 | T5: 0 | U5: 0 | V5: 0 | W5: 0 | X5: 0
A6: ROUSTAN | B6: ANTIBES | C6: 600 | D6: 330 | F6: SUR PLACE | G6: 209 | I6: 4790 | J6: 4790 | K6: 0 | L6: 0 | M6: 2170 | N6: =O6+P6+Q6+S6 -> 2300 | O6: 0 | P6: 1400 | Q6: 770 | R6: 543 | S6: 130 | T6: 323 | U6: 347.46 | V6: 199.77 | W6: 547.23 | X6: 450 *
A7: JEAN COCTEAU | B7: BEAULIEU | C7: 600 | D7: 503 | F7: SUR PLACE | G7: 494 | I7: 4123 | J7: 4123 | K7: 0 | L7: 0 | M7: 4938 | N7: =O7+P7+Q7+S7 -> 5196 | O7: 0 | P7: 1828 | Q7: 3110 | R7: 4888 | S7: 258 | T7: 477 | U7: 330.2 | V7: 223.95 | W7: 554.15 | X7: 454*
A8: BELLEVUE | B8: BEAUSOLEIL | C8: 550 | D8: 526 | F8: SUR PLACE | G8: 317 | I8: 3751 | J8: 3540 | K8: 0 | L8: 211 | M8: 1151 | N8: =O8+P8+Q8+S8 -> 1443 | O8: 0 | P8: 775 | Q8: 376 | R8: 247 | S8: 292 | T8: 397 | U8: 326.97 | V8: 247.84 | W8: 574.81 | X8: 550*
A9: L'EGANAUDE | B9: BIOT | C9: 850 | D9: 737 | F9: SUR PLACE | G9: 686 | I9: 7140 | J9: 6051 | K9: 109 | L9: 980 | M9: 10078 | N9: =O9+P9+Q9+S9 -> 10258 | O9: 2496 | P9: 1617 | Q9: 5965 | R9: 7099 | S9: 180 | T9: 645 | U9: 315.84 | V9: 331.94 | W9: 647.78 | X9: 561*
A10: L'EAU VIVE | B10: BREIL SUR ROYA | C10: 200 | D10: 122 | F10: SUR PLACE/internat | G10: 85 | H10: 30 | I10: 3210 | J10: 3083 | K10: 108 | L10: 19 | M10: 3290 | N10: =O10+P10+Q10+S10 -> 3458 | O10: 624 | P10: 1918 | Q10: 748 | R10: 194 | S10: 168 | T10: 594 | U10: 202.99 | V10: 112.18 | W10: 315.17 | X10: 671*
A11: LES BREGUIERES | B11: CAGNES SUR MER | C11: 800 | D11: 532 | F11: SUR PLACE | G11: 396 | I11: 14447 | J11: 7121 | K11: 0 | L11: 7326 | M11: 9011 | N11: =O11+P11+Q11+S11 -> 9887 | O11: 2708 | P11: 3021 | Q11: 3282 | R11: 401 | S11: 876 | T11: 851* | U11: 474.49 | V11: 235.58 | W11: 710.07 | X11: 0
A12: ANDRE MALRAUX | B12: CAGNES SUR MER | C12: 600 | D12: 500 | F12: SUR PLACE | G12: 478 | I12: 5673 | J12: 4748 | K12: 0 | L12: 925 | M12: 5931 | N12: =O12+P12+Q12+S12 -> 5931 | O12: 1882 | P12: 1442 | Q12: 2607 | R12: 2463 | S12: 0 | T12: 567 | U12: 230.37 | V12: 245.36 | W12: 475.73 | X12: 784*
A13: JULES VERNE | B13: CAGNES SUR MER | C13: 700 | D13: 592 | F13: SUR PLACE | G13: 426 | I13: 6685 | J13: 6251 | K13: 0 | L13: 434 | M13: 2043 | N13: =O13+P13+Q13+S13 -> 2381 | O13: 0 | P13: 1337 | Q13: 706 | R13: 105 | S13: 338 | T13: 525 | U13: 115.35 | V13: 249.49 | W13: 364.84 | X13: 929*
A14: CAPRON | B14: CANNES | C14: 600 | D14: 303 | F14: SUR PLACE | G14: 308 | I14: 5312 | J14: 4899 | K14: 0 | L14: 413 | M14: 14146 | N14: =O14+P14+Q14+S14 -> 14330 | O14: 6538 | P14: 3249 | Q14: 4359 | R14: 2212 | S14: 184 | T14: 872 | U14: 341.69 | V14: 288.36 | W14: 630.05 | X14: 719 + mur rideau
A15: LES MURIERS | B15: CANNES | C15: 700 | D15: 770 | E15: REP | F15: SUR PLACE | G15: 525 | I15: 7179 | J15: 7179 | K15: 0 | L15: 0 | M15: 8008 | N15: =O15+P15+Q15+S15 -> 8482 | O15: 1115 | P15: 2525 | Q15: 4368 | R15: 5644 | S15: 474 | T15: 554 | U15: 334.65 | V15: 384.93 | W15: 719.58 | X15: 1 350*
A16: GERARD PHILIPE | B16: CANNES | C16: 700 | D16: 597 | F16: SUR PLACE | G16: 478 | I16: 4907 | J16: 4907 | K16: 0 | L16: 0 | M16: 5168 | N16: =O16+P16+Q16+S16 -> 5499 | O16: 0 | P16: 2546 | Q16: 2622 | R16: 5243 | S16: 331 | T16: 510 | U16: 370.53 | V16: 308.53 | W16: 679.06 | X16: 721*
A17: LES VALLERGUES | B17: CANNES | C17: 700 | D17: 480 | E17: REP | F17: SUR PLACE | G17: 410 | I17: 6451 | J17: 5240 | K17: 0 | L17: 1211 | M17: 5950 | N17: =O17+P17+Q17+S17 -> 6253 | O17: 1770 | P17: 767 | Q17: 3413 | R17: 4701 | S17: 303 | T17: 513 | U17: 526.96 | V17: 298.95 | W17: 825.91 | X17: 871*
A18: PAUL LANGEVIN | B18: CARROS | C18: 900 | D18: 796 | E18: REP | F18: SUR PLACE | G18: 575 | I18: 6681 | J18: 6553 | K18: 129 | L18: 0 | M18: 18801 | N18: =O18+P18+Q18+S18 -> 19169 | O18: 1200 | P18: 2201 | Q18: 15400 | R18: 15400 | S18: 368 | T18: 669 | U18: 498.35 | V18: 316.72 | W18: 815.07 | X18: 857**
A19: ROGER CARLES | B19: CONTES | C19: 750 | D19: 706 | F19: SUR PLACE | G19: 667 | I19: 6132 | J19: 5987 | K19: 146 | L19: 0 | M19: 4502 | N19: =O19+P19+Q19+S19 -> 4703 | O19: 1422 | P19: 2320 | Q19: 760 | R19: 2050 | S19: 201 | T19: 296 | U19: 379.26 | V19: 244.85 | W19: 624.11 | X19: 691 + mur rideau
A20: CANTEPERDRIX | B20: GRASSE | C20: 700 | D20: 728 | F20: SUR PLACE | G20: 669 | I20: 8884 | J20: 6783 | K20: 0 | L20: 2101 | M20: 11298 | N20: =O20+P20+Q20+S20 -> 11760 | O20: 4696 | P20: 1882 | Q20: 4720 | R20: 9683 | S20: 462 | T20: 647 | U20: 478.44 | V20: 272.34 | W20: 750.78 | X20: 958*
A21: CARNOT | B21: GRASSE | C21: 550 | D21: 426 | F21: SUR PLACE/internat | G21: 262 | I21: 3528 | J21: 3528 | K21: 0 | L21: 0 | M21: 2104 | N21: =O21+P21+Q21+S21 -> 2339 | O21: 0 | P21: 1625 | Q21: 479 | R21: 1180 | S21: 235 | T21: 100 | U21: 289.87 | V21: 221.48 | W21: 511.35 | X21: 601*
A22: LES JASMINS | B22: GRASSE | C22: 600 | D22: 474 | F22: SUR PLACE | G22: 357 | I22: 6178 | J22: 5344 | K22: 0 | L22: 835 | M22: 8403 | N22: =O22+P22+Q22+S22 -> 8730 | O22: 2036 | P22: 1586 | Q22: 4781 | R22: 1801 | S22: 327 | T22: 749 | U22: 207.4 | V22: 222.24 | W22: 429.64 | X22: 965*
A23: SAINT HILAIRE | B23: GRASSE | C23: 850 | D23: 474 | F23: SUR PLACE/internat | G23: 309 | H23: 13 | I23: 9244 | J23: 8015 | K23: 0 | L23: 1229 | M23: 3828 | N23: =O23+P23+Q23+S23 -> 3975 | O23: 569 | P23: 1375 | Q23: 1884 | R23: 200 | S23: 147 | T23: 645 | U23: 410.43 | V23: 191.85 | W23: 602.28 | X23: 597*
A24: FRANCOIS RABELAIS | B24: L'ESCARENE | C24: 600 | D24: 388 | F24: SUR PLACE | G24: 316 | I24: 7266 | J24: 5398 | K24: 0 | L24: 1868 | M24: 8522 | N24: =O24+P24+Q24+S24 -> 9173 | O24: 2685 | P24: 1661 | Q24: 4176 | R24: 2720 | S24: 651 | T24: 467 | U24: 349.16 | V24: 218.76 | W24: 567.92 | X24: 400*
A25: YVES KLEIN | B25: LA COLLE | C25: 850 | D25: 695 | F25: SUR PLACE | G25: 715 | I25: 6303 | J25: 6303 | K25: 0 | L25: 0 | M25: 5773 | N25: =O25+P25+Q25+S25 -> 6066 | O25: 1010 | P25: 1777 | Q25: 2986 | R25: 8183 | S25: 293 | T25: 540 | U25: 410.55 | V25: 320.54 | W25: 731.09 | X25: 572*
A26: LA BOURGADE | B26: LA TRINITE | C26: 550 | D26: 449 | F26: SUR PLACE | G26: 278 | I26: 4193 | J26: 4041 | K26: 0 | L26: 152 | M26: 2592 | N26: =O26+P26+Q26+S26 -> 2967 | O26: 469 | P26: 830 | Q26: 1293 | R26: 2772 | S26: 375 | T26: 465 | U26: 361.9 | V26: 254.84 | W26: 616.74 | X26: 631*
A27: PIERRE BONNARD | B27: LE CANNET | C27: 800 | D27: 524 | F27: SUR PLACE | G27: 417 | I27: 7766 | J27: 7766 | K27: 0 | L27: 0 | M27: 4485 | N27: =O27+P27+Q27+S27 -> 4687 | O27: 0 | P27: 1264 | Q27: 3221 | R27: 9026 | S27: 202 | T27: 439 | U27: 296.62 | V27: 281.4 | W27: 578.02 | X27: 607*
A28: EMILE ROUX | B28: LE CANNET | C28: 600 | D28: 555 | F28: SUR PLACE | G28: 461 | I28: 6379 | J28: 4763 | K28: 0 | L28: 1617 | M28: 5371 | N28: =O28+P28+Q28+S28 -> 5634 | O28: 2450 | P28: 371 | Q28: 2550 | R28: 2277 | S28: 263 | T28: 917 | U28: 220.26 | V28: 268.27 | W28: 488.53 | X28: 924*
A29: LE PRE DES ROURES | B29: LE ROURET | C29: 800 | D29: 590 | F29: SUR PLACE | G29: 593 | I29: 8658 | J29: 6341 | K29: 0 | L29: 2317 | M29: 7119 | N29: =O29+P29+Q29+S29 -> 7345 | O29: 2432 | P29: 2304 | Q29: 2383 | R29: 9242 | S29: 226 | T29: 836 | U29: 446.05 | V29: 314 | W29: 760.05 | X29: 1280*
A30: ALBERT CAMUS | B30: MANDELIEU | C30: 750 | D30: 608 | F30: SUR PLACE | G30: 540 | I30: 6967 | J30: 5233 | K30: 0 | L30: 1734 | M30: 9202 | N30: =O30+P30+Q30+S30 -> 9659 | O30: 3213 | P30: 1760 | Q30: 4229 | R30: 9394 | S30: 457 | T30: 490 | U30: 352.06 | V30: 309.05 | W30: 661.11 | X30: 656*
A31: LES MIMOSAS | B31: MANDELIEU | C31: 800 | D31: 637 | F31: SUR PLACE | G31: 600 | I31: 7011 | J31: 5194 | K31: 0 | L31: 1817 | M31: 11555 | N31: =O31+P31+Q31+S31 -> 11714 | O31: 1804 | P31: 1577 | Q31: 8174 | R31: 6664 | S31: 159 | T31: 872 | U31: 387.31 | V31: 270.86 | W31: 658.17 | X31: 1 095*
A32: ANDRE MAUROIS | B32: MENTON | C32: 800 | D32: 552 | F32: SUR PLACE | G32: 379 | I32: 6452 | J32: 5382 | K32: 0 | L32: 1070 | M32: 489 | N32: =O32+P32+Q32+S32 -> 654 | O32: 0 | P32: 489 | Q32: 0 | R32: 377 | S32: 165 | T32: 527 | U32: 339.92 | V32: 228.1 | W32: 568.02 | X32: 1241*
A33: GUILLAUME VENTO | B33: MENTON | C33: 800 | D33: 701 | F33: SUR PLACE | G33: 491 | I33: 7494 | J33: 6544 | K33: 0 | L33: 950 | M33: 1903 | N33: =O33+P33+Q33+S33 -> 2181 | O33: 1328 | P33: 575 | Q33: 0 | R33: 135 | S33: 278 | T33: 772 | U33: 410.79 | V33: 248.12 | W33: 658.91 | X33: 719 + mur rideau 180 *
A34: LA CHENAIE | B34: MOUANS SARTOUX | C34: 850 | D34: 576 | F34: SUR PLACE | G34: 554 | I34: 7346 | J34: 5614 | K34: 0 | L34: 1731 | M34: 7205 | N34: =O34+P34+Q34+S34 -> 7737 | O34: 1680 | P34: 1694 | Q34: 3831 | R34: 5776 | S34: 532 | T34: 901 | U34: 352.15 | V34: 271.96 | W34: 624.11 | X34: 940*
A35: LES CAMPELIERES | B35: MOUGINS | C35: 900 | D35: 866 | F35: SUR PLACE | G35: 848 | I35: 9630 | J35: 9521 | K35: 109 | L35: 0 | M35: 11102 | N35: =O35+P35+Q35+S35 -> 11454 | O35: 3434 | P35: 1644 | Q35: 6024 | R35: 7147 | S35: 352 | T35: 849 | U35: 476.91 | V35: 614.32 | W35: 1091.23 | X35: 1 203*
A36: L'ARCHET | B36: NICE | C36: 800 | D36: 772 | F36: SUR PLACE | G36: 714 | I36: 6938 | J36: 6106 | K36: 0 | L36: 832 | M36: 5571 | N36: =O36+P36+Q36+S36 -> 5851 | O36: 1173 | P36: 1384 | Q36: 3014 | R36: 4298 | S36: 280 | T36: 790 | U36: 343.57 | V36: 290.78 | W36: 634.35 | X36: 849*
A37: LOUIS NUCERA | B37: NICE | C37: 700 | D37: 567 | E37: REP+ | F37: SUR PLACE | G37: 127 | I37: 7542 | J37: 5734 | K37: 0 | L37: 1808 | M37: 5386 | N37: =O37+P37+Q37+S37 -> 5613 | O37: 1775 | P37: 1621 | Q37: 1990 | R37: 264 | S37: 227 | T37: 477 | U37: 364.65 | V37: 271.18 | W37: 635.83 | X37: 1 131*
A38: ALPHONCE DAUDET | B38: NICE | C38: 750 | D38: 561 | F38: SUR PLACE | G38: 411 | I38: 6264 | J38: 5173 | K38: 0 | L38: 1091 | M38: 1181 | N38: =O38+P38+Q38+S38 -> 1748 | O38: 0 | P38: 962 | Q38: 219 | R38: 252 | S38: 567 | T38: 814 | U38: 371.5 | V38: 252.41 | W38: 623.91 | X38: 622*
A39: JULES ROMAINS | B39: NICE | C39: 750 | D39: 394 | E39: REP+ | F39: SATELLITE | G39: 64 | I39: 5393 | J39: 5393 | K39: 0 | L39: 0 | M39: 6653 | N39: =O39+P39+Q39+S39 -> 6845 | O39: 1800 | P39: 1700 | Q39: 3153 | R39: 3200 | S39: 192 | T39: 448 | U39: 179.08 | V39: 125.08 | W39: 304.16 | X39: 552*
A40: RAOUL DUFY | B40: NICE | C40: 1000 | D40: 966 | F40: SUR PLACE | G40: 862 | I40: 8040 | J40: 7823 | K40: 0 | L40: 217 | M40: 9510 | N40: =O40+P40+Q40+S40 -> 10047 | O40: 3000 | P40: 3700 | Q40: 2810 | R40: 4075 | S40: 537 | T40: 809 | U40: 507.16 | V40: 229.72 | W40: 736.88 | X40: 950*
A41: VICTOR DURUY | B41: NICE | C41: 750 | D41: 394 | E41: REP | F41: SUR PLACE | G41: 211 | I41: 6080 | J41: 6039 | K41: 0 | L41: 41 | M41: 5738 | N41: =O41+P41+Q41+S41 -> 6244 | O41: 1114 | P41: 2123 | Q41: 2501 | R41: 388 | S41: 506 | T41: 411 | U41: 358.85 | V41: 288.97 | W41: 647.82 | X41: 816 + mur rideau
A42: JEAN HENRY FABRE | B42: NICE | C42: 900 | D42: 701 | F42: SUR PLACE | G42: 466 | I42: 8643 | J42: 7576 | K42: 0 | L42: 1067 | M42: 6148 | N42: =O42+P42+Q42+S42 -> 6885 | O42: 1455 | P42: 1940 | Q42: 2753 | R42: 1759 | S42: 737 | T42: 708 | U42: 380.15 | V42: 270.75 | W42: 650.9 | X42: 892*
A43: ROLAND GARROS | B43: NICE | C43: 1000 | D43: 656 | F43: SUR PLACE | G43: 575 | I43: 6899 | J43: 6899 | K43: 0 | L43: 0 | M43: 7765 | N43: =O43+P43+Q43+S43 -> 7982 | O43: 2222 | P43: 1940 | Q43: 3603 | R43: 1208 | S43: 217 | T43: 590 | U43: 452.84 | V43: 453.66 | W43: 906.5 | X43: 871*
A44: JEAN GIONO | B44: NICE | C44: 750 | D44: 630 | F44: SUR PLACE | G44: 331 | I44: 6902 | J44: 6858 | K44: 0 | L44: 44 | M44: 2967 | N44: =O44+P44+Q44+S44 -> 3267 | O44: 1941 | P44: 1026 | Q44: 0 | R44: 36 | S44: 300 | T44: 747 | U44: 416.86 | V44: 326.68 | W44: 743.54 | X44: 698*
A45: MAURICE JAUBERT | B45: NICE | C45: 900 | D45: 667 | E45: REP+ | F45: SATELLITE | G45: 2 | I45: 10117 | J45: 8092 | K45: 0 | L45: 2025 | M45: 11148 | N45: =O45+P45+Q45+S45 -> 11638 | O45: 1312 | P45: 2365 | Q45: 7471 | R45: 3447 | S45: 490 | T45: 744 | U45: 690.89 | V45: 182.12 | W45: 873.01 | X45: 900*
A46: HENRI MATISSE | B46: NICE | C46: 800 | D46: 948 | F46: SATELLITE | G46: 865 | I46: 8003 | J46: 8003 | K46: 0 | L46: 0 | M46: 3657 | N46: =O46+P46+Q46+S46 -> 4026 | O46: 1228 | P46: 636 | Q46: 1793 | R46: 3327 | S46: 369 | T46: 786 | U46: 295.48 | V46: 227.77 | W46: 523.25 | X46: 969*
A47: FREDERIC MISTRAL | B47: NICE | C47: 1000 | D47: 663 | F47: SUR PLACE | G47: 421 | I47: 7465 | J47: 7465 | K47: 0 | L47: 0 | M47: 9635 | N47: =O47+P47+Q47+S47 -> 10159 | O47: 3524 | P47: 2593 | Q47: 3518 | R47: 2639 | S47: 524 | T47: 799 | U47: 413.63 | V47: 299.27 | W47: 712.9 | X47: 973*
A48: PARC IMPERIAL | B48: NICE | C48: 700 | D48: 790 | F48: SUR PLACE/internat | G48: 1123 | H48: 121 | I48: 26654 | J48: 23952 | K48: 0 | L48: 2702 | M48: 22509 | N48: =O48+P48+Q48+S48 -> 23283 | O48: 7185 | P48: 7413 | Q48: 7911 | R48: 6792 | S48: 774 | T48: 3093 | U48: 1034.64 | V48: 432.29 | W48: 1466.93 | X48: 2537*
A49: PORT LYMPIA | B49: NICE | C49: 1000 | D49: 727 | F49: SUR PLACE | G49: 627 | I49: 11080 | J49: 9481 | K49: 0 | L49: 1599 | M49: 12094 | N49: =O49+P49+Q49+S49 -> 12510 | O49: 878 | P49: 2491 | Q49: 8725 | R49: 2467 | S49: 416 | T49: 1091 | U49: 476.28 | V49: 239.62 | W49: 715.9 | X49: 1 093*
A50: ANTOINE RISSO | B50: NICE | C50: 700 | D50: 444 | F50: SATELLITE | G50: 241 | I50: 5015 | J50: 4619 | K50: 0 | L50: 396 | M50: 618 | N50: =O50+P50+Q50+S50 -> 898 | O50: 83 | P50: 535 | Q50: 0 | R50: 53 | S50: 280 | T50: 297 | U50: 152.23 | V50: 271.82 | W50: 424.05 | X50: 762*
A51: JEAN ROSTAND | B51: NICE | C51: 600 | D51: 491 | F51: SUR PLACE | G51: 351 | I51: 4797 | J51: 4497 | K51: 0 | L51: 300 | M51: 2349 | N51: =O51+P51+Q51+S51 -> 2646 | O51: 546 | P51: 1023 | Q51: 780 | R51: 531 | S51: 297 | T51: 358 | U51: 410.28 | V51: 249.93 | W51: 660.21 | X51: 551*
A52: SEGURANE | B52: NICE | C52: 600 | D52: 573 | F52: SATELLITE | G52: 395 | I52: 4291 | J52: 4184 | K52: 0 | L52: 107 | M52: 1321 | N52: =O52+P52+Q52+S52 -> 1646 | O52: 0 | P52: 1198 | Q52: 123 | R52: 80 | S52: 325 | T52: 510 | U52: 255.26 | V52: 232.21 | W52: 487.47 | X52: 547*
A53: PAUL VALERI | B53: NICE | C53: 1000 | D53: 839 | F53: SUR PLACE | G53: 549 | I53: 8695 | J53: 7251 | K53: 0 | L53: 1444 | M53: 4583 | N53: =O53+P53+Q53+S53 -> 5690 | O53: 1916 | P53: 1840 | Q53: 827 | R53: 604 | S53: 1107 | T53: 773 | U53: 469.65 | V53: 325.59 | W53: 795.24 | X53: 615 + mur rideau 286 *
A54: INTERNATIONAL VERNIER | B54: NICE | C54: 700 | D54: 524 | F54: SATELLITE | G54: 240 | I54: 6685 | J54: 6251 | K54: 0 | L54: 434 | M54: 2043 | N54: =O54+P54+Q54+S54 -> 2381 | O54: 0 | P54: 1337 | Q54: 706 | R54: 105 | S54: 338 | T54: 525 | U54: 115.35 | V54: 249.49 | W54: 364.84 | X54: 929*
A55: PAUL ARENE | B55: PEYMEINADE | C55: 600 | D55: 597 | F55: SUR PLACE | G55: 551 | I55: 5517 | J55: 5298 | K55: 219 | L55: 0 | M55: 8752 | N55: =O55+P55+Q55+S55 -> 9086 | O55: 2759 | P55: 1817 | Q55: 4176 | R55: 4779 | S55: 334 | T55: 729 | U55: 365.11 | V55: 257.08 | W55: 622.19 | X55: 812*
A56: AUGUSTE BLANCHI | B56: PUGET THENIERS | C56: 250 | D56: 276 | F56: SUR PLACE/internat | G56: 181 | H56: 40 | I56: 5427 | J56: 3967 | K56: 55 | L56: 1405 | M56: 3213 | N56: =O56+P56+Q56+S56 -> 3300 | O56: 0 | P56: 680 | Q56: 2533 | R56: 2533 | S56: 87 | T56: 370 | U56: 296.27 | V56: 208.12 | W56: 504.39 | X56: 401*
A57: JEAN SALINES | B57: ROQUEBILLIERE | C57: 300 | D57: 292 | F57: SUR PLACE/internat | G57: 206 | H57: 41 | I57: 6583 | J57: 5499 | K57: 0 | L57: 1084 | M57: 4565 | N57: =O57+P57+Q57+S57 -> 4960 | O57: 1664 | P57: 1090 | Q57: 1811 | R57: 2130 | S57: 395 | T57: 283 | U57: 420.69 | V57: 328.31 | W57: 749 | X57: 662*
A58: CESAR | B58: ROQUEFORT LES PINS | C58: 600 | D58: 548 | F58: SUR PLACE/ cuisine centrale primaires | G58: 547 | H58: 500 | I58: 7434 | J58: 5274 | K58: 0 | L58: 2160 | M58: 0 | N58: =O58+P58+Q58+S58 -> 0 | O58: 0 | P58: 0 | Q58: 0 | R58: 0 | S58: 0 | T58: 679 | U58: 695.25 | V58: 345.72 | W58: 1040.97
A59: JEAN FRANCO | B59: ST ETIENNE DE TINEE | C59: 300 | D59: 192 | F59: SUR PLACE/internat | G59: 43 | H59: 127 | I59: 8337 | J59: 5762 | K59: 0 | L59: 2575 | M59: 2066 | N59: =O59+P59+Q59+S59 -> 2160 | O59: 1158 | P59: 760 | Q59: 148 | R59: 0 | S59: 94 | T59: 448 | U59: 260.36 | V59: 154.23 | W59: 414.59 | X59: 358*
A60: LES BAOUS | B60: ST JEANNET | C60: 900 | D60: 824 | F60: SUR PLACE | G60: 762 | I60: 8944 | J60: 7879 | K60: 0 | L60: 1065 | M60: 20333 | N60: =O60+P60+Q60+S60 -> 20660 | O60: 9350 | P60: 1522 | Q60: 9461 | R60: 18004 | S60: 327 | T60: 555 | U60: 264.89 | V60: 218.74 | W60: 483.63 | X60: 1 650*
A61: JOSEPH PAGNOL | B61: ST LAURENT DU VAR | C61: 1000 | D61: 673 | F61: SUR PLACE | G61: 626 | I61: 9121 | J61: 6976 | K61: 0 | L61: 2145 | M61: 6991 | N61: =O61+P61+Q61+S61 -> 7349 | O61: 0 | P61: 3220 | Q61: 3771 | R61: 6182 | S61: 358 | T61: 806 | U61: 369.34 | V61: 388.93 | W61: 758.27 | X61: 1034*
A62: ST EXUPERY | B62: ST LAURENT DU VAR | C62: 600 | D62: 570 | F62: SUR PLACE | G62: 456 | I62: 5600 | J62: 4692 | K62: 0 | L62: 908 | M62: 6360 | N62: =O62+P62+Q62+S62 -> 7206 | O62: 2194 | P62: 2733 | Q62: 1433 | R62: 1055 | S62: 846 | T62: 605 | U62: 298.53 | V62: 230.08 | W62: 528.61 | X62: 566*
A63: LUDOVIC BREA | B63: ST MARTIN DU VAR | C63: 450 | D63: 497 | F63: SATELLITE | G63: 459 | I63: 3577 | J63: 3476 | K63: 0 | L63: 101 | M63: 7157 | N63: =O63+P63+Q63+S63 -> 7673 | O63: 2714 | P63: 1015 | Q63: 3428 | R63: 678 | S63: 516 | T63: 357 | U63: 151.3 | V63: 196.66 | W63: 347.96 | X63: 554*
A64: SAINT BLAISE | B64: ST SAUVEUR SUR TINEE | C64: 200 | D64: 175 | F64: SUR PLACE/internat | G64: 96 | H64: 76 | I64: 3655 | J64: 3522 | K64: 133 | L64: 0 | M64: 1644 | N64: =O64+P64+Q64+S64 -> 1721 | O64: 0 | P64: 684 | Q64: 960 | R64: 723 | S64: 77 | T64: 509 | U64: 94.54 | V64: 144.07 | W64: 238.61 | X64: 480*
A65: SIMON WIESENTHAL | B65: ST VALLIER DE THIEY | C65: 600 | D65: 576 | F65: SUR PLACE/internat | G65: 525 | H65: 26 | I65: 8298 | J65: 5249 | K65: 164 | L65: 2885 | M65: 8565 | N65: =O65+P65+Q65+S65 -> 9019 | O65: 5471 | P65: 1314 | Q65: 1780 | R65: 19800 | S65: 454 | T65: 602 | U65: 395.17 | V65: 262.5 | W65: 657.67 | X65: 1220*
A66: JEAN MEDECIN | B66: SOSPEL | C66: 200 | D66: 188 | F66: SUR PLACE/internat | G66: 98 | H66: 25 | I66: 2795 | J66: 2758 | K66: 36 | L66: 0 | M66: 3653 | N66: =O66+P66+Q66+S66 -> 3906 | O66: 1290 | P66: 893 | Q66: 1470 | R66: 1474 | S66: 253 | T66: 545 | U66: 187.61 | V66: 149.64 | W66: 337.25 | X66: 466*
A67: JEAN BAPTISTE RUSCA | B67: TENDE | C67: 200 | D67: 106 | F67: SUR PLACE/internat | G67: 78 | H67: 26 | I67: 3026 | J67: 2218 | K67: 0 | L67: 808 | M67: 3527 | N67: =O67+P67+Q67+S67 -> 3897 | O67: 0 | P67: 1297 | Q67: 2230 | R67: 747 | S67: 370 | T67: 218 | U67: 125.42 | V67: 86.68 | W67: 212.1 | X67: 365*
A68: RENE CASSIN | B68: TOURRETTE LEVENS | C68: 700 | D68: 672 | F68: SUR PLACE | G68: 665 | I68: 6012 | J68: 4796 | K68: 55 | L68: 1161 | M68: 12257 | N68: =O68+P68+Q68+S68 -> 12430 | O68: 4560 | P68: 1723 | Q68: 5974 | R68: 2827 | S68: 173 | T68: 1212 | U68: 329.72 | V68: 287.62 | W68: 617.34 | X68: 1 158*
A69: CENTRE INTERNATIONAL VALBONNE | B69: VALBONNE | D69: 749 | I69: 0 | J69: 0 | K69: 0 | L69: 0 | M69: 0 | N69: 0 | O69: 0 | P69: 0 | Q69: 0 | R69: 0 | S69: 0 | T69: 0 | U69: 0 | V69: 0 | W69: 0 | X69: 0
A70: NIKI DE SAINT PHALLE | B70: VALBONNE | C70: 800 | D70: 756 | F70: SUR PLACE | G70: 717 | I70: 8291 | J70: 6637 | K70: 0 | L70: 1654 | M70: 6382 | N70: =O70+P70+Q70+S70 -> 6642 | O70: 1850 | P70: 2500 | Q70: 2032 | R70: 4300 | S70: 260 | T70: 676 | U70: 377.49 | V70: 308.17 | W70: 685.66 | X70: 985*
A71: PABLO PICASSO | B71: VALLAURIS | C71: 700 | D71: 667 | E71: REP | F71: SUR PLACE | G71: 337 | I71: 8024 | J71: 8024 | K71: 0 | L71: 0 | M71: 7240 | N71: =O71+P71+Q71+S71 -> 7441 | O71: 2339 | P71: 1221 | Q71: 3680 | R71: 6476 | S71: 201 | T71: 649 | U71: 371 | V71: 304 | W71: 675 | X71: 692*
A72: LA SINE | B72: VENCE | C72: 900 | D72: 815 | F72: SUR PLACE | G72: 702 | I72: 6711 | J72: 6428 | K72: 0 | L72: 283 | M72: 5681 | N72: =O72+P72+Q72+S72 -> 6204 | O72: 1107 | P72: 1579 | Q72: 2995 | R72: 4497 | S72: 523 | T72: 483 | U72: 358.86 | V72: 304.23 | W72: 663.09 | X72: 615*
A73: ROMEE DE VILLENEUVE | B73: VILLENEUVE LOUBET | C73: 700 | D73: 574 | F73: SUR PLACE | G73: 516 | I73: 5712 | J73: 4834 | K73: 0 | L73: 878 | M73: 4823 | N73: =O73+P73+Q73+S73 -> 5034 | O73: 1997 | P73: 1376 | Q73: 1450 | R73: 2180 | S73: 211 | T73: 665 | U73: 353.24 | V73: 227.7 | W73: 580.94 | X73: 688*
