Workbook

Sheet INDICATEUR RH
A1: Indicateurs RH pour les collèges
A3: Fonctions | B3: Accueil | C3: Maintenance | D3: Restauration | I3: Entretien | L3: Lingerie | M3: Gardiennage gymnase
D4: Chef | E4: Second | F4: Aide + entretien cuisine | G4: Plonge + entretien réfectoire | H4: Magasinier | I4: Surfaces bâties | J4: Surfaces non bâties (cours, préaux, stationnement) | K4: Espaces verts
A5: Normes (ETP) | B5: 1 | C5: 1 | D5: 1 | E5: 1 | F5: 1 | G5: 1 | H5: 0 | I5: 1 500m2/ ETP* | J5: 20 000m2/ ETP* | K5: 20 000m2/ ETP* | L5: 0 | M5: 1
A6: Remplacement pause | B6: +0,2
A7: Nb élèves>700* | B7: +0,2 | C7: +0,5
A8: Cuisine satellite | E8: -1
A9: Nb DP<250* | F9: -1
A10: 500<Nb DP<800* | F10: +0,5 | G10: +0,5
A11: Nb DP>800* | F11: +1 | G11: +1 | H11: +0,5
A12: > 2 bâtiments | I12: +0,3
A13: > 2 étages | I13: +0,3
A14: Réfectoire> 400m2 | F14: +0,2
A15: 17<Nb agents<35* | L15: +0,25
A16: Nb agents>35 | L16: +0,5
A17: Internat | L17: +0,25
A18: REP + | I18: +0,25
A19: Gymnase sans gardien | M19: -0,5
A20: Gymnase avec gardien | M20: -1
A22: * Norme KPMG

Sheet BASE
A1: Nom établissement | B1: Commune | C1: Total eff.Theorique | D1: Total nombre élèves 2016 | E1: REP et REP+ | F1: TYPE PRODUCTION (DATE?) | G1: NB DP | H1: NB INTERNES | I1: Aires baties SHON | J1: Batiments scolaires SHON | K1: Batiments préfabriqués SHON | L1: Equipements sportifs couverts SHON | M1: Aires non baties | N1: Surfaces non bâties (cours, péaux, stationnement, equipement sportifs exterireurs) | O1: Equipements sportifs exterieurs | P1: Cours extérieures | Q1: Stationnement et voirie | R1: Espaces verts | S1: Preau | T1: Logements de fonction SHONx0,95 | U1: SURFACES CUISINE ET DEPENDANCES | V1: SURFACES SALLES A MANGER (REFECTOIRE) | W1: TOTAL | X1: Surfaces vitrées
A2: BERTONE | B2: ANTIBES | C2: 700 | D2: 706 | F2: SUR PLACE/internat | G2: 592 | I2: =SUM(J2:L2) -> 8379 | J2: 7013 | K2: - | L2: 1366 | M2: 7239 | N2: =O2+P2+Q2+S2 -> 7588 | O2: 819 | P2: 985 | Q2: 5435 | R2: 8544 | S2: 349 | T2: 728 | U2: 454.06 | V2: 269.52 | W2: 723.58 | X2: 1284*
A3: FERSEN | B3: ANTIBES | C3: 600 | D3: 488 | F3: SUR PLACE | G3: 402 | I3: =SUM(J3:L3) -> 4384 | J3: 4384 | K3: - | L3: 0 | M3: 651 | N3: =O3+P3+Q3+S3 -> 856 | O3: 0 | P3: 484 | Q3: 167 | R3: 517 | S3: 205 | T3: 517 | U3: 310.12 | V3: 223.72 | W3: 533.84 | X3: 741*
A4: LA FONTONNE | B4: ANTIBES | C4: 700 | D4: 357 | F4: SUR PLACE | G4: 328 | I4: =SUM(J4:L4) -> 6417 | J4: 4929 | K4: - | L4: 1488 | M4: 7134 | N4: =O4+P4+Q4+S4 -> 7269 | O4: 1960 | P4: 1451 | Q4: 3723 | R4: 721 | S4: 135 | T4: 720 | U4: 351.52 | V4: 270.16 | W4: 621.68 | X4: 1110*
A5: SIDNEY BECHET | B5: ANTIBES | C5: 400 | D5: 396 | F5: SUR PLACE | G5: 344 | I5: 0 | J5: 0 | K5: 0 | L5: 0 | N5: =O5+P5+Q5+S5 -> 0 | O5: 0 | P5: 0 | Q5: 0 | R5: 0 | S5: 0 | T5: 0 | U5: 0 | V5: 0 | W5: 0 | X5: 0
A6: ROUSTAN | B6: ANTIBES | C6: 600 | D6: 330 | F6: SUR PLACE | G6: 209 | I6: 4790 | J6: 4790 | K6: - | L6: 0 | M6: 2170 | N6: =O6+P6+Q6+S6 -> 2300 | O6: 0 | P6: 1400 | Q6: 770 | R6: 543 | S6: 130 | T6: 323 | U6: 347.46 | V6: 199.77 | W6: 547.23 | X6: 450 *
A7: JEAN COCTEAU | B7: BEAULIEU | C7: 600 | D7: 503 | F7: SUR PLACE | G7: 494 | I7: 4123 | J7: 4123 | K7: - | L7: 0 | M7: 4938 | N7: =O7+P7+Q7+S7 -> 5196 | O7: 0 | P7: 1828 | Q7: 3110 | R7: 4888 | S7: 258 | T7: 477 | U7: 330.2 | V7: 223.95 | W7: 554.15 | X7: 454*
A8: BELLEVUE | B8: BEAUSOLEIL | C8: 550 | D8: 526 | F8: SUR PLACE | G8: 317 | I8: 3751 | J8: 3540 | K8: - | L8: 211 | M8: 1151 | N8: =O8+P8+Q8+S8 -> 1443 | O8: 0 | P8: 775 | Q8: 376 | R8: 247 | S8: 292 | T8: 397 | U8: 326.97 | V8: 247.84 | W8: 574.81 | X8: 550*
A9: L'EGANAUDE | B9: BIOT | C9: 850 | D9: 737 | F9: SUR PLACE | G9: 686 | I9: 7140 | J9: 6051 | K9: 109 | L9: 980 | M9: 10078 | N9: =O9+P9+Q9+S9 -> 10258 | O9: 2496 | P9: 1617 | Q9: 5965 | R9: 7099 | S9: 180 | T9: 645 | U9: 315.84 | V9: 331.94 | W9: 647.78 | X9: 561*
A10: L'EAU VIVE | B10: BREIL SUR ROYA | C10: 200 | D10: 122 | F10: SUR PLACE/internat | G10: 85 | H10: 30 | I10: 3210 | J10: 3083 | K10: 108 | L10: 19 | M10: 3290 | N10: =O10+P10+Q10+S10 -> 3458 | O10: 624 | P10: 1918 | Q10: 748 | R10: 194 | S10: 168 | T10: 594 | U10: 202.99 | V10: 112.18 | W10: 315.17 | X10: 671*
A11: LES BREGUIERES | B11: CAGNES SUR MER | C11: 800 | D11: 532 | F11: SUR PLACE | G11: 396 | I11: 14447 | J11: 7121 | K11: - | L11: 7326 | M11: 9011 | N11: =O11+P11+Q11+S11 -> 9887 | O11: 2708 | P11: 3021 | Q11: 3282 | R11: 401 | S11: 876 | T11: 851* | U11: 474.49 | V11: 235.58 | W11: 710.07 | X11: 0
A12: ANDRE MALRAUX | B12: CAGNES SUR MER | C12: 600 | D12: 500 | F12: SUR PLACE | G12: 478 | I12: 5673 | J12: 4748 | K12: - | L12: 925 | M12: 5931 | N12: =O12+P12+Q12+S12 -> 5931 | O12: 1882 | P12: 1442 | Q12: 2607 | R12: 2463 | S12: 0 | T12: 567 | U12: 230.37 | V12: 245.36 | W12: 475.73 | X12: 784*
A13: JULES VERNE | B13: CAGNES SUR MER | C13: 700 | D13: 592 | F13: SUR PLACE | G13: 426 | I13: 6685 | J13: 6251 | K13: - | L13: 434 | M13: 2043 | N13: =O13+P13+Q13+S13 -> 2381 | O13: 0 | P13: 1337 | Q13: 706 | R13: 105 | S13: 338 | T13: 525 | U13: 115.35 | V13: 249.49 | W13: 364.84 | X13: 929*
A14: CAPRON | B14: CANNES | C14: 600 | D14: 303 | F14: SUR PLACE | G14: 308 | I14: 5312 | J14: 4899 | K14: - | L14: 413 | M14: 14146 | N14: =O14+P14+Q14+S14 -> 14330 | O14: 6538 | P14: 3249 | Q14: 4359 | R14: 2212 | S14: 184 | T14: 872 | U14: 341.69 | V14: 288.36 | W14: 630.05 | X14: 719 + mur rideau
A15: LES MURIERS | B15: CANNES | C15: 700 | D15: 770 | E15: REP | F15: SUR PLACE | G15: 525 | I15: 7179 | J15: 7179 | K15: - | L15: 0 | M15: 8008 | N15: =O15+P15+Q15+S15 -> 8482 | O15: 1115 | P15: 2525 | Q15: 4368 | R15: 5644 | S15: 474 | T15: 554 | U15: 334.65 | V15: 384.93 | W15: 719.58 | X15: 1 350*
A16: GERARD PHILIPE | B16: CANNES | C16: 700 | D16: 597 | F16: SUR PLACE | G16: 478 | I16: 4907 | J16: 4907 | K16: - | L16: 0 | M16: 5168 | N16: =O16+P16+Q16+S16 -> 5499 | O16: 0 | P16: 2546 | Q16: 2622 | R16: 5243 | S16: 331 | T16: 510 | U16: 370.53 | V16: 308.53 | W16: 679.06 | X16: 721*
A17: LES VALLERGUES | B17: CANNES | C17: 700 | D17: 480 | E17: REP | F17: SUR PLACE | G17: 410 | I17: 6451 | J17: 5240 | K17: - | L17: 1211 | M17: 5950 | N17: =O17+P17+Q17+S17 -> 6253 | O17: 1770 | P17: 767 | Q17: 3413 | R17: 4701 | S17: 303 | T17: 513 | U17: 526.96 | V17: 298.95 | W17: 825.91 | X17: 871*
A18: PAUL LANGEVIN | B18: CARROS | C18: 900 | D18: 796 | E18: REP | F18: SUR PLACE | G18: 575 | I18: 6681 | J18: 6553 | K18: 129 | L18: 0 | M18: 18801 | N18: =O18+P18+Q18+S18 -> 19169 | O18: 1200 | P18: 2201 | Q18: 15400 | R18: 15400 | S18: 368 | T18: 669 | U18: 498.35 | V18: 316.72 | W18: 815.07 | X18: 857**
A19: ROGER CARLES | B19: CONTES | C19: 750 | D19: 706 | F19: SUR PLACE | G19: 667 | I19: 6132 | J19: 5987 | K19: 146 | L19: 0 | M19: 4502 | N19: =O19+P19+Q19+S19 -> 4703 | O19: 1422 | P19: 2320 | Q19: 760 | R19: 2050 | S19: 201 | T19: 296 | U19: 379.26 | V19: 244.85 | W19: 624.11 | X19: 691 + mur rideau
A20: CANTEPERDRIX | B20: GRASSE | C20: 700 | D20: 728 | F20: SUR PLACE | G20: 669 | I20: 8884 | J20: 6783 | K20: - | L20: 2101 | M20: 11298 | N20: =O20+P20+Q20+S20 -> 11760 | O20: 4696 | P20: 1882 | Q20: 4720 | R20: 9683 | S20: 462 | T20: 647 | U20: 478.44 | V20: 272.34 | W20: 750.78 | X20: 958*
A21: CARNOT | B21: GRASSE | C21: 550 | D21: 426 | F21: SUR PLACE/internat | G21: 262 | I21: 3528 | J21: 3528 | K21: - | L21: 0 | M21: 2104 | N21: =O21+P21+Q21+S21 -> 2339 | O21: 0 | P21: 1625 | Q21: 479 | R21: 1180 | S21: 235 | T21: 100 | U21: 289.87 | V21: 221.48 | W21: 511.35 | X21: 601*
A22: LES JASMINS | B22: GRASSE | C22: 600 | D22: 474 | F22: SUR PLACE | G22: 357 | I22: 6178 | J22: 5344 | K22: - | L22: 835 | M22: 8403 | N22: =O22+P22+Q22+S22 -> 8730 | O22: 2036 | P22: 1586 | Q22: 4781 | R22: 1801 | S22: 327 | T22: 749 | U22: 207.4 | V22: 222.24 | W22: 429.64 | X22: 965*
A23: SAINT HILAIRE | B23: GRASSE | C23: 850 | D23: 474 | F23: SUR PLACE/internat | G23: 309 | H23: 13 | I23: 9244 | J23: 8015 | K23: - | L23: 1229 | M23: 3828 | N23: =O23+P23+Q23+S23 -> 3975 | O23: 569 | P23: 1375 | Q23: 1884 | R23: 200 | S23: 147 | T23: 645 | U23: 410.43 | V23: 191.85 | W23: 602.28 | X23: 597*
A24: FRANCOIS RABELAIS | B24: L'ESCARENE | C24: 600 | D24: 388 | F24: SUR PLACE | G24: 316 | I24: 7266 | J24: 5398 | K24: - | L24: 1868 | M24: 8522 | N24: =O24+P24+Q24+S24 -> 9173 | O24: 2685 | P24: 1661 | Q24: 4176 | R24: 2720 | S24: 651 | T24: 467 | U24: 349.16 | V24: 218.76 | W24: 567.92 | X24: 400*
A25: YVES KLEIN | B25: LA COLLE | C25: 850 | D25: 695 | F25: SUR PLACE | G25: 715 | I25: 6303 | J25: 6303 | K25: - | L25: 0 | M25: 5773 | N25: =O25+P25+Q25+S25 -> 6066 | O25: 1010 | P25: 1777 | Q25: 2986 | R25: 8183 | S25: 293 | T25: 540 | U25: 410.55 | V25: 320.54 | W25: 731.09 | X25: 572*
A26: LA BOURGADE | B26: LA TRINITE | C26: 550 | D26: 449 | F26: SUR PLACE | G26: 278 | I26: 4193 | J26: 4041 | K26: - | L26: 152 | M26: 2592 | N26: =O26+P26+Q26+S26 -> 2967 | O26: 469 | P26: 830 | Q26: 1293 | R26: 2772 | S26: 375 | T26: 465 | U26: 361.9 | V26: 254.84 | W26: 616.74 | X26: 631*
A27: PIERRE BONNARD | B27: LE CANNET | C27: 800 | D27: 524 | F27: SUR PLACE | G27: 417 | I27: 7766 | J27: 7766 | K27: - | L27: 0 | M27: 4485 | N27: =O27+P27+Q27+S27 -> 4687 | O27: 0 | P27: 1264 | Q27: 3221 | R27: 9026 | S27: 202 | T27: 439 | U27: 296.62 | V27: 281.4 | W27: 578.02 | X27: 607*
A28: EMILE ROUX | B28: LE CANNET | C28: 600 | D28: 555 | F28: SUR PLACE | G28: 461 | I28: 6379 | J28: 4763 | K28: - | L28: 1617 | M28: 5371 | N28: =O28+P28+Q28+S28 -> 5634 | O28: 2450 | P28: 371 | Q28: 2550 | R28: 2277 | S28: 263 | T28: 917 | U28: 220.26 | V28: 268.27 | W28: 488.53 | X28: 924*
A29: LE PRE DES ROURES | B29: LE ROURET | C29: 800 | D29: 590 | F29: SUR PLACE | G29: 593 | I29: 8658 | J29: 6341 | K29: - | L29: 2317 | M29: 7119 | N29: =O29+P29+Q29+S29 -> 7345 | O29: 2432 | P29: 2304 | Q29: 2383 | R29: 9242 | S29: 226 | T29: 836 | U29: 446.05 | V29: 314 | W29: 760.05 | X29: 1280*
A30: ALBERT CAMUS | B30: MANDELIEU | C30: 750 | D30: 608 | F30: SUR PLACE | G30: 540 | I30: 6967 | J30: 5233 | K30: - | L30: 1734 | M30: 9202 | N30: =O30+P30+Q30+S30 -> 9659 | O30: 3213 | P30: 1760 | Q30: 4229 | R30: 9394 | S30: 457 | T30: 490 | U30: 352.06 | V30: 309.05 | W30: 661.11 | X30: 656*
A31: LES MIMOSAS | B31: MANDELIEU | C31: 800 | D31: 637 | F31: SUR PLACE | G31: 600 | I31: 7011 | J31: 5194 | K31: - | L31: 1817 | M31: 11555 | N31: =O31+P31+Q31+S31 -> 11714 | O31: 1804 | P31: 1577 | Q31: 8174 | R31: 6664 | S31: 159 | T31: 872 | U31: 387.31 | V31: 270.86 | W31: 658.17 | X31: 1 095*
A32: ANDRE MAUROIS | B32: MENTON | C32: 800 | D32: 552 | F32: SUR PLACE | G32: 379 | I32: 6452 | J32: 5382 | K32: - | L32: 1070 | M32: 489 | N32: =O32+P32+Q32+S32 -> 654 | O32: 0 | P32: 489 | Q32: 0 | R32: 377 | S32: 165 | T32: 527 | U32: 339.92 | V32: 228.1 | W32: 568.02 | X32: 1241*
A33: GUILLAUME VENTO | B33: MENTON | C33: 800 | D33: 701 | F33: SUR PLACE | G33: 491 | I33: 7494 | J33: 6544 | K33: - | L33: 950 | M33: 1903 | N33: =O33+P33+Q33+S33 -> 2181 | O33: 1328 | P33: 575 | Q33: 0 | R33: 135 | S33: 278 | T33: 772 | U33: 410.79 | V33: 248.12 | W33: 658.91 | X33: 719 + mur rideau 180 *
A34: LA CHENAIE | B34: MOUANS SARTOUX | C34: 850 | D34: 576 | F34: SUR PLACE | G34: 554 | I34: 7346 | J34: 5614 | K34: - | L34: 1731 | M34: 7205 | N34: =O34+P34+Q34+S34 -> 7737 | O34: 1680 | P34: 1694 | Q34: 3831 | R34: 5776 | S34: 532 | T34: 901 | U34: 352.15 | V34: 271.96 | W34: 624.11 | X34: 940*
A35: LES CAMPELIERES | B35: MOUGINS | C35: 900 | D35: 866 | F35: SUR PLACE | G35: 848 | I35: 9630 | J35: 9521 | K35: 109 | L35: 0 | M35: 11102 | N35: =O35+P35+Q35+S35 -> 11454 | O35: 3434 | P35: 1644 | Q35: 6024 | R35: 7147 | S35: 352 | T35: 849 | U35: 476.91 | V35: 614.32 | W35: 1091.23 | X35: 1 203*
A36: L'ARCHET | B36: NICE | C36: 800 | D36: 772 | F36: SUR PLACE | G36: 714 | I36: 6938 | J36: 6106 | K36: - | L36: 832 | M36: 5571 | N36: =O36+P36+Q36+S36 -> 5851 | O36: 1173 | P36: 1384 | Q36: 3014 | R36: 4298 | S36: 280 | T36: 790 | U36: 343.57 | V36: 290.78 | W36: 634.35 | X36: 849*
A37: LOUIS NUCERA | B37: NICE | C37: 700 | D37: 567 | E37: REP+ | F37: SUR PLACE | G37: 127 | I37: 7542 | J37: 5734 | K37: - | L37: 1808 | M37: 5386 | N37: =O37+P37+Q37+S37 -> 5613 | O37: 1775 | P37: 1621 | Q37: 1990 | R37: 264 | S37: 227 | T37: 477 | U37: 364.65 | V37: 271.18 | W37: 635.83 | X37: 1 131*
A38: ALPHONCE DAUDET | B38: NICE | C38: 750 | D38: 561 | F38: SUR PLACE | G38: 411 | I38: 6264 | J38: 5173 | K38: - | L38: 1091 | M38: 1181 | N38: =O38+P38+Q38+S38 -> 1748 | O38: 0 | P38: 962 | Q38: 219 | R38: 252 | S38: 567 | T38: 814 | U38: 371.5 | V38: 252.41 | W38: 623.91 | X38: 622*
A39: JULES ROMAINS | B39: NICE | C39: 750 | D39: 394 | E39: REP+ | F39: SATELLITE | G39: 64 | I39: 5393 | J39: 5393 | K39: - | L39: 0 | M39: 6653 | N39: =O39+P39+Q39+S39 -> 6845 | O39: 1800 | P39: 1700 | Q39: 3153 | R39: 3200 | S39: 192 | T39: 448 | U39: 179.08 | V39: 125.08 | W39: 304.16 | X39: 552*
A40: RAOUL DUFY | B40: NICE | C40: 1000 | D40: 966 | F40: SUR PLACE | G40: 862 | I40: 8040 | J40: 7823 | K40: - | L40: 217 | M40: 9510 | N40: =O40+P40+Q40+S40 -> 10047 | O40: 3000 | P40: 3700 | Q40: 2810 | R40: 4075 | S40: 537 | T40: 809 | U40: 507.16 | V40: 229.72 | W40: 736.88 | X40: 950*
...

Sheet EFFECTIF_CIBLE_CS
B1: Nom établissement | C1: Commune | D1: ACCUEIL | E1: MAINTENANCE | F1: CHEF | G1: SECOND | H1: AIDE + ENTRETIEN CUISINE | I1: PLONGE + ENTRETIEN REFECTOIRE | J1: MAGASINIER | K1: SURFACES BATIES | L1: SURFACES NON BATIES (COURS, PREAUX, STATIONNEMENT | M1: ESPACES VERTS | N1: LINGERIE | O1: GARDIENNEAGE GYMNASE
A2: 1 | B2: BERTONE | C2: ANTIBES | D2: =1.2+(Tableau2[[#This Row],[Total nombre élèves 2016]]>700)*0.2 -> 1.4 | E2: =H5 -> 0 | F2: =1 -> 1 | H2: =SI(Tableau2[@[NB DP]]>800;2;SI(Tableau2[@[NB DP]]>500;1.5;SI(Tableau2[@[NB DP]]>249;1;0)))+(BASE!V2>400)*0.2 | I2: =IF(Tableau2[[#This Row],[NB DP]]>800,2,IF(Tableau2[[#This Row],[NB DP]]>500,1.5,1)) -> 1.5 | K2: =BASE!I2/1500+(Tableau2[[#This Row],[REP et REP+]]="REP+")*0.25 -> 5.586 | L2: =BASE!N2/20000 -> 0.3794 | M2: =BASE!R2/20000 -> 0.4272
A3: 2 | B3: FERSEN | C3: ANTIBES | D3: =1.2+(Tableau2[[#This Row],[Total nombre élèves 2016]]>700)*0.2 -> 1.2 | E3: =1+(Tableau2[[#This Row],[Total nombre élèves 2016]]>700)*0.5 -> 1 | F3: =1 -> 1 | I3: =IF(Tableau2[[#This Row],[NB DP]]>800,2,IF(Tableau2[[#This Row],[NB DP]]>500,1.5,1)) -> 1 | J3: =(Tableau2[[#This Row],[NB DP]]>800)*0.5 -> 0 | K3: =BASE!I3/1500+(Tableau2[[#This Row],[REP et REP+]]="REP+")*0.25 -> 2.9226667 | L3: =BASE!N3/20000 -> 0.0428 | M3: =BASE!R3/20000 -> 0.02585
A4: 3 | B4: LA FONTONNE | C4: ANTIBES | D4: =1.2+(Tableau2[[#This Row],[Total nombre élèves 2016]]>700)*0.2 -> 1.2 | E4: =1+(Tableau2[[#This Row],[Total nombre élèves 2016]]>700)*0.5 -> 1 | F4: =1 -> 1 | I4: =IF(Tableau2[[#This Row],[NB DP]]>800,2,IF(Tableau2[[#This Row],[NB DP]]>500,1.5,1)) -> 1 | J4: =(Tableau2[[#This Row],[NB DP]]>800)*0.5 -> 0 | K4: =BASE!I4/1500+(Tableau2[[#This Row],[REP et REP+]]="REP+")*0.25 -> 4.278 | L4: =BASE!N4/20000 -> 0.36345 | M4: =BASE!R4/20000 -> 0.03605
A5: 4 | B5: SIDNEY BECHET | C5: ANTIBES | D5: =1.2+(Tableau2[[#This Row],[Total nombre élèves 2016]]>700)*0.2 -> 1.2 | E5: =1+(Tableau2[[#This Row],[Total nombre élèves 2016]]>700)*0.5 -> 1 | F5: =1 -> 1 | I5: =IF(Tableau2[[#This Row],[NB DP]]>800,2,IF(Tableau2[[#This Row],[NB DP]]>500,1.5,1)) -> 1 | J5: =(Tableau2[[#This Row],[NB DP]]>800)*0.5 -> 0 | K5: =BASE!I5/1500+(Tableau2[[#This Row],[REP et REP+]]="REP+")*0.25 -> 0 | L5: =BASE!N5/20000 -> 0 | M5: =BASE!R5/20000 -> 0
A6: 5 | B6: ROUSTAN | C6: ANTIBES | D6: =1.2+(Tableau2[[#This Row],[Total nombre élèves 2016]]>700)*0.2 -> 1.2 | E6: =1+(Tableau2[[#This Row],[Total nombre élèves 2016]]>700)*0.5 -> 1 | F6: =1 -> 1 | I6: =IF(Tableau2[[#This Row],[NB DP]]>800,2,IF(Tableau2[[#This Row],[NB DP]]>500,1.5,1)) -> 1 | J6: =(Tableau2[[#This Row],[NB DP]]>800)*0.5 -> 0 | K6: =BASE!I6/1500+(Tableau2[[#This Row],[REP et REP+]]="REP+")*0.25 -> 3.1933333 | L6: =BASE!N6/20000 -> 0.115 | M6: =BASE!R6/20000 -> 0.02715
A7: 6 | B7: JEAN COCTEAU | C7: BEAULIEU | D7: =1.2+(Tableau2[[#This Row],[Total nombre élèves 2016]]>700)*0.2 -> 1.2 | E7: =1+(Tableau2[[#This Row],[Total nombre élèves 2016]]>700)*0.5 -> 1 | F7: =1 -> 1 | I7: =IF(Tableau2[[#This Row],[NB DP]]>800,2,IF(Tableau2[[#This Row],[NB DP]]>500,1.5,1)) -> 1 | J7: =(Tableau2[[#This Row],[NB DP]]>800)*0.5 -> 0 | K7: =BASE!I7/1500+(Tableau2[[#This Row],[REP et REP+]]="REP+")*0.25 -> 2.7486667 | L7: =BASE!N7/20000 -> 0.2598 | M7: =BASE!R7/20000 -> 0.2444
A8: 7 | B8: BELLEVUE | C8: BEAUSOLEIL | D8: =1.2+(Tableau2[[#This Row],[Total nombre élèves 2016]]>700)*0.2 -> 1.2 | E8: =1+(Tableau2[[#This Row],[Total nombre élèves 2016]]>700)*0.5 -> 1 | F8: =1 -> 1 | I8: =IF(Tableau2[[#This Row],[NB DP]]>800,2,IF(Tableau2[[#This Row],[NB DP]]>500,1.5,1)) -> 1 | J8: =(Tableau2[[#This Row],[NB DP]]>800)*0.5 -> 0 | K8: =BASE!I8/1500+(Tableau2[[#This Row],[REP et REP+]]="REP+")*0.25 -> 2.5006667 | L8: =BASE!N8/20000 -> 0.07215 | M8: =BASE!R8/20000 -> 0.01235
A9: 8 | B9: L'EGANAUDE | C9: BIOT | D9: =1.2+(Tableau2[[#This Row],[Total nombre élèves 2016]]>700)*0.2 -> 1.4 | E9: =1+(Tableau2[[#This Row],[Total nombre élèves 2016]]>700)*0.5 -> 1.5 | F9: =1 -> 1 | I9: =IF(Tableau2[[#This Row],[NB DP]]>800,2,IF(Tableau2[[#This Row],[NB DP]]>500,1.5,1)) -> 1.5 | J9: =(Tableau2[[#This Row],[NB DP]]>800)*0.5 -> 0 | K9: =BASE!I9/1500+(Tableau2[[#This Row],[REP et REP+]]="REP+")*0.25 -> 4.76 | L9: =BASE!N9/20000 -> 0.5129 | M9: =BASE!R9/20000 -> 0.35495
A10: 9 | B10: L'EAU VIVE | C10: BREIL SUR ROYA | D10: =1.2+(Tableau2[[#This Row],[Total nombre élèves 2016]]>700)*0.2 -> 1.2 | E10: =1+(Tableau2[[#This Row],[Total nombre élèves 2016]]>700)*0.5 -> 1 | F10: =1 -> 1 | I10: =IF(Tableau2[[#This Row],[NB DP]]>800,2,IF(Tableau2[[#This Row],[NB DP]]>500,1.5,1)) -> 1 | J10: =(Tableau2[[#This Row],[NB DP]]>800)*0.5 -> 0 | K10: =BASE!I10/1500+(Tableau2[[#This Row],[REP et REP+]]="REP+")*0.25 -> 2.14 | L10: =BASE!N10/20000 -> 0.1729 | M10: =BASE!R10/20000 -> 0.0097
A11: 10 | B11: LES BREGUIERES | C11: CAGNES SUR MER | D11: =1.2+(Tableau2[[#This Row],[Total nombre élèves 2016]]>700)*0.2 -> 1.2 | E11: =1+(Tableau2[[#This Row],[Total nombre élèves 2016]]>700)*0.5 -> 1 | F11: =1 -> 1 | I11: =IF(Tableau2[[#This Row],[NB DP]]>800,2,IF(Tableau2[[#This Row],[NB DP]]>500,1.5,1)) -> 1 | J11: =(Tableau2[[#This Row],[NB DP]]>800)*0.5 -> 0 | K11: =BASE!I11/1500+(Tableau2[[#This Row],[REP et REP+]]="REP+")*0.25 -> 9.6313333 | L11: =BASE!N11/20000 -> 0.49435 | M11: =BASE!R11/20000 -> 0.02005
A12: 11 | B12: ANDRE MALRAUX | C12: CAGNES SUR MER | D12: =1.2+(Tableau2[[#This Row],[Total nombre élèves 2016]]>700)*0.2 -> 1.2 | E12: =1+(Tableau2[[#This Row],[Total nombre élèves 2016]]>700)*0.5 -> 1 | F12: =1 -> 1 | I12: =IF(Tableau2[[#This Row],[NB DP]]>800,2,IF(Tableau2[[#This Row],[NB DP]]>500,1.5,1)) -> 1 | J12: =(Tableau2[[#This Row],[NB DP]]>800)*0.5 -> 0 | K12: =BASE!I12/1500+(Tableau2[[#This Row],[REP et REP+]]="REP+")*0.25 -> 3.782 | L12: =BASE!N12/20000 -> 0.29655 | M12: =BASE!R12/20000 -> 0.12315
A13: 12 | B13: JULES VERNE | C13: CAGNES SUR MER | D13: =1.2+(Tableau2[[#This Row],[Total nombre élèves 2016]]>700)*0.2 -> 1.2 | E13: =1+(Tableau2[[#This Row],[Total nombre élèves 2016]]>700)*0.5 -> 1 | F13: =1 -> 1 | I13: =IF(Tableau2[[#This Row],[NB DP]]>800,2,IF(Tableau2[[#This Row],[NB DP]]>500,1.5,1)) -> 1 | J13: =(Tableau2[[#This Row],[NB DP]]>800)*0.5 -> 0 | K13: =BASE!I13/1500+(Tableau2[[#This Row],[REP et REP+]]="REP+")*0.25 -> 4.4566667 | L13: =BASE!N13/20000 -> 0.11905 | M13: =BASE!R13/20000 -> 0.00525
A14: 13 | B14: CAPRON | C14: CANNES | D14: =1.2+(Tableau2[[#This Row],[Total nombre élèves 2016]]>700)*0.2 -> 1.2 | E14: =1+(Tableau2[[#This Row],[Total nombre élèves 2016]]>700)*0.5 -> 1 | F14: =1 -> 1 | I14: =IF(Tableau2[[#This Row],[NB DP]]>800,2,IF(Tableau2[[#This Row],[NB DP]]>500,1.5,1)) -> 1 | J14: =(Tableau2[[#This Row],[NB DP]]>800)*0.5 -> 0 | K14: =BASE!I14/1500+(Tableau2[[#This Row],[REP et REP+]]="REP+")*0.25 -> 3.5413333 | L14: =BASE!N14/20000 -> 0.7165 | M14: =BASE!R14/20000 -> 0.1106
... A73: 72 | B73: ROMEE DE VILLENEUVE | C73: VILLENEUVE LOUBET | D73: =1.2+(Tableau2[[#This Row],[Total nombre élèves 2016]]>700)*0.2 -> 1.2 | E73: =1+(Tableau2[[#This Row],[Total nombre élèves 2016]]>700)*0.5 -> 1 | F73: =1 -> 1 | I73: =IF(Tableau2[[#This Row],[NB DP]]>800,2,IF(Tableau2[[#This Row],[NB DP]]>500,1.5,1)) -> 1.5 | J73: =(Tableau2[[#This Row],[NB DP]]>800)*0.5 -> 0 | K73: =BASE!I73/1500+(Tableau2[[#This Row],[REP et REP+]]="REP+")*0.25 -> 3.808 | L73: =BASE!N73/20000 -> 0.2517 | M73: =BASE!R73/20000 -> 0.109

Sheet Feuil3
A1: Nom établissement | B1: Commune | C1: Total eff.Theorique | D1: Total nombre élèves 2016 | E1: REP et REP+ | F1: TYPE PRODUCTION (DATE?) | G1: NB DP | H1: NB INTERNES | I1: Aires baties SHON | J1: Batiments scolaires SHON | K1: Batiments préfabriqués SHON | L1: Equipements sportifs couverts SHON | M1: Aires non baties | N1: Surfaces non bâties (cours, péaux, stationnement, equipement sportifs exterireurs) | O1: Equipements sportifs exterieurs | P1: Cours extérieures | Q1: Stationnement et voirie | R1: Espaces verts | S1: Preau | T1: Logements de fonction SHONx0,95 | U1: SURFACES CUISINE ET DEPENDANCES | V1: SURFACES SALLES A MANGER (REFECTOIRE) | W1: TOTAL | X1: Surfaces vitrées
A2: BERTONE | B2: ANTIBES | C2: 700 | D2: 706 | F2: SUR PLACE/internat | G2: 592 | I2: =SUM(J2:L2) -> 8379 | J2: 7013 | K2: 0 | L2: 1366 | M2: 7239 | N2: =O2+P2+Q2+S2 -> 7588 | O2: 819 | P2: 985 | Q2: 5435 | R2: 8544 | S2: 349 | T2: 728 | U2: 454.06 | V2: 269.52 | W2: 723.58 | X2: 1284*
A3: FERSEN | B3: ANTIBES | C3: 600 | D3: 488 | F3: SUR PLACE | G3: 402 | I3: =SUM(J3:L3) -> 4384 | J3: 4384 | K3: 0 | L3: 0 | M3: 651 | N3: =O3+P3+Q3+S3 -> 856 | O3: 0 | P3: 484 | Q3: 167 | R3: 517 | S3: 205 | T3: 517 | U3: 310.12 | V3: 223.72 | W3: 533.84 | X3: 741*
A4: LA FONTONNE | B4: ANTIBES | C4: 700 | D4: 357 | F4: SUR PLACE | G4: 328 | I4: =SUM(J4:L4) -> 6417 | J4: 4929 | K4: 0 | L4: 1488 | M4: 7134 | N4: =O4+P4+Q4+S4 -> 7269 | O4: 1960 | P4: 1451 | Q4: 3723 | R4: 721 | S4: 135 | T4: 720 | U4: 351.52 | V4: 270.16 | W4: 621.68 | X4: 1110*
A5: SIDNEY BECHET | B5: ANTIBES | C5: 400 | D5: 396 | F5: SUR PLACE | G5: 344 | I5: 0 | J5: 0 | K5: 0 | L5: 0 | N5: =O5+P5+Q5+S5 -> 0 | O5: 0 | P5: 0 | Q5: 0 | R5: 0 | S5: 0 | T5: 0 | U5: 0 | V5: 0 | W5: 0 | X5: 0
A6: ROUSTAN | B6: ANTIBES | C6: 600 | D6: 330 | F6: SUR PLACE | G6: 209 | I6: 4790 | J6: 4790 | K6: 0 | L6: 0 | M6: 2170 | N6: =O6+P6+Q6+S6 -> 2300 | O6: 0 | P6: 1400 | Q6: 770 | R6: 543 | S6: 130 | T6: 323 | U6: 347.46 | V6: 199.77 | W6: 547.23 | X6: 450 *
A7: JEAN COCTEAU | B7: BEAULIEU | C7: 600 | D7: 503 | F7: SUR PLACE | G7: 494 | I7: 4123 | J7: 4123 | K7: 0 | L7: 0 | M7: 4938 | N7: =O7+P7+Q7+S7 -> 5196 | O7: 0 | P7: 1828 | Q7: 3110 | R7: 4888 | S7: 258 | T7: 477 | U7: 330.2 | V7: 223.95 | W7: 554.15 | X7: 454*
A8: BELLEVUE | B8: BEAUSOLEIL | C8: 550 | D8: 526 | F8: SUR PLACE | G8: 317 | I8: 3751 | J8: 3540 | K8: 0 | L8: 211 | M8: 1151 | N8: =O8+P8+Q8+S8 -> 1443 | O8: 0 | P8: 775 | Q8: 376 | R8: 247 | S8: 292 | T8: 397 | U8: 326.97 | V8: 247.84 | W8: 574.81 | X8: 550*
A9: L'EGANAUDE | B9: BIOT | C9: 850 | D9: 737 | F9: SUR PLACE | G9: 686 | I9: 7140 | J9: 6051 | K9: 109 | L9: 980 | M9: 10078 | N9: =O9+P9+Q9+S9 -> 10258 | O9: 2496 | P9: 1617 | Q9: 5965 | R9: 7099 | S9: 180 | T9: 645 | U9: 315.84 | V9: 331.94 | W9: 647.78 | X9: 561*
A10: L'EAU VIVE | B10: BREIL SUR ROYA | C10: 200 | D10: 122 | F10: SUR PLACE/internat | G10: 85 | H10: 30 | I10: 3210 | J10: 3083 | K10: 108 | L10: 19 | M10: 3290 | N10: =O10+P10+Q10+S10 -> 3458 | O10: 624 | P10: 1918 | Q10: 748 | R10: 194 | S10: 168 | T10: 594 | U10: 202.99 | V10: 112.18 | W10: 315.17 | X10: 671*
A11: LES BREGUIERES | B11: CAGNES SUR MER | C11: 800 | D11: 532 | F11: SUR PLACE | G11: 396 | I11: 14447 | J11: 7121 | K11: 0 | L11: 7326 | M11: 9011 | N11: =O11+P11+Q11+S11 -> 9887 | O11: 2708 | P11: 3021 | Q11: 3282 | R11: 401 | S11: 876 | T11: 851* | U11: 474.49 | V11: 235.58 | W11: 710.07 | X11: 0
A12: ANDRE MALRAUX | B12: CAGNES SUR MER | C12: 600 | D12: 500 | F12: SUR PLACE | G12: 478 | I12: 5673 | J12: 4748 | K12: 0 | L12: 925 | M12: 5931 | N12: =O12+P12+Q12+S12 -> 5931 | O12: 1882 | P12: 1442 | Q12: 2607 | R12: 2463 | S12: 0 | T12: 567 | U12: 230.37 | V12: 245.36 | W12: 475.73 | X12: 784*
A13: JULES VERNE | B13: CAGNES SUR MER | C13: 700 | D13: 592 | F13: SUR PLACE | G13: 426 | I13: 6685 | J13: 6251 | K13: 0 | L13: 434 | M13: 2043 | N13: =O13+P13+Q13+S13 -> 2381 | O13: 0 | P13: 1337 | Q13: 706 | R13: 105 | S13: 338 | T13: 525 | U13: 115.35 | V13: 249.49 | W13: 364.84 | X13: 929*
A14: CAPRON | B14: CANNES | C14: 600 | D14: 303 | F14: SUR PLACE | G14: 308 | I14: 5312 | J14: 4899 | K14: 0 | L14: 413 | M14: 14146 | N14: =O14+P14+Q14+S14 -> 14330 | O14: 6538 | P14: 3249 | Q14: 4359 | R14: 2212 | S14: 184 | T14: 872 | U14: 341.69 | V14: 288.36 | W14: 630.05 | X14: 719 + mur rideau
A15: LES MURIERS | B15: CANNES | C15: 700 | D15: 770 | E15: REP | F15: SUR PLACE | G15: 525 | I15: 7179 | J15: 7179 | K15: 0 | L15: 0 | M15: 8008 | N15: =O15+P15+Q15+S15 -> 8482 | O15: 1115 | P15: 2525 | Q15: 4368 | R15: 5644 | S15: 474 | T15: 554 | U15: 334.65 | V15: 384.93 | W15: 719.58 | X15: 1 350*
A16: GERARD PHILIPE | B16: CANNES | C16: 700 | D16: 597 | F16: SUR PLACE | G16: 478 | I16: 4907 | J16: 4907 | K16: 0 | L16: 0 | M16: 5168 | N16: =O16+P16+Q16+S16 -> 5499 | O16: 0 | P16: 2546 | Q16: 2622 | R16: 5243 | S16: 331 | T16: 510 | U16: 370.53 | V16: 308.53 | W16: 679.06 | X16: 721*
A17: LES VALLERGUES | B17: CANNES | C17: 700 | D17: 480 | E17: REP | F17: SUR PLACE | G17: 410 | I17: 6451 | J17: 5240 | K17: 0 | L17: 1211 | M17: 5950 | N17: =O17+P17+Q17+S17 -> 6253 | O17: 1770 | P17: 767 | Q17: 3413 | R17: 4701 | S17: 303 | T17: 513 | U17: 526.96 | V17: 298.95 | W17: 825.91 | X17: 871*
A18: PAUL LANGEVIN | B18: CARROS | C18: 900 | D18: 796 | E18: REP | F18: SUR PLACE | G18: 575 | I18: 6681 | J18: 6553 | K18: 129 | L18: 0 | M18: 18801 | N18: =O18+P18+Q18+S18 -> 19169 | O18: 1200 | P18: 2201 | Q18: 15400 | R18: 15400 | S18: 368 | T18: 669 | U18: 498.35 | V18: 316.72 | W18: 815.07 | X18: 857**
A19: ROGER CARLES | B19: CONTES | C19: 750 | D19: 706 | F19: SUR PLACE | G19: 667 | I19: 6132 | J19: 5987 | K19: 146 | L19: 0 | M19: 4502 | N19: =O19+P19+Q19+S19 -> 4703 | O19: 1422 | P19: 2320 | Q19: 760 | R19: 2050 | S19: 201 | T19: 296 | U19: 379.26 | V19: 244.85 | W19: 624.11 | X19: 691 + mur rideau
A20: CANTEPERDRIX | B20: GRASSE | C20: 700 | D20: 728 | F20: SUR PLACE | G20: 669 | I20: 8884 | J20: 6783 | K20: 0 | L20: 2101 | M20: 11298 | N20: =O20+P20+Q20+S20 -> 11760 | O20: 4696 | P20: 1882 | Q20: 4720 | R20: 9683 | S20: 462 | T20: 647 | U20: 478.44 | V20: 272.34 | W20: 750.78 | X20: 958*
A21: CARNOT | B21: GRASSE | C21: 550 | D21: 426 | F21: SUR PLACE/internat | G21: 262 | I21: 3528 | J21: 3528 | K21: 0 | L21: 0 | M21: 2104 | N21: =O21+P21+Q21+S21 -> 2339 | O21: 0 | P21: 1625 | Q21: 479 | R21: 1180 | S21: 235 | T21: 100 | U21: 289.87 | V21: 221.48 | W21: 511.35 | X21: 601*
A22: LES JASMINS | B22: GRASSE | C22: 600 | D22: 474 | F22: SUR PLACE | G22: 357 | I22: 6178 | J22: 5344 | K22: 0 | L22: 835 | M22: 8403 | N22: =O22+P22+Q22+S22 -> 8730 | O22: 2036 | P22: 1586 | Q22: 4781 | R22: 1801 | S22: 327 | T22: 749 | U22: 207.4 | V22: 222.24 | W22: 429.64 | X22: 965*
A23: SAINT HILAIRE | B23: GRASSE | C23: 850 | D23: 474 | F23: SUR PLACE/internat | G23: 309 | H23: 13 | I23: 9244 | J23: 8015 | K23: 0 | L23: 1229 | M23: 3828 | N23: =O23+P23+Q23+S23 -> 3975 | O23: 569 | P23: 1375 | Q23: 1884 | R23: 200 | S23: 147 | T23: 645 | U23: 410.43 | V23: 191.85 | W23: 602.28 | X23: 597*
A24: FRANCOIS RABELAIS | B24: L'ESCARENE | C24: 600 | D24: 388 | F24: SUR PLACE | G24: 316 | I24: 7266 | J24: 5398 | K24: 0 | L24: 1868 | M24: 8522 | N24: =O24+P24+Q24+S24 -> 9173 | O24: 2685 | P24: 1661 | Q24: 4176 | R24: 2720 | S24: 651 | T24: 467 | U24: 349.16 | V24: 218.76 | W24: 567.92 | X24: 400*
A25: YVES KLEIN | B25: LA COLLE | C25: 850 | D25: 695 | F25: SUR PLACE | G25: 715 | I25: 6303 | J25: 6303 | K25: 0 | L25: 0 | M25: 5773 | N25: =O25+P25+Q25+S25 -> 6066 | O25: 1010 | P25: 1777 | Q25: 2986 | R25: 8183 | S25: 293 | T25: 540 | U25: 410.55 | V25: 320.54 | W25: 731.09 | X25: 572*
A26: LA BOURGADE | B26: LA TRINITE | C26: 550 | D26: 449 | F26: SUR PLACE | G26: 278 | I26: 4193 | J26: 4041 | K26: 0 | L26: 152 | M26: 2592 | N26: =O26+P26+Q26+S26 -> 2967 | O26: 469 | P26: 830 | Q26: 1293 | R26: 2772 | S26: 375 | T26: 465 | U26: 361.9 | V26: 254.84 | W26: 616.74 | X26: 631*
A27: PIERRE BONNARD | B27: LE CANNET | C27: 800 | D27: 524 | F27: SUR PLACE | G27: 417 | I27: 7766 | J27: 7766 | K27: 0 | L27: 0 | M27: 4485 | N27: =O27+P27+Q27+S27 -> 4687 | O27: 0 | P27: 1264 | Q27: 3221 | R27: 9026 | S27: 202 | T27: 439 | U27: 296.62 | V27: 281.4 | W27: 578.02 | X27: 607*
A28: EMILE ROUX | B28: LE CANNET | C28: 600 | D28: 555 | F28: SUR PLACE | G28: 461 | I28: 6379 | J28: 4763 | K28: 0 | L28: 1617 | M28: 5371 | N28: =O28+P28+Q28+S28 -> 5634 | O28: 2450 | P28: 371 | Q28: 2550 | R28: 2277 | S28: 263 | T28: 917 | U28: 220.26 | V28: 268.27 | W28: 488.53 | X28: 924*
A29: LE PRE DES ROURES | B29: LE ROURET | C29: 800 | D29: 590 | F29: SUR PLACE | G29: 593 | I29: 8658 | J29: 6341 | K29: 0 | L29: 2317 | M29: 7119 | N29: =O29+P29+Q29+S29 -> 7345 | O29: 2432 | P29: 2304 | Q29: 2383 | R29: 9242 | S29: 226 | T29: 836 | U29: 446.05 | V29: 314 | W29: 760.05 | X29: 1280*
A30: ALBERT CAMUS | B30: MANDELIEU | C30: 750 | D30: 608 | F30: SUR PLACE | G30: 540 | I30: 6967 | J30: 5233 | K30: 0 | L30: 1734 | M30: 9202 | N30: =O30+P30+Q30+S30 -> 9659 | O30: 3213 | P30: 1760 | Q30: 4229 | R30: 9394 | S30: 457 | T30: 490 | U30: 352.06 | V30: 309.05 | W30: 661.11 | X30: 656*
A31: LES MIMOSAS | B31: MANDELIEU | C31: 800 | D31: 637 | F31: SUR PLACE | G31: 600 | I31: 7011 | J31: 5194 | K31: 0 | L31: 1817 | M31: 11555 | N31: =O31+P31+Q31+S31 -> 11714 | O31: 1804 | P31: 1577 | Q31: 8174 | R31: 6664 | S31: 159 | T31: 872 | U31: 387.31 | V31: 270.86 | W31: 658.17 | X31: 1 095*
A32: ANDRE MAUROIS | B32: MENTON | C32: 800 | D32: 552 | F32: SUR PLACE | G32: 379 | I32: 6452 | J32: 5382 | K32: 0 | L32: 1070 | M32: 489 | N32: =O32+P32+Q32+S32 -> 654 | O32: 0 | P32: 489 | Q32: 0 | R32: 377 | S32: 165 | T32: 527 | U32: 339.92 | V32: 228.1 | W32: 568.02 | X32: 1241*
A33: GUILLAUME VENTO | B33: MENTON | C33: 800 | D33: 701 | F33: SUR PLACE | G33: 491 | I33: 7494 | J33: 6544 | K33: 0 | L33: 950 | M33: 1903 | N33: =O33+P33+Q33+S33 -> 2181 | O33: 1328 | P33: 575 | Q33: 0 | R33: 135 | S33: 278 | T33: 772 | U33: 410.79 | V33: 248.12 | W33: 658.91 | X33: 719 + mur rideau 180 *
A34: LA CHENAIE | B34: MOUANS SARTOUX | C34: 850 | D34: 576 | F34: SUR PLACE | G34: 554 | I34: 7346 | J34: 5614 | K34: 0 | L34: 1731 | M34: 7205 | N34: =O34+P34+Q34+S34 -> 7737 | O34: 1680 | P34: 1694 | Q34: 3831 | R34: 5776 | S34: 532 | T34: 901 | U34: 352.15 | V34: 271.96 | W34: 624.11 | X34: 940*
A35: LES CAMPELIERES | B35: MOUGINS | C35: 900 | D35: 866 | F35: SUR PLACE | G35: 848 | I35: 9630 | J35: 9521 | K35: 109 | L35: 0 | M35: 11102 | N35: =O35+P35+Q35+S35 -> 11454 | O35: 3434 | P35: 1644 | Q35: 6024 | R35: 7147 | S35: 352 | T35: 849 | U35: 476.91 | V35: 614.32 | W35: 1091.23 | X35: 1 203*
A36: L'ARCHET | B36: NICE | C36: 800 | D36: 772 | F36: SUR PLACE | G36: 714 | I36: 6938 | J36: 6106 | K36: 0 | L36: 832 | M36: 5571 | N36: =O36+P36+Q36+S36 -> 5851 | O36: 1173 | P36: 1384 | Q36: 3014 | R36: 4298 | S36: 280 | T36: 790 | U36: 343.57 | V36: 290.78 | W36: 634.35 | X36: 849*
A37: LOUIS NUCERA | B37: NICE | C37: 700 | D37: 567 | E37: REP+ | F37: SUR PLACE | G37: 127 | I37: 7542 | J37: 5734 | K37: 0 | L37: 1808 | M37: 5386 | N37: =O37+P37+Q37+S37 -> 5613 | O37: 1775 | P37: 1621 | Q37: 1990 | R37: 264 | S37: 227 | T37: 477 | U37: 364.65 | V37: 271.18 | W37: 635.83 | X37: 1 131*
A38: ALPHONCE DAUDET | B38: NICE | C38: 750 | D38: 561 | F38: SUR PLACE | G38: 411 | I38: 6264 | J38: 5173 | K38: 0 | L38: 1091 | M38: 1181 | N38: =O38+P38+Q38+S38 -> 1748 | O38: 0 | P38: 962 | Q38: 219 | R38: 252 | S38: 567 | T38: 814 | U38: 371.5 | V38: 252.41 | W38: 623.91 | X38: 622*
A39: JULES ROMAINS | B39: NICE | C39: 750 | D39: 394 | E39: REP+ | F39: SATELLITE | G39: 64 | I39: 5393 | J39: 5393 | K39: 0 | L39: 0 | M39: 6653 | N39: =O39+P39+Q39+S39 -> 6845 | O39: 1800 | P39: 1700 | Q39: 3153 | R39: 3200 | S39: 192 | T39: 448 | U39: 179.08 | V39: 125.08 | W39: 304.16 | X39: 552*
A40: RAOUL DUFY | B40: NICE | C40: 1000 | D40: 966 | F40: SUR PLACE | G40: 862 | I40: 8040 | J40: 7823 | K40: 0 | L40: 217 | M40: 9510 | N40: =O40+P40+Q40+S40 -> 10047 | O40: 3000 | P40: 3700 | Q40: 2810 | R40: 4075 | S40: 537 | T40: 809 | U40: 507.16 | V40: 229.72 | W40: 736.88 | X40: 950*
...
