Workbook

Sheet FLEET INFORMATION
B1: FLEET INFORMATION
B2: Park No | C2: Désignation | D2: Assignment | E2: Year | F2: Model | G2: Brand | H2: Serial number | I2: Registration No | J2: Category | K2: Average consuption (liter) | L2: Geolocation (SL) | M2: Driving tax & Technical control / monthly (SL) | N2: Inssurance / monthly (SL) | O2: Driver salary / monthly (SL) | P2: Last visit Km/Hrs | Q2: Actual Km/Hrs | R2: Next visit Km/Hrs | S2: Type of the next visit | T2: Maintenance alert
A3: 1 | B3: MI 070 | C3: CONCRETE POWER PLANT | D3: SIERRA LEONE | E3: 2015 | F3: ELKOMIX 35M3 | G3: ELKON | H3: ECBP2015/205 | J3: HEAVY EQUIPMENT | K3: =INDIRECT("'" & B3&"'!b29") -> #REF! | L3: 0 | M3: 0 | N3: 0 | O3: 0 | Q3: {=MAX(IF(#REF!=B3,#REF!))} -> #REF! | R3: =IFERROR(IF(S3=2000,MROUND(Q3,2000)-Q3,TRUNC(Q3,-3)+S3-Q3),"???") -> ??? | S3: =IF(OR(Q3=0,Q3=""),"???",IF((OR(AND((Q3-TRUNC(Q3,-3)>=750),(MROUND(Q3,2000)-Q3)>0),MROUND(Q3,2000)-Q3=0)),2000,IF(OR(Q3-TRUNC(Q3,-3)>750,Q3-TRUNC(Q3,-3)=0),1000,IF(Q3-TRUNC(Q3,-3)>500,750,IF(Q3-TRUNC(Q3,-3)>250,500,250))))) -> #REF! | T3: =IF(AND(R3<=60,R3>45),"A faire",IF(AND(R3<=45,R3>30),"Urgent",IF(AND(R3<=30,R3>0),"Très urgent !!!",IF(R3>60,"RAS")))) -> RAS
A4: 2 | B4: MI 071 | C4: ALL TERRAIN CRANE | D4: SIERRA LEONE | E4: 2009 | F4: A600 | G4: TEREX | H4: 507343 | J4: HEAVY EQUIPMENT | K4: =INDIRECT("'" & B4&"'!b29") -> #REF! | L4: 0 | M4: 0 | N4: 0 | O4: 0 | Q4: {=MAX(IF(#REF!=B4,#REF!))} -> #REF! | R4: =IFERROR(IF(S4=2000,MROUND(Q4,2000)-Q4,TRUNC(Q4,-3)+S4-Q4),"???") -> ??? | S4: =IF(OR(Q4=0,Q4=""),"???",IF((OR(AND((Q4-TRUNC(Q4,-3)>=750),(MROUND(Q4,2000)-Q4)>0),MROUND(Q4,2000)-Q4=0)),2000,IF(OR(Q4-TRUNC(Q4,-3)>750,Q4-TRUNC(Q4,-3)=0),1000,IF(Q4-TRUNC(Q4,-3)>500,750,IF(Q4-TRUNC(Q4,-3)>250,500,250))))) -> #REF! | T4: =IF(AND(R4<=60,R4>45),"A faire",IF(AND(R4<=45,R4>30),"Urgent",IF(AND(R4<=30,R4>0),"Très urgent !!!",IF(R4>60,"RAS")))) -> RAS
A5: 3 | B5: MI 074 | C5: GENERATOR | D5: SIERRA LEONE | E5: 2015 | F5: DE220CAE | G5: CATERPILLAR | H5: ECW00275 | J5: POWER GENERATION | K5: =INDIRECT("'" & B5&"'!b29") -> #REF! | L5: 0 | M5: 0 | N5: 0 | O5: 0 | Q5: {=MAX(IF(#REF!=B5,#REF!))} -> #REF! | R5: =IFERROR(IF(S5=2000,MROUND(Q5,2000)-Q5,TRUNC(Q5,-3)+S5-Q5),"???") -> ??? | S5: =IF(OR(Q5=0,Q5=""),"???",IF((OR(AND((Q5-TRUNC(Q5,-3)>=750),(MROUND(Q5,2000)-Q5)>0),MROUND(Q5,2000)-Q5=0)),2000,IF(OR(Q5-TRUNC(Q5,-3)>750,Q5-TRUNC(Q5,-3)=0),1000,IF(Q5-TRUNC(Q5,-3)>500,750,IF(Q5-TRUNC(Q5,-3)>250,500,250))))) -> #REF! | T5: =IF(AND(R5<=60,R5>45),"A faire",IF(AND(R5<=45,R5>30),"Urgent",IF(AND(R5<=30,R5>0),"Très urgent !!!",IF(R5>60,"RAS")))) -> RAS
A6: 4 | B6: MI 076 | C6: TOWER LIGHT | D6: SIERRA LEONE | E6: 2015 | F6: VT8B | G6: GENERAC | H6: 1501757 | J6: POWER GENERATION | K6: =INDIRECT("'" & B6&"'!b29") -> #REF! | L6: 0 | M6: 0 | N6: 0 | O6: 0 | Q6: {=MAX(IF(#REF!=B6,#REF!))} -> #REF! | R6: =IFERROR(IF(S6=2000,MROUND(Q6,2000)-Q6,TRUNC(Q6,-3)+S6-Q6),"???") -> ??? | S6: =IF(OR(Q6=0,Q6=""),"???",IF((OR(AND((Q6-TRUNC(Q6,-3)>=750),(MROUND(Q6,2000)-Q6)>0),MROUND(Q6,2000)-Q6=0)),2000,IF(OR(Q6-TRUNC(Q6,-3)>750,Q6-TRUNC(Q6,-3)=0),1000,IF(Q6-TRUNC(Q6,-3)>500,750,IF(Q6-TRUNC(Q6,-3)>250,500,250))))) -> #REF! | T6: =IF(AND(R6<=60,R6>45),"A faire",IF(AND(R6<=45,R6>30),"Urgent",IF(AND(R6<=30,R6>0),"Très urgent !!!",IF(R6>60,"RAS")))) -> RAS
A7: 5 | B7: MI 077 | C7: TOWER LIGHT | D7: SIERRA LEONE | E7: 2015 | F7: VT8B | G7: GENERAC | H7: 1501758 | J7: POWER GENERATION | K7: =INDIRECT("'" & B7&"'!b29") -> #REF! | L7: 0 | M7: 0 | N7: 0 | O7: 0 | Q7: {=MAX(IF(#REF!=B7,#REF!))} -> #REF! | R7: =IFERROR(IF(S7=2000,MROUND(Q7,2000)-Q7,TRUNC(Q7,-3)+S7-Q7),"???") -> ??? | S7: =IF(OR(Q7=0,Q7=""),"???",IF((OR(AND((Q7-TRUNC(Q7,-3)>=750),(MROUND(Q7,2000)-Q7)>0),MROUND(Q7,2000)-Q7=0)),2000,IF(OR(Q7-TRUNC(Q7,-3)>750,Q7-TRUNC(Q7,-3)=0),1000,IF(Q7-TRUNC(Q7,-3)>500,750,IF(Q7-TRUNC(Q7,-3)>250,500,250))))) -> #REF! | T7: =IF(AND(R7<=60,R7>45),"A faire",IF(AND(R7<=45,R7>30),"Urgent",IF(AND(R7<=30,R7>0),"Très urgent !!!",IF(R7>60,"RAS")))) -> RAS
A8: 6 | B8: MI 084 | C8: EXCAVATOR | D8: SIERRA LEONE | E8: 2011 | F8: 336D | G8: CATERPILLAR | H8: MYG00467 | J8: HEAVY EQUIPMENT | K8: =INDIRECT("'" & B8&"'!b29") -> #REF! | L8: 0 | M8: 0 | N8: 0 | O8: 0 | Q8: {=MAX(IF(#REF!=B8,#REF!))} -> #REF! | R8: =IFERROR(IF(S8=2000,MROUND(Q8,2000)-Q8,TRUNC(Q8,-3)+S8-Q8),"???") -> ??? | S8: =IF(OR(Q8=0,Q8=""),"???",IF((OR(AND((Q8-TRUNC(Q8,-3)>=750),(MROUND(Q8,2000)-Q8)>0),MROUND(Q8,2000)-Q8=0)),2000,IF(OR(Q8-TRUNC(Q8,-3)>750,Q8-TRUNC(Q8,-3)=0),1000,IF(Q8-TRUNC(Q8,-3)>500,750,IF(Q8-TRUNC(Q8,-3)>250,500,250))))) -> #REF! | T8: =IF(AND(R8<=60,R8>45),"A faire",IF(AND(R8<=45,R8>30),"Urgent",IF(AND(R8<=30,R8>0),"Très urgent !!!",IF(R8>60,"RAS")))) -> RAS
A9: 7 | B9: MI 085 | C9: COMPACTOR | D9: SIERRA LEONE | E9: 2009 | F9: CB24B | G9: CATERPILLAR | H9: 24000333 | J9: HEAVY EQUIPMENT | K9: =INDIRECT("'" & B9&"'!b29") -> #REF! | L9: 0 | M9: 0 | N9: 0 | O9: 0 | Q9: {=MAX(IF(#REF!=B9,#REF!))} -> #REF! | R9: =IFERROR(IF(S9=2000,MROUND(Q9,2000)-Q9,TRUNC(Q9,-3)+S9-Q9),"???") -> ??? | S9: =IF(OR(Q9=0,Q9=""),"???",IF((OR(AND((Q9-TRUNC(Q9,-3)>=750),(MROUND(Q9,2000)-Q9)>0),MROUND(Q9,2000)-Q9=0)),2000,IF(OR(Q9-TRUNC(Q9,-3)>750,Q9-TRUNC(Q9,-3)=0),1000,IF(Q9-TRUNC(Q9,-3)>500,750,IF(Q9-TRUNC(Q9,-3)>250,500,250))))) -> #REF! | T9: =IF(AND(R9<=60,R9>45),"A faire",IF(AND(R9<=45,R9>30),"Urgent",IF(AND(R9<=30,R9>0),"Très urgent !!!",IF(R9>60,"RAS")))) -> RAS
A10: 8 | B10: MI 087 | C10: BACKHOE LOADER | D10: SIERRA LEONE | E10: 2012 | F10: 444F | G10: CATERPILLAR | H10: LJJ00150 | J10: HEAVY EQUIPMENT | K10: =INDIRECT("'" & B10&"'!b29") -> #REF! | L10: 0 | M10: 0 | N10: 0 | O10: 0 | Q10: {=MAX(IF(#REF!=B10,#REF!))} -> #REF! | R10: =IFERROR(IF(S10=2000,MROUND(Q10,2000)-Q10,TRUNC(Q10,-3)+S10-Q10),"???") -> ??? | S10: =IF(OR(Q10=0,Q10=""),"???",IF((OR(AND((Q10-TRUNC(Q10,-3)>=750),(MROUND(Q10,2000)-Q10)>0),MROUND(Q10,2000)-Q10=0)),2000,IF(OR(Q10-TRUNC(Q10,-3)>750,Q10-TRUNC(Q10,-3)=0),1000,IF(Q10-TRUNC(Q10,-3)>500,750,IF(Q10-TRUNC(Q10,-3)>250,500,250))))) -> #REF! | T10: =IF(AND(R10<=60,R10>45),"A faire",IF(AND(R10<=45,R10>30),"Urgent",IF(AND(R10<=30,R10>0),"Très urgent !!!",IF(R10>60,"RAS")))) -> RAS
A11: 9 | B11: MI 102 | C11: ROAD TRACTOR | D11: SIERRA LEONE | E11: 2006 | F11: 18.363 | G11: MAN | H11: WMAH51ZZZ4M377534 | J11: HEAVY VEHICLE | K11: =INDIRECT("'" & B11&"'!b29") -> #REF! | L11: 0 | M11: 0 | N11: 0 | O11: 0 | Q11: {=MAX(IF(#REF!=B11,#REF!))} -> #REF! | R11: =IFERROR(IF(S11=2000,MROUND(Q11,2000)-Q11,TRUNC(Q11,-3)+S11-Q11),"???") -> ??? | S11: =IF(OR(Q11=0,Q11=""),"???",IF((OR(AND((Q11-TRUNC(Q11,-3)>=750),(MROUND(Q11,2000)-Q11)>0),MROUND(Q11,2000)-Q11=0)),2000,IF(OR(Q11-TRUNC(Q11,-3)>750,Q11-TRUNC(Q11,-3)=0),1000,IF(Q11-TRUNC(Q11,-3)>500,750,IF(Q11-TRUNC(Q11,-3)>250,500,250))))) -> #REF! | T11: =IF(AND(R11<=60,R11>45),"A faire",IF(AND(R11<=45,R11>30),"Urgent",IF(AND(R11<=30,R11>0),"Très urgent !!!",IF(R11>60,"RAS")))) -> RAS
A12: 10 | B12: MI 117 | C12: DIESEL MOBILE COMPRESSOR | D12: SIERRA LEONE | E12: 2013 | G12: ATLAS COPCO | H12: 133541 | J12: POWER GENERATION | K12: =INDIRECT("'" & B12&"'!b29") -> #REF! | L12: 0 | M12: 0 | N12: 0 | O12: 0 | Q12: {=MAX(IF(#REF!=B12,#REF!))} -> #REF! | R12: =IFERROR(IF(S12=2000,MROUND(Q12,2000)-Q12,TRUNC(Q12,-3)+S12-Q12),"???") -> ??? | S12: =IF(OR(Q12=0,Q12=""),"???",IF((OR(AND((Q12-TRUNC(Q12,-3)>=750),(MROUND(Q12,2000)-Q12)>0),MROUND(Q12,2000)-Q12=0)),2000,IF(OR(Q12-TRUNC(Q12,-3)>750,Q12-TRUNC(Q12,-3)=0),1000,IF(Q12-TRUNC(Q12,-3)>500,750,IF(Q12-TRUNC(Q12,-3)>250,500,250))))) -> #REF! | T12: =IF(AND(R12<=60,R12>45),"A faire",IF(AND(R12<=45,R12>30),"Urgent",IF(AND(R12<=30,R12>0),"Très urgent !!!",IF(R12>60,"RAS")))) -> RAS
A13: 11 | B13: MI 122 | C13: CONCRETE PRESS | D13: SIERRA LEONE | E13: 2015 | G13: QUANTRIS | H13: 1507 UT 087 | J13: HEAVY EQUIPMENT | K13: =INDIRECT("'" & B13&"'!b29") -> #REF! | L13: 0 | M13: 0 | N13: 0 | O13: 0 | Q13: {=MAX(IF(#REF!=B13,#REF!))} -> #REF! | R13: =IFERROR(IF(S13=2000,MROUND(Q13,2000)-Q13,TRUNC(Q13,-3)+S13-Q13),"???") -> ??? | S13: =IF(OR(Q13=0,Q13=""),"???",IF((OR(AND((Q13-TRUNC(Q13,-3)>=750),(MROUND(Q13,2000)-Q13)>0),MROUND(Q13,2000)-Q13=0)),2000,IF(OR(Q13-TRUNC(Q13,-3)>750,Q13-TRUNC(Q13,-3)=0),1000,IF(Q13-TRUNC(Q13,-3)>500,750,IF(Q13-TRUNC(Q13,-3)>250,500,250))))) -> #REF! | T13: =IF(AND(R13<=60,R13>45),"A faire",IF(AND(R13<=45,R13>30),"Urgent",IF(AND(R13<=30,R13>0),"Très urgent !!!",IF(R13>60,"RAS")))) -> RAS
A14: 12 | B14: MI 175 | C14: PICKUP 4X4 | D14: SIERRA LEONE | E14: 2017 | F14: HILUX | G14: TOYOTA | H14: MR0KB8CD201114349 | J14: LIGHT VEHICLE | K14: =INDIRECT("'" & B14&"'!b29") -> #REF! | L14: 0 | M14: 0 | N14: 0 | O14: 0 | Q14: {=MAX(IF(#REF!=B14,#REF!))} -> #REF! | R14: =IFERROR(IF(S14=2000,MROUND(Q14,2000)-Q14,TRUNC(Q14,-3)+S14-Q14),"???") -> ??? | S14: =IF(OR(Q14=0,Q14=""),"???",IF((OR(AND((Q14-TRUNC(Q14,-3)>=750),(MROUND(Q14,2000)-Q14)>0),MROUND(Q14,2000)-Q14=0)),2000,IF(OR(Q14-TRUNC(Q14,-3)>750,Q14-TRUNC(Q14,-3)=0),1000,IF(Q14-TRUNC(Q14,-3)>500,750,IF(Q14-TRUNC(Q14,-3)>250,500,250))))) -> #REF! | T14: =IF(AND(R14<=60,R14>45),"A faire",IF(AND(R14<=45,R14>30),"Urgent",IF(AND(R14<=30,R14>0),"Très urgent !!!",IF(R14>60,"RAS")))) -> RAS
A15: 13 | B15: MI 176 | C15: PICKUP 4X4 | D15: SIERRA LEONE | E15: 2017 | F15: HILUX | G15: TOYOTA | H15: MR0KB8CD301114313 | J15: LIGHT VEHICLE | K15: =INDIRECT("'" & B15&"'!b29") -> #REF! | L15: 0 | M15: 0 | N15: 0 | O15: 0 | Q15: {=MAX(IF(#REF!=B15,#REF!))} -> #REF! | R15: =IFERROR(IF(S15=2000,MROUND(Q15,2000)-Q15,TRUNC(Q15,-3)+S15-Q15),"???") -> ??? | S15: =IF(OR(Q15=0,Q15=""),"???",IF((OR(AND((Q15-TRUNC(Q15,-3)>=750),(MROUND(Q15,2000)-Q15)>0),MROUND(Q15,2000)-Q15=0)),2000,IF(OR(Q15-TRUNC(Q15,-3)>750,Q15-TRUNC(Q15,-3)=0),1000,IF(Q15-TRUNC(Q15,-3)>500,750,IF(Q15-TRUNC(Q15,-3)>250,500,250))))) -> #REF! | T15: =IF(AND(R15<=60,R15>45),"A faire",IF(AND(R15<=45,R15>30),"Urgent",IF(AND(R15<=30,R15>0),"Très urgent !!!",IF(R15>60,"RAS")))) -> RAS
A16: 14 | B16: MI 177 | C16: PICKUP 4X4 | D16: SIERRA LEONE | E16: 2017 | F16: HILUX | G16: TOYOTA | H16: MR0KB8CD301114151 | J16: LIGHT VEHICLE | K16: =INDIRECT("'" & B16&"'!b29") -> #REF! | L16: 0 | M16: 0 | N16: 0 | O16: 0 | Q16: {=MAX(IF(#REF!=B16,#REF!))} -> #REF! | R16: =IFERROR(IF(S16=2000,MROUND(Q16,2000)-Q16,TRUNC(Q16,-3)+S16-Q16),"???") -> ??? | S16: =IF(OR(Q16=0,Q16=""),"???",IF((OR(AND((Q16-TRUNC(Q16,-3)>=750),(MROUND(Q16,2000)-Q16)>0),MROUND(Q16,2000)-Q16=0)),2000,IF(OR(Q16-TRUNC(Q16,-3)>750,Q16-TRUNC(Q16,-3)=0),1000,IF(Q16-TRUNC(Q16,-3)>500,750,IF(Q16-TRUNC(Q16,-3)>250,500,250))))) -> #REF! | T16: =IF(AND(R16<=60,R16>45),"A faire",IF(AND(R16<=45,R16>30),"Urgent",IF(AND(R16<=30,R16>0),"Très urgent !!!",IF(R16>60,"RAS")))) -> RAS
A17: 15 | B17: MI 178 | C17: PICKUP 4X4 | D17: SIERRA LEONE | E17: 2017 | F17: HILUX | G17: TOYOTA | H17: MR0KB8CD301113923 | J17: LIGHT VEHICLE | K17: =INDIRECT("'" & B17&"'!b29") -> #REF! | L17: 0 | M17: 0 | N17: 0 | O17: 0 | Q17: {=MAX(IF(#REF!=B17,#REF!))} -> #REF! | R17: =IFERROR(IF(S17=2000,MROUND(Q17,2000)-Q17,TRUNC(Q17,-3)+S17-Q17),"???") -> ??? | S17: =IF(OR(Q17=0,Q17=""),"???",IF((OR(AND((Q17-TRUNC(Q17,-3)>=750),(MROUND(Q17,2000)-Q17)>0),MROUND(Q17,2000)-Q17=0)),2000,IF(OR(Q17-TRUNC(Q17,-3)>750,Q17-TRUNC(Q17,-3)=0),1000,IF(Q17-TRUNC(Q17,-3)>500,750,IF(Q17-TRUNC(Q17,-3)>250,500,250))))) -> #REF! | T17: =IF(AND(R17<=60,R17>45),"A faire",IF(AND(R17<=45,R17>30),"Urgent",IF(AND(R17<=30,R17>0),"Très urgent !!!",IF(R17>60,"RAS")))) -> RAS
A18: 16 | B18: MI 179 | C18: PICKUP 4X4 | D18: SIERRA LEONE | E18: 2017 | F18: HILUX | G18: TOYOTA | H18: MR0KB8CD201201443 | J18: LIGHT VEHICLE | K18: =INDIRECT("'" & B18&"'!b29") -> #REF! | L18: 0 | M18: 0 | N18: 0 | O18: 0 | Q18: {=MAX(IF(#REF!=B18,#REF!))} -> #REF! | R18: =IFERROR(IF(S18=2000,MROUND(Q18,2000)-Q18,TRUNC(Q18,-3)+S18-Q18),"???") -> ??? | S18: =IF(OR(Q18=0,Q18=""),"???",IF((OR(AND((Q18-TRUNC(Q18,-3)>=750),(MROUND(Q18,2000)-Q18)>0),MROUND(Q18,2000)-Q18=0)),2000,IF(OR(Q18-TRUNC(Q18,-3)>750,Q18-TRUNC(Q18,-3)=0),1000,IF(Q18-TRUNC(Q18,-3)>500,750,IF(Q18-TRUNC(Q18,-3)>250,500,250))))) -> #REF! | T18: =IF(AND(R18<=60,R18>45),"A faire",IF(AND(R18<=45,R18>30),"Urgent",IF(AND(R18<=30,R18>0),"Très urgent !!!",IF(R18>60,"RAS")))) -> RAS
A19: 17 | B19: MI 180 | C19: PICKUP 4X4 | D19: SIERRA LEONE | E19: 2017 | F19: HILUX | G19: TOYOTA | H19: MR0KB8CD201201426 | J19: LIGHT VEHICLE | K19: =INDIRECT("'" & B19&"'!b29") -> #REF! | L19: 0 | M19: 0 | N19: 0 | O19: 0 | Q19: {=MAX(IF(#REF!=B19,#REF!))} -> #REF! | R19: =IFERROR(IF(S19=2000,MROUND(Q19,2000)-Q19,TRUNC(Q19,-3)+S19-Q19),"???") -> ??? | S19: =IF(OR(Q19=0,Q19=""),"???",IF((OR(AND((Q19-TRUNC(Q19,-3)>=750),(MROUND(Q19,2000)-Q19)>0),MROUND(Q19,2000)-Q19=0)),2000,IF(OR(Q19-TRUNC(Q19,-3)>750,Q19-TRUNC(Q19,-3)=0),1000,IF(Q19-TRUNC(Q19,-3)>500,750,IF(Q19-TRUNC(Q19,-3)>250,500,250))))) -> #REF! | T19: =IF(AND(R19<=60,R19>45),"A faire",IF(AND(R19<=45,R19>30),"Urgent",IF(AND(R19<=30,R19>0),"Très urgent !!!",IF(R19>60,"RAS")))) -> RAS
A20: 18 | B20: MI 181 | C20: 4X4 | D20: SIERRA LEONE | E20: 2017 | F20: PAJERO | G20: MITSUBISHI | H20: JMYLNV96WGJ000618 | J20: LIGHT VEHICLE | K20: =INDIRECT("'" & B20&"'!b29") -> #REF! | L20: 0 | M20: 0 | N20: 0 | O20: 0 | Q20: {=MAX(IF(#REF!=B20,#REF!))} -> #REF! | R20: =IFERROR(IF(S20=2000,MROUND(Q20,2000)-Q20,TRUNC(Q20,-3)+S20-Q20),"???") -> ??? | S20: =IF(OR(Q20=0,Q20=""),"???",IF((OR(AND((Q20-TRUNC(Q20,-3)>=750),(MROUND(Q20,2000)-Q20)>0),MROUND(Q20,2000)-Q20=0)),2000,IF(OR(Q20-TRUNC(Q20,-3)>750,Q20-TRUNC(Q20,-3)=0),1000,IF(Q20-TRUNC(Q20,-3)>500,750,IF(Q20-TRUNC(Q20,-3)>250,500,250))))) -> #REF! | T20: =IF(AND(R20<=60,R20>45),"A faire",IF(AND(R20<=45,R20>30),"Urgent",IF(AND(R20<=30,R20>0),"Très urgent !!!",IF(R20>60,"RAS")))) -> RAS
A21: 19 | B21: MI 182 | C21: 4X4 | D21: SIERRA LEONE | E21: 2017 | F21: PAJERO | G21: MITSUBISHI | H21: JMYLNV96WGJ000633 | J21: LIGHT VEHICLE | K21: =INDIRECT("'" & B21&"'!b29") -> #REF! | L21: 0 | M21: 0 | N21: 0 | O21: 0 | Q21: {=MAX(IF(#REF!=B21,#REF!))} -> #REF! | R21: =IFERROR(IF(S21=2000,MROUND(Q21,2000)-Q21,TRUNC(Q21,-3)+S21-Q21),"???") -> ??? | S21: =IF(OR(Q21=0,Q21=""),"???",IF((OR(AND((Q21-TRUNC(Q21,-3)>=750),(MROUND(Q21,2000)-Q21)>0),MROUND(Q21,2000)-Q21=0)),2000,IF(OR(Q21-TRUNC(Q21,-3)>750,Q21-TRUNC(Q21,-3)=0),1000,IF(Q21-TRUNC(Q21,-3)>500,750,IF(Q21-TRUNC(Q21,-3)>250,500,250))))) -> #REF! | T21: =IF(AND(R21<=60,R21>45),"A faire",IF(AND(R21<=45,R21>30),"Urgent",IF(AND(R21<=30,R21>0),"Très urgent !!!",IF(R21>60,"RAS")))) -> RAS
A22: 20 | B22: MI 183 | C22: 4X4 | D22: SIERRA LEONE | E22: 2017 | F22: PAJERO SPORT | G22: MITSUBISHI | H22: MMBGJKS10GH038591 | J22: LIGHT VEHICLE | K22: =INDIRECT("'" & B22&"'!b29") -> #REF! | L22: 0 | M22: 0 | N22: 0 | O22: 0 | Q22: {=MAX(IF(#REF!=B22,#REF!))} -> #REF! | R22: =IFERROR(IF(S22=2000,MROUND(Q22,2000)-Q22,TRUNC(Q22,-3)+S22-Q22),"???") -> ??? | S22: =IF(OR(Q22=0,Q22=""),"???",IF((OR(AND((Q22-TRUNC(Q22,-3)>=750),(MROUND(Q22,2000)-Q22)>0),MROUND(Q22,2000)-Q22=0)),2000,IF(OR(Q22-TRUNC(Q22,-3)>750,Q22-TRUNC(Q22,-3)=0),1000,IF(Q22-TRUNC(Q22,-3)>500,750,IF(Q22-TRUNC(Q22,-3)>250,500,250))))) -> #REF! | T22: =IF(AND(R22<=60,R22>45),"A faire",IF(AND(R22<=45,R22>30),"Urgent",IF(AND(R22<=30,R22>0),"Très urgent !!!",IF(R22>60,"RAS")))) -> RAS
A23: 21 | B23: MI 205 | C23: WATER TONNE | D23: SIERRA LEONE | E23: 2011 | F23: TCI 11350V 17000 LITERS | G23: PICHON | H23: CU4596 | J23: HEAVY EQUIPMENT | K23: =INDIRECT("'" & B23&"'!b29") -> #REF! | L23: 0 | M23: 0 | N23: 0 | O23: 0 | Q23: {=MAX(IF(#REF!=B23,#REF!))} -> #REF! | R23: =IFERROR(IF(S23=2000,MROUND(Q23,2000)-Q23,TRUNC(Q23,-3)+S23-Q23),"???") -> ??? | S23: =IF(OR(Q23=0,Q23=""),"???",IF((OR(AND((Q23-TRUNC(Q23,-3)>=750),(MROUND(Q23,2000)-Q23)>0),MROUND(Q23,2000)-Q23=0)),2000,IF(OR(Q23-TRUNC(Q23,-3)>750,Q23-TRUNC(Q23,-3)=0),1000,IF(Q23-TRUNC(Q23,-3)>500,750,IF(Q23-TRUNC(Q23,-3)>250,500,250))))) -> #REF! | T23: =IF(AND(R23<=60,R23>45),"A faire",IF(AND(R23<=45,R23>30),"Urgent",IF(AND(R23<=30,R23>0),"Très urgent !!!",IF(R23>60,"RAS")))) -> RAS
A24: 22 | B24: MI 206 | C24: TRACTOR 4X4 | D24: SIERRA LEONE | E24: 2008 | F24: MF 6495 | G24: MASSEY FERGUSSON | H24: T168034 | J24: HEAVY EQUIPMENT | K24: =INDIRECT("'" & B24&"'!b29") -> #REF! | L24: 0 | M24: 0 | N24: 0 | O24: 0 | Q24: {=MAX(IF(#REF!=B24,#REF!))} -> #REF! | R24: =IFERROR(IF(S24=2000,MROUND(Q24,2000)-Q24,TRUNC(Q24,-3)+S24-Q24),"???") -> ??? | S24: =IF(OR(Q24=0,Q24=""),"???",IF((OR(AND((Q24-TRUNC(Q24,-3)>=750),(MROUND(Q24,2000)-Q24)>0),MROUND(Q24,2000)-Q24=0)),2000,IF(OR(Q24-TRUNC(Q24,-3)>750,Q24-TRUNC(Q24,-3)=0),1000,IF(Q24-TRUNC(Q24,-3)>500,750,IF(Q24-TRUNC(Q24,-3)>250,500,250))))) -> #REF! | T24: =IF(AND(R24<=60,R24>45),"A faire",IF(AND(R24<=45,R24>30),"Urgent",IF(AND(R24<=30,R24>0),"Très urgent !!!",IF(R24>60,"RAS")))) -> RAS
A25: 23 | B25: MI 207 | C25: TRACTOR 4X4 | D25: SIERRA LEONE | E25: 2007 | F25: MF 6495 | G25: MASSEY FERGUSSON | H25: S068059 | J25: HEAVY EQUIPMENT | K25: =INDIRECT("'" & B25&"'!b29") -> #REF! | L25: 0 | M25: 0 | N25: 0 | O25: 0 | Q25: {=MAX(IF(#REF!=B25,#REF!))} -> #REF! | R25: =IFERROR(IF(S25=2000,MROUND(Q25,2000)-Q25,TRUNC(Q25,-3)+S25-Q25),"???") -> ??? | S25: =IF(OR(Q25=0,Q25=""),"???",IF((OR(AND((Q25-TRUNC(Q25,-3)>=750),(MROUND(Q25,2000)-Q25)>0),MROUND(Q25,2000)-Q25=0)),2000,IF(OR(Q25-TRUNC(Q25,-3)>750,Q25-TRUNC(Q25,-3)=0),1000,IF(Q25-TRUNC(Q25,-3)>500,750,IF(Q25-TRUNC(Q25,-3)>250,500,250))))) -> #REF! | T25: =IF(AND(R25<=60,R25>45),"A faire",IF(AND(R25<=45,R25>30),"Urgent",IF(AND(R25<=30,R25>0),"Très urgent !!!",IF(R25>60,"RAS")))) -> RAS
A26: 24 | B26: MI 208 | C26: TRAILER | D26: SIERRA LEONE | E26: 2017 | F26: TRAIDERS PL160 | G26: LEGRAND | H26: 1847 | J26: HEAVY EQUIPMENT | K26: =INDIRECT("'" & B26&"'!b29") -> #REF! | L26: 0 | M26: 0 | N26: 0 | O26: 0 | Q26: {=MAX(IF(#REF!=B26,#REF!))} -> #REF! | R26: =IFERROR(IF(S26=2000,MROUND(Q26,2000)-Q26,TRUNC(Q26,-3)+S26-Q26),"???") -> ??? | S26: =IF(OR(Q26=0,Q26=""),"???",IF((OR(AND((Q26-TRUNC(Q26,-3)>=750),(MROUND(Q26,2000)-Q26)>0),MROUND(Q26,2000)-Q26=0)),2000,IF(OR(Q26-TRUNC(Q26,-3)>750,Q26-TRUNC(Q26,-3)=0),1000,IF(Q26-TRUNC(Q26,-3)>500,750,IF(Q26-TRUNC(Q26,-3)>250,500,250))))) -> #REF! | T26: =IF(AND(R26<=60,R26>45),"A faire",IF(AND(R26<=45,R26>30),"Urgent",IF(AND(R26<=30,R26>0),"Très urgent !!!",IF(R26>60,"RAS")))) -> RAS
A27: 25 | B27: MI 209 | C27: TRAILER | D27: SIERRA LEONE | E27: 2017 | F27: TRAIDERS PL160 | G27: LEGRAND | H27: 1850 | J27: HEAVY EQUIPMENT | K27: =INDIRECT("'" & B27&"'!b29") -> #REF! | L27: 0 | M27: 0 | N27: 0 | O27: 0 | Q27: {=MAX(IF(#REF!=B27,#REF!))} -> #REF! | R27: =IFERROR(IF(S27=2000,MROUND(Q27,2000)-Q27,TRUNC(Q27,-3)+S27-Q27),"???") -> ??? | S27: =IF(OR(Q27=0,Q27=""),"???",IF((OR(AND((Q27-TRUNC(Q27,-3)>=750),(MROUND(Q27,2000)-Q27)>0),MROUND(Q27,2000)-Q27=0)),2000,IF(OR(Q27-TRUNC(Q27,-3)>750,Q27-TRUNC(Q27,-3)=0),1000,IF(Q27-TRUNC(Q27,-3)>500,750,IF(Q27-TRUNC(Q27,-3)>250,500,250))))) -> #REF! | T27: =IF(AND(R27<=60,R27>45),"A faire",IF(AND(R27<=45,R27>30),"Urgent",IF(AND(R27<=30,R27>0),"Très urgent !!!",IF(R27>60,"RAS")))) -> RAS
A28: 26 | B28: MI 210 | C28: EMBARQUED WASHER | D28: SIERRA LEONE | E28: 2017 | F28: 2500A | G28: PROCHAMPION | J28: HEAVY EQUIPMENT | K28: =INDIRECT("'" & B28&"'!b29") -> #REF! | L28: 0 | M28: 0 | N28: 0 | O28: 0 | Q28: {=MAX(IF(#REF!=B28,#REF!))} -> #REF! | R28: =IFERROR(IF(S28=2000,MROUND(Q28,2000)-Q28,TRUNC(Q28,-3)+S28-Q28),"???") -> ??? | S28: =IF(OR(Q28=0,Q28=""),"???",IF((OR(AND((Q28-TRUNC(Q28,-3)>=750),(MROUND(Q28,2000)-Q28)>0),MROUND(Q28,2000)-Q28=0)),2000,IF(OR(Q28-TRUNC(Q28,-3)>750,Q28-TRUNC(Q28,-3)=0),1000,IF(Q28-TRUNC(Q28,-3)>500,750,IF(Q28-TRUNC(Q28,-3)>250,500,250))))) -> #REF! | T28: =IF(AND(R28<=60,R28>45),"A faire",IF(AND(R28<=45,R28>30),"Urgent",IF(AND(R28<=30,R28>0),"Très urgent !!!",IF(R28>60,"RAS")))) -> RAS
A29: 27 | B29: MI 211 | C29: TELESCOPIC CART | D29: SIERRA LEONE | E29: 2008 | F29: 1436 | G29: MANITOU | H29: 249392 | J29: HEAVY EQUIPMENT | K29: =INDIRECT("'" & B29&"'!b29") -> #REF! | L29: 0 | M29: 0 | N29: 0 | O29: 0 | Q29: {=MAX(IF(#REF!=B29,#REF!))} -> #REF! | R29: =IFERROR(IF(S29=2000,MROUND(Q29,2000)-Q29,TRUNC(Q29,-3)+S29-Q29),"???") -> ??? | S29: =IF(OR(Q29=0,Q29=""),"???",IF((OR(AND((Q29-TRUNC(Q29,-3)>=750),(MROUND(Q29,2000)-Q29)>0),MROUND(Q29,2000)-Q29=0)),2000,IF(OR(Q29-TRUNC(Q29,-3)>750,Q29-TRUNC(Q29,-3)=0),1000,IF(Q29-TRUNC(Q29,-3)>500,750,IF(Q29-TRUNC(Q29,-3)>250,500,250))))) -> #REF! | T29: =IF(AND(R29<=60,R29>45),"A faire",IF(AND(R29<=45,R29>30),"Urgent",IF(AND(R29<=30,R29>0),"Très urgent !!!",IF(R29>60,"RAS")))) -> RAS
A30: 28 | B30: MI 212 | C30: TELESCOPIC CART | D30: SIERRA LEONE | E30: 2009 | F30: 1840 | G30: MANITOU | H30: 263879 | J30: HEAVY EQUIPMENT | K30: =INDIRECT("'" & B30&"'!b29") -> #REF! | L30: 0 | M30: 0 | N30: 0 | O30: 0 | Q30: {=MAX(IF(#REF!=B30,#REF!))} -> #REF! | R30: =IFERROR(IF(S30=2000,MROUND(Q30,2000)-Q30,TRUNC(Q30,-3)+S30-Q30),"???") -> ??? | S30: =IF(OR(Q30=0,Q30=""),"???",IF((OR(AND((Q30-TRUNC(Q30,-3)>=750),(MROUND(Q30,2000)-Q30)>0),MROUND(Q30,2000)-Q30=0)),2000,IF(OR(Q30-TRUNC(Q30,-3)>750,Q30-TRUNC(Q30,-3)=0),1000,IF(Q30-TRUNC(Q30,-3)>500,750,IF(Q30-TRUNC(Q30,-3)>250,500,250))))) -> #REF! | T30: =IF(AND(R30<=60,R30>45),"A faire",IF(AND(R30<=45,R30>30),"Urgent",IF(AND(R30<=30,R30>0),"Très urgent !!!",IF(R30>60,"RAS")))) -> RAS
A31: 29 | B31: MI 213 | C31: DUMP TRUCK 6X4 | D31: SIERRA LEONE | E31: 2010 | F31: KERAX 430 DXI | G31: RVI | H31: VF634DPA000007664 | J31: HEAVY VEHICLE | K31: =INDIRECT("'" & B31&"'!b29") -> #REF! | L31: 0 | M31: 0 | N31: 0 | O31: 0 | Q31: {=MAX(IF(#REF!=B31,#REF!))} -> #REF! | R31: =IFERROR(IF(S31=2000,MROUND(Q31,2000)-Q31,TRUNC(Q31,-3)+S31-Q31),"???") -> ??? | S31: =IF(OR(Q31=0,Q31=""),"???",IF((OR(AND((Q31-TRUNC(Q31,-3)>=750),(MROUND(Q31,2000)-Q31)>0),MROUND(Q31,2000)-Q31=0)),2000,IF(OR(Q31-TRUNC(Q31,-3)>750,Q31-TRUNC(Q31,-3)=0),1000,IF(Q31-TRUNC(Q31,-3)>500,750,IF(Q31-TRUNC(Q31,-3)>250,500,250))))) -> #REF! | T31: =IF(AND(R31<=60,R31>45),"A faire",IF(AND(R31<=45,R31>30),"Urgent",IF(AND(R31<=30,R31>0),"Très urgent !!!",IF(R31>60,"RAS")))) -> RAS
A32: 30 | B32: MI 214 | C32: DUMP TRUCK 6X4 | D32: SIERRA LEONE | E32: 2007 | F32: KERAX 410 DXI | G32: RVI | H32: VF634DPA000000643 | J32: HEAVY VEHICLE | K32: =INDIRECT("'" & B32&"'!b29") -> #REF! | L32: 0 | M32: 0 | N32: 0 | O32: 0 | Q32: {=MAX(IF(#REF!=B32,#REF!))} -> #REF! | R32: =IFERROR(IF(S32=2000,MROUND(Q32,2000)-Q32,TRUNC(Q32,-3)+S32-Q32),"???") -> ??? | S32: =IF(OR(Q32=0,Q32=""),"???",IF((OR(AND((Q32-TRUNC(Q32,-3)>=750),(MROUND(Q32,2000)-Q32)>0),MROUND(Q32,2000)-Q32=0)),2000,IF(OR(Q32-TRUNC(Q32,-3)>750,Q32-TRUNC(Q32,-3)=0),1000,IF(Q32-TRUNC(Q32,-3)>500,750,IF(Q32-TRUNC(Q32,-3)>250,500,250))))) -> #REF! | T32: =IF(AND(R32<=60,R32>45),"A faire",IF(AND(R32<=45,R32>30),"Urgent",IF(AND(R32<=30,R32>0),"Très urgent !!!",IF(R32>60,"RAS")))) -> RAS
A33: 31 | B33: MI 215 | C33: DUMP TRUCK 6X4 | D33: SIERRA LEONE | E33: 2010 | F33: KERAX 460 DXI | G33: RVI | H33: VF634DPA000008258 | J33: HEAVY VEHICLE | K33: =INDIRECT("'" & B33&"'!b29") -> #REF! | L33: 0 | M33: 0 | N33: 0 | O33: 0 | Q33: {=MAX(IF(#REF!=B33,#REF!))} -> #REF! | R33: =IFERROR(IF(S33=2000,MROUND(Q33,2000)-Q33,TRUNC(Q33,-3)+S33-Q33),"???") -> ??? | S33: =IF(OR(Q33=0,Q33=""),"???",IF((OR(AND((Q33-TRUNC(Q33,-3)>=750),(MROUND(Q33,2000)-Q33)>0),MROUND(Q33,2000)-Q33=0)),2000,IF(OR(Q33-TRUNC(Q33,-3)>750,Q33-TRUNC(Q33,-3)=0),1000,IF(Q33-TRUNC(Q33,-3)>500,750,IF(Q33-TRUNC(Q33,-3)>250,500,250))))) -> #REF! | T33: =IF(AND(R33<=60,R33>45),"A faire",IF(AND(R33<=45,R33>30),"Urgent",IF(AND(R33<=30,R33>0),"Très urgent !!!",IF(R33>60,"RAS")))) -> RAS
A34: 32 | B34: MI 216 | C34: CONCRETE MIXER TRUCK 8X4 9M3 | D34: SIERRA LEONE | E34: 2007 | G34: MAN | H34: WMAH49ZZX7M481927 | J34: HEAVY VEHICLE | K34: =INDIRECT("'" & B34&"'!b29") -> #REF! | L34: 0 | M34: 0 | N34: 0 | O34: 0 | Q34: {=MAX(IF(#REF!=B34,#REF!))} -> #REF! | R34: =IFERROR(IF(S34=2000,MROUND(Q34,2000)-Q34,TRUNC(Q34,-3)+S34-Q34),"???") -> ??? | S34: =IF(OR(Q34=0,Q34=""),"???",IF((OR(AND((Q34-TRUNC(Q34,-3)>=750),(MROUND(Q34,2000)-Q34)>0),MROUND(Q34,2000)-Q34=0)),2000,IF(OR(Q34-TRUNC(Q34,-3)>750,Q34-TRUNC(Q34,-3)=0),1000,IF(Q34-TRUNC(Q34,-3)>500,750,IF(Q34-TRUNC(Q34,-3)>250,500,250))))) -> #REF! | T34: =IF(AND(R34<=60,R34>45),"A faire",IF(AND(R34<=45,R34>30),"Urgent",IF(AND(R34<=30,R34>0),"Très urgent !!!",IF(R34>60,"RAS")))) -> RAS
A35: 33 | B35: MI 217 | C35: CONCRETE MIXER TRUCK 8X4 8M3 | D35: SIERRA LEONE | E35: 2006 | G35: MERCEDES | H35: WDB9323041L061041 | J35: HEAVY VEHICLE | K35: =INDIRECT("'" & B35&"'!b29") -> #REF! | L35: 0 | M35: 0 | N35: 0 | O35: 0 | Q35: {=MAX(IF(#REF!=B35,#REF!))} -> #REF! | R35: =IFERROR(IF(S35=2000,MROUND(Q35,2000)-Q35,TRUNC(Q35,-3)+S35-Q35),"???") -> ??? | S35: =IF(OR(Q35=0,Q35=""),"???",IF((OR(AND((Q35-TRUNC(Q35,-3)>=750),(MROUND(Q35,2000)-Q35)>0),MROUND(Q35,2000)-Q35=0)),2000,IF(OR(Q35-TRUNC(Q35,-3)>750,Q35-TRUNC(Q35,-3)=0),1000,IF(Q35-TRUNC(Q35,-3)>500,750,IF(Q35-TRUNC(Q35,-3)>250,500,250))))) -> #REF! | T35: =IF(AND(R35<=60,R35>45),"A faire",IF(AND(R35<=45,R35>30),"Urgent",IF(AND(R35<=30,R35>0),"Très urgent !!!",IF(R35>60,"RAS")))) -> RAS
A36: 34 | B36: MI 218 | C36: ROAD TRACTOR 6X4 | D36: SIERRA LEONE | E36: 2010 | F36: LANDER | G36: RVI | H36: VF624KPA000000146 | J36: HEAVY VEHICLE | K36: =INDIRECT("'" & B36&"'!b29") -> #REF! | L36: 0 | M36: 0 | N36: 0 | O36: 0 | Q36: {=MAX(IF(#REF!=B36,#REF!))} -> #REF! | R36: =IFERROR(IF(S36=2000,MROUND(Q36,2000)-Q36,TRUNC(Q36,-3)+S36-Q36),"???") -> ??? | S36: =IF(OR(Q36=0,Q36=""),"???",IF((OR(AND((Q36-TRUNC(Q36,-3)>=750),(MROUND(Q36,2000)-Q36)>0),MROUND(Q36,2000)-Q36=0)),2000,IF(OR(Q36-TRUNC(Q36,-3)>750,Q36-TRUNC(Q36,-3)=0),1000,IF(Q36-TRUNC(Q36,-3)>500,750,IF(Q36-TRUNC(Q36,-3)>250,500,250))))) -> #REF! | T36: =IF(AND(R36<=60,R36>45),"A faire",IF(AND(R36<=45,R36>30),"Urgent",IF(AND(R36<=30,R36>0),"Très urgent !!!",IF(R36>60,"RAS")))) -> RAS
A37: 35 | B37: MI 219 | C37: DUMP TRUCK 8X4 | D37: SIERRA LEONE | E37: 2008 | F37: KERAX 450 DXI | G37: RVI | H37: VF634FPA000004995 | J37: HEAVY VEHICLE | K37: =INDIRECT("'" & B37&"'!b29") -> #REF! | L37: 0 | M37: 0 | N37: 0 | O37: 0 | Q37: {=MAX(IF(#REF!=B37,#REF!))} -> #REF! | R37: =IFERROR(IF(S37=2000,MROUND(Q37,2000)-Q37,TRUNC(Q37,-3)+S37-Q37),"???") -> ??? | S37: =IF(OR(Q37=0,Q37=""),"???",IF((OR(AND((Q37-TRUNC(Q37,-3)>=750),(MROUND(Q37,2000)-Q37)>0),MROUND(Q37,2000)-Q37=0)),2000,IF(OR(Q37-TRUNC(Q37,-3)>750,Q37-TRUNC(Q37,-3)=0),1000,IF(Q37-TRUNC(Q37,-3)>500,750,IF(Q37-TRUNC(Q37,-3)>250,500,250))))) -> #REF! | T37: =IF(AND(R37<=60,R37>45),"A faire",IF(AND(R37<=45,R37>30),"Urgent",IF(AND(R37<=30,R37>0),"Très urgent !!!",IF(R37>60,"RAS")))) -> RAS
A38: 36 | B38: MI 220 | C38: DUMP TRUCK 8X4 | D38: SIERRA LEONE | E38: 2008 | F38: KERAX 450 DXI | G38: RVI | H38: VF634FPA000004836 | J38: HEAVY VEHICLE | K38: =INDIRECT("'" & B38&"'!b29") -> #REF! | L38: 0 | M38: 0 | N38: 0 | O38: 0 | Q38: {=MAX(IF(#REF!=B38,#REF!))} -> #REF! | R38: =IFERROR(IF(S38=2000,MROUND(Q38,2000)-Q38,TRUNC(Q38,-3)+S38-Q38),"???") -> ??? | S38: =IF(OR(Q38=0,Q38=""),"???",IF((OR(AND((Q38-TRUNC(Q38,-3)>=750),(MROUND(Q38,2000)-Q38)>0),MROUND(Q38,2000)-Q38=0)),2000,IF(OR(Q38-TRUNC(Q38,-3)>750,Q38-TRUNC(Q38,-3)=0),1000,IF(Q38-TRUNC(Q38,-3)>500,750,IF(Q38-TRUNC(Q38,-3)>250,500,250))))) -> #REF! | T38: =IF(AND(R38<=60,R38>45),"A faire",IF(AND(R38<=45,R38>30),"Urgent",IF(AND(R38<=30,R38>0),"Très urgent !!!",IF(R38>60,"RAS")))) -> RAS
A39: 37 | B39: MI 221 | C39: EQUIPPED STATIONARY CONCRETE PUMP | D39: SIERRA LEONE | E39: 2003 | F39: BSA1407 | G39: PUTZMEISTRR | H39: 210101310 | J39: HEAVY EQUIPMENT | K39: =INDIRECT("'" & B39&"'!b29") -> #REF! | L39: 0 | M39: 0 | N39: 0 | O39: 0 | Q39: {=MAX(IF(#REF!=B39,#REF!))} -> #REF! | R39: =IFERROR(IF(S39=2000,MROUND(Q39,2000)-Q39,TRUNC(Q39,-3)+S39-Q39),"???") -> ??? | S39: =IF(OR(Q39=0,Q39=""),"???",IF((OR(AND((Q39-TRUNC(Q39,-3)>=750),(MROUND(Q39,2000)-Q39)>0),MROUND(Q39,2000)-Q39=0)),2000,IF(OR(Q39-TRUNC(Q39,-3)>750,Q39-TRUNC(Q39,-3)=0),1000,IF(Q39-TRUNC(Q39,-3)>500,750,IF(Q39-TRUNC(Q39,-3)>250,500,250))))) -> #REF! | T39: =IF(AND(R39<=60,R39>45),"A faire",IF(AND(R39<=45,R39>30),"Urgent",IF(AND(R39<=30,R39>0),"Très urgent !!!",IF(R39>60,"RAS")))) -> RAS
A40: 38 | B40: MI 222 | C40: SEMI-TRANSPORT PULVERULENT | D40: SIERRA LEONE | E40: 1994 | G40: SPITZER | H40: VF9BBSF27R304184 | J40: HEAVY EQUIPMENT | K40: =INDIRECT("'" & B40&"'!b29") -> #REF! | L40: 0 | M40: 0 | N40: 0 | O40: 0 | Q40: {=MAX(IF(#REF!=B40,#REF!))} -> #REF! | R40: =IFERROR(IF(S40=2000,MROUND(Q40,2000)-Q40,TRUNC(Q40,-3)+S40-Q40),"???") -> ??? | S40: =IF(OR(Q40=0,Q40=""),"???",IF((OR(AND((Q40-TRUNC(Q40,-3)>=750),(MROUND(Q40,2000)-Q40)>0),MROUND(Q40,2000)-Q40=0)),2000,IF(OR(Q40-TRUNC(Q40,-3)>750,Q40-TRUNC(Q40,-3)=0),1000,IF(Q40-TRUNC(Q40,-3)>500,750,IF(Q40-TRUNC(Q40,-3)>250,500,250))))) -> #REF! | T40: =IF(AND(R40<=60,R40>45),"A faire",IF(AND(R40<=45,R40>30),"Urgent",IF(AND(R40<=30,R40>0),"Très urgent !!!",IF(R40>60,"RAS")))) -> RAS
A41: 39 | B41: MI 223 | C41: SEMI-TRANSPORT PULVERULENT | D41: SIERRA LEONE | E41: 1998 | G41: SPITZER | H41: VF9BBSF28W504107 | J41: HEAVY EQUIPMENT | K41: =INDIRECT("'" & B41&"'!b29") -> #REF! | L41: 0 | M41: 0 | N41: 0 | O41: 0 | Q41: {=MAX(IF(#REF!=B41,#REF!))} -> #REF! | R41: =IFERROR(IF(S41=2000,MROUND(Q41,2000)-Q41,TRUNC(Q41,-3)+S41-Q41),"???") -> ??? | S41: =IF(OR(Q41=0,Q41=""),"???",IF((OR(AND((Q41-TRUNC(Q41,-3)>=750),(MROUND(Q41,2000)-Q41)>0),MROUND(Q41,2000)-Q41=0)),2000,IF(OR(Q41-TRUNC(Q41,-3)>750,Q41-TRUNC(Q41,-3)=0),1000,IF(Q41-TRUNC(Q41,-3)>500,750,IF(Q41-TRUNC(Q41,-3)>250,500,250))))) -> #REF! | T41: =IF(AND(R41<=60,R41>45),"A faire",IF(AND(R41<=45,R41>30),"Urgent",IF(AND(R41<=30,R41>0),"Très urgent !!!",IF(R41>60,"RAS")))) -> RAS
A42: 40 | B42: MI 224 | C42: TRAILER | D42: SIERRA LEONE | E42: 1977 | G42: VANHOOL | H42: VH323SF20535 | J42: HEAVY EQUIPMENT | K42: =INDIRECT("'" & B42&"'!b29") -> #REF! | L42: 0 | M42: 0 | N42: 0 | O42: 0 | Q42: {=MAX(IF(#REF!=B42,#REF!))} -> #REF! | R42: =IFERROR(IF(S42=2000,MROUND(Q42,2000)-Q42,TRUNC(Q42,-3)+S42-Q42),"???") -> ??? | S42: =IF(OR(Q42=0,Q42=""),"???",IF((OR(AND((Q42-TRUNC(Q42,-3)>=750),(MROUND(Q42,2000)-Q42)>0),MROUND(Q42,2000)-Q42=0)),2000,IF(OR(Q42-TRUNC(Q42,-3)>750,Q42-TRUNC(Q42,-3)=0),1000,IF(Q42-TRUNC(Q42,-3)>500,750,IF(Q42-TRUNC(Q42,-3)>250,500,250))))) -> #REF! | T42: =IF(AND(R42<=60,R42>45),"A faire",IF(AND(R42<=45,R42>30),"Urgent",IF(AND(R42<=30,R42>0),"Très urgent !!!",IF(R42>60,"RAS")))) -> RAS
A43: 41 | B43: MI 225 | C43: MIXED COMPACTOR | D43: SIERRA LEONE | E43: 2010 | F43: CS76XT | G43: CATERPILLAR | H43: CYX00431 | J43: HEAVY EQUIPMENT | K43: =INDIRECT("'" & B43&"'!b29") -> #REF! | L43: 0 | M43: 0 | N43: 0 | O43: 0 | Q43: {=MAX(IF(#REF!=B43,#REF!))} -> #REF! | R43: =IFERROR(IF(S43=2000,MROUND(Q43,2000)-Q43,TRUNC(Q43,-3)+S43-Q43),"???") -> ??? | S43: =IF(OR(Q43=0,Q43=""),"???",IF((OR(AND((Q43-TRUNC(Q43,-3)>=750),(MROUND(Q43,2000)-Q43)>0),MROUND(Q43,2000)-Q43=0)),2000,IF(OR(Q43-TRUNC(Q43,-3)>750,Q43-TRUNC(Q43,-3)=0),1000,IF(Q43-TRUNC(Q43,-3)>500,750,IF(Q43-TRUNC(Q43,-3)>250,500,250))))) -> #REF! | T43: =IF(AND(R43<=60,R43>45),"A faire",IF(AND(R43<=45,R43>30),"Urgent",IF(AND(R43<=30,R43>0),"Très urgent !!!",IF(R43>60,"RAS")))) -> RAS
A44: 42 | B44: MI 226 | C44: GRADER | D44: SIERRA LEONE | E44: 2017 | F44: 140K | G44: CATERPILLAR | H44: SZL03093 | J44: HEAVY EQUIPMENT | K44: =INDIRECT("'" & B44&"'!b29") -> #REF! | L44: 0 | M44: 0 | N44: 0 | O44: 0 | Q44: {=MAX(IF(#REF!=B44,#REF!))} -> #REF! | R44: =IFERROR(IF(S44=2000,MROUND(Q44,2000)-Q44,TRUNC(Q44,-3)+S44-Q44),"???") -> ??? | S44: =IF(OR(Q44=0,Q44=""),"???",IF((OR(AND((Q44-TRUNC(Q44,-3)>=750),(MROUND(Q44,2000)-Q44)>0),MROUND(Q44,2000)-Q44=0)),2000,IF(OR(Q44-TRUNC(Q44,-3)>750,Q44-TRUNC(Q44,-3)=0),1000,IF(Q44-TRUNC(Q44,-3)>500,750,IF(Q44-TRUNC(Q44,-3)>250,500,250))))) -> #REF! | T44: =IF(AND(R44<=60,R44>45),"A faire",IF(AND(R44<=45,R44>30),"Urgent",IF(AND(R44<=30,R44>0),"Très urgent !!!",IF(R44>60,"RAS")))) -> RAS
A45: 43 | B45: MI 227 | C45: DOZER | D45: SIERRA LEONE | E45: 2012 | F45: DR6 | G45: CATERPILLAR | H45: S6T00280 | J45: HEAVY EQUIPMENT | K45: =INDIRECT("'" & B45&"'!b29") -> #REF! | L45: 0 | M45: 0 | N45: 0 | O45: 0 | Q45: {=MAX(IF(#REF!=B45,#REF!))} -> #REF! | R45: =IFERROR(IF(S45=2000,MROUND(Q45,2000)-Q45,TRUNC(Q45,-3)+S45-Q45),"???") -> ??? | S45: =IF(OR(Q45=0,Q45=""),"???",IF((OR(AND((Q45-TRUNC(Q45,-3)>=750),(MROUND(Q45,2000)-Q45)>0),MROUND(Q45,2000)-Q45=0)),2000,IF(OR(Q45-TRUNC(Q45,-3)>750,Q45-TRUNC(Q45,-3)=0),1000,IF(Q45-TRUNC(Q45,-3)>500,750,IF(Q45-TRUNC(Q45,-3)>250,500,250))))) -> #REF! | T45: =IF(AND(R45<=60,R45>45),"A faire",IF(AND(R45<=45,R45>30),"Urgent",IF(AND(R45<=30,R45>0),"Très urgent !!!",IF(R45>60,"RAS")))) -> RAS
A46: 44 | B46: MI 228 | C46: WHEEL LOADER | D46: SIERRA LEONE | E46: 2014 | F46: 950H | G46: CATERPILLAR | H46: MXL01182 | J46: HEAVY EQUIPMENT | K46: =INDIRECT("'" & B46&"'!b29") -> #REF! | L46: 0 | M46: 0 | N46: 0 | O46: 0 | Q46: {=MAX(IF(#REF!=B46,#REF!))} -> #REF! | R46: =IFERROR(IF(S46=2000,MROUND(Q46,2000)-Q46,TRUNC(Q46,-3)+S46-Q46),"???") -> ??? | S46: =IF(OR(Q46=0,Q46=""),"???",IF((OR(AND((Q46-TRUNC(Q46,-3)>=750),(MROUND(Q46,2000)-Q46)>0),MROUND(Q46,2000)-Q46=0)),2000,IF(OR(Q46-TRUNC(Q46,-3)>750,Q46-TRUNC(Q46,-3)=0),1000,IF(Q46-TRUNC(Q46,-3)>500,750,IF(Q46-TRUNC(Q46,-3)>250,500,250))))) -> #REF! | T46: =IF(AND(R46<=60,R46>45),"A faire",IF(AND(R46<=45,R46>30),"Urgent",IF(AND(R46<=30,R46>0),"Très urgent !!!",IF(R46>60,"RAS")))) -> RAS
A47: 45 | B47: MI 267 | C47: GENERATOR | D47: SIERRA LEONE | E47: 2017 | F47: G165QS | G47: JCB | H47: 2291312 | J47: POWER GENERATION | K47: =INDIRECT("'" & B47&"'!b29") -> #REF! | L47: 0 | M47: 0 | N47: 0 | O47: 0 | Q47: {=MAX(IF(#REF!=B47,#REF!))} -> #REF! | R47: =IFERROR(IF(S47=2000,MROUND(Q47,2000)-Q47,TRUNC(Q47,-3)+S47-Q47),"???") -> ??? | S47: =IF(OR(Q47=0,Q47=""),"???",IF((OR(AND((Q47-TRUNC(Q47,-3)>=750),(MROUND(Q47,2000)-Q47)>0),MROUND(Q47,2000)-Q47=0)),2000,IF(OR(Q47-TRUNC(Q47,-3)>750,Q47-TRUNC(Q47,-3)=0),1000,IF(Q47-TRUNC(Q47,-3)>500,750,IF(Q47-TRUNC(Q47,-3)>250,500,250))))) -> #REF! | T47: =IF(AND(R47<=60,R47>45),"A faire",IF(AND(R47<=45,R47>30),"Urgent",IF(AND(R47<=30,R47>0),"Très urgent !!!",IF(R47>60,"RAS")))) -> RAS
A48: 46 | B48: MI 268 | C48: GENERATOR | D48: SIERRA LEONE | E48: 2017 | F48: G65QS | G48: JCB | H48: 2291303 | J48: POWER GENERATION | K48: =INDIRECT("'" & B48&"'!b29") -> #REF! | L48: 0 | M48: 0 | N48: 0 | O48: 0 | Q48: {=MAX(IF(#REF!=B48,#REF!))} -> #REF! | R48: =IFERROR(IF(S48=2000,MROUND(Q48,2000)-Q48,TRUNC(Q48,-3)+S48-Q48),"???") -> ??? | S48: =IF(OR(Q48=0,Q48=""),"???",IF((OR(AND((Q48-TRUNC(Q48,-3)>=750),(MROUND(Q48,2000)-Q48)>0),MROUND(Q48,2000)-Q48=0)),2000,IF(OR(Q48-TRUNC(Q48,-3)>750,Q48-TRUNC(Q48,-3)=0),1000,IF(Q48-TRUNC(Q48,-3)>500,750,IF(Q48-TRUNC(Q48,-3)>250,500,250))))) -> #REF! | T48: =IF(AND(R48<=60,R48>45),"A faire",IF(AND(R48<=45,R48>30),"Urgent",IF(AND(R48<=30,R48>0),"Très urgent !!!",IF(R48>60,"RAS")))) -> RAS
A49: 47 | B49: MI 269 | C49: GENERATOR | D49: SIERRA LEONE | E49: 2017 | F49: G8QX | G49: JCB | H49: 163001392 | J49: POWER GENERATION | K49: =INDIRECT("'" & B49&"'!b29") -> #REF! | L49: 0 | M49: 0 | N49: 0 | O49: 0 | Q49: {=MAX(IF(#REF!=B49,#REF!))} -> #REF! | R49: =IFERROR(IF(S49=2000,MROUND(Q49,2000)-Q49,TRUNC(Q49,-3)+S49-Q49),"???") -> ??? | S49: =IF(OR(Q49=0,Q49=""),"???",IF((OR(AND((Q49-TRUNC(Q49,-3)>=750),(MROUND(Q49,2000)-Q49)>0),MROUND(Q49,2000)-Q49=0)),2000,IF(OR(Q49-TRUNC(Q49,-3)>750,Q49-TRUNC(Q49,-3)=0),1000,IF(Q49-TRUNC(Q49,-3)>500,750,IF(Q49-TRUNC(Q49,-3)>250,500,250))))) -> #REF! | T49: =IF(AND(R49<=60,R49>45),"A faire",IF(AND(R49<=45,R49>30),"Urgent",IF(AND(R49<=30,R49>0),"Très urgent !!!",IF(R49>60,"RAS")))) -> RAS
A50: 48 | B50: MI 270 | C50: GENERATOR | D50: SIERRA LEONE | E50: 2017 | F50: G8QX | G50: JCB | H50: 163001393 | J50: POWER GENERATION | K50: =INDIRECT("'" & B50&"'!b29") -> #REF! | L50: 0 | M50: 0 | N50: 0 | O50: 0 | Q50: {=MAX(IF(#REF!=B50,#REF!))} -> #REF! | R50: =IFERROR(IF(S50=2000,MROUND(Q50,2000)-Q50,TRUNC(Q50,-3)+S50-Q50),"???") -> ??? | S50: =IF(OR(Q50=0,Q50=""),"???",IF((OR(AND((Q50-TRUNC(Q50,-3)>=750),(MROUND(Q50,2000)-Q50)>0),MROUND(Q50,2000)-Q50=0)),2000,IF(OR(Q50-TRUNC(Q50,-3)>750,Q50-TRUNC(Q50,-3)=0),1000,IF(Q50-TRUNC(Q50,-3)>500,750,IF(Q50-TRUNC(Q50,-3)>250,500,250))))) -> #REF! | T50: =IF(AND(R50<=60,R50>45),"A faire",IF(AND(R50<=45,R50>30),"Urgent",IF(AND(R50<=30,R50>0),"Très urgent !!!",IF(R50>60,"RAS")))) -> RAS
A51: 49 | B51: MI 271 | C51: TOWER LIGHT | D51: SIERRA LEONE | E51: 2017 | F51: LTM9 | G51: JCB | H51: 1697934 | J51: POWER GENERATION | K51: =INDIRECT("'" & B51&"'!b29") -> #REF! | L51: 0 | M51: 0 | N51: 0 | O51: 0 | Q51: {=MAX(IF(#REF!=B51,#REF!))} -> #REF! | R51: =IFERROR(IF(S51=2000,MROUND(Q51,2000)-Q51,TRUNC(Q51,-3)+S51-Q51),"???") -> ??? | S51: =IF(OR(Q51=0,Q51=""),"???",IF((OR(AND((Q51-TRUNC(Q51,-3)>=750),(MROUND(Q51,2000)-Q51)>0),MROUND(Q51,2000)-Q51=0)),2000,IF(OR(Q51-TRUNC(Q51,-3)>750,Q51-TRUNC(Q51,-3)=0),1000,IF(Q51-TRUNC(Q51,-3)>500,750,IF(Q51-TRUNC(Q51,-3)>250,500,250))))) -> #REF! | T51: =IF(AND(R51<=60,R51>45),"A faire",IF(AND(R51<=45,R51>30),"Urgent",IF(AND(R51<=30,R51>0),"Très urgent !!!",IF(R51>60,"RAS")))) -> RAS
A52: 50 | B52: MI 272 | C52: TOWER LIGHT | D52: SIERRA LEONE | E52: 2017 | F52: LTM9 | G52: JCB | H52: 1697935 | J52: POWER GENERATION | K52: =INDIRECT("'" & B52&"'!b29") -> #REF! | L52: 0 | M52: 0 | N52: 0 | O52: 0 | Q52: {=MAX(IF(#REF!=B52,#REF!))} -> #REF! | R52: =IFERROR(IF(S52=2000,MROUND(Q52,2000)-Q52,TRUNC(Q52,-3)+S52-Q52),"???") -> ??? | S52: =IF(OR(Q52=0,Q52=""),"???",IF((OR(AND((Q52-TRUNC(Q52,-3)>=750),(MROUND(Q52,2000)-Q52)>0),MROUND(Q52,2000)-Q52=0)),2000,IF(OR(Q52-TRUNC(Q52,-3)>750,Q52-TRUNC(Q52,-3)=0),1000,IF(Q52-TRUNC(Q52,-3)>500,750,IF(Q52-TRUNC(Q52,-3)>250,500,250))))) -> #REF! | T52: =IF(AND(R52<=60,R52>45),"A faire",IF(AND(R52<=45,R52>30),"Urgent",IF(AND(R52<=30,R52>0),"Très urgent !!!",IF(R52>60,"RAS")))) -> RAS
A53: 51 | B53: MI 273 | C53: TOWER LIGHT | D53: SIERRA LEONE | E53: 2017 | F53: LTM9 | G53: JCB | H53: 1697936 | J53: POWER GENERATION | K53: =INDIRECT("'" & B53&"'!b29") -> #REF! | L53: 0 | M53: 0 | N53: 0 | O53: 0 | Q53: {=MAX(IF(#REF!=B53,#REF!))} -> #REF! | R53: =IFERROR(IF(S53=2000,MROUND(Q53,2000)-Q53,TRUNC(Q53,-3)+S53-Q53),"???") -> ??? | S53: =IF(OR(Q53=0,Q53=""),"???",IF((OR(AND((Q53-TRUNC(Q53,-3)>=750),(MROUND(Q53,2000)-Q53)>0),MROUND(Q53,2000)-Q53=0)),2000,IF(OR(Q53-TRUNC(Q53,-3)>750,Q53-TRUNC(Q53,-3)=0),1000,IF(Q53-TRUNC(Q53,-3)>500,750,IF(Q53-TRUNC(Q53,-3)>250,500,250))))) -> #REF! | T53: =IF(AND(R53<=60,R53>45),"A faire",IF(AND(R53<=45,R53>30),"Urgent",IF(AND(R53<=30,R53>0),"Très urgent !!!",IF(R53>60,"RAS")))) -> RAS
A54: 52 | B54: MI 274 | C54: TOWER LIGHT | D54: SIERRA LEONE | E54: 2017 | F54: LTM9 | G54: JCB | H54: 1697939 | J54: POWER GENERATION | K54: =INDIRECT("'" & B54&"'!b29") -> #REF! | L54: 0 | M54: 0 | N54: 0 | O54: 0 | Q54: {=MAX(IF(#REF!=B54,#REF!))} -> #REF! | R54: =IFERROR(IF(S54=2000,MROUND(Q54,2000)-Q54,TRUNC(Q54,-3)+S54-Q54),"???") -> ??? | S54: =IF(OR(Q54=0,Q54=""),"???",IF((OR(AND((Q54-TRUNC(Q54,-3)>=750),(MROUND(Q54,2000)-Q54)>0),MROUND(Q54,2000)-Q54=0)),2000,IF(OR(Q54-TRUNC(Q54,-3)>750,Q54-TRUNC(Q54,-3)=0),1000,IF(Q54-TRUNC(Q54,-3)>500,750,IF(Q54-TRUNC(Q54,-3)>250,500,250))))) -> #REF! | T54: =IF(AND(R54<=60,R54>45),"A faire",IF(AND(R54<=45,R54>30),"Urgent",IF(AND(R54<=30,R54>0),"Très urgent !!!",IF(R54>60,"RAS")))) -> RAS
A55: 53 | B55: MI 275 | C55: GENERATOR | D55: SIERRA LEONE | E55: 2016 | F55: 30KVA | G55: PERKINS | H55: DJ320444454287A | J55: POWER GENERATION | K55: =INDIRECT("'" & B55&"'!b29") -> #REF! | L55: 0 | M55: 0 | N55: 0 | O55: 0 | Q55: {=MAX(IF(#REF!=B55,#REF!))} -> #REF! | R55: =IFERROR(IF(S55=2000,MROUND(Q55,2000)-Q55,TRUNC(Q55,-3)+S55-Q55),"???") -> ??? | S55: =IF(OR(Q55=0,Q55=""),"???",IF((OR(AND((Q55-TRUNC(Q55,-3)>=750),(MROUND(Q55,2000)-Q55)>0),MROUND(Q55,2000)-Q55=0)),2000,IF(OR(Q55-TRUNC(Q55,-3)>750,Q55-TRUNC(Q55,-3)=0),1000,IF(Q55-TRUNC(Q55,-3)>500,750,IF(Q55-TRUNC(Q55,-3)>250,500,250))))) -> #REF! | T55: =IF(AND(R55<=60,R55>45),"A faire",IF(AND(R55<=45,R55>30),"Urgent",IF(AND(R55<=30,R55>0),"Très urgent !!!",IF(R55>60,"RAS")))) -> RAS
A56: 54 | B56: MI 277 | C56: AUTONOMOUS WELDING GROUP | D56: SIERRA LEONE | E56: 2017 | F56: 500A | G56: MILLER | H56: MG260263R | J56: POWER GENERATION | K56: =INDIRECT("'" & B56&"'!b29") -> #REF! | L56: 0 | M56: 0 | N56: 0 | O56: 0 | Q56: {=MAX(IF(#REF!=B56,#REF!))} -> #REF! | R56: =IFERROR(IF(S56=2000,MROUND(Q56,2000)-Q56,TRUNC(Q56,-3)+S56-Q56),"???") -> ??? | S56: =IF(OR(Q56=0,Q56=""),"???",IF((OR(AND((Q56-TRUNC(Q56,-3)>=750),(MROUND(Q56,2000)-Q56)>0),MROUND(Q56,2000)-Q56=0)),2000,IF(OR(Q56-TRUNC(Q56,-3)>750,Q56-TRUNC(Q56,-3)=0),1000,IF(Q56-TRUNC(Q56,-3)>500,750,IF(Q56-TRUNC(Q56,-3)>250,500,250))))) -> #REF! | T56: =IF(AND(R56<=60,R56>45),"A faire",IF(AND(R56<=45,R56>30),"Urgent",IF(AND(R56<=30,R56>0),"Très urgent !!!",IF(R56>60,"RAS")))) -> RAS
A57: 55 | B57: MI 278 | C57: AUTONOMOUS WELDING GROUP | D57: SIERRA LEONE | E57: 2017 | F57: 500A | G57: MILLER | H57: MG260301R | J57: POWER GENERATION | K57: =INDIRECT("'" & B57&"'!b29") -> #REF! | L57: 0 | M57: 0 | N57: 0 | O57: 0 | Q57: {=MAX(IF(#REF!=B57,#REF!))} -> #REF! | R57: =IFERROR(IF(S57=2000,MROUND(Q57,2000)-Q57,TRUNC(Q57,-3)+S57-Q57),"???") -> ??? | S57: =IF(OR(Q57=0,Q57=""),"???",IF((OR(AND((Q57-TRUNC(Q57,-3)>=750),(MROUND(Q57,2000)-Q57)>0),MROUND(Q57,2000)-Q57=0)),2000,IF(OR(Q57-TRUNC(Q57,-3)>750,Q57-TRUNC(Q57,-3)=0),1000,IF(Q57-TRUNC(Q57,-3)>500,750,IF(Q57-TRUNC(Q57,-3)>250,500,250))))) -> #REF! | T57: =IF(AND(R57<=60,R57>45),"A faire",IF(AND(R57<=45,R57>30),"Urgent",IF(AND(R57<=30,R57>0),"Très urgent !!!",IF(R57>60,"RAS")))) -> RAS
A58: 56 | B58: MI 281 | K58: =INDIRECT("'" & B58&"'!b29") -> #REF! | L58: 0 | M58: 0 | N58: 0 | O58: 0 | Q58: {=MAX(IF(#REF!=B58,#REF!))} -> #REF! | R58: =IFERROR(IF(S58=2000,MROUND(Q58,2000)-Q58,TRUNC(Q58,-3)+S58-Q58),"???") -> ??? | S58: =IF(OR(Q58=0,Q58=""),"???",IF((OR(AND((Q58-TRUNC(Q58,-3)>=750),(MROUND(Q58,2000)-Q58)>0),MROUND(Q58,2000)-Q58=0)),2000,IF(OR(Q58-TRUNC(Q58,-3)>750,Q58-TRUNC(Q58,-3)=0),1000,IF(Q58-TRUNC(Q58,-3)>500,750,IF(Q58-TRUNC(Q58,-3)>250,500,250))))) -> #REF! | T58: =IF(AND(R58<=60,R58>45),"A faire",IF(AND(R58<=45,R58>30),"Urgent",IF(AND(R58<=30,R58>0),"Très urgent !!!",IF(R58>60,"RAS")))) -> RAS
A59: 57 | B59: MI 282 | K59: =INDIRECT("'" & B59&"'!b29") -> #REF! | L59: 0 | M59: 0 | N59: 0 | O59: 0 | Q59: {=MAX(IF(#REF!=B59,#REF!))} -> #REF! | R59: =IFERROR(IF(S59=2000,MROUND(Q59,2000)-Q59,TRUNC(Q59,-3)+S59-Q59),"???") -> ??? | S59: =IF(OR(Q59=0,Q59=""),"???",IF((OR(AND((Q59-TRUNC(Q59,-3)>=750),(MROUND(Q59,2000)-Q59)>0),MROUND(Q59,2000)-Q59=0)),2000,IF(OR(Q59-TRUNC(Q59,-3)>750,Q59-TRUNC(Q59,-3)=0),1000,IF(Q59-TRUNC(Q59,-3)>500,750,IF(Q59-TRUNC(Q59,-3)>250,500,250))))) -> #REF! | T59: =IF(AND(R59<=60,R59>45),"A faire",IF(AND(R59<=45,R59>30),"Urgent",IF(AND(R59<=30,R59>0),"Très urgent !!!",IF(R59>60,"RAS")))) -> RAS
B60: M 3 | K60: =INDIRECT("'" & B60&"'!b29") -> #REF! | L60: 0 | M60: 0 | N60: 0 | O60: 0 | Q60: {=MAX(IF(#REF!=B60,#REF!))} -> #REF! | R60: =IFERROR(IF(S60=2000,MROUND(Q60,2000)-Q60,TRUNC(Q60,-3)+S60-Q60),"???") -> ??? | S60: =IF(OR(Q60=0,Q60=""),"???",IF((OR(AND((Q60-TRUNC(Q60,-3)>=750),(MROUND(Q60,2000)-Q60)>0),MROUND(Q60,2000)-Q60=0)),2000,IF(OR(Q60-TRUNC(Q60,-3)>750,Q60-TRUNC(Q60,-3)=0),1000,IF(Q60-TRUNC(Q60,-3)>500,750,IF(Q60-TRUNC(Q60,-3)>250,500,250))))) -> #REF! | T60: =IF(AND(R60<=60,R60>45),"A faire",IF(AND(R60<=45,R60>30),"Urgent",IF(AND(R60<=30,R60>0),"Très urgent !!!",IF(R60>60,"RAS")))) -> RAS
B61: M 4 | K61: =INDIRECT("'" & B61&"'!b29") -> #REF! | L61: 0 | M61: 0 | N61: 0 | O61: 0 | Q61: =MAX(IF(#REF!=B61,#REF!)) -> #REF! | R61: =IFERROR(IF(S61=2000,MROUND(Q61,2000)-Q61,TRUNC(Q61,-3)+S61-Q61),"???") -> ??? | S61: =IF(OR(Q61=0,Q61=""),"???",IF((OR(AND((Q61-TRUNC(Q61,-3)>=750),(MROUND(Q61,2000)-Q61)>0),MROUND(Q61,2000)-Q61=0)),2000,IF(OR(Q61-TRUNC(Q61,-3)>750,Q61-TRUNC(Q61,-3)=0),1000,IF(Q61-TRUNC(Q61,-3)>500,750,IF(Q61-TRUNC(Q61,-3)>250,500,250))))) -> #REF! | T61: =IF(AND(R61<=60,R61>45),"A faire",IF(AND(R61<=45,R61>30),"Urgent",IF(AND(R61<=30,R61>0),"Très urgent !!!",IF(R61>60,"RAS")))) -> RAS

Sheet MODELE
A1: ='FLEET INFORMATION'!B3 -> MI 070 | B1: WORKING HOUR START | D1: {=MIN(IF((#REF!=$A$1)*(#REF!=COLUMN(A:L)),#REF!))} -> #REF! | E1: Brand, model, year, type, serial N° | I1: =VLOOKUP(A1,'FLEET INFORMATION'!B3:H61,6,FALSE)&"/"&VLOOKUP(A1,'FLEET INFORMATION'!B3:H61,5,FALSE)&"/"&VLOOKUP(A1,'FLEET INFORMATION'!B3:H61,4,FALSE)&"/"&VLOOKUP(A1,'FLEET INFORMATION'!B3:H61,2,FALSE)&"/"&VLOOKUP(A1,'FLEET INFORMATION'!B3:H61,7,FALSE) -> ELKON/ELKOMIX 35M3/2015/CONCRETE POWER PLANT/ECBP2015/205
B2: JANUARY | C2: FEBRUARY | D2: MARCH | E2: APRIL | F2: MAY | G2: JUN | H2: JULY | I2: AUGUST | J2: SEPTEMBER | K2: OCTOBER | L2: NOVEMBER | M2: DECEMBER | N2: TOTAL ANNUAL
A3: ACTUAL HOURS | B3: {=MAX(IF((#REF!=$A$1)*(#REF!=COLUMN(A:A)),#REF!,D1))} -> #REF! | C3: {=MAX(IF((#REF!=$A$1)*(#REF!=COLUMN(B:B)),#REF!,B3))} -> #REF! | D3: {=MAX(IF((#REF!=$A$1)*(#REF!=COLUMN(C:C)),#REF!,C3))} -> #REF! | E3: {=MAX(IF((#REF!=$A$1)*(#REF!=COLUMN(D:D)),#REF!,D3))} -> #REF! | F3: {=MAX(IF((#REF!=$A$1)*(#REF!=COLUMN(E:E)),#REF!,E3))} -> #REF! | G3: {=MAX(IF((#REF!=$A$1)*(#REF!=COLUMN(F:F)),#REF!,F3))} -> #REF! | H3: {=MAX(IF((#REF!=$A$1)*(#REF!=COLUMN(G:G)),#REF!,G3))} -> #REF! | I3: {=MAX(IF((#REF!=$A$1)*(#REF!=COLUMN(H:H)),#REF!,H3))} -> #REF! | J3: {=MAX(IF((#REF!=$A$1)*(#REF!=COLUMN(I:I)),#REF!,I3))} -> #REF! | K3: {=MAX(IF((#REF!=$A$1)*(#REF!=COLUMN(J:J)),#REF!,J3))} -> #REF! | L3: {=MAX(IF((#REF!=$A$1)*(#REF!=COLUMN(K:K)),#REF!,K3))} -> #REF! | M3: {=MAX(IF((#REF!=$A$1)*(#REF!=COLUMN(L:L)),#REF!,L3))} -> #REF!
A4: OPERATION HOUR PERFORMED | B4: =B3-D1 -> #REF! | C4: =IF(C3<1,0,C3-B3) -> #REF! | D4: =IF(D3<1,0,D3-C3) -> #REF! | E4: =IF(E3<1,0,E3-D3) -> #REF! | F4: =IF(F3<1,0,F3-E3) -> #REF! | G4: =IF(G3<1,0,G3-F3) -> #REF! | H4: =IF(H3<1,0,H3-G3) -> #REF! | I4: =IF(I3<1,0,I3-H3) -> #REF! | J4: =IF(J3<1,0,J3-I3) -> #REF! | ... M4: =IF(M3<1,0,M3-L3) -> #REF! | N4: =SUM(B4:M4) -> #REF!
A5: DIESEL | B5: =SUMIFS(#REF!,#REF!,COLUMN()-1,#REF!,$A$1) -> #REF! | C5: =SUMIFS(#REF!,#REF!,COLUMN()-1,#REF!,$A$1) -> #REF! | D5: =SUMIFS(#REF!,#REF!,COLUMN()-1,#REF!,$A$1) -> #REF! | E5: =SUMIFS(#REF!,#REF!,COLUMN()-1,#REF!,$A$1) -> #REF! | F5: =SUMIFS(#REF!,#REF!,COLUMN()-1,#REF!,$A$1) -> #REF! | G5: =SUMIFS(#REF!,#REF!,COLUMN()-1,#REF!,$A$1) -> #REF! | H5: =SUMIFS(#REF!,#REF!,COLUMN()-1,#REF!,$A$1) -> #REF! | I5: =SUMIFS(#REF!,#REF!,COLUMN()-1,#REF!,$A$1) -> #REF! | ... M5: =SUMIFS(#REF!,#REF!,COLUMN()-1,#REF!,$A$1) -> #REF! | N5: =SUM(B5:M5) -> #REF!
A6: DRIVING TAX & TECHNICAL CONTROL | B6: =IFERROR(IF(COLUMNS($A:A)<=MAX(#REF!),VLOOKUP($A$1,'FLEET INFORMATION'!$B$3:$B$61:'FLEET INFORMATION'!$M$3:$M$61,11,FALSE),0),0) -> 0 | C6: =IFERROR(IF(COLUMNS($A:B)<=MAX(#REF!),VLOOKUP($A$1,'FLEET INFORMATION'!$B$3:$B$61:'FLEET INFORMATION'!$M$3:$M$61,11,FALSE),0),0) -> 0 | D6: =IFERROR(IF(COLUMNS($A:C)<=MAX(#REF!),VLOOKUP($A$1,'FLEET INFORMATION'!$B$3:$B$61:'FLEET INFORMATION'!$M$3:$M$61,11,FALSE),0),0) -> 0 | E6: =IFERROR(IF(COLUMNS($A:D)<=MAX(#REF!),VLOOKUP($A$1,'FLEET INFORMATION'!$B$3:$B$61:'FLEET INFORMATION'!$M$3:$M$61,11,FALSE),0),0) -> 0 | F6: =IFERROR(IF(COLUMNS($A:E)<=MAX(#REF!),VLOOKUP($A$1,'FLEET INFORMATION'!$B$3:$B$61:'FLEET INFORMATION'!$M$3:$M$61,11,FALSE),0),0) -> 0 | G6: =IFERROR(IF(COLUMNS($A:F)<=MAX(#REF!),VLOOKUP($A$1,'FLEET INFORMATION'!$B$3:$B$61:'FLEET INFORMATION'!$M$3:$M$61,11,FALSE),0),0) -> 0 | H6: =IFERROR(IF(COLUMNS($A:G)<=MAX(#REF!),VLOOKUP($A$1,'FLEET INFORMATION'!$B$3:$B$61:'FLEET INFORMATION'!$M$3:$M$61,11,FALSE),0),0) -> 0 | I6: =IFERROR(IF(COLUMNS($A:H)<=MAX(#REF!),VLOOKUP($A$1,'FLEET INFORMATION'!$B$3:$B$61:'FLEET INFORMATION'!$M$3:$M$61,11,FALSE),0),0) -> 0 | J6: =IFERROR(IF(COLUMNS($A:I)<=MAX(#REF!),VLOOKUP($A$1,'FLEET INFORMATION'!$B$3:$B$61:'FLEET INFORMATION'!$M$3:$M$61,11,FALSE),0),0) -> 0 | K6: =IFERROR(IF(COLUMNS($A:J)<=MAX(#REF!),VLOOKUP($A$1,'FLEET INFORMATION'!$B$3:$B$61:'FLEET INFORMATION'!$M$3:$M$61,11,FALSE),0),0) -> 0 | L6: =IFERROR(IF(COLUMNS($A:K)<=MAX(#REF!),VLOOKUP($A$1,'FLEET INFORMATION'!$B$3:$B$61:'FLEET INFORMATION'!$M$3:$M$61,11,FALSE),0),0) -> 0 | M6: =IFERROR(IF(COLUMNS($A:L)<=MAX(#REF!),VLOOKUP($A$1,'FLEET INFORMATION'!$B$3:$B$61:'FLEET INFORMATION'!$M$3:$M$61,11,FALSE),0),0) -> 0 | N6: =SUM(B6:M6) -> 0
A7: INSSURANCE | B7: =IFERROR(IF(COLUMNS($A:A)<=MAX(#REF!),VLOOKUP($A$1,'FLEET INFORMATION'!$B$3:$B$61:'FLEET INFORMATION'!$N$3:$N$61,12,FALSE),0),0) -> 0 | C7: =IFERROR(IF(COLUMNS($A:B)<=MAX(#REF!),VLOOKUP($A$1,'FLEET INFORMATION'!$B$3:$B$61:'FLEET INFORMATION'!$N$3:$N$61,12,FALSE),0),0) -> 0 | E7: =IFERROR(IF(COLUMNS($A:D)<=MAX(#REF!),VLOOKUP($A$1,'FLEET INFORMATION'!$B$3:$B$61:'FLEET INFORMATION'!$N$3:$N$61,12,FALSE),0),0) -> 0 | F7: =IFERROR(IF(COLUMNS($A:E)<=MAX(#REF!),VLOOKUP($A$1,'FLEET INFORMATION'!$B$3:$B$61:'FLEET INFORMATION'!$N$3:$N$61,12,FALSE),0),0) -> 0 | G7: =IFERROR(IF(COLUMNS($A:F)<=MAX(#REF!),VLOOKUP($A$1,'FLEET INFORMATION'!$B$3:$B$61:'FLEET INFORMATION'!$N$3:$N$61,12,FALSE),0),0) -> 0 | H7: =IFERROR(IF(COLUMNS($A:G)<=MAX(#REF!),VLOOKUP($A$1,'FLEET INFORMATION'!$B$3:$B$61:'FLEET INFORMATION'!$N$3:$N$61,12,FALSE),0),0) -> 0 | I7: =IFERROR(IF(COLUMNS($A:H)<=MAX(#REF!),VLOOKUP($A$1,'FLEET INFORMATION'!$B$3:$B$61:'FLEET INFORMATION'!$N$3:$N$61,12,FALSE),0),0) -> 0 | J7: =IFERROR(IF(COLUMNS($A:I)<=MAX(#REF!),VLOOKUP($A$1,'FLEET INFORMATION'!$B$3:$B$61:'FLEET INFORMATION'!$N$3:$N$61,12,FALSE),0),0) -> 0 | K7: =IFERROR(IF(COLUMNS($A:J)<=MAX(#REF!),VLOOKUP($A$1,'FLEET INFORMATION'!$B$3:$B$61:'FLEET INFORMATION'!$N$3:$N$61,12,FALSE),0),0) -> 0 | L7: =IFERROR(IF(COLUMNS($A:K)<=MAX(#REF!),VLOOKUP($A$1,'FLEET INFORMATION'!$B$3:$B$61:'FLEET INFORMATION'!$N$3:$N$61,12,FALSE),0),0) -> 0 | M7: =IFERROR(IF(COLUMNS($A:L)<=MAX(#REF!),VLOOKUP($A$1,'FLEET INFORMATION'!$B$3:$B$61:'FLEET INFORMATION'!$N$3:$N$61,12,FALSE),0),0) -> 0 | N7: =SUM(B7:M7) -> 0
A8: MAINTENANCE (PARTS) | B8: =SUMIFS(#REF!,#REF!,"PARTS",#REF!,COLUMN()-1,#REF!,$A$1)+SUMIFS(#REF!,#REF!,COLUMN()-1,#REF!,$A$1) -> #REF! | C8: =SUMIFS(#REF!,#REF!,"PARTS",#REF!,COLUMN()-1,#REF!,$A$1)+SUMIFS(#REF!,#REF!,COLUMN()-1,#REF!,$A$1) -> #REF! | D8: =SUMIFS(#REF!,#REF!,"PARTS",#REF!,COLUMN()-1,#REF!,$A$1)+SUMIFS(#REF!,#REF!,COLUMN()-1,#REF!,$A$1) -> #REF! | E8: =SUMIFS(#REF!,#REF!,"PARTS",#REF!,COLUMN()-1,#REF!,$A$1)+SUMIFS(#REF!,#REF!,COLUMN()-1,#REF!,$A$1) -> #REF! | F8: =SUMIFS(#REF!,#REF!,"PARTS",#REF!,COLUMN()-1,#REF!,$A$1)+SUMIFS(#REF!,#REF!,COLUMN()-1,#REF!,$A$1) -> #REF! | G8: =SUMIFS(#REF!,#REF!,"PARTS",#REF!,COLUMN()-1,#REF!,$A$1)+SUMIFS(#REF!,#REF!,COLUMN()-1,#REF!,$A$1) -> #REF! | H8: =SUMIFS(#REF!,#REF!,"PARTS",#REF!,COLUMN()-1,#REF!,$A$1)+SUMIFS(#REF!,#REF!,COLUMN()-1,#REF!,$A$1) -> #REF! | I8: =SUMIFS(#REF!,#REF!,"PARTS",#REF!,COLUMN()-1,#REF!,$A$1)+SUMIFS(#REF!,#REF!,COLUMN()-1,#REF!,$A$1) -> #REF! | ... M8: =SUMIFS(#REF!,#REF!,"PARTS",#REF!,COLUMN()-1,#REF!,$A$1)+SUMIFS(#REF!,#REF!,COLUMN()-1,#REF!,$A$1) -> #REF! | N8: =SUM(B8:M8) -> #REF!
A9: LUBRICANT | B9: =SUMIFS(#REF!,#REF!,"LUBRICANT",#REF!,COLUMN()-1,#REF!,$A$1) -> #REF! | C9: =SUMIFS(#REF!,#REF!,"LUBRICANT",#REF!,COLUMN()-1,#REF!,$A$1) -> #REF! | D9: =SUMIFS(#REF!,#REF!,"LUBRICANT",#REF!,COLUMN()-1,#REF!,$A$1) -> #REF! | E9: =SUMIFS(#REF!,#REF!,"LUBRICANT",#REF!,COLUMN()-1,#REF!,$A$1) -> #REF! | F9: =SUMIFS(#REF!,#REF!,"LUBRICANT",#REF!,COLUMN()-1,#REF!,$A$1) -> #REF! | G9: =SUMIFS(#REF!,#REF!,"LUBRICANT",#REF!,COLUMN()-1,#REF!,$A$1) -> #REF! | H9: =SUMIFS(#REF!,#REF!,"LUBRICANT",#REF!,COLUMN()-1,#REF!,$A$1) -> #REF! | I9: =SUMIFS(#REF!,#REF!,"LUBRICANT",#REF!,COLUMN()-1,#REF!,$A$1) -> #REF! | ... M9: =SUMIFS(#REF!,#REF!,"LUBRICANT",#REF!,COLUMN()-1,#REF!,$A$1) -> #REF! | N9: =SUM(B9:M9) -> #REF!
A10: OPERATOR SALARY | B10: =IFERROR(IF(COLUMNS($A:A)<=MAX(#REF!),VLOOKUP($A$1,'FLEET INFORMATION'!$B$3:$B$61:'FLEET INFORMATION'!$O$3:$O$61,13,FALSE),0),0) -> 0 | C10: =IFERROR(IF(COLUMNS($A:B)<=MAX(#REF!),VLOOKUP($A$1,'FLEET INFORMATION'!$B$3:$B$61:'FLEET INFORMATION'!$O$3:$O$61,13,FALSE),0),0) -> 0 | D10: =IFERROR(IF(COLUMNS($A:C)<=MAX(#REF!),VLOOKUP($A$1,'FLEET INFORMATION'!$B$3:$B$61:'FLEET INFORMATION'!$O$3:$O$61,13,FALSE),0),0) -> 0 | E10: =IFERROR(IF(COLUMNS($A:D)<=MAX(#REF!),VLOOKUP($A$1,'FLEET INFORMATION'!$B$3:$B$61:'FLEET INFORMATION'!$O$3:$O$61,13,FALSE),0),0) -> 0 | F10: =IFERROR(IF(COLUMNS($A:E)<=MAX(#REF!),VLOOKUP($A$1,'FLEET INFORMATION'!$B$3:$B$61:'FLEET INFORMATION'!$O$3:$O$61,13,FALSE),0),0) -> 0 | G10: =IFERROR(IF(COLUMNS($A:F)<=MAX(#REF!),VLOOKUP($A$1,'FLEET INFORMATION'!$B$3:$B$61:'FLEET INFORMATION'!$O$3:$O$61,13,FALSE),0),0) -> 0 | H10: =IFERROR(IF(COLUMNS($A:G)<=MAX(#REF!),VLOOKUP($A$1,'FLEET INFORMATION'!$B$3:$B$61:'FLEET INFORMATION'!$O$3:$O$61,13,FALSE),0),0) -> 0 | I10: =IFERROR(IF(COLUMNS($A:H)<=MAX(#REF!),VLOOKUP($A$1,'FLEET INFORMATION'!$B$3:$B$61:'FLEET INFORMATION'!$O$3:$O$61,13,FALSE),0),0) -> 0 | J10: =IFERROR(IF(COLUMNS($A:I)<=MAX(#REF!),VLOOKUP($A$1,'FLEET INFORMATION'!$B$3:$B$61:'FLEET INFORMATION'!$O$3:$O$61,13,FALSE),0),0) -> 0 | K10: =IFERROR(IF(COLUMNS($A:J)<=MAX(#REF!),VLOOKUP($A$1,'FLEET INFORMATION'!$B$3:$B$61:'FLEET INFORMATION'!$O$3:$O$61,13,FALSE),0),0) -> 0 | L10: =IFERROR(IF(COLUMNS($A:K)<=MAX(#REF!),VLOOKUP($A$1,'FLEET INFORMATION'!$B$3:$B$61:'FLEET INFORMATION'!$O$3:$O$61,13,FALSE),0),0) -> 0 | M10: =IFERROR(IF(COLUMNS($A:L)<=MAX(#REF!),VLOOKUP($A$1,'FLEET INFORMATION'!$B$3:$B$61:'FLEET INFORMATION'!$O$3:$O$61,13,FALSE),0),0) -> 0 | N10: =SUM(B10:M10) -> 0
A11: TOTAL | B11: =SUM(B5:B10) -> #REF! | C11: =SUM(C5:C10) -> #REF! | D11: =SUM(D5:D10) -> #REF! | E11: =SUM(E5:E10) -> #REF! | F11: =SUM(F5:F10) -> #REF! | G11: =SUM(G5:G10) -> #REF! | H11: =SUM(H5:H10) -> #REF! | I11: =SUM(I5:I10) -> #REF! | ... M11: =SUM(M5:M10) -> #REF! | N11: =SUM(B11:M11) -> #REF!
A12: COST PER HOUR | B12: =IF(B4=0,"-",B11/B4) -> #REF! | C12: =IF(C4=0,"-",C11/C4) -> #REF! | D12: =IF(D4=0,"-",D11/D4) -> #REF! | E12: =IF(E4=0,"-",E11/E4) -> #REF! | F12: =IF(F4=0,"-",F11/F4) -> #REF! | G12: =IF(G4=0,"-",G11/G4) -> #REF! | H12: =IF(H4=0,"-",H11/H4) -> #REF! | I12: =IF(I4=0,"-",I11/I4) -> #REF! | ... N12: =IF(N4=0,"-",N11/N4) -> #REF!
A14: TOTAL COST PER YEAR
C15: % | D15: SL PER HOUR
A16: =A5 -> DIESEL | B16: =N5 -> #REF! | C16: =IF(B16=0,"-",B16/$B$22) -> #REF! | D16: =IF(B16=0,"-",$B$23*C16) -> #REF!
A17: =A6 -> DRIVING TAX & TECHNICAL CONTROL | B17: =N6 -> 0 | C17: =IF(B17=0,"-",B17/$B$22) -> - | D17: =IF(B17=0,"-",$B$23*C17) -> -
A18: =A7 -> INSSURANCE | B18: =N7 -> 0 | C18: =IF(B18=0,"-",B18/$B$22) -> - | D18: =IF(B18=0,"-",$B$23*C18) -> -
A19: =A8 -> MAINTENANCE (PARTS) | B19: =N8 -> #REF! | C19: =IF(B19=0,"-",B19/$B$22) -> #REF! | D19: =IF(B19=0,"-",$B$23*C19) -> #REF!
A20: =A9 -> LUBRICANT | B20: =N9 -> #REF! | C20: =IF(B20=0,"-",B20/$B$22) -> #REF! | D20: =IF(B20=0,"-",$B$23*C20) -> #REF!
A21: =A10 -> OPERATOR SALARY | B21: =N10 -> 0 | C21: =IF(B21=0,"-",B21/$B$22) -> - | D21: =IF(B21=0,"-",$B$23*C21) -> -
A22: TOTAL | B22: =N11 -> #REF! | C22: =SUM(C16:C21) -> #REF! | D22: =SUM(D16:D21) -> #REF!
A23: AVERAGE COST PER HOUR | B23: =IF(OR(B11="KM Required",C11="KM Required",D11="KM Required",E11="KM Required",F11="KM Required",G11="KM Required",H11="KM Required",I11="KM Required",J11="KM Required",K11="KM Required",L11="KM Required",M11="KM Required"),"Data Error",N12) -> #REF!
A26: TOTAL DIESEL CONSUMED | B26: =SUMIFS(#REF!,#REF!,$A$1) -> #REF!
A27: AVERAGE DIESEL CONSUPTION LITERS PER HOUR | B27: =IF(B16=0,"-",B26/N4) -> #REF!

Sheet Feuil1
