Workbook
Name Année: Données!$C$1:$C$91
Name Equipes: 'Equipes et choix des points'!$A$2:$A$21
Name Etat: Données!$A$1:$A$4
Name Forfait: Données!$A$9:$A$11
Name P_domicile: 'Matchs et classements'!$A$4:$A$383
Name P_extérieur: 'Matchs et classements'!$H$4:$H$383
Name Saison: Données!$E$1:$E$91

Sheet Equipes et choix des points
A1: Equipes
B2: Cocher ci-contre pour le changement de points pour les victoires, les nuls et les défaites. | I2: 1
C19: Les colonnes "P" servent à noter les éventuels points de pénalités attribués par une commission de discipline ou suite à un forfait (à noter face aux équipes concernées).
C22: Dans la colonne "Dates", il est possible de noter si un match est "Annulé", Arrêté" ou "Remis" au moyen des listes déroulantes.
A23: Noter les équipes ci-dessus (de 1 à 20) qui apparaitront dans les tableaux et sur les listes déroulantes pour noter les matchs.
C25: En cas de forfait (liste déroulante), noter le Forfait Perdant ou Gagnant face à l'équipe concernée. Pour le Forfait Perdant, 3 points sont retirés automatiquement à l'équipe "Forfait Perdant". Noter simplement le score de 3 - 0 en faveur de l'équipe "Forfait Gagnant" . En cas de Forfait Général, supprimer simplement les scores des matchs déja joués concernant l'équipe "Forfait Général".
A28: Les classements se calculent automatiquement après inscription des résultats.

Sheet Matchs et classements
A1: Nom du Championnat | I1: Saison 2020 - 2021 | CJ1: Dom; | CK1: Ext. | CL1: Dom; | CM1: Ext. | CN1: Dom; | CO1: Ext. | CP1: Dom; | CQ1: Ext. | CR1: Dom; | CS1: Ext. | CT1: Dom; | CU1: Ext. | CV1: Dom; | CW1: Ext. | CX1: Dom; | CY1: Ext. | CZ1: Dom; | DA1: Ext. | DB1: Dom; | DC1: Ext. | DD1: Dom; | DE1: Ext. | DF1: Dom; | DG1: Ext. | DH1: Dom; | DI1: Ext.
M2: CLASSEMENT GENERAL | W2: CLASSEMENT DOMICILE | AG2: CLASSEMENT EXTERIEUR | AW2: CLASSEMENT GENERAL | BH2: CLASSEMENT DOMICILE | BS2: CLASSEMENT EXTERIEUR | CD2: GENERAL | CF2: DOMICILE | CH2: EXTERIEUR | DJ2: GENERAL | DN2: DOMICILE | DR2: EXTERIEUR
A3: P | B3: Forfait | C3: Equipes | D3: Scores | F3: Equipes | G3: Forfait | H3: P | I3: Dates | J3: Horaires | K3: Journées | CJ3: P | CK3: P | CL3: FP | CM3: FP | CN3: FG | CO3: FG | CP3: V Pts | CQ3: V Pts | CR3: N Pts | CS3: N Pts | CT3: D Pts | CU3: D Pts | CV3: T pts | CW3: T Pts | CX3: J | CY3: J | CZ3: G | DA3: G | DB3: N | DC3: N | DD3: P | DE3: P | DF3: B + | DG3: B + | DH3: B - | DI3: B -
K4: 1 | M4: Place | N4: Points | O4: Equipes | P4: J | Q4: G | R4: N | S4: P | T4: B + | U4: B - | V4: Diff. | W4: Place | X4: Points | Y4: Equipes | Z4: J | AA4: G | AB4: N | AC4: P | AD4: B + | AE4: B - | AF4: Diff. | AG4: Place | AH4: Points | AI4: Equipes | AJ4: J | AK4: G | AL4: N | AM4: P | AN4: B + | AO4: B - | AP4: Diff. | AQ4: R général | AS4: R domicile | AU4: R extérieur | AW4: Equipes | AX4: Rang | AY4: Place | AZ4: Pts | BA4: J | BB4: G | BC4: N | BD4: P | BE4: B + | BF4: B - | BG4: Diff. | BH4: Equipes | BI4: Rang | BJ4: Place | BK4: Pts | BL4: J | BM4: G | BN4: N | BO4: P | BP4: B + | BQ4: B - | BR4: Diff. | BS4: Equipes | BT4: Rang | BU4: Place | BV4: Pts | BW4: J | BX4: G | BY4: N | BZ4: P | CA4: B + | CB4: B - | CC4: Diff. | CD4: % | CE4: % | CF4: % | CG4: % | CH4: % | CI4: % | CJ4: =A4 -> 0 | CK4: =H4 -> 0 | CL4: =IF(B4="Forfait Perdant",3,"") | CM4: =IF(G4="Forfait Perdant",3,"") | CN4: =IF(B4="Forfait Gagnant",0,"") | CO4: =IF(G4="Forfait Gagnant",0,"") | CP4: =IF(D4="",0,IF(D4=E4,0,IF(D4<E4,0,IF('Equipes et choix des points'!$I$2=1,IF('Matchs et classements'!D4>'Matchs et classements'!E4,3),IF('Equipes et choix des points'!$I$2=2,IF('Matchs et classements'!D4>E4,4)))))) -> 0 | CQ4: =IF(E4="",0,IF(E4=D4,0,IF(E4<D4,0,IF('Equipes et choix des points'!$I$2=1,IF('Matchs et classements'!E4>'Matchs et classements'!D4,3),IF('Equipes et choix des points'!$I$2=2,IF('Matchs et classements'!E4>'Matchs et classements'!D4,4)))))) -> 0 | CR4: =IF(D4="",0,IF(D4>E4,0,IF(D4<E4,0,IF('Equipes et choix des points'!$I$2=1,IF('Matchs et classements'!D4='Matchs et classements'!E4,1),IF('Equipes et choix des points'!$I$2=2,IF('Matchs et classements'!D4='Matchs et classements'!E4,2)))))) -> 0 | CS4: =IF(E4="",0,IF(E4>D4,0,IF(E4<D4,0,IF('Equipes et choix des points'!$I$2=1,IF('Matchs et classements'!E4='Matchs et classements'!D4,1),IF('Equipes et choix des points'!$I$2=2,IF('Matchs et classements'!E4='Matchs et classements'!D4,2)))))) -> 0 | CT4: =IF(D4="",0,IF(D4>E4,0,IF(D4=E4,0,IF('Equipes et choix des points'!$I$2=1,IF('Matchs et classements'!D4<'Matchs et classements'!E4,0),IF('Equipes et choix des points'!$I$2=2,IF('Matchs et classements'!D4<'Matchs et classements'!E4,1)))))) -> 0 | CU4: =IF(E4="",0,IF(E4>D4,0,IF(E4=D4,0,IF('Equipes et choix des points'!$I$2=1,IF('Matchs et classements'!E4<'Matchs et classements'!D4,0),IF('Equipes et choix des points'!$I$2=2,IF('Matchs et classements'!E4<'Matchs et classements'!D4,1)))))) -> 0 | CV4: =SUM(CP4,CR4,CT4)-SUM(CJ4,CL4) -> 0 | CW4: =SUM(CO4,CQ4,CS4)-SUM(CK4,CM4) -> 0 | CX4: =IF(B4="Forfait perdant",0,IF(B4="Forfait Général",0,IF(D4="",0,1))) -> 0 | CY4: =IF(G4="Forfait Perdant",0,IF(G4="Forfait Général",0,IF(E4="",0,1))) -> 0 | CZ4: =IF(D4<>"",IF(D4>E4,1)) -> FALSE | DA4: =IF(E4<>"",IF(E4>D4,1)) -> FALSE | DB4: =IF(D4<>"",IF(D4=E4,1)) -> FALSE | DC4: =IF(E4<>"",IF(E4=D4,1)) -> FALSE | DD4: =IF(D4<>"",IF(D4<E4,1)) -> FALSE | DE4: =IF(E4<>"",IF(E4<D4,1)) -> FALSE | DF4: =D4 -> 0 | DG4: =E4 -> 0 | DH4: =E4 -> 0 | DI4: =D4 -> 0 | DJ4: Equipes | DK4: % | DL4: R | DM4: Equipes | DN4: Equipes | DO4: % | DP4: R | DQ4: Equipes | DR4: Equipes | DS4: % | DT4: R | DU4: Equipes
M5: =IF(O5<>"",1,"") | N5: =IF($O$5="","",VLOOKUP($O$5,$AW$5:$BG$24,4,0)) | O5: =IF('Equipes et choix des points'!A2="","",VLOOKUP('Matchs et classements'!AQ5,'Matchs et classements'!$AR$5:$AW$24,6,0)) | P5: =IF(O5="","",VLOOKUP(O5,$AW$5:$BG$24,5,0)) | Q5: =IF(O5="","",VLOOKUP(O5,$AW$5:$BG$24,6,0)) | R5: =IF(O5="","",VLOOKUP(O5,$AW$5:$BG$24,7,0)) | S5: =IF(O5="","",VLOOKUP(O5,$AW$5:$BG$24,8,0)) | T5: =IF(O5="","",VLOOKUP(O5,$AW$5:$BG$24,9,0)) | U5: =IF(O5="","",VLOOKUP(O5,$AW$5:$BG$24,10,0)) | V5: =IF(O5="","",VLOOKUP(O5,$AW$5:$BG$24,11,0)) | W5: =IF(Y5<>"",1,"") | X5: =IF(Y5="","",VLOOKUP(Y5,$BH$5:$BR$24,4,0)) | Y5: =IF('Equipes et choix des points'!A2="","",VLOOKUP('Matchs et classements'!AS5,'Matchs et classements'!$AT$5:$BH$24,15,0)) | Z5: =IF(Y5="","",VLOOKUP(Y5,$BH$5:$BR$24,5,0)) | AA5: =IF(Y5="","",VLOOKUP(Y5,$BH$5:$BR$24,6,0)) | AB5: =IF(Y5="","",VLOOKUP(Y5,$BH$5:$BR$24,7,0)) | AC5: =IF(Y5="","",VLOOKUP(Y5,$BH$5:$BR$24,8,0)) | AD5: =IF(Y5="","",VLOOKUP(Y5,$BH$5:$BR$24,9,0)) | AE5: =IF(Y5="","",VLOOKUP(Y5,$BH$5:$BR$24,10,0)) | AF5: =IF(Y5="","",VLOOKUP(Y5,$BH$5:$BR$24,11,0)) | AG5: =IF(AI5<>"",1,"") | AH5: =IF(AI5="","",VLOOKUP(AI5,$BS$5:$CC$24,4,0)) | AI5: =IF('Equipes et choix des points'!A2="","",VLOOKUP('Matchs et classements'!AU5,'Matchs et classements'!$AV$5:$BS$24,24,0)) | AJ5: =IF(AI5="","",VLOOKUP(AI5,$BS$5:$CC$24,5,0)) | AK5: =IF(AI5="","",VLOOKUP(AI5,$BS$5:$CC$24,6,0)) | AL5: =IF(AI5="","",VLOOKUP(AI5,$BS$5:$CC$24,7,0)) | AM5: =IF(AI5="","",VLOOKUP(AI5,$BS$5:$CC$24,8,0)) | AN5: =IF(AI5="","",VLOOKUP(AI5,$BS$5:$CC$24,9,0)) | AO5: =IF(AI5="","",VLOOKUP(AI5,$BS$5:$CC$24,10,0)) | AP5: =IF(AI5="","",VLOOKUP(AI5,$BS$5:$CC$24,11,0)) | AQ5: 1 | AR5: =AY5 | AS5: 1 | AT5: =BJ5 | AU5: 1 | AV5: =BU5 | AW5: =IF('Equipes et choix des points'!$A$2<>"",'Equipes et choix des points'!$A$2,"") | AX5: =IF(AW5="","",RANK(CD5,$CD$5:$CD$24)) | AY5: =IF(AW5="","",RANK(CE5,$CE$5:$CE$24)) | AZ5: =IF(AW5="","",SUMPRODUCT(($C$4:$C$383=AW5)*($CV$4:$CV$383))+SUMPRODUCT(($F$4:$F$383=AW5)*($CW$4:$CW$383))) | BA5: =IF(AW5="","",SUMPRODUCT(($C$4:$C$383=AW5)*($CX$4:$CX$383))+SUMPRODUCT(($F$4:$F$383=AW5)*($CY$4:$CY$383))) | BB5: =IF(AW5="","",SUMPRODUCT(($C$4:$C$383=AW5)*($CZ$4:$CZ$383))+SUMPRODUCT(($F$4:$F$383=AW5)*($DA$4:$DA$383))) | BC5: =IF(AW5="","",SUMPRODUCT(($C$4:$C$383=AW5)*($DB$4:$DB$383))+SUMPRODUCT(($F$4:$F$383=AW5)*($DC$4:$DC$383))) | BD5: =IF(AW5="","",SUMPRODUCT(($C$4:$C$383=AW5)*($DD$4:$DD$383))+SUMPRODUCT(($F$4:$F$383=AW5)*($DE$4:$DE$383))) | BE5: =IF(AW5="","",SUMPRODUCT(($C$4:$C$383=AW5)*($DF$4:$DF$383))+SUMPRODUCT(($F$4:$F$383=AW5)*($DG$4:$DG$383))) | BF5: =IF(AW5="","",SUMPRODUCT(($C$4:$C$383=AW5)*($DH$4:$DH$383))+SUMPRODUCT(($F$4:$F$383=AW5)*($DI$4:$DI$383))) | BG5: =IF(AW5="","",BE5-BF5) | BH5: =IF('Equipes et choix des points'!$A$2<>"",'Equipes et choix des points'!$A$2,"") | BI5: =IF(BH5="","",RANK(CF5,$CF$5:$CF$24)) | BJ5: =IF(BH5="","",RANK(CG5,$CG$5:$CG$24)) | BK5: =IF(BH5="","",SUMPRODUCT(($C$4:$C$383=BH5)*($CV$4:$CV$383))) | BL5: =IF(BH5="","",SUMPRODUCT(($C$4:$C$383=BH5)*($CX$4:$CX$383))) | BM5: =IF(BH5="","",SUMPRODUCT(($C$4:$C$383=BH5)*($CZ$4:$CZ$383))) | BN5: =IF(BH5="","",SUMPRODUCT(($C$4:$C$383=BH5)*($DB$4:$DB$383))) | BO5: =IF(BH5="","",SUMPRODUCT(($C$4:$C$383=BH5)*($DD$4:$DD$383))) | BP5: =IF(BH5="","",SUMPRODUCT(($C$4:$C$383=BH5)*($DF$4:$DF$383))) | BQ5: =IF(BH5="","",SUMPRODUCT(($C$4:$C$383=BH5)*($DH$4:$DH$383))) | BR5: =IF(BH5="","",BP5-BQ5) | BS5: =IF('Equipes et choix des points'!$A$2<>"",'Equipes et choix des points'!$A$2,"") | BT5: =IF(BS5="","",RANK(CH5,$CH$5:$CH$24)) | BU5: =IF(BS5="","",RANK(CI5,$CI$5:$CI$24)) | BV5: =IF(BS5="","",SUMPRODUCT(($F$4:$F$383=BS5)*($CW$4:$CW$383))) | BW5: =IF(BS5="","",SUMPRODUCT(($F$4:$F$383=BS5)*($CY$4:$CY$383))) | BX5: =IF(BS5="","",SUMPRODUCT(($F$4:$F$383=BS5)*($DA$4:$DA$383))) | BY5: =IF(BS5="","",SUMPRODUCT(($F$4:$F$383=BS5)*($DC$4:$DC$383))) | BZ5: =IF(BS5="","",SUMPRODUCT(($F$4:$F$383=BS5)*($DE$4:$DE$383))) | CA5: =IF(BS5="","",SUMPRODUCT(($F$4:$F$383=BS5)*($DG$4:$DG$383))) | CB5: =IF(BS5="","",SUMPRODUCT(($F$4:$F$383=BS5)*($DI$4:$DI$383))) | CC5: =IF(BS5="","",CA5-CB5) | CD5: =IFERROR(SUM(AZ5*1000+(BG5)/100+(BE5)/1000),"") | CE5: =IFERROR(SUM(CD5+0.000002),"") | CF5: =IFERROR(SUM(BK5*1000+(BR5)/100+(BP5)/1000),"") | CG5: =IFERROR(SUM(CF5+0.000002),"") | CH5: =IFERROR(SUM(BV5*1000+(CC5)/100+(CA5)/1000),"") | CI5: =IFERROR(SUM(CH5+0.000002),"") | CJ5: =A5 -> 0 | CK5: =H5 -> 0 | CL5: =IF(B5="Forfait Perdant",3,"") | CM5: =IF(G5="Forfait Perdant",3,"") | CN5: =IF(B5="Forfait Gagnant",0,"") | CO5: =IF(G5="Forfait Gagnant",0,"") | CP5: =IF(D5="",0,IF(D5=E5,0,IF(D5<E5,0,IF('Equipes et choix des points'!$I$2=1,IF('Matchs et classements'!D5>'Matchs et classements'!E5,3),IF('Equipes et choix des points'!$I$2=2,IF('Matchs et classements'!D5>E5,4)))))) -> 0 | CQ5: =IF(E5="",0,IF(E5=D5,0,IF(E5<D5,0,IF('Equipes et choix des points'!$I$2=1,IF('Matchs et classements'!E5>'Matchs et classements'!D5,3),IF('Equipes et choix des points'!$I$2=2,IF('Matchs et classements'!E5>'Matchs et classements'!D5,4)))))) -> 0 | CR5: =IF(D5="",0,IF(D5>E5,0,IF(D5<E5,0,IF('Equipes et choix des points'!$I$2=1,IF('Matchs et classements'!D5='Matchs et classements'!E5,1),IF('Equipes et choix des points'!$I$2=2,IF('Matchs et classements'!D5='Matchs et classements'!E5,2)))))) -> 0 | CS5: =IF(E5="",0,IF(E5>D5,0,IF(E5<D5,0,IF('Equipes et choix des points'!$I$2=1,IF('Matchs et classements'!E5='Matchs et classements'!D5,1),IF('Equipes et choix des points'!$I$2=2,IF('Matchs et classements'!E5='Matchs et classements'!D5,2)))))) -> 0 | CT5: =IF(D5="",0,IF(D5>E5,0,IF(D5=E5,0,IF('Equipes et choix des points'!$I$2=1,IF('Matchs et classements'!D5<'Matchs et classements'!E5,0),IF('Equipes et choix des points'!$I$2=2,IF('Matchs et classements'!D5<'Matchs et classements'!E5,1)))))) -> 0 | CU5: =IF(E5="",0,IF(E5>D5,0,IF(E5=D5,0,IF('Equipes et choix des points'!$I$2=1,IF('Matchs et classements'!E5<'Matchs et classements'!D5,0),IF('Equipes et choix des points'!$I$2=2,IF('Matchs et classements'!E5<'Matchs et classements'!D5,1)))))) -> 0 | CV5: =SUM(CP5,CR5,CT5)-SUM(CJ5,CL5) -> 0 | CW5: =SUM(CO5,CQ5,CS5)-SUM(CK5,CM5) -> 0 | CX5: =IF(B5="Forfait perdant",0,IF(B5="Forfait Général",0,IF(D5="",0,1))) -> 0 | CY5: =IF(G5="Forfait Perdant",0,IF(G5="Forfait Général",0,IF(E5="",0,1))) -> 0 | CZ5: =IF(D5<>"",IF(D5>E5,1)) -> FALSE | DA5: =IF(E5<>"",IF(E5>D5,1)) -> FALSE | DB5: =IF(D5<>"",IF(D5=E5,1)) -> FALSE | DC5: =IF(E5<>"",IF(E5=D5,1)) -> FALSE | DD5: =IF(D5<>"",IF(D5<E5,1)) -> FALSE | DE5: =IF(E5<>"",IF(E5<D5,1)) -> FALSE | DF5: =D5 -> 0 | DG5: =E5 -> 0 | DH5: =E5 -> 0 | DI5: =D5 -> 0 | DJ5: =IF(AW5="","",VLOOKUP(AQ5,$AR$5:$AW$24,6,0)) | DK5: =IFERROR(VLOOKUP(DJ5,AW$5:CD24,34,0),"") | DL5: =IF(DJ5="","",RANK(DK5,DK5:DK24)) | DM5: =IF(AW5="","",AW5) | DN5: =IFERROR(VLOOKUP(AS5,$AT$5:$BH$24,15,0),"") | DO5: =IFERROR(VLOOKUP(DN5,$BH$5:$CF$24,25,0),"") | DP5: =IF(DN5="","",RANK(DO5,DO5:DO24)) | DQ5: =IF(BH5="","",BH5) | DR5: =IFERROR(VLOOKUP(AU5,$AV$5:$BS$24,24,0),"") | DS5: =IFERROR(VLOOKUP(DR5,$BS$5:$CH$24,16,0),"") | DT5: =IF(DR5="","",RANK(DS5,DS5:DS24))
M6: =IF(O6="","",IF(DK6=DK5,DL5,DL6)) | N6: =IF(O6="","",VLOOKUP(O6,$AW$5:$BG$24,4,0)) | O6: =IF('Equipes et choix des points'!A3="","",VLOOKUP('Matchs et classements'!AQ6,'Matchs et classements'!$AR$5:$AW$24,6,0)) | P6: =IF(O6="","",VLOOKUP(O6,$AW$5:$BG$24,5,0)) | Q6: =IF(O6="","",VLOOKUP(O6,$AW$5:$BG$24,6,0)) | R6: =IF(O6="","",VLOOKUP(O6,$AW$5:$BG$24,7,0)) | S6: =IF(O6="","",VLOOKUP(O6,$AW$5:$BG$24,8,0)) | T6: =IF(O6="","",VLOOKUP(O6,$AW$5:$BG$24,9,0)) | U6: =IF(O6="","",VLOOKUP(O6,$AW$5:$BG$24,10,0)) | V6: =IF(O6="","",VLOOKUP(O6,$AW$5:$BG$24,11,0)) | W6: =IF(Y6="","",IF(DO6=DO5,DP5,DP6)) | X6: =IF(Y6="","",VLOOKUP(Y6,$BH$5:$BR$24,4,0)) | Y6: =IF('Equipes et choix des points'!A3="","",VLOOKUP('Matchs et classements'!AS6,'Matchs et classements'!$AT$5:$BH$24,15,0)) | Z6: =IF(Y6="","",VLOOKUP(Y6,$BH$5:$BR$24,5,0)) | AA6: =IF(Y6="","",VLOOKUP(Y6,$BH$5:$BR$24,6,0)) | AB6: =IF(Y6="","",VLOOKUP(Y6,$BH$5:$BR$24,7,0)) | AC6: =IF(Y6="","",VLOOKUP(Y6,$BH$5:$BR$24,8,0)) | AD6: =IF(Y6="","",VLOOKUP(Y6,$BH$5:$BR$24,9,0)) | AE6: =IF(Y6="","",VLOOKUP(Y6,$BH$5:$BR$24,10,0)) | AF6: =IF(Y6="","",VLOOKUP(Y6,$BH$5:$BR$24,11,0)) | AG6: =IF(AI6="","",IF(DS6=DS5,DT5,DT6)) | AH6: =IF(AI6="","",VLOOKUP(AI6,$BS$5:$CC$24,4,0)) | AI6: =IF('Equipes et choix des points'!A3="","",VLOOKUP('Matchs et classements'!AU6,'Matchs et classements'!$AV$5:$BS$24,24,0)) | AJ6: =IF(AI6="","",VLOOKUP(AI6,$BS$5:$CC$24,5,0)) | AK6: =IF(AI6="","",VLOOKUP(AI6,$BS$5:$CC$24,6,0)) | AL6: =IF(AI6="","",VLOOKUP(AI6,$BS$5:$CC$24,7,0)) | AM6: =IF(AI6="","",VLOOKUP(AI6,$BS$5:$CC$24,8,0)) | AN6: =IF(AI6="","",VLOOKUP(AI6,$BS$5:$CC$24,9,0)) | AO6: =IF(AI6="","",VLOOKUP(AI6,$BS$5:$CC$24,10,0)) | AP6: =IF(AI6="","",VLOOKUP(AI6,$BS$5:$CC$24,11,0)) | AQ6: 2 | AR6: =AY6 | AS6: 2 | AT6: =BJ6 | AU6: 2 | AV6: =BU6 | AW6: =IF('Equipes et choix des points'!$A$3<>"",'Equipes et choix des points'!$A$3,"") | AX6: =IF('Equipes et choix des points'!A3="","",RANK(CD6,$CD$5:$CD$24)) | AY6: =IF(AW6="","",RANK(CE6,$CE$5:$CE$24)) | AZ6: =IF(AW6="","",SUMPRODUCT(($C$4:$C$383=AW6)*($CV$4:$CV$383))+SUMPRODUCT(($F$4:$F$383=AW6)*($CW$4:$CW$383))) | BA6: =IF(AW6="","",SUMPRODUCT(($C$4:$C$383=AW6)*($CX$4:$CX$383))+SUMPRODUCT(($F$4:$F$383=AW6)*($CY$4:$CY$383))) | BB6: =IF(AW6="","",SUMPRODUCT(($C$4:$C$383=AW6)*($CZ$4:$CZ$383))+SUMPRODUCT(($F$4:$F$383=AW6)*($DA$4:$DA$383))) | BC6: =IF(AW6="","",SUMPRODUCT(($C$4:$C$383=AW6)*($DB$4:$DB$383))+SUMPRODUCT(($F$4:$F$383=AW6)*($DC$4:$DC$383))) | BD6: =IF(AW6="","",SUMPRODUCT(($C$4:$C$383=AW6)*($DD$4:$DD$383))+SUMPRODUCT(($F$4:$F$383=AW6)*($DE$4:$DE$383))) | BE6: =IF(AW6="","",SUMPRODUCT(($C$4:$C$383=AW6)*($DF$4:$DF$383))+SUMPRODUCT(($F$4:$F$383=AW6)*($DG$4:$DG$383))) | BF6: =IF(AW6="","",SUMPRODUCT(($C$4:$C$383=AW6)*($DH$4:$DH$383))+SUMPRODUCT(($F$4:$F$383=AW6)*($DI$4:$DI$383))) | BG6: =IF(AW6="","",BE6-BF6) | BH6: =IF('Equipes et choix des points'!$A$3<>"",'Equipes et choix des points'!$A$3,"") | BI6: =IF(BH6="","",RANK(CF6,$CF$5:$CF$24)) | BJ6: =IF(BH6="","",RANK(CG6,$CG$5:$CG$24)) | BK6: =IF(BH6="","",SUMPRODUCT(($C$4:$C$383=BH6)*($CV$4:$CV$383))) | BL6: =IF(BH6="","",SUMPRODUCT(($C$4:$C$383=BH6)*($CX$4:$CX$383))) | BM6: =IF(BH6="","",SUMPRODUCT(($C$4:$C$383=BH6)*($CZ$4:$CZ$383))) | BN6: =IF(BH6="","",SUMPRODUCT(($C$4:$C$383=BH6)*($DB$4:$DB$383))) | BO6: =IF(BH6="","",SUMPRODUCT(($C$4:$C$383=BH6)*($DD$4:$DD$383))) | BP6: =IF(BH6="","",SUMPRODUCT(($C$4:$C$383=BH6)*($DF$4:$DF$383))) | BQ6: =IF(BH6="","",SUMPRODUCT(($C$4:$C$383=BH6)*($DH$4:$DH$383))) | BR6: =IF(BH6="","",BP6-BQ6) | BS6: =IF('Equipes et choix des points'!$A$3<>"",'Equipes et choix des points'!$A$3,"") | BT6: =IF(BS6="","",RANK(CH6,$CH$5:$CH$24)) | BU6: =IF(BS6="","",RANK(CI6,$CI$5:$CI$24)) | BV6: =IF(BS6="","",SUMPRODUCT(($F$4:$F$383=BS6)*($CW$4:$CW$383))) | BW6: =IF(BS6="","",SUMPRODUCT(($F$4:$F$383=BS6)*($CY$4:$CY$383))) | BX6: =IF(BS6="","",SUMPRODUCT(($F$4:$F$383=BS6)*($DA$4:$DA$383))) | BY6: =IF(BS6="","",SUMPRODUCT(($F$4:$F$383=BS6)*($DC$4:$DC$383))) | BZ6: =IF(BS6="","",SUMPRODUCT(($F$4:$F$383=BS6)*($DE$4:$DE$383))) | CA6: =IF(BS6="","",SUMPRODUCT(($F$4:$F$383=BS6)*($DG$4:$DG$383))) | CB6: =IF(BS6="","",SUMPRODUCT(($F$4:$F$383=BS6)*($DI$4:$DI$383))) | CC6: =IF(BS6="","",CA6-CB6) | CD6: =IFERROR(SUM(AZ6*1000+(BG6)/100+(BE6)/1000),"") | CE6: =IFERROR(SUM(CD6+0.0000019),"") | CF6: =IFERROR(SUM(BK6*1000+(BR6)/100+(BP6)/1000),"") | CG6: =IFERROR(SUM(CF6+0.0000019),"") | CH6: =IFERROR(SUM(BV6*1000+(CC6)/100+(CA6)/1000),"") | CI6: =IFERROR(SUM(CH6+0.0000019),"") | CJ6: =A6 -> 0 | CK6: =H6 -> 0 | CL6: =IF(B6="Forfait Perdant",3,"") | CM6: =IF(G6="Forfait Perdant",3,"") | CN6: =IF(B6="Forfait Gagnant",0,"") | CO6: =IF(G6="Forfait Gagnant",0,"") | CP6: =IF(D6="",0,IF(D6=E6,0,IF(D6<E6,0,IF('Equipes et choix des points'!$I$2=1,IF('Matchs et classements'!D6>'Matchs et classements'!E6,3),IF('Equipes et choix des points'!$I$2=2,IF('Matchs et classements'!D6>E6,4)))))) -> 0 | CQ6: =IF(E6="",0,IF(E6=D6,0,IF(E6<D6,0,IF('Equipes et choix des points'!$I$2=1,IF('Matchs et classements'!E6>'Matchs et classements'!D6,3),IF('Equipes et choix des points'!$I$2=2,IF('Matchs et classements'!E6>'Matchs et classements'!D6,4)))))) -> 0 | CR6: =IF(D6="",0,IF(D6>E6,0,IF(D6<E6,0,IF('Equipes et choix des points'!$I$2=1,IF('Matchs et classements'!D6='Matchs et classements'!E6,1),IF('Equipes et choix des points'!$I$2=2,IF('Matchs et classements'!D6='Matchs et classements'!E6,2)))))) -> 0 | CS6: =IF(E6="",0,IF(E6>D6,0,IF(E6<D6,0,IF('Equipes et choix des points'!$I$2=1,IF('Matchs et classements'!E6='Matchs et classements'!D6,1),IF('Equipes et choix des points'!$I$2=2,IF('Matchs et classements'!E6='Matchs et classements'!D6,2)))))) -> 0 | CT6: =IF(D6="",0,IF(D6>E6,0,IF(D6=E6,0,IF('Equipes et choix des points'!$I$2=1,IF('Matchs et classements'!D6<'Matchs et classements'!E6,0),IF('Equipes et choix des points'!$I$2=2,IF('Matchs et classements'!D6<'Matchs et classements'!E6,1)))))) -> 0 | CU6: =IF(E6="",0,IF(E6>D6,0,IF(E6=D6,0,IF('Equipes et choix des points'!$I$2=1,IF('Matchs et classements'!E6<'Matchs et classements'!D6,0),IF('Equipes et choix des points'!$I$2=2,IF('Matchs et classements'!E6<'Matchs et classements'!D6,1)))))) -> 0 | CV6: =SUM(CP6,CR6,CT6)-SUM(CJ6,CL6) -> 0 | CW6: =SUM(CO6,CQ6,CS6)-SUM(CK6,CM6) -> 0 | CX6: =IF(B6="Forfait perdant",0,IF(B6="Forfait Général",0,IF(D6="",0,1))) -> 0 | CY6: =IF(G6="Forfait Perdant",0,IF(G6="Forfait Général",0,IF(E6="",0,1))) -> 0 | CZ6: =IF(D6<>"",IF(D6>E6,1)) -> FALSE | DA6: =IF(E6<>"",IF(E6>D6,1)) -> FALSE | DB6: =IF(D6<>"",IF(D6=E6,1)) -> FALSE | DC6: =IF(E6<>"",IF(E6=D6,1)) -> FALSE | DD6: =IF(D6<>"",IF(D6<E6,1)) -> FALSE | DE6: =IF(E6<>"",IF(E6<D6,1)) -> FALSE | DF6: =D6 -> 0 | DG6: =E6 -> 0 | DH6: =E6 -> 0 | DI6: =D6 -> 0 | DJ6: =IF(AW6="","",VLOOKUP(AQ6,$AR$5:$AW$24,6,0)) | DK6: =IFERROR(VLOOKUP(DJ6,AW$5:CD25,34,0),"") | DL6: =IF(DJ6="","",RANK(DK6,DK5:DK24)) | DM6: =IF(AW6="","",AW6) | DN6: =IFERROR(VLOOKUP(AS6,$AT$5:$BH$24,15,0),"") | DO6: =IFERROR(VLOOKUP(DN6,$BH$5:$CF$24,25,0),"") | DP6: =IF(DN6="","",RANK(DO6,DO5:DO24)) | DQ6: =IF(BH6="","",BH6) | DR6: =IFERROR(VLOOKUP(AU6,$AV$5:$BS$24,24,0),"") | DS6: =IFERROR(VLOOKUP(DR6,$BS$5:$CH$24,16,0),"") | DT6: =IF(DR6="","",RANK(DS6,DS5:DS24))
M7: =IF(O7="","",IF(DK7=DK6,DL6,DL7)) | N7: =IF(O7="","",VLOOKUP(O7,$AW$5:$BG$24,4,0)) | O7: =IF('Equipes et choix des points'!A4="","",VLOOKUP('Matchs et classements'!AQ7,'Matchs et classements'!$AR$5:$AW$24,6,0)) | P7: =IF(O7="","",VLOOKUP(O7,$AW$5:$BG$24,5,0)) | Q7: =IF(O7="","",VLOOKUP(O7,$AW$5:$BG$24,6,0)) | R7: =IF(O7="","",VLOOKUP(O7,$AW$5:$BG$24,7,0)) | S7: =IF(O7="","",VLOOKUP(O7,$AW$5:$BG$24,8,0)) | T7: =IF(O7="","",VLOOKUP(O7,$AW$5:$BG$24,9,0)) | U7: =IF(O7="","",VLOOKUP(O7,$AW$5:$BG$24,10,0)) | V7: =IF(O7="","",VLOOKUP(O7,$AW$5:$BG$24,11,0)) | W7: =IF(Y7="","",IF(DO7=DO6,DP6,DP7)) | X7: =IF(Y7="","",VLOOKUP(Y7,$BH$5:$BR$24,4,0)) | Y7: =IF('Equipes et choix des points'!A4="","",VLOOKUP('Matchs et classements'!AS7,'Matchs et classements'!$AT$5:$BH$24,15,0)) | Z7: =IF(Y7="","",VLOOKUP(Y7,$BH$5:$BR$24,5,0)) | AA7: =IF(Y7="","",VLOOKUP(Y7,$BH$5:$BR$24,6,0)) | AB7: =IF(Y7="","",VLOOKUP(Y7,$BH$5:$BR$24,7,0)) | AC7: =IF(Y7="","",VLOOKUP(Y7,$BH$5:$BR$24,8,0)) | AD7: =IF(Y7="","",VLOOKUP(Y7,$BH$5:$BR$24,9,0)) | AE7: =IF(Y7="","",VLOOKUP(Y7,$BH$5:$BR$24,10,0)) | AF7: =IF(Y7="","",VLOOKUP(Y7,$BH$5:$BR$24,11,0)) | AG7: =IF(AI7="","",IF(DS7=DS6,DT6,DT7)) | AH7: =IF(AI7="","",VLOOKUP(AI7,$BS$5:$CC$24,4,0)) | AI7: =IF('Equipes et choix des points'!A4="","",VLOOKUP('Matchs et classements'!AU7,'Matchs et classements'!$AV$5:$BS$24,24,0)) | AJ7: =IF(AI7="","",VLOOKUP(AI7,$BS$5:$CC$24,5,0)) | AK7: =IF(AI7="","",VLOOKUP(AI7,$BS$5:$CC$24,6,0)) | AL7: =IF(AI7="","",VLOOKUP(AI7,$BS$5:$CC$24,7,0)) | AM7: =IF(AI7="","",VLOOKUP(AI7,$BS$5:$CC$24,8,0)) | AN7: =IF(AI7="","",VLOOKUP(AI7,$BS$5:$CC$24,9,0)) | AO7: =IF(AI7="","",VLOOKUP(AI7,$BS$5:$CC$24,10,0)) | AP7: =IF(AI7="","",VLOOKUP(AI7,$BS$5:$CC$24,11,0)) | AQ7: 3 | AR7: =AY7 | AS7: 3 | AT7: =BJ7 | AU7: 3 | AV7: =BU7 | AW7: =IF('Equipes et choix des points'!$A$4<>"",'Equipes et choix des points'!$A$4,"") | AX7: =IF('Equipes et choix des points'!A4="","",RANK(CD7,$CD$5:$CD$24)) | AY7: =IF(AW7="","",RANK(CE7,$CE$5:$CE$24)) | AZ7: =IF(AW7="","",SUMPRODUCT(($C$4:$C$383=AW7)*($CV$4:$CV$383))+SUMPRODUCT(($F$4:$F$383=AW7)*($CW$4:$CW$383))) | BA7: =IF(AW7="","",SUMPRODUCT(($C$4:$C$383=AW7)*($CX$4:$CX$383))+SUMPRODUCT(($F$4:$F$383=AW7)*($CY$4:$CY$383))) | BB7: =IF(AW7="","",SUMPRODUCT(($C$4:$C$383=AW7)*($CZ$4:$CZ$383))+SUMPRODUCT(($F$4:$F$383=AW7)*($DA$4:$DA$383))) | BC7: =IF(AW7="","",SUMPRODUCT(($C$4:$C$383=AW7)*($DB$4:$DB$383))+SUMPRODUCT(($F$4:$F$383=AW7)*($DC$4:$DC$383))) | BD7: =IF(AW7="","",SUMPRODUCT(($C$4:$C$383=AW7)*($DD$4:$DD$383))+SUMPRODUCT(($F$4:$F$383=AW7)*($DE$4:$DE$383))) | BE7: =IF(AW7="","",SUMPRODUCT(($C$4:$C$383=AW7)*($DF$4:$DF$383))+SUMPRODUCT(($F$4:$F$383=AW7)*($DG$4:$DG$383))) | BF7: =IF(AW7="","",SUMPRODUCT(($C$4:$C$383=AW7)*($DH$4:$DH$383))+SUMPRODUCT(($F$4:$F$383=AW7)*($DI$4:$DI$383))) | BG7: =IF(AW7="","",BE7-BF7) | BH7: =IF('Equipes et choix des points'!$A$4<>"",'Equipes et choix des points'!$A$4,"") | BI7: =IF(BH7="","",RANK(CF7,$CF$5:$CF$24)) | BJ7: =IF(BH7="","",RANK(CG7,$CG$5:$CG$24)) | BK7: =IF(BH7="","",SUMPRODUCT(($C$4:$C$383=BH7)*($CV$4:$CV$383))) | BL7: =IF(BH7="","",SUMPRODUCT(($C$4:$C$383=BH7)*($CX$4:$CX$383))) | BM7: =IF(BH7="","",SUMPRODUCT(($C$4:$C$383=BH7)*($CZ$4:$CZ$383))) | BN7: =IF(BH7="","",SUMPRODUCT(($C$4:$C$383=BH7)*($DB$4:$DB$383))) | BO7: =IF(BH7="","",SUMPRODUCT(($C$4:$C$383=BH7)*($DD$4:$DD$383))) | BP7: =IF(BH7="","",SUMPRODUCT(($C$4:$C$383=BH7)*($DF$4:$DF$383))) | BQ7: =IF(BH7="","",SUMPRODUCT(($C$4:$C$383=BH7)*($DH$4:$DH$383))) | BR7: =IF(BH7="","",BP7-BQ7) | BS7: =IF('Equipes et choix des points'!$A$4<>"",'Equipes et choix des points'!$A$4,"") | BT7: =IF(BS7="","",RANK(CH7,$CH$5:$CH$24)) | BU7: =IF(BS7="","",RANK(CI7,$CI$5:$CI$24)) | BV7: =IF(BS7="","",SUMPRODUCT(($F$4:$F$383=BS7)*($CW$4:$CW$383))) | BW7: =IF(BS7="","",SUMPRODUCT(($F$4:$F$383=BS7)*($CY$4:$CY$383))) | BX7: =IF(BS7="","",SUMPRODUCT(($F$4:$F$383=BS7)*($DA$4:$DA$383))) | BY7: =IF(BS7="","",SUMPRODUCT(($F$4:$F$383=BS7)*($DC$4:$DC$383))) | BZ7: =IF(BS7="","",SUMPRODUCT(($F$4:$F$383=BS7)*($DE$4:$DE$383))) | CA7: =IF(BS7="","",SUMPRODUCT(($F$4:$F$383=BS7)*($DG$4:$DG$383))) | CB7: =IF(BS7="","",SUMPRODUCT(($F$4:$F$383=BS7)*($DI$4:$DI$383))) | CC7: =IF(BS7="","",CA7-CB7) | CD7: =IFERROR(SUM(AZ7*1000+(BG7)/100+(BE7)/1000),"") | CE7: =IFERROR(SUM(CD7+0.0000018),"") | CF7: =IFERROR(SUM(BK7*1000+(BR7)/100+(BP7)/1000),"") | CG7: =IFERROR(SUM(CF7+0.0000018),"") | CH7: =IFERROR(SUM(BV7*1000+(CC7)/100+(CA7)/1000),"") | CI7: =IFERROR(SUM(CH7+0.0000018),"") | CJ7: =A7 -> 0 | CK7: =H7 -> 0 | CL7: =IF(B7="Forfait Perdant",3,"") | CM7: =IF(G7="Forfait Perdant",3,"") | CN7: =IF(B7="Forfait Gagnant",0,"") | CO7: =IF(G7="Forfait Gagnant",0,"") | CP7: =IF(D7="",0,IF(D7=E7,0,IF(D7<E7,0,IF('Equipes et choix des points'!$I$2=1,IF('Matchs et classements'!D7>'Matchs et classements'!E7,3),IF('Equipes et choix des points'!$I$2=2,IF('Matchs et classements'!D7>E7,4)))))) -> 0 | CQ7: =IF(E7="",0,IF(E7=D7,0,IF(E7<D7,0,IF('Equipes et choix des points'!$I$2=1,IF('Matchs et classements'!E7>'Matchs et classements'!D7,3),IF('Equipes et choix des points'!$I$2=2,IF('Matchs et classements'!E7>'Matchs et classements'!D7,4)))))) -> 0 | CR7: =IF(D7="",0,IF(D7>E7,0,IF(D7<E7,0,IF('Equipes et choix des points'!$I$2=1,IF('Matchs et classements'!D7='Matchs et classements'!E7,1),IF('Equipes et choix des points'!$I$2=2,IF('Matchs et classements'!D7='Matchs et classements'!E7,2)))))) -> 0 | CS7: =IF(E7="",0,IF(E7>D7,0,IF(E7<D7,0,IF('Equipes et choix des points'!$I$2=1,IF('Matchs et classements'!E7='Matchs et classements'!D7,1),IF('Equipes et choix des points'!$I$2=2,IF('Matchs et classements'!E7='Matchs et classements'!D7,2)))))) -> 0 | CT7: =IF(D7="",0,IF(D7>E7,0,IF(D7=E7,0,IF('Equipes et choix des points'!$I$2=1,IF('Matchs et classements'!D7<'Matchs et classements'!E7,0),IF('Equipes et choix des points'!$I$2=2,IF('Matchs et classements'!D7<'Matchs et classements'!E7,1)))))) -> 0 | CU7: =IF(E7="",0,IF(E7>D7,0,IF(E7=D7,0,IF('Equipes et choix des points'!$I$2=1,IF('Matchs et classements'!E7<'Matchs et classements'!D7,0),IF('Equipes et choix des points'!$I$2=2,IF('Matchs et classements'!E7<'Matchs et classements'!D7,1)))))) -> 0 | CV7: =SUM(CP7,CR7,CT7)-SUM(CJ7,CL7) -> 0 | CW7: =SUM(CO7,CQ7,CS7)-SUM(CK7,CM7) -> 0 | CX7: =IF(B7="Forfait perdant",0,IF(B7="Forfait Général",0,IF(D7="",0,1))) -> 0 | CY7: =IF(G7="Forfait Perdant",0,IF(G7="Forfait Général",0,IF(E7="",0,1))) -> 0 | CZ7: =IF(D7<>"",IF(D7>E7,1)) -> FALSE | DA7: =IF(E7<>"",IF(E7>D7,1)) -> FALSE | DB7: =IF(D7<>"",IF(D7=E7,1)) -> FALSE | DC7: =IF(E7<>"",IF(E7=D7,1)) -> FALSE | DD7: =IF(D7<>"",IF(D7<E7,1)) -> FALSE | DE7: =IF(E7<>"",IF(E7<D7,1)) -> FALSE | DF7: =D7 -> 0 | DG7: =E7 -> 0 | DH7: =E7 -> 0 | DI7: =D7 -> 0 | DJ7: =IF(AW7="","",VLOOKUP(AQ7,$AR$5:$AW$24,6,0)) | DK7: =IFERROR(VLOOKUP(DJ7,AW$5:CD26,34,0),"") | DL7: =IF(DJ7="","",RANK(DK7,DK5:DK24)) | DM7: =IF(AW7="","",AW7) | DN7: =IFERROR(VLOOKUP(AS7,$AT$5:$BH$24,15,0),"") | DO7: =IFERROR(VLOOKUP(DN7,$BH$5:$CF$24,25,0),"") | DP7: =IF(DN7="","",RANK(DO7,DO5:DO24)) | DQ7: =IF(BH7="","",BH7) | DR7: =IFERROR(VLOOKUP(AU7,$AV$5:$BS$24,24,0),"") | DS7: =IFERROR(VLOOKUP(DR7,$BS$5:$CH$24,16,0),"") | DT7: =IF(DR7="","",RANK(DS7,DS5:DS24))
M8: =IF(O8="","",IF(DK8=DK7,DL7,DL8)) | N8: =IF(O8="","",VLOOKUP(O8,$AW$5:$BG$24,4,0)) | O8: =IF('Equipes et choix des points'!A5="","",VLOOKUP('Matchs et classements'!AQ8,'Matchs et classements'!$AR$5:$AW$24,6,0)) | P8: =IF(O8="","",VLOOKUP(O8,$AW$5:$BG$24,5,0)) | Q8: =IF(O8="","",VLOOKUP(O8,$AW$5:$BG$24,6,0)) | R8: =IF(O8="","",VLOOKUP(O8,$AW$5:$BG$24,7,0)) | S8: =IF(O8="","",VLOOKUP(O8,$AW$5:$BG$24,8,0)) | T8: =IF(O8="","",VLOOKUP(O8,$AW$5:$BG$24,9,0)) | U8: =IF(O8="","",VLOOKUP(O8,$AW$5:$BG$24,10,0)) | V8: =IF(O8="","",VLOOKUP(O8,$AW$5:$BG$24,11,0)) | W8: =IF(Y8="","",IF(DO8=DO7,DP7,DP8)) | X8: =IF(Y8="","",VLOOKUP(Y8,$BH$5:$BR$24,4,0)) | Y8: =IF('Equipes et choix des points'!A5="","",VLOOKUP('Matchs et classements'!AS8,'Matchs et classements'!$AT$5:$BH$24,15,0)) | Z8: =IF(Y8="","",VLOOKUP(Y8,$BH$5:$BR$24,5,0)) | AA8: =IF(Y8="","",VLOOKUP(Y8,$BH$5:$BR$24,6,0)) | AB8: =IF(Y8="","",VLOOKUP(Y8,$BH$5:$BR$24,7,0)) | AC8: =IF(Y8="","",VLOOKUP(Y8,$BH$5:$BR$24,8,0)) | AD8: =IF(Y8="","",VLOOKUP(Y8,$BH$5:$BR$24,9,0)) | AE8: =IF(Y8="","",VLOOKUP(Y8,$BH$5:$BR$24,10,0)) | AF8: =IF(Y8="","",VLOOKUP(Y8,$BH$5:$BR$24,11,0)) | AG8: =IF(AI8="","",IF(DS8=DS7,DT7,DT8)) | AH8: =IF(AI8="","",VLOOKUP(AI8,$BS$5:$CC$24,4,0)) | AI8: =IF('Equipes et choix des points'!A5="","",VLOOKUP('Matchs et classements'!AU8,'Matchs et classements'!$AV$5:$BS$24,24,0)) | AJ8: =IF(AI8="","",VLOOKUP(AI8,$BS$5:$CC$24,5,0)) | AK8: =IF(AI8="","",VLOOKUP(AI8,$BS$5:$CC$24,6,0)) | AL8: =IF(AI8="","",VLOOKUP(AI8,$BS$5:$CC$24,7,0)) | AM8: =IF(AI8="","",VLOOKUP(AI8,$BS$5:$CC$24,8,0)) | AN8: =IF(AI8="","",VLOOKUP(AI8,$BS$5:$CC$24,9,0)) | AO8: =IF(AI8="","",VLOOKUP(AI8,$BS$5:$CC$24,10,0)) | AP8: =IF(AI8="","",VLOOKUP(AI8,$BS$5:$CC$24,11,0)) | AQ8: 4 | AR8: =AY8 | AS8: 4 | AT8: =BJ8 | AU8: 4 | AV8: =BU8 | AW8: =IF('Equipes et choix des points'!$A$5<>"",'Equipes et choix des points'!$A$5,"") | AX8: =IF('Equipes et choix des points'!A5="","",RANK(CD8,$CD$5:$CD$24)) | AY8: =IF(AW8="","",RANK(CE8,$CE$5:$CE$24)) | AZ8: =IF(AW8="","",SUMPRODUCT(($C$4:$C$383=AW8)*($CV$4:$CV$383))+SUMPRODUCT(($F$4:$F$383=AW8)*($CW$4:$CW$383))) | BA8: =IF(AW8="","",SUMPRODUCT(($C$4:$C$383=AW8)*($CX$4:$CX$383))+SUMPRODUCT(($F$4:$F$383=AW8)*($CY$4:$CY$383))) | BB8: =IF(AW8="","",SUMPRODUCT(($C$4:$C$383=AW8)*($CZ$4:$CZ$383))+SUMPRODUCT(($F$4:$F$383=AW8)*($DA$4:$DA$383))) | BC8: =IF(AW8="","",SUMPRODUCT(($C$4:$C$383=AW8)*($DB$4:$DB$383))+SUMPRODUCT(($F$4:$F$383=AW8)*($DC$4:$DC$383))) | BD8: =IF(AW8="","",SUMPRODUCT(($C$4:$C$383=AW8)*($DD$4:$DD$383))+SUMPRODUCT(($F$4:$F$383=AW8)*($DE$4:$DE$383))) | BE8: =IF(AW8="","",SUMPRODUCT(($C$4:$C$383=AW8)*($DF$4:$DF$383))+SUMPRODUCT(($F$4:$F$383=AW8)*($DG$4:$DG$383))) | BF8: =IF(AW8="","",SUMPRODUCT(($C$4:$C$383=AW8)*($DH$4:$DH$383))+SUMPRODUCT(($F$4:$F$383=AW8)*($DI$4:$DI$383))) | BG8: =IF(AW8="","",BE8-BF8) | BH8: =IF('Equipes et choix des points'!$A$5<>"",'Equipes et choix des points'!$A$5,"") | BI8: =IF(BH8="","",RANK(CF8,$CF$5:$CF$24)) | BJ8: =IF(BH8="","",RANK(CG8,$CG$5:$CG$24)) | BK8: =IF(BH8="","",SUMPRODUCT(($C$4:$C$383=BH8)*($CV$4:$CV$383))) | BL8: =IF(BH8="","",SUMPRODUCT(($C$4:$C$383=BH8)*($CX$4:$CX$383))) | BM8: =IF(BH8="","",SUMPRODUCT(($C$4:$C$383=BH8)*($CZ$4:$CZ$383))) | BN8: =IF(BH8="","",SUMPRODUCT(($C$4:$C$383=BH8)*($DB$4:$DB$383))) | BO8: =IF(BH8="","",SUMPRODUCT(($C$4:$C$383=BH8)*($DD$4:$DD$383))) | BP8: =IF(BH8="","",SUMPRODUCT(($C$4:$C$383=BH8)*($DF$4:$DF$383))) | BQ8: =IF(BH8="","",SUMPRODUCT(($C$4:$C$383=BH8)*($DH$4:$DH$383))) | BR8: =IF(BH8="","",BP8-BQ8) | BS8: =IF('Equipes et choix des points'!$A$5<>"",'Equipes et choix des points'!$A$5,"") | BT8: =IF(BS8="","",RANK(CH8,$CH$5:$CH$24)) | BU8: =IF(BS8="","",RANK(CI8,$CI$5:$CI$24)) | BV8: =IF(BS8="","",SUMPRODUCT(($F$4:$F$383=BS8)*($CW$4:$CW$383))) | BW8: =IF(BS8="","",SUMPRODUCT(($F$4:$F$383=BS8)*($CY$4:$CY$383))) | BX8: =IF(BS8="","",SUMPRODUCT(($F$4:$F$383=BS8)*($DA$4:$DA$383))) | BY8: =IF(BS8="","",SUMPRODUCT(($F$4:$F$383=BS8)*($DC$4:$DC$383))) | BZ8: =IF(BS8="","",SUMPRODUCT(($F$4:$F$383=BS8)*($DE$4:$DE$383))) | CA8: =IF(BS8="","",SUMPRODUCT(($F$4:$F$383=BS8)*($DG$4:$DG$383))) | CB8: =IF(BS8="","",SUMPRODUCT(($F$4:$F$383=BS8)*($DI$4:$DI$383))) | CC8: =IF(BS8="","",CA8-CB8) | CD8: =IFERROR(SUM(AZ8*1000+(BG8)/100+(BE8)/1000),"") | CE8: =IFERROR(SUM(CD8+0.0000017),"") | CF8: =IFERROR(SUM(BK8*1000+(BR8)/100+(BP8)/1000),"") | CG8: =IFERROR(SUM(CF8+0.0000017),"") | CH8: =IFERROR(SUM(BV8*1000+(CC8)/100+(CA8)/1000),"") | CI8: =IFERROR(SUM(CH8+0.0000017),"") | CJ8: =A8 -> 0 | CK8: =H8 -> 0 | CL8: =IF(B8="Forfait Perdant",3,"") | CM8: =IF(G8="Forfait Perdant",3,"") | CN8: =IF(B8="Forfait Gagnant",0,"") | CO8: =IF(G8="Forfait Gagnant",0,"") | CP8: =IF(D8="",0,IF(D8=E8,0,IF(D8<E8,0,IF('Equipes et choix des points'!$I$2=1,IF('Matchs et classements'!D8>'Matchs et classements'!E8,3),IF('Equipes et choix des points'!$I$2=2,IF('Matchs et classements'!D8>E8,4)))))) -> 0 | CQ8: =IF(E8="",0,IF(E8=D8,0,IF(E8<D8,0,IF('Equipes et choix des points'!$I$2=1,IF('Matchs et classements'!E8>'Matchs et classements'!D8,3),IF('Equipes et choix des points'!$I$2=2,IF('Matchs et classements'!E8>'Matchs et classements'!D8,4)))))) -> 0 | CR8: =IF(D8="",0,IF(D8>E8,0,IF(D8<E8,0,IF('Equipes et choix des points'!$I$2=1,IF('Matchs et classements'!D8='Matchs et classements'!E8,1),IF('Equipes et choix des points'!$I$2=2,IF('Matchs et classements'!D8='Matchs et classements'!E8,2)))))) -> 0 | CS8: =IF(E8="",0,IF(E8>D8,0,IF(E8<D8,0,IF('Equipes et choix des points'!$I$2=1,IF('Matchs et classements'!E8='Matchs et classements'!D8,1),IF('Equipes et choix des points'!$I$2=2,IF('Matchs et classements'!E8='Matchs et classements'!D8,2)))))) -> 0 | CT8: =IF(D8="",0,IF(D8>E8,0,IF(D8=E8,0,IF('Equipes et choix des points'!$I$2=1,IF('Matchs et classements'!D8<'Matchs et classements'!E8,0),IF('Equipes et choix des points'!$I$2=2,IF('Matchs et classements'!D8<'Matchs et classements'!E8,1)))))) -> 0 | CU8: =IF(E8="",0,IF(E8>D8,0,IF(E8=D8,0,IF('Equipes et choix des points'!$I$2=1,IF('Matchs et classements'!E8<'Matchs et classements'!D8,0),IF('Equipes et choix des points'!$I$2=2,IF('Matchs et classements'!E8<'Matchs et classements'!D8,1)))))) -> 0 | CV8: =SUM(CP8,CR8,CT8)-SUM(CJ8,CL8) -> 0 | CW8: =SUM(CO8,CQ8,CS8)-SUM(CK8,CM8) -> 0 | CX8: =IF(B8="Forfait perdant",0,IF(B8="Forfait Général",0,IF(D8="",0,1))) -> 0 | CY8: =IF(G8="Forfait Perdant",0,IF(G8="Forfait Général",0,IF(E8="",0,1))) -> 0 | CZ8: =IF(D8<>"",IF(D8>E8,1)) -> FALSE | DA8: =IF(E8<>"",IF(E8>D8,1)) -> FALSE | DB8: =IF(D8<>"",IF(D8=E8,1)) -> FALSE | DC8: =IF(E8<>"",IF(E8=D8,1)) -> FALSE | DD8: =IF(D8<>"",IF(D8<E8,1)) -> FALSE | DE8: =IF(E8<>"",IF(E8<D8,1)) -> FALSE | DF8: =D8 -> 0 | DG8: =E8 -> 0 | DH8: =E8 -> 0 | DI8: =D8 -> 0 | DJ8: =IF(AW8="","",VLOOKUP(AQ8,$AR$5:$AW$24,6,0)) | DK8: =IFERROR(VLOOKUP(DJ8,AW$5:CD27,34,0),"") | DL8: =IF(DJ8="","",RANK(DK8,DK5:DK24)) | DM8: =IF(AW8="","",AW8) | DN8: =IFERROR(VLOOKUP(AS8,$AT$5:$BH$24,15,0),"") | DO8: =IFERROR(VLOOKUP(DN8,$BH$5:$CF$24,25,0),"") | DP8: =IF(DN8="","",RANK(DO8,DO5:DO24)) | DQ8: =IF(BH8="","",BH8) | DR8: =IFERROR(VLOOKUP(AU8,$AV$5:$BS$24,24,0),"") | DS8: =IFERROR(VLOOKUP(DR8,$BS$5:$CH$24,16,0),"") | DT8: =IF(DR8="","",RANK(DS8,DS5:DS24))
M9: =IF(O9="","",IF(DK9=DK8,DL8,DL9)) | N9: =IF(O9="","",VLOOKUP(O9,$AW$5:$BG$24,4,0)) | O9: =IF('Equipes et choix des points'!A6="","",VLOOKUP('Matchs et classements'!AQ9,'Matchs et classements'!$AR$5:$AW$24,6,0)) | P9: =IF(O9="","",VLOOKUP(O9,$AW$5:$BG$24,5,0)) | Q9: =IF(O9="","",VLOOKUP(O9,$AW$5:$BG$24,6,0)) | R9: =IF(O9="","",VLOOKUP(O9,$AW$5:$BG$24,7,0)) | S9: =IF(O9="","",VLOOKUP(O9,$AW$5:$BG$24,8,0)) | T9: =IF(O9="","",VLOOKUP(O9,$AW$5:$BG$24,9,0)) | U9: =IF(O9="","",VLOOKUP(O9,$AW$5:$BG$24,10,0)) | V9: =IF(O9="","",VLOOKUP(O9,$AW$5:$BG$24,11,0)) | W9: =IF(Y9="","",IF(DO9=DO8,DP8,DP9)) | X9: =IF(Y9="","",VLOOKUP(Y9,$BH$5:$BR$24,4,0)) | Y9: =IF('Equipes et choix des points'!A6="","",VLOOKUP('Matchs et classements'!AS9,'Matchs et classements'!$AT$5:$BH$24,15,0)) | Z9: =IF(Y9="","",VLOOKUP(Y9,$BH$5:$BR$24,5,0)) | AA9: =IF(Y9="","",VLOOKUP(Y9,$BH$5:$BR$24,6,0)) | AB9: =IF(Y9="","",VLOOKUP(Y9,$BH$5:$BR$24,7,0)) | AC9: =IF(Y9="","",VLOOKUP(Y9,$BH$5:$BR$24,8,0)) | AD9: =IF(Y9="","",VLOOKUP(Y9,$BH$5:$BR$24,9,0)) | AE9: =IF(Y9="","",VLOOKUP(Y9,$BH$5:$BR$24,10,0)) | AF9: =IF(Y9="","",VLOOKUP(Y9,$BH$5:$BR$24,11,0)) | AG9: =IF(AI9="","",IF(DS9=DS8,DT8,DT9)) | AH9: =IF(AI9="","",VLOOKUP(AI9,$BS$5:$CC$24,4,0)) | AI9: =IF('Equipes et choix des points'!A6="","",VLOOKUP('Matchs et classements'!AU9,'Matchs et classements'!$AV$5:$BS$24,24,0)) | AJ9: =IF(AI9="","",VLOOKUP(AI9,$BS$5:$CC$24,5,0)) | AK9: =IF(AI9="","",VLOOKUP(AI9,$BS$5:$CC$24,6,0)) | AL9: =IF(AI9="","",VLOOKUP(AI9,$BS$5:$CC$24,7,0)) | AM9: =IF(AI9="","",VLOOKUP(AI9,$BS$5:$CC$24,8,0)) | AN9: =IF(AI9="","",VLOOKUP(AI9,$BS$5:$CC$24,9,0)) | AO9: =IF(AI9="","",VLOOKUP(AI9,$BS$5:$CC$24,10,0)) | AP9: =IF(AI9="","",VLOOKUP(AI9,$BS$5:$CC$24,11,0)) | AQ9: 5 | AR9: =AY9 | AS9: 5 | AT9: =BJ9 | AU9: 5 | AV9: =BU9 | AW9: =IF('Equipes et choix des points'!$A$6<>"",'Equipes et choix des points'!$A$6,"") | AX9: =IF('Equipes et choix des points'!A6="","",RANK(CD9,$CD$5:$CD$24)) | AY9: =IF(AW9="","",RANK(CE9,$CE$5:$CE$24)) | AZ9: =IF(AW9="","",SUMPRODUCT(($C$4:$C$383=AW9)*($CV$4:$CV$383))+SUMPRODUCT(($F$4:$F$383=AW9)*($CW$4:$CW$383))) | BA9: =IF(AW9="","",SUMPRODUCT(($C$4:$C$383=AW9)*($CX$4:$CX$383))+SUMPRODUCT(($F$4:$F$383=AW9)*($CY$4:$CY$383))) | BB9: =IF(AW9="","",SUMPRODUCT(($C$4:$C$383=AW9)*($CZ$4:$CZ$383))+SUMPRODUCT(($F$4:$F$383=AW9)*($DA$4:$DA$383))) | BC9: =IF(AW9="","",SUMPRODUCT(($C$4:$C$383=AW9)*($DB$4:$DB$383))+SUMPRODUCT(($F$4:$F$383=AW9)*($DC$4:$DC$383))) | BD9: =IF(AW9="","",SUMPRODUCT(($C$4:$C$383=AW9)*($DD$4:$DD$383))+SUMPRODUCT(($F$4:$F$383=AW9)*($DE$4:$DE$383))) | BE9: =IF(AW9="","",SUMPRODUCT(($C$4:$C$383=AW9)*($DF$4:$DF$383))+SUMPRODUCT(($F$4:$F$383=AW9)*($DG$4:$DG$383))) | BF9: =IF(AW9="","",SUMPRODUCT(($C$4:$C$383=AW9)*($DH$4:$DH$383))+SUMPRODUCT(($F$4:$F$383=AW9)*($DI$4:$DI$383))) | BG9: =IF(AW9="","",BE9-BF9) | BH9: =IF('Equipes et choix des points'!$A$6<>"",'Equipes et choix des points'!$A$6,"") | BI9: =IF(BH9="","",RANK(CF9,$CF$5:$CF$24)) | BJ9: =IF(BH9="","",RANK(CG9,$CG$5:$CG$24)) | BK9: =IF(BH9="","",SUMPRODUCT(($C$4:$C$383=BH9)*($CV$4:$CV$383))) | BL9: =IF(BH9="","",SUMPRODUCT(($C$4:$C$383=BH9)*($CX$4:$CX$383))) | BM9: =IF(BH9="","",SUMPRODUCT(($C$4:$C$383=BH9)*($CZ$4:$CZ$383))) | BN9: =IF(BH9="","",SUMPRODUCT(($C$4:$C$383=BH9)*($DB$4:$DB$383))) | BO9: =IF(BH9="","",SUMPRODUCT(($C$4:$C$383=BH9)*($DD$4:$DD$383))) | BP9: =IF(BH9="","",SUMPRODUCT(($C$4:$C$383=BH9)*($DF$4:$DF$383))) | BQ9: =IF(BH9="","",SUMPRODUCT(($C$4:$C$383=BH9)*($DH$4:$DH$383))) | BR9: =IF(BH9="","",BP9-BQ9) | BS9: =IF('Equipes et choix des points'!$A$6<>"",'Equipes et choix des points'!$A$6,"") | BT9: =IF(BS9="","",RANK(CH9,$CH$5:$CH$24)) | BU9: =IF(BS9="","",RANK(CI9,$CI$5:$CI$24)) | BV9: =IF(BS9="","",SUMPRODUCT(($F$4:$F$383=BS9)*($CW$4:$CW$383))) | BW9: =IF(BS9="","",SUMPRODUCT(($F$4:$F$383=BS9)*($CY$4:$CY$383))) | BX9: =IF(BS9="","",SUMPRODUCT(($F$4:$F$383=BS9)*($DA$4:$DA$383))) | BY9: =IF(BS9="","",SUMPRODUCT(($F$4:$F$383=BS9)*($DC$4:$DC$383))) | BZ9: =IF(BS9="","",SUMPRODUCT(($F$4:$F$383=BS9)*($DE$4:$DE$383))) | CA9: =IF(BS9="","",SUMPRODUCT(($F$4:$F$383=BS9)*($DG$4:$DG$383))) | CB9: =IF(BS9="","",SUMPRODUCT(($F$4:$F$383=BS9)*($DI$4:$DI$383))) | CC9: =IF(BS9="","",CA9-CB9) | CD9: =IFERROR(SUM(AZ9*1000+(BG9)/100+(BE9)/1000),"") | CE9: =IFERROR(SUM(CD9+0.0000016),"") | CF9: =IFERROR(SUM(BK9*1000+(BR9)/100+(BP9)/1000),"") | CG9: =IFERROR(SUM(CF9+0.0000016),"") | CH9: =IFERROR(SUM(BV9*1000+(CC9)/100+(CA9)/1000),"") | CI9: =IFERROR(SUM(CH9+0.0000016),"") | CJ9: =A9 -> 0 | CK9: =H9 -> 0 | CL9: =IF(B9="Forfait Perdant",3,"") | CM9: =IF(G9="Forfait Perdant",3,"") | CN9: =IF(B9="Forfait Gagnant",0,"") | CO9: =IF(G9="Forfait Gagnant",0,"") | CP9: =IF(D9="",0,IF(D9=E9,0,IF(D9<E9,0,IF('Equipes et choix des points'!$I$2=1,IF('Matchs et classements'!D9>'Matchs et classements'!E9,3),IF('Equipes et choix des points'!$I$2=2,IF('Matchs et classements'!D9>E9,4)))))) -> 0 | CQ9: =IF(E9="",0,IF(E9=D9,0,IF(E9<D9,0,IF('Equipes et choix des points'!$I$2=1,IF('Matchs et classements'!E9>'Matchs et classements'!D9,3),IF('Equipes et choix des points'!$I$2=2,IF('Matchs et classements'!E9>'Matchs et classements'!D9,4)))))) -> 0 | CR9: =IF(D9="",0,IF(D9>E9,0,IF(D9<E9,0,IF('Equipes et choix des points'!$I$2=1,IF('Matchs et classements'!D9='Matchs et classements'!E9,1),IF('Equipes et choix des points'!$I$2=2,IF('Matchs et classements'!D9='Matchs et classements'!E9,2)))))) -> 0 | CS9: =IF(E9="",0,IF(E9>D9,0,IF(E9<D9,0,IF('Equipes et choix des points'!$I$2=1,IF('Matchs et classements'!E9='Matchs et classements'!D9,1),IF('Equipes et choix des points'!$I$2=2,IF('Matchs et classements'!E9='Matchs et classements'!D9,2)))))) -> 0 | CT9: =IF(D9="",0,IF(D9>E9,0,IF(D9=E9,0,IF('Equipes et choix des points'!$I$2=1,IF('Matchs et classements'!D9<'Matchs et classements'!E9,0),IF('Equipes et choix des points'!$I$2=2,IF('Matchs et classements'!D9<'Matchs et classements'!E9,1)))))) -> 0 | CU9: =IF(E9="",0,IF(E9>D9,0,IF(E9=D9,0,IF('Equipes et choix des points'!$I$2=1,IF('Matchs et classements'!E9<'Matchs et classements'!D9,0),IF('Equipes et choix des points'!$I$2=2,IF('Matchs et classements'!E9<'Matchs et classements'!D9,1)))))) -> 0 | CV9: =SUM(CP9,CR9,CT9)-SUM(CJ9,CL9) -> 0 | CW9: =SUM(CO9,CQ9,CS9)-SUM(CK9,CM9) -> 0 | CX9: =IF(B9="Forfait perdant",0,IF(B9="Forfait Général",0,IF(D9="",0,1))) -> 0 | CY9: =IF(G9="Forfait Perdant",0,IF(G9="Forfait Général",0,IF(E9="",0,1))) -> 0 | CZ9: =IF(D9<>"",IF(D9>E9,1)) -> FALSE | DA9: =IF(E9<>"",IF(E9>D9,1)) -> FALSE | DB9: =IF(D9<>"",IF(D9=E9,1)) -> FALSE | DC9: =IF(E9<>"",IF(E9=D9,1)) -> FALSE | DD9: =IF(D9<>"",IF(D9<E9,1)) -> FALSE | DE9: =IF(E9<>"",IF(E9<D9,1)) -> FALSE | DF9: =D9 -> 0 | DG9: =E9 -> 0 | DH9: =E9 -> 0 | DI9: =D9 -> 0 | DJ9: =IF(AW9="","",VLOOKUP(AQ9,$AR$5:$AW$24,6,0)) | DK9: =IFERROR(VLOOKUP(DJ9,AW$5:CD28,34,0),"") | DL9: =IF(DJ9="","",RANK(DK9,DK5:DK24)) | DM9: =IF(AW9="","",AW9) | DN9: =IFERROR(VLOOKUP(AS9,$AT$5:$BH$24,15,0),"") | DO9: =IFERROR(VLOOKUP(DN9,$BH$5:$CF$24,25,0),"") | DP9: =IF(DN9="","",RANK(DO9,DO5:DO24)) | DQ9: =IF(BH9="","",BH9) | DR9: =IFERROR(VLOOKUP(AU9,$AV$5:$BS$24,24,0),"") | DS9: =IFERROR(VLOOKUP(DR9,$BS$5:$CH$24,16,0),"") | DT9: =IF(DR9="","",RANK(DS9,DS5:DS24))
M10: =IF(O10="","",IF(DK10=DK9,DL9,DL10)) | N10: =IF(O10="","",VLOOKUP(O10,$AW$5:$BG$24,4,0)) | O10: =IF('Equipes et choix des points'!A7="","",VLOOKUP('Matchs et classements'!AQ10,'Matchs et classements'!$AR$5:$AW$24,6,0)) | P10: =IF(O10="","",VLOOKUP(O10,$AW$5:$BG$24,5,0)) | Q10: =IF(O10="","",VLOOKUP(O10,$AW$5:$BG$24,6,0)) | R10: =IF(O10="","",VLOOKUP(O10,$AW$5:$BG$24,7,0)) | S10: =IF(O10="","",VLOOKUP(O10,$AW$5:$BG$24,8,0)) | T10: =IF(O10="","",VLOOKUP(O10,$AW$5:$BG$24,9,0)) | U10: =IF(O10="","",VLOOKUP(O10,$AW$5:$BG$24,10,0)) | V10: =IF(O10="","",VLOOKUP(O10,$AW$5:$BG$24,11,0)) | W10: =IF(Y10="","",IF(DO10=DO9,DP9,DP10)) | X10: =IF(Y10="","",VLOOKUP(Y10,$BH$5:$BR$24,4,0)) | Y10: =IF('Equipes et choix des points'!A7="","",VLOOKUP('Matchs et classements'!AS10,'Matchs et classements'!$AT$5:$BH$24,15,0)) | Z10: =IF(Y10="","",VLOOKUP(Y10,$BH$5:$BR$24,5,0)) | AA10: =IF(Y10="","",VLOOKUP(Y10,$BH$5:$BR$24,6,0)) | AB10: =IF(Y10="","",VLOOKUP(Y10,$BH$5:$BR$24,7,0)) | AC10: =IF(Y10="","",VLOOKUP(Y10,$BH$5:$BR$24,8,0)) | AD10: =IF(Y10="","",VLOOKUP(Y10,$BH$5:$BR$24,9,0)) | AE10: =IF(Y10="","",VLOOKUP(Y10,$BH$5:$BR$24,10,0)) | AF10: =IF(Y10="","",VLOOKUP(Y10,$BH$5:$BR$24,11,0)) | AG10: =IF(AI10="","",IF(DS10=DS9,DT9,DT10)) | AH10: =IF(AI10="","",VLOOKUP(AI10,$BS$5:$CC$24,4,0)) | AI10: =IF('Equipes et choix des points'!A7="","",VLOOKUP('Matchs et classements'!AU10,'Matchs et classements'!$AV$5:$BS$24,24,0)) | AJ10: =IF(AI10="","",VLOOKUP(AI10,$BS$5:$CC$24,5,0)) | AK10: =IF(AI10="","",VLOOKUP(AI10,$BS$5:$CC$24,6,0)) | AL10: =IF(AI10="","",VLOOKUP(AI10,$BS$5:$CC$24,7,0)) | AM10: =IF(AI10="","",VLOOKUP(AI10,$BS$5:$CC$24,8,0)) | AN10: =IF(AI10="","",VLOOKUP(AI10,$BS$5:$CC$24,9,0)) | AO10: =IF(AI10="","",VLOOKUP(AI10,$BS$5:$CC$24,10,0)) | AP10: =IF(AI10="","",VLOOKUP(AI10,$BS$5:$CC$24,11,0)) | AQ10: 6 | AR10: =AY10 | AS10: 6 | AT10: =BJ10 | AU10: 6 | AV10: =BU10 | AW10: =IF('Equipes et choix des points'!$A$7<>"",'Equipes et choix des points'!$A$7,"") | AX10: =IF('Equipes et choix des points'!A7="","",RANK(CD10,$CD$5:$CD$24)) | AY10: =IF(AW10="","",RANK(CE10,$CE$5:$CE$24)) | AZ10: =IF(AW10="","",SUMPRODUCT(($C$4:$C$383=AW10)*($CV$4:$CV$383))+SUMPRODUCT(($F$4:$F$383=AW10)*($CW$4:$CW$383))) | BA10: =IF(AW10="","",SUMPRODUCT(($C$4:$C$383=AW10)*($CX$4:$CX$383))+SUMPRODUCT(($F$4:$F$383=AW10)*($CY$4:$CY$383))) | BB10: =IF(AW10="","",SUMPRODUCT(($C$4:$C$383=AW10)*($CZ$4:$CZ$383))+SUMPRODUCT(($F$4:$F$383=AW10)*($DA$4:$DA$383))) | BC10: =IF(AW10="","",SUMPRODUCT(($C$4:$C$383=AW10)*($DB$4:$DB$383))+SUMPRODUCT(($F$4:$F$383=AW10)*($DC$4:$DC$383))) | BD10: =IF(AW10="","",SUMPRODUCT(($C$4:$C$383=AW10)*($DD$4:$DD$383))+SUMPRODUCT(($F$4:$F$383=AW10)*($DE$4:$DE$383))) | BE10: =IF(AW10="","",SUMPRODUCT(($C$4:$C$383=AW10)*($DF$4:$DF$383))+SUMPRODUCT(($F$4:$F$383=AW10)*($DG$4:$DG$383))) | BF10: =IF(AW10="","",SUMPRODUCT(($C$4:$C$383=AW10)*($DH$4:$DH$383))+SUMPRODUCT(($F$4:$F$383=AW10)*($DI$4:$DI$383))) | BG10: =IF(AW10="","",BE10-BF10) | BH10: =IF('Equipes et choix des points'!$A$7<>"",'Equipes et choix des points'!$A$7,"") | BI10: =IF(BH10="","",RANK(CF10,$CF$5:$CF$24)) | BJ10: =IF(BH10="","",RANK(CG10,$CG$5:$CG$24)) | BK10: =IF(BH10="","",SUMPRODUCT(($C$4:$C$383=BH10)*($CV$4:$CV$383))) | BL10: =IF(BH10="","",SUMPRODUCT(($C$4:$C$383=BH10)*($CX$4:$CX$383))) | BM10: =IF(BH10="","",SUMPRODUCT(($C$4:$C$383=BH10)*($CZ$4:$CZ$383))) | BN10: =IF(BH10="","",SUMPRODUCT(($C$4:$C$383=BH10)*($DB$4:$DB$383))) | BO10: =IF(BH10="","",SUMPRODUCT(($C$4:$C$383=BH10)*($DD$4:$DD$383))) | BP10: =IF(BH10="","",SUMPRODUCT(($C$4:$C$383=BH10)*($DF$4:$DF$383))) | BQ10: =IF(BH10="","",SUMPRODUCT(($C$4:$C$383=BH10)*($DH$4:$DH$383))) | BR10: =IF(BH10="","",BP10-BQ10) | BS10: =IF('Equipes et choix des points'!$A$7<>"",'Equipes et choix des points'!$A$7,"") | BT10: =IF(BS10="","",RANK(CH10,$CH$5:$CH$24)) | BU10: =IF(BS10="","",RANK(CI10,$CI$5:$CI$24)) | BV10: =IF(BS10="","",SUMPRODUCT(($F$4:$F$383=BS10)*($CW$4:$CW$383))) | BW10: =IF(BS10="","",SUMPRODUCT(($F$4:$F$383=BS10)*($CY$4:$CY$383))) | BX10: =IF(BS10="","",SUMPRODUCT(($F$4:$F$383=BS10)*($DA$4:$DA$383))) | BY10: =IF(BS10="","",SUMPRODUCT(($F$4:$F$383=BS10)*($DC$4:$DC$383))) | BZ10: =IF(BS10="","",SUMPRODUCT(($F$4:$F$383=BS10)*($DE$4:$DE$383))) | CA10: =IF(BS10="","",SUMPRODUCT(($F$4:$F$383=BS10)*($DG$4:$DG$383))) | CB10: =IF(BS10="","",SUMPRODUCT(($F$4:$F$383=BS10)*($DI$4:$DI$383))) | CC10: =IF(BS10="","",CA10-CB10) | CD10: =IFERROR(SUM(AZ10*1000+(BG10)/100+(BE10)/1000),"") | CE10: =IFERROR(SUM(CD10+0.0000015),"") | CF10: =IFERROR(SUM(BK10*1000+(BR10)/100+(BP10)/1000),"") | CG10: =IFERROR(SUM(CF10+0.0000015),"") | CH10: =IFERROR(SUM(BV10*1000+(CC10)/100+(CA10)/1000),"") | CI10: =IFERROR(SUM(CH10+0.0000015),"") | CJ10: =A10 -> 0 | CK10: =H10 -> 0 | CL10: =IF(B10="Forfait Perdant",3,"") | CM10: =IF(G10="Forfait Perdant",3,"") | CN10: =IF(B10="Forfait Gagnant",0,"") | CO10: =IF(G10="Forfait Gagnant",0,"") | CP10: =IF(D10="",0,IF(D10=E10,0,IF(D10<E10,0,IF('Equipes et choix des points'!$I$2=1,IF('Matchs et classements'!D10>'Matchs et classements'!E10,3),IF('Equipes et choix des points'!$I$2=2,IF('Matchs et classements'!D10>E10,4)))))) -> 0 | CQ10: =IF(E10="",0,IF(E10=D10,0,IF(E10<D10,0,IF('Equipes et choix des points'!$I$2=1,IF('Matchs et classements'!E10>'Matchs et classements'!D10,3),IF('Equipes et choix des points'!$I$2=2,IF('Matchs et classements'!E10>'Matchs et classements'!D10,4)))))) -> 0 | CR10: =IF(D10="",0,IF(D10>E10,0,IF(D10<E10,0,IF('Equipes et choix des points'!$I$2=1,IF('Matchs et classements'!D10='Matchs et classements'!E10,1),IF('Equipes et choix des points'!$I$2=2,IF('Matchs et classements'!D10='Matchs et classements'!E10,2)))))) -> 0 | CS10: =IF(E10="",0,IF(E10>D10,0,IF(E10<D10,0,IF('Equipes et choix des points'!$I$2=1,IF('Matchs et classements'!E10='Matchs et classements'!D10,1),IF('Equipes et choix des points'!$I$2=2,IF('Matchs et classements'!E10='Matchs et classements'!D10,2)))))) -> 0 | CT10: =IF(D10="",0,IF(D10>E10,0,IF(D10=E10,0,IF('Equipes et choix des points'!$I$2=1,IF('Matchs et classements'!D10<'Matchs et classements'!E10,0),IF('Equipes et choix des points'!$I$2=2,IF('Matchs et classements'!D10<'Matchs et classements'!E10,1)))))) -> 0 | CU10: =IF(E10="",0,IF(E10>D10,0,IF(E10=D10,0,IF('Equipes et choix des points'!$I$2=1,IF('Matchs et classements'!E10<'Matchs et classements'!D10,0),IF('Equipes et choix des points'!$I$2=2,IF('Matchs et classements'!E10<'Matchs et classements'!D10,1)))))) -> 0 | CV10: =SUM(CP10,CR10,CT10)-SUM(CJ10,CL10) -> 0 | CW10: =SUM(CO10,CQ10,CS10)-SUM(CK10,CM10) -> 0 | CX10: =IF(B10="Forfait perdant",0,IF(B10="Forfait Général",0,IF(D10="",0,1))) -> 0 | CY10: =IF(G10="Forfait Perdant",0,IF(G10="Forfait Général",0,IF(E10="",0,1))) -> 0 | CZ10: =IF(D10<>"",IF(D10>E10,1)) -> FALSE | DA10: =IF(E10<>"",IF(E10>D10,1)) -> FALSE | DB10: =IF(D10<>"",IF(D10=E10,1)) -> FALSE | DC10: =IF(E10<>"",IF(E10=D10,1)) -> FALSE | DD10: =IF(D10<>"",IF(D10<E10,1)) -> FALSE | DE10: =IF(E10<>"",IF(E10<D10,1)) -> FALSE | DF10: =D10 -> 0 | DG10: =E10 -> 0 | DH10: =E10 -> 0 | DI10: =D10 -> 0 | DJ10: =IF(AW10="","",VLOOKUP(AQ10,$AR$5:$AW$24,6,0)) | DK10: =IFERROR(VLOOKUP(DJ10,AW$5:CD29,34,0),"") | DL10: =IF(DJ10="","",RANK(DK10,DK5:DK24)) | DM10: =IF(AW10="","",AW10) | DN10: =IFERROR(VLOOKUP(AS10,$AT$5:$BH$24,15,0),"") | DO10: =IFERROR(VLOOKUP(DN10,$BH$5:$CF$24,25,0),"") | DP10: =IF(DN10="","",RANK(DO10,DO5:DO24)) | DQ10: =IF(BH10="","",BH10) | DR10: =IFERROR(VLOOKUP(AU10,$AV$5:$BS$24,24,0),"") | DS10: =IFERROR(VLOOKUP(DR10,$BS$5:$CH$24,16,0),"") | DT10: =IF(DR10="","",RANK(DS10,DS5:DS24))
M11: =IF(O11="","",IF(DK11=DK10,DL10,DL11)) | N11: =IF(O11="","",VLOOKUP(O11,$AW$5:$BG$24,4,0)) | O11: =IF('Equipes et choix des points'!A8="","",VLOOKUP('Matchs et classements'!AQ11,'Matchs et classements'!$AR$5:$AW$24,6,0)) | P11: =IF(O11="","",VLOOKUP(O11,$AW$5:$BG$24,5,0)) | Q11: =IF(O11="","",VLOOKUP(O11,$AW$5:$BG$24,6,0)) | R11: =IF(O11="","",VLOOKUP(O11,$AW$5:$BG$24,7,0)) | S11: =IF(O11="","",VLOOKUP(O11,$AW$5:$BG$24,8,0)) | T11: =IF(O11="","",VLOOKUP(O11,$AW$5:$BG$24,9,0)) | U11: =IF(O11="","",VLOOKUP(O11,$AW$5:$BG$24,10,0)) | V11: =IF(O11="","",VLOOKUP(O11,$AW$5:$BG$24,11,0)) | W11: =IF(Y11="","",IF(DO11=DO10,DP10,DP11)) | X11: =IF(Y11="","",VLOOKUP(Y11,$BH$5:$BR$24,4,0)) | Y11: =IF('Equipes et choix des points'!A8="","",VLOOKUP('Matchs et classements'!AS11,'Matchs et classements'!$AT$5:$BH$24,15,0)) | Z11: =IF(Y11="","",VLOOKUP(Y11,$BH$5:$BR$24,5,0)) | AA11: =IF(Y11="","",VLOOKUP(Y11,$BH$5:$BR$24,6,0)) | AB11: =IF(Y11="","",VLOOKUP(Y11,$BH$5:$BR$24,7,0)) | AC11: =IF(Y11="","",VLOOKUP(Y11,$BH$5:$BR$24,8,0)) | AD11: =IF(Y11="","",VLOOKUP(Y11,$BH$5:$BR$24,9,0)) | AE11: =IF(Y11="","",VLOOKUP(Y11,$BH$5:$BR$24,10,0)) | AF11: =IF(Y11="","",VLOOKUP(Y11,$BH$5:$BR$24,11,0)) | AG11: =IF(AI11="","",IF(DS11=DS10,DT10,DT11)) | AH11: =IF(AI11="","",VLOOKUP(AI11,$BS$5:$CC$24,4,0)) | AI11: =IF('Equipes et choix des points'!A8="","",VLOOKUP('Matchs et classements'!AU11,'Matchs et classements'!$AV$5:$BS$24,24,0)) | AJ11: =IF(AI11="","",VLOOKUP(AI11,$BS$5:$CC$24,5,0)) | AK11: =IF(AI11="","",VLOOKUP(AI11,$BS$5:$CC$24,6,0)) | AL11: =IF(AI11="","",VLOOKUP(AI11,$BS$5:$CC$24,7,0)) | AM11: =IF(AI11="","",VLOOKUP(AI11,$BS$5:$CC$24,8,0)) | AN11: =IF(AI11="","",VLOOKUP(AI11,$BS$5:$CC$24,9,0)) | AO11: =IF(AI11="","",VLOOKUP(AI11,$BS$5:$CC$24,10,0)) | AP11: =IF(AI11="","",VLOOKUP(AI11,$BS$5:$CC$24,11,0)) | AQ11: 7 | AR11: =AY11 | AS11: 7 | AT11: =BJ11 | AU11: 7 | AV11: =BU11 | AW11: =IF('Equipes et choix des points'!$A$8<>"",'Equipes et choix des points'!$A$8,"") | AX11: =IF('Equipes et choix des points'!A8="","",RANK(CD11,$CD$5:$CD$24)) | AY11: =IF(AW11="","",RANK(CE11,$CE$5:$CE$24)) | AZ11: =IF(AW11="","",SUMPRODUCT(($C$4:$C$383=AW11)*($CV$4:$CV$383))+SUMPRODUCT(($F$4:$F$383=AW11)*($CW$4:$CW$383))) | BA11: =IF(AW11="","",SUMPRODUCT(($C$4:$C$383=AW11)*($CX$4:$CX$383))+SUMPRODUCT(($F$4:$F$383=AW11)*($CY$4:$CY$383))) | BB11: =IF(AW11="","",SUMPRODUCT(($C$4:$C$383=AW11)*($CZ$4:$CZ$383))+SUMPRODUCT(($F$4:$F$383=AW11)*($DA$4:$DA$383))) | BC11: =IF(AW11="","",SUMPRODUCT(($C$4:$C$383=AW11)*($DB$4:$DB$383))+SUMPRODUCT(($F$4:$F$383=AW11)*($DC$4:$DC$383))) | BD11: =IF(AW11="","",SUMPRODUCT(($C$4:$C$383=AW11)*($DD$4:$DD$383))+SUMPRODUCT(($F$4:$F$383=AW11)*($DE$4:$DE$383))) | BE11: =IF(AW11="","",SUMPRODUCT(($C$4:$C$383=AW11)*($DF$4:$DF$383))+SUMPRODUCT(($F$4:$F$383=AW11)*($DG$4:$DG$383))) | BF11: =IF(AW11="","",SUMPRODUCT(($C$4:$C$383=AW11)*($DH$4:$DH$383))+SUMPRODUCT(($F$4:$F$383=AW11)*($DI$4:$DI$383))) | BG11: =IF(AW11="","",BE11-BF11) | BH11: =IF('Equipes et choix des points'!$A$8<>"",'Equipes et choix des points'!$A$8,"") | BI11: =IF(BH11="","",RANK(CF11,$CF$5:$CF$24)) | BJ11: =IF(BH11="","",RANK(CG11,$CG$5:$CG$24)) | BK11: =IF(BH11="","",SUMPRODUCT(($C$4:$C$383=BH11)*($CV$4:$CV$383))) | BL11: =IF(BH11="","",SUMPRODUCT(($C$4:$C$383=BH11)*($CX$4:$CX$383))) | BM11: =IF(BH11="","",SUMPRODUCT(($C$4:$C$383=BH11)*($CZ$4:$CZ$383))) | BN11: =IF(BH11="","",SUMPRODUCT(($C$4:$C$383=BH11)*($DB$4:$DB$383))) | BO11: =IF(BH11="","",SUMPRODUCT(($C$4:$C$383=BH11)*($DD$4:$DD$383))) | BP11: =IF(BH11="","",SUMPRODUCT(($C$4:$C$383=BH11)*($DF$4:$DF$383))) | BQ11: =IF(BH11="","",SUMPRODUCT(($C$4:$C$383=BH11)*($DH$4:$DH$383))) | BR11: =IF(BH11="","",BP11-BQ11) | BS11: =IF('Equipes et choix des points'!$A$8<>"",'Equipes et choix des points'!$A$8,"") | BT11: =IF(BS11="","",RANK(CH11,$CH$5:$CH$24)) | BU11: =IF(BS11="","",RANK(CI11,$CI$5:$CI$24)) | BV11: =IF(BS11="","",SUMPRODUCT(($F$4:$F$383=BS11)*($CW$4:$CW$383))) | BW11: =IF(BS11="","",SUMPRODUCT(($F$4:$F$383=BS11)*($CY$4:$CY$383))) | BX11: =IF(BS11="","",SUMPRODUCT(($F$4:$F$383=BS11)*($DA$4:$DA$383))) | BY11: =IF(BS11="","",SUMPRODUCT(($F$4:$F$383=BS11)*($DC$4:$DC$383))) | BZ11: =IF(BS11="","",SUMPRODUCT(($F$4:$F$383=BS11)*($DE$4:$DE$383))) | CA11: =IF(BS11="","",SUMPRODUCT(($F$4:$F$383=BS11)*($DG$4:$DG$383))) | CB11: =IF(BS11="","",SUMPRODUCT(($F$4:$F$383=BS11)*($DI$4:$DI$383))) | CC11: =IF(BS11="","",CA11-CB11) | CD11: =IFERROR(SUM(AZ11*1000+(BG11)/100+(BE11)/1000),"") | CE11: =IFERROR(SUM(CD11+0.0000014),"") | CF11: =IFERROR(SUM(BK11*1000+(BR11)/100+(BP11)/1000),"") | CG11: =IFERROR(SUM(CF11+0.0000014),"") | CH11: =IFERROR(SUM(BV11*1000+(CC11)/100+(CA11)/1000),"") | CI11: =IFERROR(SUM(CH11+0.0000014),"") | CJ11: =A11 -> 0 | CK11: =H11 -> 0 | CL11: =IF(B11="Forfait Perdant",3,"") | CM11: =IF(G11="Forfait Perdant",3,"") | CN11: =IF(B11="Forfait Gagnant",0,"") | CO11: =IF(G11="Forfait Gagnant",0,"") | CP11: =IF(D11="",0,IF(D11=E11,0,IF(D11<E11,0,IF('Equipes et choix des points'!$I$2=1,IF('Matchs et classements'!D11>'Matchs et classements'!E11,3),IF('Equipes et choix des points'!$I$2=2,IF('Matchs et classements'!D11>E11,4)))))) -> 0 | CQ11: =IF(E11="",0,IF(E11=D11,0,IF(E11<D11,0,IF('Equipes et choix des points'!$I$2=1,IF('Matchs et classements'!E11>'Matchs et classements'!D11,3),IF('Equipes et choix des points'!$I$2=2,IF('Matchs et classements'!E11>'Matchs et classements'!D11,4)))))) -> 0 | CR11: =IF(D11="",0,IF(D11>E11,0,IF(D11<E11,0,IF('Equipes et choix des points'!$I$2=1,IF('Matchs et classements'!D11='Matchs et classements'!E11,1),IF('Equipes et choix des points'!$I$2=2,IF('Matchs et classements'!D11='Matchs et classements'!E11,2)))))) -> 0 | CS11: =IF(E11="",0,IF(E11>D11,0,IF(E11<D11,0,IF('Equipes et choix des points'!$I$2=1,IF('Matchs et classements'!E11='Matchs et classements'!D11,1),IF('Equipes et choix des points'!$I$2=2,IF('Matchs et classements'!E11='Matchs et classements'!D11,2)))))) -> 0 | CT11: =IF(D11="",0,IF(D11>E11,0,IF(D11=E11,0,IF('Equipes et choix des points'!$I$2=1,IF('Matchs et classements'!D11<'Matchs et classements'!E11,0),IF('Equipes et choix des points'!$I$2=2,IF('Matchs et classements'!D11<'Matchs et classements'!E11,1)))))) -> 0 | CU11: =IF(E11="",0,IF(E11>D11,0,IF(E11=D11,0,IF('Equipes et choix des points'!$I$2=1,IF('Matchs et classements'!E11<'Matchs et classements'!D11,0),IF('Equipes et choix des points'!$I$2=2,IF('Matchs et classements'!E11<'Matchs et classements'!D11,1)))))) -> 0 | CV11: =SUM(CP11,CR11,CT11)-SUM(CJ11,CL11) -> 0 | CW11: =SUM(CO11,CQ11,CS11)-SUM(CK11,CM11) -> 0 | CX11: =IF(B11="Forfait perdant",0,IF(B11="Forfait Général",0,IF(D11="",0,1))) -> 0 | CY11: =IF(G11="Forfait Perdant",0,IF(G11="Forfait Général",0,IF(E11="",0,1))) -> 0 | CZ11: =IF(D11<>"",IF(D11>E11,1)) -> FALSE | DA11: =IF(E11<>"",IF(E11>D11,1)) -> FALSE | DB11: =IF(D11<>"",IF(D11=E11,1)) -> FALSE | DC11: =IF(E11<>"",IF(E11=D11,1)) -> FALSE | DD11: =IF(D11<>"",IF(D11<E11,1)) -> FALSE | DE11: =IF(E11<>"",IF(E11<D11,1)) -> FALSE | DF11: =D11 -> 0 | DG11: =E11 -> 0 | DH11: =E11 -> 0 | DI11: =D11 -> 0 | DJ11: =IF(AW11="","",VLOOKUP(AQ11,$AR$5:$AW$24,6,0)) | DK11: =IFERROR(VLOOKUP(DJ11,AW$5:CD30,34,0),"") | DL11: =IF(DJ11="","",RANK(DK11,DK5:DK24)) | DM11: =IF(AW11="","",AW11) | DN11: =IFERROR(VLOOKUP(AS11,$AT$5:$BH$24,15,0),"") | DO11: =IFERROR(VLOOKUP(DN11,$BH$5:$CF$24,25,0),"") | DP11: =IF(DN11="","",RANK(DO11,DO5:DO24)) | DQ11: =IF(BH11="","",BH11) | DR11: =IFERROR(VLOOKUP(AU11,$AV$5:$BS$24,24,0),"") | DS11: =IFERROR(VLOOKUP(DR11,$BS$5:$CH$24,16,0),"") | DT11: =IF(DR11="","",RANK(DS11,DS5:DS24))
M12: =IF(O12="","",IF(DK12=DK11,DL11,DL12)) | N12: =IF(O12="","",VLOOKUP(O12,$AW$5:$BG$24,4,0)) | O12: =IF('Equipes et choix des points'!A9="","",VLOOKUP('Matchs et classements'!AQ12,'Matchs et classements'!$AR$5:$AW$24,6,0)) | P12: =IF(O12="","",VLOOKUP(O12,$AW$5:$BG$24,5,0)) | Q12: =IF(O12="","",VLOOKUP(O12,$AW$5:$BG$24,6,0)) | R12: =IF(O12="","",VLOOKUP(O12,$AW$5:$BG$24,7,0)) | S12: =IF(O12="","",VLOOKUP(O12,$AW$5:$BG$24,8,0)) | T12: =IF(O12="","",VLOOKUP(O12,$AW$5:$BG$24,9,0)) | U12: =IF(O12="","",VLOOKUP(O12,$AW$5:$BG$24,10,0)) | V12: =IF(O12="","",VLOOKUP(O12,$AW$5:$BG$24,11,0)) | W12: =IF(Y12="","",IF(DO12=DO11,DP11,DP12)) | X12: =IF(Y12="","",VLOOKUP(Y12,$BH$5:$BR$24,4,0)) | Y12: =IF('Equipes et choix des points'!A9="","",VLOOKUP('Matchs et classements'!AS12,'Matchs et classements'!$AT$5:$BH$24,15,0)) | Z12: =IF(Y12="","",VLOOKUP(Y12,$BH$5:$BR$24,5,0)) | AA12: =IF(Y12="","",VLOOKUP(Y12,$BH$5:$BR$24,6,0)) | AB12: =IF(Y12="","",VLOOKUP(Y12,$BH$5:$BR$24,7,0)) | AC12: =IF(Y12="","",VLOOKUP(Y12,$BH$5:$BR$24,8,0)) | AD12: =IF(Y12="","",VLOOKUP(Y12,$BH$5:$BR$24,9,0)) | AE12: =IF(Y12="","",VLOOKUP(Y12,$BH$5:$BR$24,10,0)) | AF12: =IF(Y12="","",VLOOKUP(Y12,$BH$5:$BR$24,11,0)) | AG12: =IF(AI12="","",IF(DS12=DS11,DT11,DT12)) | AH12: =IF(AI12="","",VLOOKUP(AI12,$BS$5:$CC$24,4,0)) | AI12: =IF('Equipes et choix des points'!A9="","",VLOOKUP('Matchs et classements'!AU12,'Matchs et classements'!$AV$5:$BS$24,24,0)) | AJ12: =IF(AI12="","",VLOOKUP(AI12,$BS$5:$CC$24,5,0)) | AK12: =IF(AI12="","",VLOOKUP(AI12,$BS$5:$CC$24,6,0)) | AL12: =IF(AI12="","",VLOOKUP(AI12,$BS$5:$CC$24,7,0)) | AM12: =IF(AI12="","",VLOOKUP(AI12,$BS$5:$CC$24,8,0)) | AN12: =IF(AI12="","",VLOOKUP(AI12,$BS$5:$CC$24,9,0)) | AO12: =IF(AI12="","",VLOOKUP(AI12,$BS$5:$CC$24,10,0)) | AP12: =IF(AI12="","",VLOOKUP(AI12,$BS$5:$CC$24,11,0)) | AQ12: 8 | AR12: =AY12 | AS12: 8 | AT12: =BJ12 | AU12: 8 | AV12: =BU12 | AW12: =IF('Equipes et choix des points'!$A$9<>"",'Equipes et choix des points'!$A$9,"") | AX12: =IF('Equipes et choix des points'!A9="","",RANK(CD12,$CD$5:$CD$24)) | AY12: =IF(AW12="","",RANK(CE12,$CE$5:$CE$24)) | AZ12: =IF(AW12="","",SUMPRODUCT(($C$4:$C$383=AW12)*($CV$4:$CV$383))+SUMPRODUCT(($F$4:$F$383=AW12)*($CW$4:$CW$383))) | BA12: =IF(AW12="","",SUMPRODUCT(($C$4:$C$383=AW12)*($CX$4:$CX$383))+SUMPRODUCT(($F$4:$F$383=AW12)*($CY$4:$CY$383))) | BB12: =IF(AW12="","",SUMPRODUCT(($C$4:$C$383=AW12)*($CZ$4:$CZ$383))+SUMPRODUCT(($F$4:$F$383=AW12)*($DA$4:$DA$383))) | BC12: =IF(AW12="","",SUMPRODUCT(($C$4:$C$383=AW12)*($DB$4:$DB$383))+SUMPRODUCT(($F$4:$F$383=AW12)*($DC$4:$DC$383))) | BD12: =IF(AW12="","",SUMPRODUCT(($C$4:$C$383=AW12)*($DD$4:$DD$383))+SUMPRODUCT(($F$4:$F$383=AW12)*($DE$4:$DE$383))) | BE12: =IF(AW12="","",SUMPRODUCT(($C$4:$C$383=AW12)*($DF$4:$DF$383))+SUMPRODUCT(($F$4:$F$383=AW12)*($DG$4:$DG$383))) | BF12: =IF(AW12="","",SUMPRODUCT(($C$4:$C$383=AW12)*($DH$4:$DH$383))+SUMPRODUCT(($F$4:$F$383=AW12)*($DI$4:$DI$383))) | BG12: =IF(AW12="","",BE12-BF12) | BH12: =IF('Equipes et choix des points'!$A$9<>"",'Equipes et choix des points'!$A$9,"") | BI12: =IF(BH12="","",RANK(CF12,$CF$5:$CF$24)) | BJ12: =IF(BH12="","",RANK(CG12,$CG$5:$CG$24)) | BK12: =IF(BH12="","",SUMPRODUCT(($C$4:$C$383=BH12)*($CV$4:$CV$383))) | BL12: =IF(BH12="","",SUMPRODUCT(($C$4:$C$383=BH12)*($CX$4:$CX$383))) | BM12: =IF(BH12="","",SUMPRODUCT(($C$4:$C$383=BH12)*($CZ$4:$CZ$383))) | BN12: =IF(BH12="","",SUMPRODUCT(($C$4:$C$383=BH12)*($DB$4:$DB$383))) | BO12: =IF(BH12="","",SUMPRODUCT(($C$4:$C$383=BH12)*($DD$4:$DD$383))) | BP12: =IF(BH12="","",SUMPRODUCT(($C$4:$C$383=BH12)*($DF$4:$DF$383))) | BQ12: =IF(BH12="","",SUMPRODUCT(($C$4:$C$383=BH12)*($DH$4:$DH$383))) | BR12: =IF(BH12="","",BP12-BQ12) | BS12: =IF('Equipes et choix des points'!$A$9<>"",'Equipes et choix des points'!$A$9,"") | BT12: =IF(BS12="","",RANK(CH12,$CH$5:$CH$24)) | BU12: =IF(BS12="","",RANK(CI12,$CI$5:$CI$24)) | BV12: =IF(BS12="","",SUMPRODUCT(($F$4:$F$383=BS12)*($CW$4:$CW$383))) | BW12: =IF(BS12="","",SUMPRODUCT(($F$4:$F$383=BS12)*($CY$4:$CY$383))) | BX12: =IF(BS12="","",SUMPRODUCT(($F$4:$F$383=BS12)*($DA$4:$DA$383))) | BY12: =IF(BS12="","",SUMPRODUCT(($F$4:$F$383=BS12)*($DC$4:$DC$383))) | BZ12: =IF(BS12="","",SUMPRODUCT(($F$4:$F$383=BS12)*($DE$4:$DE$383))) | CA12: =IF(BS12="","",SUMPRODUCT(($F$4:$F$383=BS12)*($DG$4:$DG$383))) | CB12: =IF(BS12="","",SUMPRODUCT(($F$4:$F$383=BS12)*($DI$4:$DI$383))) | CC12: =IF(BS12="","",CA12-CB12) | CD12: =IFERROR(SUM(AZ12*1000+(BG12)/100+(BE12)/1000),"") | CE12: =IFERROR(SUM(CD12+0.0000013),"") | CF12: =IFERROR(SUM(BK12*1000+(BR12)/100+(BP12)/1000),"") | CG12: =IFERROR(SUM(CF12+0.0000013),"") | CH12: =IFERROR(SUM(BV12*1000+(CC12)/100+(CA12)/1000),"") | CI12: =IFERROR(SUM(CH12+0.0000013),"") | CJ12: =A12 -> 0 | CK12: =H12 -> 0 | CL12: =IF(B12="Forfait Perdant",3,"") | CM12: =IF(G12="Forfait Perdant",3,"") | CN12: =IF(B12="Forfait Gagnant",0,"") | CO12: =IF(G12="Forfait Gagnant",0,"") | CP12: =IF(D12="",0,IF(D12=E12,0,IF(D12<E12,0,IF('Equipes et choix des points'!$I$2=1,IF('Matchs et classements'!D12>'Matchs et classements'!E12,3),IF('Equipes et choix des points'!$I$2=2,IF('Matchs et classements'!D12>E12,4)))))) -> 0 | CQ12: =IF(E12="",0,IF(E12=D12,0,IF(E12<D12,0,IF('Equipes et choix des points'!$I$2=1,IF('Matchs et classements'!E12>'Matchs et classements'!D12,3),IF('Equipes et choix des points'!$I$2=2,IF('Matchs et classements'!E12>'Matchs et classements'!D12,4)))))) -> 0 | CR12: =IF(D12="",0,IF(D12>E12,0,IF(D12<E12,0,IF('Equipes et choix des points'!$I$2=1,IF('Matchs et classements'!D12='Matchs et classements'!E12,1),IF('Equipes et choix des points'!$I$2=2,IF('Matchs et classements'!D12='Matchs et classements'!E12,2)))))) -> 0 | CS12: =IF(E12="",0,IF(E12>D12,0,IF(E12<D12,0,IF('Equipes et choix des points'!$I$2=1,IF('Matchs et classements'!E12='Matchs et classements'!D12,1),IF('Equipes et choix des points'!$I$2=2,IF('Matchs et classements'!E12='Matchs et classements'!D12,2)))))) -> 0 | CT12: =IF(D12="",0,IF(D12>E12,0,IF(D12=E12,0,IF('Equipes et choix des points'!$I$2=1,IF('Matchs et classements'!D12<'Matchs et classements'!E12,0),IF('Equipes et choix des points'!$I$2=2,IF('Matchs et classements'!D12<'Matchs et classements'!E12,1)))))) -> 0 | CU12: =IF(E12="",0,IF(E12>D12,0,IF(E12=D12,0,IF('Equipes et choix des points'!$I$2=1,IF('Matchs et classements'!E12<'Matchs et classements'!D12,0),IF('Equipes et choix des points'!$I$2=2,IF('Matchs et classements'!E12<'Matchs et classements'!D12,1)))))) -> 0 | CV12: =SUM(CP12,CR12,CT12)-SUM(CJ12,CL12) -> 0 | CW12: =SUM(CO12,CQ12,CS12)-SUM(CK12,CM12) -> 0 | CX12: =IF(B12="Forfait perdant",0,IF(B12="Forfait Général",0,IF(D12="",0,1))) -> 0 | CY12: =IF(G12="Forfait Perdant",0,IF(G12="Forfait Général",0,IF(E12="",0,1))) -> 0 | CZ12: =IF(D12<>"",IF(D12>E12,1)) -> FALSE | DA12: =IF(E12<>"",IF(E12>D12,1)) -> FALSE | DB12: =IF(D12<>"",IF(D12=E12,1)) -> FALSE | DC12: =IF(E12<>"",IF(E12=D12,1)) -> FALSE | DD12: =IF(D12<>"",IF(D12<E12,1)) -> FALSE | DE12: =IF(E12<>"",IF(E12<D12,1)) -> FALSE | DF12: =D12 -> 0 | DG12: =E12 -> 0 | DH12: =E12 -> 0 | DI12: =D12 -> 0 | DJ12: =IF(AW12="","",VLOOKUP(AQ12,$AR$5:$AW$24,6,0)) | DK12: =IFERROR(VLOOKUP(DJ12,AW$5:CD31,34,0),"") | DL12: =IF(DJ12="","",RANK(DK12,DK5:DK24)) | DM12: =IF(AW12="","",AW12) | DN12: =IFERROR(VLOOKUP(AS12,$AT$5:$BH$24,15,0),"") | DO12: =IFERROR(VLOOKUP(DN12,$BH$5:$CF$24,25,0),"") | DP12: =IF(DN12="","",RANK(DO12,DO5:DO24)) | DQ12: =IF(BH12="","",BH12) | DR12: =IFERROR(VLOOKUP(AU12,$AV$5:$BS$24,24,0),"") | DS12: =IFERROR(VLOOKUP(DR12,$BS$5:$CH$24,16,0),"") | DT12: =IF(DR12="","",RANK(DS12,DS5:DS24))
M13: =IF(O13="","",IF(DK13=DK12,DL12,DL13)) | N13: =IF(O13="","",VLOOKUP(O13,$AW$5:$BG$24,4,0)) | O13: =IF('Equipes et choix des points'!A10="","",VLOOKUP('Matchs et classements'!AQ13,'Matchs et classements'!$AR$5:$AW$24,6,0)) | P13: =IF(O13="","",VLOOKUP(O13,$AW$5:$BG$24,5,0)) | Q13: =IF(O13="","",VLOOKUP(O13,$AW$5:$BG$24,6,0)) | R13: =IF(O13="","",VLOOKUP(O13,$AW$5:$BG$24,7,0)) | S13: =IF(O13="","",VLOOKUP(O13,$AW$5:$BG$24,8,0)) | T13: =IF(O13="","",VLOOKUP(O13,$AW$5:$BG$24,9,0)) | U13: =IF(O13="","",VLOOKUP(O13,$AW$5:$BG$24,10,0)) | V13: =IF(O13="","",VLOOKUP(O13,$AW$5:$BG$24,11,0)) | W13: =IF(Y13="","",IF(DO13=DO12,DP12,DP13)) | X13: =IF(Y13="","",VLOOKUP(Y13,$BH$5:$BR$24,4,0)) | Y13: =IF('Equipes et choix des points'!A10="","",VLOOKUP('Matchs et classements'!AS13,'Matchs et classements'!$AT$5:$BH$24,15,0)) | Z13: =IF(Y13="","",VLOOKUP(Y13,$BH$5:$BR$24,5,0)) | AA13: =IF(Y13="","",VLOOKUP(Y13,$BH$5:$BR$24,6,0)) | AB13: =IF(Y13="","",VLOOKUP(Y13,$BH$5:$BR$24,7,0)) | AC13: =IF(Y13="","",VLOOKUP(Y13,$BH$5:$BR$24,8,0)) | AD13: =IF(Y13="","",VLOOKUP(Y13,$BH$5:$BR$24,9,0)) | AE13: =IF(Y13="","",VLOOKUP(Y13,$BH$5:$BR$24,10,0)) | AF13: =IF(Y13="","",VLOOKUP(Y13,$BH$5:$BR$24,11,0)) | AG13: =IF(AI13="","",IF(DS13=DS12,DT12,DT13)) | AH13: =IF(AI13="","",VLOOKUP(AI13,$BS$5:$CC$24,4,0)) | AI13: =IF('Equipes et choix des points'!A10="","",VLOOKUP('Matchs et classements'!AU13,'Matchs et classements'!$AV$5:$BS$24,24,0)) | AJ13: =IF(AI13="","",VLOOKUP(AI13,$BS$5:$CC$24,5,0)) | AK13: =IF(AI13="","",VLOOKUP(AI13,$BS$5:$CC$24,6,0)) | AL13: =IF(AI13="","",VLOOKUP(AI13,$BS$5:$CC$24,7,0)) | AM13: =IF(AI13="","",VLOOKUP(AI13,$BS$5:$CC$24,8,0)) | AN13: =IF(AI13="","",VLOOKUP(AI13,$BS$5:$CC$24,9,0)) | AO13: =IF(AI13="","",VLOOKUP(AI13,$BS$5:$CC$24,10,0)) | AP13: =IF(AI13="","",VLOOKUP(AI13,$BS$5:$CC$24,11,0)) | AQ13: 9 | AR13: =AY13 | AS13: 9 | AT13: =BJ13 | AU13: 9 | AV13: =BU13 | AW13: =IF('Equipes et choix des points'!$A$10<>"",'Equipes et choix des points'!$A$10,"") | AX13: =IF('Equipes et choix des points'!A10="","",RANK(CD13,$CD$5:$CD$24)) | AY13: =IF(AW13="","",RANK(CE13,$CE$5:$CE$24)) | AZ13: =IF(AW13="","",SUMPRODUCT(($C$4:$C$383=AW13)*($CV$4:$CV$383))+SUMPRODUCT(($F$4:$F$383=AW13)*($CW$4:$CW$383))) | BA13: =IF(AW13="","",SUMPRODUCT(($C$4:$C$383=AW13)*($CX$4:$CX$383))+SUMPRODUCT(($F$4:$F$383=AW13)*($CY$4:$CY$383))) | BB13: =IF(AW13="","",SUMPRODUCT(($C$4:$C$383=AW13)*($CZ$4:$CZ$383))+SUMPRODUCT(($F$4:$F$383=AW13)*($DA$4:$DA$383))) | BC13: =IF(AW13="","",SUMPRODUCT(($C$4:$C$383=AW13)*($DB$4:$DB$383))+SUMPRODUCT(($F$4:$F$383=AW13)*($DC$4:$DC$383))) | BD13: =IF(AW13="","",SUMPRODUCT(($C$4:$C$383=AW13)*($DD$4:$DD$383))+SUMPRODUCT(($F$4:$F$383=AW13)*($DE$4:$DE$383))) | BE13: =IF(AW13="","",SUMPRODUCT(($C$4:$C$383=AW13)*($DF$4:$DF$383))+SUMPRODUCT(($F$4:$F$383=AW13)*($DG$4:$DG$383))) | BF13: =IF(AW13="","",SUMPRODUCT(($C$4:$C$383=AW13)*($DH$4:$DH$383))+SUMPRODUCT(($F$4:$F$383=AW13)*($DI$4:$DI$383))) | BG13: =IF(AW13="","",BE13-BF13) | BH13: =IF('Equipes et choix des points'!$A$10<>"",'Equipes et choix des points'!$A$10,"") | BI13: =IF(BH13="","",RANK(CF13,$CF$5:$CF$24)) | BJ13: =IF(BH13="","",RANK(CG13,$CG$5:$CG$24)) | BK13: =IF(BH13="","",SUMPRODUCT(($C$4:$C$383=BH13)*($CV$4:$CV$383))) | BL13: =IF(BH13="","",SUMPRODUCT(($C$4:$C$383=BH13)*($CX$4:$CX$383))) | BM13: =IF(BH13="","",SUMPRODUCT(($C$4:$C$383=BH13)*($CZ$4:$CZ$383))) | BN13: =IF(BH13="","",SUMPRODUCT(($C$4:$C$383=BH13)*($DB$4:$DB$383))) | BO13: =IF(BH13="","",SUMPRODUCT(($C$4:$C$383=BH13)*($DD$4:$DD$383))) | BP13: =IF(BH13="","",SUMPRODUCT(($C$4:$C$383=BH13)*($DF$4:$DF$383))) | BQ13: =IF(BH13="","",SUMPRODUCT(($C$4:$C$383=BH13)*($DH$4:$DH$383))) | BR13: =IF(BH13="","",BP13-BQ13) | BS13: =IF('Equipes et choix des points'!$A$10<>"",'Equipes et choix des points'!$A$10,"") | BT13: =IF(BS13="","",RANK(CH13,$CH$5:$CH$24)) | BU13: =IF(BS13="","",RANK(CI13,$CI$5:$CI$24)) | BV13: =IF(BS13="","",SUMPRODUCT(($F$4:$F$383=BS13)*($CW$4:$CW$383))) | BW13: =IF(BS13="","",SUMPRODUCT(($F$4:$F$383=BS13)*($CY$4:$CY$383))) | BX13: =IF(BS13="","",SUMPRODUCT(($F$4:$F$383=BS13)*($DA$4:$DA$383))) | BY13: =IF(BS13="","",SUMPRODUCT(($F$4:$F$383=BS13)*($DC$4:$DC$383))) | BZ13: =IF(BS13="","",SUMPRODUCT(($F$4:$F$383=BS13)*($DE$4:$DE$383))) | CA13: =IF(BS13="","",SUMPRODUCT(($F$4:$F$383=BS13)*($DG$4:$DG$383))) | CB13: =IF(BS13="","",SUMPRODUCT(($F$4:$F$383=BS13)*($DI$4:$DI$383))) | CC13: =IF(BS13="","",CA13-CB13) | CD13: =IFERROR(SUM(AZ13*1000+(BG13)/100+(BE13)/1000),"") | CE13: =IFERROR(SUM(CD13+0.0000012),"") | CF13: =IFERROR(SUM(BK13*1000+(BR13)/100+(BP13)/1000),"") | CG13: =IFERROR(SUM(CF13+0.0000012),"") | CH13: =IFERROR(SUM(BV13*1000+(CC13)/100+(CA13)/1000),"") | CI13: =IFERROR(SUM(CH13+0.0000012),"") | CJ13: =A13 -> 0 | CK13: =H13 -> 0 | CL13: =IF(B13="Forfait Perdant",3,"") | CM13: =IF(G13="Forfait Perdant",3,"") | CN13: =IF(B13="Forfait Gagnant",0,"") | CO13: =IF(G13="Forfait Gagnant",0,"") | CP13: =IF(D13="",0,IF(D13=E13,0,IF(D13<E13,0,IF('Equipes et choix des points'!$I$2=1,IF('Matchs et classements'!D13>'Matchs et classements'!E13,3),IF('Equipes et choix des points'!$I$2=2,IF('Matchs et classements'!D13>E13,4)))))) -> 0 | CQ13: =IF(E13="",0,IF(E13=D13,0,IF(E13<D13,0,IF('Equipes et choix des points'!$I$2=1,IF('Matchs et classements'!E13>'Matchs et classements'!D13,3),IF('Equipes et choix des points'!$I$2=2,IF('Matchs et classements'!E13>'Matchs et classements'!D13,4)))))) -> 0 | CR13: =IF(D13="",0,IF(D13>E13,0,IF(D13<E13,0,IF('Equipes et choix des points'!$I$2=1,IF('Matchs et classements'!D13='Matchs et classements'!E13,1),IF('Equipes et choix des points'!$I$2=2,IF('Matchs et classements'!D13='Matchs et classements'!E13,2)))))) -> 0 | CS13: =IF(E13="",0,IF(E13>D13,0,IF(E13<D13,0,IF('Equipes et choix des points'!$I$2=1,IF('Matchs et classements'!E13='Matchs et classements'!D13,1),IF('Equipes et choix des points'!$I$2=2,IF('Matchs et classements'!E13='Matchs et classements'!D13,2)))))) -> 0 | CT13: =IF(D13="",0,IF(D13>E13,0,IF(D13=E13,0,IF('Equipes et choix des points'!$I$2=1,IF('Matchs et classements'!D13<'Matchs et classements'!E13,0),IF('Equipes et choix des points'!$I$2=2,IF('Matchs et classements'!D13<'Matchs et classements'!E13,1)))))) -> 0 | CU13: =IF(E13="",0,IF(E13>D13,0,IF(E13=D13,0,IF('Equipes et choix des points'!$I$2=1,IF('Matchs et classements'!E13<'Matchs et classements'!D13,0),IF('Equipes et choix des points'!$I$2=2,IF('Matchs et classements'!E13<'Matchs et classements'!D13,1)))))) -> 0 | CV13: =SUM(CP13,CR13,CT13)-SUM(CJ13,CL13) -> 0 | CW13: =SUM(CO13,CQ13,CS13)-SUM(CK13,CM13) -> 0 | CX13: =IF(B13="Forfait perdant",0,IF(B13="Forfait Général",0,IF(D13="",0,1))) -> 0 | CY13: =IF(G13="Forfait Perdant",0,IF(G13="Forfait Général",0,IF(E13="",0,1))) -> 0 | CZ13: =IF(D13<>"",IF(D13>E13,1)) -> FALSE | DA13: =IF(E13<>"",IF(E13>D13,1)) -> FALSE | DB13: =IF(D13<>"",IF(D13=E13,1)) -> FALSE | DC13: =IF(E13<>"",IF(E13=D13,1)) -> FALSE | DD13: =IF(D13<>"",IF(D13<E13,1)) -> FALSE | DE13: =IF(E13<>"",IF(E13<D13,1)) -> FALSE | DF13: =D13 -> 0 | DG13: =E13 -> 0 | DH13: =E13 -> 0 | DI13: =D13 -> 0 | DJ13: =IF(AW13="","",VLOOKUP(AQ13,$AR$5:$AW$24,6,0)) | DK13: =IFERROR(VLOOKUP(DJ13,AW$5:CD32,34,0),"") | DL13: =IF(DJ13="","",RANK(DK13,DK5:DK24)) | DM13: =IF(AW13="","",AW13) | DN13: =IFERROR(VLOOKUP(AS13,$AT$5:$BH$24,15,0),"") | DO13: =IFERROR(VLOOKUP(DN13,$BH$5:$CF$24,25,0),"") | DP13: =IF(DN13="","",RANK(DO13,DO5:DO24)) | DQ13: =IF(BH13="","",BH13) | DR13: =IFERROR(VLOOKUP(AU13,$AV$5:$BS$24,24,0),"") | DS13: =IFERROR(VLOOKUP(DR13,$BS$5:$CH$24,16,0),"") | DT13: =IF(DR13="","",RANK(DS13,DS5:DS24))
K14: 2 | M14: =IF(O14="","",IF(DK14=DK13,DL13,DL14)) | N14: =IF(O14="","",VLOOKUP(O14,$AW$5:$BG$24,4,0)) | O14: =IF('Equipes et choix des points'!A11="","",VLOOKUP('Matchs et classements'!AQ14,'Matchs et classements'!$AR$5:$AW$24,6,0)) | P14: =IF(O14="","",VLOOKUP(O14,$AW$5:$BG$24,5,0)) | Q14: =IF(O14="","",VLOOKUP(O14,$AW$5:$BG$24,6,0)) | R14: =IF(O14="","",VLOOKUP(O14,$AW$5:$BG$24,7,0)) | S14: =IF(O14="","",VLOOKUP(O14,$AW$5:$BG$24,8,0)) | T14: =IF(O14="","",VLOOKUP(O14,$AW$5:$BG$24,9,0)) | U14: =IF(O14="","",VLOOKUP(O14,$AW$5:$BG$24,10,0)) | V14: =IF(O14="","",VLOOKUP(O14,$AW$5:$BG$24,11,0)) | W14: =IF(Y14="","",IF(DO14=DO13,DP13,DP14)) | X14: =IF(Y14="","",VLOOKUP(Y14,$BH$5:$BR$24,4,0)) | Y14: =IF('Equipes et choix des points'!A11="","",VLOOKUP('Matchs et classements'!AS14,'Matchs et classements'!$AT$5:$BH$24,15,0)) | Z14: =IF(Y14="","",VLOOKUP(Y14,$BH$5:$BR$24,5,0)) | AA14: =IF(Y14="","",VLOOKUP(Y14,$BH$5:$BR$24,6,0)) | AB14: =IF(Y14="","",VLOOKUP(Y14,$BH$5:$BR$24,7,0)) | AC14: =IF(Y14="","",VLOOKUP(Y14,$BH$5:$BR$24,8,0)) | AD14: =IF(Y14="","",VLOOKUP(Y14,$BH$5:$BR$24,9,0)) | AE14: =IF(Y14="","",VLOOKUP(Y14,$BH$5:$BR$24,10,0)) | AF14: =IF(Y14="","",VLOOKUP(Y14,$BH$5:$BR$24,11,0)) | AG14: =IF(AI14="","",IF(DS14=DS13,DT13,DT14)) | AH14: =IF(AI14="","",VLOOKUP(AI14,$BS$5:$CC$24,4,0)) | AI14: =IF('Equipes et choix des points'!A11="","",VLOOKUP('Matchs et classements'!AU14,'Matchs et classements'!$AV$5:$BS$24,24,0)) | AJ14: =IF(AI14="","",VLOOKUP(AI14,$BS$5:$CC$24,5,0)) | AK14: =IF(AI14="","",VLOOKUP(AI14,$BS$5:$CC$24,6,0)) | AL14: =IF(AI14="","",VLOOKUP(AI14,$BS$5:$CC$24,7,0)) | AM14: =IF(AI14="","",VLOOKUP(AI14,$BS$5:$CC$24,8,0)) | AN14: =IF(AI14="","",VLOOKUP(AI14,$BS$5:$CC$24,9,0)) | AO14: =IF(AI14="","",VLOOKUP(AI14,$BS$5:$CC$24,10,0)) | AP14: =IF(AI14="","",VLOOKUP(AI14,$BS$5:$CC$24,11,0)) | AQ14: 10 | AR14: =AY14 | AS14: 10 | AT14: =BJ14 | AU14: 10 | AV14: =BU14 | AW14: =IF('Equipes et choix des points'!$A$11<>"",'Equipes et choix des points'!$A$11,"") | AX14: =IF('Equipes et choix des points'!A11="","",RANK(CD14,$CD$5:$CD$24)) | AY14: =IF(AW14="","",RANK(CE14,$CE$5:$CE$24)) | AZ14: =IF(AW14="","",SUMPRODUCT(($C$4:$C$383=AW14)*($CV$4:$CV$383))+SUMPRODUCT(($F$4:$F$383=AW14)*($CW$4:$CW$383))) | BA14: =IF(AW14="","",SUMPRODUCT(($C$4:$C$383=AW14)*($CX$4:$CX$383))+SUMPRODUCT(($F$4:$F$383=AW14)*($CY$4:$CY$383))) | BB14: =IF(AW14="","",SUMPRODUCT(($C$4:$C$383=AW14)*($CZ$4:$CZ$383))+SUMPRODUCT(($F$4:$F$383=AW14)*($DA$4:$DA$383))) | BC14: =IF(AW14="","",SUMPRODUCT(($C$4:$C$383=AW14)*($DB$4:$DB$383))+SUMPRODUCT(($F$4:$F$383=AW14)*($DC$4:$DC$383))) | BD14: =IF(AW14="","",SUMPRODUCT(($C$4:$C$383=AW14)*($DD$4:$DD$383))+SUMPRODUCT(($F$4:$F$383=AW14)*($DE$4:$DE$383))) | BE14: =IF(AW14="","",SUMPRODUCT(($C$4:$C$383=AW14)*($DF$4:$DF$383))+SUMPRODUCT(($F$4:$F$383=AW14)*($DG$4:$DG$383))) | BF14: =IF(AW14="","",SUMPRODUCT(($C$4:$C$383=AW14)*($DH$4:$DH$383))+SUMPRODUCT(($F$4:$F$383=AW14)*($DI$4:$DI$383))) | BG14: =IF(AW14="","",BE14-BF14) | BH14: =IF('Equipes et choix des points'!$A$11<>"",'Equipes et choix des points'!$A$11,"") | BI14: =IF(BH14="","",RANK(CF14,$CF$5:$CF$24)) | BJ14: =IF(BH14="","",RANK(CG14,$CG$5:$CG$24)) | BK14: =IF(BH14="","",SUMPRODUCT(($C$4:$C$383=BH14)*($CV$4:$CV$383))) | BL14: =IF(BH14="","",SUMPRODUCT(($C$4:$C$383=BH14)*($CX$4:$CX$383))) | BM14: =IF(BH14="","",SUMPRODUCT(($C$4:$C$383=BH14)*($CZ$4:$CZ$383))) | BN14: =IF(BH14="","",SUMPRODUCT(($C$4:$C$383=BH14)*($DB$4:$DB$383))) | BO14: =IF(BH14="","",SUMPRODUCT(($C$4:$C$383=BH14)*($DD$4:$DD$383))) | BP14: =IF(BH14="","",SUMPRODUCT(($C$4:$C$383=BH14)*($DF$4:$DF$383))) | BQ14: =IF(BH14="","",SUMPRODUCT(($C$4:$C$383=BH14)*($DH$4:$DH$383))) | BR14: =IF(BH14="","",BP14-BQ14) | BS14: =IF('Equipes et choix des points'!$A$11<>"",'Equipes et choix des points'!$A$11,"") | BT14: =IF(BS14="","",RANK(CH14,$CH$5:$CH$24)) | BU14: =IF(BS14="","",RANK(CI14,$CI$5:$CI$24)) | BV14: =IF(BS14="","",SUMPRODUCT(($F$4:$F$383=BS14)*($CW$4:$CW$383))) | BW14: =IF(BS14="","",SUMPRODUCT(($F$4:$F$383=BS14)*($CY$4:$CY$383))) | BX14: =IF(BS14="","",SUMPRODUCT(($F$4:$F$383=BS14)*($DA$4:$DA$383))) | BY14: =IF(BS14="","",SUMPRODUCT(($F$4:$F$383=BS14)*($DC$4:$DC$383))) | BZ14: =IF(BS14="","",SUMPRODUCT(($F$4:$F$383=BS14)*($DE$4:$DE$383))) | CA14: =IF(BS14="","",SUMPRODUCT(($F$4:$F$383=BS14)*($DG$4:$DG$383))) | CB14: =IF(BS14="","",SUMPRODUCT(($F$4:$F$383=BS14)*($DI$4:$DI$383))) | CC14: =IF(BS14="","",CA14-CB14) | CD14: =IFERROR(SUM(AZ14*1000+(BG14)/100+(BE14)/1000),"") | CE14: =IFERROR(SUM(CD14+0.0000011),"") | CF14: =IFERROR(SUM(BK14*1000+(BR14)/100+(BP14)/1000),"") | CG14: =IFERROR(SUM(CF14+0.0000011),"") | CH14: =IFERROR(SUM(BV14*1000+(CC14)/100+(CA14)/1000),"") | CI14: =IFERROR(SUM(CH14+0.0000011),"") | CJ14: =A14 -> 0 | CK14: =H14 -> 0 | CL14: =IF(B14="Forfait Perdant",3,"") | CM14: =IF(G14="Forfait Perdant",3,"") | CN14: =IF(B14="Forfait Gagnant",0,"") | CO14: =IF(G14="Forfait Gagnant",0,"") | CP14: =IF(D14="",0,IF(D14=E14,0,IF(D14<E14,0,IF('Equipes et choix des points'!$I$2=1,IF('Matchs et classements'!D14>'Matchs et classements'!E14,3),IF('Equipes et choix des points'!$I$2=2,IF('Matchs et classements'!D14>E14,4)))))) -> 0 | CQ14: =IF(E14="",0,IF(E14=D14,0,IF(E14<D14,0,IF('Equipes et choix des points'!$I$2=1,IF('Matchs et classements'!E14>'Matchs et classements'!D14,3),IF('Equipes et choix des points'!$I$2=2,IF('Matchs et classements'!E14>'Matchs et classements'!D14,4)))))) -> 0 | CR14: =IF(D14="",0,IF(D14>E14,0,IF(D14<E14,0,IF('Equipes et choix des points'!$I$2=1,IF('Matchs et classements'!D14='Matchs et classements'!E14,1),IF('Equipes et choix des points'!$I$2=2,IF('Matchs et classements'!D14='Matchs et classements'!E14,2)))))) -> 0 | CS14: =IF(E14="",0,IF(E14>D14,0,IF(E14<D14,0,IF('Equipes et choix des points'!$I$2=1,IF('Matchs et classements'!E14='Matchs et classements'!D14,1),IF('Equipes et choix des points'!$I$2=2,IF('Matchs et classements'!E14='Matchs et classements'!D14,2)))))) -> 0 | CT14: =IF(D14="",0,IF(D14>E14,0,IF(D14=E14,0,IF('Equipes et choix des points'!$I$2=1,IF('Matchs et classements'!D14<'Matchs et classements'!E14,0),IF('Equipes et choix des points'!$I$2=2,IF('Matchs et classements'!D14<'Matchs et classements'!E14,1)))))) -> 0 | CU14: =IF(E14="",0,IF(E14>D14,0,IF(E14=D14,0,IF('Equipes et choix des points'!$I$2=1,IF('Matchs et classements'!E14<'Matchs et classements'!D14,0),IF('Equipes et choix des points'!$I$2=2,IF('Matchs et classements'!E14<'Matchs et classements'!D14,1)))))) -> 0 | CV14: =SUM(CP14,CR14,CT14)-SUM(CJ14,CL14) -> 0 | CW14: =SUM(CO14,CQ14,CS14)-SUM(CK14,CM14) -> 0 | CX14: =IF(B14="Forfait perdant",0,IF(B14="Forfait Général",0,IF(D14="",0,1))) -> 0 | CY14: =IF(G14="Forfait Perdant",0,IF(G14="Forfait Général",0,IF(E14="",0,1))) -> 0 | CZ14: =IF(D14<>"",IF(D14>E14,1)) -> FALSE | DA14: =IF(E14<>"",IF(E14>D14,1)) -> FALSE | DB14: =IF(D14<>"",IF(D14=E14,1)) -> FALSE | DC14: =IF(E14<>"",IF(E14=D14,1)) -> FALSE | DD14: =IF(D14<>"",IF(D14<E14,1)) -> FALSE | DE14: =IF(E14<>"",IF(E14<D14,1)) -> FALSE | DF14: =D14 -> 0 | DG14: =E14 -> 0 | DH14: =E14 -> 0 | DI14: =D14 -> 0 | DJ14: =IF(AW14="","",VLOOKUP(AQ14,$AR$5:$AW$24,6,0)) | DK14: =IFERROR(VLOOKUP(DJ14,AW$5:CD33,34,0),"") | DL14: =IF(DJ14="","",RANK(DK14,DK5:DK24)) | DM14: =IF(AW14="","",AW14) | DN14: =IFERROR(VLOOKUP(AS14,$AT$5:$BH$24,15,0),"") | DO14: =IFERROR(VLOOKUP(DN14,$BH$5:$CF$24,25,0),"") | DP14: =IF(DN14="","",RANK(DO14,DO5:DO24)) | DQ14: =IF(BH14="","",BH14) | DR14: =IFERROR(VLOOKUP(AU14,$AV$5:$BS$24,24,0),"") | DS14: =IFERROR(VLOOKUP(DR14,$BS$5:$CH$24,16,0),"") | DT14: =IF(DR14="","",RANK(DS14,DS5:DS24))
M15: =IF(O15="","",IF(DK15=DK14,DL14,DL15)) | N15: =IF(O15="","",VLOOKUP(O15,$AW$5:$BG$24,4,0)) | O15: =IF('Equipes et choix des points'!A12="","",VLOOKUP('Matchs et classements'!AQ15,'Matchs et classements'!$AR$5:$AW$24,6,0)) | P15: =IF(O15="","",VLOOKUP(O15,$AW$5:$BG$24,5,0)) | Q15: =IF(O15="","",VLOOKUP(O15,$AW$5:$BG$24,6,0)) | R15: =IF(O15="","",VLOOKUP(O15,$AW$5:$BG$24,7,0)) | S15: =IF(O15="","",VLOOKUP(O15,$AW$5:$BG$24,8,0)) | T15: =IF(O15="","",VLOOKUP(O15,$AW$5:$BG$24,9,0)) | U15: =IF(O15="","",VLOOKUP(O15,$AW$5:$BG$24,10,0)) | V15: =IF(O15="","",VLOOKUP(O15,$AW$5:$BG$24,11,0)) | W15: =IF(Y15="","",IF(DO15=DO14,DP14,DP15)) | X15: =IF(Y15="","",VLOOKUP(Y15,$BH$5:$BR$24,4,0)) | Y15: =IF('Equipes et choix des points'!A12="","",VLOOKUP('Matchs et classements'!AS15,'Matchs et classements'!$AT$5:$BH$24,15,0)) | Z15: =IF(Y15="","",VLOOKUP(Y15,$BH$5:$BR$24,5,0)) | AA15: =IF(Y15="","",VLOOKUP(Y15,$BH$5:$BR$24,6,0)) | AB15: =IF(Y15="","",VLOOKUP(Y15,$BH$5:$BR$24,7,0)) | AC15: =IF(Y15="","",VLOOKUP(Y15,$BH$5:$BR$24,8,0)) | AD15: =IF(Y15="","",VLOOKUP(Y15,$BH$5:$BR$24,9,0)) | AE15: =IF(Y15="","",VLOOKUP(Y15,$BH$5:$BR$24,10,0)) | AF15: =IF(Y15="","",VLOOKUP(Y15,$BH$5:$BR$24,11,0)) | AG15: =IF(AI15="","",IF(DS15=DS14,DT14,DT15)) | AH15: =IF(AI15="","",VLOOKUP(AI15,$BS$5:$CC$24,4,0)) | AI15: =IF('Equipes et choix des points'!A12="","",VLOOKUP('Matchs et classements'!AU15,'Matchs et classements'!$AV$5:$BS$24,24,0)) | AJ15: =IF(AI15="","",VLOOKUP(AI15,$BS$5:$CC$24,5,0)) | AK15: =IF(AI15="","",VLOOKUP(AI15,$BS$5:$CC$24,6,0)) | AL15: =IF(AI15="","",VLOOKUP(AI15,$BS$5:$CC$24,7,0)) | AM15: =IF(AI15="","",VLOOKUP(AI15,$BS$5:$CC$24,8,0)) | AN15: =IF(AI15="","",VLOOKUP(AI15,$BS$5:$CC$24,9,0)) | AO15: =IF(AI15="","",VLOOKUP(AI15,$BS$5:$CC$24,10,0)) | AP15: =IF(AI15="","",VLOOKUP(AI15,$BS$5:$CC$24,11,0)) | AQ15: 11 | AR15: =AY15 | AS15: 11 | AT15: =BJ15 | AU15: 11 | AV15: =BU15 | AW15: =IF('Equipes et choix des points'!$A$12<>"",'Equipes et choix des points'!$A$12,"") | AX15: =IF('Equipes et choix des points'!A12="","",RANK(CD15,$CD$5:$CD$24)) | AY15: =IF(AW15="","",RANK(CE15,$CE$5:$CE$24)) | AZ15: =IF(AW15="","",SUMPRODUCT(($C$4:$C$383=AW15)*($CV$4:$CV$383))+SUMPRODUCT(($F$4:$F$383=AW15)*($CW$4:$CW$383))) | BA15: =IF(AW15="","",SUMPRODUCT(($C$4:$C$383=AW15)*($CX$4:$CX$383))+SUMPRODUCT(($F$4:$F$383=AW15)*($CY$4:$CY$383))) | BB15: =IF(AW15="","",SUMPRODUCT(($C$4:$C$383=AW15)*($CZ$4:$CZ$383))+SUMPRODUCT(($F$4:$F$383=AW15)*($DA$4:$DA$383))) | BC15: =IF(AW15="","",SUMPRODUCT(($C$4:$C$383=AW15)*($DB$4:$DB$383))+SUMPRODUCT(($F$4:$F$383=AW15)*($DC$4:$DC$383))) | BD15: =IF(AW15="","",SUMPRODUCT(($C$4:$C$383=AW15)*($DD$4:$DD$383))+SUMPRODUCT(($F$4:$F$383=AW15)*($DE$4:$DE$383))) | BE15: =IF(AW15="","",SUMPRODUCT(($C$4:$C$383=AW15)*($DF$4:$DF$383))+SUMPRODUCT(($F$4:$F$383=AW15)*($DG$4:$DG$383))) | BF15: =IF(AW15="","",SUMPRODUCT(($C$4:$C$383=AW15)*($DH$4:$DH$383))+SUMPRODUCT(($F$4:$F$383=AW15)*($DI$4:$DI$383))) | BG15: =IF(AW15="","",BE15-BF15) | BH15: =IF('Equipes et choix des points'!$A$12<>"",'Equipes et choix des points'!$A$12,"") | BI15: =IF(BH15="","",RANK(CF15,$CF$5:$CF$24)) | BJ15: =IF(BH15="","",RANK(CG15,$CG$5:$CG$24)) | BK15: =IF(BH15="","",SUMPRODUCT(($C$4:$C$383=BH15)*($CV$4:$CV$383))) | BL15: =IF(BH15="","",SUMPRODUCT(($C$4:$C$383=BH15)*($CX$4:$CX$383))) | BM15: =IF(BH15="","",SUMPRODUCT(($C$4:$C$383=BH15)*($CZ$4:$CZ$383))) | BN15: =IF(BH15="","",SUMPRODUCT(($C$4:$C$383=BH15)*($DB$4:$DB$383))) | BO15: =IF(BH15="","",SUMPRODUCT(($C$4:$C$383=BH15)*($DD$4:$DD$383))) | BP15: =IF(BH15="","",SUMPRODUCT(($C$4:$C$383=BH15)*($DF$4:$DF$383))) | BQ15: =IF(BH15="","",SUMPRODUCT(($C$4:$C$383=BH15)*($DH$4:$DH$383))) | BR15: =IF(BH15="","",BP15-BQ15) | BS15: =IF('Equipes et choix des points'!$A$12<>"",'Equipes et choix des points'!$A$12,"") | BT15: =IF(BS15="","",RANK(CH15,$CH$5:$CH$24)) | BU15: =IF(BS15="","",RANK(CI15,$CI$5:$CI$24)) | BV15: =IF(BS15="","",SUMPRODUCT(($F$4:$F$383=BS15)*($CW$4:$CW$383))) | BW15: =IF(BS15="","",SUMPRODUCT(($F$4:$F$383=BS15)*($CY$4:$CY$383))) | BX15: =IF(BS15="","",SUMPRODUCT(($F$4:$F$383=BS15)*($DA$4:$DA$383))) | BY15: =IF(BS15="","",SUMPRODUCT(($F$4:$F$383=BS15)*($DC$4:$DC$383))) | BZ15: =IF(BS15="","",SUMPRODUCT(($F$4:$F$383=BS15)*($DE$4:$DE$383))) | CA15: =IF(BS15="","",SUMPRODUCT(($F$4:$F$383=BS15)*($DG$4:$DG$383))) | CB15: =IF(BS15="","",SUMPRODUCT(($F$4:$F$383=BS15)*($DI$4:$DI$383))) | CC15: =IF(BS15="","",CA15-CB15) | CD15: =IFERROR(SUM(AZ15*1000+(BG15)/100+(BE15)/1000),"") | CE15: =IFERROR(SUM(CD15+0.000001),"") | CF15: =IFERROR(SUM(BK15*1000+(BR15)/100+(BP15)/1000),"") | CG15: =IFERROR(SUM(CF15+0.000001),"") | CH15: =IFERROR(SUM(BV15*1000+(CC15)/100+(CA15)/1000),"") | CI15: =IFERROR(SUM(CH15+0.000001),"") | CJ15: =A15 -> 0 | CK15: =H15 -> 0 | CL15: =IF(B15="Forfait Perdant",3,"") | CM15: =IF(G15="Forfait Perdant",3,"") | CN15: =IF(B15="Forfait Gagnant",0,"") | CO15: =IF(G15="Forfait Gagnant",0,"") | CP15: =IF(D15="",0,IF(D15=E15,0,IF(D15<E15,0,IF('Equipes et choix des points'!$I$2=1,IF('Matchs et classements'!D15>'Matchs et classements'!E15,3),IF('Equipes et choix des points'!$I$2=2,IF('Matchs et classements'!D15>E15,4)))))) -> 0 | CQ15: =IF(E15="",0,IF(E15=D15,0,IF(E15<D15,0,IF('Equipes et choix des points'!$I$2=1,IF('Matchs et classements'!E15>'Matchs et classements'!D15,3),IF('Equipes et choix des points'!$I$2=2,IF('Matchs et classements'!E15>'Matchs et classements'!D15,4)))))) -> 0 | CR15: =IF(D15="",0,IF(D15>E15,0,IF(D15<E15,0,IF('Equipes et choix des points'!$I$2=1,IF('Matchs et classements'!D15='Matchs et classements'!E15,1),IF('Equipes et choix des points'!$I$2=2,IF('Matchs et classements'!D15='Matchs et classements'!E15,2)))))) -> 0 | CS15: =IF(E15="",0,IF(E15>D15,0,IF(E15<D15,0,IF('Equipes et choix des points'!$I$2=1,IF('Matchs et classements'!E15='Matchs et classements'!D15,1),IF('Equipes et choix des points'!$I$2=2,IF('Matchs et classements'!E15='Matchs et classements'!D15,2)))))) -> 0 | CT15: =IF(D15="",0,IF(D15>E15,0,IF(D15=E15,0,IF('Equipes et choix des points'!$I$2=1,IF('Matchs et classements'!D15<'Matchs et classements'!E15,0),IF('Equipes et choix des points'!$I$2=2,IF('Matchs et classements'!D15<'Matchs et classements'!E15,1)))))) -> 0 | CU15: =IF(E15="",0,IF(E15>D15,0,IF(E15=D15,0,IF('Equipes et choix des points'!$I$2=1,IF('Matchs et classements'!E15<'Matchs et classements'!D15,0),IF('Equipes et choix des points'!$I$2=2,IF('Matchs et classements'!E15<'Matchs et classements'!D15,1)))))) -> 0 | CV15: =SUM(CP15,CR15,CT15)-SUM(CJ15,CL15) -> 0 | CW15: =SUM(CO15,CQ15,CS15)-SUM(CK15,CM15) -> 0 | CX15: =IF(B15="Forfait perdant",0,IF(B15="Forfait Général",0,IF(D15="",0,1))) -> 0 | CY15: =IF(G15="Forfait Perdant",0,IF(G15="Forfait Général",0,IF(E15="",0,1))) -> 0 | CZ15: =IF(D15<>"",IF(D15>E15,1)) -> FALSE | DA15: =IF(E15<>"",IF(E15>D15,1)) -> FALSE | DB15: =IF(D15<>"",IF(D15=E15,1)) -> FALSE | DC15: =IF(E15<>"",IF(E15=D15,1)) -> FALSE | DD15: =IF(D15<>"",IF(D15<E15,1)) -> FALSE | DE15: =IF(E15<>"",IF(E15<D15,1)) -> FALSE | DF15: =D15 -> 0 | DG15: =E15 -> 0 | DH15: =E15 -> 0 | DI15: =D15 -> 0 | DJ15: =IF(AW15="","",VLOOKUP(AQ15,$AR$5:$AW$24,6,0)) | DK15: =IFERROR(VLOOKUP(DJ15,AW$5:CD34,34,0),"") | DL15: =IF(DJ15="","",RANK(DK15,DK5:DK24)) | DM15: =IF(AW15="","",AW15) | DN15: =IFERROR(VLOOKUP(AS15,$AT$5:$BH$24,15,0),"") | DO15: =IFERROR(VLOOKUP(DN15,$BH$5:$CF$24,25,0),"") | DP15: =IF(DN15="","",RANK(DO15,DO5:DO24)) | DQ15: =IF(BH15="","",BH15) | DR15: =IFERROR(VLOOKUP(AU15,$AV$5:$BS$24,24,0),"") | DS15: =IFERROR(VLOOKUP(DR15,$BS$5:$CH$24,16,0),"") | DT15: =IF(DR15="","",RANK(DS15,DS5:DS24))
M16: =IF(O16="","",IF(DK16=DK15,DL15,DL16)) | N16: =IF(O16="","",VLOOKUP(O16,$AW$5:$BG$24,4,0)) | O16: =IF('Equipes et choix des points'!A13="","",VLOOKUP('Matchs et classements'!AQ16,'Matchs et classements'!$AR$5:$AW$24,6,0)) | P16: =IF(O16="","",VLOOKUP(O16,$AW$5:$BG$24,5,0)) | Q16: =IF(O16="","",VLOOKUP(O16,$AW$5:$BG$24,6,0)) | R16: =IF(O16="","",VLOOKUP(O16,$AW$5:$BG$24,7,0)) | S16: =IF(O16="","",VLOOKUP(O16,$AW$5:$BG$24,8,0)) | T16: =IF(O16="","",VLOOKUP(O16,$AW$5:$BG$24,9,0)) | U16: =IF(O16="","",VLOOKUP(O16,$AW$5:$BG$24,10,0)) | V16: =IF(O16="","",VLOOKUP(O16,$AW$5:$BG$24,11,0)) | W16: =IF(Y16="","",IF(DO16=DO15,DP15,DP16)) | X16: =IF(Y16="","",VLOOKUP(Y16,$BH$5:$BR$24,4,0)) | Y16: =IF('Equipes et choix des points'!A13="","",VLOOKUP('Matchs et classements'!AS16,'Matchs et classements'!$AT$5:$BH$24,15,0)) | Z16: =IF(Y16="","",VLOOKUP(Y16,$BH$5:$BR$24,5,0)) | AA16: =IF(Y16="","",VLOOKUP(Y16,$BH$5:$BR$24,6,0)) | AB16: =IF(Y16="","",VLOOKUP(Y16,$BH$5:$BR$24,7,0)) | AC16: =IF(Y16="","",VLOOKUP(Y16,$BH$5:$BR$24,8,0)) | AD16: =IF(Y16="","",VLOOKUP(Y16,$BH$5:$BR$24,9,0)) | AE16: =IF(Y16="","",VLOOKUP(Y16,$BH$5:$BR$24,10,0)) | AF16: =IF(Y16="","",VLOOKUP(Y16,$BH$5:$BR$24,11,0)) | AG16: =IF(AI16="","",IF(DS16=DS15,DT15,DT16)) | AH16: =IF(AI16="","",VLOOKUP(AI16,$BS$5:$CC$24,4,0)) | AI16: =IF('Equipes et choix des points'!A13="","",VLOOKUP('Matchs et classements'!AU16,'Matchs et classements'!$AV$5:$BS$24,24,0)) | AJ16: =IF(AI16="","",VLOOKUP(AI16,$BS$5:$CC$24,5,0)) | AK16: =IF(AI16="","",VLOOKUP(AI16,$BS$5:$CC$24,6,0)) | AL16: =IF(AI16="","",VLOOKUP(AI16,$BS$5:$CC$24,7,0)) | AM16: =IF(AI16="","",VLOOKUP(AI16,$BS$5:$CC$24,8,0)) | AN16: =IF(AI16="","",VLOOKUP(AI16,$BS$5:$CC$24,9,0)) | AO16: =IF(AI16="","",VLOOKUP(AI16,$BS$5:$CC$24,10,0)) | AP16: =IF(AI16="","",VLOOKUP(AI16,$BS$5:$CC$24,11,0)) | AQ16: 12 | AR16: =AY16 | AS16: 12 | AT16: =BJ16 | AU16: 12 | AV16: =BU16 | AW16: =IF('Equipes et choix des points'!$A$13<>"",'Equipes et choix des points'!$A$13,"") | AX16: =IF('Equipes et choix des points'!A13="","",RANK(CD16,$CD$5:$CD$24)) | AY16: =IF(AW16="","",RANK(CE16,$CE$5:$CE$24)) | AZ16: =IF(AW16="","",SUMPRODUCT(($C$4:$C$383=AW16)*($CV$4:$CV$383))+SUMPRODUCT(($F$4:$F$383=AW16)*($CW$4:$CW$383))) | BA16: =IF(AW16="","",SUMPRODUCT(($C$4:$C$383=AW16)*($CX$4:$CX$383))+SUMPRODUCT(($F$4:$F$383=AW16)*($CY$4:$CY$383))) | BB16: =IF(AW16="","",SUMPRODUCT(($C$4:$C$383=AW16)*($CZ$4:$CZ$383))+SUMPRODUCT(($F$4:$F$383=AW16)*($DA$4:$DA$383))) | BC16: =IF(AW16="","",SUMPRODUCT(($C$4:$C$383=AW16)*($DB$4:$DB$383))+SUMPRODUCT(($F$4:$F$383=AW16)*($DC$4:$DC$383))) | BD16: =IF(AW16="","",SUMPRODUCT(($C$4:$C$383=AW16)*($DD$4:$DD$383))+SUMPRODUCT(($F$4:$F$383=AW16)*($DE$4:$DE$383))) | BE16: =IF(AW16="","",SUMPRODUCT(($C$4:$C$383=AW16)*($DF$4:$DF$383))+SUMPRODUCT(($F$4:$F$383=AW16)*($DG$4:$DG$383))) | BF16: =IF(AW16="","",SUMPRODUCT(($C$4:$C$383=AW16)*($DH$4:$DH$383))+SUMPRODUCT(($F$4:$F$383=AW16)*($DI$4:$DI$383))) | BG16: =IF(AW16="","",BE16-BF16) | BH16: =IF('Equipes et choix des points'!$A$13<>"",'Equipes et choix des points'!$A$13,"") | BI16: =IF(BH16="","",RANK(CF16,$CF$5:$CF$24)) | BJ16: =IF(BH16="","",RANK(CG16,$CG$5:$CG$24)) | BK16: =IF(BH16="","",SUMPRODUCT(($C$4:$C$383=BH16)*($CV$4:$CV$383))) | BL16: =IF(BH16="","",SUMPRODUCT(($C$4:$C$383=BH16)*($CX$4:$CX$383))) | BM16: =IF(BH16="","",SUMPRODUCT(($C$4:$C$383=BH16)*($CZ$4:$CZ$383))) | BN16: =IF(BH16="","",SUMPRODUCT(($C$4:$C$383=BH16)*($DB$4:$DB$383))) | BO16: =IF(BH16="","",SUMPRODUCT(($C$4:$C$383=BH16)*($DD$4:$DD$383))) | BP16: =IF(BH16="","",SUMPRODUCT(($C$4:$C$383=BH16)*($DF$4:$DF$383))) | BQ16: =IF(BH16="","",SUMPRODUCT(($C$4:$C$383=BH16)*($DH$4:$DH$383))) | BR16: =IF(BH16="","",BP16-BQ16) | BS16: =IF('Equipes et choix des points'!$A$13<>"",'Equipes et choix des points'!$A$13,"") | BT16: =IF(BS16="","",RANK(CH16,$CH$5:$CH$24)) | BU16: =IF(BS16="","",RANK(CI16,$CI$5:$CI$24)) | BV16: =IF(BS16="","",SUMPRODUCT(($F$4:$F$383=BS16)*($CW$4:$CW$383))) | BW16: =IF(BS16="","",SUMPRODUCT(($F$4:$F$383=BS16)*($CY$4:$CY$383))) | BX16: =IF(BS16="","",SUMPRODUCT(($F$4:$F$383=BS16)*($DA$4:$DA$383))) | BY16: =IF(BS16="","",SUMPRODUCT(($F$4:$F$383=BS16)*($DC$4:$DC$383))) | BZ16: =IF(BS16="","",SUMPRODUCT(($F$4:$F$383=BS16)*($DE$4:$DE$383))) | CA16: =IF(BS16="","",SUMPRODUCT(($F$4:$F$383=BS16)*($DG$4:$DG$383))) | CB16: =IF(BS16="","",SUMPRODUCT(($F$4:$F$383=BS16)*($DI$4:$DI$383))) | CC16: =IF(BS16="","",CA16-CB16) | CD16: =IFERROR(SUM(AZ16*1000+(BG16)/100+(BE16)/1000),"") | CE16: =IFERROR(SUM(CD16+0.0000009),"") | CF16: =IFERROR(SUM(BK16*1000+(BR16)/100+(BP16)/1000),"") | CG16: =IFERROR(SUM(CF16+0.0000009),"") | CH16: =IFERROR(SUM(BV16*1000+(CC16)/100+(CA16)/1000),"") | CI16: =IFERROR(SUM(CH16+0.0000009),"") | CJ16: =A16 -> 0 | CK16: =H16 -> 0 | CL16: =IF(B16="Forfait Perdant",3,"") | CM16: =IF(G16="Forfait Perdant",3,"") | CN16: =IF(B16="Forfait Gagnant",0,"") | CO16: =IF(G16="Forfait Gagnant",0,"") | CP16: =IF(D16="",0,IF(D16=E16,0,IF(D16<E16,0,IF('Equipes et choix des points'!$I$2=1,IF('Matchs et classements'!D16>'Matchs et classements'!E16,3),IF('Equipes et choix des points'!$I$2=2,IF('Matchs et classements'!D16>E16,4)))))) -> 0 | CQ16: =IF(E16="",0,IF(E16=D16,0,IF(E16<D16,0,IF('Equipes et choix des points'!$I$2=1,IF('Matchs et classements'!E16>'Matchs et classements'!D16,3),IF('Equipes et choix des points'!$I$2=2,IF('Matchs et classements'!E16>'Matchs et classements'!D16,4)))))) -> 0 | CR16: =IF(D16="",0,IF(D16>E16,0,IF(D16<E16,0,IF('Equipes et choix des points'!$I$2=1,IF('Matchs et classements'!D16='Matchs et classements'!E16,1),IF('Equipes et choix des points'!$I$2=2,IF('Matchs et classements'!D16='Matchs et classements'!E16,2)))))) -> 0 | CS16: =IF(E16="",0,IF(E16>D16,0,IF(E16<D16,0,IF('Equipes et choix des points'!$I$2=1,IF('Matchs et classements'!E16='Matchs et classements'!D16,1),IF('Equipes et choix des points'!$I$2=2,IF('Matchs et classements'!E16='Matchs et classements'!D16,2)))))) -> 0 | CT16: =IF(D16="",0,IF(D16>E16,0,IF(D16=E16,0,IF('Equipes et choix des points'!$I$2=1,IF('Matchs et classements'!D16<'Matchs et classements'!E16,0),IF('Equipes et choix des points'!$I$2=2,IF('Matchs et classements'!D16<'Matchs et classements'!E16,1)))))) -> 0 | CU16: =IF(E16="",0,IF(E16>D16,0,IF(E16=D16,0,IF('Equipes et choix des points'!$I$2=1,IF('Matchs et classements'!E16<'Matchs et classements'!D16,0),IF('Equipes et choix des points'!$I$2=2,IF('Matchs et classements'!E16<'Matchs et classements'!D16,1)))))) -> 0 | CV16: =SUM(CP16,CR16,CT16)-SUM(CJ16,CL16) -> 0 | CW16: =SUM(CO16,CQ16,CS16)-SUM(CK16,CM16) -> 0 | CX16: =IF(B16="Forfait perdant",0,IF(B16="Forfait Général",0,IF(D16="",0,1))) -> 0 | CY16: =IF(G16="Forfait Perdant",0,IF(G16="Forfait Général",0,IF(E16="",0,1))) -> 0 | CZ16: =IF(D16<>"",IF(D16>E16,1)) -> FALSE | DA16: =IF(E16<>"",IF(E16>D16,1)) -> FALSE | DB16: =IF(D16<>"",IF(D16=E16,1)) -> FALSE | DC16: =IF(E16<>"",IF(E16=D16,1)) -> FALSE | DD16: =IF(D16<>"",IF(D16<E16,1)) -> FALSE | DE16: =IF(E16<>"",IF(E16<D16,1)) -> FALSE | DF16: =D16 -> 0 | DG16: =E16 -> 0 | DH16: =E16 -> 0 | DI16: =D16 -> 0 | DJ16: =IF(AW16="","",VLOOKUP(AQ16,$AR$5:$AW$24,6,0)) | DK16: =IFERROR(VLOOKUP(DJ16,AW$5:CD35,34,0),"") | DL16: =IF(DJ16="","",RANK(DK16,DK5:DK24)) | DM16: =IF(AW16="","",AW16) | DN16: =IFERROR(VLOOKUP(AS16,$AT$5:$BH$24,15,0),"") | DO16: =IFERROR(VLOOKUP(DN16,$BH$5:$CF$24,25,0),"") | DP16: =IF(DN16="","",RANK(DO16,DO5:DO24)) | DQ16: =IF(BH16="","",BH16) | DR16: =IFERROR(VLOOKUP(AU16,$AV$5:$BS$24,24,0),"") | DS16: =IFERROR(VLOOKUP(DR16,$BS$5:$CH$24,16,0),"") | DT16: =IF(DR16="","",RANK(DS16,DS5:DS24))
M17: =IF(O17="","",IF(DK17=DK16,DL16,DL17)) | N17: =IF(O17="","",VLOOKUP(O17,$AW$5:$BG$24,4,0)) | O17: =IF('Equipes et choix des points'!A14="","",VLOOKUP('Matchs et classements'!AQ17,'Matchs et classements'!$AR$5:$AW$24,6,0)) | P17: =IF(O17="","",VLOOKUP(O17,$AW$5:$BG$24,5,0)) | Q17: =IF(O17="","",VLOOKUP(O17,$AW$5:$BG$24,6,0)) | R17: =IF(O17="","",VLOOKUP(O17,$AW$5:$BG$24,7,0)) | S17: =IF(O17="","",VLOOKUP(O17,$AW$5:$BG$24,8,0)) | T17: =IF(O17="","",VLOOKUP(O17,$AW$5:$BG$24,9,0)) | U17: =IF(O17="","",VLOOKUP(O17,$AW$5:$BG$24,10,0)) | V17: =IF(O17="","",VLOOKUP(O17,$AW$5:$BG$24,11,0)) | W17: =IF(Y17="","",IF(DO17=DO16,DP16,DP17)) | X17: =IF(Y17="","",VLOOKUP(Y17,$BH$5:$BR$24,4,0)) | Y17: =IF('Equipes et choix des points'!A14="","",VLOOKUP('Matchs et classements'!AS17,'Matchs et classements'!$AT$5:$BH$24,15,0)) | Z17: =IF(Y17="","",VLOOKUP(Y17,$BH$5:$BR$24,5,0)) | AA17: =IF(Y17="","",VLOOKUP(Y17,$BH$5:$BR$24,6,0)) | AB17: =IF(Y17="","",VLOOKUP(Y17,$BH$5:$BR$24,7,0)) | AC17: =IF(Y17="","",VLOOKUP(Y17,$BH$5:$BR$24,8,0)) | AD17: =IF(Y17="","",VLOOKUP(Y17,$BH$5:$BR$24,9,0)) | AE17: =IF(Y17="","",VLOOKUP(Y17,$BH$5:$BR$24,10,0)) | AF17: =IF(Y17="","",VLOOKUP(Y17,$BH$5:$BR$24,11,0)) | AG17: =IF(AI17="","",IF(DS17=DS16,DT16,DT17)) | AH17: =IF(AI17="","",VLOOKUP(AI17,$BS$5:$CC$24,4,0)) | AI17: =IF('Equipes et choix des points'!A14="","",VLOOKUP('Matchs et classements'!AU17,'Matchs et classements'!$AV$5:$BS$24,24,0)) | AJ17: =IF(AI17="","",VLOOKUP(AI17,$BS$5:$CC$24,5,0)) | AK17: =IF(AI17="","",VLOOKUP(AI17,$BS$5:$CC$24,6,0)) | AL17: =IF(AI17="","",VLOOKUP(AI17,$BS$5:$CC$24,7,0)) | AM17: =IF(AI17="","",VLOOKUP(AI17,$BS$5:$CC$24,8,0)) | AN17: =IF(AI17="","",VLOOKUP(AI17,$BS$5:$CC$24,9,0)) | AO17: =IF(AI17="","",VLOOKUP(AI17,$BS$5:$CC$24,10,0)) | AP17: =IF(AI17="","",VLOOKUP(AI17,$BS$5:$CC$24,11,0)) | AQ17: 13 | AR17: =AY17 | AS17: 13 | AT17: =BJ17 | AU17: 13 | AV17: =BU17 | AW17: =IF('Equipes et choix des points'!$A$14<>"",'Equipes et choix des points'!$A$14,"") | AX17: =IF('Equipes et choix des points'!A14="","",RANK(CD17,$CD$5:$CD$24)) | AY17: =IF(AW17="","",RANK(CE17,$CE$5:$CE$24)) | AZ17: =IF(AW17="","",SUMPRODUCT(($C$4:$C$383=AW17)*($CV$4:$CV$383))+SUMPRODUCT(($F$4:$F$383=AW17)*($CW$4:$CW$383))) | BA17: =IF(AW17="","",SUMPRODUCT(($C$4:$C$383=AW17)*($CX$4:$CX$383))+SUMPRODUCT(($F$4:$F$383=AW17)*($CY$4:$CY$383))) | BB17: =IF(AW17="","",SUMPRODUCT(($C$4:$C$383=AW17)*($CZ$4:$CZ$383))+SUMPRODUCT(($F$4:$F$383=AW17)*($DA$4:$DA$383))) | BC17: =IF(AW17="","",SUMPRODUCT(($C$4:$C$383=AW17)*($DB$4:$DB$383))+SUMPRODUCT(($F$4:$F$383=AW17)*($DC$4:$DC$383))) | BD17: =IF(AW17="","",SUMPRODUCT(($C$4:$C$383=AW17)*($DD$4:$DD$383))+SUMPRODUCT(($F$4:$F$383=AW17)*($DE$4:$DE$383))) | BE17: =IF(AW17="","",SUMPRODUCT(($C$4:$C$383=AW17)*($DF$4:$DF$383))+SUMPRODUCT(($F$4:$F$383=AW17)*($DG$4:$DG$383))) | BF17: =IF(AW17="","",SUMPRODUCT(($C$4:$C$383=AW17)*($DH$4:$DH$383))+SUMPRODUCT(($F$4:$F$383=AW17)*($DI$4:$DI$383))) | BG17: =IF(AW17="","",BE17-BF17) | BH17: =IF('Equipes et choix des points'!$A$14<>"",'Equipes et choix des points'!$A$14,"") | BI17: =IF(BH17="","",RANK(CF17,$CF$5:$CF$24)) | BJ17: =IF(BH17="","",RANK(CG17,$CG$5:$CG$24)) | BK17: =IF(BH17="","",SUMPRODUCT(($C$4:$C$383=BH17)*($CV$4:$CV$383))) | BL17: =IF(BH17="","",SUMPRODUCT(($C$4:$C$383=BH17)*($CX$4:$CX$383))) | BM17: =IF(BH17="","",SUMPRODUCT(($C$4:$C$383=BH17)*($CZ$4:$CZ$383))) | BN17: =IF(BH17="","",SUMPRODUCT(($C$4:$C$383=BH17)*($DB$4:$DB$383))) | BO17: =IF(BH17="","",SUMPRODUCT(($C$4:$C$383=BH17)*($DD$4:$DD$383))) | BP17: =IF(BH17="","",SUMPRODUCT(($C$4:$C$383=BH17)*($DF$4:$DF$383))) | BQ17: =IF(BH17="","",SUMPRODUCT(($C$4:$C$383=BH17)*($DH$4:$DH$383))) | BR17: =IF(BH17="","",BP17-BQ17) | BS17: =IF('Equipes et choix des points'!$A$14<>"",'Equipes et choix des points'!$A$14,"") | BT17: =IF(BS17="","",RANK(CH17,$CH$5:$CH$24)) | BU17: =IF(BS17="","",RANK(CI17,$CI$5:$CI$24)) | BV17: =IF(BS17="","",SUMPRODUCT(($F$4:$F$383=BS17)*($CW$4:$CW$383))) | BW17: =IF(BS17="","",SUMPRODUCT(($F$4:$F$383=BS17)*($CY$4:$CY$383))) | BX17: =IF(BS17="","",SUMPRODUCT(($F$4:$F$383=BS17)*($DA$4:$DA$383))) | BY17: =IF(BS17="","",SUMPRODUCT(($F$4:$F$383=BS17)*($DC$4:$DC$383))) | BZ17: =IF(BS17="","",SUMPRODUCT(($F$4:$F$383=BS17)*($DE$4:$DE$383))) | CA17: =IF(BS17="","",SUMPRODUCT(($F$4:$F$383=BS17)*($DG$4:$DG$383))) | CB17: =IF(BS17="","",SUMPRODUCT(($F$4:$F$383=BS17)*($DI$4:$DI$383))) | CC17: =IF(BS17="","",CA17-CB17) | CD17: =IFERROR(SUM(AZ17*1000+(BG17)/100+(BE17)/1000),"") | CE17: =IFERROR(SUM(CD17+0.0000008),"") | CF17: =IFERROR(SUM(BK17*1000+(BR17)/100+(BP17)/1000),"") | CG17: =IFERROR(SUM(CF17+0.0000008),"") | CH17: =IFERROR(SUM(BV17*1000+(CC17)/100+(CA17)/1000),"") | CI17: =IFERROR(SUM(CH17+0.0000008),"") | CJ17: =A17 -> 0 | CK17: =H17 -> 0 | CL17: =IF(B17="Forfait Perdant",3,"") | CM17: =IF(G17="Forfait Perdant",3,"") | CN17: =IF(B17="Forfait Gagnant",0,"") | CO17: =IF(G17="Forfait Gagnant",0,"") | CP17: =IF(D17="",0,IF(D17=E17,0,IF(D17<E17,0,IF('Equipes et choix des points'!$I$2=1,IF('Matchs et classements'!D17>'Matchs et classements'!E17,3),IF('Equipes et choix des points'!$I$2=2,IF('Matchs et classements'!D17>E17,4)))))) -> 0 | CQ17: =IF(E17="",0,IF(E17=D17,0,IF(E17<D17,0,IF('Equipes et choix des points'!$I$2=1,IF('Matchs et classements'!E17>'Matchs et classements'!D17,3),IF('Equipes et choix des points'!$I$2=2,IF('Matchs et classements'!E17>'Matchs et classements'!D17,4)))))) -> 0 | CR17: =IF(D17="",0,IF(D17>E17,0,IF(D17<E17,0,IF('Equipes et choix des points'!$I$2=1,IF('Matchs et classements'!D17='Matchs et classements'!E17,1),IF('Equipes et choix des points'!$I$2=2,IF('Matchs et classements'!D17='Matchs et classements'!E17,2)))))) -> 0 | CS17: =IF(E17="",0,IF(E17>D17,0,IF(E17<D17,0,IF('Equipes et choix des points'!$I$2=1,IF('Matchs et classements'!E17='Matchs et classements'!D17,1),IF('Equipes et choix des points'!$I$2=2,IF('Matchs et classements'!E17='Matchs et classements'!D17,2)))))) -> 0 | CT17: =IF(D17="",0,IF(D17>E17,0,IF(D17=E17,0,IF('Equipes et choix des points'!$I$2=1,IF('Matchs et classements'!D17<'Matchs et classements'!E17,0),IF('Equipes et choix des points'!$I$2=2,IF('Matchs et classements'!D17<'Matchs et classements'!E17,1)))))) -> 0 | CU17: =IF(E17="",0,IF(E17>D17,0,IF(E17=D17,0,IF('Equipes et choix des points'!$I$2=1,IF('Matchs et classements'!E17<'Matchs et classements'!D17,0),IF('Equipes et choix des points'!$I$2=2,IF('Matchs et classements'!E17<'Matchs et classements'!D17,1)))))) -> 0 | CV17: =SUM(CP17,CR17,CT17)-SUM(CJ17,CL17) -> 0 | CW17: =SUM(CO17,CQ17,CS17)-SUM(CK17,CM17) -> 0 | CX17: =IF(B17="Forfait perdant",0,IF(B17="Forfait Général",0,IF(D17="",0,1))) -> 0 | CY17: =IF(G17="Forfait Perdant",0,IF(G17="Forfait Général",0,IF(E17="",0,1))) -> 0 | CZ17: =IF(D17<>"",IF(D17>E17,1)) -> FALSE | DA17: =IF(E17<>"",IF(E17>D17,1)) -> FALSE | DB17: =IF(D17<>"",IF(D17=E17,1)) -> FALSE | DC17: =IF(E17<>"",IF(E17=D17,1)) -> FALSE | DD17: =IF(D17<>"",IF(D17<E17,1)) -> FALSE | DE17: =IF(E17<>"",IF(E17<D17,1)) -> FALSE | DF17: =D17 -> 0 | DG17: =E17 -> 0 | DH17: =E17 -> 0 | DI17: =D17 -> 0 | DJ17: =IF(AW17="","",VLOOKUP(AQ17,$AR$5:$AW$24,6,0)) | DK17: =IFERROR(VLOOKUP(DJ17,AW$5:CD36,34,0),"") | DL17: =IF(DJ17="","",RANK(DK17,DK5:DK24)) | DM17: =IF(AW17="","",AW17) | DN17: =IFERROR(VLOOKUP(AS17,$AT$5:$BH$24,15,0),"") | DO17: =IFERROR(VLOOKUP(DN17,$BH$5:$CF$24,25,0),"") | DP17: =IF(DN17="","",RANK(DO17,DO5:DO24)) | DQ17: =IF(BH17="","",BH17) | DR17: =IFERROR(VLOOKUP(AU17,$AV$5:$BS$24,24,0),"") | DS17: =IFERROR(VLOOKUP(DR17,$BS$5:$CH$24,16,0),"") | DT17: =IF(DR17="","",RANK(DS17,DS5:DS24))
M18: =IF(O18="","",IF(DK18=DK17,DL17,DL18)) | N18: =IF(O18="","",VLOOKUP(O18,$AW$5:$BG$24,4,0)) | O18: =IF('Equipes et choix des points'!A15="","",VLOOKUP('Matchs et classements'!AQ18,'Matchs et classements'!$AR$5:$AW$24,6,0)) | P18: =IF(O18="","",VLOOKUP(O18,$AW$5:$BG$24,5,0)) | Q18: =IF(O18="","",VLOOKUP(O18,$AW$5:$BG$24,6,0)) | R18: =IF(O18="","",VLOOKUP(O18,$AW$5:$BG$24,7,0)) | S18: =IF(O18="","",VLOOKUP(O18,$AW$5:$BG$24,8,0)) | T18: =IF(O18="","",VLOOKUP(O18,$AW$5:$BG$24,9,0)) | U18: =IF(O18="","",VLOOKUP(O18,$AW$5:$BG$24,10,0)) | V18: =IF(O18="","",VLOOKUP(O18,$AW$5:$BG$24,11,0)) | W18: =IF(Y18="","",IF(DO18=DO17,DP17,DP18)) | X18: =IF(Y18="","",VLOOKUP(Y18,$BH$5:$BR$24,4,0)) | Y18: =IF('Equipes et choix des points'!A15="","",VLOOKUP('Matchs et classements'!AS18,'Matchs et classements'!$AT$5:$BH$24,15,0)) | Z18: =IF(Y18="","",VLOOKUP(Y18,$BH$5:$BR$24,5,0)) | AA18: =IF(Y18="","",VLOOKUP(Y18,$BH$5:$BR$24,6,0)) | AB18: =IF(Y18="","",VLOOKUP(Y18,$BH$5:$BR$24,7,0)) | AC18: =IF(Y18="","",VLOOKUP(Y18,$BH$5:$BR$24,8,0)) | AD18: =IF(Y18="","",VLOOKUP(Y18,$BH$5:$BR$24,9,0)) | AE18: =IF(Y18="","",VLOOKUP(Y18,$BH$5:$BR$24,10,0)) | AF18: =IF(Y18="","",VLOOKUP(Y18,$BH$5:$BR$24,11,0)) | AG18: =IF(AI18="","",IF(DS18=DS17,DT17,DT18)) | AH18: =IF(AI18="","",VLOOKUP(AI18,$BS$5:$CC$24,4,0)) | AI18: =IF('Equipes et choix des points'!A15="","",VLOOKUP('Matchs et classements'!AU18,'Matchs et classements'!$AV$5:$BS$24,24,0)) | AJ18: =IF(AI18="","",VLOOKUP(AI18,$BS$5:$CC$24,5,0)) | AK18: =IF(AI18="","",VLOOKUP(AI18,$BS$5:$CC$24,6,0)) | AL18: =IF(AI18="","",VLOOKUP(AI18,$BS$5:$CC$24,7,0)) | AM18: =IF(AI18="","",VLOOKUP(AI18,$BS$5:$CC$24,8,0)) | AN18: =IF(AI18="","",VLOOKUP(AI18,$BS$5:$CC$24,9,0)) | AO18: =IF(AI18="","",VLOOKUP(AI18,$BS$5:$CC$24,10,0)) | AP18: =IF(AI18="","",VLOOKUP(AI18,$BS$5:$CC$24,11,0)) | AQ18: 14 | AR18: =AY18 | AS18: 14 | AT18: =BJ18 | AU18: 14 | AV18: =BU18 | AW18: =IF('Equipes et choix des points'!$A$15<>"",'Equipes et choix des points'!$A$15,"") | AX18: =IF('Equipes et choix des points'!A15="","",RANK(CD18,$CD$5:$CD$24)) | AY18: =IF(AW18="","",RANK(CE18,$CE$5:$CE$24)) | AZ18: =IF(AW18="","",SUMPRODUCT(($C$4:$C$383=AW18)*($CV$4:$CV$383))+SUMPRODUCT(($F$4:$F$383=AW18)*($CW$4:$CW$383))) | BA18: =IF(AW18="","",SUMPRODUCT(($C$4:$C$383=AW18)*($CX$4:$CX$383))+SUMPRODUCT(($F$4:$F$383=AW18)*($CY$4:$CY$383))) | BB18: =IF(AW18="","",SUMPRODUCT(($C$4:$C$383=AW18)*($CZ$4:$CZ$383))+SUMPRODUCT(($F$4:$F$383=AW18)*($DA$4:$DA$383))) | BC18: =IF(AW18="","",SUMPRODUCT(($C$4:$C$383=AW18)*($DB$4:$DB$383))+SUMPRODUCT(($F$4:$F$383=AW18)*($DC$4:$DC$383))) | BD18: =IF(AW18="","",SUMPRODUCT(($C$4:$C$383=AW18)*($DD$4:$DD$383))+SUMPRODUCT(($F$4:$F$383=AW18)*($DE$4:$DE$383))) | BE18: =IF(AW18="","",SUMPRODUCT(($C$4:$C$383=AW18)*($DF$4:$DF$383))+SUMPRODUCT(($F$4:$F$383=AW18)*($DG$4:$DG$383))) | BF18: =IF(AW18="","",SUMPRODUCT(($C$4:$C$383=AW18)*($DH$4:$DH$383))+SUMPRODUCT(($F$4:$F$383=AW18)*($DI$4:$DI$383))) | BG18: =IF(AW18="","",BE18-BF18) | BH18: =IF('Equipes et choix des points'!$A$15<>"",'Equipes et choix des points'!$A$15,"") | BI18: =IF(BH18="","",RANK(CF18,$CF$5:$CF$24)) | BJ18: =IF(BH18="","",RANK(CG18,$CG$5:$CG$24)) | BK18: =IF(BH18="","",SUMPRODUCT(($C$4:$C$383=BH18)*($CV$4:$CV$383))) | BL18: =IF(BH18="","",SUMPRODUCT(($C$4:$C$383=BH18)*($CX$4:$CX$383))) | BM18: =IF(BH18="","",SUMPRODUCT(($C$4:$C$383=BH18)*($CZ$4:$CZ$383))) | BN18: =IF(BH18="","",SUMPRODUCT(($C$4:$C$383=BH18)*($DB$4:$DB$383))) | BO18: =IF(BH18="","",SUMPRODUCT(($C$4:$C$383=BH18)*($DD$4:$DD$383))) | BP18: =IF(BH18="","",SUMPRODUCT(($C$4:$C$383=BH18)*($DF$4:$DF$383))) | BQ18: =IF(BH18="","",SUMPRODUCT(($C$4:$C$383=BH18)*($DH$4:$DH$383))) | BR18: =IF(BH18="","",BP18-BQ18) | BS18: =IF('Equipes et choix des points'!$A$15<>"",'Equipes et choix des points'!$A$15,"") | BT18: =IF(BS18="","",RANK(CH18,$CH$5:$CH$24)) | BU18: =IF(BS18="","",RANK(CI18,$CI$5:$CI$24)) | BV18: =IF(BS18="","",SUMPRODUCT(($F$4:$F$383=BS18)*($CW$4:$CW$383))) | BW18: =IF(BS18="","",SUMPRODUCT(($F$4:$F$383=BS18)*($CY$4:$CY$383))) | BX18: =IF(BS18="","",SUMPRODUCT(($F$4:$F$383=BS18)*($DA$4:$DA$383))) | BY18: =IF(BS18="","",SUMPRODUCT(($F$4:$F$383=BS18)*($DC$4:$DC$383))) | BZ18: =IF(BS18="","",SUMPRODUCT(($F$4:$F$383=BS18)*($DE$4:$DE$383))) | CA18: =IF(BS18="","",SUMPRODUCT(($F$4:$F$383=BS18)*($DG$4:$DG$383))) | CB18: =IF(BS18="","",SUMPRODUCT(($F$4:$F$383=BS18)*($DI$4:$DI$383))) | CC18: =IF(BS18="","",CA18-CB18) | CD18: =IFERROR(SUM(AZ18*1000+(BG18)/100+(BE18)/1000),"") | CE18: =IFERROR(SUM(CD18+0.0000007),"") | CF18: =IFERROR(SUM(BK18*1000+(BR18)/100+(BP18)/1000),"") | CG18: =IFERROR(SUM(CF18+0.0000007),"") | CH18: =IFERROR(SUM(BV18*1000+(CC18)/100+(CA18)/1000),"") | CI18: =IFERROR(SUM(CH18+0.0000007),"") | CJ18: =A18 -> 0 | CK18: =H18 -> 0 | CL18: =IF(B18="Forfait Perdant",3,"") | CM18: =IF(G18="Forfait Perdant",3,"") | CN18: =IF(B18="Forfait Gagnant",0,"") | CO18: =IF(G18="Forfait Gagnant",0,"") | CP18: =IF(D18="",0,IF(D18=E18,0,IF(D18<E18,0,IF('Equipes et choix des points'!$I$2=1,IF('Matchs et classements'!D18>'Matchs et classements'!E18,3),IF('Equipes et choix des points'!$I$2=2,IF('Matchs et classements'!D18>E18,4)))))) -> 0 | CQ18: =IF(E18="",0,IF(E18=D18,0,IF(E18<D18,0,IF('Equipes et choix des points'!$I$2=1,IF('Matchs et classements'!E18>'Matchs et classements'!D18,3),IF('Equipes et choix des points'!$I$2=2,IF('Matchs et classements'!E18>'Matchs et classements'!D18,4)))))) -> 0 | CR18: =IF(D18="",0,IF(D18>E18,0,IF(D18<E18,0,IF('Equipes et choix des points'!$I$2=1,IF('Matchs et classements'!D18='Matchs et classements'!E18,1),IF('Equipes et choix des points'!$I$2=2,IF('Matchs et classements'!D18='Matchs et classements'!E18,2)))))) -> 0 | CS18: =IF(E18="",0,IF(E18>D18,0,IF(E18<D18,0,IF('Equipes et choix des points'!$I$2=1,IF('Matchs et classements'!E18='Matchs et classements'!D18,1),IF('Equipes et choix des points'!$I$2=2,IF('Matchs et classements'!E18='Matchs et classements'!D18,2)))))) -> 0 | CT18: =IF(D18="",0,IF(D18>E18,0,IF(D18=E18,0,IF('Equipes et choix des points'!$I$2=1,IF('Matchs et classements'!D18<'Matchs et classements'!E18,0),IF('Equipes et choix des points'!$I$2=2,IF('Matchs et classements'!D18<'Matchs et classements'!E18,1)))))) -> 0 | CU18: =IF(E18="",0,IF(E18>D18,0,IF(E18=D18,0,IF('Equipes et choix des points'!$I$2=1,IF('Matchs et classements'!E18<'Matchs et classements'!D18,0),IF('Equipes et choix des points'!$I$2=2,IF('Matchs et classements'!E18<'Matchs et classements'!D18,1)))))) -> 0 | CV18: =SUM(CP18,CR18,CT18)-SUM(CJ18,CL18) -> 0 | CW18: =SUM(CO18,CQ18,CS18)-SUM(CK18,CM18) -> 0 | CX18: =IF(B18="Forfait perdant",0,IF(B18="Forfait Général",0,IF(D18="",0,1))) -> 0 | CY18: =IF(G18="Forfait Perdant",0,IF(G18="Forfait Général",0,IF(E18="",0,1))) -> 0 | CZ18: =IF(D18<>"",IF(D18>E18,1)) -> FALSE | DA18: =IF(E18<>"",IF(E18>D18,1)) -> FALSE | DB18: =IF(D18<>"",IF(D18=E18,1)) -> FALSE | DC18: =IF(E18<>"",IF(E18=D18,1)) -> FALSE | DD18: =IF(D18<>"",IF(D18<E18,1)) -> FALSE | DE18: =IF(E18<>"",IF(E18<D18,1)) -> FALSE | DF18: =D18 -> 0 | DG18: =E18 -> 0 | DH18: =E18 -> 0 | DI18: =D18 -> 0 | DJ18: =IF(AW18="","",VLOOKUP(AQ18,$AR$5:$AW$24,6,0)) | DK18: =IFERROR(VLOOKUP(DJ18,AW$5:CD37,34,0),"") | DL18: =IF(DJ18="","",RANK(DK18,DK5:DK24)) | DM18: =IF(AW18="","",AW18) | DN18: =IFERROR(VLOOKUP(AS18,$AT$5:$BH$24,15,0),"") | DO18: =IFERROR(VLOOKUP(DN18,$BH$5:$CF$24,25,0),"") | DP18: =IF(DN18="","",RANK(DO18,DO5:DO24)) | DQ18: =IF(BH18="","",BH18) | DR18: =IFERROR(VLOOKUP(AU18,$AV$5:$BS$24,24,0),"") | DS18: =IFERROR(VLOOKUP(DR18,$BS$5:$CH$24,16,0),"") | DT18: =IF(DR18="","",RANK(DS18,DS5:DS24))
M19: =IF(O19="","",IF(DK19=DK18,DL18,DL19)) | N19: =IF(O19="","",VLOOKUP(O19,$AW$5:$BG$24,4,0)) | O19: =IF('Equipes et choix des points'!A16="","",VLOOKUP('Matchs et classements'!AQ19,'Matchs et classements'!$AR$5:$AW$24,6,0)) | P19: =IF(O19="","",VLOOKUP(O19,$AW$5:$BG$24,5,0)) | Q19: =IF(O19="","",VLOOKUP(O19,$AW$5:$BG$24,6,0)) | R19: =IF(O19="","",VLOOKUP(O19,$AW$5:$BG$24,7,0)) | S19: =IF(O19="","",VLOOKUP(O19,$AW$5:$BG$24,8,0)) | T19: =IF(O19="","",VLOOKUP(O19,$AW$5:$BG$24,9,0)) | U19: =IF(O19="","",VLOOKUP(O19,$AW$5:$BG$24,10,0)) | V19: =IF(O19="","",VLOOKUP(O19,$AW$5:$BG$24,11,0)) | W19: =IF(Y19="","",IF(DO19=DO18,DP18,DP19)) | X19: =IF(Y19="","",VLOOKUP(Y19,$BH$5:$BR$24,4,0)) | Y19: =IF('Equipes et choix des points'!A16="","",VLOOKUP('Matchs et classements'!AS19,'Matchs et classements'!$AT$5:$BH$24,15,0)) | Z19: =IF(Y19="","",VLOOKUP(Y19,$BH$5:$BR$24,5,0)) | AA19: =IF(Y19="","",VLOOKUP(Y19,$BH$5:$BR$24,6,0)) | AB19: =IF(Y19="","",VLOOKUP(Y19,$BH$5:$BR$24,7,0)) | AC19: =IF(Y19="","",VLOOKUP(Y19,$BH$5:$BR$24,8,0)) | AD19: =IF(Y19="","",VLOOKUP(Y19,$BH$5:$BR$24,9,0)) | AE19: =IF(Y19="","",VLOOKUP(Y19,$BH$5:$BR$24,10,0)) | AF19: =IF(Y19="","",VLOOKUP(Y19,$BH$5:$BR$24,11,0)) | AG19: =IF(AI19="","",IF(DS19=DS18,DT18,DT19)) | AH19: =IF(AI19="","",VLOOKUP(AI19,$BS$5:$CC$24,4,0)) | AI19: =IF('Equipes et choix des points'!A16="","",VLOOKUP('Matchs et classements'!AU19,'Matchs et classements'!$AV$5:$BS$24,24,0)) | AJ19: =IF(AI19="","",VLOOKUP(AI19,$BS$5:$CC$24,5,0)) | AK19: =IF(AI19="","",VLOOKUP(AI19,$BS$5:$CC$24,6,0)) | AL19: =IF(AI19="","",VLOOKUP(AI19,$BS$5:$CC$24,7,0)) | AM19: =IF(AI19="","",VLOOKUP(AI19,$BS$5:$CC$24,8,0)) | AN19: =IF(AI19="","",VLOOKUP(AI19,$BS$5:$CC$24,9,0)) | AO19: =IF(AI19="","",VLOOKUP(AI19,$BS$5:$CC$24,10,0)) | AP19: =IF(AI19="","",VLOOKUP(AI19,$BS$5:$CC$24,11,0)) | AQ19: 15 | AR19: =AY19 | AS19: 15 | AT19: =BJ19 | AU19: 15 | AV19: =BU19 | AW19: =IF('Equipes et choix des points'!$A$16<>"",'Equipes et choix des points'!$A$16,"") | AX19: =IF('Equipes et choix des points'!A16="","",RANK(CD19,$CD$5:$CD$24)) | AY19: =IF(AW19="","",RANK(CE19,$CE$5:$CE$24)) | AZ19: =IF(AW19="","",SUMPRODUCT(($C$4:$C$383=AW19)*($CV$4:$CV$383))+SUMPRODUCT(($F$4:$F$383=AW19)*($CW$4:$CW$383))) | BA19: =IF(AW19="","",SUMPRODUCT(($C$4:$C$383=AW19)*($CX$4:$CX$383))+SUMPRODUCT(($F$4:$F$383=AW19)*($CY$4:$CY$383))) | BB19: =IF(AW19="","",SUMPRODUCT(($C$4:$C$383=AW19)*($CZ$4:$CZ$383))+SUMPRODUCT(($F$4:$F$383=AW19)*($DA$4:$DA$383))) | BC19: =IF(AW19="","",SUMPRODUCT(($C$4:$C$383=AW19)*($DB$4:$DB$383))+SUMPRODUCT(($F$4:$F$383=AW19)*($DC$4:$DC$383))) | BD19: =IF(AW19="","",SUMPRODUCT(($C$4:$C$383=AW19)*($DD$4:$DD$383))+SUMPRODUCT(($F$4:$F$383=AW19)*($DE$4:$DE$383))) | BE19: =IF(AW19="","",SUMPRODUCT(($C$4:$C$383=AW19)*($DF$4:$DF$383))+SUMPRODUCT(($F$4:$F$383=AW19)*($DG$4:$DG$383))) | BF19: =IF(AW19="","",SUMPRODUCT(($C$4:$C$383=AW19)*($DH$4:$DH$383))+SUMPRODUCT(($F$4:$F$383=AW19)*($DI$4:$DI$383))) | BG19: =IF(AW19="","",BE19-BF19) | BH19: =IF('Equipes et choix des points'!$A$16<>"",'Equipes et choix des points'!$A$16,"") | BI19: =IF(BH19="","",RANK(CF19,$CF$5:$CF$24)) | BJ19: =IF(BH19="","",RANK(CG19,$CG$5:$CG$24)) | BK19: =IF(BH19="","",SUMPRODUCT(($C$4:$C$383=BH19)*($CV$4:$CV$383))) | BL19: =IF(BH19="","",SUMPRODUCT(($C$4:$C$383=BH19)*($CX$4:$CX$383))) | BM19: =IF(BH19="","",SUMPRODUCT(($C$4:$C$383=BH19)*($CZ$4:$CZ$383))) | BN19: =IF(BH19="","",SUMPRODUCT(($C$4:$C$383=BH19)*($DB$4:$DB$383))) | BO19: =IF(BH19="","",SUMPRODUCT(($C$4:$C$383=BH19)*($DD$4:$DD$383))) | BP19: =IF(BH19="","",SUMPRODUCT(($C$4:$C$383=BH19)*($DF$4:$DF$383))) | BQ19: =IF(BH19="","",SUMPRODUCT(($C$4:$C$383=BH19)*($DH$4:$DH$383))) | BR19: =IF(BH19="","",BP19-BQ19) | BS19: =IF('Equipes et choix des points'!$A$16<>"",'Equipes et choix des points'!$A$16,"") | BT19: =IF(BS19="","",RANK(CH19,$CH$5:$CH$24)) | BU19: =IF(BS19="","",RANK(CI19,$CI$5:$CI$24)) | BV19: =IF(BS19="","",SUMPRODUCT(($F$4:$F$383=BS19)*($CW$4:$CW$383))) | BW19: =IF(BS19="","",SUMPRODUCT(($F$4:$F$383=BS19)*($CY$4:$CY$383))) | BX19: =IF(BS19="","",SUMPRODUCT(($F$4:$F$383=BS19)*($DA$4:$DA$383))) | BY19: =IF(BS19="","",SUMPRODUCT(($F$4:$F$383=BS19)*($DC$4:$DC$383))) | BZ19: =IF(BS19="","",SUMPRODUCT(($F$4:$F$383=BS19)*($DE$4:$DE$383))) | CA19: =IF(BS19="","",SUMPRODUCT(($F$4:$F$383=BS19)*($DG$4:$DG$383))) | CB19: =IF(BS19="","",SUMPRODUCT(($F$4:$F$383=BS19)*($DI$4:$DI$383))) | CC19: =IF(BS19="","",CA19-CB19) | CD19: =IFERROR(SUM(AZ19*1000+(BG19)/100+(BE19)/1000),"") | CE19: =IFERROR(SUM(CD19+0.0000006),"") | CF19: =IFERROR(SUM(BK19*1000+(BR19)/100+(BP19)/1000),"") | CG19: =IFERROR(SUM(CF19+0.0000006),"") | CH19: =IFERROR(SUM(BV19*1000+(CC19)/100+(CA19)/1000),"") | CI19: =IFERROR(SUM(CH19+0.0000006),"") | CJ19: =A19 -> 0 | CK19: =H19 -> 0 | CL19: =IF(B19="Forfait Perdant",3,"") | CM19: =IF(G19="Forfait Perdant",3,"") | CN19: =IF(B19="Forfait Gagnant",0,"") | CO19: =IF(G19="Forfait Gagnant",0,"") | CP19: =IF(D19="",0,IF(D19=E19,0,IF(D19<E19,0,IF('Equipes et choix des points'!$I$2=1,IF('Matchs et classements'!D19>'Matchs et classements'!E19,3),IF('Equipes et choix des points'!$I$2=2,IF('Matchs et classements'!D19>E19,4)))))) -> 0 | CQ19: =IF(E19="",0,IF(E19=D19,0,IF(E19<D19,0,IF('Equipes et choix des points'!$I$2=1,IF('Matchs et classements'!E19>'Matchs et classements'!D19,3),IF('Equipes et choix des points'!$I$2=2,IF('Matchs et classements'!E19>'Matchs et classements'!D19,4)))))) -> 0 | CR19: =IF(D19="",0,IF(D19>E19,0,IF(D19<E19,0,IF('Equipes et choix des points'!$I$2=1,IF('Matchs et classements'!D19='Matchs et classements'!E19,1),IF('Equipes et choix des points'!$I$2=2,IF('Matchs et classements'!D19='Matchs et classements'!E19,2)))))) -> 0 | CS19: =IF(E19="",0,IF(E19>D19,0,IF(E19<D19,0,IF('Equipes et choix des points'!$I$2=1,IF('Matchs et classements'!E19='Matchs et classements'!D19,1),IF('Equipes et choix des points'!$I$2=2,IF('Matchs et classements'!E19='Matchs et classements'!D19,2)))))) -> 0 | CT19: =IF(D19="",0,IF(D19>E19,0,IF(D19=E19,0,IF('Equipes et choix des points'!$I$2=1,IF('Matchs et classements'!D19<'Matchs et classements'!E19,0),IF('Equipes et choix des points'!$I$2=2,IF('Matchs et classements'!D19<'Matchs et classements'!E19,1)))))) -> 0 | CU19: =IF(E19="",0,IF(E19>D19,0,IF(E19=D19,0,IF('Equipes et choix des points'!$I$2=1,IF('Matchs et classements'!E19<'Matchs et classements'!D19,0),IF('Equipes et choix des points'!$I$2=2,IF('Matchs et classements'!E19<'Matchs et classements'!D19,1)))))) -> 0 | CV19: =SUM(CP19,CR19,CT19)-SUM(CJ19,CL19) -> 0 | CW19: =SUM(CO19,CQ19,CS19)-SUM(CK19,CM19) -> 0 | CX19: =IF(B19="Forfait perdant",0,IF(B19="Forfait Général",0,IF(D19="",0,1))) -> 0 | CY19: =IF(G19="Forfait Perdant",0,IF(G19="Forfait Général",0,IF(E19="",0,1))) -> 0 | CZ19: =IF(D19<>"",IF(D19>E19,1)) -> FALSE | DA19: =IF(E19<>"",IF(E19>D19,1)) -> FALSE | DB19: =IF(D19<>"",IF(D19=E19,1)) -> FALSE | DC19: =IF(E19<>"",IF(E19=D19,1)) -> FALSE | DD19: =IF(D19<>"",IF(D19<E19,1)) -> FALSE | DE19: =IF(E19<>"",IF(E19<D19,1)) -> FALSE | DF19: =D19 -> 0 | DG19: =E19 -> 0 | DH19: =E19 -> 0 | DI19: =D19 -> 0 | DJ19: =IF(AW19="","",VLOOKUP(AQ19,$AR$5:$AW$24,6,0)) | DK19: =IFERROR(VLOOKUP(DJ19,AW$5:CD38,34,0),"") | DL19: =IF(DJ19="","",RANK(DK19,DK5:DK24)) | DM19: =IF(AW19="","",AW19) | DN19: =IFERROR(VLOOKUP(AS19,$AT$5:$BH$24,15,0),"") | DO19: =IFERROR(VLOOKUP(DN19,$BH$5:$CF$24,25,0),"") | DP19: =IF(DN19="","",RANK(DO19,DO5:DO24)) | DQ19: =IF(BH19="","",BH19) | DR19: =IFERROR(VLOOKUP(AU19,$AV$5:$BS$24,24,0),"") | DS19: =IFERROR(VLOOKUP(DR19,$BS$5:$CH$24,16,0),"") | DT19: =IF(DR19="","",RANK(DS19,DS5:DS24))
M20: =IF(O20="","",IF(DK20=DK19,DL19,DL20)) | N20: =IF(O20="","",VLOOKUP(O20,$AW$5:$BG$24,4,0)) | O20: =IF('Equipes et choix des points'!A17="","",VLOOKUP('Matchs et classements'!AQ20,'Matchs et classements'!$AR$5:$AW$24,6,0)) | P20: =IF(O20="","",VLOOKUP(O20,$AW$5:$BG$24,5,0)) | Q20: =IF(O20="","",VLOOKUP(O20,$AW$5:$BG$24,6,0)) | R20: =IF(O20="","",VLOOKUP(O20,$AW$5:$BG$24,7,0)) | S20: =IF(O20="","",VLOOKUP(O20,$AW$5:$BG$24,8,0)) | T20: =IF(O20="","",VLOOKUP(O20,$AW$5:$BG$24,9,0)) | U20: =IF(O20="","",VLOOKUP(O20,$AW$5:$BG$24,10,0)) | V20: =IF(O20="","",VLOOKUP(O20,$AW$5:$BG$24,11,0)) | W20: =IF(Y20="","",IF(DO20=DO19,DP19,DP20)) | X20: =IF(Y20="","",VLOOKUP(Y20,$BH$5:$BR$24,4,0)) | Y20: =IF('Equipes et choix des points'!A17="","",VLOOKUP('Matchs et classements'!AS20,'Matchs et classements'!$AT$5:$BH$24,15,0)) | Z20: =IF(Y20="","",VLOOKUP(Y20,$BH$5:$BR$24,5,0)) | AA20: =IF(Y20="","",VLOOKUP(Y20,$BH$5:$BR$24,6,0)) | AB20: =IF(Y20="","",VLOOKUP(Y20,$BH$5:$BR$24,7,0)) | AC20: =IF(Y20="","",VLOOKUP(Y20,$BH$5:$BR$24,8,0)) | AD20: =IF(Y20="","",VLOOKUP(Y20,$BH$5:$BR$24,9,0)) | AE20: =IF(Y20="","",VLOOKUP(Y20,$BH$5:$BR$24,10,0)) | AF20: =IF(Y20="","",VLOOKUP(Y20,$BH$5:$BR$24,11,0)) | AG20: =IF(AI20="","",IF(DS20=DS19,DT19,DT20)) | AH20: =IF(AI20="","",VLOOKUP(AI20,$BS$5:$CC$24,4,0)) | AI20: =IF('Equipes et choix des points'!A17="","",VLOOKUP('Matchs et classements'!AU20,'Matchs et classements'!$AV$5:$BS$24,24,0)) | AJ20: =IF(AI20="","",VLOOKUP(AI20,$BS$5:$CC$24,5,0)) | AK20: =IF(AI20="","",VLOOKUP(AI20,$BS$5:$CC$24,6,0)) | AL20: =IF(AI20="","",VLOOKUP(AI20,$BS$5:$CC$24,7,0)) | AM20: =IF(AI20="","",VLOOKUP(AI20,$BS$5:$CC$24,8,0)) | AN20: =IF(AI20="","",VLOOKUP(AI20,$BS$5:$CC$24,9,0)) | AO20: =IF(AI20="","",VLOOKUP(AI20,$BS$5:$CC$24,10,0)) | AP20: =IF(AI20="","",VLOOKUP(AI20,$BS$5:$CC$24,11,0)) | AQ20: 16 | AR20: =AY20 | AS20: 16 | AT20: =BJ20 | AU20: 16 | AV20: =BU20 | AW20: =IF('Equipes et choix des points'!$A$17<>"",'Equipes et choix des points'!$A$17,"") | AX20: =IF('Equipes et choix des points'!A17="","",RANK(CD20,$CD$5:$CD$24)) | AY20: =IF(AW20="","",RANK(CE20,$CE$5:$CE$24)) | AZ20: =IF(AW20="","",SUMPRODUCT(($C$4:$C$383=AW20)*($CV$4:$CV$383))+SUMPRODUCT(($F$4:$F$383=AW20)*($CW$4:$CW$383))) | BA20: =IF(AW20="","",SUMPRODUCT(($C$4:$C$383=AW20)*($CX$4:$CX$383))+SUMPRODUCT(($F$4:$F$383=AW20)*($CY$4:$CY$383))) | BB20: =IF(AW20="","",SUMPRODUCT(($C$4:$C$383=AW20)*($CZ$4:$CZ$383))+SUMPRODUCT(($F$4:$F$383=AW20)*($DA$4:$DA$383))) | BC20: =IF(AW20="","",SUMPRODUCT(($C$4:$C$383=AW20)*($DB$4:$DB$383))+SUMPRODUCT(($F$4:$F$383=AW20)*($DC$4:$DC$383))) | BD20: =IF(AW20="","",SUMPRODUCT(($C$4:$C$383=AW20)*($DD$4:$DD$383))+SUMPRODUCT(($F$4:$F$383=AW20)*($DE$4:$DE$383))) | BE20: =IF(AW20="","",SUMPRODUCT(($C$4:$C$383=AW20)*($DF$4:$DF$383))+SUMPRODUCT(($F$4:$F$383=AW20)*($DG$4:$DG$383))) | BF20: =IF(AW20="","",SUMPRODUCT(($C$4:$C$383=AW20)*($DH$4:$DH$383))+SUMPRODUCT(($F$4:$F$383=AW20)*($DI$4:$DI$383))) | BG20: =IF(AW20="","",BE20-BF20) | BH20: =IF('Equipes et choix des points'!$A$17<>"",'Equipes et choix des points'!$A$17,"") | BI20: =IF(BH20="","",RANK(CF20,$CF$5:$CF$24)) | BJ20: =IF(BH20="","",RANK(CG20,$CG$5:$CG$24)) | BK20: =IF(BH20="","",SUMPRODUCT(($C$4:$C$383=BH20)*($CV$4:$CV$383))) | BL20: =IF(BH20="","",SUMPRODUCT(($C$4:$C$383=BH20)*($CX$4:$CX$383))) | BM20: =IF(BH20="","",SUMPRODUCT(($C$4:$C$383=BH20)*($CZ$4:$CZ$383))) | BN20: =IF(BH20="","",SUMPRODUCT(($C$4:$C$383=BH20)*($DB$4:$DB$383))) | BO20: =IF(BH20="","",SUMPRODUCT(($C$4:$C$383=BH20)*($DD$4:$DD$383))) | BP20: =IF(BH20="","",SUMPRODUCT(($C$4:$C$383=BH20)*($DF$4:$DF$383))) | BQ20: =IF(BH20="","",SUMPRODUCT(($C$4:$C$383=BH20)*($DH$4:$DH$383))) | BR20: =IF(BH20="","",BP20-BQ20) | BS20: =IF('Equipes et choix des points'!$A$17<>"",'Equipes et choix des points'!$A$17,"") | BT20: =IF(BS20="","",RANK(CH20,$CH$5:$CH$24)) | BU20: =IF(BS20="","",RANK(CI20,$CI$5:$CI$24)) | BV20: =IF(BS20="","",SUMPRODUCT(($F$4:$F$383=BS20)*($CW$4:$CW$383))) | BW20: =IF(BS20="","",SUMPRODUCT(($F$4:$F$383=BS20)*($CY$4:$CY$383))) | BX20: =IF(BS20="","",SUMPRODUCT(($F$4:$F$383=BS20)*($DA$4:$DA$383))) | BY20: =IF(BS20="","",SUMPRODUCT(($F$4:$F$383=BS20)*($DC$4:$DC$383))) | BZ20: =IF(BS20="","",SUMPRODUCT(($F$4:$F$383=BS20)*($DE$4:$DE$383))) | CA20: =IF(BS20="","",SUMPRODUCT(($F$4:$F$383=BS20)*($DG$4:$DG$383))) | CB20: =IF(BS20="","",SUMPRODUCT(($F$4:$F$383=BS20)*($DI$4:$DI$383))) | CC20: =IF(BS20="","",CA20-CB20) | CD20: =IFERROR(SUM(AZ20*1000+(BG20)/100+(BE20)/1000),"") | CE20: =IFERROR(SUM(CD20+0.0000005),"") | CF20: =IFERROR(SUM(BK20*1000+(BR20)/100+(BP20)/1000),"") | CG20: =IFERROR(SUM(CF20+0.0000005),"") | CH20: =IFERROR(SUM(BV20*1000+(CC20)/100+(CA20)/1000),"") | CI20: =IFERROR(SUM(CH20+0.0000005),"") | CJ20: =A20 -> 0 | CK20: =H20 -> 0 | CL20: =IF(B20="Forfait Perdant",3,"") | CM20: =IF(G20="Forfait Perdant",3,"") | CN20: =IF(B20="Forfait Gagnant",0,"") | CO20: =IF(G20="Forfait Gagnant",0,"") | CP20: =IF(D20="",0,IF(D20=E20,0,IF(D20<E20,0,IF('Equipes et choix des points'!$I$2=1,IF('Matchs et classements'!D20>'Matchs et classements'!E20,3),IF('Equipes et choix des points'!$I$2=2,IF('Matchs et classements'!D20>E20,4)))))) -> 0 | CQ20: =IF(E20="",0,IF(E20=D20,0,IF(E20<D20,0,IF('Equipes et choix des points'!$I$2=1,IF('Matchs et classements'!E20>'Matchs et classements'!D20,3),IF('Equipes et choix des points'!$I$2=2,IF('Matchs et classements'!E20>'Matchs et classements'!D20,4)))))) -> 0 | CR20: =IF(D20="",0,IF(D20>E20,0,IF(D20<E20,0,IF('Equipes et choix des points'!$I$2=1,IF('Matchs et classements'!D20='Matchs et classements'!E20,1),IF('Equipes et choix des points'!$I$2=2,IF('Matchs et classements'!D20='Matchs et classements'!E20,2)))))) -> 0 | CS20: =IF(E20="",0,IF(E20>D20,0,IF(E20<D20,0,IF('Equipes et choix des points'!$I$2=1,IF('Matchs et classements'!E20='Matchs et classements'!D20,1),IF('Equipes et choix des points'!$I$2=2,IF('Matchs et classements'!E20='Matchs et classements'!D20,2)))))) -> 0 | CT20: =IF(D20="",0,IF(D20>E20,0,IF(D20=E20,0,IF('Equipes et choix des points'!$I$2=1,IF('Matchs et classements'!D20<'Matchs et classements'!E20,0),IF('Equipes et choix des points'!$I$2=2,IF('Matchs et classements'!D20<'Matchs et classements'!E20,1)))))) -> 0 | CU20: =IF(E20="",0,IF(E20>D20,0,IF(E20=D20,0,IF('Equipes et choix des points'!$I$2=1,IF('Matchs et classements'!E20<'Matchs et classements'!D20,0),IF('Equipes et choix des points'!$I$2=2,IF('Matchs et classements'!E20<'Matchs et classements'!D20,1)))))) -> 0 | CV20: =SUM(CP20,CR20,CT20)-SUM(CJ20,CL20) -> 0 | CW20: =SUM(CO20,CQ20,CS20)-SUM(CK20,CM20) -> 0 | CX20: =IF(B20="Forfait perdant",0,IF(B20="Forfait Général",0,IF(D20="",0,1))) -> 0 | CY20: =IF(G20="Forfait Perdant",0,IF(G20="Forfait Général",0,IF(E20="",0,1))) -> 0 | CZ20: =IF(D20<>"",IF(D20>E20,1)) -> FALSE | DA20: =IF(E20<>"",IF(E20>D20,1)) -> FALSE | DB20: =IF(D20<>"",IF(D20=E20,1)) -> FALSE | DC20: =IF(E20<>"",IF(E20=D20,1)) -> FALSE | DD20: =IF(D20<>"",IF(D20<E20,1)) -> FALSE | DE20: =IF(E20<>"",IF(E20<D20,1)) -> FALSE | DF20: =D20 -> 0 | DG20: =E20 -> 0 | DH20: =E20 -> 0 | DI20: =D20 -> 0 | DJ20: =IF(AW20="","",VLOOKUP(AQ20,$AR$5:$AW$24,6,0)) | DK20: =IFERROR(VLOOKUP(DJ20,AW$5:CD39,34,0),"") | DL20: =IF(DJ20="","",RANK(DK20,DK5:DK24)) | DM20: =IF(AW20="","",AW20) | DN20: =IFERROR(VLOOKUP(AS20,$AT$5:$BH$24,15,0),"") | DO20: =IFERROR(VLOOKUP(DN20,$BH$5:$CF$24,25,0),"") | DP20: =IF(DN20="","",RANK(DO20,DO5:DO24)) | DQ20: =IF(BH20="","",BH20) | DR20: =IFERROR(VLOOKUP(AU20,$AV$5:$BS$24,24,0),"") | DS20: =IFERROR(VLOOKUP(DR20,$BS$5:$CH$24,16,0),"") | DT20: =IF(DR20="","",RANK(DS20,DS5:DS24))
M21: =IF(O21="","",IF(DK21=DK20,DL20,DL21)) | N21: =IF(O21="","",VLOOKUP(O21,$AW$5:$BG$24,4,0)) | O21: =IF('Equipes et choix des points'!A18="","",VLOOKUP('Matchs et classements'!AQ21,'Matchs et classements'!$AR$5:$AW$24,6,0)) | P21: =IF(O21="","",VLOOKUP(O21,$AW$5:$BG$24,5,0)) | Q21: =IF(O21="","",VLOOKUP(O21,$AW$5:$BG$24,6,0)) | R21: =IF(O21="","",VLOOKUP(O21,$AW$5:$BG$24,7,0)) | S21: =IF(O21="","",VLOOKUP(O21,$AW$5:$BG$24,8,0)) | T21: =IF(O21="","",VLOOKUP(O21,$AW$5:$BG$24,9,0)) | U21: =IF(O21="","",VLOOKUP(O21,$AW$5:$BG$24,10,0)) | V21: =IF(O21="","",VLOOKUP(O21,$AW$5:$BG$24,11,0)) | W21: =IF(Y21="","",IF(DO21=DO20,DP20,DP21)) | X21: =IF(Y21="","",VLOOKUP(Y21,$BH$5:$BR$24,4,0)) | Y21: =IF('Equipes et choix des points'!A18="","",VLOOKUP('Matchs et classements'!AS21,'Matchs et classements'!$AT$5:$BH$24,15,0)) | Z21: =IF(Y21="","",VLOOKUP(Y21,$BH$5:$BR$24,5,0)) | AA21: =IF(Y21="","",VLOOKUP(Y21,$BH$5:$BR$24,6,0)) | AB21: =IF(Y21="","",VLOOKUP(Y21,$BH$5:$BR$24,7,0)) | AC21: =IF(Y21="","",VLOOKUP(Y21,$BH$5:$BR$24,8,0)) | AD21: =IF(Y21="","",VLOOKUP(Y21,$BH$5:$BR$24,9,0)) | AE21: =IF(Y21="","",VLOOKUP(Y21,$BH$5:$BR$24,10,0)) | AF21: =IF(Y21="","",VLOOKUP(Y21,$BH$5:$BR$24,11,0)) | AG21: =IF(AI21="","",IF(DS21=DS20,DT20,DT21)) | AH21: =IF(AI21="","",VLOOKUP(AI21,$BS$5:$CC$24,4,0)) | AI21: =IF('Equipes et choix des points'!A18="","",VLOOKUP('Matchs et classements'!AU21,'Matchs et classements'!$AV$5:$BS$24,24,0)) | AJ21: =IF(AI21="","",VLOOKUP(AI21,$BS$5:$CC$24,5,0)) | AK21: =IF(AI21="","",VLOOKUP(AI21,$BS$5:$CC$24,6,0)) | AL21: =IF(AI21="","",VLOOKUP(AI21,$BS$5:$CC$24,7,0)) | AM21: =IF(AI21="","",VLOOKUP(AI21,$BS$5:$CC$24,8,0)) | AN21: =IF(AI21="","",VLOOKUP(AI21,$BS$5:$CC$24,9,0)) | AO21: =IF(AI21="","",VLOOKUP(AI21,$BS$5:$CC$24,10,0)) | AP21: =IF(AI21="","",VLOOKUP(AI21,$BS$5:$CC$24,11,0)) | AQ21: 17 | AR21: =AY21 | AS21: 17 | AT21: =BJ21 | AU21: 17 | AV21: =BU21 | AW21: =IF('Equipes et choix des points'!$A$18<>"",'Equipes et choix des points'!$A$18,"") | AX21: =IF('Equipes et choix des points'!A18="","",RANK(CD21,$CD$5:$CD$24)) | AY21: =IF(AW21="","",RANK(CE21,$CE$5:$CE$24)) | AZ21: =IF(AW21="","",SUMPRODUCT(($C$4:$C$383=AW21)*($CV$4:$CV$383))+SUMPRODUCT(($F$4:$F$383=AW21)*($CW$4:$CW$383))) | BA21: =IF(AW21="","",SUMPRODUCT(($C$4:$C$383=AW21)*($CX$4:$CX$383))+SUMPRODUCT(($F$4:$F$383=AW21)*($CY$4:$CY$383))) | BB21: =IF(AW21="","",SUMPRODUCT(($C$4:$C$383=AW21)*($CZ$4:$CZ$383))+SUMPRODUCT(($F$4:$F$383=AW21)*($DA$4:$DA$383))) | BC21: =IF(AW21="","",SUMPRODUCT(($C$4:$C$383=AW21)*($DB$4:$DB$383))+SUMPRODUCT(($F$4:$F$383=AW21)*($DC$4:$DC$383))) | BD21: =IF(AW21="","",SUMPRODUCT(($C$4:$C$383=AW21)*($DD$4:$DD$383))+SUMPRODUCT(($F$4:$F$383=AW21)*($DE$4:$DE$383))) | BE21: =IF(AW21="","",SUMPRODUCT(($C$4:$C$383=AW21)*($DF$4:$DF$383))+SUMPRODUCT(($F$4:$F$383=AW21)*($DG$4:$DG$383))) | BF21: =IF(AW21="","",SUMPRODUCT(($C$4:$C$383=AW21)*($DH$4:$DH$383))+SUMPRODUCT(($F$4:$F$383=AW21)*($DI$4:$DI$383))) | BG21: =IF(AW21="","",BE21-BF21) | BH21: =IF('Equipes et choix des points'!$A$18<>"",'Equipes et choix des points'!$A$18,"") | BI21: =IF(BH21="","",RANK(CF21,$CF$5:$CF$24)) | BJ21: =IF(BH21="","",RANK(CG21,$CG$5:$CG$24)) | BK21: =IF(BH21="","",SUMPRODUCT(($C$4:$C$383=BH21)*($CV$4:$CV$383))) | BL21: =IF(BH21="","",SUMPRODUCT(($C$4:$C$383=BH21)*($CX$4:$CX$383))) | BM21: =IF(BH21="","",SUMPRODUCT(($C$4:$C$383=BH21)*($CZ$4:$CZ$383))) | BN21: =IF(BH21="","",SUMPRODUCT(($C$4:$C$383=BH21)*($DB$4:$DB$383))) | BO21: =IF(BH21="","",SUMPRODUCT(($C$4:$C$383=BH21)*($DD$4:$DD$383))) | BP21: =IF(BH21="","",SUMPRODUCT(($C$4:$C$383=BH21)*($DF$4:$DF$383))) | BQ21: =IF(BH21="","",SUMPRODUCT(($C$4:$C$383=BH21)*($DH$4:$DH$383))) | BR21: =IF(BH21="","",BP21-BQ21) | BS21: =IF('Equipes et choix des points'!$A$18<>"",'Equipes et choix des points'!$A$18,"") | BT21: =IF(BS21="","",RANK(CH21,$CH$5:$CH$24)) | BU21: =IF(BS21="","",RANK(CI21,$CI$5:$CI$24)) | BV21: =IF(BS21="","",SUMPRODUCT(($F$4:$F$383=BS21)*($CW$4:$CW$383))) | BW21: =IF(BS21="","",SUMPRODUCT(($F$4:$F$383=BS21)*($CY$4:$CY$383))) | BX21: =IF(BS21="","",SUMPRODUCT(($F$4:$F$383=BS21)*($DA$4:$DA$383))) | BY21: =IF(BS21="","",SUMPRODUCT(($F$4:$F$383=BS21)*($DC$4:$DC$383))) | BZ21: =IF(BS21="","",SUMPRODUCT(($F$4:$F$383=BS21)*($DE$4:$DE$383))) | CA21: =IF(BS21="","",SUMPRODUCT(($F$4:$F$383=BS21)*($DG$4:$DG$383))) | CB21: =IF(BS21="","",SUMPRODUCT(($F$4:$F$383=BS21)*($DI$4:$DI$383))) | CC21: =IF(BS21="","",CA21-CB21) | CD21: =IFERROR(SUM(AZ21*1000+(BG21)/100+(BE21)/1000),"") | CE21: =IFERROR(SUM(CD21+0.0000004),"") | CF21: =IFERROR(SUM(BK21*1000+(BR21)/100+(BP21)/1000),"") | CG21: =IFERROR(SUM(CF21+0.0000004),"") | CH21: =IFERROR(SUM(BV21*1000+(CC21)/100+(CA21)/1000),"") | CI21: =IFERROR(SUM(CH21+0.0000004),"") | CJ21: =A21 -> 0 | CK21: =H21 -> 0 | CL21: =IF(B21="Forfait Perdant",3,"") | CM21: =IF(G21="Forfait Perdant",3,"") | CN21: =IF(B21="Forfait Gagnant",0,"") | CO21: =IF(G21="Forfait Gagnant",0,"") | CP21: =IF(D21="",0,IF(D21=E21,0,IF(D21<E21,0,IF('Equipes et choix des points'!$I$2=1,IF('Matchs et classements'!D21>'Matchs et classements'!E21,3),IF('Equipes et choix des points'!$I$2=2,IF('Matchs et classements'!D21>E21,4)))))) -> 0 | CQ21: =IF(E21="",0,IF(E21=D21,0,IF(E21<D21,0,IF('Equipes et choix des points'!$I$2=1,IF('Matchs et classements'!E21>'Matchs et classements'!D21,3),IF('Equipes et choix des points'!$I$2=2,IF('Matchs et classements'!E21>'Matchs et classements'!D21,4)))))) -> 0 | CR21: =IF(D21="",0,IF(D21>E21,0,IF(D21<E21,0,IF('Equipes et choix des points'!$I$2=1,IF('Matchs et classements'!D21='Matchs et classements'!E21,1),IF('Equipes et choix des points'!$I$2=2,IF('Matchs et classements'!D21='Matchs et classements'!E21,2)))))) -> 0 | CS21: =IF(E21="",0,IF(E21>D21,0,IF(E21<D21,0,IF('Equipes et choix des points'!$I$2=1,IF('Matchs et classements'!E21='Matchs et classements'!D21,1),IF('Equipes et choix des points'!$I$2=2,IF('Matchs et classements'!E21='Matchs et classements'!D21,2)))))) -> 0 | CT21: =IF(D21="",0,IF(D21>E21,0,IF(D21=E21,0,IF('Equipes et choix des points'!$I$2=1,IF('Matchs et classements'!D21<'Matchs et classements'!E21,0),IF('Equipes et choix des points'!$I$2=2,IF('Matchs et classements'!D21<'Matchs et classements'!E21,1)))))) -> 0 | CU21: =IF(E21="",0,IF(E21>D21,0,IF(E21=D21,0,IF('Equipes et choix des points'!$I$2=1,IF('Matchs et classements'!E21<'Matchs et classements'!D21,0),IF('Equipes et choix des points'!$I$2=2,IF('Matchs et classements'!E21<'Matchs et classements'!D21,1)))))) -> 0 | CV21: =SUM(CP21,CR21,CT21)-SUM(CJ21,CL21) -> 0 | CW21: =SUM(CO21,CQ21,CS21)-SUM(CK21,CM21) -> 0 | CX21: =IF(B21="Forfait perdant",0,IF(B21="Forfait Général",0,IF(D21="",0,1))) -> 0 | CY21: =IF(G21="Forfait Perdant",0,IF(G21="Forfait Général",0,IF(E21="",0,1))) -> 0 | CZ21: =IF(D21<>"",IF(D21>E21,1)) -> FALSE | DA21: =IF(E21<>"",IF(E21>D21,1)) -> FALSE | DB21: =IF(D21<>"",IF(D21=E21,1)) -> FALSE | DC21: =IF(E21<>"",IF(E21=D21,1)) -> FALSE | DD21: =IF(D21<>"",IF(D21<E21,1)) -> FALSE | DE21: =IF(E21<>"",IF(E21<D21,1)) -> FALSE | DF21: =D21 -> 0 | DG21: =E21 -> 0 | DH21: =E21 -> 0 | DI21: =D21 -> 0 | DJ21: =IF(AW21="","",VLOOKUP(AQ21,$AR$5:$AW$24,6,0)) | DK21: =IFERROR(VLOOKUP(DJ21,AW$5:CD40,34,0),"") | DL21: =IF(DJ21="","",RANK(DK21,DK5:DK24)) | DM21: =IF(AW21="","",AW21) | DN21: =IFERROR(VLOOKUP(AS21,$AT$5:$BH$24,15,0),"") | DO21: =IFERROR(VLOOKUP(DN21,$BH$5:$CF$24,25,0),"") | DP21: =IF(DN21="","",RANK(DO21,DO5:DO24)) | DQ21: =IF(BH21="","",BH21) | DR21: =IFERROR(VLOOKUP(AU21,$AV$5:$BS$24,24,0),"") | DS21: =IFERROR(VLOOKUP(DR21,$BS$5:$CH$24,16,0),"") | DT21: =IF(DR21="","",RANK(DS21,DS5:DS24))
M22: =IF(O22="","",IF(DK22=DK21,DL21,DL22)) | N22: =IF(O22="","",VLOOKUP(O22,$AW$5:$BG$24,4,0)) | O22: =IF('Equipes et choix des points'!A19="","",VLOOKUP('Matchs et classements'!AQ22,'Matchs et classements'!$AR$5:$AW$24,6,0)) | P22: =IF(O22="","",VLOOKUP(O22,$AW$5:$BG$24,5,0)) | Q22: =IF(O22="","",VLOOKUP(O22,$AW$5:$BG$24,6,0)) | R22: =IF(O22="","",VLOOKUP(O22,$AW$5:$BG$24,7,0)) | S22: =IF(O22="","",VLOOKUP(O22,$AW$5:$BG$24,8,0)) | T22: =IF(O22="","",VLOOKUP(O22,$AW$5:$BG$24,9,0)) | U22: =IF(O22="","",VLOOKUP(O22,$AW$5:$BG$24,10,0)) | V22: =IF(O22="","",VLOOKUP(O22,$AW$5:$BG$24,11,0)) | W22: =IF(Y22="","",IF(DO22=DO21,DP21,DP22)) | X22: =IF(Y22="","",VLOOKUP(Y22,$BH$5:$BR$24,4,0)) | Y22: =IF('Equipes et choix des points'!A19="","",VLOOKUP('Matchs et classements'!AS22,'Matchs et classements'!$AT$5:$BH$24,15,0)) | Z22: =IF(Y22="","",VLOOKUP(Y22,$BH$5:$BR$24,5,0)) | AA22: =IF(Y22="","",VLOOKUP(Y22,$BH$5:$BR$24,6,0)) | AB22: =IF(Y22="","",VLOOKUP(Y22,$BH$5:$BR$24,7,0)) | AC22: =IF(Y22="","",VLOOKUP(Y22,$BH$5:$BR$24,8,0)) | AD22: =IF(Y22="","",VLOOKUP(Y22,$BH$5:$BR$24,9,0)) | AE22: =IF(Y22="","",VLOOKUP(Y22,$BH$5:$BR$24,10,0)) | AF22: =IF(Y22="","",VLOOKUP(Y22,$BH$5:$BR$24,11,0)) | AG22: =IF(AI22="","",IF(DS22=DS21,DT21,DT22)) | AH22: =IF(AI22="","",VLOOKUP(AI22,$BS$5:$CC$24,4,0)) | AI22: =IF('Equipes et choix des points'!A19="","",VLOOKUP('Matchs et classements'!AU22,'Matchs et classements'!$AV$5:$BS$24,24,0)) | AJ22: =IF(AI22="","",VLOOKUP(AI22,$BS$5:$CC$24,5,0)) | AK22: =IF(AI22="","",VLOOKUP(AI22,$BS$5:$CC$24,6,0)) | AL22: =IF(AI22="","",VLOOKUP(AI22,$BS$5:$CC$24,7,0)) | AM22: =IF(AI22="","",VLOOKUP(AI22,$BS$5:$CC$24,8,0)) | AN22: =IF(AI22="","",VLOOKUP(AI22,$BS$5:$CC$24,9,0)) | AO22: =IF(AI22="","",VLOOKUP(AI22,$BS$5:$CC$24,10,0)) | AP22: =IF(AI22="","",VLOOKUP(AI22,$BS$5:$CC$24,11,0)) | AQ22: 18 | AR22: =AY22 | AS22: 18 | AT22: =BJ22 | AU22: 18 | AV22: =BU22 | AW22: =IF('Equipes et choix des points'!$A$19<>"",'Equipes et choix des points'!$A$19,"") | AX22: =IF('Equipes et choix des points'!A19="","",RANK(CD22,$CD$5:$CD$24)) | AY22: =IF(AW22="","",RANK(CE22,$CE$5:$CE$24)) | AZ22: =IF(AW22="","",SUMPRODUCT(($C$4:$C$383=AW22)*($CV$4:$CV$383))+SUMPRODUCT(($F$4:$F$383=AW22)*($CW$4:$CW$383))) | BA22: =IF(AW22="","",SUMPRODUCT(($C$4:$C$383=AW22)*($CX$4:$CX$383))+SUMPRODUCT(($F$4:$F$383=AW22)*($CY$4:$CY$383))) | BB22: =IF(AW22="","",SUMPRODUCT(($C$4:$C$383=AW22)*($CZ$4:$CZ$383))+SUMPRODUCT(($F$4:$F$383=AW22)*($DA$4:$DA$383))) | BC22: =IF(AW22="","",SUMPRODUCT(($C$4:$C$383=AW22)*($DB$4:$DB$383))+SUMPRODUCT(($F$4:$F$383=AW22)*($DC$4:$DC$383))) | BD22: =IF(AW22="","",SUMPRODUCT(($C$4:$C$383=AW22)*($DD$4:$DD$383))+SUMPRODUCT(($F$4:$F$383=AW22)*($DE$4:$DE$383))) | BE22: =IF(AW22="","",SUMPRODUCT(($C$4:$C$383=AW22)*($DF$4:$DF$383))+SUMPRODUCT(($F$4:$F$383=AW22)*($DG$4:$DG$383))) | BF22: =IF(AW22="","",SUMPRODUCT(($C$4:$C$383=AW22)*($DH$4:$DH$383))+SUMPRODUCT(($F$4:$F$383=AW22)*($DI$4:$DI$383))) | BG22: =IF(AW22="","",BE22-BF22) | BH22: =IF('Equipes et choix des points'!$A$19<>"",'Equipes et choix des points'!$A$19,"") | BI22: =IF(BH22="","",RANK(CF22,$CF$5:$CF$24)) | BJ22: =IF(BH22="","",RANK(CG22,$CG$5:$CG$24)) | BK22: =IF(BH22="","",SUMPRODUCT(($C$4:$C$383=BH22)*($CV$4:$CV$383))) | BL22: =IF(BH22="","",SUMPRODUCT(($C$4:$C$383=BH22)*($CX$4:$CX$383))) | BM22: =IF(BH22="","",SUMPRODUCT(($C$4:$C$383=BH22)*($CZ$4:$CZ$383))) | BN22: =IF(BH22="","",SUMPRODUCT(($C$4:$C$383=BH22)*($DB$4:$DB$383))) | BO22: =IF(BH22="","",SUMPRODUCT(($C$4:$C$383=BH22)*($DD$4:$DD$383))) | BP22: =IF(BH22="","",SUMPRODUCT(($C$4:$C$383=BH22)*($DF$4:$DF$383))) | BQ22: =IF(BH22="","",SUMPRODUCT(($C$4:$C$383=BH22)*($DH$4:$DH$383))) | BR22: =IF(BH22="","",BP22-BQ22) | BS22: =IF('Equipes et choix des points'!$A$19<>"",'Equipes et choix des points'!$A$19,"") | BT22: =IF(BS22="","",RANK(CH22,$CH$5:$CH$24)) | BU22: =IF(BS22="","",RANK(CI22,$CI$5:$CI$24)) | BV22: =IF(BS22="","",SUMPRODUCT(($F$4:$F$383=BS22)*($CW$4:$CW$383))) | BW22: =IF(BS22="","",SUMPRODUCT(($F$4:$F$383=BS22)*($CY$4:$CY$383))) | BX22: =IF(BS22="","",SUMPRODUCT(($F$4:$F$383=BS22)*($DA$4:$DA$383))) | BY22: =IF(BS22="","",SUMPRODUCT(($F$4:$F$383=BS22)*($DC$4:$DC$383))) | BZ22: =IF(BS22="","",SUMPRODUCT(($F$4:$F$383=BS22)*($DE$4:$DE$383))) | CA22: =IF(BS22="","",SUMPRODUCT(($F$4:$F$383=BS22)*($DG$4:$DG$383))) | CB22: =IF(BS22="","",SUMPRODUCT(($F$4:$F$383=BS22)*($DI$4:$DI$383))) | CC22: =IF(BS22="","",CA22-CB22) | CD22: =IFERROR(SUM(AZ22*1000+(BG22)/100+(BE22)/1000),"") | CE22: =IFERROR(SUM(CD22+0.0000003),"") | CF22: =IFERROR(SUM(BK22*1000+(BR22)/100+(BP22)/1000),"") | CG22: =IFERROR(SUM(CF22+0.0000003),"") | CH22: =IFERROR(SUM(BV22*1000+(CC22)/100+(CA22)/1000),"") | CI22: =IFERROR(SUM(CH22+0.0000003),"") | CJ22: =A22 -> 0 | CK22: =H22 -> 0 | CL22: =IF(B22="Forfait Perdant",3,"") | CM22: =IF(G22="Forfait Perdant",3,"") | CN22: =IF(B22="Forfait Gagnant",0,"") | CO22: =IF(G22="Forfait Gagnant",0,"") | CP22: =IF(D22="",0,IF(D22=E22,0,IF(D22<E22,0,IF('Equipes et choix des points'!$I$2=1,IF('Matchs et classements'!D22>'Matchs et classements'!E22,3),IF('Equipes et choix des points'!$I$2=2,IF('Matchs et classements'!D22>E22,4)))))) -> 0 | CQ22: =IF(E22="",0,IF(E22=D22,0,IF(E22<D22,0,IF('Equipes et choix des points'!$I$2=1,IF('Matchs et classements'!E22>'Matchs et classements'!D22,3),IF('Equipes et choix des points'!$I$2=2,IF('Matchs et classements'!E22>'Matchs et classements'!D22,4)))))) -> 0 | CR22: =IF(D22="",0,IF(D22>E22,0,IF(D22<E22,0,IF('Equipes et choix des points'!$I$2=1,IF('Matchs et classements'!D22='Matchs et classements'!E22,1),IF('Equipes et choix des points'!$I$2=2,IF('Matchs et classements'!D22='Matchs et classements'!E22,2)))))) -> 0 | CS22: =IF(E22="",0,IF(E22>D22,0,IF(E22<D22,0,IF('Equipes et choix des points'!$I$2=1,IF('Matchs et classements'!E22='Matchs et classements'!D22,1),IF('Equipes et choix des points'!$I$2=2,IF('Matchs et classements'!E22='Matchs et classements'!D22,2)))))) -> 0 | CT22: =IF(D22="",0,IF(D22>E22,0,IF(D22=E22,0,IF('Equipes et choix des points'!$I$2=1,IF('Matchs et classements'!D22<'Matchs et classements'!E22,0),IF('Equipes et choix des points'!$I$2=2,IF('Matchs et classements'!D22<'Matchs et classements'!E22,1)))))) -> 0 | CU22: =IF(E22="",0,IF(E22>D22,0,IF(E22=D22,0,IF('Equipes et choix des points'!$I$2=1,IF('Matchs et classements'!E22<'Matchs et classements'!D22,0),IF('Equipes et choix des points'!$I$2=2,IF('Matchs et classements'!E22<'Matchs et classements'!D22,1)))))) -> 0 | CV22: =SUM(CP22,CR22,CT22)-SUM(CJ22,CL22) -> 0 | CW22: =SUM(CO22,CQ22,CS22)-SUM(CK22,CM22) -> 0 | CX22: =IF(B22="Forfait perdant",0,IF(B22="Forfait Général",0,IF(D22="",0,1))) -> 0 | CY22: =IF(G22="Forfait Perdant",0,IF(G22="Forfait Général",0,IF(E22="",0,1))) -> 0 | CZ22: =IF(D22<>"",IF(D22>E22,1)) -> FALSE | DA22: =IF(E22<>"",IF(E22>D22,1)) -> FALSE | DB22: =IF(D22<>"",IF(D22=E22,1)) -> FALSE | DC22: =IF(E22<>"",IF(E22=D22,1)) -> FALSE | DD22: =IF(D22<>"",IF(D22<E22,1)) -> FALSE | DE22: =IF(E22<>"",IF(E22<D22,1)) -> FALSE | DF22: =D22 -> 0 | DG22: =E22 -> 0 | DH22: =E22 -> 0 | DI22: =D22 -> 0 | DJ22: =IF(AW22="","",VLOOKUP(AQ22,$AR$5:$AW$24,6,0)) | DK22: =IFERROR(VLOOKUP(DJ22,AW$5:CD41,34,0),"") | DL22: =IF(DJ22="","",RANK(DK22,DK5:DK24)) | DM22: =IF(AW22="","",AW22) | DN22: =IFERROR(VLOOKUP(AS22,$AT$5:$BH$24,15,0),"") | DO22: =IFERROR(VLOOKUP(DN22,$BH$5:$CF$24,25,0),"") | DP22: =IF(DN22="","",RANK(DO22,DO5:DO24)) | DQ22: =IF(BH22="","",BH22) | DR22: =IFERROR(VLOOKUP(AU22,$AV$5:$BS$24,24,0),"") | DS22: =IFERROR(VLOOKUP(DR22,$BS$5:$CH$24,16,0),"") | DT22: =IF(DR22="","",RANK(DS22,DS5:DS24))
M23: =IF(O23="","",IF(DK23=DK22,DL22,DL23)) | N23: =IF(O23="","",VLOOKUP(O23,$AW$5:$BG$24,4,0)) | O23: =IF('Equipes et choix des points'!A20="","",VLOOKUP('Matchs et classements'!AQ23,'Matchs et classements'!$AR$5:$AW$24,6,0)) | P23: =IF(O23="","",VLOOKUP(O23,$AW$5:$BG$24,5,0)) | Q23: =IF(O23="","",VLOOKUP(O23,$AW$5:$BG$24,6,0)) | R23: =IF(O23="","",VLOOKUP(O23,$AW$5:$BG$24,7,0)) | S23: =IF(O23="","",VLOOKUP(O23,$AW$5:$BG$24,8,0)) | T23: =IF(O23="","",VLOOKUP(O23,$AW$5:$BG$24,9,0)) | U23: =IF(O23="","",VLOOKUP(O23,$AW$5:$BG$24,10,0)) | V23: =IF(O23="","",VLOOKUP(O23,$AW$5:$BG$24,11,0)) | W23: =IF(Y23="","",IF(DO23=DO22,DP22,DP23)) | X23: =IF(Y23="","",VLOOKUP(Y23,$BH$5:$BR$24,4,0)) | Y23: =IF('Equipes et choix des points'!A20="","",VLOOKUP('Matchs et classements'!AS23,'Matchs et classements'!$AT$5:$BH$24,15,0)) | Z23: =IF(Y23="","",VLOOKUP(Y23,$BH$5:$BR$24,5,0)) | AA23: =IF(Y23="","",VLOOKUP(Y23,$BH$5:$BR$24,6,0)) | AB23: =IF(Y23="","",VLOOKUP(Y23,$BH$5:$BR$24,7,0)) | AC23: =IF(Y23="","",VLOOKUP(Y23,$BH$5:$BR$24,8,0)) | AD23: =IF(Y23="","",VLOOKUP(Y23,$BH$5:$BR$24,9,0)) | AE23: =IF(Y23="","",VLOOKUP(Y23,$BH$5:$BR$24,10,0)) | AF23: =IF(Y23="","",VLOOKUP(Y23,$BH$5:$BR$24,11,0)) | AG23: =IF(AI23="","",IF(DS23=DS22,DT22,DT23)) | AH23: =IF(AI23="","",VLOOKUP(AI23,$BS$5:$CC$24,4,0)) | AI23: =IF('Equipes et choix des points'!A20="","",VLOOKUP('Matchs et classements'!AU23,'Matchs et classements'!$AV$5:$BS$24,24,0)) | AJ23: =IF(AI23="","",VLOOKUP(AI23,$BS$5:$CC$24,5,0)) | AK23: =IF(AI23="","",VLOOKUP(AI23,$BS$5:$CC$24,6,0)) | AL23: =IF(AI23="","",VLOOKUP(AI23,$BS$5:$CC$24,7,0)) | AM23: =IF(AI23="","",VLOOKUP(AI23,$BS$5:$CC$24,8,0)) | AN23: =IF(AI23="","",VLOOKUP(AI23,$BS$5:$CC$24,9,0)) | AO23: =IF(AI23="","",VLOOKUP(AI23,$BS$5:$CC$24,10,0)) | AP23: =IF(AI23="","",VLOOKUP(AI23,$BS$5:$CC$24,11,0)) | AQ23: 19 | AR23: =AY23 | AS23: 19 | AT23: =BJ23 | AU23: 19 | AV23: =BU23 | AW23: =IF('Equipes et choix des points'!$A$20<>"",'Equipes et choix des points'!$A$20,"") | AX23: =IF('Equipes et choix des points'!A20="","",RANK(CD23,$CD$5:$CD$24)) | AY23: =IF(AW23="","",RANK(CE23,$CE$5:$CE$24)) | AZ23: =IF(AW23="","",SUMPRODUCT(($C$4:$C$383=AW23)*($CV$4:$CV$383))+SUMPRODUCT(($F$4:$F$383=AW23)*($CW$4:$CW$383))) | BA23: =IF(AW23="","",SUMPRODUCT(($C$4:$C$383=AW23)*($CX$4:$CX$383))+SUMPRODUCT(($F$4:$F$383=AW23)*($CY$4:$CY$383))) | BB23: =IF(AW23="","",SUMPRODUCT(($C$4:$C$383=AW23)*($CZ$4:$CZ$383))+SUMPRODUCT(($F$4:$F$383=AW23)*($DA$4:$DA$383))) | BC23: =IF(AW23="","",SUMPRODUCT(($C$4:$C$383=AW23)*($DB$4:$DB$383))+SUMPRODUCT(($F$4:$F$383=AW23)*($DC$4:$DC$383))) | BD23: =IF(AW23="","",SUMPRODUCT(($C$4:$C$383=AW23)*($DD$4:$DD$383))+SUMPRODUCT(($F$4:$F$383=AW23)*($DE$4:$DE$383))) | BE23: =IF(AW23="","",SUMPRODUCT(($C$4:$C$383=AW23)*($DF$4:$DF$383))+SUMPRODUCT(($F$4:$F$383=AW23)*($DG$4:$DG$383))) | BF23: =IF(AW23="","",SUMPRODUCT(($C$4:$C$383=AW23)*($DH$4:$DH$383))+SUMPRODUCT(($F$4:$F$383=AW23)*($DI$4:$DI$383))) | BG23: =IF(AW23="","",BE23-BF23) | BH23: =IF('Equipes et choix des points'!$A$20<>"",'Equipes et choix des points'!$A$20,"") | BI23: =IF(BH23="","",RANK(CF23,$CF$5:$CF$24)) | BJ23: =IF(BH23="","",RANK(CG23,$CG$5:$CG$24)) | BK23: =IF(BH23="","",SUMPRODUCT(($C$4:$C$383=BH23)*($CV$4:$CV$383))) | BL23: =IF(BH23="","",SUMPRODUCT(($C$4:$C$383=BH23)*($CX$4:$CX$383))) | BM23: =IF(BH23="","",SUMPRODUCT(($C$4:$C$383=BH23)*($CZ$4:$CZ$383))) | BN23: =IF(BH23="","",SUMPRODUCT(($C$4:$C$383=BH23)*($DB$4:$DB$383))) | BO23: =IF(BH23="","",SUMPRODUCT(($C$4:$C$383=BH23)*($DD$4:$DD$383))) | BP23: =IF(BH23="","",SUMPRODUCT(($C$4:$C$383=BH23)*($DF$4:$DF$383))) | BQ23: =IF(BH23="","",SUMPRODUCT(($C$4:$C$383=BH23)*($DH$4:$DH$383))) | BR23: =IF(BH23="","",BP23-BQ23) | BS23: =IF('Equipes et choix des points'!$A$20<>"",'Equipes et choix des points'!$A$20,"") | BT23: =IF(BS23="","",RANK(CH23,$CH$5:$CH$24)) | BU23: =IF(BS23="","",RANK(CI23,$CI$5:$CI$24)) | BV23: =IF(BS23="","",SUMPRODUCT(($F$4:$F$383=BS23)*($CW$4:$CW$383))) | BW23: =IF(BS23="","",SUMPRODUCT(($F$4:$F$383=BS23)*($CY$4:$CY$383))) | BX23: =IF(BS23="","",SUMPRODUCT(($F$4:$F$383=BS23)*($DA$4:$DA$383))) | BY23: =IF(BS23="","",SUMPRODUCT(($F$4:$F$383=BS23)*($DC$4:$DC$383))) | BZ23: =IF(BS23="","",SUMPRODUCT(($F$4:$F$383=BS23)*($DE$4:$DE$383))) | CA23: =IF(BS23="","",SUMPRODUCT(($F$4:$F$383=BS23)*($DG$4:$DG$383))) | CB23: =IF(BS23="","",SUMPRODUCT(($F$4:$F$383=BS23)*($DI$4:$DI$383))) | CC23: =IF(BS23="","",CA23-CB23) | CD23: =IFERROR(SUM(AZ23*1000+(BG23)/100+(BE23)/1000),"") | CE23: =IFERROR(SUM(CD23+0.0000002),"") | CF23: =IFERROR(SUM(BK23*1000+(BR23)/100+(BP23)/1000),"") | CG23: =IFERROR(SUM(CF23+0.0000002),"") | CH23: =IFERROR(SUM(BV23*1000+(CC23)/100+(CA23)/1000),"") | CI23: =IFERROR(SUM(CH23+0.0000002),"") | CJ23: =A23 -> 0 | CK23: =H23 -> 0 | CL23: =IF(B23="Forfait Perdant",3,"") | CM23: =IF(G23="Forfait Perdant",3,"") | CN23: =IF(B23="Forfait Gagnant",0,"") | CO23: =IF(G23="Forfait Gagnant",0,"") | CP23: =IF(D23="",0,IF(D23=E23,0,IF(D23<E23,0,IF('Equipes et choix des points'!$I$2=1,IF('Matchs et classements'!D23>'Matchs et classements'!E23,3),IF('Equipes et choix des points'!$I$2=2,IF('Matchs et classements'!D23>E23,4)))))) -> 0 | CQ23: =IF(E23="",0,IF(E23=D23,0,IF(E23<D23,0,IF('Equipes et choix des points'!$I$2=1,IF('Matchs et classements'!E23>'Matchs et classements'!D23,3),IF('Equipes et choix des points'!$I$2=2,IF('Matchs et classements'!E23>'Matchs et classements'!D23,4)))))) -> 0 | CR23: =IF(D23="",0,IF(D23>E23,0,IF(D23<E23,0,IF('Equipes et choix des points'!$I$2=1,IF('Matchs et classements'!D23='Matchs et classements'!E23,1),IF('Equipes et choix des points'!$I$2=2,IF('Matchs et classements'!D23='Matchs et classements'!E23,2)))))) -> 0 | CS23: =IF(E23="",0,IF(E23>D23,0,IF(E23<D23,0,IF('Equipes et choix des points'!$I$2=1,IF('Matchs et classements'!E23='Matchs et classements'!D23,1),IF('Equipes et choix des points'!$I$2=2,IF('Matchs et classements'!E23='Matchs et classements'!D23,2)))))) -> 0 | CT23: =IF(D23="",0,IF(D23>E23,0,IF(D23=E23,0,IF('Equipes et choix des points'!$I$2=1,IF('Matchs et classements'!D23<'Matchs et classements'!E23,0),IF('Equipes et choix des points'!$I$2=2,IF('Matchs et classements'!D23<'Matchs et classements'!E23,1)))))) -> 0 | CU23: =IF(E23="",0,IF(E23>D23,0,IF(E23=D23,0,IF('Equipes et choix des points'!$I$2=1,IF('Matchs et classements'!E23<'Matchs et classements'!D23,0),IF('Equipes et choix des points'!$I$2=2,IF('Matchs et classements'!E23<'Matchs et classements'!D23,1)))))) -> 0 | CV23: =SUM(CP23,CR23,CT23)-SUM(CJ23,CL23) -> 0 | CW23: =SUM(CO23,CQ23,CS23)-SUM(CK23,CM23) -> 0 | CX23: =IF(B23="Forfait perdant",0,IF(B23="Forfait Général",0,IF(D23="",0,1))) -> 0 | CY23: =IF(G23="Forfait Perdant",0,IF(G23="Forfait Général",0,IF(E23="",0,1))) -> 0 | CZ23: =IF(D23<>"",IF(D23>E23,1)) -> FALSE | DA23: =IF(E23<>"",IF(E23>D23,1)) -> FALSE | DB23: =IF(D23<>"",IF(D23=E23,1)) -> FALSE | DC23: =IF(E23<>"",IF(E23=D23,1)) -> FALSE | DD23: =IF(D23<>"",IF(D23<E23,1)) -> FALSE | DE23: =IF(E23<>"",IF(E23<D23,1)) -> FALSE | DF23: =D23 -> 0 | DG23: =E23 -> 0 | DH23: =E23 -> 0 | DI23: =D23 -> 0 | DJ23: =IF(AW23="","",VLOOKUP(AQ23,$AR$5:$AW$24,6,0)) | DK23: =IFERROR(VLOOKUP(DJ23,AW$5:CD42,34,0),"") | DL23: =IF(DJ23="","",RANK(DK23,DK5:DK24)) | DM23: =IF(AW23="","",AW23) | DN23: =IFERROR(VLOOKUP(AS23,$AT$5:$BH$24,15,0),"") | DO23: =IFERROR(VLOOKUP(DN23,$BH$5:$CF$24,25,0),"") | DP23: =IF(DN23="","",RANK(DO23,DO5:DO24)) | DQ23: =IF(BH23="","",BH23) | DR23: =IFERROR(VLOOKUP(AU23,$AV$5:$BS$24,24,0),"") | DS23: =IFERROR(VLOOKUP(DR23,$BS$5:$CH$24,16,0),"") | DT23: =IF(DR23="","",RANK(DS23,DS5:DS24))
K24: 3 | M24: =IF(O24="","",IF(DK24=DK23,DL23,DL24)) | N24: =IF(O24="","",VLOOKUP(O24,$AW$5:$BG$24,4,0)) | O24: =IF('Equipes et choix des points'!A21="","",VLOOKUP('Matchs et classements'!AQ24,'Matchs et classements'!$AR$5:$AW$24,6,0)) | P24: =IF(O24="","",VLOOKUP(O24,$AW$5:$BG$24,5,0)) | Q24: =IF(O24="","",VLOOKUP(O24,$AW$5:$BG$24,6,0)) | R24: =IF(O24="","",VLOOKUP(O24,$AW$5:$BG$24,7,0)) | S24: =IF(O24="","",VLOOKUP(O24,$AW$5:$BG$24,8,0)) | T24: =IF(O24="","",VLOOKUP(O24,$AW$5:$BG$24,9,0)) | U24: =IF(O24="","",VLOOKUP(O24,$AW$5:$BG$24,10,0)) | V24: =IF(O24="","",VLOOKUP(O24,$AW$5:$BG$24,11,0)) | W24: =IF(Y24="","",IF(DO24=DO23,DP23,DP24)) | X24: =IF(Y24="","",VLOOKUP(Y24,$BH$5:$BR$24,4,0)) | Y24: =IF('Equipes et choix des points'!A21="","",VLOOKUP('Matchs et classements'!AS24,'Matchs et classements'!$AT$5:$BH$24,15,0)) | Z24: =IF(Y24="","",VLOOKUP(Y24,$BH$5:$BR$24,5,0)) | AA24: =IF(Y24="","",VLOOKUP(Y24,$BH$5:$BR$24,6,0)) | AB24: =IF(Y24="","",VLOOKUP(Y24,$BH$5:$BR$24,7,0)) | AC24: =IF(Y24="","",VLOOKUP(Y24,$BH$5:$BR$24,8,0)) | AD24: =IF(Y24="","",VLOOKUP(Y24,$BH$5:$BR$24,9,0)) | AE24: =IF(Y24="","",VLOOKUP(Y24,$BH$5:$BR$24,10,0)) | AF24: =IF(Y24="","",VLOOKUP(Y24,$BH$5:$BR$24,11,0)) | AG24: =IF(AI24="","",IF(DS24=DS23,DT23,DT24)) | AH24: =IF(AI24="","",VLOOKUP(AI24,$BS$5:$CC$24,4,0)) | AI24: =IF('Equipes et choix des points'!A21="","",VLOOKUP('Matchs et classements'!AU24,'Matchs et classements'!$AV$5:$BS$24,24,0)) | AJ24: =IF(AI24="","",VLOOKUP(AI24,$BS$5:$CC$24,5,0)) | AK24: =IF(AI24="","",VLOOKUP(AI24,$BS$5:$CC$24,6,0)) | AL24: =IF(AI24="","",VLOOKUP(AI24,$BS$5:$CC$24,7,0)) | AM24: =IF(AI24="","",VLOOKUP(AI24,$BS$5:$CC$24,8,0)) | AN24: =IF(AI24="","",VLOOKUP(AI24,$BS$5:$CC$24,9,0)) | AO24: =IF(AI24="","",VLOOKUP(AI24,$BS$5:$CC$24,10,0)) | AP24: =IF(AI24="","",VLOOKUP(AI24,$BS$5:$CC$24,11,0)) | AQ24: 20 | AR24: =AY24 | AS24: 20 | AT24: =BJ24 | AU24: 20 | AV24: =BU24 | AW24: =IF('Equipes et choix des points'!$A$21<>"",'Equipes et choix des points'!$A$21,"") | AX24: =IF('Equipes et choix des points'!A21="","",RANK(CD24,$CD$5:$CD$24)) | AY24: =IF(AW24="","",RANK(CE24,$CE$5:$CE$24)) | AZ24: =IF(AW24="","",SUMPRODUCT(($C$4:$C$383=AW24)*($CV$4:$CV$383))+SUMPRODUCT(($F$4:$F$383=AW24)*($CW$4:$CW$383))) | BA24: =IF(AW24="","",SUMPRODUCT(($C$4:$C$383=AW24)*($CX$4:$CX$383))+SUMPRODUCT(($F$4:$F$383=AW24)*($CY$4:$CY$383))) | BB24: =IF(AW24="","",SUMPRODUCT(($C$4:$C$383=AW24)*($CZ$4:$CZ$383))+SUMPRODUCT(($F$4:$F$383=AW24)*($DA$4:$DA$383))) | BC24: =IF(AW24="","",SUMPRODUCT(($C$4:$C$383=AW24)*($DB$4:$DB$383))+SUMPRODUCT(($F$4:$F$383=AW24)*($DC$4:$DC$383))) | BD24: =IF(AW24="","",SUMPRODUCT(($C$4:$C$383=AW24)*($DD$4:$DD$383))+SUMPRODUCT(($F$4:$F$383=AW24)*($DE$4:$DE$383))) | BE24: =IF(AW24="","",SUMPRODUCT(($C$4:$C$383=AW24)*($DF$4:$DF$383))+SUMPRODUCT(($F$4:$F$383=AW24)*($DG$4:$DG$383))) | BF24: =IF(AW24="","",SUMPRODUCT(($C$4:$C$383=AW24)*($DH$4:$DH$383))+SUMPRODUCT(($F$4:$F$383=AW24)*($DI$4:$DI$383))) | BG24: =IF(AW24="","",BE24-BF24) | BH24: =IF('Equipes et choix des points'!$A$21<>"",'Equipes et choix des points'!$A$21,"") | BI24: =IF(BH24="","",RANK(CF24,$CF$5:$CF$24)) | BJ24: =IF(BH24="","",RANK(CG24,$CG$5:$CG$24)) | BK24: =IF(BH24="","",SUMPRODUCT(($C$4:$C$383=BH24)*($CV$4:$CV$383))) | BL24: =IF(BH24="","",SUMPRODUCT(($C$4:$C$383=BH24)*($CX$4:$CX$383))) | BM24: =IF(BH24="","",SUMPRODUCT(($C$4:$C$383=BH24)*($CZ$4:$CZ$383))) | BN24: =IF(BH24="","",SUMPRODUCT(($C$4:$C$383=BH24)*($DB$4:$DB$383))) | BO24: =IF(BH24="","",SUMPRODUCT(($C$4:$C$383=BH24)*($DD$4:$DD$383))) | BP24: =IF(BH24="","",SUMPRODUCT(($C$4:$C$383=BH24)*($DF$4:$DF$383))) | BQ24: =IF(BH24="","",SUMPRODUCT(($C$4:$C$383=BH24)*($DH$4:$DH$383))) | BR24: =IF(BH24="","",BP24-BQ24) | BS24: =IF('Equipes et choix des points'!$A$21<>"",'Equipes et choix des points'!$A$21,"") | BT24: =IF(BS24="","",RANK(CH24,$CH$5:$CH$24)) | BU24: =IF(BS24="","",RANK(CI24,$CI$5:$CI$24)) | BV24: =IF(BS24="","",SUMPRODUCT(($F$4:$F$383=BS24)*($CW$4:$CW$383))) | BW24: =IF(BS24="","",SUMPRODUCT(($F$4:$F$383=BS24)*($CY$4:$CY$383))) | BX24: =IF(BS24="","",SUMPRODUCT(($F$4:$F$383=BS24)*($DA$4:$DA$383))) | BY24: =IF(BS24="","",SUMPRODUCT(($F$4:$F$383=BS24)*($DC$4:$DC$383))) | BZ24: =IF(BS24="","",SUMPRODUCT(($F$4:$F$383=BS24)*($DE$4:$DE$383))) | CA24: =IF(BS24="","",SUMPRODUCT(($F$4:$F$383=BS24)*($DG$4:$DG$383))) | CB24: =IF(BS24="","",SUMPRODUCT(($F$4:$F$383=BS24)*($DI$4:$DI$383))) | CC24: =IF(BS24="","",CA24-CB24) | CD24: =IFERROR(SUM(AZ24*1000+(BG24)/100+(BE24)/1000),"") | CE24: =IFERROR(SUM(CD24+0.0000001),"") | CF24: =IFERROR(SUM(BK24*1000+(BR24)/100+(BP24)/1000),"") | CG24: =IFERROR(SUM(CF24+0.0000001),"") | CH24: =IFERROR(SUM(BV24*1000+(CC24)/100+(CA24)/1000),"") | CI24: =IFERROR(SUM(CH24+0.0000001),"") | CJ24: =A24 -> 0 | CK24: =H24 -> 0 | CL24: =IF(B24="Forfait Perdant",3,"") | CM24: =IF(G24="Forfait Perdant",3,"") | CN24: =IF(B24="Forfait Gagnant",0,"") | CO24: =IF(G24="Forfait Gagnant",0,"") | CP24: =IF(D24="",0,IF(D24=E24,0,IF(D24<E24,0,IF('Equipes et choix des points'!$I$2=1,IF('Matchs et classements'!D24>'Matchs et classements'!E24,3),IF('Equipes et choix des points'!$I$2=2,IF('Matchs et classements'!D24>E24,4)))))) -> 0 | CQ24: =IF(E24="",0,IF(E24=D24,0,IF(E24<D24,0,IF('Equipes et choix des points'!$I$2=1,IF('Matchs et classements'!E24>'Matchs et classements'!D24,3),IF('Equipes et choix des points'!$I$2=2,IF('Matchs et classements'!E24>'Matchs et classements'!D24,4)))))) -> 0 | CR24: =IF(D24="",0,IF(D24>E24,0,IF(D24<E24,0,IF('Equipes et choix des points'!$I$2=1,IF('Matchs et classements'!D24='Matchs et classements'!E24,1),IF('Equipes et choix des points'!$I$2=2,IF('Matchs et classements'!D24='Matchs et classements'!E24,2)))))) -> 0 | CS24: =IF(E24="",0,IF(E24>D24,0,IF(E24<D24,0,IF('Equipes et choix des points'!$I$2=1,IF('Matchs et classements'!E24='Matchs et classements'!D24,1),IF('Equipes et choix des points'!$I$2=2,IF('Matchs et classements'!E24='Matchs et classements'!D24,2)))))) -> 0 | CT24: =IF(D24="",0,IF(D24>E24,0,IF(D24=E24,0,IF('Equipes et choix des points'!$I$2=1,IF('Matchs et classements'!D24<'Matchs et classements'!E24,0),IF('Equipes et choix des points'!$I$2=2,IF('Matchs et classements'!D24<'Matchs et classements'!E24,1)))))) -> 0 | CU24: =IF(E24="",0,IF(E24>D24,0,IF(E24=D24,0,IF('Equipes et choix des points'!$I$2=1,IF('Matchs et classements'!E24<'Matchs et classements'!D24,0),IF('Equipes et choix des points'!$I$2=2,IF('Matchs et classements'!E24<'Matchs et classements'!D24,1)))))) -> 0 | CV24: =SUM(CP24,CR24,CT24)-SUM(CJ24,CL24) -> 0 | CW24: =SUM(CO24,CQ24,CS24)-SUM(CK24,CM24) -> 0 | CX24: =IF(B24="Forfait perdant",0,IF(B24="Forfait Général",0,IF(D24="",0,1))) -> 0 | CY24: =IF(G24="Forfait Perdant",0,IF(G24="Forfait Général",0,IF(E24="",0,1))) -> 0 | CZ24: =IF(D24<>"",IF(D24>E24,1)) -> FALSE | DA24: =IF(E24<>"",IF(E24>D24,1)) -> FALSE | DB24: =IF(D24<>"",IF(D24=E24,1)) -> FALSE | DC24: =IF(E24<>"",IF(E24=D24,1)) -> FALSE | DD24: =IF(D24<>"",IF(D24<E24,1)) -> FALSE | DE24: =IF(E24<>"",IF(E24<D24,1)) -> FALSE | DF24: =D24 -> 0 | DG24: =E24 -> 0 | DH24: =E24 -> 0 | DI24: =D24 -> 0 | DJ24: =IF(AW24="","",VLOOKUP(AQ24,$AR$5:$AW$24,6,0)) | DK24: =IFERROR(VLOOKUP(DJ24,AW$5:CD43,34,0),"") | DL24: =IF(DJ24="","",RANK(DK24,DK5:DK24)) | DM24: =IF(AW24="","",AW24) | DN24: =IFERROR(VLOOKUP(AS24,$AT$5:$BH$24,15,0),"") | DO24: =IFERROR(VLOOKUP(DN24,$BH$5:$CF$24,25,0),"") | DP24: =IF(DN24="","",RANK(DO24,DO5:DO24)) | DQ24: =IF(BH24="","",BH24) | DR24: =IFERROR(VLOOKUP(AU24,$AV$5:$BS$24,24,0),"") | DS24: =IFERROR(VLOOKUP(DR24,$BS$5:$CH$24,16,0),"") | DT24: =IF(DR24="","",RANK(DS24,DS5:DS24))
CJ25: =A25 -> 0 | CK25: =H25 -> 0 | CL25: =IF(B25="Forfait Perdant",3,"") | CM25: =IF(G25="Forfait Perdant",3,"") | CN25: =IF(B25="Forfait Gagnant",0,"") | CO25: =IF(G25="Forfait Gagnant",0,"") | CP25: =IF(D25="",0,IF(D25=E25,0,IF(D25<E25,0,IF('Equipes et choix des points'!$I$2=1,IF('Matchs et classements'!D25>'Matchs et classements'!E25,3),IF('Equipes et choix des points'!$I$2=2,IF('Matchs et classements'!D25>E25,4)))))) -> 0 | CQ25: =IF(E25="",0,IF(E25=D25,0,IF(E25<D25,0,IF('Equipes et choix des points'!$I$2=1,IF('Matchs et classements'!E25>'Matchs et classements'!D25,3),IF('Equipes et choix des points'!$I$2=2,IF('Matchs et classements'!E25>'Matchs et classements'!D25,4)))))) -> 0 | CR25: =IF(D25="",0,IF(D25>E25,0,IF(D25<E25,0,IF('Equipes et choix des points'!$I$2=1,IF('Matchs et classements'!D25='Matchs et classements'!E25,1),IF('Equipes et choix des points'!$I$2=2,IF('Matchs et classements'!D25='Matchs et classements'!E25,2)))))) -> 0 | CS25: =IF(E25="",0,IF(E25>D25,0,IF(E25<D25,0,IF('Equipes et choix des points'!$I$2=1,IF('Matchs et classements'!E25='Matchs et classements'!D25,1),IF('Equipes et choix des points'!$I$2=2,IF('Matchs et classements'!E25='Matchs et classements'!D25,2)))))) -> 0 | CT25: =IF(D25="",0,IF(D25>E25,0,IF(D25=E25,0,IF('Equipes et choix des points'!$I$2=1,IF('Matchs et classements'!D25<'Matchs et classements'!E25,0),IF('Equipes et choix des points'!$I$2=2,IF('Matchs et classements'!D25<'Matchs et classements'!E25,1)))))) -> 0 | CU25: =IF(E25="",0,IF(E25>D25,0,IF(E25=D25,0,IF('Equipes et choix des points'!$I$2=1,IF('Matchs et classements'!E25<'Matchs et classements'!D25,0),IF('Equipes et choix des points'!$I$2=2,IF('Matchs et classements'!E25<'Matchs et classements'!D25,1)))))) -> 0 | CV25: =SUM(CP25,CR25,CT25)-SUM(CJ25,CL25) -> 0 | CW25: =SUM(CO25,CQ25,CS25)-SUM(CK25,CM25) -> 0 | CX25: =IF(B25="Forfait perdant",0,IF(B25="Forfait Général",0,IF(D25="",0,1))) -> 0 | CY25: =IF(G25="Forfait Perdant",0,IF(G25="Forfait Général",0,IF(E25="",0,1))) -> 0 | CZ25: =IF(D25<>"",IF(D25>E25,1)) -> FALSE | DA25: =IF(E25<>"",IF(E25>D25,1)) -> FALSE | DB25: =IF(D25<>"",IF(D25=E25,1)) -> FALSE | DC25: =IF(E25<>"",IF(E25=D25,1)) -> FALSE | DD25: =IF(D25<>"",IF(D25<E25,1)) -> FALSE | DE25: =IF(E25<>"",IF(E25<D25,1)) -> FALSE | DF25: =D25 -> 0 | DG25: =E25 -> 0 | DH25: =E25 -> 0 | DI25: =D25 -> 0
CJ26: =A26 -> 0 | CK26: =H26 -> 0 | CL26: =IF(B26="Forfait Perdant",3,"") | CM26: =IF(G26="Forfait Perdant",3,"") | CN26: =IF(B26="Forfait Gagnant",0,"") | CO26: =IF(G26="Forfait Gagnant",0,"") | CP26: =IF(D26="",0,IF(D26=E26,0,IF(D26<E26,0,IF('Equipes et choix des points'!$I$2=1,IF('Matchs et classements'!D26>'Matchs et classements'!E26,3),IF('Equipes et choix des points'!$I$2=2,IF('Matchs et classements'!D26>E26,4)))))) -> 0 | CQ26: =IF(E26="",0,IF(E26=D26,0,IF(E26<D26,0,IF('Equipes et choix des points'!$I$2=1,IF('Matchs et classements'!E26>'Matchs et classements'!D26,3),IF('Equipes et choix des points'!$I$2=2,IF('Matchs et classements'!E26>'Matchs et classements'!D26,4)))))) -> 0 | CR26: =IF(D26="",0,IF(D26>E26,0,IF(D26<E26,0,IF('Equipes et choix des points'!$I$2=1,IF('Matchs et classements'!D26='Matchs et classements'!E26,1),IF('Equipes et choix des points'!$I$2=2,IF('Matchs et classements'!D26='Matchs et classements'!E26,2)))))) -> 0 | CS26: =IF(E26="",0,IF(E26>D26,0,IF(E26<D26,0,IF('Equipes et choix des points'!$I$2=1,IF('Matchs et classements'!E26='Matchs et classements'!D26,1),IF('Equipes et choix des points'!$I$2=2,IF('Matchs et classements'!E26='Matchs et classements'!D26,2)))))) -> 0 | CT26: =IF(D26="",0,IF(D26>E26,0,IF(D26=E26,0,IF('Equipes et choix des points'!$I$2=1,IF('Matchs et classements'!D26<'Matchs et classements'!E26,0),IF('Equipes et choix des points'!$I$2=2,IF('Matchs et classements'!D26<'Matchs et classements'!E26,1)))))) -> 0 | CU26: =IF(E26="",0,IF(E26>D26,0,IF(E26=D26,0,IF('Equipes et choix des points'!$I$2=1,IF('Matchs et classements'!E26<'Matchs et classements'!D26,0),IF('Equipes et choix des points'!$I$2=2,IF('Matchs et classements'!E26<'Matchs et classements'!D26,1)))))) -> 0 | CV26: =SUM(CP26,CR26,CT26)-SUM(CJ26,CL26) -> 0 | CW26: =SUM(CO26,CQ26,CS26)-SUM(CK26,CM26) -> 0 | CX26: =IF(B26="Forfait perdant",0,IF(B26="Forfait Général",0,IF(D26="",0,1))) -> 0 | CY26: =IF(G26="Forfait Perdant",0,IF(G26="Forfait Général",0,IF(E26="",0,1))) -> 0 | CZ26: =IF(D26<>"",IF(D26>E26,1)) -> FALSE | DA26: =IF(E26<>"",IF(E26>D26,1)) -> FALSE | DB26: =IF(D26<>"",IF(D26=E26,1)) -> FALSE | DC26: =IF(E26<>"",IF(E26=D26,1)) -> FALSE | DD26: =IF(D26<>"",IF(D26<E26,1)) -> FALSE | DE26: =IF(E26<>"",IF(E26<D26,1)) -> FALSE | DF26: =D26 -> 0 | DG26: =E26 -> 0 | DH26: =E26 -> 0 | DI26: =D26 -> 0
CJ27: =A27 -> 0 | CK27: =H27 -> 0 | CL27: =IF(B27="Forfait Perdant",3,"") | CM27: =IF(G27="Forfait Perdant",3,"") | CN27: =IF(B27="Forfait Gagnant",0,"") | CO27: =IF(G27="Forfait Gagnant",0,"") | CP27: =IF(D27="",0,IF(D27=E27,0,IF(D27<E27,0,IF('Equipes et choix des points'!$I$2=1,IF('Matchs et classements'!D27>'Matchs et classements'!E27,3),IF('Equipes et choix des points'!$I$2=2,IF('Matchs et classements'!D27>E27,4)))))) -> 0 | CQ27: =IF(E27="",0,IF(E27=D27,0,IF(E27<D27,0,IF('Equipes et choix des points'!$I$2=1,IF('Matchs et classements'!E27>'Matchs et classements'!D27,3),IF('Equipes et choix des points'!$I$2=2,IF('Matchs et classements'!E27>'Matchs et classements'!D27,4)))))) -> 0 | CR27: =IF(D27="",0,IF(D27>E27,0,IF(D27<E27,0,IF('Equipes et choix des points'!$I$2=1,IF('Matchs et classements'!D27='Matchs et classements'!E27,1),IF('Equipes et choix des points'!$I$2=2,IF('Matchs et classements'!D27='Matchs et classements'!E27,2)))))) -> 0 | CS27: =IF(E27="",0,IF(E27>D27,0,IF(E27<D27,0,IF('Equipes et choix des points'!$I$2=1,IF('Matchs et classements'!E27='Matchs et classements'!D27,1),IF('Equipes et choix des points'!$I$2=2,IF('Matchs et classements'!E27='Matchs et classements'!D27,2)))))) -> 0 | CT27: =IF(D27="",0,IF(D27>E27,0,IF(D27=E27,0,IF('Equipes et choix des points'!$I$2=1,IF('Matchs et classements'!D27<'Matchs et classements'!E27,0),IF('Equipes et choix des points'!$I$2=2,IF('Matchs et classements'!D27<'Matchs et classements'!E27,1)))))) -> 0 | CU27: =IF(E27="",0,IF(E27>D27,0,IF(E27=D27,0,IF('Equipes et choix des points'!$I$2=1,IF('Matchs et classements'!E27<'Matchs et classements'!D27,0),IF('Equipes et choix des points'!$I$2=2,IF('Matchs et classements'!E27<'Matchs et classements'!D27,1)))))) -> 0 | CV27: =SUM(CP27,CR27,CT27)-SUM(CJ27,CL27) -> 0 | CW27: =SUM(CO27,CQ27,CS27)-SUM(CK27,CM27) -> 0 | CX27: =IF(B27="Forfait perdant",0,IF(B27="Forfait Général",0,IF(D27="",0,1))) -> 0 | CY27: =IF(G27="Forfait Perdant",0,IF(G27="Forfait Général",0,IF(E27="",0,1))) -> 0 | CZ27: =IF(D27<>"",IF(D27>E27,1)) -> FALSE | DA27: =IF(E27<>"",IF(E27>D27,1)) -> FALSE | DB27: =IF(D27<>"",IF(D27=E27,1)) -> FALSE | DC27: =IF(E27<>"",IF(E27=D27,1)) -> FALSE | DD27: =IF(D27<>"",IF(D27<E27,1)) -> FALSE | DE27: =IF(E27<>"",IF(E27<D27,1)) -> FALSE | DF27: =D27 -> 0 | DG27: =E27 -> 0 | DH27: =E27 -> 0 | DI27: =D27 -> 0
CJ28: =A28 -> 0 | CK28: =H28 -> 0 | CL28: =IF(B28="Forfait Perdant",3,"") | CM28: =IF(G28="Forfait Perdant",3,"") | CN28: =IF(B28="Forfait Gagnant",0,"") | CO28: =IF(G28="Forfait Gagnant",0,"") | CP28: =IF(D28="",0,IF(D28=E28,0,IF(D28<E28,0,IF('Equipes et choix des points'!$I$2=1,IF('Matchs et classements'!D28>'Matchs et classements'!E28,3),IF('Equipes et choix des points'!$I$2=2,IF('Matchs et classements'!D28>E28,4)))))) -> 0 | CQ28: =IF(E28="",0,IF(E28=D28,0,IF(E28<D28,0,IF('Equipes et choix des points'!$I$2=1,IF('Matchs et classements'!E28>'Matchs et classements'!D28,3),IF('Equipes et choix des points'!$I$2=2,IF('Matchs et classements'!E28>'Matchs et classements'!D28,4)))))) -> 0 | CR28: =IF(D28="",0,IF(D28>E28,0,IF(D28<E28,0,IF('Equipes et choix des points'!$I$2=1,IF('Matchs et classements'!D28='Matchs et classements'!E28,1),IF('Equipes et choix des points'!$I$2=2,IF('Matchs et classements'!D28='Matchs et classements'!E28,2)))))) -> 0 | CS28: =IF(E28="",0,IF(E28>D28,0,IF(E28<D28,0,IF('Equipes et choix des points'!$I$2=1,IF('Matchs et classements'!E28='Matchs et classements'!D28,1),IF('Equipes et choix des points'!$I$2=2,IF('Matchs et classements'!E28='Matchs et classements'!D28,2)))))) -> 0 | CT28: =IF(D28="",0,IF(D28>E28,0,IF(D28=E28,0,IF('Equipes et choix des points'!$I$2=1,IF('Matchs et classements'!D28<'Matchs et classements'!E28,0),IF('Equipes et choix des points'!$I$2=2,IF('Matchs et classements'!D28<'Matchs et classements'!E28,1)))))) -> 0 | CU28: =IF(E28="",0,IF(E28>D28,0,IF(E28=D28,0,IF('Equipes et choix des points'!$I$2=1,IF('Matchs et classements'!E28<'Matchs et classements'!D28,0),IF('Equipes et choix des points'!$I$2=2,IF('Matchs et classements'!E28<'Matchs et classements'!D28,1)))))) -> 0 | CV28: =SUM(CP28,CR28,CT28)-SUM(CJ28,CL28) -> 0 | CW28: =SUM(CO28,CQ28,CS28)-SUM(CK28,CM28) -> 0 | CX28: =IF(B28="Forfait perdant",0,IF(B28="Forfait Général",0,IF(D28="",0,1))) -> 0 | CY28: =IF(G28="Forfait Perdant",0,IF(G28="Forfait Général",0,IF(E28="",0,1))) -> 0 | CZ28: =IF(D28<>"",IF(D28>E28,1)) -> FALSE | DA28: =IF(E28<>"",IF(E28>D28,1)) -> FALSE | DB28: =IF(D28<>"",IF(D28=E28,1)) -> FALSE | DC28: =IF(E28<>"",IF(E28=D28,1)) -> FALSE | DD28: =IF(D28<>"",IF(D28<E28,1)) -> FALSE | DE28: =IF(E28<>"",IF(E28<D28,1)) -> FALSE | DF28: =D28 -> 0 | DG28: =E28 -> 0 | DH28: =E28 -> 0 | DI28: =D28 -> 0
CJ29: =A29 -> 0 | CK29: =H29 -> 0 | CL29: =IF(B29="Forfait Perdant",3,"") | CM29: =IF(G29="Forfait Perdant",3,"") | CN29: =IF(B29="Forfait Gagnant",0,"") | CO29: =IF(G29="Forfait Gagnant",0,"") | CP29: =IF(D29="",0,IF(D29=E29,0,IF(D29<E29,0,IF('Equipes et choix des points'!$I$2=1,IF('Matchs et classements'!D29>'Matchs et classements'!E29,3),IF('Equipes et choix des points'!$I$2=2,IF('Matchs et classements'!D29>E29,4)))))) -> 0 | CQ29: =IF(E29="",0,IF(E29=D29,0,IF(E29<D29,0,IF('Equipes et choix des points'!$I$2=1,IF('Matchs et classements'!E29>'Matchs et classements'!D29,3),IF('Equipes et choix des points'!$I$2=2,IF('Matchs et classements'!E29>'Matchs et classements'!D29,4)))))) -> 0 | CR29: =IF(D29="",0,IF(D29>E29,0,IF(D29<E29,0,IF('Equipes et choix des points'!$I$2=1,IF('Matchs et classements'!D29='Matchs et classements'!E29,1),IF('Equipes et choix des points'!$I$2=2,IF('Matchs et classements'!D29='Matchs et classements'!E29,2)))))) -> 0 | CS29: =IF(E29="",0,IF(E29>D29,0,IF(E29<D29,0,IF('Equipes et choix des points'!$I$2=1,IF('Matchs et classements'!E29='Matchs et classements'!D29,1),IF('Equipes et choix des points'!$I$2=2,IF('Matchs et classements'!E29='Matchs et classements'!D29,2)))))) -> 0 | CT29: =IF(D29="",0,IF(D29>E29,0,IF(D29=E29,0,IF('Equipes et choix des points'!$I$2=1,IF('Matchs et classements'!D29<'Matchs et classements'!E29,0),IF('Equipes et choix des points'!$I$2=2,IF('Matchs et classements'!D29<'Matchs et classements'!E29,1)))))) -> 0 | CU29: =IF(E29="",0,IF(E29>D29,0,IF(E29=D29,0,IF('Equipes et choix des points'!$I$2=1,IF('Matchs et classements'!E29<'Matchs et classements'!D29,0),IF('Equipes et choix des points'!$I$2=2,IF('Matchs et classements'!E29<'Matchs et classements'!D29,1)))))) -> 0 | CV29: =SUM(CP29,CR29,CT29)-SUM(CJ29,CL29) -> 0 | CW29: =SUM(CO29,CQ29,CS29)-SUM(CK29,CM29) -> 0 | CX29: =IF(B29="Forfait perdant",0,IF(B29="Forfait Général",0,IF(D29="",0,1))) -> 0 | CY29: =IF(G29="Forfait Perdant",0,IF(G29="Forfait Général",0,IF(E29="",0,1))) -> 0 | CZ29: =IF(D29<>"",IF(D29>E29,1)) -> FALSE | DA29: =IF(E29<>"",IF(E29>D29,1)) -> FALSE | DB29: =IF(D29<>"",IF(D29=E29,1)) -> FALSE | DC29: =IF(E29<>"",IF(E29=D29,1)) -> FALSE | DD29: =IF(D29<>"",IF(D29<E29,1)) -> FALSE | DE29: =IF(E29<>"",IF(E29<D29,1)) -> FALSE | DF29: =D29 -> 0 | DG29: =E29 -> 0 | DH29: =E29 -> 0 | DI29: =D29 -> 0
CJ30: =A30 -> 0 | CK30: =H30 -> 0 | CL30: =IF(B30="Forfait Perdant",3,"") | CM30: =IF(G30="Forfait Perdant",3,"") | CN30: =IF(B30="Forfait Gagnant",0,"") | CO30: =IF(G30="Forfait Gagnant",0,"") | CP30: =IF(D30="",0,IF(D30=E30,0,IF(D30<E30,0,IF('Equipes et choix des points'!$I$2=1,IF('Matchs et classements'!D30>'Matchs et classements'!E30,3),IF('Equipes et choix des points'!$I$2=2,IF('Matchs et classements'!D30>E30,4)))))) -> 0 | CQ30: =IF(E30="",0,IF(E30=D30,0,IF(E30<D30,0,IF('Equipes et choix des points'!$I$2=1,IF('Matchs et classements'!E30>'Matchs et classements'!D30,3),IF('Equipes et choix des points'!$I$2=2,IF('Matchs et classements'!E30>'Matchs et classements'!D30,4)))))) -> 0 | CR30: =IF(D30="",0,IF(D30>E30,0,IF(D30<E30,0,IF('Equipes et choix des points'!$I$2=1,IF('Matchs et classements'!D30='Matchs et classements'!E30,1),IF('Equipes et choix des points'!$I$2=2,IF('Matchs et classements'!D30='Matchs et classements'!E30,2)))))) -> 0 | CS30: =IF(E30="",0,IF(E30>D30,0,IF(E30<D30,0,IF('Equipes et choix des points'!$I$2=1,IF('Matchs et classements'!E30='Matchs et classements'!D30,1),IF('Equipes et choix des points'!$I$2=2,IF('Matchs et classements'!E30='Matchs et classements'!D30,2)))))) -> 0 | CT30: =IF(D30="",0,IF(D30>E30,0,IF(D30=E30,0,IF('Equipes et choix des points'!$I$2=1,IF('Matchs et classements'!D30<'Matchs et classements'!E30,0),IF('Equipes et choix des points'!$I$2=2,IF('Matchs et classements'!D30<'Matchs et classements'!E30,1)))))) -> 0 | CU30: =IF(E30="",0,IF(E30>D30,0,IF(E30=D30,0,IF('Equipes et choix des points'!$I$2=1,IF('Matchs et classements'!E30<'Matchs et classements'!D30,0),IF('Equipes et choix des points'!$I$2=2,IF('Matchs et classements'!E30<'Matchs et classements'!D30,1)))))) -> 0 | CV30: =SUM(CP30,CR30,CT30)-SUM(CJ30,CL30) -> 0 | CW30: =SUM(CO30,CQ30,CS30)-SUM(CK30,CM30) -> 0 | CX30: =IF(B30="Forfait perdant",0,IF(B30="Forfait Général",0,IF(D30="",0,1))) -> 0 | CY30: =IF(G30="Forfait Perdant",0,IF(G30="Forfait Général",0,IF(E30="",0,1))) -> 0 | CZ30: =IF(D30<>"",IF(D30>E30,1)) -> FALSE | DA30: =IF(E30<>"",IF(E30>D30,1)) -> FALSE | DB30: =IF(D30<>"",IF(D30=E30,1)) -> FALSE | DC30: =IF(E30<>"",IF(E30=D30,1)) -> FALSE | DD30: =IF(D30<>"",IF(D30<E30,1)) -> FALSE | DE30: =IF(E30<>"",IF(E30<D30,1)) -> FALSE | DF30: =D30 -> 0 | DG30: =E30 -> 0 | DH30: =E30 -> 0 | DI30: =D30 -> 0
CJ31: =A31 -> 0 | CK31: =H31 -> 0 | CL31: =IF(B31="Forfait Perdant",3,"") | CM31: =IF(G31="Forfait Perdant",3,"") | CN31: =IF(B31="Forfait Gagnant",0,"") | CO31: =IF(G31="Forfait Gagnant",0,"") | CP31: =IF(D31="",0,IF(D31=E31,0,IF(D31<E31,0,IF('Equipes et choix des points'!$I$2=1,IF('Matchs et classements'!D31>'Matchs et classements'!E31,3),IF('Equipes et choix des points'!$I$2=2,IF('Matchs et classements'!D31>E31,4)))))) -> 0 | CQ31: =IF(E31="",0,IF(E31=D31,0,IF(E31<D31,0,IF('Equipes et choix des points'!$I$2=1,IF('Matchs et classements'!E31>'Matchs et classements'!D31,3),IF('Equipes et choix des points'!$I$2=2,IF('Matchs et classements'!E31>'Matchs et classements'!D31,4)))))) -> 0 | CR31: =IF(D31="",0,IF(D31>E31,0,IF(D31<E31,0,IF('Equipes et choix des points'!$I$2=1,IF('Matchs et classements'!D31='Matchs et classements'!E31,1),IF('Equipes et choix des points'!$I$2=2,IF('Matchs et classements'!D31='Matchs et classements'!E31,2)))))) -> 0 | CS31: =IF(E31="",0,IF(E31>D31,0,IF(E31<D31,0,IF('Equipes et choix des points'!$I$2=1,IF('Matchs et classements'!E31='Matchs et classements'!D31,1),IF('Equipes et choix des points'!$I$2=2,IF('Matchs et classements'!E31='Matchs et classements'!D31,2)))))) -> 0 | CT31: =IF(D31="",0,IF(D31>E31,0,IF(D31=E31,0,IF('Equipes et choix des points'!$I$2=1,IF('Matchs et classements'!D31<'Matchs et classements'!E31,0),IF('Equipes et choix des points'!$I$2=2,IF('Matchs et classements'!D31<'Matchs et classements'!E31,1)))))) -> 0 | CU31: =IF(E31="",0,IF(E31>D31,0,IF(E31=D31,0,IF('Equipes et choix des points'!$I$2=1,IF('Matchs et classements'!E31<'Matchs et classements'!D31,0),IF('Equipes et choix des points'!$I$2=2,IF('Matchs et classements'!E31<'Matchs et classements'!D31,1)))))) -> 0 | CV31: =SUM(CP31,CR31,CT31)-SUM(CJ31,CL31) -> 0 | CW31: =SUM(CO31,CQ31,CS31)-SUM(CK31,CM31) -> 0 | CX31: =IF(B31="Forfait perdant",0,IF(B31="Forfait Général",0,IF(D31="",0,1))) -> 0 | CY31: =IF(G31="Forfait Perdant",0,IF(G31="Forfait Général",0,IF(E31="",0,1))) -> 0 | CZ31: =IF(D31<>"",IF(D31>E31,1)) -> FALSE | DA31: =IF(E31<>"",IF(E31>D31,1)) -> FALSE | DB31: =IF(D31<>"",IF(D31=E31,1)) -> FALSE | DC31: =IF(E31<>"",IF(E31=D31,1)) -> FALSE | DD31: =IF(D31<>"",IF(D31<E31,1)) -> FALSE | DE31: =IF(E31<>"",IF(E31<D31,1)) -> FALSE | DF31: =D31 -> 0 | DG31: =E31 -> 0 | DH31: =E31 -> 0 | DI31: =D31 -> 0
CJ32: =A32 -> 0 | CK32: =H32 -> 0 | CL32: =IF(B32="Forfait Perdant",3,"") | CM32: =IF(G32="Forfait Perdant",3,"") | CN32: =IF(B32="Forfait Gagnant",0,"") | CO32: =IF(G32="Forfait Gagnant",0,"") | CP32: =IF(D32="",0,IF(D32=E32,0,IF(D32<E32,0,IF('Equipes et choix des points'!$I$2=1,IF('Matchs et classements'!D32>'Matchs et classements'!E32,3),IF('Equipes et choix des points'!$I$2=2,IF('Matchs et classements'!D32>E32,4)))))) -> 0 | CQ32: =IF(E32="",0,IF(E32=D32,0,IF(E32<D32,0,IF('Equipes et choix des points'!$I$2=1,IF('Matchs et classements'!E32>'Matchs et classements'!D32,3),IF('Equipes et choix des points'!$I$2=2,IF('Matchs et classements'!E32>'Matchs et classements'!D32,4)))))) -> 0 | CR32: =IF(D32="",0,IF(D32>E32,0,IF(D32<E32,0,IF('Equipes et choix des points'!$I$2=1,IF('Matchs et classements'!D32='Matchs et classements'!E32,1),IF('Equipes et choix des points'!$I$2=2,IF('Matchs et classements'!D32='Matchs et classements'!E32,2)))))) -> 0 | CS32: =IF(E32="",0,IF(E32>D32,0,IF(E32<D32,0,IF('Equipes et choix des points'!$I$2=1,IF('Matchs et classements'!E32='Matchs et classements'!D32,1),IF('Equipes et choix des points'!$I$2=2,IF('Matchs et classements'!E32='Matchs et classements'!D32,2)))))) -> 0 | CT32: =IF(D32="",0,IF(D32>E32,0,IF(D32=E32,0,IF('Equipes et choix des points'!$I$2=1,IF('Matchs et classements'!D32<'Matchs et classements'!E32,0),IF('Equipes et choix des points'!$I$2=2,IF('Matchs et classements'!D32<'Matchs et classements'!E32,1)))))) -> 0 | CU32: =IF(E32="",0,IF(E32>D32,0,IF(E32=D32,0,IF('Equipes et choix des points'!$I$2=1,IF('Matchs et classements'!E32<'Matchs et classements'!D32,0),IF('Equipes et choix des points'!$I$2=2,IF('Matchs et classements'!E32<'Matchs et classements'!D32,1)))))) -> 0 | CV32: =SUM(CP32,CR32,CT32)-SUM(CJ32,CL32) -> 0 | CW32: =SUM(CO32,CQ32,CS32)-SUM(CK32,CM32) -> 0 | CX32: =IF(B32="Forfait perdant",0,IF(B32="Forfait Général",0,IF(D32="",0,1))) -> 0 | CY32: =IF(G32="Forfait Perdant",0,IF(G32="Forfait Général",0,IF(E32="",0,1))) -> 0 | CZ32: =IF(D32<>"",IF(D32>E32,1)) -> FALSE | DA32: =IF(E32<>"",IF(E32>D32,1)) -> FALSE | DB32: =IF(D32<>"",IF(D32=E32,1)) -> FALSE | DC32: =IF(E32<>"",IF(E32=D32,1)) -> FALSE | DD32: =IF(D32<>"",IF(D32<E32,1)) -> FALSE | DE32: =IF(E32<>"",IF(E32<D32,1)) -> FALSE | DF32: =D32 -> 0 | DG32: =E32 -> 0 | DH32: =E32 -> 0 | DI32: =D32 -> 0
CJ33: =A33 -> 0 | CK33: =H33 -> 0 | CL33: =IF(B33="Forfait Perdant",3,"") | CM33: =IF(G33="Forfait Perdant",3,"") | CN33: =IF(B33="Forfait Gagnant",0,"") | CO33: =IF(G33="Forfait Gagnant",0,"") | CP33: =IF(D33="",0,IF(D33=E33,0,IF(D33<E33,0,IF('Equipes et choix des points'!$I$2=1,IF('Matchs et classements'!D33>'Matchs et classements'!E33,3),IF('Equipes et choix des points'!$I$2=2,IF('Matchs et classements'!D33>E33,4)))))) -> 0 | CQ33: =IF(E33="",0,IF(E33=D33,0,IF(E33<D33,0,IF('Equipes et choix des points'!$I$2=1,IF('Matchs et classements'!E33>'Matchs et classements'!D33,3),IF('Equipes et choix des points'!$I$2=2,IF('Matchs et classements'!E33>'Matchs et classements'!D33,4)))))) -> 0 | CR33: =IF(D33="",0,IF(D33>E33,0,IF(D33<E33,0,IF('Equipes et choix des points'!$I$2=1,IF('Matchs et classements'!D33='Matchs et classements'!E33,1),IF('Equipes et choix des points'!$I$2=2,IF('Matchs et classements'!D33='Matchs et classements'!E33,2)))))) -> 0 | CS33: =IF(E33="",0,IF(E33>D33,0,IF(E33<D33,0,IF('Equipes et choix des points'!$I$2=1,IF('Matchs et classements'!E33='Matchs et classements'!D33,1),IF('Equipes et choix des points'!$I$2=2,IF('Matchs et classements'!E33='Matchs et classements'!D33,2)))))) -> 0 | CT33: =IF(D33="",0,IF(D33>E33,0,IF(D33=E33,0,IF('Equipes et choix des points'!$I$2=1,IF('Matchs et classements'!D33<'Matchs et classements'!E33,0),IF('Equipes et choix des points'!$I$2=2,IF('Matchs et classements'!D33<'Matchs et classements'!E33,1)))))) -> 0 | CU33: =IF(E33="",0,IF(E33>D33,0,IF(E33=D33,0,IF('Equipes et choix des points'!$I$2=1,IF('Matchs et classements'!E33<'Matchs et classements'!D33,0),IF('Equipes et choix des points'!$I$2=2,IF('Matchs et classements'!E33<'Matchs et classements'!D33,1)))))) -> 0 | CV33: =SUM(CP33,CR33,CT33)-SUM(CJ33,CL33) -> 0 | CW33: =SUM(CO33,CQ33,CS33)-SUM(CK33,CM33) -> 0 | CX33: =IF(B33="Forfait perdant",0,IF(B33="Forfait Général",0,IF(D33="",0,1))) -> 0 | CY33: =IF(G33="Forfait Perdant",0,IF(G33="Forfait Général",0,IF(E33="",0,1))) -> 0 | CZ33: =IF(D33<>"",IF(D33>E33,1)) -> FALSE | DA33: =IF(E33<>"",IF(E33>D33,1)) -> FALSE | DB33: =IF(D33<>"",IF(D33=E33,1)) -> FALSE | DC33: =IF(E33<>"",IF(E33=D33,1)) -> FALSE | DD33: =IF(D33<>"",IF(D33<E33,1)) -> FALSE | DE33: =IF(E33<>"",IF(E33<D33,1)) -> FALSE | DF33: =D33 -> 0 | DG33: =E33 -> 0 | DH33: =E33 -> 0 | DI33: =D33 -> 0
K34: 4 | CJ34: =A34 -> 0 | CK34: =H34 -> 0 | CL34: =IF(B34="Forfait Perdant",3,"") | CM34: =IF(G34="Forfait Perdant",3,"") | CN34: =IF(B34="Forfait Gagnant",0,"") | CO34: =IF(G34="Forfait Gagnant",0,"") | CP34: =IF(D34="",0,IF(D34=E34,0,IF(D34<E34,0,IF('Equipes et choix des points'!$I$2=1,IF('Matchs et classements'!D34>'Matchs et classements'!E34,3),IF('Equipes et choix des points'!$I$2=2,IF('Matchs et classements'!D34>E34,4)))))) -> 0 | CQ34: =IF(E34="",0,IF(E34=D34,0,IF(E34<D34,0,IF('Equipes et choix des points'!$I$2=1,IF('Matchs et classements'!E34>'Matchs et classements'!D34,3),IF('Equipes et choix des points'!$I$2=2,IF('Matchs et classements'!E34>'Matchs et classements'!D34,4)))))) -> 0 | CR34: =IF(D34="",0,IF(D34>E34,0,IF(D34<E34,0,IF('Equipes et choix des points'!$I$2=1,IF('Matchs et classements'!D34='Matchs et classements'!E34,1),IF('Equipes et choix des points'!$I$2=2,IF('Matchs et classements'!D34='Matchs et classements'!E34,2)))))) -> 0 | CS34: =IF(E34="",0,IF(E34>D34,0,IF(E34<D34,0,IF('Equipes et choix des points'!$I$2=1,IF('Matchs et classements'!E34='Matchs et classements'!D34,1),IF('Equipes et choix des points'!$I$2=2,IF('Matchs et classements'!E34='Matchs et classements'!D34,2)))))) -> 0 | CT34: =IF(D34="",0,IF(D34>E34,0,IF(D34=E34,0,IF('Equipes et choix des points'!$I$2=1,IF('Matchs et classements'!D34<'Matchs et classements'!E34,0),IF('Equipes et choix des points'!$I$2=2,IF('Matchs et classements'!D34<'Matchs et classements'!E34,1)))))) -> 0 | CU34: =IF(E34="",0,IF(E34>D34,0,IF(E34=D34,0,IF('Equipes et choix des points'!$I$2=1,IF('Matchs et classements'!E34<'Matchs et classements'!D34,0),IF('Equipes et choix des points'!$I$2=2,IF('Matchs et classements'!E34<'Matchs et classements'!D34,1)))))) -> 0 | CV34: =SUM(CP34,CR34,CT34)-SUM(CJ34,CL34) -> 0 | CW34: =SUM(CO34,CQ34,CS34)-SUM(CK34,CM34) -> 0 | CX34: =IF(B34="Forfait perdant",0,IF(B34="Forfait Général",0,IF(D34="",0,1))) -> 0 | CY34: =IF(G34="Forfait Perdant",0,IF(G34="Forfait Général",0,IF(E34="",0,1))) -> 0 | CZ34: =IF(D34<>"",IF(D34>E34,1)) -> FALSE | DA34: =IF(E34<>"",IF(E34>D34,1)) -> FALSE | DB34: =IF(D34<>"",IF(D34=E34,1)) -> FALSE | DC34: =IF(E34<>"",IF(E34=D34,1)) -> FALSE | DD34: =IF(D34<>"",IF(D34<E34,1)) -> FALSE | DE34: =IF(E34<>"",IF(E34<D34,1)) -> FALSE | DF34: =D34 -> 0 | DG34: =E34 -> 0 | DH34: =E34 -> 0 | DI34: =D34 -> 0
CJ35: =A35 -> 0 | CK35: =H35 -> 0 | CL35: =IF(B35="Forfait Perdant",3,"") | CM35: =IF(G35="Forfait Perdant",3,"") | CN35: =IF(B35="Forfait Gagnant",0,"") | CO35: =IF(G35="Forfait Gagnant",0,"") | CP35: =IF(D35="",0,IF(D35=E35,0,IF(D35<E35,0,IF('Equipes et choix des points'!$I$2=1,IF('Matchs et classements'!D35>'Matchs et classements'!E35,3),IF('Equipes et choix des points'!$I$2=2,IF('Matchs et classements'!D35>E35,4)))))) -> 0 | CQ35: =IF(E35="",0,IF(E35=D35,0,IF(E35<D35,0,IF('Equipes et choix des points'!$I$2=1,IF('Matchs et classements'!E35>'Matchs et classements'!D35,3),IF('Equipes et choix des points'!$I$2=2,IF('Matchs et classements'!E35>'Matchs et classements'!D35,4)))))) -> 0 | CR35: =IF(D35="",0,IF(D35>E35,0,IF(D35<E35,0,IF('Equipes et choix des points'!$I$2=1,IF('Matchs et classements'!D35='Matchs et classements'!E35,1),IF('Equipes et choix des points'!$I$2=2,IF('Matchs et classements'!D35='Matchs et classements'!E35,2)))))) -> 0 | CS35: =IF(E35="",0,IF(E35>D35,0,IF(E35<D35,0,IF('Equipes et choix des points'!$I$2=1,IF('Matchs et classements'!E35='Matchs et classements'!D35,1),IF('Equipes et choix des points'!$I$2=2,IF('Matchs et classements'!E35='Matchs et classements'!D35,2)))))) -> 0 | CT35: =IF(D35="",0,IF(D35>E35,0,IF(D35=E35,0,IF('Equipes et choix des points'!$I$2=1,IF('Matchs et classements'!D35<'Matchs et classements'!E35,0),IF('Equipes et choix des points'!$I$2=2,IF('Matchs et classements'!D35<'Matchs et classements'!E35,1)))))) -> 0 | CU35: =IF(E35="",0,IF(E35>D35,0,IF(E35=D35,0,IF('Equipes et choix des points'!$I$2=1,IF('Matchs et classements'!E35<'Matchs et classements'!D35,0),IF('Equipes et choix des points'!$I$2=2,IF('Matchs et classements'!E35<'Matchs et classements'!D35,1)))))) -> 0 | CV35: =SUM(CP35,CR35,CT35)-SUM(CJ35,CL35) -> 0 | CW35: =SUM(CO35,CQ35,CS35)-SUM(CK35,CM35) -> 0 | CX35: =IF(B35="Forfait perdant",0,IF(B35="Forfait Général",0,IF(D35="",0,1))) -> 0 | CY35: =IF(G35="Forfait Perdant",0,IF(G35="Forfait Général",0,IF(E35="",0,1))) -> 0 | CZ35: =IF(D35<>"",IF(D35>E35,1)) -> FALSE | DA35: =IF(E35<>"",IF(E35>D35,1)) -> FALSE | DB35: =IF(D35<>"",IF(D35=E35,1)) -> FALSE | DC35: =IF(E35<>"",IF(E35=D35,1)) -> FALSE | DD35: =IF(D35<>"",IF(D35<E35,1)) -> FALSE | DE35: =IF(E35<>"",IF(E35<D35,1)) -> FALSE | DF35: =D35 -> 0 | DG35: =E35 -> 0 | DH35: =E35 -> 0 | DI35: =D35 -> 0
CJ36: =A36 -> 0 | CK36: =H36 -> 0 | CL36: =IF(B36="Forfait Perdant",3,"") | CM36: =IF(G36="Forfait Perdant",3,"") | CN36: =IF(B36="Forfait Gagnant",0,"") | CO36: =IF(G36="Forfait Gagnant",0,"") | CP36: =IF(D36="",0,IF(D36=E36,0,IF(D36<E36,0,IF('Equipes et choix des points'!$I$2=1,IF('Matchs et classements'!D36>'Matchs et classements'!E36,3),IF('Equipes et choix des points'!$I$2=2,IF('Matchs et classements'!D36>E36,4)))))) -> 0 | CQ36: =IF(E36="",0,IF(E36=D36,0,IF(E36<D36,0,IF('Equipes et choix des points'!$I$2=1,IF('Matchs et classements'!E36>'Matchs et classements'!D36,3),IF('Equipes et choix des points'!$I$2=2,IF('Matchs et classements'!E36>'Matchs et classements'!D36,4)))))) -> 0 | CR36: =IF(D36="",0,IF(D36>E36,0,IF(D36<E36,0,IF('Equipes et choix des points'!$I$2=1,IF('Matchs et classements'!D36='Matchs et classements'!E36,1),IF('Equipes et choix des points'!$I$2=2,IF('Matchs et classements'!D36='Matchs et classements'!E36,2)))))) -> 0 | CS36: =IF(E36="",0,IF(E36>D36,0,IF(E36<D36,0,IF('Equipes et choix des points'!$I$2=1,IF('Matchs et classements'!E36='Matchs et classements'!D36,1),IF('Equipes et choix des points'!$I$2=2,IF('Matchs et classements'!E36='Matchs et classements'!D36,2)))))) -> 0 | CT36: =IF(D36="",0,IF(D36>E36,0,IF(D36=E36,0,IF('Equipes et choix des points'!$I$2=1,IF('Matchs et classements'!D36<'Matchs et classements'!E36,0),IF('Equipes et choix des points'!$I$2=2,IF('Matchs et classements'!D36<'Matchs et classements'!E36,1)))))) -> 0 | CU36: =IF(E36="",0,IF(E36>D36,0,IF(E36=D36,0,IF('Equipes et choix des points'!$I$2=1,IF('Matchs et classements'!E36<'Matchs et classements'!D36,0),IF('Equipes et choix des points'!$I$2=2,IF('Matchs et classements'!E36<'Matchs et classements'!D36,1)))))) -> 0 | CV36: =SUM(CP36,CR36,CT36)-SUM(CJ36,CL36) -> 0 | CW36: =SUM(CO36,CQ36,CS36)-SUM(CK36,CM36) -> 0 | CX36: =IF(B36="Forfait perdant",0,IF(B36="Forfait Général",0,IF(D36="",0,1))) -> 0 | CY36: =IF(G36="Forfait Perdant",0,IF(G36="Forfait Général",0,IF(E36="",0,1))) -> 0 | CZ36: =IF(D36<>"",IF(D36>E36,1)) -> FALSE | DA36: =IF(E36<>"",IF(E36>D36,1)) -> FALSE | DB36: =IF(D36<>"",IF(D36=E36,1)) -> FALSE | DC36: =IF(E36<>"",IF(E36=D36,1)) -> FALSE | DD36: =IF(D36<>"",IF(D36<E36,1)) -> FALSE | DE36: =IF(E36<>"",IF(E36<D36,1)) -> FALSE | DF36: =D36 -> 0 | DG36: =E36 -> 0 | DH36: =E36 -> 0 | DI36: =D36 -> 0
CJ37: =A37 -> 0 | CK37: =H37 -> 0 | CL37: =IF(B37="Forfait Perdant",3,"") | CM37: =IF(G37="Forfait Perdant",3,"") | CN37: =IF(B37="Forfait Gagnant",0,"") | CO37: =IF(G37="Forfait Gagnant",0,"") | CP37: =IF(D37="",0,IF(D37=E37,0,IF(D37<E37,0,IF('Equipes et choix des points'!$I$2=1,IF('Matchs et classements'!D37>'Matchs et classements'!E37,3),IF('Equipes et choix des points'!$I$2=2,IF('Matchs et classements'!D37>E37,4)))))) -> 0 | CQ37: =IF(E37="",0,IF(E37=D37,0,IF(E37<D37,0,IF('Equipes et choix des points'!$I$2=1,IF('Matchs et classements'!E37>'Matchs et classements'!D37,3),IF('Equipes et choix des points'!$I$2=2,IF('Matchs et classements'!E37>'Matchs et classements'!D37,4)))))) -> 0 | CR37: =IF(D37="",0,IF(D37>E37,0,IF(D37<E37,0,IF('Equipes et choix des points'!$I$2=1,IF('Matchs et classements'!D37='Matchs et classements'!E37,1),IF('Equipes et choix des points'!$I$2=2,IF('Matchs et classements'!D37='Matchs et classements'!E37,2)))))) -> 0 | CS37: =IF(E37="",0,IF(E37>D37,0,IF(E37<D37,0,IF('Equipes et choix des points'!$I$2=1,IF('Matchs et classements'!E37='Matchs et classements'!D37,1),IF('Equipes et choix des points'!$I$2=2,IF('Matchs et classements'!E37='Matchs et classements'!D37,2)))))) -> 0 | CT37: =IF(D37="",0,IF(D37>E37,0,IF(D37=E37,0,IF('Equipes et choix des points'!$I$2=1,IF('Matchs et classements'!D37<'Matchs et classements'!E37,0),IF('Equipes et choix des points'!$I$2=2,IF('Matchs et classements'!D37<'Matchs et classements'!E37,1)))))) -> 0 | CU37: =IF(E37="",0,IF(E37>D37,0,IF(E37=D37,0,IF('Equipes et choix des points'!$I$2=1,IF('Matchs et classements'!E37<'Matchs et classements'!D37,0),IF('Equipes et choix des points'!$I$2=2,IF('Matchs et classements'!E37<'Matchs et classements'!D37,1)))))) -> 0 | CV37: =SUM(CP37,CR37,CT37)-SUM(CJ37,CL37) -> 0 | CW37: =SUM(CO37,CQ37,CS37)-SUM(CK37,CM37) -> 0 | CX37: =IF(B37="Forfait perdant",0,IF(B37="Forfait Général",0,IF(D37="",0,1))) -> 0 | CY37: =IF(G37="Forfait Perdant",0,IF(G37="Forfait Général",0,IF(E37="",0,1))) -> 0 | CZ37: =IF(D37<>"",IF(D37>E37,1)) -> FALSE | DA37: =IF(E37<>"",IF(E37>D37,1)) -> FALSE | DB37: =IF(D37<>"",IF(D37=E37,1)) -> FALSE | DC37: =IF(E37<>"",IF(E37=D37,1)) -> FALSE | DD37: =IF(D37<>"",IF(D37<E37,1)) -> FALSE | DE37: =IF(E37<>"",IF(E37<D37,1)) -> FALSE | DF37: =D37 -> 0 | DG37: =E37 -> 0 | DH37: =E37 -> 0 | DI37: =D37 -> 0
CJ38: =A38 -> 0 | CK38: =H38 -> 0 | CL38: =IF(B38="Forfait Perdant",3,"") | CM38: =IF(G38="Forfait Perdant",3,"") | CN38: =IF(B38="Forfait Gagnant",0,"") | CO38: =IF(G38="Forfait Gagnant",0,"") | CP38: =IF(D38="",0,IF(D38=E38,0,IF(D38<E38,0,IF('Equipes et choix des points'!$I$2=1,IF('Matchs et classements'!D38>'Matchs et classements'!E38,3),IF('Equipes et choix des points'!$I$2=2,IF('Matchs et classements'!D38>E38,4)))))) -> 0 | CQ38: =IF(E38="",0,IF(E38=D38,0,IF(E38<D38,0,IF('Equipes et choix des points'!$I$2=1,IF('Matchs et classements'!E38>'Matchs et classements'!D38,3),IF('Equipes et choix des points'!$I$2=2,IF('Matchs et classements'!E38>'Matchs et classements'!D38,4)))))) -> 0 | CR38: =IF(D38="",0,IF(D38>E38,0,IF(D38<E38,0,IF('Equipes et choix des points'!$I$2=1,IF('Matchs et classements'!D38='Matchs et classements'!E38,1),IF('Equipes et choix des points'!$I$2=2,IF('Matchs et classements'!D38='Matchs et classements'!E38,2)))))) -> 0 | CS38: =IF(E38="",0,IF(E38>D38,0,IF(E38<D38,0,IF('Equipes et choix des points'!$I$2=1,IF('Matchs et classements'!E38='Matchs et classements'!D38,1),IF('Equipes et choix des points'!$I$2=2,IF('Matchs et classements'!E38='Matchs et classements'!D38,2)))))) -> 0 | CT38: =IF(D38="",0,IF(D38>E38,0,IF(D38=E38,0,IF('Equipes et choix des points'!$I$2=1,IF('Matchs et classements'!D38<'Matchs et classements'!E38,0),IF('Equipes et choix des points'!$I$2=2,IF('Matchs et classements'!D38<'Matchs et classements'!E38,1)))))) -> 0 | CU38: =IF(E38="",0,IF(E38>D38,0,IF(E38=D38,0,IF('Equipes et choix des points'!$I$2=1,IF('Matchs et classements'!E38<'Matchs et classements'!D38,0),IF('Equipes et choix des points'!$I$2=2,IF('Matchs et classements'!E38<'Matchs et classements'!D38,1)))))) -> 0 | CV38: =SUM(CP38,CR38,CT38)-SUM(CJ38,CL38) -> 0 | CW38: =SUM(CO38,CQ38,CS38)-SUM(CK38,CM38) -> 0 | CX38: =IF(B38="Forfait perdant",0,IF(B38="Forfait Général",0,IF(D38="",0,1))) -> 0 | CY38: =IF(G38="Forfait Perdant",0,IF(G38="Forfait Général",0,IF(E38="",0,1))) -> 0 | CZ38: =IF(D38<>"",IF(D38>E38,1)) -> FALSE | DA38: =IF(E38<>"",IF(E38>D38,1)) -> FALSE | DB38: =IF(D38<>"",IF(D38=E38,1)) -> FALSE | DC38: =IF(E38<>"",IF(E38=D38,1)) -> FALSE | DD38: =IF(D38<>"",IF(D38<E38,1)) -> FALSE | DE38: =IF(E38<>"",IF(E38<D38,1)) -> FALSE | DF38: =D38 -> 0 | DG38: =E38 -> 0 | DH38: =E38 -> 0 | DI38: =D38 -> 0
CJ39: =A39 -> 0 | CK39: =H39 -> 0 | CL39: =IF(B39="Forfait Perdant",3,"") | CM39: =IF(G39="Forfait Perdant",3,"") | CN39: =IF(B39="Forfait Gagnant",0,"") | CO39: =IF(G39="Forfait Gagnant",0,"") | CP39: =IF(D39="",0,IF(D39=E39,0,IF(D39<E39,0,IF('Equipes et choix des points'!$I$2=1,IF('Matchs et classements'!D39>'Matchs et classements'!E39,3),IF('Equipes et choix des points'!$I$2=2,IF('Matchs et classements'!D39>E39,4)))))) -> 0 | CQ39: =IF(E39="",0,IF(E39=D39,0,IF(E39<D39,0,IF('Equipes et choix des points'!$I$2=1,IF('Matchs et classements'!E39>'Matchs et classements'!D39,3),IF('Equipes et choix des points'!$I$2=2,IF('Matchs et classements'!E39>'Matchs et classements'!D39,4)))))) -> 0 | CR39: =IF(D39="",0,IF(D39>E39,0,IF(D39<E39,0,IF('Equipes et choix des points'!$I$2=1,IF('Matchs et classements'!D39='Matchs et classements'!E39,1),IF('Equipes et choix des points'!$I$2=2,IF('Matchs et classements'!D39='Matchs et classements'!E39,2)))))) -> 0 | CS39: =IF(E39="",0,IF(E39>D39,0,IF(E39<D39,0,IF('Equipes et choix des points'!$I$2=1,IF('Matchs et classements'!E39='Matchs et classements'!D39,1),IF('Equipes et choix des points'!$I$2=2,IF('Matchs et classements'!E39='Matchs et classements'!D39,2)))))) -> 0 | CT39: =IF(D39="",0,IF(D39>E39,0,IF(D39=E39,0,IF('Equipes et choix des points'!$I$2=1,IF('Matchs et classements'!D39<'Matchs et classements'!E39,0),IF('Equipes et choix des points'!$I$2=2,IF('Matchs et classements'!D39<'Matchs et classements'!E39,1)))))) -> 0 | CU39: =IF(E39="",0,IF(E39>D39,0,IF(E39=D39,0,IF('Equipes et choix des points'!$I$2=1,IF('Matchs et classements'!E39<'Matchs et classements'!D39,0),IF('Equipes et choix des points'!$I$2=2,IF('Matchs et classements'!E39<'Matchs et classements'!D39,1)))))) -> 0 | CV39: =SUM(CP39,CR39,CT39)-SUM(CJ39,CL39) -> 0 | CW39: =SUM(CO39,CQ39,CS39)-SUM(CK39,CM39) -> 0 | CX39: =IF(B39="Forfait perdant",0,IF(B39="Forfait Général",0,IF(D39="",0,1))) -> 0 | CY39: =IF(G39="Forfait Perdant",0,IF(G39="Forfait Général",0,IF(E39="",0,1))) -> 0 | CZ39: =IF(D39<>"",IF(D39>E39,1)) -> FALSE | DA39: =IF(E39<>"",IF(E39>D39,1)) -> FALSE | DB39: =IF(D39<>"",IF(D39=E39,1)) -> FALSE | DC39: =IF(E39<>"",IF(E39=D39,1)) -> FALSE | DD39: =IF(D39<>"",IF(D39<E39,1)) -> FALSE | DE39: =IF(E39<>"",IF(E39<D39,1)) -> FALSE | DF39: =D39 -> 0 | DG39: =E39 -> 0 | DH39: =E39 -> 0 | DI39: =D39 -> 0
CJ40: =A40 -> 0 | CK40: =H40 -> 0 | CL40: =IF(B40="Forfait Perdant",3,"") | CM40: =IF(G40="Forfait Perdant",3,"") | CN40: =IF(B40="Forfait Gagnant",0,"") | CO40: =IF(G40="Forfait Gagnant",0,"") | CP40: =IF(D40="",0,IF(D40=E40,0,IF(D40<E40,0,IF('Equipes et choix des points'!$I$2=1,IF('Matchs et classements'!D40>'Matchs et classements'!E40,3),IF('Equipes et choix des points'!$I$2=2,IF('Matchs et classements'!D40>E40,4)))))) -> 0 | CQ40: =IF(E40="",0,IF(E40=D40,0,IF(E40<D40,0,IF('Equipes et choix des points'!$I$2=1,IF('Matchs et classements'!E40>'Matchs et classements'!D40,3),IF('Equipes et choix des points'!$I$2=2,IF('Matchs et classements'!E40>'Matchs et classements'!D40,4)))))) -> 0 | CR40: =IF(D40="",0,IF(D40>E40,0,IF(D40<E40,0,IF('Equipes et choix des points'!$I$2=1,IF('Matchs et classements'!D40='Matchs et classements'!E40,1),IF('Equipes et choix des points'!$I$2=2,IF('Matchs et classements'!D40='Matchs et classements'!E40,2)))))) -> 0 | CS40: =IF(E40="",0,IF(E40>D40,0,IF(E40<D40,0,IF('Equipes et choix des points'!$I$2=1,IF('Matchs et classements'!E40='Matchs et classements'!D40,1),IF('Equipes et choix des points'!$I$2=2,IF('Matchs et classements'!E40='Matchs et classements'!D40,2)))))) -> 0 | CT40: =IF(D40="",0,IF(D40>E40,0,IF(D40=E40,0,IF('Equipes et choix des points'!$I$2=1,IF('Matchs et classements'!D40<'Matchs et classements'!E40,0),IF('Equipes et choix des points'!$I$2=2,IF('Matchs et classements'!D40<'Matchs et classements'!E40,1)))))) -> 0 | CU40: =IF(E40="",0,IF(E40>D40,0,IF(E40=D40,0,IF('Equipes et choix des points'!$I$2=1,IF('Matchs et classements'!E40<'Matchs et classements'!D40,0),IF('Equipes et choix des points'!$I$2=2,IF('Matchs et classements'!E40<'Matchs et classements'!D40,1)))))) -> 0 | CV40: =SUM(CP40,CR40,CT40)-SUM(CJ40,CL40) -> 0 | CW40: =SUM(CO40,CQ40,CS40)-SUM(CK40,CM40) -> 0 | CX40: =IF(B40="Forfait perdant",0,IF(B40="Forfait Général",0,IF(D40="",0,1))) -> 0 | CY40: =IF(G40="Forfait Perdant",0,IF(G40="Forfait Général",0,IF(E40="",0,1))) -> 0 | CZ40: =IF(D40<>"",IF(D40>E40,1)) -> FALSE | DA40: =IF(E40<>"",IF(E40>D40,1)) -> FALSE | DB40: =IF(D40<>"",IF(D40=E40,1)) -> FALSE | DC40: =IF(E40<>"",IF(E40=D40,1)) -> FALSE | DD40: =IF(D40<>"",IF(D40<E40,1)) -> FALSE | DE40: =IF(E40<>"",IF(E40<D40,1)) -> FALSE | DF40: =D40 -> 0 | DG40: =E40 -> 0 | DH40: =E40 -> 0 | DI40: =D40 -> 0
CJ41: =A41 -> 0 | CK41: =H41 -> 0 | CL41: =IF(B41="Forfait Perdant",3,"") | CM41: =IF(G41="Forfait Perdant",3,"") | CN41: =IF(B41="Forfait Gagnant",0,"") | CO41: =IF(G41="Forfait Gagnant",0,"") | CP41: =IF(D41="",0,IF(D41=E41,0,IF(D41<E41,0,IF('Equipes et choix des points'!$I$2=1,IF('Matchs et classements'!D41>'Matchs et classements'!E41,3),IF('Equipes et choix des points'!$I$2=2,IF('Matchs et classements'!D41>E41,4)))))) -> 0 | CQ41: =IF(E41="",0,IF(E41=D41,0,IF(E41<D41,0,IF('Equipes et choix des points'!$I$2=1,IF('Matchs et classements'!E41>'Matchs et classements'!D41,3),IF('Equipes et choix des points'!$I$2=2,IF('Matchs et classements'!E41>'Matchs et classements'!D41,4)))))) -> 0 | CR41: =IF(D41="",0,IF(D41>E41,0,IF(D41<E41,0,IF('Equipes et choix des points'!$I$2=1,IF('Matchs et classements'!D41='Matchs et classements'!E41,1),IF('Equipes et choix des points'!$I$2=2,IF('Matchs et classements'!D41='Matchs et classements'!E41,2)))))) -> 0 | CS41: =IF(E41="",0,IF(E41>D41,0,IF(E41<D41,0,IF('Equipes et choix des points'!$I$2=1,IF('Matchs et classements'!E41='Matchs et classements'!D41,1),IF('Equipes et choix des points'!$I$2=2,IF('Matchs et classements'!E41='Matchs et classements'!D41,2)))))) -> 0 | CT41: =IF(D41="",0,IF(D41>E41,0,IF(D41=E41,0,IF('Equipes et choix des points'!$I$2=1,IF('Matchs et classements'!D41<'Matchs et classements'!E41,0),IF('Equipes et choix des points'!$I$2=2,IF('Matchs et classements'!D41<'Matchs et classements'!E41,1)))))) -> 0 | CU41: =IF(E41="",0,IF(E41>D41,0,IF(E41=D41,0,IF('Equipes et choix des points'!$I$2=1,IF('Matchs et classements'!E41<'Matchs et classements'!D41,0),IF('Equipes et choix des points'!$I$2=2,IF('Matchs et classements'!E41<'Matchs et classements'!D41,1)))))) -> 0 | CV41: =SUM(CP41,CR41,CT41)-SUM(CJ41,CL41) -> 0 | CW41: =SUM(CO41,CQ41,CS41)-SUM(CK41,CM41) -> 0 | CX41: =IF(B41="Forfait perdant",0,IF(B41="Forfait Général",0,IF(D41="",0,1))) -> 0 | CY41: =IF(G41="Forfait Perdant",0,IF(G41="Forfait Général",0,IF(E41="",0,1))) -> 0 | CZ41: =IF(D41<>"",IF(D41>E41,1)) -> FALSE | DA41: =IF(E41<>"",IF(E41>D41,1)) -> FALSE | DB41: =IF(D41<>"",IF(D41=E41,1)) -> FALSE | DC41: =IF(E41<>"",IF(E41=D41,1)) -> FALSE | DD41: =IF(D41<>"",IF(D41<E41,1)) -> FALSE | DE41: =IF(E41<>"",IF(E41<D41,1)) -> FALSE | DF41: =D41 -> 0 | DG41: =E41 -> 0 | DH41: =E41 -> 0 | DI41: =D41 -> 0
CJ42: =A42 -> 0 | CK42: =H42 -> 0 | CL42: =IF(B42="Forfait Perdant",3,"") | CM42: =IF(G42="Forfait Perdant",3,"") | CN42: =IF(B42="Forfait Gagnant",0,"") | CO42: =IF(G42="Forfait Gagnant",0,"") | CP42: =IF(D42="",0,IF(D42=E42,0,IF(D42<E42,0,IF('Equipes et choix des points'!$I$2=1,IF('Matchs et classements'!D42>'Matchs et classements'!E42,3),IF('Equipes et choix des points'!$I$2=2,IF('Matchs et classements'!D42>E42,4)))))) -> 0 | CQ42: =IF(E42="",0,IF(E42=D42,0,IF(E42<D42,0,IF('Equipes et choix des points'!$I$2=1,IF('Matchs et classements'!E42>'Matchs et classements'!D42,3),IF('Equipes et choix des points'!$I$2=2,IF('Matchs et classements'!E42>'Matchs et classements'!D42,4)))))) -> 0 | CR42: =IF(D42="",0,IF(D42>E42,0,IF(D42<E42,0,IF('Equipes et choix des points'!$I$2=1,IF('Matchs et classements'!D42='Matchs et classements'!E42,1),IF('Equipes et choix des points'!$I$2=2,IF('Matchs et classements'!D42='Matchs et classements'!E42,2)))))) -> 0 | CS42: =IF(E42="",0,IF(E42>D42,0,IF(E42<D42,0,IF('Equipes et choix des points'!$I$2=1,IF('Matchs et classements'!E42='Matchs et classements'!D42,1),IF('Equipes et choix des points'!$I$2=2,IF('Matchs et classements'!E42='Matchs et classements'!D42,2)))))) -> 0 | CT42: =IF(D42="",0,IF(D42>E42,0,IF(D42=E42,0,IF('Equipes et choix des points'!$I$2=1,IF('Matchs et classements'!D42<'Matchs et classements'!E42,0),IF('Equipes et choix des points'!$I$2=2,IF('Matchs et classements'!D42<'Matchs et classements'!E42,1)))))) -> 0 | CU42: =IF(E42="",0,IF(E42>D42,0,IF(E42=D42,0,IF('Equipes et choix des points'!$I$2=1,IF('Matchs et classements'!E42<'Matchs et classements'!D42,0),IF('Equipes et choix des points'!$I$2=2,IF('Matchs et classements'!E42<'Matchs et classements'!D42,1)))))) -> 0 | CV42: =SUM(CP42,CR42,CT42)-SUM(CJ42,CL42) -> 0 | CW42: =SUM(CO42,CQ42,CS42)-SUM(CK42,CM42) -> 0 | CX42: =IF(B42="Forfait perdant",0,IF(B42="Forfait Général",0,IF(D42="",0,1))) -> 0 | CY42: =IF(G42="Forfait Perdant",0,IF(G42="Forfait Général",0,IF(E42="",0,1))) -> 0 | CZ42: =IF(D42<>"",IF(D42>E42,1)) -> FALSE | DA42: =IF(E42<>"",IF(E42>D42,1)) -> FALSE | DB42: =IF(D42<>"",IF(D42=E42,1)) -> FALSE | DC42: =IF(E42<>"",IF(E42=D42,1)) -> FALSE | DD42: =IF(D42<>"",IF(D42<E42,1)) -> FALSE | DE42: =IF(E42<>"",IF(E42<D42,1)) -> FALSE | DF42: =D42 -> 0 | DG42: =E42 -> 0 | DH42: =E42 -> 0 | DI42: =D42 -> 0
CJ43: =A43 -> 0 | CK43: =H43 -> 0 | CL43: =IF(B43="Forfait Perdant",3,"") | CM43: =IF(G43="Forfait Perdant",3,"") | CN43: =IF(B43="Forfait Gagnant",0,"") | CO43: =IF(G43="Forfait Gagnant",0,"") | CP43: =IF(D43="",0,IF(D43=E43,0,IF(D43<E43,0,IF('Equipes et choix des points'!$I$2=1,IF('Matchs et classements'!D43>'Matchs et classements'!E43,3),IF('Equipes et choix des points'!$I$2=2,IF('Matchs et classements'!D43>E43,4)))))) -> 0 | CQ43: =IF(E43="",0,IF(E43=D43,0,IF(E43<D43,0,IF('Equipes et choix des points'!$I$2=1,IF('Matchs et classements'!E43>'Matchs et classements'!D43,3),IF('Equipes et choix des points'!$I$2=2,IF('Matchs et classements'!E43>'Matchs et classements'!D43,4)))))) -> 0 | CR43: =IF(D43="",0,IF(D43>E43,0,IF(D43<E43,0,IF('Equipes et choix des points'!$I$2=1,IF('Matchs et classements'!D43='Matchs et classements'!E43,1),IF('Equipes et choix des points'!$I$2=2,IF('Matchs et classements'!D43='Matchs et classements'!E43,2)))))) -> 0 | CS43: =IF(E43="",0,IF(E43>D43,0,IF(E43<D43,0,IF('Equipes et choix des points'!$I$2=1,IF('Matchs et classements'!E43='Matchs et classements'!D43,1),IF('Equipes et choix des points'!$I$2=2,IF('Matchs et classements'!E43='Matchs et classements'!D43,2)))))) -> 0 | CT43: =IF(D43="",0,IF(D43>E43,0,IF(D43=E43,0,IF('Equipes et choix des points'!$I$2=1,IF('Matchs et classements'!D43<'Matchs et classements'!E43,0),IF('Equipes et choix des points'!$I$2=2,IF('Matchs et classements'!D43<'Matchs et classements'!E43,1)))))) -> 0 | CU43: =IF(E43="",0,IF(E43>D43,0,IF(E43=D43,0,IF('Equipes et choix des points'!$I$2=1,IF('Matchs et classements'!E43<'Matchs et classements'!D43,0),IF('Equipes et choix des points'!$I$2=2,IF('Matchs et classements'!E43<'Matchs et classements'!D43,1)))))) -> 0 | CV43: =SUM(CP43,CR43,CT43)-SUM(CJ43,CL43) -> 0 | CW43: =SUM(CO43,CQ43,CS43)-SUM(CK43,CM43) -> 0 | CX43: =IF(B43="Forfait perdant",0,IF(B43="Forfait Général",0,IF(D43="",0,1))) -> 0 | CY43: =IF(G43="Forfait Perdant",0,IF(G43="Forfait Général",0,IF(E43="",0,1))) -> 0 | CZ43: =IF(D43<>"",IF(D43>E43,1)) -> FALSE | DA43: =IF(E43<>"",IF(E43>D43,1)) -> FALSE | DB43: =IF(D43<>"",IF(D43=E43,1)) -> FALSE | DC43: =IF(E43<>"",IF(E43=D43,1)) -> FALSE | DD43: =IF(D43<>"",IF(D43<E43,1)) -> FALSE | DE43: =IF(E43<>"",IF(E43<D43,1)) -> FALSE | DF43: =D43 -> 0 | DG43: =E43 -> 0 | DH43: =E43 -> 0 | DI43: =D43 -> 0
