Workbook
Name Année: Données!$C$1:$C$91
Name Equipes: 'Equipes et choix des points'!$A$2:$A$21
Name Etat: Données!$A$1:$A$4
Name Forfait: Données!$A$9:$A$11
Name P_domicile: 'Matchs et classements'!$A$4:$A$383
Name P_extérieur: 'Matchs et classements'!$H$4:$H$383
Name Saison: Données!$E$1:$E$91

Sheet Equipes et choix des points
A1: Equipes
B2: Cocher ci-contre pour le changement de points pour les victoires, les nuls et les défaites. | I2: 1
C19: Les colonnes "P" servent à noter les éventuels points de pénalités attribués par une commission de discipline ou suite à un forfait (à noter face aux équipes concernées).
C22: Dans la colonne "Dates", il est possible de noter si un match est "Annulé", Arrêté" ou "Remis" au moyen des listes déroulantes.
A23: Noter les équipes ci-dessus (de 1 à 20) qui apparaitront dans les tableaux et sur les listes déroulantes pour noter les matchs.
C25: En cas de forfait (liste déroulante), noter le Forfait Perdant ou Gagnant face à l'équipe concernée. Pour le Forfait Perdant, 3 points sont retirés automatiquement à l'équipe "Forfait Perdant". Noter simplement le score de 3 - 0 en faveur de l'équipe "Forfait Gagnant" . En cas de Forfait Général, supprimer simplement les scores des matchs déja joués concernant l'équipe "Forfait Général".
A28: Les classements se calculent automatiquement après inscription des résultats.

Sheet Matchs et classements
A1: Nom du Championnat | I1: Saison 2020 - 2021 | CJ1: Dom; | CK1: Ext. | CL1: Dom; | CM1: Ext. | CN1: Dom; | CO1: Ext. | CP1: Dom; | CQ1: Ext. | CR1: Dom; | CS1: Ext. | CT1: Dom; | CU1: Ext. | CV1: Dom; | CW1: Ext. | CX1: Dom; | CY1: Ext. | CZ1: Dom; | DA1: Ext. | DB1: Dom; | DC1: Ext. | DD1: Dom; | DE1: Ext. | DF1: Dom; | DG1: Ext. | DH1: Dom; | DI1: Ext.
M2: CLASSEMENT GENERAL | W2: CLASSEMENT DOMICILE | AG2: CLASSEMENT EXTERIEUR | AW2: CLASSEMENT GENERAL | BH2: CLASSEMENT DOMICILE | BS2: CLASSEMENT EXTERIEUR | CD2: GENERAL | CF2: DOMICILE | CH2: EXTERIEUR | DJ2: GENERAL | DN2: DOMICILE | DR2: EXTERIEUR
A3: P | B3: Forfait | C3: Equipes | D3: Scores | F3: Equipes | G3: Forfait | H3: P | I3: Dates | J3: Horaires | K3: Journées | CJ3: P | CK3: P | CL3: FP | CM3: FP | CN3: FG | CO3: FG | CP3: V Pts | CQ3: V Pts | CR3: N Pts | CS3: N Pts | CT3: D Pts | CU3: D Pts | CV3: T pts | CW3: T Pts | CX3: J | CY3: J | CZ3: G | DA3: G | DB3: N | DC3: N | DD3: P | DE3: P | DF3: B + | DG3: B + | DH3: B - | DI3: B -
K4: 1 | M4: Place | N4: Points | O4: Equipes | P4: J | Q4: G | R4: N | S4: P | T4: B + | U4: B - | V4: Diff. | W4: Place | X4: Points | Y4: Equipes | Z4: J | AA4: G | AB4: N | AC4: P | AD4: B + | AE4: B - | AF4: Diff. | AG4: Place | AH4: Points | AI4: Equipes | AJ4: J | AK4: G | AL4: N | AM4: P | AN4: B + | AO4: B - | AP4: Diff. | AQ4: R général | AS4: R domicile | AU4: R extérieur | AW4: Equipes | AX4: Rang | AY4: Place | AZ4: Pts | BA4: J | BB4: G | BC4: N | BD4: P | BE4: B + | BF4: B - | BG4: Diff. | BH4: Equipes | BI4: Rang | BJ4: Place | BK4: Pts | BL4: J | BM4: G | BN4: N | BO4: P | BP4: B + | BQ4: B - | BR4: Diff. | BS4: Equipes | BT4: Rang | BU4: Place | BV4: Pts | BW4: J | BX4: G | BY4: N | BZ4: P | CA4: B + | CB4: B - | CC4: Diff. | CD4: % | CE4: % | CF4: % | CG4: % | CH4: % | CI4: % | CJ4: =A4 -> 0 | CK4: =H4 -> 0 | CL4: =IF(B4="Forfait Perdant",3,"") | CM4: =IF(G4="Forfait Perdant",3,"") | CN4: =IF(B4="Forfait Gagnant",0,"") | CO4: =IF(G4="Forfait Gagnant",0,"") | CP4: =IF(D4="",0,IF(D4=E4,0,IF(D4<E4,0,IF('Equipes et choix des points'!$I$2=1,IF('Matchs et classements'!D4>'Matchs et classements'!E4,3),IF('Equipes et choix des points'!$I$2=2,IF('Matchs et classements'!D4>E4,4)))))) -> 0 | CQ4: =IF(E4="",0,IF(E4=D4,0,IF(E4<D4,0,IF('Equipes et choix des points'!$I$2=1,IF('Matchs et classements'!E4>'Matchs et classements'!D4,3),IF('Equipes et choix des points'!$I$2=2,IF('Matchs et classements'!E4>'Matchs et classements'!D4,4)))))) -> 0 | CR4: =IF(D4="",0,IF(D4>E4,0,IF(D4<E4,0,IF('Equipes et choix des points'!$I$2=1,IF('Matchs et classements'!D4='Matchs et classements'!E4,1),IF('Equipes et choix des points'!$I$2=2,IF('Matchs et classements'!D4='Matchs et classements'!E4,2)))))) -> 0 | CS4: =IF(E4="",0,IF(E4>D4,0,IF(E4<D4,0,IF('Equipes et choix des points'!$I$2=1,IF('Matchs et classements'!E4='Matchs et classements'!D4,1),IF('Equipes et choix des points'!$I$2=2,IF('Matchs et classements'!E4='Matchs et classements'!D4,2)))))) -> 0 | CT4: =IF(D4="",0,IF(D4>E4,0,IF(D4=E4,0,IF('Equipes et choix des points'!$I$2=1,IF('Matchs et classements'!D4<'Matchs et classements'!E4,0),IF('Equipes et choix des points'!$I$2=2,IF('Matchs et classements'!D4<'Matchs et classements'!E4,1)))))) -> 0 | CU4: =IF(E4="",0,IF(E4>D4,0,IF(E4=D4,0,IF('Equipes et choix des points'!$I$2=1,IF('Matchs et classements'!E4<'Matchs et classements'!D4,0),IF('Equipes et choix des points'!$I$2=2,IF('Matchs et classements'!E4<'Matchs et classements'!D4,1)))))) -> 0 | CV4: =SUM(CP4,CR4,CT4)-SUM(CJ4,CL4) -> 0 | CW4: =SUM(CO4,CQ4,CS4)-SUM(CK4,CM4) -> 0 | CX4: =IF(B4="Forfait perdant",0,IF(B4="Forfait Général",0,IF(D4="",0,1))) -> 0 | CY4: =IF(G4="Forfait Perdant",0,IF(G4="Forfait Général",0,IF(E4="",0,1))) -> 0 | CZ4: =IF(D4<>"",IF(D4>E4,1)) -> FALSE | DA4: =IF(E4<>"",IF(E4>D4,1)) -> FALSE | DB4: =IF(D4<>"",IF(D4=E4,1)) -> FALSE | DC4: =IF(E4<>"",IF(E4=D4,1)) -> FALSE | DD4: =IF(D4<>"",IF(D4<E4,1)) -> FALSE | DE4: =IF(E4<>"",IF(E4<D4,1)) -> FALSE | DF4: =D4 -> 0 | DG4: =E4 -> 0 | DH4: =E4 -> 0 | DI4: =D4 -> 0 | DJ4: Equipes | DK4: % | DL4: R | DM4: Equipes | DN4: Equipes | DO4: % | DP4: R | DQ4: Equipes | DR4: Equipes | DS4: % | DT4: R | DU4: Equipes
M5: =IF(O5<>"",1,"") | N5: =IF($O$5="","",VLOOKUP($O$5,$AW$5:$BG$24,4,0)) | O5: =IF('Equipes et choix des points'!A2="","",VLOOKUP('Matchs et classements'!AQ5,'Matchs et classements'!$AR$5:$AW$24,6,0)) | P5: =IF(O5="","",VLOOKUP(O5,$AW$5:$BG$24,5,0)) | Q5: =IF(O5="","",VLOOKUP(O5,$AW$5:$BG$24,6,0)) | R5: =IF(O5="","",VLOOKUP(O5,$AW$5:$BG$24,7,0)) | S5: =IF(O5="","",VLOOKUP(O5,$AW$5:$BG$24,8,0)) | T5: =IF(O5="","",VLOOKUP(O5,$AW$5:$BG$24,9,0)) | U5: =IF(O5="","",VLOOKUP(O5,$AW$5:$BG$24,10,0)) | V5: =IF(O5="","",VLOOKUP(O5,$AW$5:$BG$24,11,0)) | W5: =IF(Y5<>"",1,"") | X5: =IF(Y5="","",VLOOKUP(Y5,$BH$5:$BR$24,4,0)) | Y5: =IF('Equipes et choix des points'!A2="","",VLOOKUP('Matchs et classements'!AS5,'Matchs et classements'!$AT$5:$BH$24,15,0)) | Z5: =IF(Y5="","",VLOOKUP(Y5,$BH$5:$BR$24,5,0)) | AA5: =IF(Y5="","",VLOOKUP(Y5,$BH$5:$BR$24,6,0)) | AB5: =IF(Y5="","",VLOOKUP(Y5,$BH$5:$BR$24,7,0)) | AC5: =IF(Y5="","",VLOOKUP(Y5,$BH$5:$BR$24,8,0)) | AD5: =IF(Y5="","",VLOOKUP(Y5,$BH$5:$BR$24,9,0)) | AE5: =IF(Y5="","",VLOOKUP(Y5,$BH$5:$BR$24,10,0)) | AF5: =IF(Y5="","",VLOOKUP(Y5,$BH$5:$BR$24,11,0)) | AG5: =IF(AI5<>"",1,"") | AH5: =IF(AI5="","",VLOOKUP(AI5,$BS$5:$CC$24,4,0)) | AI5: =IF('Equipes et choix des points'!A2="","",VLOOKUP('Matchs et classements'!AU5,'Matchs et classements'!$AV$5:$BS$24,24,0)) | AJ5: =IF(AI5="","",VLOOKUP(AI5,$BS$5:$CC$24,5,0)) | AK5: =IF(AI5="","",VLOOKUP(AI5,$BS$5:$CC$24,6,0)) | AL5: =IF(AI5="","",VLOOKUP(AI5,$BS$5:$CC$24,7,0)) | AM5: =IF(AI5="","",VLOOKUP(AI5,$BS$5:$CC$24,8,0)) | AN5: =IF(AI5="","",VLOOKUP(AI5,$BS$5:$CC$24,9,0)) | AO5: =IF(AI5="","",VLOOKUP(AI5,$BS$5:$CC$24,10,0)) | AP5: =IF(AI5="","",VLOOKUP(AI5,$BS$5:$CC$24,11,0)) | AQ5: 1 | AR5: =AY5 | AS5: 1 | AT5: =BJ5 | AU5: 1 | AV5: =BU5 | AW5: =IF('Equipes et choix des points'!$A$2<>"",'Equipes et choix des points'!$A$2,"") | AX5: =IF(AW5="","",RANK(CD5,$CD$5:$CD$24)) | AY5: =IF(AW5="","",RANK(CE5,$CE$5:$CE$24)) | AZ5: =IF(AW5="","",SUMPRODUCT(($C$4:$C$383=AW5)*($CV$4:$CV$383))+SUMPRODUCT(($F$4:$F$383=AW5)*($CW$4:$CW$383))) | BA5: =IF(AW5="","",SUMPRODUCT(($C$4:$C$383=AW5)*($CX$4:$CX$383))+SUMPRODUCT(($F$4:$F$383=AW5)*($CY$4:$CY$383))) | BB5: =IF(AW5="","",SUMPRODUCT(($C$4:$C$383=AW5)*($CZ$4:$CZ$383))+SUMPRODUCT(($F$4:$F$383=AW5)*($DA$4:$DA$383))) | BC5: =IF(AW5="","",SUMPRODUCT(($C$4:$C$383=AW5)*($DB$4:$DB$383))+SUMPRODUCT(($F$4:$F$383=AW5)*($DC$4:$DC$383))) | BD5: =IF(AW5="","",SUMPRODUCT(($C$4:$C$383=AW5)*($DD$4:$DD$383))+SUMPRODUCT(($F$4:$F$383=AW5)*($DE$4:$DE$383))) | BE5: =IF(AW5="","",SUMPRODUCT(($C$4:$C$383=AW5)*($DF$4:$DF$383))+SUMPRODUCT(($F$4:$F$383=AW5)*($DG$4:$DG$383))) | BF5: =IF(AW5="","",SUMPRODUCT(($C$4:$C$383=AW5)*($DH$4:$DH$383))+SUMPRODUCT(($F$4:$F$383=AW5)*($DI$4:$DI$383))) | BG5: =IF(AW5="","",BE5-BF5) | BH5: =IF('Equipes et choix des points'!$A$2<>"",'Equipes et choix des points'!$A$2,"") | BI5: =IF(BH5="","",RANK(CF5,$CF$5:$CF$24)) | BJ5: =IF(BH5="","",RANK(CG5,$CG$5:$CG$24)) | BK5: =IF(BH5="","",SUMPRODUCT(($C$4:$C$383=BH5)*($CV$4:$CV$383))) | BL5: =IF(BH5="","",SUMPRODUCT(($C$4:$C$383=BH5)*($CX$4:$CX$383))) | BM5: =IF(BH5="","",SUMPRODUCT(($C$4:$C$383=BH5)*($CZ$4:$CZ$383))) | BN5: =IF(BH5="","",SUMPRODUCT(($C$4:$C$383=BH5)*($DB$4:$DB$383))) | BO5: =IF(BH5="","",SUMPRODUCT(($C$4:$C$383=BH5)*($DD$4:$DD$383))) | BP5: =IF(BH5="","",SUMPRODUCT(($C$4:$C$383=BH5)*($DF$4:$DF$383))) | BQ5: =IF(BH5="","",SUMPRODUCT(($C$4:$C$383=BH5)*($DH$4:$DH$383))) | BR5: =IF(BH5="","",BP5-BQ5) | BS5: =IF('Equipes et choix des points'!$A$2<>"",'Equipes et choix des points'!$A$2,"") | BT5: =IF(BS5="","",RANK(CH5,$CH$5:$CH$24)) | BU5: =IF(BS5="","",RANK(CI5,$CI$5:$CI$24)) | BV5: =IF(BS5="","",SUMPRODUCT(($F$4:$F$383=BS5)*($CW$4:$CW$383))) | BW5: =IF(BS5="","",SUMPRODUCT(($F$4:$F$383=BS5)*($CY$4:$CY$383))) | BX5: =IF(BS5="","",SUMPRODUCT(($F$4:$F$383=BS5)*($DA$4:$DA$383))) | BY5: =IF(BS5="","",SUMPRODUCT(($F$4:$F$383=BS5)*($DC$4:$DC$383))) | BZ5: =IF(BS5="","",SUMPRODUCT(($F$4:$F$383=BS5)*($DE$4:$DE$383))) | CA5: =IF(BS5="","",SUMPRODUCT(($F$4:$F$383=BS5)*($DG$4:$DG$383))) | CB5: =IF(BS5="","",SUMPRODUCT(($F$4:$F$383=BS5)*($DI$4:$DI$383))) | CC5: =IF(BS5="","",CA5-CB5) | CD5: =IFERROR(SUM(AZ5*1000+(BG5)/100+(BE5)/1000),"") | CE5: =IFERROR(SUM(CD5+0.000002),"") | CF5: =IFERROR(SUM(BK5*1000+(BR5)/100+(BP5)/1000),"") | CG5: =IFERROR(SUM(CF5+0.000002),"") | CH5: =IFERROR(SUM(BV5*1000+(CC5)/100+(CA5)/1000),"") | CI5: =IFERROR(SUM(CH5+0.000002),"") | CJ5: =A5 -> 0 | CK5: =H5 -> 0 | CL5: =IF(B5="Forfait Perdant",3,"") | CM5: =IF(G5="Forfait Perdant",3,"") | CN5: =IF(B5="Forfait Gagnant",0,"") | CO5: =IF(G5="Forfait Gagnant",0,"") | CP5: =IF(D5="",0,IF(D5=E5,0,IF(D5<E5,0,IF('Equipes et choix des points'!$I$2=1,IF('Matchs et classements'!D5>'Matchs et classements'!E5,3),IF('Equipes et choix des points'!$I$2=2,IF('Matchs et classements'!D5>E5,4)))))) -> 0 | CQ5: =IF(E5="",0,IF(E5=D5,0,IF(E5<D5,0,IF('Equipes et choix des points'!$I$2=1,IF('Matchs et classements'!E5>'Matchs et classements'!D5,3),IF('Equipes et choix des points'!$I$2=2,IF('Matchs et classements'!E5>'Matchs et classements'!D5,4)))))) -> 0 | CR5: =IF(D5="",0,IF(D5>E5,0,IF(D5<E5,0,IF('Equipes et choix des points'!$I$2=1,IF('Matchs et classements'!D5='Matchs et classements'!E5,1),IF('Equipes et choix des points'!$I$2=2,IF('Matchs et classements'!D5='Matchs et classements'!E5,2)))))) -> 0 | CS5: =IF(E5="",0,IF(E5>D5,0,IF(E5<D5,0,IF('Equipes et choix des points'!$I$2=1,IF('Matchs et classements'!E5='Matchs et classements'!D5,1),IF('Equipes et choix des points'!$I$2=2,IF('Matchs et classements'!E5='Matchs et classements'!D5,2)))))) -> 0 | CT5: =IF(D5="",0,IF(D5>E5,0,IF(D5=E5,0,IF('Equipes et choix des points'!$I$2=1,IF('Matchs et classements'!D5<'Matchs et classements'!E5,0),IF('Equipes et choix des points'!$I$2=2,IF('Matchs et classements'!D5<'Matchs et classements'!E5,1)))))) -> 0 | CU5: =IF(E5="",0,IF(E5>D5,0,IF(E5=D5,0,IF('Equipes et choix des points'!$I$2=1,IF('Matchs et classements'!E5<'Matchs et classements'!D5,0),IF('Equipes et choix des points'!$I$2=2,IF('Matchs et classements'!E5<'Matchs et classements'!D5,1)))))) -> 0 | CV5: =SUM(CP5,CR5,CT5)-SUM(CJ5,CL5) -> 0 | CW5: =SUM(CO5,CQ5,CS5)-SUM(CK5,CM5) -> 0 | CX5: =IF(B5="Forfait perdant",0,IF(B5="Forfait Général",0,IF(D5="",0,1))) -> 0 | CY5: =IF(G5="Forfait Perdant",0,IF(G5="Forfait Général",0,IF(E5="",0,1))) -> 0 | CZ5: =IF(D5<>"",IF(D5>E5,1)) -> FALSE | DA5: =IF(E5<>"",IF(E5>D5,1)) -> FALSE | DB5: =IF(D5<>"",IF(D5=E5,1)) -> FALSE | DC5: =IF(E5<>"",IF(E5=D5,1)) -> FALSE | DD5: =IF(D5<>"",IF(D5<E5,1)) -> FALSE | DE5: =IF(E5<>"",IF(E5<D5,1)) -> FALSE | DF5: =D5 -> 0 | DG5: =E5 -> 0 | DH5: =E5 -> 0 | DI5: =D5 -> 0 | DJ5: =IF(AW5="","",VLOOKUP(AQ5,$AR$5:$AW$24,6,0)) | DK5: =IFERROR(VLOOKUP(DJ5,AW$5:CD24,34,0),"") | DL5: =IF(DJ5="","",RANK(DK5,DK5:DK24)) | DM5: =IF(AW5="","",AW5) | DN5: =IFERROR(VLOOKUP(AS5,$AT$5:$BH$24,15,0),"") | DO5: =IFERROR(VLOOKUP(DN5,$BH$5:$CF$24,25,0),"") | DP5: =IF(DN5="","",RANK(DO5,DO5:DO24)) | DQ5: =IF(BH5="","",BH5) | DR5: =IFERROR(VLOOKUP(AU5,$AV$5:$BS$24,24,0),"") | DS5: =IFERROR(VLOOKUP(DR5,$BS$5:$CH$24,16,0),"") | DT5: =IF(DR5="","",RANK(DS5,DS5:DS24))
M6: =IF(O6="","",IF(DK6=DK5,DL5,DL6)) | N6: =IF(O6="","",VLOOKUP(O6,$AW$5:$BG$24,4,0)) | O6: =IF('Equipes et choix des points'!A3="","",VLOOKUP('Matchs et classements'!AQ6,'Matchs et classements'!$AR$5:$AW$24,6,0)) | P6: =IF(O6="","",VLOOKUP(O6,$AW$5:$BG$24,5,0)) | Q6: =IF(O6="","",VLOOKUP(O6,$AW$5:$BG$24,6,0)) | R6: =IF(O6="","",VLOOKUP(O6,$AW$5:$BG$24,7,0)) | S6: =IF(O6="","",VLOOKUP(O6,$AW$5:$BG$24,8,0)) | T6: =IF(O6="","",VLOOKUP(O6,$AW$5:$BG$24,9,0)) | U6: =IF(O6="","",VLOOKUP(O6,$AW$5:$BG$24,10,0)) | V6: =IF(O6="","",VLOOKUP(O6,$AW$5:$BG$24,11,0)) | W6: =IF(Y6="","",IF(DO6=DO5,DP5,DP6)) | X6: =IF(Y6="","",VLOOKUP(Y6,$BH$5:$BR$24,4,0)) | Y6: =IF('Equipes et choix des points'!A3="","",VLOOKUP('Matchs et classements'!AS6,'Matchs et classements'!$AT$5:$BH$24,15,0)) | Z6: =IF(Y6="","",VLOOKUP(Y6,$BH$5:$BR$24,5,0)) | AA6: =IF(Y6="","",VLOOKUP(Y6,$BH$5:$BR$24,6,0)) | AB6: =IF(Y6="","",VLOOKUP(Y6,$BH$5:$BR$24,7,0)) | AC6: =IF(Y6="","",VLOOKUP(Y6,$BH$5:$BR$24,8,0)) | AD6: =IF(Y6="","",VLOOKUP(Y6,$BH$5:$BR$24,9,0)) | AE6: =IF(Y6="","",VLOOKUP(Y6,$BH$5:$BR$24,10,0)) | AF6: =IF(Y6="","",VLOOKUP(Y6,$BH$5:$BR$24,11,0)) | AG6: =IF(AI6="","",IF(DS6=DS5,DT5,DT6)) | AH6: =IF(AI6="","",VLOOKUP(AI6,$BS$5:$CC$24,4,0)) | AI6: =IF('Equipes et choix des points'!A3="","",VLOOKUP('Matchs et classements'!AU6,'Matchs et classements'!$AV$5:$BS$24,24,0)) | AJ6: =IF(AI6="","",VLOOKUP(AI6,$BS$5:$CC$24,5,0)) | AK6: =IF(AI6="","",VLOOKUP(AI6,$BS$5:$CC$24,6,0)) | AL6: =IF(AI6="","",VLOOKUP(AI6,$BS$5:$CC$24,7,0)) | AM6: =IF(AI6="","",VLOOKUP(AI6,$BS$5:$CC$24,8,0)) | AN6: =IF(AI6="","",VLOOKUP(AI6,$BS$5:$CC$24,9,0)) | AO6: =IF(AI6="","",VLOOKUP(AI6,$BS$5:$CC$24,10,0)) | AP6: =IF(AI6="","",VLOOKUP(AI6,$BS$5:$CC$24,11,0)) | AQ6: 2 | AR6: =AY6 | AS6: 2 | AT6: =BJ6 | AU6: 2 | AV6: =BU6 | AW6: =IF('Equipes et choix des points'!$A$3<>"",'Equipes et choix des points'!$A$3,"") | AX6: =IF('Equipes et choix des points'!A3="","",RANK(CD6,$CD$5:$CD$24)) | AY6: =IF(AW6="","",RANK(CE6,$CE$5:$CE$24)) | AZ6: =IF(AW6="","",SUMPRODUCT(($C$4:$C$383=AW6)*($CV$4:$CV$383))+SUMPRODUCT(($F$4:$F$383=AW6)*($CW$4:$CW$383))) | BA6: =IF(AW6="","",SUMPRODUCT(($C$4:$C$383=AW6)*($CX$4:$CX$383))+SUMPRODUCT(($F$4:$F$383=AW6)*($CY$4:$CY$383))) | BB6: =IF(AW6="","",SUMPRODUCT(($C$4:$C$383=AW6)*($CZ$4:$CZ$383))+SUMPRODUCT(($F$4:$F$383=AW6)*($DA$4:$DA$383))) | BC6: =IF(AW6="","",SUMPRODUCT(($C$4:$C$383=AW6)*($DB$4:$DB$383))+SUMPRODUCT(($F$4:$F$383=AW6)*($DC$4:$DC$383))) | BD6: =IF(AW6="","",SUMPRODUCT(($C$4:$C$383=AW6)*($DD$4:$DD$383))+SUMPRODUCT(($F$4:$F$383=AW6)*($DE$4:$DE$383))) | BE6: =IF(AW6="","",SUMPRODUCT(($C$4:$C$383=AW6)*($DF$4:$DF$383))+SUMPRODUCT(($F$4:$F$383=AW6)*($DG$4:$DG$383))) | BF6: =IF(AW6="","",SUMPRODUCT(($C$4:$C$383=AW6)*($DH$4:$DH$383))+SUMPRODUCT(($F$4:$F$383=AW6)*($DI$4:$DI$383))) | BG6: =IF(AW6="","",BE6-BF6) | BH6: =IF('Equipes et choix des points'!$A$3<>"",'Equipes et choix des points'!$A$3,"") | BI6: =IF(BH6="","",RANK(CF6,$CF$5:$CF$24)) | BJ6: =IF(BH6="","",RANK(CG6,$CG$5:$CG$24)) | BK6: =IF(BH6="","",SUMPRODUCT(($C$4:$C$383=BH6)*($CV$4:$CV$383))) | BL6: =IF(BH6="","",SUMPRODUCT(($C$4:$C$383=BH6)*($CX$4:$CX$383))) | BM6: =IF(BH6="","",SUMPRODUCT(($C$4:$C$383=BH6)*($CZ$4:$CZ$383))) | BN6: =IF(BH6="","",SUMPRODUCT(($C$4:$C$383=BH6)*($DB$4:$DB$383))) | BO6: =IF(BH6="","",SUMPRODUCT(($C$4:$C$383=BH6)*($DD$4:$DD$383))) | BP6: =IF(BH6="","",SUMPRODUCT(($C$4:$C$383=BH6)*($DF$4:$DF$383))) | BQ6: =IF(BH6="","",SUMPRODUCT(($C$4:$C$383=BH6)*($DH$4:$DH$383))) | BR6: =IF(BH6="","",BP6-BQ6) | BS6: =IF('Equipes et choix des points'!$A$3<>"",'Equipes et choix des points'!$A$3,"") | BT6: =IF(BS6="","",RANK(CH6,$CH$5:$CH$24)) | BU6: =IF(BS6="","",RANK(CI6,$CI$5:$CI$24)) | BV6: =IF(BS6="","",SUMPRODUCT(($F$4:$F$383=BS6)*($CW$4:$CW$383))) | BW6: =IF(BS6="","",SUMPRODUCT(($F$4:$F$383=BS6)*($CY$4:$CY$383))) | BX6: =IF(BS6="","",SUMPRODUCT(($F$4:$F$383=BS6)*($DA$4:$DA$383))) | BY6: =IF(BS6="","",SUMPRODUCT(($F$4:$F$383=BS6)*($DC$4:$DC$383))) | BZ6: =IF(BS6="","",SUMPRODUCT(($F$4:$F$383=BS6)*($DE$4:$DE$383))) | CA6: =IF(BS6="","",SUMPRODUCT(($F$4:$F$383=BS6)*($DG$4:$DG$383))) | CB6: =IF(BS6="","",SUMPRODUCT(($F$4:$F$383=BS6)*($DI$4:$DI$383))) | CC6: =IF(BS6="","",CA6-CB6) | CD6: =IFERROR(SUM(AZ6*1000+(BG6)/100+(BE6)/1000),"") | CE6: =IFERROR(SUM(CD6+0.0000019),"") | CF6: =IFERROR(SUM(BK6*1000+(BR6)/100+(BP6)/1000),"") | CG6: =IFERROR(SUM(CF6+0.0000019),"") | CH6: =IFERROR(SUM(BV6*1000+(CC6)/100+(CA6)/1000),"") | CI6: =IFERROR(SUM(CH6+0.0000019),"") | CJ6: =A6 -> 0 | CK6: =H6 -> 0 | CL6: =IF(B6="Forfait Perdant",3,"") | CM6: =IF(G6="Forfait Perdant",3,"") | CN6: =IF(B6="Forfait Gagnant",0,"") | CO6: =IF(G6="Forfait Gagnant",0,"") | CP6: =IF(D6="",0,IF(D6=E6,0,IF(D6<E6,0,IF('Equipes et choix des points'!$I$2=1,IF('Matchs et classements'!D6>'Matchs et classements'!E6,3),IF('Equipes et choix des points'!$I$2=2,IF('Matchs et classements'!D6>E6,4)))))) -> 0 | CQ6: =IF(E6="",0,IF(E6=D6,0,IF(E6<D6,0,IF('Equipes et choix des points'!$I$2=1,IF('Matchs et classements'!E6>'Matchs et classements'!D6,3),IF('Equipes et choix des points'!$I$2=2,IF('Matchs et classements'!E6>'Matchs et classements'!D6,4)))))) -> 0 | CR6: =IF(D6="",0,IF(D6>E6,0,IF(D6<E6,0,IF('Equipes et choix des points'!$I$2=1,IF('Matchs et classements'!D6='Matchs et classements'!E6,1),IF('Equipes et choix des points'!$I$2=2,IF('Matchs et classements'!D6='Matchs et classements'!E6,2)))))) -> 0 | CS6: =IF(E6="",0,IF(E6>D6,0,IF(E6<D6,0,IF('Equipes et choix des points'!$I$2=1,IF('Matchs et classements'!E6='Matchs et classements'!D6,1),IF('Equipes et choix des points'!$I$2=2,IF('Matchs et classements'!E6='Matchs et classements'!D6,2)))))) -> 0 | CT6: =IF(D6="",0,IF(D6>E6,0,IF(D6=E6,0,IF('Equipes et choix des points'!$I$2=1,IF('Matchs et classements'!D6<'Matchs et classements'!E6,0),IF('Equipes et choix des points'!$I$2=2,IF('Matchs et classements'!D6<'Matchs et classements'!E6,1)))))) -> 0 | CU6: =IF(E6="",0,IF(E6>D6,0,IF(E6=D6,0,IF('Equipes et choix des points'!$I$2=1,IF('Matchs et classements'!E6<'Matchs et classements'!D6,0),IF('Equipes et choix des points'!$I$2=2,IF('Matchs et classements'!E6<'Matchs et classements'!D6,1)))))) -> 0 | CV6: =SUM(CP6,CR6,CT6)-SUM(CJ6,CL6) -> 0 | CW6: =SUM(CO6,CQ6,CS6)-SUM(CK6,CM6) -> 0 | CX6: =IF(B6="Forfait perdant",0,IF(B6="Forfait Général",0,IF(D6="",0,1))) -> 0 | CY6: =IF(G6="Forfait Perdant",0,IF(G6="Forfait Général",0,IF(E6="",0,1))) -> 0 | CZ6: =IF(D6<>"",IF(D6>E6,1)) -> FALSE | DA6: =IF(E6<>"",IF(E6>D6,1)) -> FALSE | DB6: =IF(D6<>"",IF(D6=E6,1)) -> FALSE | DC6: =IF(E6<>"",IF(E6=D6,1)) -> FALSE | DD6: =IF(D6<>"",IF(D6<E6,1)) -> FALSE | DE6: =IF(E6<>"",IF(E6<D6,1)) -> FALSE | DF6: =D6 -> 0 | DG6: =E6 -> 0 | DH6: =E6 -> 0 | DI6: =D6 -> 0 | DJ6: =IF(AW6="","",VLOOKUP(AQ6,$AR$5:$AW$24,6,0)) | DK6: =IFERROR(VLOOKUP(DJ6,AW$5:CD25,34,0),"") | DL6: =IF(DJ6="","",RANK(DK6,DK5:DK24)) | DM6: =IF(AW6="","",AW6) | DN6: =IFERROR(VLOOKUP(AS6,$AT$5:$BH$24,15,0),"") | DO6: =IFERROR(VLOOKUP(DN6,$BH$5:$CF$24,25,0),"") | DP6: =IF(DN6="","",RANK(DO6,DO5:DO24)) | DQ6: =IF(BH6="","",BH6) | DR6: =IFERROR(VLOOKUP(AU6,$AV$5:$BS$24,24,0),"") | DS6: =IFERROR(VLOOKUP(DR6,$BS$5:$CH$24,16,0),"") | DT6: =IF(DR6="","",RANK(DS6,DS5:DS24))
M7: =IF(O7="","",IF(DK7=DK6,DL6,DL7)) | N7: =IF(O7="","",VLOOKUP(O7,$AW$5:$BG$24,4,0)) | O7: =IF('Equipes et choix des points'!A4="","",VLOOKUP('Matchs et classements'!AQ7,'Matchs et classements'!$AR$5:$AW$24,6,0)) | P7: =IF(O7="","",VLOOKUP(O7,$AW$5:$BG$24,5,0)) | Q7: =IF(O7="","",VLOOKUP(O7,$AW$5:$BG$24,6,0)) | R7: =IF(O7="","",VLOOKUP(O7,$AW$5:$BG$24,7,0)) | S7: =IF(O7="","",VLOOKUP(O7,$AW$5:$BG$24,8,0)) | T7: =IF(O7="","",VLOOKUP(O7,$AW$5:$BG$24,9,0)) | U7: =IF(O7="","",VLOOKUP(O7,$AW$5:$BG$24,10,0)) | V7: =IF(O7="","",VLOOKUP(O7,$AW$5:$BG$24,11,0)) | W7: =IF(Y7="","",IF(DO7=DO6,DP6,DP7)) | X7: =IF(Y7="","",VLOOKUP(Y7,$BH$5:$BR$24,4,0)) | Y7: =IF('Equipes et choix des points'!A4="","",VLOOKUP('Matchs et classements'!AS7,'Matchs et classements'!$AT$5:$BH$24,15,0)) | Z7: =IF(Y7="","",VLOOKUP(Y7,$BH$5:$BR$24,5,0)) | AA7: =IF(Y7="","",VLOOKUP(Y7,$BH$5:$BR$24,6,0)) | AB7: =IF(Y7="","",VLOOKUP(Y7,$BH$5:$BR$24,7,0)) | AC7: =IF(Y7="","",VLOOKUP(Y7,$BH$5:$BR$24,8,0)) | AD7: =IF(Y7="","",VLOOKUP(Y7,$BH$5:$BR$24,9,0)) | AE7: =IF(Y7="","",VLOOKUP(Y7,$BH$5:$BR$24,10,0)) | AF7: =IF(Y7="","",VLOOKUP(Y7,$BH$5:$BR$24,11,0)) | AG7: =IF(AI7="","",IF(DS7=DS6,DT6,DT7)) | AH7: =IF(AI7="","",VLOOKUP(AI7,$BS$5:$CC$24,4,0)) | AI7: =IF('Equipes et choix des points'!A4="","",VLOOKUP('Matchs et classements'!AU7,'Matchs et classements'!$AV$5:$BS$24,24,0)) | AJ7: =IF(AI7="","",VLOOKUP(AI7,$BS$5:$CC$24,5,0)) | AK7: =IF(AI7="","",VLOOKUP(AI7,$BS$5:$CC$24,6,0)) | AL7: =IF(AI7="","",VLOOKUP(AI7,$BS$5:$CC$24,7,0)) | AM7: =IF(AI7="","",VLOOKUP(AI7,$BS$5:$CC$24,8,0)) | AN7: =IF(AI7="","",VLOOKUP(AI7,$BS$5:$CC$24,9,0)) | AO7: =IF(AI7="","",VLOOKUP(AI7,$BS$5:$CC$24,10,0)) | AP7: =IF(AI7="","",VLOOKUP(AI7,$BS$5:$CC$24,11,0)) | AQ7: 3 | AR7: =AY7 | AS7: 3 | AT7: =BJ7 | AU7: 3 | AV7: =BU7 | AW7: =IF('Equipes et choix des points'!$A$4<>"",'Equipes et choix des points'!$A$4,"") | AX7: =IF('Equipes et choix des points'!A4="","",RANK(CD7,$CD$5:$CD$24)) | AY7: =IF(AW7="","",RANK(CE7,$CE$5:$CE$24)) | AZ7: =IF(AW7="","",SUMPRODUCT(($C$4:$C$383=AW7)*($CV$4:$CV$383))+SUMPRODUCT(($F$4:$F$383=AW7)*($CW$4:$CW$383))) | BA7: =IF(AW7="","",SUMPRODUCT(($C$4:$C$383=AW7)*($CX$4:$CX$383))+SUMPRODUCT(($F$4:$F$383=AW7)*($CY$4:$CY$383))) | BB7: =IF(AW7="","",SUMPRODUCT(($C$4:$C$383=AW7)*($CZ$4:$CZ$383))+SUMPRODUCT(($F$4:$F$383=AW7)*($DA$4:$DA$383))) | BC7: =IF(AW7="","",SUMPRODUCT(($C$4:$C$383=AW7)*($DB$4:$DB$383))+SUMPRODUCT(($F$4:$F$383=AW7)*($DC$4:$DC$383))) | BD7: =IF(AW7="","",SUMPRODUCT(($C$4:$C$383=AW7)*($DD$4:$DD$383))+SUMPRODUCT(($F$4:$F$383=AW7)*($DE$4:$DE$383))) | BE7: =IF(AW7="","",SUMPRODUCT(($C$4:$C$383=AW7)*($DF$4:$DF$383))+SUMPRODUCT(($F$4:$F$383=AW7)*($DG$4:$DG$383))) | BF7: =IF(AW7="","",SUMPRODUCT(($C$4:$C$383=AW7)*($DH$4:$DH$383))+SUMPRODUCT(($F$4:$F$383=AW7)*($DI$4:$DI$383))) | BG7: =IF(AW7="","",BE7-BF7) | BH7: =IF('Equipes et choix des points'!$A$4<>"",'Equipes et choix des points'!$A$4,"") | BI7: =IF(BH7="","",RANK(CF7,$CF$5:$CF$24)) | BJ7: =IF(BH7="","",RANK(CG7,$CG$5:$CG$24)) | BK7: =IF(BH7="","",SUMPRODUCT(($C$4:$C$383=BH7)*($CV$4:$CV$383))) | BL7: =IF(BH7="","",SUMPRODUCT(($C$4:$C$383=BH7)*($CX$4:$CX$383))) | BM7: =IF(BH7="","",SUMPRODUCT(($C$4:$C$383=BH7)*($CZ$4:$CZ$383))) | BN7: =IF(BH7="","",SUMPRODUCT(($C$4:$C$383=BH7)*($DB$4:$DB$383))) | BO7: =IF(BH7="","",SUMPRODUCT(($C$4:$C$383=BH7)*($DD$4:$DD$383))) | BP7: =IF(BH7="","",SUMPRODUCT(($C$4:$C$383=BH7)*($DF$4:$DF$383))) | BQ7: =IF(BH7="","",SUMPRODUCT(($C$4:$C$383=BH7)*($DH$4:$DH$383))) | BR7: =IF(BH7="","",BP7-BQ7) | BS7: =IF('Equipes et choix des points'!$A$4<>"",'Equipes et choix des points'!$A$4,"") | BT7: =IF(BS7="","",RANK(CH7,$CH$5:$CH$24)) | BU7: =IF(BS7="","",RANK(CI7,$CI$5:$CI$24)) | BV7: =IF(BS7="","",SUMPRODUCT(($F$4:$F$383=BS7)*($CW$4:$CW$383))) | BW7: =IF(BS7="","",SUMPRODUCT(($F$4:$F$383=BS7)*($CY$4:$CY$383))) | BX7: =IF(BS7="","",SUMPRODUCT(($F$4:$F$383=BS7)*($DA$4:$DA$383))) | BY7: =IF(BS7="","",SUMPRODUCT(($F$4:$F$383=BS7)*($DC$4:$DC$383))) | BZ7: =IF(BS7="","",SUMPRODUCT(($F$4:$F$383=BS7)*($DE$4:$DE$383))) | CA7: =IF(BS7="","",SUMPRODUCT(($F$4:$F$383=BS7)*($DG$4:$DG$383))) | CB7: =IF(BS7="","",SUMPRODUCT(($F$4:$F$383=BS7)*($DI$4:$DI$383))) | CC7: =IF(BS7="","",CA7-CB7) | CD7: =IFERROR(SUM(AZ7*1000+(BG7)/100+(BE7)/1000),"") | CE7: =IFERROR(SUM(CD7+0.0000018),"") | CF7: =IFERROR(SUM(BK7*1000+(BR7)/100+(BP7)/1000),"") | CG7: =IFERROR(SUM(CF7+0.0000018),"") | CH7: =IFERROR(SUM(BV7*1000+(CC7)/100+(CA7)/1000),"") | CI7: =IFERROR(SUM(CH7+0.0000018),"") | CJ7: =A7 -> 0 | CK7: =H7 -> 0 | CL7: =IF(B7="Forfait Perdant",3,"") | CM7: =IF(G7="Forfait Perdant",3,"") | CN7: =IF(B7="Forfait Gagnant",0,"") | CO7: =IF(G7="Forfait Gagnant",0,"") | CP7: =IF(D7="",0,IF(D7=E7,0,IF(D7<E7,0,IF('Equipes et choix des points'!$I$2=1,IF('Matchs et classements'!D7>'Matchs et classements'!E7,3),IF('Equipes et choix des points'!$I$2=2,IF('Matchs et classements'!D7>E7,4)))))) -> 0 | CQ7: =IF(E7="",0,IF(E7=D7,0,IF(E7<D7,0,IF('Equipes et choix des points'!$I$2=1,IF('Matchs et classements'!E7>'Matchs et classements'!D7,3),IF('Equipes et choix des points'!$I$2=2,IF('Matchs et classements'!E7>'Matchs et classements'!D7,4)))))) -> 0 | CR7: =IF(D7="",0,IF(D7>E7,0,IF(D7<E7,0,IF('Equipes et choix des points'!$I$2=1,IF('Matchs et classements'!D7='Matchs et classements'!E7,1),IF('Equipes et choix des points'!$I$2=2,IF('Matchs et classements'!D7='Matchs et classements'!E7,2)))))) -> 0 | CS7: =IF(E7="",0,IF(E7>D7,0,IF(E7<D7,0,IF('Equipes et choix des points'!$I$2=1,IF('Matchs et classements'!E7='Matchs et classements'!D7,1),IF('Equipes et choix des points'!$I$2=2,IF('Matchs et classements'!E7='Matchs et classements'!D7,2)))))) -> 0 | CT7: =IF(D7="",0,IF(D7>E7,0,IF(D7=E7,0,IF('Equipes et choix des points'!$I$2=1,IF('Matchs et classements'!D7<'Matchs et classements'!E7,0),IF('Equipes et choix des points'!$I$2=2,IF('Matchs et classements'!D7<'Matchs et classements'!E7,1)))))) -> 0 | CU7: =IF(E7="",0,IF(E7>D7,0,IF(E7=D7,0,IF('Equipes et choix des points'!$I$2=1,IF('Matchs et classements'!E7<'Matchs et classements'!D7,0),IF('Equipes et choix des points'!$I$2=2,IF('Matchs et classements'!E7<'Matchs et classements'!D7,1)))))) -> 0 | CV7: =SUM(CP7,CR7,CT7)-SUM(CJ7,CL7) -> 0 | CW7: =SUM(CO7,CQ7,CS7)-SUM(CK7,CM7) -> 0 | CX7: =IF(B7="Forfait perdant",0,IF(B7="Forfait Général",0,IF(D7="",0,1))) -> 0 | CY7: =IF(G7="Forfait Perdant",0,IF(G7="Forfait Général",0,IF(E7="",0,1))) -> 0 | CZ7: =IF(D7<>"",IF(D7>E7,1)) -> FALSE | DA7: =IF(E7<>"",IF(E7>D7,1)) -> FALSE | DB7: =IF(D7<>"",IF(D7=E7,1)) -> FALSE | DC7: =IF(E7<>"",IF(E7=D7,1)) -> FALSE | DD7: =IF(D7<>"",IF(D7<E7,1)) -> FALSE | DE7: =IF(E7<>"",IF(E7<D7,1)) -> FALSE | DF7: =D7 -> 0 | DG7: =E7 -> 0 | DH7: =E7 -> 0 | DI7: =D7 -> 0 | DJ7: =IF(AW7="","",VLOOKUP(AQ7,$AR$5:$AW$24,6,0)) | DK7: =IFERROR(VLOOKUP(DJ7,AW$5:CD26,34,0),"") | DL7: =IF(DJ7="","",RANK(DK7,DK5:DK24)) | DM7: =IF(AW7="","",AW7) | DN7: =IFERROR(VLOOKUP(AS7,$AT$5:$BH$24,15,0),"") | DO7: =IFERROR(VLOOKUP(DN7,$BH$5:$CF$24,25,0),"") | DP7: =IF(DN7="","",RANK(DO7,DO5:DO24)) | DQ7: =IF(BH7="","",BH7) | DR7: =IFERROR(VLOOKUP(AU7,$AV$5:$BS$24,24,0),"") | DS7: =IFERROR(VLOOKUP(DR7,$BS$5:$CH$24,16,0),"") | DT7: =IF(DR7="","",RANK(DS7,DS5:DS24))
M8: =IF(O8="","",IF(DK8=DK7,DL7,DL8)) | N8: =IF(O8="","",VLOOKUP(O8,$AW$5:$BG$24,4,0)) | O8: =IF('Equipes et choix des points'!A5="","",VLOOKUP('Matchs et classements'!AQ8,'Matchs et classements'!$AR$5:$AW$24,6,0)) | P8: =IF(O8="","",VLOOKUP(O8,$AW$5:$BG$24,5,0)) | Q8: =IF(O8="","",VLOOKUP(O8,$AW$5:$BG$24,6,0)) | R8: =IF(O8="","",VLOOKUP(O8,$AW$5:$BG$24,7,0)) | S8: =IF(O8="","",VLOOKUP(O8,$AW$5:$BG$24,8,0)) | T8: =IF(O8="","",VLOOKUP(O8,$AW$5:$BG$24,9,0)) | U8: =IF(O8="","",VLOOKUP(O8,$AW$5:$BG$24,10,0)) | V8: =IF(O8="","",VLOOKUP(O8,$AW$5:$BG$24,11,0)) | W8: =IF(Y8="","",IF(DO8=DO7,DP7,DP8)) | X8: =IF(Y8="","",VLOOKUP(Y8,$BH$5:$BR$24,4,0)) | Y8: =IF('Equipes et choix des points'!A5="","",VLOOKUP('Matchs et classements'!AS8,'Matchs et classements'!$AT$5:$BH$24,15,0)) | Z8: =IF(Y8="","",VLOOKUP(Y8,$BH$5:$BR$24,5,0)) | AA8: =IF(Y8="","",VLOOKUP(Y8,$BH$5:$BR$24,6,0)) | AB8: =IF(Y8="","",VLOOKUP(Y8,$BH$5:$BR$24,7,0)) | AC8: =IF(Y8="","",VLOOKUP(Y8,$BH$5:$BR$24,8,0)) | AD8: =IF(Y8="","",VLOOKUP(Y8,$BH$5:$BR$24,9,0)) | AE8: =IF(Y8="","",VLOOKUP(Y8,$BH$5:$BR$24,10,0)) | AF8: =IF(Y8="","",VLOOKUP(Y8,$BH$5:$BR$24,11,0)) | AG8: =IF(AI8="","",IF(DS8=DS7,DT7,DT8)) | AH8: =IF(AI8="","",VLOOKUP(AI8,$BS$5:$CC$24,4,0)) | AI8: =IF('Equipes et choix des points'!A5="","",VLOOKUP('Matchs et classements'!AU8,'Matchs et classements'!$AV$5:$BS$24,24,0)) | AJ8: =IF(AI8="","",VLOOKUP(AI8,$BS$5:$CC$24,5,0)) | AK8: =IF(AI8="","",VLOOKUP(AI8,$BS$5:$CC$24,6,0)) | AL8: =IF(AI8="","",VLOOKUP(AI8,$BS$5:$CC$24,7,0)) | AM8: =IF(AI8="","",VLOOKUP(AI8,$BS$5:$CC$24,8,0)) | AN8: =IF(AI8="","",VLOOKUP(AI8,$BS$5:$CC$24,9,0)) | AO8: =IF(AI8="","",VLOOKUP(AI8,$BS$5:$CC$24,10,0)) | AP8: =IF(AI8="","",VLOOKUP(AI8,$BS$5:$CC$24,11,0)) | AQ8: 4 | AR8: =AY8 | AS8: 4 | AT8: =BJ8 | AU8: 4 | AV8: =BU8 | AW8: =IF('Equipes et choix des points'!$A$5<>"",'Equipes et choix des points'!$A$5,"") | AX8: =IF('Equipes et choix des points'!A5="","",RANK(CD8,$CD$5:$CD$24)) | AY8: =IF(AW8="","",RANK(CE8,$CE$5:$CE$24)) | AZ8: =IF(AW8="","",SUMPRODUCT(($C$4:$C$383=AW8)*($CV$4:$CV$383))+SUMPRODUCT(($F$4:$F$383=AW8)*($CW$4:$CW$383))) | BA8: =IF(AW8="","",SUMPRODUCT(($C$4:$C$383=AW8)*($CX$4:$CX$383))+SUMPRODUCT(($F$4:$F$383=AW8)*($CY$4:$CY$383))) | BB8: =IF(AW8="","",SUMPRODUCT(($C$4:$C$383=AW8)*($CZ$4:$CZ$383))+SUMPRODUCT(($F$4:$F$383=AW8)*($DA$4:$DA$383))) | BC8: =IF(AW8="","",SUMPRODUCT(($C$4:$C$383=AW8)*($DB$4:$DB$383))+SUMPRODUCT(($F$4:$F$383=AW8)*($DC$4:$DC$383))) | BD8: =IF(AW8="","",SUMPRODUCT(($C$4:$C$383=AW8)*($DD$4:$DD$383))+SUMPRODUCT(($F$4:$F$383=AW8)*($DE$4:$DE$383))) | BE8: =IF(AW8="","",SUMPRODUCT(($C$4:$C$383=AW8)*($DF$4:$DF$383))+SUMPRODUCT(($F$4:$F$383=AW8)*($DG$4:$DG$383))) | BF8: =IF(AW8="","",SUMPRODUCT(($C$4:$C$383=AW8)*($DH$4:$DH$383))+SUMPRODUCT(($F$4:$F$383=AW8)*($DI$4:$DI$383))) | BG8: =IF(AW8="","",BE8-BF8) | BH8: =IF('Equipes et choix des points'!$A$5<>"",'Equipes et choix des points'!$A$5,"") | BI8: =IF(BH8="","",RANK(CF8,$CF$5:$CF$24)) | BJ8: =IF(BH8="","",RANK(CG8,$CG$5:$CG$24)) | BK8: =IF(BH8="","",SUMPRODUCT(($C$4:$C$383=BH8)*($CV$4:$CV$383))) | BL8: =IF(BH8="","",SUMPRODUCT(($C$4:$C$383=BH8)*($CX$4:$CX$383))) | BM8: =IF(BH8="","",SUMPRODUCT(($C$4:$C$383=BH8)*($CZ$4:$CZ$383))) | BN8: =IF(BH8="","",SUMPRODUCT(($C$4:$C$383=BH8)*($DB$4:$DB$383))) | BO8: =IF(BH8="","",SUMPRODUCT(($C$4:$C$383=BH8)*($DD$4:$DD$383))) | BP8: =IF(BH8="","",SUMPRODUCT(($C$4:$C$383=BH8)*($DF$4:$DF$383))) | BQ8: =IF(BH8="","",SUMPRODUCT(($C$4:$C$383=BH8)*($DH$4:$DH$383))) | BR8: =IF(BH8="","",BP8-BQ8) | BS8: =IF('Equipes et choix des points'!$A$5<>"",'Equipes et choix des points'!$A$5,"") | BT8: =IF(BS8="","",RANK(CH8,$CH$5:$CH$24)) | BU8: =IF(BS8="","",RANK(CI8,$CI$5:$CI$24)) | BV8: =IF(BS8="","",SUMPRODUCT(($F$4:$F$383=BS8)*($CW$4:$CW$383))) | BW8: =IF(BS8="","",SUMPRODUCT(($F$4:$F$383=BS8)*($CY$4:$CY$383))) | BX8: =IF(BS8="","",SUMPRODUCT(($F$4:$F$383=BS8)*($DA$4:$DA$383))) | BY8: =IF(BS8="","",SUMPRODUCT(($F$4:$F$383=BS8)*($DC$4:$DC$383))) | BZ8: =IF(BS8="","",SUMPRODUCT(($F$4:$F$383=BS8)*($DE$4:$DE$383))) | CA8: =IF(BS8="","",SUMPRODUCT(($F$4:$F$383=BS8)*($DG$4:$DG$383))) | CB8: =IF(BS8="","",SUMPRODUCT(($F$4:$F$383=BS8)*($DI$4:$DI$383))) | CC8: =IF(BS8="","",CA8-CB8) | CD8: =IFERROR(SUM(AZ8*1000+(BG8)/100+(BE8)/1000),"") | CE8: =IFERROR(SUM(CD8+0.0000017),"") | CF8: =IFERROR(SUM(BK8*1000+(BR8)/100+(BP8)/1000),"") | CG8: =IFERROR(SUM(CF8+0.0000017),"") | CH8: =IFERROR(SUM(BV8*1000+(CC8)/100+(CA8)/1000),"") | CI8: =IFERROR(SUM(CH8+0.0000017),"") | CJ8: =A8 -> 0 | CK8: =H8 -> 0 | CL8: =IF(B8="Forfait Perdant",3,"") | CM8: =IF(G8="Forfait Perdant",3,"") | CN8: =IF(B8="Forfait Gagnant",0,"") | CO8: =IF(G8="Forfait Gagnant",0,"") | CP8: =IF(D8="",0,IF(D8=E8,0,IF(D8<E8,0,IF('Equipes et choix des points'!$I$2=1,IF('Matchs et classements'!D8>'Matchs et classements'!E8,3),IF('Equipes et choix des points'!$I$2=2,IF('Matchs et classements'!D8>E8,4)))))) -> 0 | CQ8: =IF(E8="",0,IF(E8=D8,0,IF(E8<D8,0,IF('Equipes et choix des points'!$I$2=1,IF('Matchs et classements'!E8>'Matchs et classements'!D8,3),IF('Equipes et choix des points'!$I$2=2,IF('Matchs et classements'!E8>'Matchs et classements'!D8,4)))))) -> 0 | CR8: =IF(D8="",0,IF(D8>E8,0,IF(D8<E8,0,IF('Equipes et choix des points'!$I$2=1,IF('Matchs et classements'!D8='Matchs et classements'!E8,1),IF('Equipes et choix des points'!$I$2=2,IF('Matchs et classements'!D8='Matchs et classements'!E8,2)))))) -> 0 | CS8: =IF(E8="",0,IF(E8>D8,0,IF(E8<D8,0,IF('Equipes et choix des points'!$I$2=1,IF('Matchs et classements'!E8='Matchs et classements'!D8,1),IF('Equipes et choix des points'!$I$2=2,IF('Matchs et classements'!E8='Matchs et classements'!D8,2)))))) -> 0 | CT8: =IF(D8="",0,IF(D8>E8,0,IF(D8=E8,0,IF('Equipes et choix des points'!$I$2=1,IF('Matchs et classements'!D8<'Matchs et classements'!E8,0),IF('Equipes et choix des points'!$I$2=2,IF('Matchs et classements'!D8<'Matchs et classements'!E8,1)))))) -> 0 | CU8: =IF(E8="",0,IF(E8>D8,0,IF(E8=D8,0,IF('Equipes et choix des points'!$I$2=1,IF('Matchs et classements'!E8<'Matchs et classements'!D8,0),IF('Equipes et choix des points'!$I$2=2,IF('Matchs et classements'!E8<'Matchs et classements'!D8,1)))))) -> 0 | CV8: =SUM(CP8,CR8,CT8)-SUM(CJ8,CL8) -> 0 | CW8: =SUM(CO8,CQ8,CS8)-SUM(CK8,CM8) -> 0 | CX8: =IF(B8="Forfait perdant",0,IF(B8="Forfait Général",0,IF(D8="",0,1))) -> 0 | CY8: =IF(G8="Forfait Perdant",0,IF(G8="Forfait Général",0,IF(E8="",0,1))) -> 0 | CZ8: =IF(D8<>"",IF(D8>E8,1)) -> FALSE | DA8: =IF(E8<>"",IF(E8>D8,1)) -> FALSE | DB8: =IF(D8<>"",IF(D8=E8,1)) -> FALSE | DC8: =IF(E8<>"",IF(E8=D8,1)) -> FALSE | DD8: =IF(D8<>"",IF(D8<E8,1)) -> FALSE | DE8: =IF(E8<>"",IF(E8<D8,1)) -> FALSE | DF8: =D8 -> 0 | DG8: =E8 -> 0 | DH8: =E8 -> 0 | DI8: =D8 -> 0 | DJ8: =IF(AW8="","",VLOOKUP(AQ8,$AR$5:$AW$24,6,0)) | DK8: =IFERROR(VLOOKUP(DJ8,AW$5:CD27,34,0),"") | DL8: =IF(DJ8="","",RANK(DK8,DK5:DK24)) | DM8: =IF(AW8="","",AW8) | DN8: =IFERROR(VLOOKUP(AS8,$AT$5:$BH$24,15,0),"") | DO8: =IFERROR(VLOOKUP(DN8,$BH$5:$CF$24,25,0),"") | DP8: =IF(DN8="","",RANK(DO8,DO5:DO24)) | DQ8: =IF(BH8="","",BH8) | DR8: =IFERROR(VLOOKUP(AU8,$AV$5:$BS$24,24,0),"") | DS8: =IFERROR(VLOOKUP(DR8,$BS$5:$CH$24,16,0),"") | DT8: =IF(DR8="","",RANK(DS8,DS5:DS24))
M9: =IF(O9="","",IF(DK9=DK8,DL8,DL9)) | N9: =IF(O9="","",VLOOKUP(O9,$AW$5:$BG$24,4,0)) | O9: =IF('Equipes et choix des points'!A6="","",VLOOKUP('Matchs et classements'!AQ9,'Matchs et classements'!$AR$5:$AW$24,6,0)) | P9: =IF(O9="","",VLOOKUP(O9,$AW$5:$BG$24,5,0)) | Q9: =IF(O9="","",VLOOKUP(O9,$AW$5:$BG$24,6,0)) | R9: =IF(O9="","",VLOOKUP(O9,$AW$5:$BG$24,7,0)) | S9: =IF(O9="","",VLOOKUP(O9,$AW$5:$BG$24,8,0)) | T9: =IF(O9="","",VLOOKUP(O9,$AW$5:$BG$24,9,0)) | U9: =IF(O9="","",VLOOKUP(O9,$AW$5:$BG$24,10,0)) | V9: =IF(O9="","",VLOOKUP(O9,$AW$5:$BG$24,11,0)) | W9: =IF(Y9="","",IF(DO9=DO8,DP8,DP9)) | X9: =IF(Y9="","",VLOOKUP(Y9,$BH$5:$BR$24,4,0)) | Y9: =IF('Equipes et choix des points'!A6="","",VLOOKUP('Matchs et classements'!AS9,'Matchs et classements'!$AT$5:$BH$24,15,0)) | Z9: =IF(Y9="","",VLOOKUP(Y9,$BH$5:$BR$24,5,0)) | AA9: =IF(Y9="","",VLOOKUP(Y9,$BH$5:$BR$24,6,0)) | AB9: =IF(Y9="","",VLOOKUP(Y9,$BH$5:$BR$24,7,0)) | AC9: =IF(Y9="","",VLOOKUP(Y9,$BH$5:$BR$24,8,0)) | AD9: =IF(Y9="","",VLOOKUP(Y9,$BH$5:$BR$24,9,0)) | AE9: =IF(Y9="","",VLOOKUP(Y9,$BH$5:$BR$24,10,0)) | AF9: =IF(Y9="","",VLOOKUP(Y9,$BH$5:$BR$24,11,0)) | AG9: =IF(AI9="","",IF(DS9=DS8,DT8,DT9)) | AH9: =IF(AI9="","",VLOOKUP(AI9,$BS$5:$CC$24,4,0)) | AI9: =IF('Equipes et choix des points'!A6="","",VLOOKUP('Matchs et classements'!AU9,'Matchs et classements'!$AV$5:$BS$24,24,0)) | AJ9: =IF(AI9="","",VLOOKUP(AI9,$BS$5:$CC$24,5,0)) | AK9: =IF(AI9="","",VLOOKUP(AI9,$BS$5:$CC$24,6,0)) | AL9: =IF(AI9="","",VLOOKUP(AI9,$BS$5:$CC$24,7,0)) | AM9: =IF(AI9="","",VLOOKUP(AI9,$BS$5:$CC$24,8,0)) | AN9: =IF(AI9="","",VLOOKUP(AI9,$BS$5:$CC$24,9,0)) | AO9: =IF(AI9="","",VLOOKUP(AI9,$BS$5:$CC$24,10,0)) | AP9: =IF(AI9="","",VLOOKUP(AI9,$BS$5:$CC$24,11,0)) | AQ9: 5 | AR9: =AY9 | AS9: 5 | AT9: =BJ9 | AU9: 5 | AV9: =BU9 | AW9: =IF('Equipes et choix des points'!$A$6<>"",'Equipes et choix des points'!$A$6,"") | AX9: =IF('Equipes et choix des points'!A6="","",RANK(CD9,$CD$5:$CD$24)) | AY9: =IF(AW9="","",RANK(CE9,$CE$5:$CE$24)) | AZ9: =IF(AW9="","",SUMPRODUCT(($C$4:$C$383=AW9)*($CV$4:$CV$383))+SUMPRODUCT(($F$4:$F$383=AW9)*($CW$4:$CW$383))) | BA9: =IF(AW9="","",SUMPRODUCT(($C$4:$C$383=AW9)*($CX$4:$CX$383))+SUMPRODUCT(($F$4:$F$383=AW9)*($CY$4:$CY$383))) | BB9: =IF(AW9="","",SUMPRODUCT(($C$4:$C$383=AW9)*($CZ$4:$CZ$383))+SUMPRODUCT(($F$4:$F$383=AW9)*($DA$4:$DA$383))) | BC9: =IF(AW9="","",SUMPRODUCT(($C$4:$C$383=AW9)*($DB$4:$DB$383))+SUMPRODUCT(($F$4:$F$383=AW9)*($DC$4:$DC$383))) | BD9: =IF(AW9="","",SUMPRODUCT(($C$4:$C$383=AW9)*($DD$4:$DD$383))+SUMPRODUCT(($F$4:$F$383=AW9)*($DE$4:$DE$383))) | BE9: =IF(AW9="","",SUMPRODUCT(($C$4:$C$383=AW9)*($DF$4:$DF$383))+SUMPRODUCT(($F$4:$F$383=AW9)*($DG$4:$DG$383))) | BF9: =IF(AW9="","",SUMPRODUCT(($C$4:$C$383=AW9)*($DH$4:$DH$383))+SUMPRODUCT(($F$4:$F$383=AW9)*($DI$4:$DI$383))) | BG9: =IF(AW9="","",BE9-BF9) | BH9: =IF('Equipes et choix des points'!$A$6<>"",'Equipes et choix des points'!$A$6,"") | BI9: =IF(BH9="","",RANK(CF9,$CF$5:$CF$24)) | BJ9: =IF(BH9="","",RANK(CG9,$CG$5:$CG$24)) | BK9: =IF(BH9="","",SUMPRODUCT(($C$4:$C$383=BH9)*($CV$4:$CV$383))) | BL9: =IF(BH9="","",SUMPRODUCT(($C$4:$C$383=BH9)*($CX$4:$CX$383))) | BM9: =IF(BH9="","",SUMPRODUCT(($C$4:$C$383=BH9)*($CZ$4:$CZ$383))) | BN9: =IF(BH9="","",SUMPRODUCT(($C$4:$C$383=BH9)*($DB$4:$DB$383))) | BO9: =IF(BH9="","",SUMPRODUCT(($C$4:$C$383=BH9)*($DD$4:$DD$383))) | BP9: =IF(BH9="","",SUMPRODUCT(($C$4:$C$383=BH9)*($DF$4:$DF$383))) | BQ9: =IF(BH9="","",SUMPRODUCT(($C$4:$C$383=BH9)*($DH$4:$DH$383))) | BR9: =IF(BH9="","",BP9-BQ9) | BS9: =IF('Equipes et choix des points'!$A$6<>"",'Equipes et choix des points'!$A$6,"") | BT9: =IF(BS9="","",RANK(CH9,$CH$5:$CH$24)) | BU9: =IF(BS9="","",RANK(CI9,$CI$5:$CI$24)) | BV9: =IF(BS9="","",SUMPRODUCT(($F$4:$F$383=BS9)*($CW$4:$CW$383))) | BW9: =IF(BS9="","",SUMPRODUCT(($F$4:$F$383=BS9)*($CY$4:$CY$383))) | BX9: =IF(BS9="","",SUMPRODUCT(($F$4:$F$383=BS9)*($DA$4:$DA$383))) | BY9: =IF(BS9="","",SUMPRODUCT(($F$4:$F$383=BS9)*($DC$4:$DC$383))) | BZ9: =IF(BS9="","",SUMPRODUCT(($F$4:$F$383=BS9)*($DE$4:$DE$383))) | CA9: =IF(BS9="","",SUMPRODUCT(($F$4:$F$383=BS9)*($DG$4:$DG$383))) | CB9: =IF(BS9="","",SUMPRODUCT(($F$4:$F$383=BS9)*($DI$4:$DI$383))) | CC9: =IF(BS9="","",CA9-CB9) | CD9: =IFERROR(SUM(AZ9*1000+(BG9)/100+(BE9)/1000),"") | CE9: =IFERROR(SUM(CD9+0.0000016),"") | CF9: =IFERROR(SUM(BK9*1000+(BR9)/100+(BP9)/1000),"") | CG9: =IFERROR(SUM(CF9+0.0000016),"") | CH9: =IFERROR(SUM(BV9*1000+(CC9)/100+(CA9)/1000),"") | CI9: =IFERROR(SUM(CH9+0.0000016),"") | CJ9: =A9 -> 0 | CK9: =H9 -> 0 | CL9: =IF(B9="Forfait Perdant",3,"") | CM9: =IF(G9="Forfait Perdant",3,"") | CN9: =IF(B9="Forfait Gagnant",0,"") | CO9: =IF(G9="Forfait Gagnant",0,"") | CP9: =IF(D9="",0,IF(D9=E9,0,IF(D9<E9,0,IF('Equipes et choix des points'!$I$2=1,IF('Matchs et classements'!D9>'Matchs et classements'!E9,3),IF('Equipes et choix des points'!$I$2=2,IF('Matchs et classements'!D9>E9,4)))))) -> 0 | CQ9: =IF(E9="",0,IF(E9=D9,0,IF(E9<D9,0,IF('Equipes et choix des points'!$I$2=1,IF('Matchs et classements'!E9>'Matchs et classements'!D9,3),IF('Equipes et choix des points'!$I$2=2,IF('Matchs et classements'!E9>'Matchs et classements'!D9,4)))))) -> 0 | CR9: =IF(D9="",0,IF(D9>E9,0,IF(D9<E9,0,IF('Equipes et choix des points'!$I$2=1,IF('Matchs et classements'!D9='Matchs et classements'!E9,1),IF('Equipes et choix des points'!$I$2=2,IF('Matchs et classements'!D9='Matchs et classements'!E9,2)))))) -> 0 | CS9: =IF(E9="",0,IF(E9>D9,0,IF(E9<D9,0,IF('Equipes et choix des points'!$I$2=1,IF('Matchs et classements'!E9='Matchs et classements'!D9,1),IF('Equipes et choix des points'!$I$2=2,IF('Matchs et classements'!E9='Matchs et classements'!D9,2)))))) -> 0 | CT9: =IF(D9="",0,IF(D9>E9,0,IF(D9=E9,0,IF('Equipes et choix des points'!$I$2=1,IF('Matchs et classements'!D9<'Matchs et classements'!E9,0),IF('Equipes et choix des points'!$I$2=2,IF('Matchs et classements'!D9<'Matchs et classements'!E9,1)))))) -> 0 | CU9: =IF(E9="",0,IF(E9>D9,0,IF(E9=D9,0,IF('Equipes et choix des points'!$I$2=1,IF('Matchs et classements'!E9<'Matchs et classements'!D9,0),IF('Equipes et choix des points'!$I$2=2,IF('Matchs et classements'!E9<'Matchs et classements'!D9,1)))))) -> 0 | CV9: =SUM(CP9,CR9,CT9)-SUM(CJ9,CL9) -> 0 | CW9: =SUM(CO9,CQ9,CS9)-SUM(CK9,CM9) -> 0 | CX9: =IF(B9="Forfait perdant",0,IF(B9="Forfait Général",0,IF(D9="",0,1))) -> 0 | CY9: =IF(G9="Forfait Perdant",0,IF(G9="Forfait Général",0,IF(E9="",0,1))) -> 0 | CZ9: =IF(D9<>"",IF(D9>E9,1)) -> FALSE | DA9: =IF(E9<>"",IF(E9>D9,1)) -> FALSE | DB9: =IF(D9<>"",IF(D9=E9,1)) -> FALSE | DC9: =IF(E9<>"",IF(E9=D9,1)) -> FALSE | DD9: =IF(D9<>"",IF(D9<E9,1)) -> FALSE | DE9: =IF(E9<>"",IF(E9<D9,1)) -> FALSE | DF9: =D9 -> 0 | DG9: =E9 -> 0 | DH9: =E9 -> 0 | DI9: =D9 -> 0 | DJ9: =IF(AW9="","",VLOOKUP(AQ9,$AR$5:$AW$24,6,0)) | DK9: =IFERROR(VLOOKUP(DJ9,AW$5:CD28,34,0),"") | DL9: =IF(DJ9="","",RANK(DK9,DK5:DK24)) | DM9: =IF(AW9="","",AW9) | DN9: =IFERROR(VLOOKUP(AS9,$AT$5:$BH$24,15,0),"") | DO9: =IFERROR(VLOOKUP(DN9,$BH$5:$CF$24,25,0),"") | DP9: =IF(DN9="","",RANK(DO9,DO5:DO24)) | DQ9: =IF(BH9="","",BH9) | DR9: =IFERROR(VLOOKUP(AU9,$AV$5:$BS$24,24,0),"") | DS9: =IFERROR(VLOOKUP(DR9,$BS$5:$CH$24,16,0),"") | DT9: =IF(DR9="","",RANK(DS9,DS5:DS24))
M10: =IF(O10="","",IF(DK10=DK9,DL9,DL10)) | N10: =IF(O10="","",VLOOKUP(O10,$AW$5:$BG$24,4,0)) | O10: =IF('Equipes et choix des points'!A7="","",VLOOKUP('Matchs et classements'!AQ10,'Matchs et classements'!$AR$5:$AW$24,6,0)) | P10: =IF(O10="","",VLOOKUP(O10,$AW$5:$BG$24,5,0)) | Q10: =IF(O10="","",VLOOKUP(O10,$AW$5:$BG$24,6,0)) | R10: =IF(O10="","",VLOOKUP(O10,$AW$5:$BG$24,7,0)) | S10: =IF(O10="","",VLOOKUP(O10,$AW$5:$BG$24,8,0)) | T10: =IF(O10="","",VLOOKUP(O10,$AW$5:$BG$24,9,0)) | U10: =IF(O10="","",VLOOKUP(O10,$AW$5:$BG$24,10,0)) | V10: =IF(O10="","",VLOOKUP(O10,$AW$5:$BG$24,11,0)) | W10: =IF(Y10="","",IF(DO10=DO9,DP9,DP10)) | X10: =IF(Y10="","",VLOOKUP(Y10,$BH$5:$BR$24,4,0)) | Y10: =IF('Equipes et choix des points'!A7="","",VLOOKUP('Matchs et classements'!AS10,'Matchs et classements'!$AT$5:$BH$24,15,0)) | Z10: =IF(Y10="","",VLOOKUP(Y10,$BH$5:$BR$24,5,0)) | AA10: =IF(Y10="","",VLOOKUP(Y10,$BH$5:$BR$24,6,0)) | AB10: =IF(Y10="","",VLOOKUP(Y10,$BH$5:$BR$24,7,0)) | AC10: =IF(Y10="","",VLOOKUP(Y10,$BH$5:$BR$24,8,0)) | AD10: =IF(Y10="","",VLOOKUP(Y10,$BH$5:$BR$24,9,0)) | AE10: =IF(Y10="","",VLOOKUP(Y10,$BH$5:$BR$24,10,0)) | AF10: =IF(Y10="","",VLOOKUP(Y10,$BH$5:$BR$24,11,0)) | AG10: =IF(AI10="","",IF(DS10=DS9,DT9,DT10)) | AH10: =IF(AI10="","",VLOOKUP(AI10,$BS$5:$CC$24,4,0)) | AI10: =IF('Equipes et choix des points'!A7="","",VLOOKUP('Matchs et classements'!AU10,'Matchs et classements'!$AV$5:$BS$24,24,0)) | AJ10: =IF(AI10="","",VLOOKUP(AI10,$BS$5:$CC$24,5,0)) | AK10: =IF(AI10="","",VLOOKUP(AI10,$BS$5:$CC$24,6,0)) | AL10: =IF(AI10="","",VLOOKUP(AI10,$BS$5:$CC$24,7,0)) | AM10: =IF(AI10="","",VLOOKUP(AI10,$BS$5:$CC$24,8,0)) | AN10: =IF(AI10="","",VLOOKUP(AI10,$BS$5:$CC$24,9,0)) | AO10: =IF(AI10="","",VLOOKUP(AI10,$BS$5:$CC$24,10,0)) | AP10: =IF(AI10="","",VLOOKUP(AI10,$BS$5:$CC$24,11,0)) | AQ10: 6 | AR10: =AY10 | AS10: 6 | AT10: =BJ10 | AU10: 6 | AV10: =BU10 | AW10: =IF('Equipes et choix des points'!$A$7<>"",'Equipes et choix des points'!$A$7,"") | AX10: =IF('Equipes et choix des points'!A7="","",RANK(CD10,$CD$5:$CD$24)) | AY10: =IF(AW10="","",RANK(CE10,$CE$5:$CE$24)) | AZ10: =IF(AW10="","",SUMPRODUCT(($C$4:$C$383=AW10)*($CV$4:$CV$383))+SUMPRODUCT(($F$4:$F$383=AW10)*($CW$4:$CW$383))) | BA10: =IF(AW10="","",SUMPRODUCT(($C$4:$C$383=AW10)*($CX$4:$CX$383))+SUMPRODUCT(($F$4:$F$383=AW10)*($CY$4:$CY$383))) | BB10: =IF(AW10="","",SUMPRODUCT(($C$4:$C$383=AW10)*($CZ$4:$CZ$383))+SUMPRODUCT(($F$4:$F$383=AW10)*($DA$4:$DA$383))) | BC10: =IF(AW10="","",SUMPRODUCT(($C$4:$C$383=AW10)*($DB$4:$DB$383))+SUMPRODUCT(($F$4:$F$383=AW10)*($DC$4:$DC$383))) | BD10: =IF(AW10="","",SUMPRODUCT(($C$4:$C$383=AW10)*($DD$4:$DD$383))+SUMPRODUCT(($F$4:$F$383=AW10)*($DE$4:$DE$383))) | BE10: =IF(AW10="","",SUMPRODUCT(($C$4:$C$383=AW10)*($DF$4:$DF$383))+SUMPRODUCT(($F$4:$F$383=AW10)*($DG$4:$DG$383))) | BF10: =IF(AW10="","",SUMPRODUCT(($C$4:$C$383=AW10)*($DH$4:$DH$383))+SUMPRODUCT(($F$4:$F$383=AW10)*($DI$4:$DI$383))) | BG10: =IF(AW10="","",BE10-BF10) | BH10: =IF('Equipes et choix des points'!$A$7<>"",'Equipes et choix des points'!$A$7,"") | BI10: =IF(BH10="","",RANK(CF10,$CF$5:$CF$24)) | BJ10: =IF(BH10="","",RANK(CG10,$CG$5:$CG$24)) | BK10: =IF(BH10="","",SUMPRODUCT(($C$4:$C$383=BH10)*($CV$4:$CV$383))) | BL10: =IF(BH10="","",SUMPRODUCT(($C$4:$C$383=BH10)*($CX$4:$CX$383))) | BM10: =IF(BH10="","",SUMPRODUCT(($C$4:$C$383=BH10)*($CZ$4:$CZ$383))) | BN10: =IF(BH10="","",SUMPRODUCT(($C$4:$C$383=BH10)*($DB$4:$DB$383))) | BO10: =IF(BH10="","",SUMPRODUCT(($C$4:$C$383=BH10)*($DD$4:$DD$383))) | BP10: =IF(BH10="","",SUMPRODUCT(($C$4:$C$383=BH10)*($DF$4:$DF$383))) | BQ10: =IF(BH10="","",SUMPRODUCT(($C$4:$C$383=BH10)*($DH$4:$DH$383))) | BR10: =IF(BH10="","",BP10-BQ10) | BS10: =IF('Equipes et choix des points'!$A$7<>"",'Equipes et choix des points'!$A$7,"") | BT10: =IF(BS10="","",RANK(CH10,$CH$5:$CH$24)) | BU10: =IF(BS10="","",RANK(CI10,$CI$5:$CI$24)) | BV10: =IF(BS10="","",SUMPRODUCT(($F$4:$F$383=BS10)*($CW$4:$CW$383))) | BW10: =IF(BS10="","",SUMPRODUCT(($F$4:$F$383=BS10)*($CY$4:$CY$383))) | BX10: =IF(BS10="","",SUMPRODUCT(($F$4:$F$383=BS10)*($DA$4:$DA$383))) | BY10: =IF(BS10="","",SUMPRODUCT(($F$4:$F$383=BS10)*($DC$4:$DC$383))) | BZ10: =IF(BS10="","",SUMPRODUCT(($F$4:$F$383=BS10)*($DE$4:$DE$383))) | CA10: =IF(BS10="","",SUMPRODUCT(($F$4:$F$383=BS10)*($DG$4:$DG$383))) | CB10: =IF(BS10="","",SUMPRODUCT(($F$4:$F$383=BS10)*($DI$4:$DI$383))) | CC10: =IF(BS10="","",CA10-CB10) | CD10: =IFERROR(SUM(AZ10*1000+(BG10)/100+(BE10)/1000),"") | CE10: =IFERROR(SUM(CD10+0.0000015),"") | CF10: =IFERROR(SUM(BK10*1000+(BR10)/100+(BP10)/1000),"") | CG10: =IFERROR(SUM(CF10+0.0000015),"") | CH10: =IFERROR(SUM(BV10*1000+(CC10)/100+(CA10)/1000),"") | CI10: =IFERROR(SUM(CH10+0.0000015),"") | CJ10: =A10 -> 0 | CK10: =H10 -> 0 | CL10: =IF(B10="Forfait Perdant",3,"") | CM10: =IF(G10="Forfait Perdant",3,"") | CN10: =IF(B10="Forfait Gagnant",0,"") | CO10: =IF(G10="Forfait Gagnant",0,"") | CP10: =IF(D10="",0,IF(D10=E10,0,IF(D10<E10,0,IF('Equipes et choix des points'!$I$2=1,IF('Matchs et classements'!D10>'Matchs et classements'!E10,3),IF('Equipes et choix des points'!$I$2=2,IF('Matchs et classements'!D10>E10,4)))))) -> 0 | CQ10: =IF(E10="",0,IF(E10=D10,0,IF(E10<D10,0,IF('Equipes et choix des points'!$I$2=1,IF('Matchs et classements'!E10>'Matchs et classements'!D10,3),IF('Equipes et choix des points'!$I$2=2,IF('Matchs et classements'!E10>'Matchs et classements'!D10,4)))))) -> 0 | CR10: =IF(D10="",0,IF(D10>E10,0,IF(D10<E10,0,IF('Equipes et choix des points'!$I$2=1,IF('Matchs et classements'!D10='Matchs et classements'!E10,1),IF('Equipes et choix des points'!$I$2=2,IF('Matchs et classements'!D10='Matchs et classements'!E10,2)))))) -> 0 | CS10: =IF(E10="",0,IF(E10>D10,0,IF(E10<D10,0,IF('Equipes et choix des points'!$I$2=1,IF('Matchs et classements'!E10='Matchs et classements'!D10,1),IF('Equipes et choix des points'!$I$2=2,IF('Matchs et classements'!E10='Matchs et classements'!D10,2)))))) -> 0 | CT10: =IF(D10="",0,IF(D10>E10,0,IF(D10=E10,0,IF('Equipes et choix des points'!$I$2=1,IF('Matchs et classements'!D10<'Matchs et classements'!E10,0),IF('Equipes et choix des points'!$I$2=2,IF('Matchs et classements'!D10<'Matchs et classements'!E10,1)))))) -> 0 | CU10: =IF(E10="",0,IF(E10>D10,0,IF(E10=D10,0,IF('Equipes et choix des points'!$I$2=1,IF('Matchs et classements'!E10<'Matchs et classements'!D10,0),IF('Equipes et choix des points'!$I$2=2,IF('Matchs et classements'!E10<'Matchs et classements'!D10,1)))))) -> 0 | CV10: =SUM(CP10,CR10,CT10)-SUM(CJ10,CL10) -> 0 | CW10: =SUM(CO10,CQ10,CS10)-SUM(CK10,CM10) -> 0 | CX10: =IF(B10="Forfait perdant",0,IF(B10="Forfait Général",0,IF(D10="",0,1))) -> 0 | CY10: =IF(G10="Forfait Perdant",0,IF(G10="Forfait Général",0,IF(E10="",0,1))) -> 0 | CZ10: =IF(D10<>"",IF(D10>E10,1)) -> FALSE | DA10: =IF(E10<>"",IF(E10>D10,1)) -> FALSE | DB10: =IF(D10<>"",IF(D10=E10,1)) -> FALSE | DC10: =IF(E10<>"",IF(E10=D10,1)) -> FALSE | DD10: =IF(D10<>"",IF(D10<E10,1)) -> FALSE | DE10: =IF(E10<>"",IF(E10<D10,1)) -> FALSE | DF10: =D10 -> 0 | DG10: =E10 -> 0 | DH10: =E10 -> 0 | DI10: =D10 -> 0 | DJ10: =IF(AW10="","",VLOOKUP(AQ10,$AR$5:$AW$24,6,0)) | DK10: =IFERROR(VLOOKUP(DJ10,AW$5:CD29,34,0),"") | DL10: =IF(DJ10="","",RANK(DK10,DK5:DK24)) | DM10: =IF(AW10="","",AW10) | DN10: =IFERROR(VLOOKUP(AS10,$AT$5:$BH$24,15,0),"") | DO10: =IFERROR(VLOOKUP(DN10,$BH$5:$CF$24,25,0),"") | DP10: =IF(DN10="","",RANK(DO10,DO5:DO24)) | DQ10: =IF(BH10="","",BH10) | DR10: =IFERROR(VLOOKUP(AU10,$AV$5:$BS$24,24,0),"") | DS10: =IFERROR(VLOOKUP(DR10,$BS$5:$CH$24,16,0),"") | DT10: =IF(DR10="","",RANK(DS10,DS5:DS24))
M11: =IF(O11="","",IF(DK11=DK10,DL10,DL11)) | N11: =IF(O11="","",VLOOKUP(O11,$AW$5:$BG$24,4,0)) | O11: =IF('Equipes et choix des points'!A8="","",VLOOKUP('Matchs et classements'!AQ11,'Matchs et classements'!$AR$5:$AW$24,6,0)) | P11: =IF(O11="","",VLOOKUP(O11,$AW$5:$BG$24,5,0)) | Q11: =IF(O11="","",VLOOKUP(O11,$AW$5:$BG$24,6,0)) | R11: =IF(O11="","",VLOOKUP(O11,$AW$5:$BG$24,7,0)) | S11: =IF(O11="","",VLOOKUP(O11,$AW$5:$BG$24,8,0)) | T11: =IF(O11="","",VLOOKUP(O11,$AW$5:$BG$24,9,0)) | U11: =IF(O11="","",VLOOKUP(O11,$AW$5:$BG$24,10,0)) | V11: =IF(O11="","",VLOOKUP(O11,$AW$5:$BG$24,11,0)) | W11: =IF(Y11="","",IF(DO11=DO10,DP10,DP11)) | X11: =IF(Y11="","",VLOOKUP(Y11,$BH$5:$BR$24,4,0)) | Y11: =IF('Equipes et choix des points'!A8="","",VLOOKUP('Matchs et classements'!AS11,'Matchs et classements'!$AT$5:$BH$24,15,0)) | Z11: =IF(Y11="","",VLOOKUP(Y11,$BH$5:$BR$24,5,0)) | AA11: =IF(Y11="","",VLOOKUP(Y11,$BH$5:$BR$24,6,0)) | AB11: =IF(Y11="","",VLOOKUP(Y11,$BH$5:$BR$24,7,0)) | AC11: =IF(Y11="","",VLOOKUP(Y11,$BH$5:$BR$24,8,0)) | AD11: =IF(Y11="","",VLOOKUP(Y11,$BH$5:$BR$24,9,0)) | AE11: =IF(Y11="","",VLOOKUP(Y11,$BH$5:$BR$24,10,0)) | AF11: =IF(Y11="","",VLOOKUP(Y11,$BH$5:$BR$24,11,0)) | AG11: =IF(AI11="","",IF(DS11=DS10,DT10,DT11)) | AH11: =IF(AI11="","",VLOOKUP(AI11,$BS$5:$CC$24,4,0)) | AI11: =IF('Equipes et choix des points'!A8="","",VLOOKUP('Matchs et classements'!AU11,'Matchs et classements'!$AV$5:$BS$24,24,0)) | AJ11: =IF(AI11="","",VLOOKUP(AI11,$BS$5:$CC$24,5,0)) | AK11: =IF(AI11="","",VLOOKUP(AI11,$BS$5:$CC$24,6,0)) | AL11: =IF(AI11="","",VLOOKUP(AI11,$BS$5:$CC$24,7,0)) | AM11: =IF(AI11="","",VLOOKUP(AI11,$BS$5:$CC$24,8,0)) | AN11: =IF(AI11="","",VLOOKUP(AI11,$BS$5:$CC$24,9,0)) | AO11: =IF(AI11="","",VLOOKUP(AI11,$BS$5:$CC$24,10,0)) | AP11: =IF(AI11="","",VLOOKUP(AI11,$BS$5:$CC$24,11,0)) | AQ11: 7 | AR11: =AY11 | AS11: 7 | AT11: =BJ11 | AU11: 7 | AV11: =BU11 | AW11: =IF('Equipes et choix des points'!$A$8<>"",'Equipes et choix des points'!$A$8,"") | AX11: =IF('Equipes et choix des points'!A8="","",RANK(CD11,$CD$5:$CD$24)) | AY11: =IF(AW11="","",RANK(CE11,$CE$5:$CE$24)) | AZ11: =IF(AW11="","",SUMPRODUCT(($C$4:$C$383=AW11)*($CV$4:$CV$383))+SUMPRODUCT(($F$4:$F$383=AW11)*($CW$4:$CW$383))) | BA11: =IF(AW11="","",SUMPRODUCT(($C$4:$C$383=AW11)*($CX$4:$CX$383))+SUMPRODUCT(($F$4:$F$383=AW11)*($CY$4:$CY$383))) | BB11: =IF(AW11="","",SUMPRODUCT(($C$4:$C$383=AW11)*($CZ$4:$CZ$383))+SUMPRODUCT(($F$4:$F$383=AW11)*($DA$4:$DA$383))) | BC11: =IF(AW11="","",SUMPRODUCT(($C$4:$C$383=AW11)*($DB$4:$DB$383))+SUMPRODUCT(($F$4:$F$383=AW11)*($DC$4:$DC$383))) | BD11: =IF(AW11="","",SUMPRODUCT(($C$4:$C$383=AW11)*($DD$4:$DD$383))+SUMPRODUCT(($F$4:$F$383=AW11)*($DE$4:$DE$383))) | BE11: =IF(AW11="","",SUMPRODUCT(($C$4:$C$383=AW11)*($DF$4:$DF$383))+SUMPRODUCT(($F$4:$F$383=AW11)*($DG$4:$DG$383))) | BF11: =IF(AW11="","",SUMPRODUCT(($C$4:$C$383=AW11)*($DH$4:$DH$383))+SUMPRODUCT(($F$4:$F$383=AW11)*($DI$4:$DI$383))) | BG11: =IF(AW11="","",BE11-BF11) | BH11: =IF('Equipes et choix des points'!$A$8<>"",'Equipes et choix des points'!$A$8,"") | BI11: =IF(BH11="","",RANK(CF11,$CF$5:$CF$24)) | BJ11: =IF(BH11="","",RANK(CG11,$CG$5:$CG$24)) | BK11: =IF(BH11="","",SUMPRODUCT(($C$4:$C$383=BH11)*($CV$4:$CV$383))) | BL11: =IF(BH11="","",SUMPRODUCT(($C$4:$C$383=BH11)*($CX$4:$CX$383))) | BM11: =IF(BH11="","",SUMPRODUCT(($C$4:$C$383=BH11)*($CZ$4:$CZ$383))) | BN11: =IF(BH11="","",SUMPRODUCT(($C$4:$C$383=BH11)*($DB$4:$DB$383))) | BO11: =IF(BH11="","",SUMPRODUCT(($C$4:$C$383=BH11)*($DD$4:$DD$383))) | BP11: =IF(BH11="","",SUMPRODUCT(($C$4:$C$383=BH11)*($DF$4:$DF$383))) | BQ11: =IF(BH11="","",SUMPRODUCT(($C$4:$C$383=BH11)*($DH$4:$DH$383))) | BR11: =IF(BH11="","",BP11-BQ11) | BS11: =IF('Equipes et choix des points'!$A$8<>"",'Equipes et choix des points'!$A$8,"") | BT11: =IF(BS11="","",RANK(CH11,$CH$5:$CH$24)) | BU11: =IF(BS11="","",RANK(CI11,$CI$5:$CI$24)) | BV11: =IF(BS11="","",SUMPRODUCT(($F$4:$F$383=BS11)*($CW$4:$CW$383))) | BW11: =IF(BS11="","",SUMPRODUCT(($F$4:$F$383=BS11)*($CY$4:$CY$383))) | BX11: =IF(BS11="","",SUMPRODUCT(($F$4:$F$383=BS11)*($DA$4:$DA$383))) | BY11: =IF(BS11="","",SUMPRODUCT(($F$4:$F$383=BS11)*($DC$4:$DC$383))) | BZ11: =IF(BS11="","",SUMPRODUCT(($F$4:$F$383=BS11)*($DE$4:$DE$383))) | CA11: =IF(BS11="","",SUMPRODUCT(($F$4:$F$383=BS11)*($DG$4:$DG$383))) | CB11: =IF(BS11="","",SUMPRODUCT(($F$4:$F$383=BS11)*($DI$4:$DI$383))) | CC11: =IF(BS11="","",CA11-CB11) | CD11: =IFERROR(SUM(AZ11*1000+(BG11)/100+(BE11)/1000),"") | CE11: =IFERROR(SUM(CD11+0.0000014),"") | CF11: =IFERROR(SUM(BK11*1000+(BR11)/100+(BP11)/1000),"") | CG11: =IFERROR(SUM(CF11+0.0000014),"") | CH11: =IFERROR(SUM(BV11*1000+(CC11)/100+(CA11)/1000),"") | CI11: =IFERROR(SUM(CH11+0.0000014),"") | CJ11: =A11 -> 0 | CK11: =H11 -> 0 | CL11: =IF(B11="Forfait Perdant",3,"") | CM11: =IF(G11="Forfait Perdant",3,"") | CN11: =IF(B11="Forfait Gagnant",0,"") | CO11: =IF(G11="Forfait Gagnant",0,"") | CP11: =IF(D11="",0,IF(D11=E11,0,IF(D11<E11,0,IF('Equipes et choix des points'!$I$2=1,IF('Matchs et classements'!D11>'Matchs et classements'!E11,3),IF('Equipes et choix des points'!$I$2=2,IF('Matchs et classements'!D11>E11,4)))))) -> 0 | CQ11: =IF(E11="",0,IF(E11=D11,0,IF(E11<D11,0,IF('Equipes et choix des points'!$I$2=1,IF('Matchs et classements'!E11>'Matchs et classements'!D11,3),IF('Equipes et choix des points'!$I$2=2,IF('Matchs et classements'!E11>'Matchs et classements'!D11,4)))))) -> 0 | CR11: =IF(D11="",0,IF(D11>E11,0,IF(D11<E11,0,IF('Equipes et choix des points'!$I$2=1,IF('Matchs et classements'!D11='Matchs et classements'!E11,1),IF('Equipes et choix des points'!$I$2=2,IF('Matchs et classements'!D11='Matchs et classements'!E11,2)))))) -> 0 | CS11: =IF(E11="",0,IF(E11>D11,0,IF(E11<D11,0,IF('Equipes et choix des points'!$I$2=1,IF('Matchs et classements'!E11='Matchs et classements'!D11,1),IF('Equipes et choix des points'!$I$2=2,IF('Matchs et classements'!E11='Matchs et classements'!D11,2)))))) -> 0 | CT11: =IF(D11="",0,IF(D11>E11,0,IF(D11=E11,0,IF('Equipes et choix des points'!$I$2=1,IF('Matchs et classements'!D11<'Matchs et classements'!E11,0),IF('Equipes et choix des points'!$I$2=2,IF('Matchs et classements'!D11<'Matchs et classements'!E11,1)))))) -> 0 | CU11: =IF(E11="",0,IF(E11>D11,0,IF(E11=D11,0,IF('Equipes et choix des points'!$I$2=1,IF('Matchs et classements'!E11<'Matchs et classements'!D11,0),IF('Equipes et choix des points'!$I$2=2,IF('Matchs et classements'!E11<'Matchs et classements'!D11,1)))))) -> 0 | CV11: =SUM(CP11,CR11,CT11)-SUM(CJ11,CL11) -> 0 | CW11: =SUM(CO11,CQ11,CS11)-SUM(CK11,CM11) -> 0 | CX11: =IF(B11="Forfait perdant",0,IF(B11="Forfait Général",0,IF(D11="",0,1))) -> 0 | CY11: =IF(G11="Forfait Perdant",0,IF(G11="Forfait Général",0,IF(E11="",0,1))) -> 0 | CZ11: =IF(D11<>"",IF(D11>E11,1)) -> FALSE | DA11: =IF(E11<>"",IF(E11>D11,1)) -> FALSE | DB11: =IF(D11<>"",IF(D11=E11,1)) -> FALSE | DC11: =IF(E11<>"",IF(E11=D11,1)) -> FALSE | DD11: =IF(D11<>"",IF(D11<E11,1)) -> FALSE | DE11: =IF(E11<>"",IF(E11<D11,1)) -> FALSE | DF11: =D11 -> 0 | DG11: =E11 -> 0 | DH11: =E11 -> 0 | DI11: =D11 -> 0 | DJ11: =IF(AW11="","",VLOOKUP(AQ11,$AR$5:$AW$24,6,0)) | DK11: =IFERROR(VLOOKUP(DJ11,AW$5:CD30,34,0),"") | DL11: =IF(DJ11="","",RANK(DK11,DK5:DK24)) | DM11: =IF(AW11="","",AW11) | DN11: =IFERROR(VLOOKUP(AS11,$AT$5:$BH$24,15,0),"") | DO11: =IFERROR(VLOOKUP(DN11,$BH$5:$CF$24,25,0),"") | DP11: =IF(DN11="","",RANK(DO11,DO5:DO24)) | DQ11: =IF(BH11="","",BH11) | DR11: =IFERROR(VLOOKUP(AU11,$AV$5:$BS$24,24,0),"") | DS11: =IFERROR(VLOOKUP(DR11,$BS$5:$CH$24,16,0),"") | DT11: =IF(DR11="","",RANK(DS11,DS5:DS24))
