Workbook
Name Poule_A: 'Noms équipes et terrains'!$A$2:$A$5
Name Poule_B: 'Noms équipes et terrains'!$B$2:$B$5
Name Poule_C: 'Noms équipes et terrains'!$C$2:$C$5
Name Poule_D: 'Noms équipes et terrains'!$D$2:$D$5
Name Terrains: 'Noms équipes et terrains'!$F$2:$F$5

Sheet Noms équipes et terrains
A1: Poule A | B1: Poule B | C1: Poule C | D1: Poule D | F1: Terrains
A2: Equipe 1A | B2: Equipe 1B | C2: Equipe 1C | D2: Equipe 1D | F2: A
A3: Equipe 2A | B3: Equipe 2B | C3: Equipe 2C | D3: Equipe 2D | F3: B
A4: Equipe 3A | B4: Equipe 3B | C4: Equipe 3C | D4: Equipe 3D | F4: C
A5: Equipe 4A | B5: Equipe 4B | C5: Equipe 4C | D5: Equipe 4D | F5: D

Sheet Matchs de poule
A1: POULE A | K1: CLASSEMENT POULE A | W1: CLASSEMENT POULE A | AJ1: Dom. | AK1: Ext. | AL1: Dom. | AM1: Ext. | AN1: Dom. | AO1: Ext. | AP1: Dom. | AQ1: Ext. | AR1: Dom. | AS1: Ext. | AT1: Dom. | AU1: Ext. | AV1: Dom. | AW1: Ext. | AX1: Dom. | AY1: Ext. | AZ1: Dom. | BA1: Ext.
A3: Terrain | B3: Pénalité | C3: Equipes | D3: Scores | F3: Equipes | G3: Pénalité | H3: Dates | I3: Horaires | K3: Place | L3: Equipes | M3: Pts | N3: J | O3: G | P3: N | Q3: P | R3: B + | S3: B - | T3: Diff. | U3: R | W3: Equipes | X3: R | Y3: Place | Z3: Pts | AA3: J | AB3: G | AC3: N | AD3: P | AE3: B + | AF3: B - | AG3: Diff. | AH3: % | AI3: % | AJ3: P | AK3: P | AL3: Pts | AM3: Pts | AN3: T Pts | AO3: T Pts | AP3: J | AQ3: J | AR3: G | AS3: G | AT3: N | AU3: N | AV3: P | AW3: P | AX3: B + | AY3: B + | AZ3: B - | BA3: B - | BB3: Equipes | BC3: % | BD3: R | BE3: Equipes
A4: A | C4: Equipe 1A | D4: 2 | E4: 1 | F4: Equipe 2A | K4: 1 | L4: =VLOOKUP(U4,V4:W7,2,0) -> Equipe 3A | M4: =VLOOKUP(L4,W4:AG7,4,0) -> 9 | N4: =VLOOKUP(L4,W4:AG7,5,0) -> 3 | O4: =VLOOKUP(L4,W4:AG7,6,0) -> 3 | P4: =VLOOKUP(L4,W4:AG7,7,0) -> 0 | Q4: =VLOOKUP(L4,W4:AG7,8,0) -> 0 | R4: =VLOOKUP(L4,W4:AG7,9,0) -> 8 | S4: =VLOOKUP(L4,W4:AG7,10,0) -> 2 | T4: =VLOOKUP(L4,W4:AG7,11,0) -> 6 | U4: 1 | V4: =Y4 -> 3 | W4: Equipe 1A | X4: =RANK(AH4,AH4:AH7) -> 3 | Y4: =RANK(AI4,AI4:AI7) -> 3 | Z4: =SUMPRODUCT((C4:C9=W4)*(AN4:AN9))+SUMPRODUCT((F4:F9=W4)*(AO4:AO9)) -> 4 | AA4: =SUMPRODUCT((C4:C9=W4)*(AP4:AP9))+SUMPRODUCT((F4:F9=W4)*(AQ4:AQ9)) -> 3 | AB4: =SUMPRODUCT((C4:C9=W4)*(AR4:AR9))+SUMPRODUCT((F4:F9=W4)*(AS4:AS9)) -> 1 | AC4: =SUMPRODUCT((C4:C9=W4)*(AT4:AT9))+SUMPRODUCT((F4:F9=W4)*(AU4:AU9)) -> 1 | AD4: =SUMPRODUCT((C4:C9=W4)*(AV4:AV9))+SUMPRODUCT((F4:F9=W4)*(AW4:AW9)) -> 1 | AE4: =SUMPRODUCT((C4:C9=W4)*(AX4:AX9))+SUMPRODUCT((F4:F9=W4)*(AY4:AY9)) -> 5 | AF4: =SUMPRODUCT((C4:C9=W4)*(AZ4:AZ9))+SUMPRODUCT((F4:F9=W4)*(BA4:BA9)) -> 6 | AG4: =AE4-AF4 -> -1 | AH4: =SUM(Z4*1000+(AG4)/100+(AE4)/1000) -> 3999.995 | AI4: =AH4+0.0000004 -> 3999.995 | AJ4: =B4 -> 0 | AK4: =G4 -> 0 | AL4: =IF(D4="",0,IF(D4>E4,3,IF(D4=E4,1,IF(D4<E4,0)))) -> 3 | AM4: =IF(E4="",0,IF(E4>D4,3,IF(E4=D4,1,IF(E4<D4,0)))) -> 0 | AN4: =AL4-AJ4 -> 3 | AO4: =AM4-AK4 -> 0 | AP4: =IF(D4="",0,1) -> 1 | AQ4: =IF(E4="",0,1) -> 1 | AR4: =IF(D4<>"",IF(D4>E4,1)) -> 1 | AS4: =IF(E4<>"",IF(E4>D4,1)) -> FALSE | AT4: =IF(D4<>"",IF(D4=E4,1)) -> FALSE | AU4: =IF(E4<>"",IF(E4=D4,1)) -> FALSE | AV4: =IF(D4<>"",IF(D4<E4,1)) -> FALSE | AW4: =IF(E4<>"",IF(E4<D4,1)) -> 1 | AX4: =D4 -> 2 | AY4: =E4 -> 1 | AZ4: =E4 -> 1 | BA4: =D4 -> 2 | BB4: =VLOOKUP(U4,V4:W7,2,0) -> Equipe 3A | BC4: =VLOOKUP(BB4,W4:AH7,12,0) -> 9000.068 | BD4: =RANK(BC4,BC4:BC7) -> 1 | BE4: =W4 -> Equipe 1A
A5: A | C5: Equipe 3A | D5: 3 | E5: 0 | F5: Equipe 4A | K5: =IF(BC5=BC4,BD4,BD5) -> 2 | L5: =VLOOKUP(U5,V4:W7,2,0) -> Equipe 4A | M5: =VLOOKUP(L5,W4:AG7,4,0) -> 4 | N5: =VLOOKUP(L5,W4:AG7,5,0) -> 3 | O5: =VLOOKUP(L5,W4:AG7,6,0) -> 1 | P5: =VLOOKUP(L5,W4:AG7,7,0) -> 1 | Q5: =VLOOKUP(L5,W4:AG7,8,0) -> 1 | R5: =VLOOKUP(L5,W4:AG7,9,0) -> 6 | S5: =VLOOKUP(L5,W4:AG7,10,0) -> 5 | T5: =VLOOKUP(L5,W4:AG7,11,0) -> 1 | U5: 2 | V5: =Y5 -> 4 | W5: Equipe 2A | X5: =RANK(AH5,AH4:AH7) -> 4 | Y5: =RANK(AI5,AI4:AI7) -> 4 | Z5: =SUMPRODUCT((C4:C9=W5)*(AN4:AN9))+SUMPRODUCT((F4:F9=W5)*(AO4:AO9)) -> 0 | AA5: =SUMPRODUCT((C4:C9=W5)*(AP4:AP9))+SUMPRODUCT((F4:F9=W5)*(AQ4:AQ9)) -> 3 | AB5: =SUMPRODUCT((C4:C9=W5)*(AR4:AR9))+SUMPRODUCT((F4:F9=W5)*(AS4:AS9)) -> 0 | AC5: =SUMPRODUCT((C4:C9=W5)*(AT4:AT9))+SUMPRODUCT((F4:F9=W5)*(AU4:AU9)) -> 0 | AD5: =SUMPRODUCT((C4:C9=W5)*(AV4:AV9))+SUMPRODUCT((F4:F9=W5)*(AW4:AW9)) -> 3 | AE5: =SUMPRODUCT((C4:C9=W5)*(AX4:AX9))+SUMPRODUCT((F4:F9=W5)*(AY4:AY9)) -> 2 | AF5: =SUMPRODUCT((C4:C9=W5)*(AZ4:AZ9))+SUMPRODUCT((F4:F9=W5)*(BA4:BA9)) -> 8 | AG5: =AE5-AF5 -> -6 | AH5: =SUM(Z5*1000+(AG5)/100+(AE5)/1000) -> -0.058 | AI5: =AH5+0.0000003 -> -0.0579997 | AJ5: =B5 -> 0 | AK5: =G5 -> 0 | AL5: =IF(D5="",0,IF(D5>E5,3,IF(D5=E5,1,IF(D5<E5,0)))) -> 3 | AM5: =IF(E5="",0,IF(E5>D5,3,IF(E5=D5,1,IF(E5<D5,0)))) -> 0 | AN5: =AL5-AJ5 -> 3 | AO5: =AM5-AK5 -> 0 | AP5: =IF(D5="",0,1) -> 1 | AQ5: =IF(E5="",0,1) -> 1 | AR5: =IF(D5<>"",IF(D5>E5,1)) -> 1 | AS5: =IF(E5<>"",IF(E5>D5,1)) -> FALSE | AT5: =IF(D5<>"",IF(D5=E5,1)) -> FALSE | AU5: =IF(E5<>"",IF(E5=D5,1)) -> FALSE | AV5: =IF(D5<>"",IF(D5<E5,1)) -> FALSE | AW5: =IF(E5<>"",IF(E5<D5,1)) -> 1 | AX5: =D5 -> 3 | AY5: =E5 -> 0 | AZ5: =E5 -> 0 | BA5: =D5 -> 3 | BB5: =VLOOKUP(U5,V4:W7,2,0) -> Equipe 4A | BC5: =VLOOKUP(BB5,W4:AH7,12,0) -> 4000.016 | BD5: =RANK(BC5,BC4:BC7) -> 2 | BE5: =W5 -> Equipe 2A
A6: A | C6: Equipe 1A | D6: 1 | E6: 3 | F6: Equipe 3A | K6: =IF(BC6=BC5,BD5,BD6) -> 3 | L6: =VLOOKUP(U6,V4:W7,2,0) -> Equipe 1A | M6: =VLOOKUP(L6,W4:AG7,4,0) -> 4 | N6: =VLOOKUP(L6,W4:AG7,5,0) -> 3 | O6: =VLOOKUP(L6,W4:AG7,6,0) -> 1 | P6: =VLOOKUP(L6,W4:AG7,7,0) -> 1 | Q6: =VLOOKUP(L6,W4:AG7,8,0) -> 1 | R6: =VLOOKUP(L6,W4:AG7,9,0) -> 5 | S6: =VLOOKUP(L6,W4:AG7,10,0) -> 6 | T6: =VLOOKUP(L6,W4:AG7,11,0) -> -1 | U6: 3 | V6: =Y6 -> 1 | W6: Equipe 3A | X6: =RANK(AH6,AH4:AH7) -> 1 | Y6: =RANK(AI6,AI4:AI7) -> 1 | Z6: =SUMPRODUCT((C4:C9=W6)*(AN4:AN9))+SUMPRODUCT((F4:F9=W6)*(AO4:AO9)) -> 9 | AA6: =SUMPRODUCT((C4:C9=W6)*(AP4:AP9))+SUMPRODUCT((F4:F9=W6)*(AQ4:AQ9)) -> 3 | AB6: =SUMPRODUCT((C4:C9=W6)*(AR4:AR9))+SUMPRODUCT((F4:F9=W6)*(AS4:AS9)) -> 3 | AC6: =SUMPRODUCT((C4:C9=W6)*(AT4:AT9))+SUMPRODUCT((F4:F9=W6)*(AU4:AU9)) -> 0 | AD6: =SUMPRODUCT((C4:C9=W6)*(AV4:AV9))+SUMPRODUCT((F4:F9=W6)*(AW4:AW9)) -> 0 | AE6: =SUMPRODUCT((C4:C9=W6)*(AX4:AX9))+SUMPRODUCT((F4:F9=W6)*(AY4:AY9)) -> 8 | AF6: =SUMPRODUCT((C4:C9=W6)*(AZ4:AZ9))+SUMPRODUCT((F4:F9=W6)*(BA4:BA9)) -> 2 | AG6: =AE6-AF6 -> 6 | AH6: =SUM(Z6*1000+(AG6)/100+(AE6)/1000) -> 9000.068 | AI6: =AH6+0.0000002 -> 9000.068 | AJ6: =B6 -> 0 | AK6: =G6 -> 0 | AL6: =IF(D6="",0,IF(D6>E6,3,IF(D6=E6,1,IF(D6<E6,0)))) -> 0 | AM6: =IF(E6="",0,IF(E6>D6,3,IF(E6=D6,1,IF(E6<D6,0)))) -> 3 | AN6: =AL6-AJ6 -> 0 | AO6: =AM6-AK6 -> 3 | AP6: =IF(D6="",0,1) -> 1 | AQ6: =IF(E6="",0,1) -> 1 | AR6: =IF(D6<>"",IF(D6>E6,1)) -> FALSE | AS6: =IF(E6<>"",IF(E6>D6,1)) -> 1 | AT6: =IF(D6<>"",IF(D6=E6,1)) -> FALSE | AU6: =IF(E6<>"",IF(E6=D6,1)) -> FALSE | AV6: =IF(D6<>"",IF(D6<E6,1)) -> 1 | AW6: =IF(E6<>"",IF(E6<D6,1)) -> FALSE | AX6: =D6 -> 1 | AY6: =E6 -> 3 | AZ6: =E6 -> 3 | BA6: =D6 -> 1 | BB6: =VLOOKUP(U6,V4:W7,2,0) -> Equipe 1A | BC6: =VLOOKUP(BB6,W4:AH7,12,0) -> 3999.995 | BD6: =RANK(BC6,BC4:BC7) -> 3 | BE6: =W6 -> Equipe 3A
A7: A | C7: Equipe 2A | D7: 0 | E7: 4 | F7: Equipe 4A | K7: =IF(BC7=BC6,BD6,BD7) -> 4 | L7: =VLOOKUP(U7,V4:W7,2,0) -> Equipe 2A | M7: =VLOOKUP(L7,W4:AG7,4,0) -> 0 | N7: =VLOOKUP(L7,W4:AG7,5,0) -> 3 | O7: =VLOOKUP(L7,W4:AG7,6,0) -> 0 | P7: =VLOOKUP(L7,W4:AG7,7,0) -> 0 | Q7: =VLOOKUP(L7,W4:AG7,8,0) -> 3 | R7: =VLOOKUP(L7,W4:AG7,9,0) -> 2 | S7: =VLOOKUP(L7,W4:AG7,10,0) -> 8 | T7: =VLOOKUP(L7,W4:AG7,11,0) -> -6 | U7: 4 | V7: =Y7 -> 2 | W7: Equipe 4A | X7: =RANK(AH7,AH4:AH7) -> 2 | Y7: =RANK(AI7,AI4:AI7) -> 2 | Z7: =SUMPRODUCT((C4:C9=W7)*(AN4:AN9))+SUMPRODUCT((F4:F9=W7)*(AO4:AO9)) -> 4 | AA7: =SUMPRODUCT((C4:C9=W7)*(AP4:AP9))+SUMPRODUCT((F4:F9=W7)*(AQ4:AQ9)) -> 3 | AB7: =SUMPRODUCT((C4:C9=W7)*(AR4:AR9))+SUMPRODUCT((F4:F9=W7)*(AS4:AS9)) -> 1 | AC7: =SUMPRODUCT((C4:C9=W7)*(AT4:AT9))+SUMPRODUCT((F4:F9=W7)*(AU4:AU9)) -> 1 | AD7: =SUMPRODUCT((C4:C9=W7)*(AV4:AV9))+SUMPRODUCT((F4:F9=W7)*(AW4:AW9)) -> 1 | AE7: =SUMPRODUCT((C4:C9=W7)*(AX4:AX9))+SUMPRODUCT((F4:F9=W7)*(AY4:AY9)) -> 6 | AF7: =SUMPRODUCT((C4:C9=W7)*(AZ4:AZ9))+SUMPRODUCT((F4:F9=W7)*(BA4:BA9)) -> 5 | AG7: =AE7-AF7 -> 1 | AH7: =SUM(Z7*1000+(AG7)/100+(AE7)/1000) -> 4000.016 | AI7: =AH7+0.0000001 -> 4000.016 | AJ7: =B7 -> 0 | AK7: =G7 -> 0 | AL7: =IF(D7="",0,IF(D7>E7,3,IF(D7=E7,1,IF(D7<E7,0)))) -> 0 | AM7: =IF(E7="",0,IF(E7>D7,3,IF(E7=D7,1,IF(E7<D7,0)))) -> 3 | AN7: =AL7-AJ7 -> 0 | AO7: =AM7-AK7 -> 3 | AP7: =IF(D7="",0,1) -> 1 | AQ7: =IF(E7="",0,1) -> 1 | AR7: =IF(D7<>"",IF(D7>E7,1)) -> FALSE | AS7: =IF(E7<>"",IF(E7>D7,1)) -> 1 | AT7: =IF(D7<>"",IF(D7=E7,1)) -> FALSE | AU7: =IF(E7<>"",IF(E7=D7,1)) -> FALSE | AV7: =IF(D7<>"",IF(D7<E7,1)) -> 1 | AW7: =IF(E7<>"",IF(E7<D7,1)) -> FALSE | AX7: =D7 -> 0 | AY7: =E7 -> 4 | AZ7: =E7 -> 4 | BA7: =D7 -> 0 | BB7: =VLOOKUP(U7,V4:W7,2,0) -> Equipe 2A | BC7: =VLOOKUP(BB7,W4:AH7,12,0) -> -0.058 | BD7: =RANK(BC7,BC4:BC7) -> 4 | BE7: =W7 -> Equipe 4A
A8: A | C8: Equipe 1A | D8: 2 | E8: 2 | F8: Equipe 4A | AJ8: =B8 -> 0 | AK8: =G8 -> 0 | AL8: =IF(D8="",0,IF(D8>E8,3,IF(D8=E8,1,IF(D8<E8,0)))) -> 1 | AM8: =IF(E8="",0,IF(E8>D8,3,IF(E8=D8,1,IF(E8<D8,0)))) -> 1 | AN8: =AL8-AJ8 -> 1 | AO8: =AM8-AK8 -> 1 | AP8: =IF(D8="",0,1) -> 1 | AQ8: =IF(E8="",0,1) -> 1 | AR8: =IF(D8<>"",IF(D8>E8,1)) -> FALSE | AS8: =IF(E8<>"",IF(E8>D8,1)) -> FALSE | AT8: =IF(D8<>"",IF(D8=E8,1)) -> 1 | AU8: =IF(E8<>"",IF(E8=D8,1)) -> 1 | AV8: =IF(D8<>"",IF(D8<E8,1)) -> FALSE | AW8: =IF(E8<>"",IF(E8<D8,1)) -> FALSE | AX8: =D8 -> 2 | AY8: =E8 -> 2 | AZ8: =E8 -> 2 | BA8: =D8 -> 2
A9: A | C9: Equipe 2A | D9: 1 | E9: 2 | F9: Equipe 3A | AJ9: =B9 -> 0 | AK9: =G9 -> 0 | AL9: =IF(D9="",0,IF(D9>E9,3,IF(D9=E9,1,IF(D9<E9,0)))) -> 0 | AM9: =IF(E9="",0,IF(E9>D9,3,IF(E9=D9,1,IF(E9<D9,0)))) -> 3 | AN9: =AL9-AJ9 -> 0 | AO9: =AM9-AK9 -> 3 | AP9: =IF(D9="",0,1) -> 1 | AQ9: =IF(E9="",0,1) -> 1 | AR9: =IF(D9<>"",IF(D9>E9,1)) -> FALSE | AS9: =IF(E9<>"",IF(E9>D9,1)) -> 1 | AT9: =IF(D9<>"",IF(D9=E9,1)) -> FALSE | AU9: =IF(E9<>"",IF(E9=D9,1)) -> FALSE | AV9: =IF(D9<>"",IF(D9<E9,1)) -> 1 | AW9: =IF(E9<>"",IF(E9<D9,1)) -> FALSE | AX9: =D9 -> 1 | AY9: =E9 -> 2 | AZ9: =E9 -> 2 | BA9: =D9 -> 1
A11: POULE B | K11: CLASSEMENT POULE B | W11: CLASSEMENT POULE B | AJ11: Dom. | AK11: Ext. | AL11: Dom. | AM11: Ext. | AN11: Dom. | AO11: Ext. | AP11: Dom. | AQ11: Ext. | AR11: Dom. | AS11: Ext. | AT11: Dom. | AU11: Ext. | AV11: Dom. | AW11: Ext. | AX11: Dom. | AY11: Ext. | AZ11: Dom. | BA11: Ext.
A13: Terrain | B13: Pénalité | C13: Equipes | D13: Scores | F13: Equipes | G13: Pénalité | H13: Dates | I13: Horaires | K13: Place | L13: Equipes | M13: Pts | N13: J | O13: G | P13: N | Q13: P | R13: B + | S13: B - | T13: Diff. | U13: R | W13: Equipes | X13: R | Y13: Place | Z13: Pts | AA13: J | AB13: G | AC13: N | AD13: P | AE13: B + | AF13: B - | AG13: Diff. | AH13: % | AI13: % | AJ13: P | AK13: P | AL13: Pts | AM13: Pts | AN13: T Pts | AO13: T Pts | AP13: J | AQ13: J | AR13: G | AS13: G | AT13: N | AU13: N | AV13: P | AW13: P | AX13: B + | AY13: B + | AZ13: B - | BA13: B - | BB13: Equipes | BC13: % | BD13: R | BE13: Equipes
A14: B | C14: Equipe 1B | D14: 2 | E14: 1 | F14: Equipe 2B | K14: 1 | L14: =VLOOKUP(U14,V14:W17,2,0) -> Equipe 3B | M14: =VLOOKUP(L14,W14:AG17,4,0) -> 9 | N14: =VLOOKUP(L14,W14:AG17,5,0) -> 3 | O14: =VLOOKUP(L14,W14:AG17,6,0) -> 3 | P14: =VLOOKUP(L14,W14:AG17,7,0) -> 0 | Q14: =VLOOKUP(L14,W14:AG17,8,0) -> 0 | R14: =VLOOKUP(L14,W14:AG17,9,0) -> 8 | S14: =VLOOKUP(L14,W14:AG17,10,0) -> 2 | T14: =VLOOKUP(L14,W14:AG17,11,0) -> 6 | U14: 1 | V14: =Y14 -> 3 | W14: Equipe 1B | X14: =RANK(AH14,AH14:AH17) -> 3 | Y14: =RANK(AI14,AI14:AI17) -> 3 | Z14: =SUMPRODUCT((C14:C19=W14)*(AN14:AN19))+SUMPRODUCT((F14:F19=W14)*(AO14:AO19)) -> 4 | AA14: =SUMPRODUCT((C14:C19=W14)*(AP14:AP19))+SUMPRODUCT((F14:F19=W14)*(AQ14:AQ19)) -> 3 | AB14: =SUMPRODUCT((C14:C19=W14)*(AR14:AR19))+SUMPRODUCT((F14:F19=W14)*(AS14:AS19)) -> 1 | AC14: =SUMPRODUCT((C14:C19=W14)*(AT14:AT19))+SUMPRODUCT((F14:F19=W14)*(AU14:AU19)) -> 1 | AD14: =SUMPRODUCT((C14:C19=W14)*(AV14:AV19))+SUMPRODUCT((F14:F19=W14)*(AW14:AW19)) -> 1 | AE14: =SUMPRODUCT((C14:C19=W14)*(AX14:AX19))+SUMPRODUCT((F14:F19=W14)*(AY14:AY19)) -> 5 | AF14: =SUMPRODUCT((C14:C19=W14)*(AZ14:AZ19))+SUMPRODUCT((F14:F19=W14)*(BA14:BA19)) -> 6 | AG14: =AE14-AF14 -> -1 | AH14: =SUM(Z14*1000+(AG14)/100+(AE14)/1000) -> 3999.995 | AI14: =AH14+0.0000004 -> 3999.995 | AJ14: =B14 -> 0 | AK14: =G14 -> 0 | AL14: =IF(D14="",0,IF(D14>E14,3,IF(D14=E14,1,IF(D14<E14,0)))) -> 3 | AM14: =IF(E14="",0,IF(E14>D14,3,IF(E14=D14,1,IF(E14<D14,0)))) -> 0 | AN14: =AL14-AJ14 -> 3 | AO14: =AM14-AK14 -> 0 | AP14: =IF(D14="",0,1) -> 1 | AQ14: =IF(E14="",0,1) -> 1 | AR14: =IF(D14<>"",IF(D14>E14,1)) -> 1 | AS14: =IF(E14<>"",IF(E14>D14,1)) -> FALSE | AT14: =IF(D14<>"",IF(D14=E14,1)) -> FALSE | AU14: =IF(E14<>"",IF(E14=D14,1)) -> FALSE | AV14: =IF(D14<>"",IF(D14<E14,1)) -> FALSE | AW14: =IF(E14<>"",IF(E14<D14,1)) -> 1 | AX14: =D14 -> 2 | AY14: =E14 -> 1 | AZ14: =E14 -> 1 | BA14: =D14 -> 2 | BB14: =VLOOKUP(U14,V14:W17,2,0) -> Equipe 3B | BC14: =VLOOKUP(BB14,W14:AH17,12,0) -> 9000.068 | BD14: =RANK(BC14,BC14:BC17) -> 1 | BE14: =W14 -> Equipe 1B
A15: B | C15: Equipe 3B | D15: 3 | E15: 0 | F15: Equipe 4B | K15: =IF(BC15=BC14,BD14,BD15) -> 2 | L15: =VLOOKUP(U15,V14:W17,2,0) -> Equipe 4B | M15: =VLOOKUP(L15,W14:AG17,4,0) -> 4 | N15: =VLOOKUP(L15,W14:AG17,5,0) -> 3 | O15: =VLOOKUP(L15,W14:AG17,6,0) -> 1 | P15: =VLOOKUP(L15,W14:AG17,7,0) -> 1 | Q15: =VLOOKUP(L15,W14:AG17,8,0) -> 1 | R15: =VLOOKUP(L15,W14:AG17,9,0) -> 6 | S15: =VLOOKUP(L15,W14:AG17,10,0) -> 5 | T15: =VLOOKUP(L15,W14:AG17,11,0) -> 1 | U15: 2 | V15: =Y15 -> 4 | W15: Equipe 2B | X15: =RANK(AH15,AH14:AH17) -> 4 | Y15: =RANK(AI15,AI14:AI17) -> 4 | Z15: =SUMPRODUCT((C14:C19=W15)*(AN14:AN19))+SUMPRODUCT((F14:F19=W15)*(AO14:AO19)) -> 0 | AA15: =SUMPRODUCT((C14:C19=W15)*(AP14:AP19))+SUMPRODUCT((F14:F19=W15)*(AQ14:AQ19)) -> 3 | AB15: =SUMPRODUCT((C14:C19=W15)*(AR14:AR19))+SUMPRODUCT((F14:F19=W15)*(AS14:AS19)) -> 0 | AC15: =SUMPRODUCT((C14:C19=W15)*(AT14:AT19))+SUMPRODUCT((F14:F19=W15)*(AU14:AU19)) -> 0 | AD15: =SUMPRODUCT((C14:C19=W15)*(AV14:AV19))+SUMPRODUCT((F14:F19=W15)*(AW14:AW19)) -> 3 | AE15: =SUMPRODUCT((C14:C19=W15)*(AX14:AX19))+SUMPRODUCT((F14:F19=W15)*(AY14:AY19)) -> 2 | AF15: =SUMPRODUCT((C14:C19=W15)*(AZ14:AZ19))+SUMPRODUCT((F14:F19=W15)*(BA14:BA19)) -> 8 | AG15: =AE15-AF15 -> -6 | AH15: =SUM(Z15*1000+(AG15)/100+(AE15)/1000) -> -0.058 | AI15: =AH15+0.0000003 -> -0.0579997 | AJ15: =B15 -> 0 | AK15: =G15 -> 0 | AL15: =IF(D15="",0,IF(D15>E15,3,IF(D15=E15,1,IF(D15<E15,0)))) -> 3 | AM15: =IF(E15="",0,IF(E15>D15,3,IF(E15=D15,1,IF(E15<D15,0)))) -> 0 | AN15: =AL15-AJ15 -> 3 | AO15: =AM15-AK15 -> 0 | AP15: =IF(D15="",0,1) -> 1 | AQ15: =IF(E15="",0,1) -> 1 | AR15: =IF(D15<>"",IF(D15>E15,1)) -> 1 | AS15: =IF(E15<>"",IF(E15>D15,1)) -> FALSE | AT15: =IF(D15<>"",IF(D15=E15,1)) -> FALSE | AU15: =IF(E15<>"",IF(E15=D15,1)) -> FALSE | AV15: =IF(D15<>"",IF(D15<E15,1)) -> FALSE | AW15: =IF(E15<>"",IF(E15<D15,1)) -> 1 | AX15: =D15 -> 3 | AY15: =E15 -> 0 | AZ15: =E15 -> 0 | BA15: =D15 -> 3 | BB15: =VLOOKUP(U15,V14:W17,2,0) -> Equipe 4B | BC15: =VLOOKUP(BB15,W14:AH17,12,0) -> 4000.016 | BD15: =RANK(BC15,BC14:BC17) -> 2 | BE15: =W15 -> Equipe 2B
A16: B | C16: Equipe 1B | D16: 1 | E16: 3 | F16: Equipe 3B | K16: =IF(BC16=BC15,BD15,BD16) -> 3 | L16: =VLOOKUP(U16,V14:W17,2,0) -> Equipe 1B | M16: =VLOOKUP(L16,W14:AG17,4,0) -> 4 | N16: =VLOOKUP(L16,W14:AG17,5,0) -> 3 | O16: =VLOOKUP(L16,W14:AG17,6,0) -> 1 | P16: =VLOOKUP(L16,W14:AG17,7,0) -> 1 | Q16: =VLOOKUP(L16,W14:AG17,8,0) -> 1 | R16: =VLOOKUP(L16,W14:AG17,9,0) -> 5 | S16: =VLOOKUP(L16,W14:AG17,10,0) -> 6 | T16: =VLOOKUP(L16,W14:AG17,11,0) -> -1 | U16: 3 | V16: =Y16 -> 1 | W16: Equipe 3B | X16: =RANK(AH16,AH14:AH17) -> 1 | Y16: =RANK(AI16,AI14:AI17) -> 1 | Z16: =SUMPRODUCT((C14:C19=W16)*(AN14:AN19))+SUMPRODUCT((F14:F19=W16)*(AO14:AO19)) -> 9 | AA16: =SUMPRODUCT((C14:C19=W16)*(AP14:AP19))+SUMPRODUCT((F14:F19=W16)*(AQ14:AQ19)) -> 3 | AB16: =SUMPRODUCT((C14:C19=W16)*(AR14:AR19))+SUMPRODUCT((F14:F19=W16)*(AS14:AS19)) -> 3 | AC16: =SUMPRODUCT((C14:C19=W16)*(AT14:AT19))+SUMPRODUCT((F14:F19=W16)*(AU14:AU19)) -> 0 | AD16: =SUMPRODUCT((C14:C19=W16)*(AV14:AV19))+SUMPRODUCT((F14:F19=W16)*(AW14:AW19)) -> 0 | AE16: =SUMPRODUCT((C14:C19=W16)*(AX14:AX19))+SUMPRODUCT((F14:F19=W16)*(AY14:AY19)) -> 8 | AF16: =SUMPRODUCT((C14:C19=W16)*(AZ14:AZ19))+SUMPRODUCT((F14:F19=W16)*(BA14:BA19)) -> 2 | AG16: =AE16-AF16 -> 6 | AH16: =SUM(Z16*1000+(AG16)/100+(AE16)/1000) -> 9000.068 | AI16: =AH16+0.0000002 -> 9000.068 | AJ16: =B16 -> 0 | AK16: =G16 -> 0 | AL16: =IF(D16="",0,IF(D16>E16,3,IF(D16=E16,1,IF(D16<E16,0)))) -> 0 | AM16: =IF(E16="",0,IF(E16>D16,3,IF(E16=D16,1,IF(E16<D16,0)))) -> 3 | AN16: =AL16-AJ16 -> 0 | AO16: =AM16-AK16 -> 3 | AP16: =IF(D16="",0,1) -> 1 | AQ16: =IF(E16="",0,1) -> 1 | AR16: =IF(D16<>"",IF(D16>E16,1)) -> FALSE | AS16: =IF(E16<>"",IF(E16>D16,1)) -> 1 | AT16: =IF(D16<>"",IF(D16=E16,1)) -> FALSE | AU16: =IF(E16<>"",IF(E16=D16,1)) -> FALSE | AV16: =IF(D16<>"",IF(D16<E16,1)) -> 1 | AW16: =IF(E16<>"",IF(E16<D16,1)) -> FALSE | AX16: =D16 -> 1 | AY16: =E16 -> 3 | AZ16: =E16 -> 3 | BA16: =D16 -> 1 | BB16: =VLOOKUP(U16,V14:W17,2,0) -> Equipe 1B | BC16: =VLOOKUP(BB16,W14:AH17,12,0) -> 3999.995 | BD16: =RANK(BC16,BC14:BC17) -> 3 | BE16: =W16 -> Equipe 3B
A17: B | C17: Equipe 2B | D17: 0 | E17: 4 | F17: Equipe 4B | K17: =IF(BC17=BC16,BD16,BD17) -> 4 | L17: =VLOOKUP(U17,V14:W17,2,0) -> Equipe 2B | M17: =VLOOKUP(L17,W14:AG17,4,0) -> 0 | N17: =VLOOKUP(L17,W14:AG17,5,0) -> 3 | O17: =VLOOKUP(L17,W14:AG17,6,0) -> 0 | P17: =VLOOKUP(L17,W14:AG17,7,0) -> 0 | Q17: =VLOOKUP(L17,W14:AG17,8,0) -> 3 | R17: =VLOOKUP(L17,W14:AG17,9,0) -> 2 | S17: =VLOOKUP(L17,W14:AG17,10,0) -> 8 | T17: =VLOOKUP(L17,W14:AG17,11,0) -> -6 | U17: 4 | V17: =Y17 -> 2 | W17: Equipe 4B | X17: =RANK(AH17,AH14:AH17) -> 2 | Y17: =RANK(AI17,AI14:AI17) -> 2 | Z17: =SUMPRODUCT((C14:C19=W17)*(AN14:AN19))+SUMPRODUCT((F14:F19=W17)*(AO14:AO19)) -> 4 | AA17: =SUMPRODUCT((C14:C19=W17)*(AP14:AP19))+SUMPRODUCT((F14:F19=W17)*(AQ14:AQ19)) -> 3 | AB17: =SUMPRODUCT((C14:C19=W17)*(AR14:AR19))+SUMPRODUCT((F14:F19=W17)*(AS14:AS19)) -> 1 | AC17: =SUMPRODUCT((C14:C19=W17)*(AT14:AT19))+SUMPRODUCT((F14:F19=W17)*(AU14:AU19)) -> 1 | AD17: =SUMPRODUCT((C14:C19=W17)*(AV14:AV19))+SUMPRODUCT((F14:F19=W17)*(AW14:AW19)) -> 1 | AE17: =SUMPRODUCT((C14:C19=W17)*(AX14:AX19))+SUMPRODUCT((F14:F19=W17)*(AY14:AY19)) -> 6 | AF17: =SUMPRODUCT((C14:C19=W17)*(AZ14:AZ19))+SUMPRODUCT((F14:F19=W17)*(BA14:BA19)) -> 5 | AG17: =AE17-AF17 -> 1 | AH17: =SUM(Z17*1000+(AG17)/100+(AE17)/1000) -> 4000.016 | AI17: =AH17+0.0000001 -> 4000.016 | AJ17: =B17 -> 0 | AK17: =G17 -> 0 | AL17: =IF(D17="",0,IF(D17>E17,3,IF(D17=E17,1,IF(D17<E17,0)))) -> 0 | AM17: =IF(E17="",0,IF(E17>D17,3,IF(E17=D17,1,IF(E17<D17,0)))) -> 3 | AN17: =AL17-AJ17 -> 0 | AO17: =AM17-AK17 -> 3 | AP17: =IF(D17="",0,1) -> 1 | AQ17: =IF(E17="",0,1) -> 1 | AR17: =IF(D17<>"",IF(D17>E17,1)) -> FALSE | AS17: =IF(E17<>"",IF(E17>D17,1)) -> 1 | AT17: =IF(D17<>"",IF(D17=E17,1)) -> FALSE | AU17: =IF(E17<>"",IF(E17=D17,1)) -> FALSE | AV17: =IF(D17<>"",IF(D17<E17,1)) -> 1 | AW17: =IF(E17<>"",IF(E17<D17,1)) -> FALSE | AX17: =D17 -> 0 | AY17: =E17 -> 4 | AZ17: =E17 -> 4 | BA17: =D17 -> 0 | BB17: =VLOOKUP(U17,V14:W17,2,0) -> Equipe 2B | BC17: =VLOOKUP(BB17,W14:AH17,12,0) -> -0.058 | BD17: =RANK(BC17,BC14:BC17) -> 4 | BE17: =W17 -> Equipe 4B
A18: B | C18: Equipe 1B | D18: 2 | E18: 2 | F18: Equipe 4B | AJ18: =B18 -> 0 | AK18: =G18 -> 0 | AL18: =IF(D18="",0,IF(D18>E18,3,IF(D18=E18,1,IF(D18<E18,0)))) -> 1 | AM18: =IF(E18="",0,IF(E18>D18,3,IF(E18=D18,1,IF(E18<D18,0)))) -> 1 | AN18: =AL18-AJ18 -> 1 | AO18: =AM18-AK18 -> 1 | AP18: =IF(D18="",0,1) -> 1 | AQ18: =IF(E18="",0,1) -> 1 | AR18: =IF(D18<>"",IF(D18>E18,1)) -> FALSE | AS18: =IF(E18<>"",IF(E18>D18,1)) -> FALSE | AT18: =IF(D18<>"",IF(D18=E18,1)) -> 1 | AU18: =IF(E18<>"",IF(E18=D18,1)) -> 1 | AV18: =IF(D18<>"",IF(D18<E18,1)) -> FALSE | AW18: =IF(E18<>"",IF(E18<D18,1)) -> FALSE | AX18: =D18 -> 2 | AY18: =E18 -> 2 | AZ18: =E18 -> 2 | BA18: =D18 -> 2
A19: B | C19: Equipe 2B | D19: 1 | E19: 2 | F19: Equipe 3B | AJ19: =B19 -> 0 | AK19: =G19 -> 0 | AL19: =IF(D19="",0,IF(D19>E19,3,IF(D19=E19,1,IF(D19<E19,0)))) -> 0 | AM19: =IF(E19="",0,IF(E19>D19,3,IF(E19=D19,1,IF(E19<D19,0)))) -> 3 | AN19: =AL19-AJ19 -> 0 | AO19: =AM19-AK19 -> 3 | AP19: =IF(D19="",0,1) -> 1 | AQ19: =IF(E19="",0,1) -> 1 | AR19: =IF(D19<>"",IF(D19>E19,1)) -> FALSE | AS19: =IF(E19<>"",IF(E19>D19,1)) -> 1 | AT19: =IF(D19<>"",IF(D19=E19,1)) -> FALSE | AU19: =IF(E19<>"",IF(E19=D19,1)) -> FALSE | AV19: =IF(D19<>"",IF(D19<E19,1)) -> 1 | AW19: =IF(E19<>"",IF(E19<D19,1)) -> FALSE | AX19: =D19 -> 1 | AY19: =E19 -> 2 | AZ19: =E19 -> 2 | BA19: =D19 -> 1
A21: POULE C | K21: CLASSEMENT POULE C | W21: CLASSEMENT POULE C | AJ21: Dom. | AK21: Ext. | AL21: Dom. | AM21: Ext. | AN21: Dom. | AO21: Ext. | AP21: Dom. | AQ21: Ext. | AR21: Dom. | AS21: Ext. | AT21: Dom. | AU21: Ext. | AV21: Dom. | AW21: Ext. | AX21: Dom. | AY21: Ext. | AZ21: Dom. | BA21: Ext.
A23: Terrain | B23: Pénalité | C23: Equipes | D23: Scores | F23: Equipes | G23: Pénalité | H23: Dates | I23: Horaires | K23: Place | L23: Equipes | M23: Pts | N23: J | O23: G | P23: N | Q23: P | R23: B + | S23: B - | T23: Diff. | U23: R | W23: Equipes | X23: R | Y23: Place | Z23: Pts | AA23: J | AB23: G | AC23: N | AD23: P | AE23: B + | AF23: B - | AG23: Diff. | AH23: % | AI23: % | AJ23: P | AK23: P | AL23: Pts | AM23: Pts | AN23: T Pts | AO23: T Pts | AP23: J | AQ23: J | AR23: G | AS23: G | AT23: N | AU23: N | AV23: P | AW23: P | AX23: B + | AY23: B + | AZ23: B - | BA23: B - | BB23: Equipes | BC23: % | BD23: R | BE23: Equipes
A24: C | C24: Equipe 1C | D24: 2 | E24: 1 | F24: Equipe 2C | K24: 1 | L24: =VLOOKUP(U24,V24:W27,2,0) -> Equipe 3C | M24: =VLOOKUP(L24,W24:AG27,4,0) -> 9 | N24: =VLOOKUP(L24,W24:AG27,5,0) -> 3 | O24: =VLOOKUP(L24,W24:AG27,6,0) -> 3 | P24: =VLOOKUP(L24,W24:AG27,7,0) -> 0 | Q24: =VLOOKUP(L24,W24:AG27,8,0) -> 0 | R24: =VLOOKUP(L24,W24:AG27,9,0) -> 8 | S24: =VLOOKUP(L24,W24:AG27,10,0) -> 2 | T24: =VLOOKUP(L24,W24:AG27,11,0) -> 6 | U24: 1 | V24: =Y24 -> 3 | W24: Equipe 1C | X24: =RANK(AH24,AH24:AH27) -> 3 | Y24: =RANK(AI24,AI24:AI27) -> 3 | Z24: =SUMPRODUCT((C24:C29=W24)*(AN24:AN29))+SUMPRODUCT((F24:F29=W24)*(AO24:AO29)) -> 4 | AA24: =SUMPRODUCT((C24:C29=W24)*(AP24:AP29))+SUMPRODUCT((F24:F29=W24)*(AQ24:AQ29)) -> 3 | AB24: =SUMPRODUCT((C24:C29=W24)*(AR24:AR29))+SUMPRODUCT((F24:F29=W24)*(AS24:AS29)) -> 1 | AC24: =SUMPRODUCT((C24:C29=W24)*(AT24:AT29))+SUMPRODUCT((F24:F29=W24)*(AU24:AU29)) -> 1 | AD24: =SUMPRODUCT((C24:C29=W24)*(AV24:AV29))+SUMPRODUCT((F24:F29=W24)*(AW24:AW29)) -> 1 | AE24: =SUMPRODUCT((C24:C29=W24)*(AX24:AX29))+SUMPRODUCT((F24:F29=W24)*(AY24:AY29)) -> 5 | AF24: =SUMPRODUCT((C24:C29=W24)*(AZ24:AZ29))+SUMPRODUCT((F24:F29=W24)*(BA24:BA29)) -> 6 | AG24: =AE24-AF24 -> -1 | AH24: =SUM(Z24*1000+(AG24)/100+(AE24)/1000) -> 3999.995 | AI24: =AH24+0.0000004 -> 3999.995 | AJ24: =B24 -> 0 | AK24: =G24 -> 0 | AL24: =IF(D24="",0,IF(D24>E24,3,IF(D24=E24,1,IF(D24<E24,0)))) -> 3 | AM24: =IF(E24="",0,IF(E24>D24,3,IF(E24=D24,1,IF(E24<D24,0)))) -> 0 | AN24: =AL24-AJ24 -> 3 | AO24: =AM24-AK24 -> 0 | AP24: =IF(D24="",0,1) -> 1 | AQ24: =IF(E24="",0,1) -> 1 | AR24: =IF(D24<>"",IF(D24>E24,1)) -> 1 | AS24: =IF(E24<>"",IF(E24>D24,1)) -> FALSE | AT24: =IF(D24<>"",IF(D24=E24,1)) -> FALSE | AU24: =IF(E24<>"",IF(E24=D24,1)) -> FALSE | AV24: =IF(D24<>"",IF(D24<E24,1)) -> FALSE | AW24: =IF(E24<>"",IF(E24<D24,1)) -> 1 | AX24: =D24 -> 2 | AY24: =E24 -> 1 | AZ24: =E24 -> 1 | BA24: =D24 -> 2 | BB24: =VLOOKUP(U24,V24:W27,2,0) -> Equipe 3C | BC24: =VLOOKUP(BB24,W24:AH27,12,0) -> 9000.068 | BD24: =RANK(BC24,BC24:BC27) -> 1 | BE24: =W24 -> Equipe 1C
A25: C | C25: Equipe 3C | D25: 3 | E25: 0 | F25: Equipe 4C | K25: =IF(BC25=BC24,BD24,BD25) -> 2 | L25: =VLOOKUP(U25,V24:W27,2,0) -> Equipe 4C | M25: =VLOOKUP(L25,W24:AG27,4,0) -> 4 | N25: =VLOOKUP(L25,W24:AG27,5,0) -> 3 | O25: =VLOOKUP(L25,W24:AG27,6,0) -> 1 | P25: =VLOOKUP(L25,W24:AG27,7,0) -> 1 | Q25: =VLOOKUP(L25,W24:AG27,8,0) -> 1 | R25: =VLOOKUP(L25,W24:AG27,9,0) -> 6 | S25: =VLOOKUP(L25,W24:AG27,10,0) -> 5 | T25: =VLOOKUP(L25,W24:AG27,11,0) -> 1 | U25: 2 | V25: =Y25 -> 4 | W25: Equipe 2C | X25: =RANK(AH25,AH24:AH27) -> 4 | Y25: =RANK(AI25,AI24:AI27) -> 4 | Z25: =SUMPRODUCT((C24:C29=W25)*(AN24:AN29))+SUMPRODUCT((F24:F29=W25)*(AO24:AO29)) -> 0 | AA25: =SUMPRODUCT((C24:C29=W25)*(AP24:AP29))+SUMPRODUCT((F24:F29=W25)*(AQ24:AQ29)) -> 3 | AB25: =SUMPRODUCT((C24:C29=W25)*(AR24:AR29))+SUMPRODUCT((F24:F29=W25)*(AS24:AS29)) -> 0 | AC25: =SUMPRODUCT((C24:C29=W25)*(AT24:AT29))+SUMPRODUCT((F24:F29=W25)*(AU24:AU29)) -> 0 | AD25: =SUMPRODUCT((C24:C29=W25)*(AV24:AV29))+SUMPRODUCT((F24:F29=W25)*(AW24:AW29)) -> 3 | AE25: =SUMPRODUCT((C24:C29=W25)*(AX24:AX29))+SUMPRODUCT((F24:F29=W25)*(AY24:AY29)) -> 2 | AF25: =SUMPRODUCT((C24:C29=W25)*(AZ24:AZ29))+SUMPRODUCT((F24:F29=W25)*(BA24:BA29)) -> 8 | AG25: =AE25-AF25 -> -6 | AH25: =SUM(Z25*1000+(AG25)/100+(AE25)/1000) -> -0.058 | AI25: =AH25+0.0000003 -> -0.0579997 | AJ25: =B25 -> 0 | AK25: =G25 -> 0 | AL25: =IF(D25="",0,IF(D25>E25,3,IF(D25=E25,1,IF(D25<E25,0)))) -> 3 | AM25: =IF(E25="",0,IF(E25>D25,3,IF(E25=D25,1,IF(E25<D25,0)))) -> 0 | AN25: =AL25-AJ25 -> 3 | AO25: =AM25-AK25 -> 0 | AP25: =IF(D25="",0,1) -> 1 | AQ25: =IF(E25="",0,1) -> 1 | AR25: =IF(D25<>"",IF(D25>E25,1)) -> 1 | AS25: =IF(E25<>"",IF(E25>D25,1)) -> FALSE | AT25: =IF(D25<>"",IF(D25=E25,1)) -> FALSE | AU25: =IF(E25<>"",IF(E25=D25,1)) -> FALSE | AV25: =IF(D25<>"",IF(D25<E25,1)) -> FALSE | AW25: =IF(E25<>"",IF(E25<D25,1)) -> 1 | AX25: =D25 -> 3 | AY25: =E25 -> 0 | AZ25: =E25 -> 0 | BA25: =D25 -> 3 | BB25: =VLOOKUP(U25,V24:W27,2,0) -> Equipe 4C | BC25: =VLOOKUP(BB25,W24:AH27,12,0) -> 4000.016 | BD25: =RANK(BC25,BC24:BC27) -> 2 | BE25: =W25 -> Equipe 2C
A26: C | C26: Equipe 1C | D26: 1 | E26: 3 | F26: Equipe 3C | K26: =IF(BC26=BC25,BD25,BD26) -> 3 | L26: =VLOOKUP(U26,V24:W27,2,0) -> Equipe 1C | M26: =VLOOKUP(L26,W24:AG27,4,0) -> 4 | N26: =VLOOKUP(L26,W24:AG27,5,0) -> 3 | O26: =VLOOKUP(L26,W24:AG27,6,0) -> 1 | P26: =VLOOKUP(L26,W24:AG27,7,0) -> 1 | Q26: =VLOOKUP(L26,W24:AG27,8,0) -> 1 | R26: =VLOOKUP(L26,W24:AG27,9,0) -> 5 | S26: =VLOOKUP(L26,W24:AG27,10,0) -> 6 | T26: =VLOOKUP(L26,W24:AG27,11,0) -> -1 | U26: 3 | V26: =Y26 -> 1 | W26: Equipe 3C | X26: =RANK(AH26,AH24:AH27) -> 1 | Y26: =RANK(AI26,AI24:AI27) -> 1 | Z26: =SUMPRODUCT((C24:C29=W26)*(AN24:AN29))+SUMPRODUCT((F24:F29=W26)*(AO24:AO29)) -> 9 | AA26: =SUMPRODUCT((C24:C29=W26)*(AP24:AP29))+SUMPRODUCT((F24:F29=W26)*(AQ24:AQ29)) -> 3 | AB26: =SUMPRODUCT((C24:C29=W26)*(AR24:AR29))+SUMPRODUCT((F24:F29=W26)*(AS24:AS29)) -> 3 | AC26: =SUMPRODUCT((C24:C29=W26)*(AT24:AT29))+SUMPRODUCT((F24:F29=W26)*(AU24:AU29)) -> 0 | AD26: =SUMPRODUCT((C24:C29=W26)*(AV24:AV29))+SUMPRODUCT((F24:F29=W26)*(AW24:AW29)) -> 0 | AE26: =SUMPRODUCT((C24:C29=W26)*(AX24:AX29))+SUMPRODUCT((F24:F29=W26)*(AY24:AY29)) -> 8 | AF26: =SUMPRODUCT((C24:C29=W26)*(AZ24:AZ29))+SUMPRODUCT((F24:F29=W26)*(BA24:BA29)) -> 2 | AG26: =AE26-AF26 -> 6 | AH26: =SUM(Z26*1000+(AG26)/100+(AE26)/1000) -> 9000.068 | AI26: =AH26+0.0000002 -> 9000.068 | AJ26: =B26 -> 0 | AK26: =G26 -> 0 | AL26: =IF(D26="",0,IF(D26>E26,3,IF(D26=E26,1,IF(D26<E26,0)))) -> 0 | AM26: =IF(E26="",0,IF(E26>D26,3,IF(E26=D26,1,IF(E26<D26,0)))) -> 3 | AN26: =AL26-AJ26 -> 0 | AO26: =AM26-AK26 -> 3 | AP26: =IF(D26="",0,1) -> 1 | AQ26: =IF(E26="",0,1) -> 1 | AR26: =IF(D26<>"",IF(D26>E26,1)) -> FALSE | AS26: =IF(E26<>"",IF(E26>D26,1)) -> 1 | AT26: =IF(D26<>"",IF(D26=E26,1)) -> FALSE | AU26: =IF(E26<>"",IF(E26=D26,1)) -> FALSE | AV26: =IF(D26<>"",IF(D26<E26,1)) -> 1 | AW26: =IF(E26<>"",IF(E26<D26,1)) -> FALSE | AX26: =D26 -> 1 | AY26: =E26 -> 3 | AZ26: =E26 -> 3 | BA26: =D26 -> 1 | BB26: =VLOOKUP(U26,V24:W27,2,0) -> Equipe 1C | BC26: =VLOOKUP(BB26,W24:AH27,12,0) -> 3999.995 | BD26: =RANK(BC26,BC24:BC27) -> 3 | BE26: =W26 -> Equipe 3C
A27: C | C27: Equipe 2C | D27: 0 | E27: 4 | F27: Equipe 4C | K27: =IF(BC27=BC26,BD26,BD27) -> 4 | L27: =VLOOKUP(U27,V24:W27,2,0) -> Equipe 2C | M27: =VLOOKUP(L27,W24:AG27,4,0) -> 0 | N27: =VLOOKUP(L27,W24:AG27,5,0) -> 3 | O27: =VLOOKUP(L27,W24:AG27,6,0) -> 0 | P27: =VLOOKUP(L27,W24:AG27,7,0) -> 0 | Q27: =VLOOKUP(L27,W24:AG27,8,0) -> 3 | R27: =VLOOKUP(L27,W24:AG27,9,0) -> 2 | S27: =VLOOKUP(L27,W24:AG27,10,0) -> 8 | T27: =VLOOKUP(L27,W24:AG27,11,0) -> -6 | U27: 4 | V27: =Y27 -> 2 | W27: Equipe 4C | X27: =RANK(AH27,AH24:AH27) -> 2 | Y27: =RANK(AI27,AI24:AI27) -> 2 | Z27: =SUMPRODUCT((C24:C29=W27)*(AN24:AN29))+SUMPRODUCT((F24:F29=W27)*(AO24:AO29)) -> 4 | AA27: =SUMPRODUCT((C24:C29=W27)*(AP24:AP29))+SUMPRODUCT((F24:F29=W27)*(AQ24:AQ29)) -> 3 | AB27: =SUMPRODUCT((C24:C29=W27)*(AR24:AR29))+SUMPRODUCT((F24:F29=W27)*(AS24:AS29)) -> 1 | AC27: =SUMPRODUCT((C24:C29=W27)*(AT24:AT29))+SUMPRODUCT((F24:F29=W27)*(AU24:AU29)) -> 1 | AD27: =SUMPRODUCT((C24:C29=W27)*(AV24:AV29))+SUMPRODUCT((F24:F29=W27)*(AW24:AW29)) -> 1 | AE27: =SUMPRODUCT((C24:C29=W27)*(AX24:AX29))+SUMPRODUCT((F24:F29=W27)*(AY24:AY29)) -> 6 | AF27: =SUMPRODUCT((C24:C29=W27)*(AZ24:AZ29))+SUMPRODUCT((F24:F29=W27)*(BA24:BA29)) -> 5 | AG27: =AE27-AF27 -> 1 | AH27: =SUM(Z27*1000+(AG27)/100+(AE27)/1000) -> 4000.016 | AI27: =AH27+0.0000001 -> 4000.016 | AJ27: =B27 -> 0 | AK27: =G27 -> 0 | AL27: =IF(D27="",0,IF(D27>E27,3,IF(D27=E27,1,IF(D27<E27,0)))) -> 0 | AM27: =IF(E27="",0,IF(E27>D27,3,IF(E27=D27,1,IF(E27<D27,0)))) -> 3 | AN27: =AL27-AJ27 -> 0 | AO27: =AM27-AK27 -> 3 | AP27: =IF(D27="",0,1) -> 1 | AQ27: =IF(E27="",0,1) -> 1 | AR27: =IF(D27<>"",IF(D27>E27,1)) -> FALSE | AS27: =IF(E27<>"",IF(E27>D27,1)) -> 1 | AT27: =IF(D27<>"",IF(D27=E27,1)) -> FALSE | AU27: =IF(E27<>"",IF(E27=D27,1)) -> FALSE | AV27: =IF(D27<>"",IF(D27<E27,1)) -> 1 | AW27: =IF(E27<>"",IF(E27<D27,1)) -> FALSE | AX27: =D27 -> 0 | AY27: =E27 -> 4 | AZ27: =E27 -> 4 | BA27: =D27 -> 0 | BB27: =VLOOKUP(U27,V24:W27,2,0) -> Equipe 2C | BC27: =VLOOKUP(BB27,W24:AH27,12,0) -> -0.058 | BD27: =RANK(BC27,BC24:BC27) -> 4 | BE27: =W27 -> Equipe 4C
A28: C | C28: Equipe 1C | D28: 2 | E28: 2 | F28: Equipe 4C | AJ28: =B28 -> 0 | AK28: =G28 -> 0 | AL28: =IF(D28="",0,IF(D28>E28,3,IF(D28=E28,1,IF(D28<E28,0)))) -> 1 | AM28: =IF(E28="",0,IF(E28>D28,3,IF(E28=D28,1,IF(E28<D28,0)))) -> 1 | AN28: =AL28-AJ28 -> 1 | AO28: =AM28-AK28 -> 1 | AP28: =IF(D28="",0,1) -> 1 | AQ28: =IF(E28="",0,1) -> 1 | AR28: =IF(D28<>"",IF(D28>E28,1)) -> FALSE | AS28: =IF(E28<>"",IF(E28>D28,1)) -> FALSE | AT28: =IF(D28<>"",IF(D28=E28,1)) -> 1 | AU28: =IF(E28<>"",IF(E28=D28,1)) -> 1 | AV28: =IF(D28<>"",IF(D28<E28,1)) -> FALSE | AW28: =IF(E28<>"",IF(E28<D28,1)) -> FALSE | AX28: =D28 -> 2 | AY28: =E28 -> 2 | AZ28: =E28 -> 2 | BA28: =D28 -> 2
A29: C | C29: Equipe 2C | D29: 1 | E29: 2 | F29: Equipe 3C | AJ29: =B29 -> 0 | AK29: =G29 -> 0 | AL29: =IF(D29="",0,IF(D29>E29,3,IF(D29=E29,1,IF(D29<E29,0)))) -> 0 | AM29: =IF(E29="",0,IF(E29>D29,3,IF(E29=D29,1,IF(E29<D29,0)))) -> 3 | AN29: =AL29-AJ29 -> 0 | AO29: =AM29-AK29 -> 3 | AP29: =IF(D29="",0,1) -> 1 | AQ29: =IF(E29="",0,1) -> 1 | AR29: =IF(D29<>"",IF(D29>E29,1)) -> FALSE | AS29: =IF(E29<>"",IF(E29>D29,1)) -> 1 | AT29: =IF(D29<>"",IF(D29=E29,1)) -> FALSE | AU29: =IF(E29<>"",IF(E29=D29,1)) -> FALSE | AV29: =IF(D29<>"",IF(D29<E29,1)) -> 1 | AW29: =IF(E29<>"",IF(E29<D29,1)) -> FALSE | AX29: =D29 -> 1 | AY29: =E29 -> 2 | AZ29: =E29 -> 2 | BA29: =D29 -> 1
A31: POULE D | K31: CLASSEMENT POULE D | W31: CLASSEMENT POULE D | AJ31: Dom. | AK31: Ext. | AL31: Dom. | AM31: Ext. | AN31: Dom. | AO31: Ext. | AP31: Dom. | AQ31: Ext. | AR31: Dom. | AS31: Ext. | AT31: Dom. | AU31: Ext. | AV31: Dom. | AW31: Ext. | AX31: Dom. | AY31: Ext. | AZ31: Dom. | BA31: Ext.
A33: Terrain | B33: Pénalité | C33: Equipes | D33: Scores | F33: Equipes | G33: Pénalité | H33: Dates | I33: Horaires | K33: Place | L33: Equipes | M33: Pts | N33: J | O33: G | P33: N | Q33: P | R33: B + | S33: B - | T33: Diff. | U33: R | W33: Equipes | X33: R | Y33: Place | Z33: Pts | AA33: J | AB33: G | AC33: N | AD33: P | AE33: B + | AF33: B - | AG33: Diff. | AH33: % | AI33: % | AJ33: P | AK33: P | AL33: Pts | AM33: Pts | AN33: T Pts | AO33: T Pts | AP33: J | AQ33: J | AR33: G | AS33: G | AT33: N | AU33: N | AV33: P | AW33: P | AX33: B + | AY33: B + | AZ33: B - | BA33: B - | BB33: Equipes | BC33: % | BD33: R | BE33: Equipes
A34: D | C34: Equipe 1D | D34: 1 | E34: 2 | F34: Equipe 2D | K34: 1 | L34: =VLOOKUP(U34,V34:W37,2,0) -> Equipe 2D | M34: =VLOOKUP(L34,W34:AG37,4,0) -> 6 | N34: =VLOOKUP(L34,W34:AG37,5,0) -> 3 | O34: =VLOOKUP(L34,W34:AG37,6,0) -> 2 | P34: =VLOOKUP(L34,W34:AG37,7,0) -> 0 | Q34: =VLOOKUP(L34,W34:AG37,8,0) -> 1 | R34: =VLOOKUP(L34,W34:AG37,9,0) -> 5 | S34: =VLOOKUP(L34,W34:AG37,10,0) -> 5 | T34: =VLOOKUP(L34,W34:AG37,11,0) -> 0 | U34: 1 | V34: =Y34 -> 4 | W34: Equipe 1D | X34: =RANK(AH34,AH34:AH37) -> 4 | Y34: =RANK(AI34,AI34:AI37) -> 4 | Z34: =SUMPRODUCT((C34:C39=W34)*(AN34:AN39))+SUMPRODUCT((F34:F39=W34)*(AO34:AO39)) -> 3 | AA34: =SUMPRODUCT((C34:C39=W34)*(AP34:AP39))+SUMPRODUCT((F34:F39=W34)*(AQ34:AQ39)) -> 3 | AB34: =SUMPRODUCT((C34:C39=W34)*(AR34:AR39))+SUMPRODUCT((F34:F39=W34)*(AS34:AS39)) -> 1 | AC34: =SUMPRODUCT((C34:C39=W34)*(AT34:AT39))+SUMPRODUCT((F34:F39=W34)*(AU34:AU39)) -> 0 | AD34: =SUMPRODUCT((C34:C39=W34)*(AV34:AV39))+SUMPRODUCT((F34:F39=W34)*(AW34:AW39)) -> 2 | AE34: =SUMPRODUCT((C34:C39=W34)*(AX34:AX39))+SUMPRODUCT((F34:F39=W34)*(AY34:AY39)) -> 4 | AF34: =SUMPRODUCT((C34:C39=W34)*(AZ34:AZ39))+SUMPRODUCT((F34:F39=W34)*(BA34:BA39)) -> 6 | AG34: =AE34-AF34 -> -2 | AH34: =SUM(Z34*1000+(AG34)/100+(AE34)/1000) -> 2999.984 | AI34: =AH34+0.0000004 -> 2999.984 | AJ34: =B34 -> 0 | AK34: =G34 -> 0 | AL34: =IF(D34="",0,IF(D34>E34,3,IF(D34=E34,1,IF(D34<E34,0)))) -> 0 | AM34: =IF(E34="",0,IF(E34>D34,3,IF(E34=D34,1,IF(E34<D34,0)))) -> 3 | AN34: =AL34-AJ34 -> 0 | AO34: =AM34-AK34 -> 3 | AP34: =IF(D34="",0,1) -> 1 | AQ34: =IF(E34="",0,1) -> 1 | AR34: =IF(D34<>"",IF(D34>E34,1)) -> FALSE | AS34: =IF(E34<>"",IF(E34>D34,1)) -> 1 | AT34: =IF(D34<>"",IF(D34=E34,1)) -> FALSE | AU34: =IF(E34<>"",IF(E34=D34,1)) -> FALSE | AV34: =IF(D34<>"",IF(D34<E34,1)) -> 1 | AW34: =IF(E34<>"",IF(E34<D34,1)) -> FALSE | AX34: =D34 -> 1 | AY34: =E34 -> 2 | AZ34: =E34 -> 2 | BA34: =D34 -> 1 | BB34: =VLOOKUP(U34,V34:W37,2,0) -> Equipe 2D | BC34: =VLOOKUP(BB34,W34:AH37,12,0) -> 6000.005 | BD34: =RANK(BC34,BC34:BC37) -> 1 | BE34: =W34 -> Equipe 1D
A35: D | C35: Equipe 3D | D35: 2 | E35: 2 | F35: Equipe 4D | K35: =IF(BC35=BC34,BD34,BD35) -> 2 | L35: =VLOOKUP(U35,V34:W37,2,0) -> Equipe 3D | M35: =VLOOKUP(L35,W34:AG37,4,0) -> 4 | N35: =VLOOKUP(L35,W34:AG37,5,0) -> 3 | O35: =VLOOKUP(L35,W34:AG37,6,0) -> 1 | P35: =VLOOKUP(L35,W34:AG37,7,0) -> 1 | Q35: =VLOOKUP(L35,W34:AG37,8,0) -> 1 | R35: =VLOOKUP(L35,W34:AG37,9,0) -> 7 | S35: =VLOOKUP(L35,W34:AG37,10,0) -> 4 | T35: =VLOOKUP(L35,W34:AG37,11,0) -> 3 | U35: 2 | V35: =Y35 -> 1 | W35: Equipe 2D | X35: =RANK(AH35,AH34:AH37) -> 1 | Y35: =RANK(AI35,AI34:AI37) -> 1 | Z35: =SUMPRODUCT((C34:C39=W35)*(AN34:AN39))+SUMPRODUCT((F34:F39=W35)*(AO34:AO39)) -> 6 | AA35: =SUMPRODUCT((C34:C39=W35)*(AP34:AP39))+SUMPRODUCT((F34:F39=W35)*(AQ34:AQ39)) -> 3 | AB35: =SUMPRODUCT((C34:C39=W35)*(AR34:AR39))+SUMPRODUCT((F34:F39=W35)*(AS34:AS39)) -> 2 | AC35: =SUMPRODUCT((C34:C39=W35)*(AT34:AT39))+SUMPRODUCT((F34:F39=W35)*(AU34:AU39)) -> 0 | AD35: =SUMPRODUCT((C34:C39=W35)*(AV34:AV39))+SUMPRODUCT((F34:F39=W35)*(AW34:AW39)) -> 1 | AE35: =SUMPRODUCT((C34:C39=W35)*(AX34:AX39))+SUMPRODUCT((F34:F39=W35)*(AY34:AY39)) -> 5 | AF35: =SUMPRODUCT((C34:C39=W35)*(AZ34:AZ39))+SUMPRODUCT((F34:F39=W35)*(BA34:BA39)) -> 5 | AG35: =AE35-AF35 -> 0 | AH35: =SUM(Z35*1000+(AG35)/100+(AE35)/1000) -> 6000.005 | AI35: =AH35+0.0000003 -> 6000.005 | AJ35: =B35 -> 0 | AK35: =G35 -> 0 | AL35: =IF(D35="",0,IF(D35>E35,3,IF(D35=E35,1,IF(D35<E35,0)))) -> 1 | AM35: =IF(E35="",0,IF(E35>D35,3,IF(E35=D35,1,IF(E35<D35,0)))) -> 1 | AN35: =AL35-AJ35 -> 1 | AO35: =AM35-AK35 -> 1 | AP35: =IF(D35="",0,1) -> 1 | AQ35: =IF(E35="",0,1) -> 1 | AR35: =IF(D35<>"",IF(D35>E35,1)) -> FALSE | AS35: =IF(E35<>"",IF(E35>D35,1)) -> FALSE | AT35: =IF(D35<>"",IF(D35=E35,1)) -> 1 | AU35: =IF(E35<>"",IF(E35=D35,1)) -> 1 | AV35: =IF(D35<>"",IF(D35<E35,1)) -> FALSE | AW35: =IF(E35<>"",IF(E35<D35,1)) -> FALSE | AX35: =D35 -> 2 | AY35: =E35 -> 2 | AZ35: =E35 -> 2 | BA35: =D35 -> 2 | BB35: =VLOOKUP(U35,V34:W37,2,0) -> Equipe 3D | BC35: =VLOOKUP(BB35,W34:AH37,12,0) -> 4000.037 | BD35: =RANK(BC35,BC34:BC37) -> 2 | BE35: =W35 -> Equipe 2D
A36: D | C36: Equipe 1D | D36: 0 | E36: 4 | F36: Equipe 3D | K36: =IF(BC36=BC35,BD35,BD36) -> 3 | L36: =VLOOKUP(U36,V34:W37,2,0) -> Equipe 4D | M36: =VLOOKUP(L36,W34:AG37,4,0) -> 4 | N36: =VLOOKUP(L36,W34:AG37,5,0) -> 3 | O36: =VLOOKUP(L36,W34:AG37,6,0) -> 1 | P36: =VLOOKUP(L36,W34:AG37,7,0) -> 1 | Q36: =VLOOKUP(L36,W34:AG37,8,0) -> 1 | R36: =VLOOKUP(L36,W34:AG37,9,0) -> 5 | S36: =VLOOKUP(L36,W34:AG37,10,0) -> 6 | T36: =VLOOKUP(L36,W34:AG37,11,0) -> -1 | U36: 3 | V36: =Y36 -> 2 | W36: Equipe 3D | X36: =RANK(AH36,AH34:AH37) -> 2 | Y36: =RANK(AI36,AI34:AI37) -> 2 | Z36: =SUMPRODUCT((C34:C39=W36)*(AN34:AN39))+SUMPRODUCT((F34:F39=W36)*(AO34:AO39)) -> 4 | AA36: =SUMPRODUCT((C34:C39=W36)*(AP34:AP39))+SUMPRODUCT((F34:F39=W36)*(AQ34:AQ39)) -> 3 | AB36: =SUMPRODUCT((C34:C39=W36)*(AR34:AR39))+SUMPRODUCT((F34:F39=W36)*(AS34:AS39)) -> 1 | AC36: =SUMPRODUCT((C34:C39=W36)*(AT34:AT39))+SUMPRODUCT((F34:F39=W36)*(AU34:AU39)) -> 1 | AD36: =SUMPRODUCT((C34:C39=W36)*(AV34:AV39))+SUMPRODUCT((F34:F39=W36)*(AW34:AW39)) -> 1 | AE36: =SUMPRODUCT((C34:C39=W36)*(AX34:AX39))+SUMPRODUCT((F34:F39=W36)*(AY34:AY39)) -> 7 | AF36: =SUMPRODUCT((C34:C39=W36)*(AZ34:AZ39))+SUMPRODUCT((F34:F39=W36)*(BA34:BA39)) -> 4 | AG36: =AE36-AF36 -> 3 | AH36: =SUM(Z36*1000+(AG36)/100+(AE36)/1000) -> 4000.037 | AI36: =AH36+0.0000002 -> 4000.037 | AJ36: =B36 -> 0 | AK36: =G36 -> 0 | AL36: =IF(D36="",0,IF(D36>E36,3,IF(D36=E36,1,IF(D36<E36,0)))) -> 0 | AM36: =IF(E36="",0,IF(E36>D36,3,IF(E36=D36,1,IF(E36<D36,0)))) -> 3 | AN36: =AL36-AJ36 -> 0 | AO36: =AM36-AK36 -> 3 | AP36: =IF(D36="",0,1) -> 1 | AQ36: =IF(E36="",0,1) -> 1 | AR36: =IF(D36<>"",IF(D36>E36,1)) -> FALSE | AS36: =IF(E36<>"",IF(E36>D36,1)) -> 1 | AT36: =IF(D36<>"",IF(D36=E36,1)) -> FALSE | AU36: =IF(E36<>"",IF(E36=D36,1)) -> FALSE | AV36: =IF(D36<>"",IF(D36<E36,1)) -> 1 | AW36: =IF(E36<>"",IF(E36<D36,1)) -> FALSE | AX36: =D36 -> 0 | AY36: =E36 -> 4 | AZ36: =E36 -> 4 | BA36: =D36 -> 0 | BB36: =VLOOKUP(U36,V34:W37,2,0) -> Equipe 4D | BC36: =VLOOKUP(BB36,W34:AH37,12,0) -> 3999.995 | BD36: =RANK(BC36,BC34:BC37) -> 3 | BE36: =W36 -> Equipe 3D
A37: D | C37: Equipe 2D | D37: 1 | E37: 3 | F37: Equipe 4D | K37: =IF(BC37=BC36,BD36,BD37) -> 4 | L37: =VLOOKUP(U37,V34:W37,2,0) -> Equipe 1D | M37: =VLOOKUP(L37,W34:AG37,4,0) -> 3 | N37: =VLOOKUP(L37,W34:AG37,5,0) -> 3 | O37: =VLOOKUP(L37,W34:AG37,6,0) -> 1 | P37: =VLOOKUP(L37,W34:AG37,7,0) -> 0 | Q37: =VLOOKUP(L37,W34:AG37,8,0) -> 2 | R37: =VLOOKUP(L37,W34:AG37,9,0) -> 4 | S37: =VLOOKUP(L37,W34:AG37,10,0) -> 6 | T37: =VLOOKUP(L37,W34:AG37,11,0) -> -2 | U37: 4 | V37: =Y37 -> 3 | W37: Equipe 4D | X37: =RANK(AH37,AH34:AH37) -> 3 | Y37: =RANK(AI37,AI34:AI37) -> 3 | Z37: =SUMPRODUCT((C34:C39=W37)*(AN34:AN39))+SUMPRODUCT((F34:F39=W37)*(AO34:AO39)) -> 4 | AA37: =SUMPRODUCT((C34:C39=W37)*(AP34:AP39))+SUMPRODUCT((F34:F39=W37)*(AQ34:AQ39)) -> 3 | AB37: =SUMPRODUCT((C34:C39=W37)*(AR34:AR39))+SUMPRODUCT((F34:F39=W37)*(AS34:AS39)) -> 1 | AC37: =SUMPRODUCT((C34:C39=W37)*(AT34:AT39))+SUMPRODUCT((F34:F39=W37)*(AU34:AU39)) -> 1 | AD37: =SUMPRODUCT((C34:C39=W37)*(AV34:AV39))+SUMPRODUCT((F34:F39=W37)*(AW34:AW39)) -> 1 | AE37: =SUMPRODUCT((C34:C39=W37)*(AX34:AX39))+SUMPRODUCT((F34:F39=W37)*(AY34:AY39)) -> 5 | AF37: =SUMPRODUCT((C34:C39=W37)*(AZ34:AZ39))+SUMPRODUCT((F34:F39=W37)*(BA34:BA39)) -> 6 | AG37: =AE37-AF37 -> -1 | AH37: =SUM(Z37*1000+(AG37)/100+(AE37)/1000) -> 3999.995 | AI37: =AH37+0.0000001 -> 3999.995 | AJ37: =B37 -> 0 | AK37: =G37 -> 0 | AL37: =IF(D37="",0,IF(D37>E37,3,IF(D37=E37,1,IF(D37<E37,0)))) -> 0 | AM37: =IF(E37="",0,IF(E37>D37,3,IF(E37=D37,1,IF(E37<D37,0)))) -> 3 | AN37: =AL37-AJ37 -> 0 | AO37: =AM37-AK37 -> 3 | AP37: =IF(D37="",0,1) -> 1 | AQ37: =IF(E37="",0,1) -> 1 | AR37: =IF(D37<>"",IF(D37>E37,1)) -> FALSE | AS37: =IF(E37<>"",IF(E37>D37,1)) -> 1 | AT37: =IF(D37<>"",IF(D37=E37,1)) -> FALSE | AU37: =IF(E37<>"",IF(E37=D37,1)) -> FALSE | AV37: =IF(D37<>"",IF(D37<E37,1)) -> 1 | AW37: =IF(E37<>"",IF(E37<D37,1)) -> FALSE | AX37: =D37 -> 1 | AY37: =E37 -> 3 | AZ37: =E37 -> 3 | BA37: =D37 -> 1 | BB37: =VLOOKUP(U37,V34:W37,2,0) -> Equipe 1D | BC37: =VLOOKUP(BB37,W34:AH37,12,0) -> 2999.984 | BD37: =RANK(BC37,BC34:BC37) -> 4 | BE37: =W37 -> Equipe 4D
A38: D | C38: Equipe 1D | D38: 3 | E38: 0 | F38: Equipe 4D | AJ38: =B38 -> 0 | AK38: =G38 -> 0 | AL38: =IF(D38="",0,IF(D38>E38,3,IF(D38=E38,1,IF(D38<E38,0)))) -> 3 | AM38: =IF(E38="",0,IF(E38>D38,3,IF(E38=D38,1,IF(E38<D38,0)))) -> 0 | AN38: =AL38-AJ38 -> 3 | AO38: =AM38-AK38 -> 0 | AP38: =IF(D38="",0,1) -> 1 | AQ38: =IF(E38="",0,1) -> 1 | AR38: =IF(D38<>"",IF(D38>E38,1)) -> 1 | AS38: =IF(E38<>"",IF(E38>D38,1)) -> FALSE | AT38: =IF(D38<>"",IF(D38=E38,1)) -> FALSE | AU38: =IF(E38<>"",IF(E38=D38,1)) -> FALSE | AV38: =IF(D38<>"",IF(D38<E38,1)) -> FALSE | AW38: =IF(E38<>"",IF(E38<D38,1)) -> 1 | AX38: =D38 -> 3 | AY38: =E38 -> 0 | AZ38: =E38 -> 0 | BA38: =D38 -> 3
A39: D | C39: Equipe 2D | D39: 2 | E39: 1 | F39: Equipe 3D | AJ39: =B39 -> 0 | AK39: =G39 -> 0 | AL39: =IF(D39="",0,IF(D39>E39,3,IF(D39=E39,1,IF(D39<E39,0)))) -> 3 | AM39: =IF(E39="",0,IF(E39>D39,3,IF(E39=D39,1,IF(E39<D39,0)))) -> 0 | AN39: =AL39-AJ39 -> 3 | AO39: =AM39-AK39 -> 0 | AP39: =IF(D39="",0,1) -> 1 | AQ39: =IF(E39="",0,1) -> 1 | AR39: =IF(D39<>"",IF(D39>E39,1)) -> 1 | AS39: =IF(E39<>"",IF(E39>D39,1)) -> FALSE | AT39: =IF(D39<>"",IF(D39=E39,1)) -> FALSE | AU39: =IF(E39<>"",IF(E39=D39,1)) -> FALSE | AV39: =IF(D39<>"",IF(D39<E39,1)) -> FALSE | AW39: =IF(E39<>"",IF(E39<D39,1)) -> 1 | AX39: =D39 -> 2 | AY39: =E39 -> 1 | AZ39: =E39 -> 1 | BA39: =D39 -> 2

Sheet Matchs de classement + Finale
A2: TERRAIN 1 - MATIN | I2: TERRAIN 1 - APRES-MIDI
A3: N° du match | B3: Date | C3: Horaires | D3: Equipes | E3: Scores | G3: Equipes | I3: N° du match | J3: Date | K3: Horaires | L3: Equipes | M3: Scores | O3: Equipes
A4: M25 | D4: =IF('Matchs de poule'!N7=3,'Matchs de poule'!L7,"") -> Equipe 2A | E4: 3 | F4: 1 | G4: =IF('Matchs de poule'!N27=3,'Matchs de poule'!L27,"") -> Equipe 2C | I4: M33 | L4: =IF(E4="","",IF(F4="","",IF(E4>F4,G4,D4))) -> Equipe 2C | O4: =IF(E9="","",IF(F9="","",IF(E9>F9,G9,D9))) -> Equipe 1D
A5: M26 | D5: =IF('Matchs de poule'!N5=3,'Matchs de poule'!L5,"") -> Equipe 4A | E5: 2 | F5: 3 | G5: =IF('Matchs de poule'!N25=3,'Matchs de poule'!L25,"") -> Equipe 4C | I5: M34 | L5: =IF(E4="","",IF(F4="","",IF(E4>F4,D4,G4))) -> Equipe 2A | O5: =IF(E9="","",IF(F9="","",IF(E9>F9,D9,G9))) -> Equipe 2B
A7: TERRAIN 2 - MATIN | I7: TERRAIN 1 - APRES-MIDI
A8: N° du match | B8: Date | C8: Horaires | D8: Equipes | E8: Scores | G8: Equipes | I8: N° du match | J8: Date | K8: Horaires | L8: Equipes | M8: Scores | O8: Equipes
A9: M27 | D9: =IF('Matchs de poule'!N17=3,'Matchs de poule'!L17,"") -> Equipe 2B | E9: 2 | F9: 1 | G9: =IF('Matchs de poule'!N37=3,'Matchs de poule'!L37,"") -> Equipe 1D | I9: M35 | L9: =IF(E14="","",IF(F14="","",IF(E14>F14,G14,D14))) -> Equipe 1A | O9: =IF(E19="","",IF(F19="","",IF(E19>F19,G19,D19))) -> Equipe 4D
A10: M28 | D10: =IF('Matchs de poule'!N15=3,'Matchs de poule'!L15,"") -> Equipe 4B | E10: 2 | F10: 3 | G10: =IF('Matchs de poule'!N35=3,'Matchs de poule'!L35,"") -> Equipe 3D | I10: M36 | L10: =IF(E14="","",IF(F14="","",IF(E14>F14,D14,G14))) -> Equipe 1C | O10: =IF(E19="","",IF(F19="","",IF(E19>F19,D19,G19))) -> Equipe 1B
A12: TERRAIN 3 - MATIN | I12: TERRAIN 1 - APRES-MIDI
A13: N° du match | B13: Date | C13: Horaires | D13: Equipes | E13: Scores | G13: Equipes | I13: N° du match | J13: Date | K13: Horaires | L13: Equipes | M13: Scores | O13: Equipes
A14: M29 | D14: =IF('Matchs de poule'!N6=3,'Matchs de poule'!L6,"") -> Equipe 1A | E14: 2 | F14: 3 | G14: =IF('Matchs de poule'!N26=3,'Matchs de poule'!L26,"") -> Equipe 1C | I14: M37 | L14: =IF(E5="","",IF(F5="","",IF(E5>F5,G5,D5))) -> Equipe 4A | O14: =IF(E10="","",IF(F10="","",IF(E10>F10,G10,D10))) -> Equipe 4B
A15: M30 | D15: =IF('Matchs de poule'!N4=3,'Matchs de poule'!L4,"") -> Equipe 3A | E15: 2 | F15: 0 | G15: =IF('Matchs de poule'!N24=3,'Matchs de poule'!L24,"") -> Equipe 3C | I15: M38 | L15: =IF(E5="","",IF(F5="","",IF(E5>F5,D5,G5))) -> Equipe 4C | O15: =IF(E10="","",IF(F10="","",IF(E10>F10,D10,G10))) -> Equipe 3D
A17: TERRAIN 4 - MATIN | I17: TERRAIN 1 - APRES-MIDI
A18: N° du match | B18: Date | C18: Horaires | D18: Equipes | E18: Scores | G18: Equipes | I18: N° du match | J18: Date | K18: Horaires | L18: Equipes | M18: Scores | O18: Equipes
A19: M31 | D19: =IF('Matchs de poule'!N16=3,'Matchs de poule'!L16,"") -> Equipe 1B | E19: 2 | F19: 1 | G19: =IF('Matchs de poule'!N36=3,'Matchs de poule'!L36,"") -> Equipe 4D | I19: M39 | L19: =IF(E15="","",IF(F15="","",IF(E15>F15,G15,D15))) -> Equipe 3C | O19: =IF(E20="","",IF(F20="","",IF(E20>F20,G20,D20))) -> Equipe 3B
A20: M32 | D20: =IF('Matchs de poule'!N14=3,'Matchs de poule'!L14,"") -> Equipe 3B | E20: 2(2) | F20: 2(4) | G20: =IF('Matchs de poule'!N34=3,'Matchs de poule'!L34,"") -> Equipe 2D
I21: TERRAIN OFFICIEL
I22: N° du match | J22: Date | K22: Horaires | L22: Equipes | M22: Scores | O22: Equipes
I23: M40 | L23: =IF(E15="","",IF(F15="","",IF(E15>F15,D15,G15))) -> Equipe 3A | O23: =IF(E20="","",IF(F20="","",IF(E20>F20,D20,G20))) -> Equipe 2D
