Workbook
Name Tournoi5_Poule1: Equipes!$A$5:$A$9
Name Tournoi5_Poule2: Equipes!$A$11:$A$15

Sheet Equipes
A1: TOURNOI 2 Poules de 5 | C1: TOURNOI 4 Poules de 3
V2: 1
A4: Nom Des Equipes Poule 1 | C4: Nom Des Equipes Poule 1
C8: Nom Des Equipes Poule 2
U9: NE PAS SUPPRIMER
A10: Nom Des Equipes Poule 2
C12: Nom Des Equipes Poule 3
C16: Nom Des Equipes Poule 4

Sheet 2 poules de 5
A1: POULE 1 | S1: CLASSEMENT POULE 1 | AJ1: CLASSEMENT POULE 1
A3: N° Terrain | C3: Heure | E3: Equipes | K3: Bts | L3: Bts | M3: Equipes | S3: Equipes | Y3: R | Z3: Pts | AA3: J | AB3: G | AC3: N | AD3: P | AE3: B + | AF3: B - | AG3: Diff | AI3: R | AJ3: Equipes | AP3: R | AQ3: Pts | AR3: J | AS3: G | AT3: N | AU3: P | AV3: B + | AW3: B - | AX3: Diff | AY3: % | AZ3: % | BA3: V Pts | BB3: V Pts | BC3: N Pts | BD3: N Pts | BE3: D Pts | BF3: D Pts | BG3: Pts | BH3: Pts | BI3: J | BJ3: J | BK3: G | BL3: G | BM3: N | BN3: N | BO3: P | BP3: P | BQ3: B + | BR3: B + | BS3: B - | BT3: B - | BU3: Equipes | BV3: % | BW3: R
E4: =IF(AJ4="","",AJ4) | M4: =IF(AJ8="","",AJ8) | S4: =VLOOKUP(AH4,AI4:AO8,2,0) | Y4: 1 | Z4: =VLOOKUP(S4,AJ4:AX8,8,0) -> 0 | AA4: =VLOOKUP(S4,AJ4:AX8,9,0) -> 0 | AB4: =VLOOKUP(S4,AJ4:AX8,10,0) -> 0 | AC4: =VLOOKUP(S4,AJ4:AX8,11,0) -> 0 | AD4: =VLOOKUP(S4,AJ4:AX8,12,0) -> 0 | AE4: =VLOOKUP(S4,AJ4:AX8,13,0) -> 0 | AF4: =VLOOKUP(S4,AJ4:AX8,14,0) -> 0 | AG4: =VLOOKUP(S4,AJ4:AX8,15,0) -> 0 | AH4: 1 | AI4: =AP4 -> 1 | AJ4: =IF(Equipes!A5="","",Equipes!A5) | AP4: =RANK(AZ4,AZ4:AZ8) -> 1 | AQ4: =SUMPRODUCT((E4:J13=AJ4)*(BG4:BG13))+SUMPRODUCT((M4:R13=AJ4)*(BH4:BH13)) -> 0 | AR4: =SUMPRODUCT((E4:J13=AJ4)*(BI4:BI13))+SUMPRODUCT((M4:R13=AJ4)*(BJ4:BJ13)) -> 0 | AS4: =SUMPRODUCT((E4:J13=AJ4)*(BK4:BK13))+SUMPRODUCT((M4:R13=AJ4)*(BL4:BL13)) -> 0 | AT4: =SUMPRODUCT((E4:J13=AJ4)*(BM4:BM13))+SUMPRODUCT((M4:R13=AJ4)*(BN4:BN13)) -> 0 | AU4: =SUMPRODUCT((E4:J13=AJ4)*(BO4:BO13))+SUMPRODUCT((M4:R13=AJ4)*(BP4:BP13)) -> 0 | AV4: =SUMPRODUCT((E4:J13=AJ4)*(BQ4:BQ13))+SUMPRODUCT((M4:R13=AJ4)*(BR4:BR13)) -> 0 | AW4: =SUMPRODUCT((E4:J13=AJ4)*(BS4:BS13))+SUMPRODUCT((M4:R13=AJ4)*(BT4:BT13)) -> 0 | AX4: =AV4-AW4 -> 0 | AY4: =SUM(AQ4*1000+(AX4)/100+(AV4)/1000) -> 0 | AZ4: =AY4+0.000005 -> 5e-06 | BA4: =IF(K4="",0,IF(K4=L4,0,IF(K4<L4,0,IF(Equipes!$V$2=1,IF('2 poules de 5'!K4>L4,3),IF(Equipes!$V$2=2,IF('2 poules de 5'!K4>L4,4)))))) -> 0 | BB4: =IF(L4="",0,IF(L4=K4,0,IF(L4<K4,0,IF(Equipes!$V$2=1,IF('2 poules de 5'!L4>'2 poules de 5'!K4,3),IF(Equipes!$V$2=2,IF('2 poules de 5'!L4>K4,4)))))) -> 0 | BC4: =IF(K4="",0,IF(K4>L4,0,IF(K4<L4,0,IF(Equipes!$V$2=1,IF('2 poules de 5'!K4='2 poules de 5'!L4,1),IF(Equipes!$V$2=2,IF('2 poules de 5'!K4=L4,2)))))) -> 0 | BD4: =IF(L4="",0,IF(L4>K4,0,IF(L4<K4,0,IF(Equipes!$V$2=1,IF('2 poules de 5'!L4='2 poules de 5'!K4,1),IF(Equipes!$V$2=2,IF('2 poules de 5'!L4='2 poules de 5'!K4,2)))))) -> 0 | BE4: =IF(K4="",0,IF(K4>L4,0,IF(K4=L4,0,IF(Equipes!$V$2=1,IF('2 poules de 5'!K4<'2 poules de 5'!L4,0),IF(Equipes!$V$2=2,IF('2 poules de 5'!K4<'2 poules de 5'!L4,1)))))) -> 0 | BF4: =IF(L4="",0,IF(L4>K4,0,IF(L4=K4,0,IF(Equipes!$V$2=1,IF('2 poules de 5'!L4<'2 poules de 5'!K4,0),IF(Equipes!$V$2=2,IF('2 poules de 5'!L4<'2 poules de 5'!K4,1)))))) -> 0 | BG4: =SUM(BA4,BC4,BE4) -> 0 | BH4: =SUM(BB4,BD4,BF4) -> 0 | BI4: =IF(K4="",0,1) -> 0 | BJ4: =IF(L4="",0,1) -> 0 | BK4: =IF(K4<>"",IF(K4>L4,1)) -> FALSE | BL4: =IF(L4<>"",IF(L4>K4,1)) -> FALSE | BM4: =IF(K4<>"",IF(K4=L4,1)) -> FALSE | BN4: =IF(L4<>"",IF(L4=K4,1)) -> FALSE | BO4: =IF(K4<>"",IF(K4<L4,1)) -> FALSE | BP4: =IF(L4<>"",IF(L4<K4,1)) -> FALSE | BQ4: =K4 -> 0 | BR4: =L4 -> 0 | BS4: =L4 -> 0 | BT4: =K4 -> 0 | BU4: =VLOOKUP(AH4,AI4:AO8,2,0) | BV4: =VLOOKUP(BU4,AJ4:AY8,16,0) -> 0 | BW4: =RANK(BV4,BV4:BV8) -> 1
E5: =IF(AJ5="","",AJ5) | M5: =IF(AJ7="","",AJ7) | S5: =VLOOKUP(AH5,AI4:AO8,2,0) | Y5: =IF(BV5=BV4,BW4,BW5) -> 1 | Z5: =VLOOKUP(S5,AJ4:AX8,8,0) -> 0 | AA5: =VLOOKUP(S5,AJ4:AX8,9,0) -> 0 | AB5: =VLOOKUP(S5,AJ4:AX8,10,0) -> 0 | AC5: =VLOOKUP(S5,AJ4:AX8,11,0) -> 0 | AD5: =VLOOKUP(S5,AJ4:AX8,12,0) -> 0 | AE5: =VLOOKUP(S5,AJ4:AX8,13,0) -> 0 | AF5: =VLOOKUP(S5,AJ4:AX8,14,0) -> 0 | AG5: =VLOOKUP(S5,AJ4:AX8,15,0) -> 0 | AH5: 2 | AI5: =AP5 -> 2 | AJ5: =IF(Equipes!A6="","",Equipes!A6) | AP5: =RANK(AZ5,AZ4:AZ8) -> 2 | AQ5: =SUMPRODUCT((E4:J13=AJ5)*(BG4:BG13))+SUMPRODUCT((M4:R13=AJ5)*(BH4:BH13)) -> 0 | AR5: =SUMPRODUCT((E4:J13=AJ5)*(BI4:BI13))+SUMPRODUCT((M4:R13=AJ5)*(BJ4:BJ13)) -> 0 | AS5: =SUMPRODUCT((E4:J13=AJ5)*(BK4:BK13))+SUMPRODUCT((M4:R13=AJ5)*(BL4:BL13)) -> 0 | AT5: =SUMPRODUCT((E4:J13=AJ5)*(BM4:BM13))+SUMPRODUCT((M4:R13=AJ5)*(BN4:BN13)) -> 0 | AU5: =SUMPRODUCT((E4:J13=AJ5)*(BO4:BO13))+SUMPRODUCT((M4:R13=AJ5)*(BP4:BP13)) -> 0 | AV5: =SUMPRODUCT((E4:J13=AJ5)*(BQ4:BQ13))+SUMPRODUCT((M4:R13=AJ5)*(BR4:BR13)) -> 0 | AW5: =SUMPRODUCT((E4:J13=AJ5)*(BS4:BS13))+SUMPRODUCT((M4:R13=AJ5)*(BT4:BT13)) -> 0 | AX5: =AV5-AW5 -> 0 | AY5: =SUM(AQ5*1000+(AX5)/100+(AV5)/1000) -> 0 | AZ5: =AY5+0.000004 -> 4e-06 | BA5: =IF(K5="",0,IF(K5=L5,0,IF(K5<L5,0,IF(Equipes!$V$2=1,IF('2 poules de 5'!K5>L5,3),IF(Equipes!$V$2=2,IF('2 poules de 5'!K5>L5,4)))))) -> 0 | BB5: =IF(L5="",0,IF(L5=K5,0,IF(L5<K5,0,IF(Equipes!$V$2=1,IF('2 poules de 5'!L5>'2 poules de 5'!K5,3),IF(Equipes!$V$2=2,IF('2 poules de 5'!L5>K5,4)))))) -> 0 | BC5: =IF(K5="",0,IF(K5>L5,0,IF(K5<L5,0,IF(Equipes!$V$2=1,IF('2 poules de 5'!K5='2 poules de 5'!L5,1),IF(Equipes!$V$2=2,IF('2 poules de 5'!K5=L5,2)))))) -> 0 | BD5: =IF(L5="",0,IF(L5>K5,0,IF(L5<K5,0,IF(Equipes!$V$2=1,IF('2 poules de 5'!L5='2 poules de 5'!K5,1),IF(Equipes!$V$2=2,IF('2 poules de 5'!L5='2 poules de 5'!K5,2)))))) -> 0 | BE5: =IF(K5="",0,IF(K5>L5,0,IF(K5=L5,0,IF(Equipes!$V$2=1,IF('2 poules de 5'!K5<'2 poules de 5'!L5,0),IF(Equipes!$V$2=2,IF('2 poules de 5'!K5<'2 poules de 5'!L5,1)))))) -> 0 | BF5: =IF(L5="",0,IF(L5>K5,0,IF(L5=K5,0,IF(Equipes!$V$2=1,IF('2 poules de 5'!L5<'2 poules de 5'!K5,0),IF(Equipes!$V$2=2,IF('2 poules de 5'!L5<'2 poules de 5'!K5,1)))))) -> 0 | BG5: =SUM(BA5,BC5,BE5) -> 0 | BH5: =SUM(BB5,BD5,BF5) -> 0 | BI5: =IF(K5="",0,1) -> 0 | BJ5: =IF(L5="",0,1) -> 0 | BK5: =IF(K5<>"",IF(K5>L5,1)) -> FALSE | BL5: =IF(L5<>"",IF(L5>K5,1)) -> FALSE | BM5: =IF(K5<>"",IF(K5=L5,1)) -> FALSE | BN5: =IF(L5<>"",IF(L5=K5,1)) -> FALSE | BO5: =IF(K5<>"",IF(K5<L5,1)) -> FALSE | BP5: =IF(L5<>"",IF(L5<K5,1)) -> FALSE | BQ5: =K5 -> 0 | BR5: =L5 -> 0 | BS5: =L5 -> 0 | BT5: =K5 -> 0 | BU5: =VLOOKUP(AH5,AI4:AO8,2,0) | BV5: =VLOOKUP(BU5,AJ4:AY8,16,0) -> 0 | BW5: =RANK(BV5,BV4:BV8) -> 1
E6: =IF(AJ6="","",AJ6) | M6: =IF(AJ8="","",AJ8) | S6: =VLOOKUP(AH6,AI4:AO8,2,0) | Y6: =IF(BV6=BV5,BW5,BW6) -> 1 | Z6: =VLOOKUP(S6,AJ4:AX8,8,0) -> 0 | AA6: =VLOOKUP(S6,AJ4:AX8,9,0) -> 0 | AB6: =VLOOKUP(S6,AJ4:AX8,10,0) -> 0 | AC6: =VLOOKUP(S6,AJ4:AX8,11,0) -> 0 | AD6: =VLOOKUP(S6,AJ4:AX8,12,0) -> 0 | AE6: =VLOOKUP(S6,AJ4:AX8,13,0) -> 0 | AF6: =VLOOKUP(S6,AJ4:AX8,14,0) -> 0 | AG6: =VLOOKUP(S6,AJ4:AX8,15,0) -> 0 | AH6: 3 | AI6: =AP6 -> 3 | AJ6: =IF(Equipes!A7="","",Equipes!A7) | AP6: =RANK(AZ6,AZ4:AZ8) -> 3 | AQ6: =SUMPRODUCT((E4:J13=AJ6)*(BG4:BG13))+SUMPRODUCT((M4:R13=AJ6)*(BH4:BH13)) -> 0 | AR6: =SUMPRODUCT((E4:J13=AJ6)*(BI4:BI13))+SUMPRODUCT((M4:R13=AJ6)*(BJ4:BJ13)) -> 0 | AS6: =SUMPRODUCT((E4:J13=AJ6)*(BK4:BK13))+SUMPRODUCT((M4:R13=AJ6)*(BL4:BL13)) -> 0 | AT6: =SUMPRODUCT((E4:J13=AJ6)*(BM4:BM13))+SUMPRODUCT((M4:R13=AJ6)*(BN4:BN13)) -> 0 | AU6: =SUMPRODUCT((E4:J13=AJ6)*(BO4:BO13))+SUMPRODUCT((M4:R13=AJ6)*(BP4:BP13)) -> 0 | AV6: =SUMPRODUCT((E4:J13=AJ6)*(BQ4:BQ13))+SUMPRODUCT((M4:R13=AJ6)*(BR4:BR13)) -> 0 | AW6: =SUMPRODUCT((E4:J13=AJ6)*(BS4:BS13))+SUMPRODUCT((M4:R13=AJ6)*(BT4:BT13)) -> 0 | AX6: =AV6-AW6 -> 0 | AY6: =SUM(AQ6*1000+(AX6)/100+(AV6)/1000) -> 0 | AZ6: =AY6+0.000003 -> 3e-06 | BA6: =IF(K6="",0,IF(K6=L6,0,IF(K6<L6,0,IF(Equipes!$V$2=1,IF('2 poules de 5'!K6>L6,3),IF(Equipes!$V$2=2,IF('2 poules de 5'!K6>L6,4)))))) -> 0 | BB6: =IF(L6="",0,IF(L6=K6,0,IF(L6<K6,0,IF(Equipes!$V$2=1,IF('2 poules de 5'!L6>'2 poules de 5'!K6,3),IF(Equipes!$V$2=2,IF('2 poules de 5'!L6>K6,4)))))) -> 0 | BC6: =IF(K6="",0,IF(K6>L6,0,IF(K6<L6,0,IF(Equipes!$V$2=1,IF('2 poules de 5'!K6='2 poules de 5'!L6,1),IF(Equipes!$V$2=2,IF('2 poules de 5'!K6=L6,2)))))) -> 0 | BD6: =IF(L6="",0,IF(L6>K6,0,IF(L6<K6,0,IF(Equipes!$V$2=1,IF('2 poules de 5'!L6='2 poules de 5'!K6,1),IF(Equipes!$V$2=2,IF('2 poules de 5'!L6='2 poules de 5'!K6,2)))))) -> 0 | BE6: =IF(K6="",0,IF(K6>L6,0,IF(K6=L6,0,IF(Equipes!$V$2=1,IF('2 poules de 5'!K6<'2 poules de 5'!L6,0),IF(Equipes!$V$2=2,IF('2 poules de 5'!K6<'2 poules de 5'!L6,1)))))) -> 0 | BF6: =IF(L6="",0,IF(L6>K6,0,IF(L6=K6,0,IF(Equipes!$V$2=1,IF('2 poules de 5'!L6<'2 poules de 5'!K6,0),IF(Equipes!$V$2=2,IF('2 poules de 5'!L6<'2 poules de 5'!K6,1)))))) -> 0 | BG6: =SUM(BA6,BC6,BE6) -> 0 | BH6: =SUM(BB6,BD6,BF6) -> 0 | BI6: =IF(K6="",0,1) -> 0 | BJ6: =IF(L6="",0,1) -> 0 | BK6: =IF(K6<>"",IF(K6>L6,1)) -> FALSE | BL6: =IF(L6<>"",IF(L6>K6,1)) -> FALSE | BM6: =IF(K6<>"",IF(K6=L6,1)) -> FALSE | BN6: =IF(L6<>"",IF(L6=K6,1)) -> FALSE | BO6: =IF(K6<>"",IF(K6<L6,1)) -> FALSE | BP6: =IF(L6<>"",IF(L6<K6,1)) -> FALSE | BQ6: =K6 -> 0 | BR6: =L6 -> 0 | BS6: =L6 -> 0 | BT6: =K6 -> 0 | BU6: =VLOOKUP(AH6,AI4:AO8,2,0) | BV6: =VLOOKUP(BU6,AJ4:AY8,16,0) -> 0 | BW6: =RANK(BV6,BV4:BV8) -> 1
E7: =IF(AJ4="","",AJ4) | M7: =IF(AJ7="","",AJ7) | S7: =VLOOKUP(AH7,AI4:AO8,2,0) | Y7: =IF(BV7=BV6,BW6,BW7) -> 1 | Z7: =VLOOKUP(S7,AJ4:AX8,8,0) -> 0 | AA7: =VLOOKUP(S7,AJ4:AX8,9,0) -> 0 | AB7: =VLOOKUP(S7,AJ4:AX8,10,0) -> 0 | AC7: =VLOOKUP(S7,AJ4:AX8,11,0) -> 0 | AD7: =VLOOKUP(S7,AJ4:AX8,12,0) -> 0 | AE7: =VLOOKUP(S7,AJ4:AX8,13,0) -> 0 | AF7: =VLOOKUP(S7,AJ4:AX8,14,0) -> 0 | AG7: =VLOOKUP(S7,AJ4:AX8,15,0) -> 0 | AH7: 4 | AI7: =AP7 -> 4 | AJ7: =IF(Equipes!A8="","",Equipes!A8) | AP7: =RANK(AZ7,AZ4:AZ8) -> 4 | AQ7: =SUMPRODUCT((E4:J13=AJ7)*(BG4:BG13))+SUMPRODUCT((M4:R13=AJ7)*(BH4:BH13)) -> 0 | AR7: =SUMPRODUCT((E4:J13=AJ7)*(BI4:BI13))+SUMPRODUCT((M4:R13=AJ7)*(BJ4:BJ13)) -> 0 | AS7: =SUMPRODUCT((E4:J13=AJ7)*(BK4:BK13))+SUMPRODUCT((M4:R13=AJ7)*(BL4:BL13)) -> 0 | AT7: =SUMPRODUCT((E4:J13=AJ7)*(BM4:BM13))+SUMPRODUCT((M4:R13=AJ7)*(BN4:BN13)) -> 0 | AU7: =SUMPRODUCT((E4:J13=AJ7)*(BO4:BO13))+SUMPRODUCT((M4:R13=AJ7)*(BP4:BP13)) -> 0 | AV7: =SUMPRODUCT((E4:J13=AJ7)*(BQ4:BQ13))+SUMPRODUCT((M4:R13=AJ7)*(BR4:BR13)) -> 0 | AW7: =SUMPRODUCT((E4:J13=AJ7)*(BS4:BS13))+SUMPRODUCT((M4:R13=AJ7)*(BT4:BT13)) -> 0 | AX7: =AV7-AW7 -> 0 | AY7: =SUM(AQ7*1000+(AX7)/100+(AV7)/1000) -> 0 | AZ7: =AY7+0.000002 -> 2e-06 | BA7: =IF(K7="",0,IF(K7=L7,0,IF(K7<L7,0,IF(Equipes!$V$2=1,IF('2 poules de 5'!K7>L7,3),IF(Equipes!$V$2=2,IF('2 poules de 5'!K7>L7,4)))))) -> 0 | BB7: =IF(L7="",0,IF(L7=K7,0,IF(L7<K7,0,IF(Equipes!$V$2=1,IF('2 poules de 5'!L7>'2 poules de 5'!K7,3),IF(Equipes!$V$2=2,IF('2 poules de 5'!L7>K7,4)))))) -> 0 | BC7: =IF(K7="",0,IF(K7>L7,0,IF(K7<L7,0,IF(Equipes!$V$2=1,IF('2 poules de 5'!K7='2 poules de 5'!L7,1),IF(Equipes!$V$2=2,IF('2 poules de 5'!K7=L7,2)))))) -> 0 | BD7: =IF(L7="",0,IF(L7>K7,0,IF(L7<K7,0,IF(Equipes!$V$2=1,IF('2 poules de 5'!L7='2 poules de 5'!K7,1),IF(Equipes!$V$2=2,IF('2 poules de 5'!L7='2 poules de 5'!K7,2)))))) -> 0 | BE7: =IF(K7="",0,IF(K7>L7,0,IF(K7=L7,0,IF(Equipes!$V$2=1,IF('2 poules de 5'!K7<'2 poules de 5'!L7,0),IF(Equipes!$V$2=2,IF('2 poules de 5'!K7<'2 poules de 5'!L7,1)))))) -> 0 | BF7: =IF(L7="",0,IF(L7>K7,0,IF(L7=K7,0,IF(Equipes!$V$2=1,IF('2 poules de 5'!L7<'2 poules de 5'!K7,0),IF(Equipes!$V$2=2,IF('2 poules de 5'!L7<'2 poules de 5'!K7,1)))))) -> 0 | BG7: =SUM(BA7,BC7,BE7) -> 0 | BH7: =SUM(BB7,BD7,BF7) -> 0 | BI7: =IF(K7="",0,1) -> 0 | BJ7: =IF(L7="",0,1) -> 0 | BK7: =IF(K7<>"",IF(K7>L7,1)) -> FALSE | BL7: =IF(L7<>"",IF(L7>K7,1)) -> FALSE | BM7: =IF(K7<>"",IF(K7=L7,1)) -> FALSE | BN7: =IF(L7<>"",IF(L7=K7,1)) -> FALSE | BO7: =IF(K7<>"",IF(K7<L7,1)) -> FALSE | BP7: =IF(L7<>"",IF(L7<K7,1)) -> FALSE | BQ7: =K7 -> 0 | BR7: =L7 -> 0 | BS7: =L7 -> 0 | BT7: =K7 -> 0 | BU7: =VLOOKUP(AH7,AI4:AO8,2,0) | BV7: =VLOOKUP(BU7,AJ4:AY8,16,0) -> 0 | BW7: =RANK(BV7,BV4:BV8) -> 1
E8: =IF(AJ5="","",AJ5) | M8: =IF(AJ6="","",AJ6) | S8: =VLOOKUP(AH8,AI4:AO8,2,0) | Y8: =IF(BV8=BV7,BW7,BW8) -> 1 | Z8: =VLOOKUP(S8,AJ4:AX8,8,0) -> 0 | AA8: =VLOOKUP(S8,AJ4:AX8,9,0) -> 0 | AB8: =VLOOKUP(S8,AJ4:AX8,10,0) -> 0 | AC8: =VLOOKUP(S8,AJ4:AX8,11,0) -> 0 | AD8: =VLOOKUP(S8,AJ4:AX8,12,0) -> 0 | AE8: =VLOOKUP(S8,AJ4:AX8,13,0) -> 0 | AF8: =VLOOKUP(S8,AJ4:AX8,14,0) -> 0 | AG8: =VLOOKUP(S8,AJ4:AX8,15,0) -> 0 | AH8: 5 | AI8: =AP8 -> 5 | AJ8: =IF(Equipes!A9="","",Equipes!A9) | AP8: =RANK(AZ8,AZ4:AZ8) -> 5 | AQ8: =SUMPRODUCT((E4:J13=AJ8)*(BG4:BG13))+SUMPRODUCT((M4:R13=AJ8)*(BH4:BH13)) -> 0 | AR8: =SUMPRODUCT((E4:J13=AJ8)*(BI4:BI13))+SUMPRODUCT((M4:R13=AJ8)*(BJ4:BJ13)) -> 0 | AS8: =SUMPRODUCT((E4:J13=AJ8)*(BK4:BK13))+SUMPRODUCT((M4:R13=AJ8)*(BL4:BL13)) -> 0 | AT8: =SUMPRODUCT((E4:J13=AJ8)*(BM4:BM13))+SUMPRODUCT((M4:R13=AJ8)*(BN4:BN13)) -> 0 | AU8: =SUMPRODUCT((E4:J13=AJ8)*(BO4:BO13))+SUMPRODUCT((M4:R13=AJ8)*(BP4:BP13)) -> 0 | AV8: =SUMPRODUCT((E4:J13=AJ8)*(BQ4:BQ13))+SUMPRODUCT((M4:R13=AJ8)*(BR4:BR13)) -> 0 | AW8: =SUMPRODUCT((E4:J13=AJ8)*(BS4:BS13))+SUMPRODUCT((M4:R13=AJ8)*(BT4:BT13)) -> 0 | AX8: =AV8-AW8 -> 0 | AY8: =SUM(AQ8*1000+(AX8)/100+(AV8)/1000) -> 0 | AZ8: =AY8+0.000001 -> 1e-06 | BA8: =IF(K8="",0,IF(K8=L8,0,IF(K8<L8,0,IF(Equipes!$V$2=1,IF('2 poules de 5'!K8>L8,3),IF(Equipes!$V$2=2,IF('2 poules de 5'!K8>L8,4)))))) -> 0 | BB8: =IF(L8="",0,IF(L8=K8,0,IF(L8<K8,0,IF(Equipes!$V$2=1,IF('2 poules de 5'!L8>'2 poules de 5'!K8,3),IF(Equipes!$V$2=2,IF('2 poules de 5'!L8>K8,4)))))) -> 0 | BC8: =IF(K8="",0,IF(K8>L8,0,IF(K8<L8,0,IF(Equipes!$V$2=1,IF('2 poules de 5'!K8='2 poules de 5'!L8,1),IF(Equipes!$V$2=2,IF('2 poules de 5'!K8=L8,2)))))) -> 0 | BD8: =IF(L8="",0,IF(L8>K8,0,IF(L8<K8,0,IF(Equipes!$V$2=1,IF('2 poules de 5'!L8='2 poules de 5'!K8,1),IF(Equipes!$V$2=2,IF('2 poules de 5'!L8='2 poules de 5'!K8,2)))))) -> 0 | BE8: =IF(K8="",0,IF(K8>L8,0,IF(K8=L8,0,IF(Equipes!$V$2=1,IF('2 poules de 5'!K8<'2 poules de 5'!L8,0),IF(Equipes!$V$2=2,IF('2 poules de 5'!K8<'2 poules de 5'!L8,1)))))) -> 0 | BF8: =IF(L8="",0,IF(L8>K8,0,IF(L8=K8,0,IF(Equipes!$V$2=1,IF('2 poules de 5'!L8<'2 poules de 5'!K8,0),IF(Equipes!$V$2=2,IF('2 poules de 5'!L8<'2 poules de 5'!K8,1)))))) -> 0 | BG8: =SUM(BA8,BC8,BE8) -> 0 | BH8: =SUM(BB8,BD8,BF8) -> 0 | BI8: =IF(K8="",0,1) -> 0 | BJ8: =IF(L8="",0,1) -> 0 | BK8: =IF(K8<>"",IF(K8>L8,1)) -> FALSE | BL8: =IF(L8<>"",IF(L8>K8,1)) -> FALSE | BM8: =IF(K8<>"",IF(K8=L8,1)) -> FALSE | BN8: =IF(L8<>"",IF(L8=K8,1)) -> FALSE | BO8: =IF(K8<>"",IF(K8<L8,1)) -> FALSE | BP8: =IF(L8<>"",IF(L8<K8,1)) -> FALSE | BQ8: =K8 -> 0 | BR8: =L8 -> 0 | BS8: =L8 -> 0 | BT8: =K8 -> 0 | BU8: =VLOOKUP(AH8,AI4:AO8,2,0) | BV8: =VLOOKUP(BU8,AJ4:AY8,16,0) -> 0 | BW8: =RANK(BV8,BV4:BV8) -> 1
E9: =IF(AJ7="","",AJ7) | M9: =IF(AJ8="","",AJ8) | BA9: =IF(K9="",0,IF(K9=L9,0,IF(K9<L9,0,IF(Equipes!$V$2=1,IF('2 poules de 5'!K9>L9,3),IF(Equipes!$V$2=2,IF('2 poules de 5'!K9>L9,4)))))) -> 0 | BB9: =IF(L9="",0,IF(L9=K9,0,IF(L9<K9,0,IF(Equipes!$V$2=1,IF('2 poules de 5'!L9>'2 poules de 5'!K9,3),IF(Equipes!$V$2=2,IF('2 poules de 5'!L9>K9,4)))))) -> 0 | BC9: =IF(K9="",0,IF(K9>L9,0,IF(K9<L9,0,IF(Equipes!$V$2=1,IF('2 poules de 5'!K9='2 poules de 5'!L9,1),IF(Equipes!$V$2=2,IF('2 poules de 5'!K9=L9,2)))))) -> 0 | BD9: =IF(L9="",0,IF(L9>K9,0,IF(L9<K9,0,IF(Equipes!$V$2=1,IF('2 poules de 5'!L9='2 poules de 5'!K9,1),IF(Equipes!$V$2=2,IF('2 poules de 5'!L9='2 poules de 5'!K9,2)))))) -> 0 | BE9: =IF(K9="",0,IF(K9>L9,0,IF(K9=L9,0,IF(Equipes!$V$2=1,IF('2 poules de 5'!K9<'2 poules de 5'!L9,0),IF(Equipes!$V$2=2,IF('2 poules de 5'!K9<'2 poules de 5'!L9,1)))))) -> 0 | BF9: =IF(L9="",0,IF(L9>K9,0,IF(L9=K9,0,IF(Equipes!$V$2=1,IF('2 poules de 5'!L9<'2 poules de 5'!K9,0),IF(Equipes!$V$2=2,IF('2 poules de 5'!L9<'2 poules de 5'!K9,1)))))) -> 0 | BG9: =SUM(BA9,BC9,BE9) -> 0 | BH9: =SUM(BB9,BD9,BF9) -> 0 | BI9: =IF(K9="",0,1) -> 0 | BJ9: =IF(L9="",0,1) -> 0 | BK9: =IF(K9<>"",IF(K9>L9,1)) -> FALSE | BL9: =IF(L9<>"",IF(L9>K9,1)) -> FALSE | BM9: =IF(K9<>"",IF(K9=L9,1)) -> FALSE | BN9: =IF(L9<>"",IF(L9=K9,1)) -> FALSE | BO9: =IF(K9<>"",IF(K9<L9,1)) -> FALSE | BP9: =IF(L9<>"",IF(L9<K9,1)) -> FALSE | BQ9: =K9 -> 0 | BR9: =L9 -> 0 | BS9: =L9 -> 0 | BT9: =K9 -> 0
E10: =IF(AJ4="","",AJ4) | M10: =IF(AJ6="","",AJ6) | BA10: =IF(K10="",0,IF(K10=L10,0,IF(K10<L10,0,IF(Equipes!$V$2=1,IF('2 poules de 5'!K10>L10,3),IF(Equipes!$V$2=2,IF('2 poules de 5'!K10>L10,4)))))) -> 0 | BB10: =IF(L10="",0,IF(L10=K10,0,IF(L10<K10,0,IF(Equipes!$V$2=1,IF('2 poules de 5'!L10>'2 poules de 5'!K10,3),IF(Equipes!$V$2=2,IF('2 poules de 5'!L10>K10,4)))))) -> 0 | BC10: =IF(K10="",0,IF(K10>L10,0,IF(K10<L10,0,IF(Equipes!$V$2=1,IF('2 poules de 5'!K10='2 poules de 5'!L10,1),IF(Equipes!$V$2=2,IF('2 poules de 5'!K10=L10,2)))))) -> 0 | BD10: =IF(L10="",0,IF(L10>K10,0,IF(L10<K10,0,IF(Equipes!$V$2=1,IF('2 poules de 5'!L10='2 poules de 5'!K10,1),IF(Equipes!$V$2=2,IF('2 poules de 5'!L10='2 poules de 5'!K10,2)))))) -> 0 | BE10: =IF(K10="",0,IF(K10>L10,0,IF(K10=L10,0,IF(Equipes!$V$2=1,IF('2 poules de 5'!K10<'2 poules de 5'!L10,0),IF(Equipes!$V$2=2,IF('2 poules de 5'!K10<'2 poules de 5'!L10,1)))))) -> 0 | BF10: =IF(L10="",0,IF(L10>K10,0,IF(L10=K10,0,IF(Equipes!$V$2=1,IF('2 poules de 5'!L10<'2 poules de 5'!K10,0),IF(Equipes!$V$2=2,IF('2 poules de 5'!L10<'2 poules de 5'!K10,1)))))) -> 0 | BG10: =SUM(BA10,BC10,BE10) -> 0 | BH10: =SUM(BB10,BD10,BF10) -> 0 | BI10: =IF(K10="",0,1) -> 0 | BJ10: =IF(L10="",0,1) -> 0 | BK10: =IF(K10<>"",IF(K10>L10,1)) -> FALSE | BL10: =IF(L10<>"",IF(L10>K10,1)) -> FALSE | BM10: =IF(K10<>"",IF(K10=L10,1)) -> FALSE | BN10: =IF(L10<>"",IF(L10=K10,1)) -> FALSE | BO10: =IF(K10<>"",IF(K10<L10,1)) -> FALSE | BP10: =IF(L10<>"",IF(L10<K10,1)) -> FALSE | BQ10: =K10 -> 0 | BR10: =L10 -> 0 | BS10: =L10 -> 0 | BT10: =K10 -> 0
E11: =IF(AJ5="","",AJ5) | M11: =IF(AJ8="","",AJ8) | BA11: =IF(K11="",0,IF(K11=L11,0,IF(K11<L11,0,IF(Equipes!$V$2=1,IF('2 poules de 5'!K11>L11,3),IF(Equipes!$V$2=2,IF('2 poules de 5'!K11>L11,4)))))) -> 0 | BB11: =IF(L11="",0,IF(L11=K11,0,IF(L11<K11,0,IF(Equipes!$V$2=1,IF('2 poules de 5'!L11>'2 poules de 5'!K11,3),IF(Equipes!$V$2=2,IF('2 poules de 5'!L11>K11,4)))))) -> 0 | BC11: =IF(K11="",0,IF(K11>L11,0,IF(K11<L11,0,IF(Equipes!$V$2=1,IF('2 poules de 5'!K11='2 poules de 5'!L11,1),IF(Equipes!$V$2=2,IF('2 poules de 5'!K11=L11,2)))))) -> 0 | BD11: =IF(L11="",0,IF(L11>K11,0,IF(L11<K11,0,IF(Equipes!$V$2=1,IF('2 poules de 5'!L11='2 poules de 5'!K11,1),IF(Equipes!$V$2=2,IF('2 poules de 5'!L11='2 poules de 5'!K11,2)))))) -> 0 | BE11: =IF(K11="",0,IF(K11>L11,0,IF(K11=L11,0,IF(Equipes!$V$2=1,IF('2 poules de 5'!K11<'2 poules de 5'!L11,0),IF(Equipes!$V$2=2,IF('2 poules de 5'!K11<'2 poules de 5'!L11,1)))))) -> 0 | BF11: =IF(L11="",0,IF(L11>K11,0,IF(L11=K11,0,IF(Equipes!$V$2=1,IF('2 poules de 5'!L11<'2 poules de 5'!K11,0),IF(Equipes!$V$2=2,IF('2 poules de 5'!L11<'2 poules de 5'!K11,1)))))) -> 0 | BG11: =SUM(BA11,BC11,BE11) -> 0 | BH11: =SUM(BB11,BD11,BF11) -> 0 | BI11: =IF(K11="",0,1) -> 0 | BJ11: =IF(L11="",0,1) -> 0 | BK11: =IF(K11<>"",IF(K11>L11,1)) -> FALSE | BL11: =IF(L11<>"",IF(L11>K11,1)) -> FALSE | BM11: =IF(K11<>"",IF(K11=L11,1)) -> FALSE | BN11: =IF(L11<>"",IF(L11=K11,1)) -> FALSE | BO11: =IF(K11<>"",IF(K11<L11,1)) -> FALSE | BP11: =IF(L11<>"",IF(L11<K11,1)) -> FALSE | BQ11: =K11 -> 0 | BR11: =L11 -> 0 | BS11: =L11 -> 0 | BT11: =K11 -> 0
E12: =IF(AJ6="","",AJ6) | M12: =IF(AJ7="","",AJ7) | BA12: =IF(K12="",0,IF(K12=L12,0,IF(K12<L12,0,IF(Equipes!$V$2=1,IF('2 poules de 5'!K12>L12,3),IF(Equipes!$V$2=2,IF('2 poules de 5'!K12>L12,4)))))) -> 0 | BB12: =IF(L12="",0,IF(L12=K12,0,IF(L12<K12,0,IF(Equipes!$V$2=1,IF('2 poules de 5'!L12>'2 poules de 5'!K12,3),IF(Equipes!$V$2=2,IF('2 poules de 5'!L12>K12,4)))))) -> 0 | BC12: =IF(K12="",0,IF(K12>L12,0,IF(K12<L12,0,IF(Equipes!$V$2=1,IF('2 poules de 5'!K12='2 poules de 5'!L12,1),IF(Equipes!$V$2=2,IF('2 poules de 5'!K12=L12,2)))))) -> 0 | BD12: =IF(L12="",0,IF(L12>K12,0,IF(L12<K12,0,IF(Equipes!$V$2=1,IF('2 poules de 5'!L12='2 poules de 5'!K12,1),IF(Equipes!$V$2=2,IF('2 poules de 5'!L12='2 poules de 5'!K12,2)))))) -> 0 | BE12: =IF(K12="",0,IF(K12>L12,0,IF(K12=L12,0,IF(Equipes!$V$2=1,IF('2 poules de 5'!K12<'2 poules de 5'!L12,0),IF(Equipes!$V$2=2,IF('2 poules de 5'!K12<'2 poules de 5'!L12,1)))))) -> 0 | BF12: =IF(L12="",0,IF(L12>K12,0,IF(L12=K12,0,IF(Equipes!$V$2=1,IF('2 poules de 5'!L12<'2 poules de 5'!K12,0),IF(Equipes!$V$2=2,IF('2 poules de 5'!L12<'2 poules de 5'!K12,1)))))) -> 0 | BG12: =SUM(BA12,BC12,BE12) -> 0 | BH12: =SUM(BB12,BD12,BF12) -> 0 | BI12: =IF(K12="",0,1) -> 0 | BJ12: =IF(L12="",0,1) -> 0 | BK12: =IF(K12<>"",IF(K12>L12,1)) -> FALSE | BL12: =IF(L12<>"",IF(L12>K12,1)) -> FALSE | BM12: =IF(K12<>"",IF(K12=L12,1)) -> FALSE | BN12: =IF(L12<>"",IF(L12=K12,1)) -> FALSE | BO12: =IF(K12<>"",IF(K12<L12,1)) -> FALSE | BP12: =IF(L12<>"",IF(L12<K12,1)) -> FALSE | BQ12: =K12 -> 0 | BR12: =L12 -> 0 | BS12: =L12 -> 0 | BT12: =K12 -> 0
E13: =IF(AJ4="","",AJ4) | M13: =IF(AJ5="","",AJ5) | BA13: =IF(K13="",0,IF(K13=L13,0,IF(K13<L13,0,IF(Equipes!$V$2=1,IF('2 poules de 5'!K13>L13,3),IF(Equipes!$V$2=2,IF('2 poules de 5'!K13>L13,4)))))) -> 0 | BB13: =IF(L13="",0,IF(L13=K13,0,IF(L13<K13,0,IF(Equipes!$V$2=1,IF('2 poules de 5'!L13>'2 poules de 5'!K13,3),IF(Equipes!$V$2=2,IF('2 poules de 5'!L13>K13,4)))))) -> 0 | BC13: =IF(K13="",0,IF(K13>L13,0,IF(K13<L13,0,IF(Equipes!$V$2=1,IF('2 poules de 5'!K13='2 poules de 5'!L13,1),IF(Equipes!$V$2=2,IF('2 poules de 5'!K13=L13,2)))))) -> 0 | BD13: =IF(L13="",0,IF(L13>K13,0,IF(L13<K13,0,IF(Equipes!$V$2=1,IF('2 poules de 5'!L13='2 poules de 5'!K13,1),IF(Equipes!$V$2=2,IF('2 poules de 5'!L13='2 poules de 5'!K13,2)))))) -> 0 | BE13: =IF(K13="",0,IF(K13>L13,0,IF(K13=L13,0,IF(Equipes!$V$2=1,IF('2 poules de 5'!K13<'2 poules de 5'!L13,0),IF(Equipes!$V$2=2,IF('2 poules de 5'!K13<'2 poules de 5'!L13,1)))))) -> 0 | BF13: =IF(L13="",0,IF(L13>K13,0,IF(L13=K13,0,IF(Equipes!$V$2=1,IF('2 poules de 5'!L13<'2 poules de 5'!K13,0),IF(Equipes!$V$2=2,IF('2 poules de 5'!L13<'2 poules de 5'!K13,1)))))) -> 0 | BG13: =SUM(BA13,BC13,BE13) -> 0 | BH13: =SUM(BB13,BD13,BF13) -> 0 | BI13: =IF(K13="",0,1) -> 0 | BJ13: =IF(L13="",0,1) -> 0 | BK13: =IF(K13<>"",IF(K13>L13,1)) -> FALSE | BL13: =IF(L13<>"",IF(L13>K13,1)) -> FALSE | BM13: =IF(K13<>"",IF(K13=L13,1)) -> FALSE | BN13: =IF(L13<>"",IF(L13=K13,1)) -> FALSE | BO13: =IF(K13<>"",IF(K13<L13,1)) -> FALSE | BP13: =IF(L13<>"",IF(L13<K13,1)) -> FALSE | BQ13: =K13 -> 0 | BR13: =L13 -> 0 | BS13: =L13 -> 0 | BT13: =K13 -> 0
A14: POULE 2 | S14: CLASSEMENT POULE 2 | AJ14: CLASSEMENT POULE 1
A16: N° Terrain | C16: Heure | E16: Equipes | K16: Bts | L16: Bts | M16: Equipes | S16: Equipes | Y16: R | Z16: Pts | AA16: J | AB16: G | AC16: N | AD16: P | AE16: B + | AF16: B - | AG16: Diff | AI16: R | AJ16: Equipes | AP16: R | AQ16: Pts | AR16: J | AS16: G | AT16: N | AU16: P | AV16: B + | AW16: B - | AX16: Diff | AY16: % | AZ16: % | BA16: V Pts | BB16: V Pts | BC16: N Pts | BD16: N Pts | BE16: D Pts | BF16: D Pts | BG16: Pts | BH16: Pts | BI16: J | BJ16: J | BK16: G | BL16: G | BM16: N | BN16: N | BO16: P | BP16: P | BQ16: B + | BR16: B + | BS16: B - | BT16: B - | BU16: Equipes | BV16: % | BW16: R
E17: =IF(AJ17="","",AJ17) | M17: =IF(AJ21="","",AJ21) | S17: =VLOOKUP(AH17,AI17:AO21,2,0) | Y17: 1 | Z17: =VLOOKUP(S17,AJ17:AX21,8,0) -> 0 | AA17: =VLOOKUP(S17,AJ17:AX21,9,0) -> 0 | AB17: =VLOOKUP(S17,AJ17:AX21,10,0) -> 0 | AC17: =VLOOKUP(S17,AJ17:AX21,11,0) -> 0 | AD17: =VLOOKUP(S17,AJ17:AX21,12,0) -> 0 | AE17: =VLOOKUP(S17,AJ17:AX21,13,0) -> 0 | AF17: =VLOOKUP(S17,AJ17:AX21,14,0) -> 0 | AG17: =VLOOKUP(S17,AJ17:AX21,15,0) -> 0 | AH17: 1 | AI17: =AP17 -> 1 | AJ17: =IF(Equipes!A11="","",Equipes!A11) | AP17: =RANK(AZ17,AZ17:AZ21) -> 1 | AQ17: =SUMPRODUCT((E17:J26=AJ17)*(BG17:BG26))+SUMPRODUCT((M17:R26=AJ17)*(BH17:BH26)) -> 0 | AR17: =SUMPRODUCT((E17:J26=AJ17)*(BI17:BI26))+SUMPRODUCT((M17:R26=AJ17)*(BJ17:BJ26)) -> 0 | AS17: =SUMPRODUCT((E17:J26=AJ17)*(BK17:BK26))+SUMPRODUCT((M17:R26=AJ17)*(BL17:BL26)) -> 0 | AT17: =SUMPRODUCT((E17:J26=AJ17)*(BM17:BM26))+SUMPRODUCT((M17:R26=AJ17)*(BN17:BN26)) -> 0 | AU17: =SUMPRODUCT((E17:J26=AJ17)*(BO17:BO26))+SUMPRODUCT((M17:R26=AJ17)*(BP17:BP26)) -> 0 | AV17: =SUMPRODUCT((E17:J26=AJ17)*(BQ17:BQ26))+SUMPRODUCT((M17:R26=AJ17)*(BR17:BR26)) -> 0 | AW17: =SUMPRODUCT((E17:J26=AJ17)*(BS17:BS26))+SUMPRODUCT((M17:R26=AJ17)*(BT17:BT26)) -> 0 | AX17: =AV17-AW17 -> 0 | AY17: =SUM(AQ17*1000+(AX17)/100+(AV17)/1000) -> 0 | AZ17: =AY17+0.000005 -> 5e-06 | BA17: =IF(K17="",0,IF(K17=L17,0,IF(K17<L17,0,IF(Equipes!$V$2=1,IF('2 poules de 5'!K17>L17,3),IF(Equipes!$V$2=2,IF('2 poules de 5'!K17>L17,4)))))) -> 0 | BB17: =IF(L17="",0,IF(L17=K17,0,IF(L17<K17,0,IF(Equipes!$V$2=1,IF('2 poules de 5'!L17>'2 poules de 5'!K17,3),IF(Equipes!$V$2=2,IF('2 poules de 5'!L17>K17,4)))))) -> 0 | BC17: =IF(K17="",0,IF(K17>L17,0,IF(K17<L17,0,IF(Equipes!$V$2=1,IF('2 poules de 5'!K17='2 poules de 5'!L17,1),IF(Equipes!$V$2=2,IF('2 poules de 5'!K17=L17,2)))))) -> 0 | BD17: =IF(L17="",0,IF(L17>K17,0,IF(L17<K17,0,IF(Equipes!$V$2=1,IF('2 poules de 5'!L17='2 poules de 5'!K17,1),IF(Equipes!$V$2=2,IF('2 poules de 5'!L17='2 poules de 5'!K17,2)))))) -> 0 | BE17: =IF(K17="",0,IF(K17>L17,0,IF(K17=L17,0,IF(Equipes!$V$2=1,IF('2 poules de 5'!K17<'2 poules de 5'!L17,0),IF(Equipes!$V$2=2,IF('2 poules de 5'!K17<'2 poules de 5'!L17,1)))))) -> 0 | BF17: =IF(L17="",0,IF(L17>K17,0,IF(L17=K17,0,IF(Equipes!$V$2=1,IF('2 poules de 5'!L17<'2 poules de 5'!K17,0),IF(Equipes!$V$2=2,IF('2 poules de 5'!L17<'2 poules de 5'!K17,1)))))) -> 0 | BG17: =SUM(BA17,BC17,BE17) -> 0 | BH17: =SUM(BB17,BD17,BF17) -> 0 | BI17: =IF(K17="",0,1) -> 0 | BJ17: =IF(L17="",0,1) -> 0 | BK17: =IF(K17<>"",IF(K17>L17,1)) -> FALSE | BL17: =IF(L17<>"",IF(L17>K17,1)) -> FALSE | BM17: =IF(K17<>"",IF(K17=L17,1)) -> FALSE | BN17: =IF(L17<>"",IF(L17=K17,1)) -> FALSE | BO17: =IF(K17<>"",IF(K17<L17,1)) -> FALSE | BP17: =IF(L17<>"",IF(L17<K17,1)) -> FALSE | BQ17: =K17 -> 0 | BR17: =L17 -> 0 | BS17: =L17 -> 0 | BT17: =K17 -> 0 | BU17: =VLOOKUP(AH17,AI17:AO21,2,0) | BV17: =VLOOKUP(BU17,AJ17:AY21,16,0) -> 0 | BW17: =RANK(BV17,BV17:BV21) -> 1
E18: =IF(AJ18="","",AJ18) | M18: =IF(AJ20="","",AJ20) | S18: =VLOOKUP(AH18,AI17:AO21,2,0) | Y18: =IF(BV18=BV17,BW17,BW18) -> 1 | Z18: =VLOOKUP(S18,AJ17:AX21,8,0) -> 0 | AA18: =VLOOKUP(S18,AJ17:AX21,9,0) -> 0 | AB18: =VLOOKUP(S18,AJ17:AX21,10,0) -> 0 | AC18: =VLOOKUP(S18,AJ17:AX21,11,0) -> 0 | AD18: =VLOOKUP(S18,AJ17:AX21,12,0) -> 0 | AE18: =VLOOKUP(S18,AJ17:AX21,13,0) -> 0 | AF18: =VLOOKUP(S18,AJ17:AX21,14,0) -> 0 | AG18: =VLOOKUP(S18,AJ17:AX21,15,0) -> 0 | AH18: 2 | AI18: =AP18 -> 2 | AJ18: =IF(Equipes!A12="","",Equipes!A12) | AP18: =RANK(AZ18,AZ17:AZ21) -> 2 | AQ18: =SUMPRODUCT((E17:J26=AJ18)*(BG17:BG26))+SUMPRODUCT((M17:R26=AJ18)*(BH17:BH26)) -> 0 | AR18: =SUMPRODUCT((E17:J26=AJ18)*(BI17:BI26))+SUMPRODUCT((M17:R26=AJ18)*(BJ17:BJ26)) -> 0 | AS18: =SUMPRODUCT((E17:J26=AJ18)*(BK17:BK26))+SUMPRODUCT((M17:R26=AJ18)*(BL17:BL26)) -> 0 | AT18: =SUMPRODUCT((E17:J26=AJ18)*(BM17:BM26))+SUMPRODUCT((M17:R26=AJ18)*(BN17:BN26)) -> 0 | AU18: =SUMPRODUCT((E17:J26=AJ18)*(BO17:BO26))+SUMPRODUCT((M17:R26=AJ18)*(BP17:BP26)) -> 0 | AV18: =SUMPRODUCT((E17:J26=AJ18)*(BQ17:BQ26))+SUMPRODUCT((M17:R26=AJ18)*(BR17:BR26)) -> 0 | AW18: =SUMPRODUCT((E17:J26=AJ18)*(BS17:BS26))+SUMPRODUCT((M17:R26=AJ18)*(BT17:BT26)) -> 0 | AX18: =AV18-AW18 -> 0 | AY18: =SUM(AQ18*1000+(AX18)/100+(AV18)/1000) -> 0 | AZ18: =AY18+0.000004 -> 4e-06 | BA18: =IF(K18="",0,IF(K18=L18,0,IF(K18<L18,0,IF(Equipes!$V$2=1,IF('2 poules de 5'!K18>L18,3),IF(Equipes!$V$2=2,IF('2 poules de 5'!K18>L18,4)))))) -> 0 | BB18: =IF(L18="",0,IF(L18=K18,0,IF(L18<K18,0,IF(Equipes!$V$2=1,IF('2 poules de 5'!L18>'2 poules de 5'!K18,3),IF(Equipes!$V$2=2,IF('2 poules de 5'!L18>K18,4)))))) -> 0 | BC18: =IF(K18="",0,IF(K18>L18,0,IF(K18<L18,0,IF(Equipes!$V$2=1,IF('2 poules de 5'!K18='2 poules de 5'!L18,1),IF(Equipes!$V$2=2,IF('2 poules de 5'!K18=L18,2)))))) -> 0 | BD18: =IF(L18="",0,IF(L18>K18,0,IF(L18<K18,0,IF(Equipes!$V$2=1,IF('2 poules de 5'!L18='2 poules de 5'!K18,1),IF(Equipes!$V$2=2,IF('2 poules de 5'!L18='2 poules de 5'!K18,2)))))) -> 0 | BE18: =IF(K18="",0,IF(K18>L18,0,IF(K18=L18,0,IF(Equipes!$V$2=1,IF('2 poules de 5'!K18<'2 poules de 5'!L18,0),IF(Equipes!$V$2=2,IF('2 poules de 5'!K18<'2 poules de 5'!L18,1)))))) -> 0 | BF18: =IF(L18="",0,IF(L18>K18,0,IF(L18=K18,0,IF(Equipes!$V$2=1,IF('2 poules de 5'!L18<'2 poules de 5'!K18,0),IF(Equipes!$V$2=2,IF('2 poules de 5'!L18<'2 poules de 5'!K18,1)))))) -> 0 | BG18: =SUM(BA18,BC18,BE18) -> 0 | BH18: =SUM(BB18,BD18,BF18) -> 0 | BI18: =IF(K18="",0,1) -> 0 | BJ18: =IF(L18="",0,1) -> 0 | BK18: =IF(K18<>"",IF(K18>L18,1)) -> FALSE | BL18: =IF(L18<>"",IF(L18>K18,1)) -> FALSE | BM18: =IF(K18<>"",IF(K18=L18,1)) -> FALSE | BN18: =IF(L18<>"",IF(L18=K18,1)) -> FALSE | BO18: =IF(K18<>"",IF(K18<L18,1)) -> FALSE | BP18: =IF(L18<>"",IF(L18<K18,1)) -> FALSE | BQ18: =K18 -> 0 | BR18: =L18 -> 0 | BS18: =L18 -> 0 | BT18: =K18 -> 0 | BU18: =VLOOKUP(AH18,AI17:AO21,2,0) | BV18: =VLOOKUP(BU18,AJ17:AY21,16,0) -> 0 | BW18: =RANK(BV18,BV17:BV21) -> 1
E19: =IF(AJ19="","",AJ19) | M19: =IF(AJ21="","",AJ21) | S19: =VLOOKUP(AH19,AI17:AO21,2,0) | Y19: =IF(BV19=BV18,BW18,BW19) -> 1 | Z19: =VLOOKUP(S19,AJ17:AX21,8,0) -> 0 | AA19: =VLOOKUP(S19,AJ17:AX21,9,0) -> 0 | AB19: =VLOOKUP(S19,AJ17:AX21,10,0) -> 0 | AC19: =VLOOKUP(S19,AJ17:AX21,11,0) -> 0 | AD19: =VLOOKUP(S19,AJ17:AX21,12,0) -> 0 | AE19: =VLOOKUP(S19,AJ17:AX21,13,0) -> 0 | AF19: =VLOOKUP(S19,AJ17:AX21,14,0) -> 0 | AG19: =VLOOKUP(S19,AJ17:AX21,15,0) -> 0 | AH19: 3 | AI19: =AP19 -> 3 | AJ19: =IF(Equipes!A13="","",Equipes!A13) | AP19: =RANK(AZ19,AZ17:AZ21) -> 3 | AQ19: =SUMPRODUCT((E17:J26=AJ19)*(BG17:BG26))+SUMPRODUCT((M17:R26=AJ19)*(BH17:BH26)) -> 0 | AR19: =SUMPRODUCT((E17:J26=AJ19)*(BI17:BI26))+SUMPRODUCT((M17:R26=AJ19)*(BJ17:BJ26)) -> 0 | AS19: =SUMPRODUCT((E17:J26=AJ19)*(BK17:BK26))+SUMPRODUCT((M17:R26=AJ19)*(BL17:BL26)) -> 0 | AT19: =SUMPRODUCT((E17:J26=AJ19)*(BM17:BM26))+SUMPRODUCT((M17:R26=AJ19)*(BN17:BN26)) -> 0 | AU19: =SUMPRODUCT((E17:J26=AJ19)*(BO17:BO26))+SUMPRODUCT((M17:R26=AJ19)*(BP17:BP26)) -> 0 | AV19: =SUMPRODUCT((E17:J26=AJ19)*(BQ17:BQ26))+SUMPRODUCT((M17:R26=AJ19)*(BR17:BR26)) -> 0 | AW19: =SUMPRODUCT((E17:J26=AJ19)*(BS17:BS26))+SUMPRODUCT((M17:R26=AJ19)*(BT17:BT26)) -> 0 | AX19: =AV19-AW19 -> 0 | AY19: =SUM(AQ19*1000+(AX19)/100+(AV19)/1000) -> 0 | AZ19: =AY19+0.000003 -> 3e-06 | BA19: =IF(K19="",0,IF(K19=L19,0,IF(K19<L19,0,IF(Equipes!$V$2=1,IF('2 poules de 5'!K19>L19,3),IF(Equipes!$V$2=2,IF('2 poules de 5'!K19>L19,4)))))) -> 0 | BB19: =IF(L19="",0,IF(L19=K19,0,IF(L19<K19,0,IF(Equipes!$V$2=1,IF('2 poules de 5'!L19>'2 poules de 5'!K19,3),IF(Equipes!$V$2=2,IF('2 poules de 5'!L19>K19,4)))))) -> 0 | BC19: =IF(K19="",0,IF(K19>L19,0,IF(K19<L19,0,IF(Equipes!$V$2=1,IF('2 poules de 5'!K19='2 poules de 5'!L19,1),IF(Equipes!$V$2=2,IF('2 poules de 5'!K19=L19,2)))))) -> 0 | BD19: =IF(L19="",0,IF(L19>K19,0,IF(L19<K19,0,IF(Equipes!$V$2=1,IF('2 poules de 5'!L19='2 poules de 5'!K19,1),IF(Equipes!$V$2=2,IF('2 poules de 5'!L19='2 poules de 5'!K19,2)))))) -> 0 | BE19: =IF(K19="",0,IF(K19>L19,0,IF(K19=L19,0,IF(Equipes!$V$2=1,IF('2 poules de 5'!K19<'2 poules de 5'!L19,0),IF(Equipes!$V$2=2,IF('2 poules de 5'!K19<'2 poules de 5'!L19,1)))))) -> 0 | BF19: =IF(L19="",0,IF(L19>K19,0,IF(L19=K19,0,IF(Equipes!$V$2=1,IF('2 poules de 5'!L19<'2 poules de 5'!K19,0),IF(Equipes!$V$2=2,IF('2 poules de 5'!L19<'2 poules de 5'!K19,1)))))) -> 0 | BG19: =SUM(BA19,BC19,BE19) -> 0 | BH19: =SUM(BB19,BD19,BF19) -> 0 | BI19: =IF(K19="",0,1) -> 0 | BJ19: =IF(L19="",0,1) -> 0 | BK19: =IF(K19<>"",IF(K19>L19,1)) -> FALSE | BL19: =IF(L19<>"",IF(L19>K19,1)) -> FALSE | BM19: =IF(K19<>"",IF(K19=L19,1)) -> FALSE | BN19: =IF(L19<>"",IF(L19=K19,1)) -> FALSE | BO19: =IF(K19<>"",IF(K19<L19,1)) -> FALSE | BP19: =IF(L19<>"",IF(L19<K19,1)) -> FALSE | BQ19: =K19 -> 0 | BR19: =L19 -> 0 | BS19: =L19 -> 0 | BT19: =K19 -> 0 | BU19: =VLOOKUP(AH19,AI17:AO21,2,0) | BV19: =VLOOKUP(BU19,AJ17:AY21,16,0) -> 0 | BW19: =RANK(BV19,BV17:BV21) -> 1
E20: =IF(AJ17="","",AJ17) | M20: =IF(AJ20="","",AJ20) | S20: =VLOOKUP(AH20,AI17:AO21,2,0) | Y20: =IF(BV20=BV19,BW19,BW20) -> 1 | Z20: =VLOOKUP(S20,AJ17:AX21,8,0) -> 0 | AA20: =VLOOKUP(S20,AJ17:AX21,9,0) -> 0 | AB20: =VLOOKUP(S20,AJ17:AX21,10,0) -> 0 | AC20: =VLOOKUP(S20,AJ17:AX21,11,0) -> 0 | AD20: =VLOOKUP(S20,AJ17:AX21,12,0) -> 0 | AE20: =VLOOKUP(S20,AJ17:AX21,13,0) -> 0 | AF20: =VLOOKUP(S20,AJ17:AX21,14,0) -> 0 | AG20: =VLOOKUP(S20,AJ17:AX21,15,0) -> 0 | AH20: 4 | AI20: =AP20 -> 4 | AJ20: =IF(Equipes!A14="","",Equipes!A14) | AP20: =RANK(AZ20,AZ17:AZ21) -> 4 | AQ20: =SUMPRODUCT((E17:J26=AJ20)*(BG17:BG26))+SUMPRODUCT((M17:R26=AJ20)*(BH17:BH26)) -> 0 | AR20: =SUMPRODUCT((E17:J26=AJ20)*(BI17:BI26))+SUMPRODUCT((M17:R26=AJ20)*(BJ17:BJ26)) -> 0 | AS20: =SUMPRODUCT((E17:J26=AJ20)*(BK17:BK26))+SUMPRODUCT((M17:R26=AJ20)*(BL17:BL26)) -> 0 | AT20: =SUMPRODUCT((E17:J26=AJ20)*(BM17:BM26))+SUMPRODUCT((M17:R26=AJ20)*(BN17:BN26)) -> 0 | AU20: =SUMPRODUCT((E17:J26=AJ20)*(BO17:BO26))+SUMPRODUCT((M17:R26=AJ20)*(BP17:BP26)) -> 0 | AV20: =SUMPRODUCT((E17:J26=AJ20)*(BQ17:BQ26))+SUMPRODUCT((M17:R26=AJ20)*(BR17:BR26)) -> 0 | AW20: =SUMPRODUCT((E17:J26=AJ20)*(BS17:BS26))+SUMPRODUCT((M17:R26=AJ20)*(BT17:BT26)) -> 0 | AX20: =AV20-AW20 -> 0 | AY20: =SUM(AQ20*1000+(AX20)/100+(AV20)/1000) -> 0 | AZ20: =AY20+0.000002 -> 2e-06 | BA20: =IF(K20="",0,IF(K20=L20,0,IF(K20<L20,0,IF(Equipes!$V$2=1,IF('2 poules de 5'!K20>L20,3),IF(Equipes!$V$2=2,IF('2 poules de 5'!K20>L20,4)))))) -> 0 | BB20: =IF(L20="",0,IF(L20=K20,0,IF(L20<K20,0,IF(Equipes!$V$2=1,IF('2 poules de 5'!L20>'2 poules de 5'!K20,3),IF(Equipes!$V$2=2,IF('2 poules de 5'!L20>K20,4)))))) -> 0 | BC20: =IF(K20="",0,IF(K20>L20,0,IF(K20<L20,0,IF(Equipes!$V$2=1,IF('2 poules de 5'!K20='2 poules de 5'!L20,1),IF(Equipes!$V$2=2,IF('2 poules de 5'!K20=L20,2)))))) -> 0 | BD20: =IF(L20="",0,IF(L20>K20,0,IF(L20<K20,0,IF(Equipes!$V$2=1,IF('2 poules de 5'!L20='2 poules de 5'!K20,1),IF(Equipes!$V$2=2,IF('2 poules de 5'!L20='2 poules de 5'!K20,2)))))) -> 0 | BE20: =IF(K20="",0,IF(K20>L20,0,IF(K20=L20,0,IF(Equipes!$V$2=1,IF('2 poules de 5'!K20<'2 poules de 5'!L20,0),IF(Equipes!$V$2=2,IF('2 poules de 5'!K20<'2 poules de 5'!L20,1)))))) -> 0 | BF20: =IF(L20="",0,IF(L20>K20,0,IF(L20=K20,0,IF(Equipes!$V$2=1,IF('2 poules de 5'!L20<'2 poules de 5'!K20,0),IF(Equipes!$V$2=2,IF('2 poules de 5'!L20<'2 poules de 5'!K20,1)))))) -> 0 | BG20: =SUM(BA20,BC20,BE20) -> 0 | BH20: =SUM(BB20,BD20,BF20) -> 0 | BI20: =IF(K20="",0,1) -> 0 | BJ20: =IF(L20="",0,1) -> 0 | BK20: =IF(K20<>"",IF(K20>L20,1)) -> FALSE | BL20: =IF(L20<>"",IF(L20>K20,1)) -> FALSE | BM20: =IF(K20<>"",IF(K20=L20,1)) -> FALSE | BN20: =IF(L20<>"",IF(L20=K20,1)) -> FALSE | BO20: =IF(K20<>"",IF(K20<L20,1)) -> FALSE | BP20: =IF(L20<>"",IF(L20<K20,1)) -> FALSE | BQ20: =K20 -> 0 | BR20: =L20 -> 0 | BS20: =L20 -> 0 | BT20: =K20 -> 0 | BU20: =VLOOKUP(AH20,AI17:AO21,2,0) | BV20: =VLOOKUP(BU20,AJ17:AY21,16,0) -> 0 | BW20: =RANK(BV20,BV17:BV21) -> 1
E21: =IF(AJ18="","",AJ18) | M21: =IF(AJ19="","",AJ19) | S21: =VLOOKUP(AH21,AI17:AO21,2,0) | Y21: =IF(BV21=BV20,BW20,BW21) -> 1 | Z21: =VLOOKUP(S21,AJ17:AX21,8,0) -> 0 | AA21: =VLOOKUP(S21,AJ17:AX21,9,0) -> 0 | AB21: =VLOOKUP(S21,AJ17:AX21,10,0) -> 0 | AC21: =VLOOKUP(S21,AJ17:AX21,11,0) -> 0 | AD21: =VLOOKUP(S21,AJ17:AX21,12,0) -> 0 | AE21: =VLOOKUP(S21,AJ17:AX21,13,0) -> 0 | AF21: =VLOOKUP(S21,AJ17:AX21,14,0) -> 0 | AG21: =VLOOKUP(S21,AJ17:AX21,15,0) -> 0 | AH21: 5 | AI21: =AP21 -> 5 | AJ21: =IF(Equipes!A15="","",Equipes!A15) | AP21: =RANK(AZ21,AZ17:AZ21) -> 5 | AQ21: =SUMPRODUCT((E17:J26=AJ21)*(BG17:BG26))+SUMPRODUCT((M17:R26=AJ21)*(BH17:BH26)) -> 0 | AR21: =SUMPRODUCT((E17:J26=AJ21)*(BI17:BI26))+SUMPRODUCT((M17:R26=AJ21)*(BJ17:BJ26)) -> 0 | AS21: =SUMPRODUCT((E17:J26=AJ21)*(BK17:BK26))+SUMPRODUCT((M17:R26=AJ21)*(BL17:BL26)) -> 0 | AT21: =SUMPRODUCT((E17:J26=AJ21)*(BM17:BM26))+SUMPRODUCT((M17:R26=AJ21)*(BN17:BN26)) -> 0 | AU21: =SUMPRODUCT((E17:J26=AJ21)*(BO17:BO26))+SUMPRODUCT((M17:R26=AJ21)*(BP17:BP26)) -> 0 | AV21: =SUMPRODUCT((E17:J26=AJ21)*(BQ17:BQ26))+SUMPRODUCT((M17:R26=AJ21)*(BR17:BR26)) -> 0 | AW21: =SUMPRODUCT((E17:J26=AJ21)*(BS17:BS26))+SUMPRODUCT((M17:R26=AJ21)*(BT17:BT26)) -> 0 | AX21: =AV21-AW21 -> 0 | AY21: =SUM(AQ21*1000+(AX21)/100+(AV21)/1000) -> 0 | AZ21: =AY21+0.000001 -> 1e-06 | BA21: =IF(K21="",0,IF(K21=L21,0,IF(K21<L21,0,IF(Equipes!$V$2=1,IF('2 poules de 5'!K21>L21,3),IF(Equipes!$V$2=2,IF('2 poules de 5'!K21>L21,4)))))) -> 0 | BB21: =IF(L21="",0,IF(L21=K21,0,IF(L21<K21,0,IF(Equipes!$V$2=1,IF('2 poules de 5'!L21>'2 poules de 5'!K21,3),IF(Equipes!$V$2=2,IF('2 poules de 5'!L21>K21,4)))))) -> 0 | BC21: =IF(K21="",0,IF(K21>L21,0,IF(K21<L21,0,IF(Equipes!$V$2=1,IF('2 poules de 5'!K21='2 poules de 5'!L21,1),IF(Equipes!$V$2=2,IF('2 poules de 5'!K21=L21,2)))))) -> 0 | BD21: =IF(L21="",0,IF(L21>K21,0,IF(L21<K21,0,IF(Equipes!$V$2=1,IF('2 poules de 5'!L21='2 poules de 5'!K21,1),IF(Equipes!$V$2=2,IF('2 poules de 5'!L21='2 poules de 5'!K21,2)))))) -> 0 | BE21: =IF(K21="",0,IF(K21>L21,0,IF(K21=L21,0,IF(Equipes!$V$2=1,IF('2 poules de 5'!K21<'2 poules de 5'!L21,0),IF(Equipes!$V$2=2,IF('2 poules de 5'!K21<'2 poules de 5'!L21,1)))))) -> 0 | BF21: =IF(L21="",0,IF(L21>K21,0,IF(L21=K21,0,IF(Equipes!$V$2=1,IF('2 poules de 5'!L21<'2 poules de 5'!K21,0),IF(Equipes!$V$2=2,IF('2 poules de 5'!L21<'2 poules de 5'!K21,1)))))) -> 0 | BG21: =SUM(BA21,BC21,BE21) -> 0 | BH21: =SUM(BB21,BD21,BF21) -> 0 | BI21: =IF(K21="",0,1) -> 0 | BJ21: =IF(L21="",0,1) -> 0 | BK21: =IF(K21<>"",IF(K21>L21,1)) -> FALSE | BL21: =IF(L21<>"",IF(L21>K21,1)) -> FALSE | BM21: =IF(K21<>"",IF(K21=L21,1)) -> FALSE | BN21: =IF(L21<>"",IF(L21=K21,1)) -> FALSE | BO21: =IF(K21<>"",IF(K21<L21,1)) -> FALSE | BP21: =IF(L21<>"",IF(L21<K21,1)) -> FALSE | BQ21: =K21 -> 0 | BR21: =L21 -> 0 | BS21: =L21 -> 0 | BT21: =K21 -> 0 | BU21: =VLOOKUP(AH21,AI17:AO21,2,0) | BV21: =VLOOKUP(BU21,AJ17:AY21,16,0) -> 0 | BW21: =RANK(BV21,BV17:BV21) -> 1
E22: =IF(AJ20="","",AJ20) | M22: =IF(AJ21="","",AJ21) | BA22: =IF(K22="",0,IF(K22=L22,0,IF(K22<L22,0,IF(Equipes!$V$2=1,IF('2 poules de 5'!K22>L22,3),IF(Equipes!$V$2=2,IF('2 poules de 5'!K22>L22,4)))))) -> 0 | BB22: =IF(L22="",0,IF(L22=K22,0,IF(L22<K22,0,IF(Equipes!$V$2=1,IF('2 poules de 5'!L22>'2 poules de 5'!K22,3),IF(Equipes!$V$2=2,IF('2 poules de 5'!L22>K22,4)))))) -> 0 | BC22: =IF(K22="",0,IF(K22>L22,0,IF(K22<L22,0,IF(Equipes!$V$2=1,IF('2 poules de 5'!K22='2 poules de 5'!L22,1),IF(Equipes!$V$2=2,IF('2 poules de 5'!K22=L22,2)))))) -> 0 | BD22: =IF(L22="",0,IF(L22>K22,0,IF(L22<K22,0,IF(Equipes!$V$2=1,IF('2 poules de 5'!L22='2 poules de 5'!K22,1),IF(Equipes!$V$2=2,IF('2 poules de 5'!L22='2 poules de 5'!K22,2)))))) -> 0 | BE22: =IF(K22="",0,IF(K22>L22,0,IF(K22=L22,0,IF(Equipes!$V$2=1,IF('2 poules de 5'!K22<'2 poules de 5'!L22,0),IF(Equipes!$V$2=2,IF('2 poules de 5'!K22<'2 poules de 5'!L22,1)))))) -> 0 | BF22: =IF(L22="",0,IF(L22>K22,0,IF(L22=K22,0,IF(Equipes!$V$2=1,IF('2 poules de 5'!L22<'2 poules de 5'!K22,0),IF(Equipes!$V$2=2,IF('2 poules de 5'!L22<'2 poules de 5'!K22,1)))))) -> 0 | BG22: =SUM(BA22,BC22,BE22) -> 0 | BH22: =SUM(BB22,BD22,BF22) -> 0 | BI22: =IF(K22="",0,1) -> 0 | BJ22: =IF(L22="",0,1) -> 0 | BK22: =IF(K22<>"",IF(K22>L22,1)) -> FALSE | BL22: =IF(L22<>"",IF(L22>K22,1)) -> FALSE | BM22: =IF(K22<>"",IF(K22=L22,1)) -> FALSE | BN22: =IF(L22<>"",IF(L22=K22,1)) -> FALSE | BO22: =IF(K22<>"",IF(K22<L22,1)) -> FALSE | BP22: =IF(L22<>"",IF(L22<K22,1)) -> FALSE | BQ22: =K22 -> 0 | BR22: =L22 -> 0 | BS22: =L22 -> 0 | BT22: =K22 -> 0
E23: =IF(AJ17="","",AJ17) | M23: =IF(AJ19="","",AJ19) | BA23: =IF(K23="",0,IF(K23=L23,0,IF(K23<L23,0,IF(Equipes!$V$2=1,IF('2 poules de 5'!K23>L23,3),IF(Equipes!$V$2=2,IF('2 poules de 5'!K23>L23,4)))))) -> 0 | BB23: =IF(L23="",0,IF(L23=K23,0,IF(L23<K23,0,IF(Equipes!$V$2=1,IF('2 poules de 5'!L23>'2 poules de 5'!K23,3),IF(Equipes!$V$2=2,IF('2 poules de 5'!L23>K23,4)))))) -> 0 | BC23: =IF(K23="",0,IF(K23>L23,0,IF(K23<L23,0,IF(Equipes!$V$2=1,IF('2 poules de 5'!K23='2 poules de 5'!L23,1),IF(Equipes!$V$2=2,IF('2 poules de 5'!K23=L23,2)))))) -> 0 | BD23: =IF(L23="",0,IF(L23>K23,0,IF(L23<K23,0,IF(Equipes!$V$2=1,IF('2 poules de 5'!L23='2 poules de 5'!K23,1),IF(Equipes!$V$2=2,IF('2 poules de 5'!L23='2 poules de 5'!K23,2)))))) -> 0 | BE23: =IF(K23="",0,IF(K23>L23,0,IF(K23=L23,0,IF(Equipes!$V$2=1,IF('2 poules de 5'!K23<'2 poules de 5'!L23,0),IF(Equipes!$V$2=2,IF('2 poules de 5'!K23<'2 poules de 5'!L23,1)))))) -> 0 | BF23: =IF(L23="",0,IF(L23>K23,0,IF(L23=K23,0,IF(Equipes!$V$2=1,IF('2 poules de 5'!L23<'2 poules de 5'!K23,0),IF(Equipes!$V$2=2,IF('2 poules de 5'!L23<'2 poules de 5'!K23,1)))))) -> 0 | BG23: =SUM(BA23,BC23,BE23) -> 0 | BH23: =SUM(BB23,BD23,BF23) -> 0 | BI23: =IF(K23="",0,1) -> 0 | BJ23: =IF(L23="",0,1) -> 0 | BK23: =IF(K23<>"",IF(K23>L23,1)) -> FALSE | BL23: =IF(L23<>"",IF(L23>K23,1)) -> FALSE | BM23: =IF(K23<>"",IF(K23=L23,1)) -> FALSE | BN23: =IF(L23<>"",IF(L23=K23,1)) -> FALSE | BO23: =IF(K23<>"",IF(K23<L23,1)) -> FALSE | BP23: =IF(L23<>"",IF(L23<K23,1)) -> FALSE | BQ23: =K23 -> 0 | BR23: =L23 -> 0 | BS23: =L23 -> 0 | BT23: =K23 -> 0
E24: =IF(AJ18="","",AJ18) | M24: =IF(AJ21="","",AJ21) | BA24: =IF(K24="",0,IF(K24=L24,0,IF(K24<L24,0,IF(Equipes!$V$2=1,IF('2 poules de 5'!K24>L24,3),IF(Equipes!$V$2=2,IF('2 poules de 5'!K24>L24,4)))))) -> 0 | BB24: =IF(L24="",0,IF(L24=K24,0,IF(L24<K24,0,IF(Equipes!$V$2=1,IF('2 poules de 5'!L24>'2 poules de 5'!K24,3),IF(Equipes!$V$2=2,IF('2 poules de 5'!L24>K24,4)))))) -> 0 | BC24: =IF(K24="",0,IF(K24>L24,0,IF(K24<L24,0,IF(Equipes!$V$2=1,IF('2 poules de 5'!K24='2 poules de 5'!L24,1),IF(Equipes!$V$2=2,IF('2 poules de 5'!K24=L24,2)))))) -> 0 | BD24: =IF(L24="",0,IF(L24>K24,0,IF(L24<K24,0,IF(Equipes!$V$2=1,IF('2 poules de 5'!L24='2 poules de 5'!K24,1),IF(Equipes!$V$2=2,IF('2 poules de 5'!L24='2 poules de 5'!K24,2)))))) -> 0 | BE24: =IF(K24="",0,IF(K24>L24,0,IF(K24=L24,0,IF(Equipes!$V$2=1,IF('2 poules de 5'!K24<'2 poules de 5'!L24,0),IF(Equipes!$V$2=2,IF('2 poules de 5'!K24<'2 poules de 5'!L24,1)))))) -> 0 | BF24: =IF(L24="",0,IF(L24>K24,0,IF(L24=K24,0,IF(Equipes!$V$2=1,IF('2 poules de 5'!L24<'2 poules de 5'!K24,0),IF(Equipes!$V$2=2,IF('2 poules de 5'!L24<'2 poules de 5'!K24,1)))))) -> 0 | BG24: =SUM(BA24,BC24,BE24) -> 0 | BH24: =SUM(BB24,BD24,BF24) -> 0 | BI24: =IF(K24="",0,1) -> 0 | BJ24: =IF(L24="",0,1) -> 0 | BK24: =IF(K24<>"",IF(K24>L24,1)) -> FALSE | BL24: =IF(L24<>"",IF(L24>K24,1)) -> FALSE | BM24: =IF(K24<>"",IF(K24=L24,1)) -> FALSE | BN24: =IF(L24<>"",IF(L24=K24,1)) -> FALSE | BO24: =IF(K24<>"",IF(K24<L24,1)) -> FALSE | BP24: =IF(L24<>"",IF(L24<K24,1)) -> FALSE | BQ24: =K24 -> 0 | BR24: =L24 -> 0 | BS24: =L24 -> 0 | BT24: =K24 -> 0
E25: =IF(AJ19="","",AJ19) | M25: =IF(AJ20="","",AJ20) | BA25: =IF(K25="",0,IF(K25=L25,0,IF(K25<L25,0,IF(Equipes!$V$2=1,IF('2 poules de 5'!K25>L25,3),IF(Equipes!$V$2=2,IF('2 poules de 5'!K25>L25,4)))))) -> 0 | BB25: =IF(L25="",0,IF(L25=K25,0,IF(L25<K25,0,IF(Equipes!$V$2=1,IF('2 poules de 5'!L25>'2 poules de 5'!K25,3),IF(Equipes!$V$2=2,IF('2 poules de 5'!L25>K25,4)))))) -> 0 | BC25: =IF(K25="",0,IF(K25>L25,0,IF(K25<L25,0,IF(Equipes!$V$2=1,IF('2 poules de 5'!K25='2 poules de 5'!L25,1),IF(Equipes!$V$2=2,IF('2 poules de 5'!K25=L25,2)))))) -> 0 | BD25: =IF(L25="",0,IF(L25>K25,0,IF(L25<K25,0,IF(Equipes!$V$2=1,IF('2 poules de 5'!L25='2 poules de 5'!K25,1),IF(Equipes!$V$2=2,IF('2 poules de 5'!L25='2 poules de 5'!K25,2)))))) -> 0 | BE25: =IF(K25="",0,IF(K25>L25,0,IF(K25=L25,0,IF(Equipes!$V$2=1,IF('2 poules de 5'!K25<'2 poules de 5'!L25,0),IF(Equipes!$V$2=2,IF('2 poules de 5'!K25<'2 poules de 5'!L25,1)))))) -> 0 | BF25: =IF(L25="",0,IF(L25>K25,0,IF(L25=K25,0,IF(Equipes!$V$2=1,IF('2 poules de 5'!L25<'2 poules de 5'!K25,0),IF(Equipes!$V$2=2,IF('2 poules de 5'!L25<'2 poules de 5'!K25,1)))))) -> 0 | BG25: =SUM(BA25,BC25,BE25) -> 0 | BH25: =SUM(BB25,BD25,BF25) -> 0 | BI25: =IF(K25="",0,1) -> 0 | BJ25: =IF(L25="",0,1) -> 0 | BK25: =IF(K25<>"",IF(K25>L25,1)) -> FALSE | BL25: =IF(L25<>"",IF(L25>K25,1)) -> FALSE | BM25: =IF(K25<>"",IF(K25=L25,1)) -> FALSE | BN25: =IF(L25<>"",IF(L25=K25,1)) -> FALSE | BO25: =IF(K25<>"",IF(K25<L25,1)) -> FALSE | BP25: =IF(L25<>"",IF(L25<K25,1)) -> FALSE | BQ25: =K25 -> 0 | BR25: =L25 -> 0 | BS25: =L25 -> 0 | BT25: =K25 -> 0
E26: =IF(AJ17="","",AJ17) | M26: =IF(AJ18="","",AJ18) | BA26: =IF(K26="",0,IF(K26=L26,0,IF(K26<L26,0,IF(Equipes!$V$2=1,IF('2 poules de 5'!K26>L26,3),IF(Equipes!$V$2=2,IF('2 poules de 5'!K26>L26,4)))))) -> 0 | BB26: =IF(L26="",0,IF(L26=K26,0,IF(L26<K26,0,IF(Equipes!$V$2=1,IF('2 poules de 5'!L26>'2 poules de 5'!K26,3),IF(Equipes!$V$2=2,IF('2 poules de 5'!L26>K26,4)))))) -> 0 | BC26: =IF(K26="",0,IF(K26>L26,0,IF(K26<L26,0,IF(Equipes!$V$2=1,IF('2 poules de 5'!K26='2 poules de 5'!L26,1),IF(Equipes!$V$2=2,IF('2 poules de 5'!K26=L26,2)))))) -> 0 | BD26: =IF(L26="",0,IF(L26>K26,0,IF(L26<K26,0,IF(Equipes!$V$2=1,IF('2 poules de 5'!L26='2 poules de 5'!K26,1),IF(Equipes!$V$2=2,IF('2 poules de 5'!L26='2 poules de 5'!K26,2)))))) -> 0 | BE26: =IF(K26="",0,IF(K26>L26,0,IF(K26=L26,0,IF(Equipes!$V$2=1,IF('2 poules de 5'!K26<'2 poules de 5'!L26,0),IF(Equipes!$V$2=2,IF('2 poules de 5'!K26<'2 poules de 5'!L26,1)))))) -> 0 | BF26: =IF(L26="",0,IF(L26>K26,0,IF(L26=K26,0,IF(Equipes!$V$2=1,IF('2 poules de 5'!L26<'2 poules de 5'!K26,0),IF(Equipes!$V$2=2,IF('2 poules de 5'!L26<'2 poules de 5'!K26,1)))))) -> 0 | BG26: =SUM(BA26,BC26,BE26) -> 0 | BH26: =SUM(BB26,BD26,BF26) -> 0 | BI26: =IF(K26="",0,1) -> 0 | BJ26: =IF(L26="",0,1) -> 0 | BK26: =IF(K26<>"",IF(K26>L26,1)) -> FALSE | BL26: =IF(L26<>"",IF(L26>K26,1)) -> FALSE | BM26: =IF(K26<>"",IF(K26=L26,1)) -> FALSE | BN26: =IF(L26<>"",IF(L26=K26,1)) -> FALSE | BO26: =IF(K26<>"",IF(K26<L26,1)) -> FALSE | BP26: =IF(L26<>"",IF(L26<K26,1)) -> FALSE | BQ26: =K26 -> 0 | BR26: =L26 -> 0 | BS26: =L26 -> 0 | BT26: =K26 -> 0
N28: Buts | S28: Penalties
N31: =IF(H42="","",IF(N57=H44,H46,H44))
N33: =IF(U42="","",IF(N59=U44,U46,U44))
A35: Buts | E35: Penalties | AB35: Buts | AF35: Penalties
N37: Buts | S37: Penalties
A38: =IF(S4="","",S4) | AB38: =IF(S17="","",S17)
A40: =IF(S20="","",S20) | AB40: =IF(S7="","",S7)
H41: Buts | L41: Penalties | U41: Buts | Y41: Penalties
A44: Buts | E44: Penalties | H44: =IF(A36="","",IF(A36>A42,A38,IF(A42>A36,A40,IF(A36=A42,IF(E36>E42,A38,IF(A42=A36,IF(E42>E36,A40))))))) | U44: =IF(AB36="","",IF(AB36>AB42,AB38,IF(AB42>AB36,AB40,IF(AB36=AB42,IF(AF36>AF42,AB38,IF(AB42=AB36,IF(AF42>AF36,AB40))))))) | AB44: Buts | AF44: Penalties
H46: =IF(A48="","",IF(A48>A54,A50,IF(A54>A48,A52,IF(A48=A54,IF(E48>E54,A50,IF(A54=A48,IF(E54>E48,A52))))))) | U46: =IF(AB48="","",IF(AB48>AB54,AB50,IF(AB54>AB48,AB52,IF(AB48=AB54,IF(AF48>AF54,AB50,IF(AB54=AB48,IF(AF54>AF48,AB52)))))))
A47: Buts | E47: Penalties | AB47: Buts | AF47: Penalties
A50: =IF(S5="","",S5) | H50: Buts | L50: Penalties | U50: Buts | Y50: Penalties | AB50: =IF(S18="","",S18)
A52: =IF(S19="","",S19) | AB52: =IF(S6="","",S6)
N54: Buts | S54: Penalties
A56: Buts | E56: Penalties | AB56: Buts | AF56: Penalties
N57: =IF(H42="","",IF(H42>H48,H44,IF(H48>H42,H46,IF(H42=H48,IF(L42>L48,H44,IF(H48=H42,IF(L48>L42,H46)))))))
...

Sheet 4 poules de 3
A1: POULE 1 | S1: CLASSEMENT POULE 1 | AJ1: CLASSEMENT POULE 1
A3: N° Terrain | C3: Heure | E3: Equipes | K3: Bts | L3: Bts | M3: Equipes | S3: Equipes | Y3: R | Z3: Pts | AA3: J | AB3: G | AC3: N | AD3: P | AE3: B + | AF3: B - | AG3: Diff | AI3: R | AJ3: Equipes | AP3: R | AQ3: Pts | AR3: J | AS3: G | AT3: N | AU3: P | AV3: B + | AW3: B - | AX3: Diff | AY3: % | AZ3: % | BA3: V Pts | BB3: V Pts | BC3: N Pts | BD3: N Pts | BE3: D Pts | BF3: D Pts | BG3: Pts | BH3: Pts | BI3: J | BJ3: J | BK3: G | BL3: G | BM3: N | BN3: N | BO3: P | BP3: P | BQ3: B + | BR3: B + | BS3: B - | BT3: B - | BU3: Equipes | BV3: % | BW3: R
E4: =IF(AJ4="","",AJ4) -> 0 | M4: =IF(AJ5="","",AJ5) -> 0 | S4: =VLOOKUP(AH4,AI4:AO6,2,0) -> 0 | Y4: 1 | Z4: =VLOOKUP(S4,AJ4:AX6,8,0) -> 0 | AA4: =VLOOKUP(S4,AJ4:AX6,9,0) -> 0 | AB4: =VLOOKUP(S4,AJ4:AX6,10,0) -> 0 | AC4: =VLOOKUP(S4,AJ4:AX6,11,0) -> 0 | AD4: =VLOOKUP(S4,AJ4:AX6,12,0) -> 0 | AE4: =VLOOKUP(S4,AJ4:AX6,13,0) -> 0 | AF4: =VLOOKUP(S4,AJ4:AX6,14,0) -> 0 | AG4: =VLOOKUP(S4,AJ4:AX6,15,0) -> 0 | AH4: 1 | AI4: =AP4 -> 1 | AJ4: =Equipes!C5 -> 0 | AP4: =RANK(AZ4,AZ4:AZ6) -> 1 | AQ4: =SUMPRODUCT((E4:J6=AJ4)*(BG4:BG6))+SUMPRODUCT((M4:R6=AJ4)*(BH4:BH6)) -> 0 | AR4: =SUMPRODUCT((E4:J6=AJ4)*(BI4:BI6))+SUMPRODUCT((M4:R6=AJ4)*(BJ4:BJ6)) -> 0 | AS4: =SUMPRODUCT((E4:J6=AJ4)*(BK4:BK6))+SUMPRODUCT((M4:R6=AJ4)*(BL4:BL6)) -> 0 | AT4: =SUMPRODUCT((E4:J6=AJ4)*(BM4:BM6))+SUMPRODUCT((M4:R6=AJ4)*(BN4:BN6)) -> 0 | AU4: =SUMPRODUCT((E4:J6=AJ4)*(BO4:BO6))+SUMPRODUCT((M4:R6=AJ4)*(BP4:BP6)) -> 0 | AV4: =SUMPRODUCT((E4:J6=AJ4)*(BQ4:BQ6))+SUMPRODUCT((M4:R6=AJ4)*(BR4:BR6)) -> 0 | AW4: =SUMPRODUCT((E4:J6=AJ4)*(BS4:BS6))+SUMPRODUCT((M4:R6=AJ4)*(BT4:BT6)) -> 0 | AX4: =AV4-AW4 -> 0 | AY4: =SUM(AQ4*1000+(AX4)/100+(AV4)/1000) -> 0 | AZ4: =AY4+0.000003 -> 3e-06 | BA4: =IF(K4="",0,IF(K4=L4,0,IF(K4<L4,0,IF(Equipes!$V$2=1,IF('4 poules de 3'!K4>'4 poules de 3'!L4,3),IF(Equipes!$V$2=2,IF('4 poules de 3'!K4>L4,4)))))) -> 0 | BB4: =IF(L4="",0,IF(L4=K4,0,IF(L4<K4,0,IF(Equipes!$V$2=1,IF('4 poules de 3'!L4>'4 poules de 3'!K4,3),IF(Equipes!$V$2=2,IF('4 poules de 3'!L4>'4 poules de 3'!K4,4)))))) -> 0 | BC4: =IF(K4="",0,IF(K4>L4,0,IF(K4<L4,0,IF(Equipes!$V$2=1,IF('4 poules de 3'!K4='4 poules de 3'!L4,1),IF(Equipes!$V$2=2,IF('4 poules de 3'!K4=L4,2)))))) -> 0 | BD4: =IF(L4="",0,IF(L4>K4,0,IF(L4<K4,0,IF(Equipes!$V$2=1,IF('4 poules de 3'!L4='4 poules de 3'!K4,1),IF(Equipes!$V$2=2,IF('4 poules de 3'!L4='4 poules de 3'!K4,2)))))) -> 0 | BE4: =IF(K4="",0,IF(K4>L4,0,IF(K4=L4,0,IF(Equipes!$V$2=1,IF('4 poules de 3'!K4<'4 poules de 3'!L4,0),IF(Equipes!$V$2=2,IF('4 poules de 3'!K4<'4 poules de 3'!L4,1)))))) -> 0 | BF4: =IF(L4="",0,IF(L4>K4,0,IF(L4=K4,0,IF(Equipes!$V$2=1,IF('4 poules de 3'!L4<'4 poules de 3'!K4,0),IF(Equipes!$V$2=2,IF('4 poules de 3'!L4<'4 poules de 3'!K4,1)))))) -> 0 | BG4: =SUM(BA4,BC4,BE4) -> 0 | BH4: =SUM(BB4,BD4,BF4) -> 0 | BI4: =IF(K4="",0,1) -> 0 | BJ4: =IF(L4="",0,1) -> 0 | BK4: =IF(K4<>"",IF(K4>L4,1)) -> FALSE | BL4: =IF(L4<>"",IF(L4>K4,1)) -> FALSE | BM4: =IF(K4<>"",IF(K4=L4,1)) -> FALSE | BN4: =IF(L4<>"",IF(L4=K4,1)) -> FALSE | BO4: =IF(K4<>"",IF(K4<L4,1)) -> FALSE | BP4: =IF(L4<>"",IF(L4<K4,1)) -> FALSE | BQ4: =K4 -> 0 | BR4: =L4 -> 0 | BS4: =L4 -> 0 | BT4: =K4 -> 0 | BU4: =VLOOKUP(AH4,AI4:AO6,2,0) -> 0 | BV4: =VLOOKUP(BU4,AJ4:AY6,16,0) -> 0 | BW4: =RANK(BV4,BV4:BV6) -> 1
E5: =IF(AJ4="","",AJ4) -> 0 | M5: =IF(AJ6="","",AJ6) -> 0 | S5: =VLOOKUP(AH5,AI4:AO6,2,0) -> 0 | Y5: =IF(BV5=BV4,BW4,BW5) -> 1 | Z5: =VLOOKUP(S5,AJ4:AX6,8,0) -> 0 | AA5: =VLOOKUP(S5,AJ4:AX6,9,0) -> 0 | AB5: =VLOOKUP(S5,AJ4:AX6,10,0) -> 0 | AC5: =VLOOKUP(S5,AJ4:AX6,11,0) -> 0 | AD5: =VLOOKUP(S5,AJ4:AX6,12,0) -> 0 | AE5: =VLOOKUP(S5,AJ4:AX6,13,0) -> 0 | AF5: =VLOOKUP(S5,AJ4:AX6,14,0) -> 0 | AG5: =VLOOKUP(S5,AJ4:AX6,15,0) -> 0 | AH5: 2 | AI5: =AP5 -> 2 | AJ5: =Equipes!C6 -> 0 | AP5: =RANK(AZ5,AZ4:AZ6) -> 2 | AQ5: =SUMPRODUCT((E4:J6=AJ5)*(BG4:BG6))+SUMPRODUCT((M4:R6=AJ5)*(BH4:BH6)) -> 0 | AR5: =SUMPRODUCT((E4:J6=AJ5)*(BI4:BI6))+SUMPRODUCT((M4:R6=AJ5)*(BJ4:BJ6)) -> 0 | AS5: =SUMPRODUCT((E4:J6=AJ5)*(BK4:BK6))+SUMPRODUCT((M4:R6=AJ5)*(BL4:BL6)) -> 0 | AT5: =SUMPRODUCT((E4:J6=AJ5)*(BM4:BM6))+SUMPRODUCT((M4:R6=AJ5)*(BN4:BN6)) -> 0 | AU5: =SUMPRODUCT((E4:J6=AJ5)*(BO4:BO6))+SUMPRODUCT((M4:R6=AJ5)*(BP4:BP6)) -> 0 | AV5: =SUMPRODUCT((E4:J6=AJ5)*(BQ4:BQ6))+SUMPRODUCT((M4:R6=AJ5)*(BR4:BR6)) -> 0 | AW5: =SUMPRODUCT((E4:J6=AJ5)*(BS4:BS6))+SUMPRODUCT((M4:R6=AJ5)*(BT4:BT6)) -> 0 | AX5: =AV5-AW5 -> 0 | AY5: =SUM(AQ5*1000+(AX5)/100+(AV5)/1000) -> 0 | AZ5: =AY5+0.000002 -> 2e-06 | BA5: =IF(K5="",0,IF(K5=L5,0,IF(K5<L5,0,IF(Equipes!$V$2=1,IF('4 poules de 3'!K5>'4 poules de 3'!L5,3),IF(Equipes!$V$2=2,IF('4 poules de 3'!K5>L5,4)))))) -> 0 | BB5: =IF(L5="",0,IF(L5=K5,0,IF(L5<K5,0,IF(Equipes!$V$2=1,IF('4 poules de 3'!L5>'4 poules de 3'!K5,3),IF(Equipes!$V$2=2,IF('4 poules de 3'!L5>'4 poules de 3'!K5,4)))))) -> 0 | BC5: =IF(K5="",0,IF(K5>L5,0,IF(K5<L5,0,IF(Equipes!$V$2=1,IF('4 poules de 3'!K5='4 poules de 3'!L5,1),IF(Equipes!$V$2=2,IF('4 poules de 3'!K5=L5,2)))))) -> 0 | BD5: =IF(L5="",0,IF(L5>K5,0,IF(L5<K5,0,IF(Equipes!$V$2=1,IF('4 poules de 3'!L5='4 poules de 3'!K5,1),IF(Equipes!$V$2=2,IF('4 poules de 3'!L5='4 poules de 3'!K5,2)))))) -> 0 | BE5: =IF(K5="",0,IF(K5>L5,0,IF(K5=L5,0,IF(Equipes!$V$2=1,IF('4 poules de 3'!K5<'4 poules de 3'!L5,0),IF(Equipes!$V$2=2,IF('4 poules de 3'!K5<'4 poules de 3'!L5,1)))))) -> 0 | BF5: =IF(L5="",0,IF(L5>K5,0,IF(L5=K5,0,IF(Equipes!$V$2=1,IF('4 poules de 3'!L5<'4 poules de 3'!K5,0),IF(Equipes!$V$2=2,IF('4 poules de 3'!L5<'4 poules de 3'!K5,1)))))) -> 0 | BG5: =SUM(BA5,BC5,BE5) -> 0 | BH5: =SUM(BB5,BD5,BF5) -> 0 | BI5: =IF(K5="",0,1) -> 0 | BJ5: =IF(L5="",0,1) -> 0 | BK5: =IF(K5<>"",IF(K5>L5,1)) -> FALSE | BL5: =IF(L5<>"",IF(L5>K5,1)) -> FALSE | BM5: =IF(K5<>"",IF(K5=L5,1)) -> FALSE | BN5: =IF(L5<>"",IF(L5=K5,1)) -> FALSE | BO5: =IF(K5<>"",IF(K5<L5,1)) -> FALSE | BP5: =IF(L5<>"",IF(L5<K5,1)) -> FALSE | BQ5: =K5 -> 0 | BR5: =L5 -> 0 | BS5: =L5 -> 0 | BT5: =K5 -> 0 | BU5: =VLOOKUP(AH5,AI4:AO6,2,0) -> 0 | BV5: =VLOOKUP(BU5,AJ4:AY6,16,0) -> 0 | BW5: =RANK(BV5,BV4:BV6) -> 1
E6: =IF(AJ5="","",AJ5) -> 0 | M6: =IF(AJ6="","",AJ6) -> 0 | S6: =VLOOKUP(AH6,AI4:AO6,2,0) -> 0 | Y6: =IF(BV6=BV5,BW5,BW6) -> 1 | Z6: =VLOOKUP(S6,AJ4:AX6,8,0) -> 0 | AA6: =VLOOKUP(S6,AJ4:AX6,9,0) -> 0 | AB6: =VLOOKUP(S6,AJ4:AX6,10,0) -> 0 | AC6: =VLOOKUP(S6,AJ4:AX6,11,0) -> 0 | AD6: =VLOOKUP(S6,AJ4:AX6,12,0) -> 0 | AE6: =VLOOKUP(S6,AJ4:AX6,13,0) -> 0 | AF6: =VLOOKUP(S6,AJ4:AX6,14,0) -> 0 | AG6: =VLOOKUP(S6,AJ4:AX6,15,0) -> 0 | AH6: 3 | AI6: =AP6 -> 3 | AJ6: =Equipes!C7 -> 0 | AP6: =RANK(AZ6,AZ4:AZ6) -> 3 | AQ6: =SUMPRODUCT((E4:J6=AJ6)*(BG4:BG6))+SUMPRODUCT((M4:R6=AJ6)*(BH4:BH6)) -> 0 | AR6: =SUMPRODUCT((E4:J6=AJ6)*(BI4:BI6))+SUMPRODUCT((M4:R6=AJ6)*(BJ4:BJ6)) -> 0 | AS6: =SUMPRODUCT((E4:J6=AJ6)*(BK4:BK6))+SUMPRODUCT((M4:R6=AJ6)*(BL4:BL6)) -> 0 | AT6: =SUMPRODUCT((E4:J6=AJ6)*(BM4:BM6))+SUMPRODUCT((M4:R6=AJ6)*(BN4:BN6)) -> 0 | AU6: =SUMPRODUCT((E4:J6=AJ6)*(BO4:BO6))+SUMPRODUCT((M4:R6=AJ6)*(BP4:BP6)) -> 0 | AV6: =SUMPRODUCT((E4:J6=AJ6)*(BQ4:BQ6))+SUMPRODUCT((M4:R6=AJ6)*(BR4:BR6)) -> 0 | AW6: =SUMPRODUCT((E4:J6=AJ6)*(BS4:BS6))+SUMPRODUCT((M4:R6=AJ6)*(BT4:BT6)) -> 0 | AX6: =AV6-AW6 -> 0 | AY6: =SUM(AQ6*1000+(AX6)/100+(AV6)/1000) -> 0 | AZ6: =AY6+0.000001 -> 1e-06 | BA6: =IF(K6="",0,IF(K6=L6,0,IF(K6<L6,0,IF(Equipes!$V$2=1,IF('4 poules de 3'!K6>'4 poules de 3'!L6,3),IF(Equipes!$V$2=2,IF('4 poules de 3'!K6>L6,4)))))) -> 0 | BB6: =IF(L6="",0,IF(L6=K6,0,IF(L6<K6,0,IF(Equipes!$V$2=1,IF('4 poules de 3'!L6>'4 poules de 3'!K6,3),IF(Equipes!$V$2=2,IF('4 poules de 3'!L6>'4 poules de 3'!K6,4)))))) -> 0 | BC6: =IF(K6="",0,IF(K6>L6,0,IF(K6<L6,0,IF(Equipes!$V$2=1,IF('4 poules de 3'!K6='4 poules de 3'!L6,1),IF(Equipes!$V$2=2,IF('4 poules de 3'!K6=L6,2)))))) -> 0 | BD6: =IF(L6="",0,IF(L6>K6,0,IF(L6<K6,0,IF(Equipes!$V$2=1,IF('4 poules de 3'!L6='4 poules de 3'!K6,1),IF(Equipes!$V$2=2,IF('4 poules de 3'!L6='4 poules de 3'!K6,2)))))) -> 0 | BE6: =IF(K6="",0,IF(K6>L6,0,IF(K6=L6,0,IF(Equipes!$V$2=1,IF('4 poules de 3'!K6<'4 poules de 3'!L6,0),IF(Equipes!$V$2=2,IF('4 poules de 3'!K6<'4 poules de 3'!L6,1)))))) -> 0 | BF6: =IF(L6="",0,IF(L6>K6,0,IF(L6=K6,0,IF(Equipes!$V$2=1,IF('4 poules de 3'!L6<'4 poules de 3'!K6,0),IF(Equipes!$V$2=2,IF('4 poules de 3'!L6<'4 poules de 3'!K6,1)))))) -> 0 | BG6: =SUM(BA6,BC6,BE6) -> 0 | BH6: =SUM(BB6,BD6,BF6) -> 0 | BI6: =IF(K6="",0,1) -> 0 | BJ6: =IF(L6="",0,1) -> 0 | BK6: =IF(K6<>"",IF(K6>L6,1)) -> FALSE | BL6: =IF(L6<>"",IF(L6>K6,1)) -> FALSE | BM6: =IF(K6<>"",IF(K6=L6,1)) -> FALSE | BN6: =IF(L6<>"",IF(L6=K6,1)) -> FALSE | BO6: =IF(K6<>"",IF(K6<L6,1)) -> FALSE | BP6: =IF(L6<>"",IF(L6<K6,1)) -> FALSE | BQ6: =K6 -> 0 | BR6: =L6 -> 0 | BS6: =L6 -> 0 | BT6: =K6 -> 0 | BU6: =VLOOKUP(AH6,AI4:AO6,2,0) -> 0 | BV6: =VLOOKUP(BU6,AJ4:AY6,16,0) -> 0 | BW6: =RANK(BV6,BV4:BV6) -> 1
A7: POULE 2 | S7: CLASSEMENT POULE 2 | AJ7: CLASSEMENT POULE 1
A9: N° Terrain | C9: Heure | E9: Equipes | K9: Bts | L9: Bts | M9: Equipes | S9: Equipes | Y9: R | Z9: Pts | AA9: J | AB9: G | AC9: N | AD9: P | AE9: B + | AF9: B - | AG9: Diff | AI9: R | AJ9: Equipes | AP9: R | AQ9: Pts | AR9: J | AS9: G | AT9: N | AU9: P | AV9: B + | AW9: B - | AX9: Diff | AY9: % | AZ9: % | BA9: V Pts | BB9: V Pts | BC9: N Pts | BD9: N Pts | BE9: D Pts | BF9: D Pts | BG9: Pts | BH9: Pts | BI9: J | BJ9: J | BK9: G | BL9: G | BM9: N | BN9: N | BO9: P | BP9: P | BQ9: B + | BR9: B + | BS9: B - | BT9: B - | BU9: Equipes | BV9: % | BW9: R
E10: =IF(AJ10="","",AJ10) -> 0 | M10: =IF(AJ11="","",AJ11) -> 0 | S10: =VLOOKUP(AH10,AI10:AO12,2,0) -> 0 | Y10: 1 | Z10: =VLOOKUP(S10,AJ10:AX12,8,0) -> 0 | AA10: =VLOOKUP(S10,AJ10:AX12,9,0) -> 0 | AB10: =VLOOKUP(S10,AJ10:AX12,10,0) -> 0 | AC10: =VLOOKUP(S10,AJ10:AX12,11,0) -> 0 | AD10: =VLOOKUP(S10,AJ10:AX12,12,0) -> 0 | AE10: =VLOOKUP(S10,AJ10:AX12,13,0) -> 0 | AF10: =VLOOKUP(S10,AJ10:AX12,14,0) -> 0 | AG10: =VLOOKUP(S10,AJ10:AX12,15,0) -> 0 | AH10: 1 | AI10: =AP10 -> 1 | AJ10: =Equipes!C9 -> 0 | AP10: =RANK(AZ10,AZ10:AZ12) -> 1 | AQ10: =SUMPRODUCT((E10:J12=AJ10)*(BG10:BG12))+SUMPRODUCT((M10:R12=AJ10)*(BH10:BH12)) -> 0 | AR10: =SUMPRODUCT((E10:J12=AJ10)*(BI10:BI12))+SUMPRODUCT((M10:R12=AJ10)*(BJ10:BJ12)) -> 0 | AS10: =SUMPRODUCT((E10:J12=AJ10)*(BK10:BK12))+SUMPRODUCT((M10:R12=AJ10)*(BL10:BL12)) -> 0 | AT10: =SUMPRODUCT((E10:J12=AJ10)*(BM10:BM12))+SUMPRODUCT((M10:R12=AJ10)*(BN10:BN12)) -> 0 | AU10: =SUMPRODUCT((E10:J12=AJ10)*(BO10:BO12))+SUMPRODUCT((M10:R12=AJ10)*(BP10:BP12)) -> 0 | AV10: =SUMPRODUCT((E10:J12=AJ10)*(BQ10:BQ12))+SUMPRODUCT((M10:R12=AJ10)*(BR10:BR12)) -> 0 | AW10: =SUMPRODUCT((E10:J12=AJ10)*(BS10:BS12))+SUMPRODUCT((M10:R12=AJ10)*(BT10:BT12)) -> 0 | AX10: =AV10-AW10 -> 0 | AY10: =SUM(AQ10*1000+(AX10)/100+(AV10)/1000) -> 0 | AZ10: =AY10+0.000003 -> 3e-06 | BA10: =IF(K10="",0,IF(K10=L10,0,IF(K10<L10,0,IF(Equipes!$V$2=1,IF('4 poules de 3'!K10>'4 poules de 3'!L10,3),IF(Equipes!$V$2=2,IF('4 poules de 3'!K10>L10,4)))))) -> 0 | BB10: =IF(L10="",0,IF(L10=K10,0,IF(L10<K10,0,IF(Equipes!$V$2=1,IF('4 poules de 3'!L10>'4 poules de 3'!K10,3),IF(Equipes!$V$2=2,IF('4 poules de 3'!L10>'4 poules de 3'!K10,4)))))) -> 0 | BC10: =IF(K10="",0,IF(K10>L10,0,IF(K10<L10,0,IF(Equipes!$V$2=1,IF('4 poules de 3'!K10='4 poules de 3'!L10,1),IF(Equipes!$V$2=2,IF('4 poules de 3'!K10=L10,2)))))) -> 0 | BD10: =IF(L10="",0,IF(L10>K10,0,IF(L10<K10,0,IF(Equipes!$V$2=1,IF('4 poules de 3'!L10='4 poules de 3'!K10,1),IF(Equipes!$V$2=2,IF('4 poules de 3'!L10='4 poules de 3'!K10,2)))))) -> 0 | BE10: =IF(K10="",0,IF(K10>L10,0,IF(K10=L10,0,IF(Equipes!$V$2=1,IF('4 poules de 3'!K10<'4 poules de 3'!L10,0),IF(Equipes!$V$2=2,IF('4 poules de 3'!K10<'4 poules de 3'!L10,1)))))) -> 0 | BF10: =IF(L10="",0,IF(L10>K10,0,IF(L10=K10,0,IF(Equipes!$V$2=1,IF('4 poules de 3'!L10<'4 poules de 3'!K10,0),IF(Equipes!$V$2=2,IF('4 poules de 3'!L10<'4 poules de 3'!K10,1)))))) -> 0 | BG10: =SUM(BA10,BC10,BE10) -> 0 | BH10: =SUM(BB10,BD10,BF10) -> 0 | BI10: =IF(K10="",0,1) -> 0 | BJ10: =IF(L10="",0,1) -> 0 | BK10: =IF(K10<>"",IF(K10>L10,1)) -> FALSE | BL10: =IF(L10<>"",IF(L10>K10,1)) -> FALSE | BM10: =IF(K10<>"",IF(K10=L10,1)) -> FALSE | BN10: =IF(L10<>"",IF(L10=K10,1)) -> FALSE | BO10: =IF(K10<>"",IF(K10<L10,1)) -> FALSE | BP10: =IF(L10<>"",IF(L10<K10,1)) -> FALSE | BQ10: =K10 -> 0 | BR10: =L10 -> 0 | BS10: =L10 -> 0 | BT10: =K10 -> 0 | BU10: =VLOOKUP(AH10,AI10:AO12,2,0) -> 0 | BV10: =VLOOKUP(BU10,AJ10:AY12,16,0) -> 0 | BW10: =RANK(BV10,BV10:BV12) -> 1
