Workbook
Name Groupe_jaune: Equipes!$A$8:$A$12
Name Groupe_rouge: Equipes!$A$2:$A$6

Sheet Equipes
A1: Groupe rouge
A2: Alliance Nord Aix 2 | B2: Rouge
A3: EMH Allauh | B3: Rouge
A4: FC Pourrière | B4: Rouge
A5: Rousset 1 | B5: Rouge
A6: Rousset 3 | B6: Rouge
A7: Groupe jaune
A8: E | B8: Jaune
A9: Gardanne Biver | B9: Jaune
A10: La Tour d'Aigues | B10: Jaune
A11: Rousset 2 | B11: Jaune
A12: Vivaux Sauvagère | B12: Jaune

Sheet Résultats et Classements
A1: GROUPE ROUGE | H1: CLASSEMENT GROUPE ROUGE | T1: CLASSEMENT GROUPE ROUGE | AG1: Dom. | AH1: Ext. | AI1: Dom. | AJ1: Ext. | AK1: Dom. | AL1: Ext. | AM1: Dom. | AN1: Ext. | AO1: Dom. | AP1: Ext. | AQ1: Dom. | AR1: Ext. | AS1: Dom. | AT1: Ext.
A3: Equipes | B3: Scores | D3: Equipes | E3: Dates | F3: Horaires | H3: Place | I3: Equipes | J3: Pts | K3: J | L3: G | M3: N | N3: P | O3: Bp | P3: Bc | Q3: Diff. | R3: Rang | T3: Equipes | U3: Rang | V3: Place | W3: Pts | X3: J | Y3: G | Z3: N | AA3: P | AB3: Bp | AC3: Bc | AD3: Diff. | AE3: Rang | AF3: Place | AG3: Pts | AH3: Pts | AI3: J | AJ3: J | AK3: G | AL3: G | AM3: N | AN3: N | AO3: P | AP3: P | AQ3: Bp | AR3: Bp | AS3: Bc | AT3: Bc | AU3: Equipes | AV3: % | AW3: R | AX3: Equipes
A4: Rousset 1 | B4: 2 | C4: 1 | D4: EMH Allauh | H4: 1 | I4: =VLOOKUP(R4,S4:T8,2,0) -> Rousset 1 | J4: =VLOOKUP(I4,T4:AD8,4,0) -> 16 | K4: =VLOOKUP(I4,T4:AD8,5,0) -> 4 | L4: =VLOOKUP(I4,T4:AD8,6,0) -> 4 | M4: =VLOOKUP(I4,T4:AD8,7,0) -> 0 | N4: =VLOOKUP(I4,T4:AD8,8,0) -> 0 | O4: =VLOOKUP(I4,T4:AD8,9,0) -> 11 | P4: =VLOOKUP(I4,T4:AD8,10,0) -> 5 | Q4: =VLOOKUP(I4,T4:AD8,11,0) -> 6 | R4: 1 | S4: =V4 -> 5 | T4: =Equipes!A2 -> Alliance Nord Aix 2 | U4: =RANK(AE4,AE4:AE8) -> 5 | V4: =RANK(AF4,AF4:AF8) -> 5 | W4: =SUMPRODUCT((A4:A13=T4)*(AG4:AG13))+SUMPRODUCT((D4:D13=T4)*(AH4:AH13)) -> 5 | X4: =SUMPRODUCT((A4:A13=T4)*(AI4:AI13))+SUMPRODUCT((D4:D13=T4)*(AJ4:AJ13)) -> 4 | Y4: =SUMPRODUCT((A4:A13=T4)*(AK4:AK13))+SUMPRODUCT((D4:D13=T4)*(AL4:AL13)) -> 0 | Z4: =SUMPRODUCT((A4:A13=T4)*(AM4:AM13))+SUMPRODUCT((D4:D13=T4)*(AN4:AN13)) -> 1 | AA4: =SUMPRODUCT((A4:A13=T4)*(AO4:AO13))+SUMPRODUCT((D4:D13=T4)*(AP4:AP13)) -> 3 | AB4: =SUMPRODUCT((A4:A13=T4)*(AQ4:AQ13))+SUMPRODUCT((D4:D13=T4)*(AR4:AR13)) -> 6 | AC4: =SUMPRODUCT((A4:A13=T4)*(AS4:AS13))+SUMPRODUCT((D4:D13=T4)*(AT4:AT13)) -> 10 | AD4: =AB4-AC4 -> -4 | AE4: =SUM(W4*1000+(AD4)/100+(AB4)/1000) -> 4999.966 | AF4: =AE4+0.0000005 -> 4999.966 | AG4: =IF(B4="",0,IF(B4>C4,4,IF(B4=C4,2,IF(B4<C4,1)))) -> 4 | AH4: =IF(C4="",0,IF(C4>B4,4,IF(C4=B4,2,IF(C4<B4,1)))) -> 1 | AI4: =IF(B4="",0,1) -> 1 | AJ4: =IF(C4="",0,1) -> 1 | AK4: =IF(B4<>"",IF(B4>C4,1)) -> 1 | AL4: =IF(C4<>"",IF(C4>B4,1)) -> FALSE | AM4: =IF(B4<>"",IF(B4=C4,1)) -> FALSE | AN4: =IF(C4<>"",IF(C4=B4,1)) -> FALSE | AO4: =IF(B4<>"",IF(B4<C4,1)) -> FALSE | AP4: =IF(C4<>"",IF(C4<B4,1)) -> 1 | AQ4: =B4 -> 2 | AR4: =C4 -> 1 | AS4: =C4 -> 1 | AT4: =B4 -> 2 | AU4: =VLOOKUP(R4,S4:T8,2,0) -> Rousset 1 | AV4: =VLOOKUP(AU4,T4:AE8,12,0) -> 16000.071 | AW4: =RANK(AV4,AV4:AV8) -> 1 | AX4: =T4 -> Alliance Nord Aix 2
A5: FC Pourrière | B5: 3 | C5: 2 | D5: Alliance Nord Aix 2 | H5: =IF(AV5=AV4,AW4,AW5) -> 2 | I5: =VLOOKUP(R5,S4:T8,2,0) -> Rousset 3 | J5: =VLOOKUP(I5,T4:AD8,4,0) -> 13 | K5: =VLOOKUP(I5,T4:AD8,5,0) -> 4 | L5: =VLOOKUP(I5,T4:AD8,6,0) -> 3 | M5: =VLOOKUP(I5,T4:AD8,7,0) -> 0 | N5: =VLOOKUP(I5,T4:AD8,8,0) -> 1 | O5: =VLOOKUP(I5,T4:AD8,9,0) -> 11 | P5: =VLOOKUP(I5,T4:AD8,10,0) -> 6 | Q5: =VLOOKUP(I5,T4:AD8,11,0) -> 5 | R5: 2 | S5: =V5 -> 4 | T5: =Equipes!A3 -> EMH Allauh | U5: =RANK(AE5,AE4:AE8) -> 4 | V5: =RANK(AF5,AF4:AF8) -> 4 | W5: =SUMPRODUCT((A4:A13=T5)*(AG4:AG13))+SUMPRODUCT((D4:D13=T5)*(AH4:AH13)) -> 6 | X5: =SUMPRODUCT((A4:A13=T5)*(AI4:AI13))+SUMPRODUCT((D4:D13=T5)*(AJ4:AJ13)) -> 4 | Y5: =SUMPRODUCT((A4:A13=T5)*(AK4:AK13))+SUMPRODUCT((D4:D13=T5)*(AL4:AL13)) -> 0 | Z5: =SUMPRODUCT((A4:A13=T5)*(AM4:AM13))+SUMPRODUCT((D4:D13=T5)*(AN4:AN13)) -> 2 | AA5: =SUMPRODUCT((A4:A13=T5)*(AO4:AO13))+SUMPRODUCT((D4:D13=T5)*(AP4:AP13)) -> 2 | AB5: =SUMPRODUCT((A4:A13=T5)*(AQ4:AQ13))+SUMPRODUCT((D4:D13=T5)*(AR4:AR13)) -> 4 | AC5: =SUMPRODUCT((A4:A13=T5)*(AS4:AS13))+SUMPRODUCT((D4:D13=T5)*(AT4:AT13)) -> 9 | AD5: =AB5-AC5 -> -5 | AE5: =SUM(W5*1000+(AD5)/100+(AB5)/1000) -> 5999.954 | AF5: =AE5+0.0000004 -> 5999.954 | AG5: =IF(B5="",0,IF(B5>C5,4,IF(B5=C5,2,IF(B5<C5,1)))) -> 4 | AH5: =IF(C5="",0,IF(C5>B5,4,IF(C5=B5,2,IF(C5<B5,1)))) -> 1 | AI5: =IF(B5="",0,1) -> 1 | AJ5: =IF(C5="",0,1) -> 1 | AK5: =IF(B5<>"",IF(B5>C5,1)) -> 1 | AL5: =IF(C5<>"",IF(C5>B5,1)) -> FALSE | AM5: =IF(B5<>"",IF(B5=C5,1)) -> FALSE | AN5: =IF(C5<>"",IF(C5=B5,1)) -> FALSE | AO5: =IF(B5<>"",IF(B5<C5,1)) -> FALSE | AP5: =IF(C5<>"",IF(C5<B5,1)) -> 1 | AQ5: =B5 -> 3 | AR5: =C5 -> 2 | AS5: =C5 -> 2 | AT5: =B5 -> 3 | AU5: =VLOOKUP(R5,S4:T8,2,0) -> Rousset 3 | AV5: =VLOOKUP(AU5,T4:AE8,12,0) -> 13000.061 | AW5: =RANK(AV5,AV4:AV8) -> 2 | AX5: =T5 -> EMH Allauh
A6: Rousset 3 | B6: 1 | C6: 2 | D6: Rousset 1 | E6: 43434 | F6: 0.625 | H6: =IF(AV6=AV5,AW5,AW6) -> 3 | I6: =VLOOKUP(R6,S4:T8,2,0) -> FC Pourrière | J6: =VLOOKUP(I6,T4:AD8,4,0) -> 8 | K6: =VLOOKUP(I6,T4:AD8,5,0) -> 4 | L6: =VLOOKUP(I6,T4:AD8,6,0) -> 1 | M6: =VLOOKUP(I6,T4:AD8,7,0) -> 1 | N6: =VLOOKUP(I6,T4:AD8,8,0) -> 2 | O6: =VLOOKUP(I6,T4:AD8,9,0) -> 7 | P6: =VLOOKUP(I6,T4:AD8,10,0) -> 9 | Q6: =VLOOKUP(I6,T4:AD8,11,0) -> -2 | R6: 3 | S6: =V6 -> 3 | T6: =Equipes!A4 -> FC Pourrière | U6: =RANK(AE6,AE4:AE8) -> 3 | V6: =RANK(AF6,AF4:AF8) -> 3 | W6: =SUMPRODUCT((A4:A13=T6)*(AG4:AG13))+SUMPRODUCT((D4:D13=T6)*(AH4:AH13)) -> 8 | X6: =SUMPRODUCT((A4:A13=T6)*(AI4:AI13))+SUMPRODUCT((D4:D13=T6)*(AJ4:AJ13)) -> 4 | Y6: =SUMPRODUCT((A4:A13=T6)*(AK4:AK13))+SUMPRODUCT((D4:D13=T6)*(AL4:AL13)) -> 1 | Z6: =SUMPRODUCT((A4:A13=T6)*(AM4:AM13))+SUMPRODUCT((D4:D13=T6)*(AN4:AN13)) -> 1 | AA6: =SUMPRODUCT((A4:A13=T6)*(AO4:AO13))+SUMPRODUCT((D4:D13=T6)*(AP4:AP13)) -> 2 | AB6: =SUMPRODUCT((A4:A13=T6)*(AQ4:AQ13))+SUMPRODUCT((D4:D13=T6)*(AR4:AR13)) -> 7 | AC6: =SUMPRODUCT((A4:A13=T6)*(AS4:AS13))+SUMPRODUCT((D4:D13=T6)*(AT4:AT13)) -> 9 | AD6: =AB6-AC6 -> -2 | AE6: =SUM(W6*1000+(AD6)/100+(AB6)/1000) -> 7999.987 | AF6: =AE6+0.0000003 -> 7999.987 | AG6: =IF(B6="",0,IF(B6>C6,4,IF(B6=C6,2,IF(B6<C6,1)))) -> 1 | AH6: =IF(C6="",0,IF(C6>B6,4,IF(C6=B6,2,IF(C6<B6,1)))) -> 4 | AI6: =IF(B6="",0,1) -> 1 | AJ6: =IF(C6="",0,1) -> 1 | AK6: =IF(B6<>"",IF(B6>C6,1)) -> FALSE | AL6: =IF(C6<>"",IF(C6>B6,1)) -> 1 | AM6: =IF(B6<>"",IF(B6=C6,1)) -> FALSE | AN6: =IF(C6<>"",IF(C6=B6,1)) -> FALSE | AO6: =IF(B6<>"",IF(B6<C6,1)) -> 1 | AP6: =IF(C6<>"",IF(C6<B6,1)) -> FALSE | AQ6: =B6 -> 1 | AR6: =C6 -> 2 | AS6: =C6 -> 2 | AT6: =B6 -> 1 | AU6: =VLOOKUP(R6,S4:T8,2,0) -> FC Pourrière | AV6: =VLOOKUP(AU6,T4:AE8,12,0) -> 7999.987 | AW6: =RANK(AV6,AV4:AV8) -> 3 | AX6: =T6 -> FC Pourrière
A7: EMH Allauh | B7: 2 | C7: 2 | D7: FC Pourrière | H7: =IF(AV7=AV6,AW6,AW7) -> 4 | I7: =VLOOKUP(R7,S4:T8,2,0) -> EMH Allauh | J7: =VLOOKUP(I7,T4:AD8,4,0) -> 6 | K7: =VLOOKUP(I7,T4:AD8,5,0) -> 4 | L7: =VLOOKUP(I7,T4:AD8,6,0) -> 0 | M7: =VLOOKUP(I7,T4:AD8,7,0) -> 2 | N7: =VLOOKUP(I7,T4:AD8,8,0) -> 2 | O7: =VLOOKUP(I7,T4:AD8,9,0) -> 4 | P7: =VLOOKUP(I7,T4:AD8,10,0) -> 9 | Q7: =VLOOKUP(I7,T4:AD8,11,0) -> -5 | R7: 4 | S7: =V7 -> 1 | T7: =Equipes!A5 -> Rousset 1 | U7: =RANK(AE7,AE4:AE8) -> 1 | V7: =RANK(AF7,AF4:AF8) -> 1 | W7: =SUMPRODUCT((A4:A13=T7)*(AG4:AG13))+SUMPRODUCT((D4:D13=T7)*(AH4:AH13)) -> 16 | X7: =SUMPRODUCT((A4:A13=T7)*(AI4:AI13))+SUMPRODUCT((D4:D13=T7)*(AJ4:AJ13)) -> 4 | Y7: =SUMPRODUCT((A4:A13=T7)*(AK4:AK13))+SUMPRODUCT((D4:D13=T7)*(AL4:AL13)) -> 4 | Z7: =SUMPRODUCT((A4:A13=T7)*(AM4:AM13))+SUMPRODUCT((D4:D13=T7)*(AN4:AN13)) -> 0 | AA7: =SUMPRODUCT((A4:A13=T7)*(AO4:AO13))+SUMPRODUCT((D4:D13=T7)*(AP4:AP13)) -> 0 | AB7: =SUMPRODUCT((A4:A13=T7)*(AQ4:AQ13))+SUMPRODUCT((D4:D13=T7)*(AR4:AR13)) -> 11 | AC7: =SUMPRODUCT((A4:A13=T7)*(AS4:AS13))+SUMPRODUCT((D4:D13=T7)*(AT4:AT13)) -> 5 | AD7: =AB7-AC7 -> 6 | AE7: =SUM(W7*1000+(AD7)/100+(AB7)/1000) -> 16000.071 | AF7: =AE7+0.0000002 -> 16000.071 | AG7: =IF(B7="",0,IF(B7>C7,4,IF(B7=C7,2,IF(B7<C7,1)))) -> 2 | AH7: =IF(C7="",0,IF(C7>B7,4,IF(C7=B7,2,IF(C7<B7,1)))) -> 2 | AI7: =IF(B7="",0,1) -> 1 | AJ7: =IF(C7="",0,1) -> 1 | AK7: =IF(B7<>"",IF(B7>C7,1)) -> FALSE | AL7: =IF(C7<>"",IF(C7>B7,1)) -> FALSE | AM7: =IF(B7<>"",IF(B7=C7,1)) -> 1 | AN7: =IF(C7<>"",IF(C7=B7,1)) -> 1 | AO7: =IF(B7<>"",IF(B7<C7,1)) -> FALSE | AP7: =IF(C7<>"",IF(C7<B7,1)) -> FALSE | AQ7: =B7 -> 2 | AR7: =C7 -> 2 | AS7: =C7 -> 2 | AT7: =B7 -> 2 | AU7: =VLOOKUP(R7,S4:T8,2,0) -> EMH Allauh | AV7: =VLOOKUP(AU7,T4:AE8,12,0) -> 5999.954 | AW7: =RANK(AV7,AV4:AV8) -> 4 | AX7: =T7 -> Rousset 1
A8: Alliance Nord Aix 2 | B8: 2 | C8: 3 | D8: Rousset 3 | H8: =IF(AV8=AV7,AW7,AW8) -> 5 | I8: =VLOOKUP(R8,S4:T8,2,0) -> Alliance Nord Aix 2 | J8: =VLOOKUP(I8,T4:AD8,4,0) -> 5 | K8: =VLOOKUP(I8,T4:AD8,5,0) -> 4 | L8: =VLOOKUP(I8,T4:AD8,6,0) -> 0 | M8: =VLOOKUP(I8,T4:AD8,7,0) -> 1 | N8: =VLOOKUP(I8,T4:AD8,8,0) -> 3 | O8: =VLOOKUP(I8,T4:AD8,9,0) -> 6 | P8: =VLOOKUP(I8,T4:AD8,10,0) -> 10 | Q8: =VLOOKUP(I8,T4:AD8,11,0) -> -4 | R8: 5 | S8: =V8 -> 2 | T8: =Equipes!A6 -> Rousset 3 | U8: =RANK(AE8,AE4:AE8) -> 2 | V8: =RANK(AF8,AF4:AF8) -> 2 | W8: =SUMPRODUCT((A4:A13=T8)*(AG4:AG13))+SUMPRODUCT((D4:D13=T8)*(AH4:AH13)) -> 13 | X8: =SUMPRODUCT((A4:A13=T8)*(AI4:AI13))+SUMPRODUCT((D4:D13=T8)*(AJ4:AJ13)) -> 4 | Y8: =SUMPRODUCT((A4:A13=T8)*(AK4:AK13))+SUMPRODUCT((D4:D13=T8)*(AL4:AL13)) -> 3 | Z8: =SUMPRODUCT((A4:A13=T8)*(AM4:AM13))+SUMPRODUCT((D4:D13=T8)*(AN4:AN13)) -> 0 | AA8: =SUMPRODUCT((A4:A13=T8)*(AO4:AO13))+SUMPRODUCT((D4:D13=T8)*(AP4:AP13)) -> 1 | AB8: =SUMPRODUCT((A4:A13=T8)*(AQ4:AQ13))+SUMPRODUCT((D4:D13=T8)*(AR4:AR13)) -> 11 | AC8: =SUMPRODUCT((A4:A13=T8)*(AS4:AS13))+SUMPRODUCT((D4:D13=T8)*(AT4:AT13)) -> 6 | AD8: =AB8-AC8 -> 5 | AE8: =SUM(W8*1000+(AD8)/100+(AB8)/1000) -> 13000.061 | AF8: =AE8+0.0000001 -> 13000.061 | AG8: =IF(B8="",0,IF(B8>C8,4,IF(B8=C8,2,IF(B8<C8,1)))) -> 1 | AH8: =IF(C8="",0,IF(C8>B8,4,IF(C8=B8,2,IF(C8<B8,1)))) -> 4 | AI8: =IF(B8="",0,1) -> 1 | AJ8: =IF(C8="",0,1) -> 1 | AK8: =IF(B8<>"",IF(B8>C8,1)) -> FALSE | AL8: =IF(C8<>"",IF(C8>B8,1)) -> 1 | AM8: =IF(B8<>"",IF(B8=C8,1)) -> FALSE | AN8: =IF(C8<>"",IF(C8=B8,1)) -> FALSE | AO8: =IF(B8<>"",IF(B8<C8,1)) -> 1 | AP8: =IF(C8<>"",IF(C8<B8,1)) -> FALSE | AQ8: =B8 -> 2 | AR8: =C8 -> 3 | AS8: =C8 -> 3 | AT8: =B8 -> 2 | AU8: =VLOOKUP(R8,S4:T8,2,0) -> Alliance Nord Aix 2 | AV8: =VLOOKUP(AU8,T4:AE8,12,0) -> 4999.966 | AW8: =RANK(AV8,AV4:AV8) -> 5 | AX8: =T8 -> Rousset 3
A9: Rousset 1 | B9: 3 | C9: 1 | D9: FC Pourrière | AG9: =IF(B9="",0,IF(B9>C9,4,IF(B9=C9,2,IF(B9<C9,1)))) -> 4 | AH9: =IF(C9="",0,IF(C9>B9,4,IF(C9=B9,2,IF(C9<B9,1)))) -> 1 | AI9: =IF(B9="",0,1) -> 1 | AJ9: =IF(C9="",0,1) -> 1 | AK9: =IF(B9<>"",IF(B9>C9,1)) -> 1 | AL9: =IF(C9<>"",IF(C9>B9,1)) -> FALSE | AM9: =IF(B9<>"",IF(B9=C9,1)) -> FALSE | AN9: =IF(C9<>"",IF(C9=B9,1)) -> FALSE | AO9: =IF(B9<>"",IF(B9<C9,1)) -> FALSE | AP9: =IF(C9<>"",IF(C9<B9,1)) -> 1 | AQ9: =B9 -> 3 | AR9: =C9 -> 1 | AS9: =C9 -> 1 | AT9: =B9 -> 3
A10: EMH Allauh | B10: 0 | C10: 0 | D10: Alliance Nord Aix 2 | AG10: =IF(B10="",0,IF(B10>C10,4,IF(B10=C10,2,IF(B10<C10,1)))) -> 2 | AH10: =IF(C10="",0,IF(C10>B10,4,IF(C10=B10,2,IF(C10<B10,1)))) -> 2 | AI10: =IF(B10="",0,1) -> 1 | AJ10: =IF(C10="",0,1) -> 1 | AK10: =IF(B10<>"",IF(B10>C10,1)) -> FALSE | AL10: =IF(C10<>"",IF(C10>B10,1)) -> FALSE | AM10: =IF(B10<>"",IF(B10=C10,1)) -> 1 | AN10: =IF(C10<>"",IF(C10=B10,1)) -> 1 | AO10: =IF(B10<>"",IF(B10<C10,1)) -> FALSE | AP10: =IF(C10<>"",IF(C10<B10,1)) -> FALSE | AQ10: =B10 -> 0 | AR10: =C10 -> 0 | AS10: =C10 -> 0 | AT10: =B10 -> 0
A11: Rousset 3 | B11: 2 | C11: 1 | D11: FC Pourrière | AG11: =IF(B11="",0,IF(B11>C11,4,IF(B11=C11,2,IF(B11<C11,1)))) -> 4 | AH11: =IF(C11="",0,IF(C11>B11,4,IF(C11=B11,2,IF(C11<B11,1)))) -> 1 | AI11: =IF(B11="",0,1) -> 1 | AJ11: =IF(C11="",0,1) -> 1 | AK11: =IF(B11<>"",IF(B11>C11,1)) -> 1 | AL11: =IF(C11<>"",IF(C11>B11,1)) -> FALSE | AM11: =IF(B11<>"",IF(B11=C11,1)) -> FALSE | AN11: =IF(C11<>"",IF(C11=B11,1)) -> FALSE | AO11: =IF(B11<>"",IF(B11<C11,1)) -> FALSE | AP11: =IF(C11<>"",IF(C11<B11,1)) -> 1 | AQ11: =B11 -> 2 | AR11: =C11 -> 1 | AS11: =C11 -> 1 | AT11: =B11 -> 2
A12: Rousset 1 | B12: 4 | C12: 2 | D12: Alliance Nord Aix 2 | AG12: =IF(B12="",0,IF(B12>C12,4,IF(B12=C12,2,IF(B12<C12,1)))) -> 4 | AH12: =IF(C12="",0,IF(C12>B12,4,IF(C12=B12,2,IF(C12<B12,1)))) -> 1 | AI12: =IF(B12="",0,1) -> 1 | AJ12: =IF(C12="",0,1) -> 1 | AK12: =IF(B12<>"",IF(B12>C12,1)) -> 1 | AL12: =IF(C12<>"",IF(C12>B12,1)) -> FALSE | AM12: =IF(B12<>"",IF(B12=C12,1)) -> FALSE | AN12: =IF(C12<>"",IF(C12=B12,1)) -> FALSE | AO12: =IF(B12<>"",IF(B12<C12,1)) -> FALSE | AP12: =IF(C12<>"",IF(C12<B12,1)) -> 1 | AQ12: =B12 -> 4 | AR12: =C12 -> 2 | AS12: =C12 -> 2 | AT12: =B12 -> 4
A13: EMH Allauh | B13: 1 | C13: 5 | D13: Rousset 3 | AG13: =IF(B13="",0,IF(B13>C13,4,IF(B13=C13,2,IF(B13<C13,1)))) -> 1 | AH13: =IF(C13="",0,IF(C13>B13,4,IF(C13=B13,2,IF(C13<B13,1)))) -> 4 | AI13: =IF(B13="",0,1) -> 1 | AJ13: =IF(C13="",0,1) -> 1 | AK13: =IF(B13<>"",IF(B13>C13,1)) -> FALSE | AL13: =IF(C13<>"",IF(C13>B13,1)) -> 1 | AM13: =IF(B13<>"",IF(B13=C13,1)) -> FALSE | AN13: =IF(C13<>"",IF(C13=B13,1)) -> FALSE | AO13: =IF(B13<>"",IF(B13<C13,1)) -> 1 | AP13: =IF(C13<>"",IF(C13<B13,1)) -> FALSE | AQ13: =B13 -> 1 | AR13: =C13 -> 5 | AS13: =C13 -> 5 | AT13: =B13 -> 1
A15: GROUPE JAUNE | H15: CLASSEMENT GROUPE JAUNE | T15: CLASSEMENT GROUPE JAUNE | AG15: Dom. | AH15: Ext. | AI15: Dom. | AJ15: Ext. | AK15: Dom. | AL15: Ext. | AM15: Dom. | AN15: Ext. | AO15: Dom. | AP15: Ext. | AQ15: Dom. | AR15: Ext. | AS15: Dom. | AT15: Ext.
A17: Equipes | B17: Scores | D17: Equipes | E17: Dates | F17: Horaires | H17: Place | I17: Equipes | J17: Pts | K17: J | L17: G | M17: N | N17: P | O17: Bp | P17: Bc | Q17: Diff. | R17: Rang | T17: Equipes | U17: Rang | V17: Place | W17: Pts | X17: J | Y17: G | Z17: N | AA17: P | AB17: Bp | AC17: Bc | AD17: Diff. | AE17: Rang | AF17: Place | AG17: Pts | AH17: Pts | AI17: J | AJ17: J | AK17: G | AL17: G | AM17: N | AN17: N | AO17: P | AP17: P | AQ17: Bp | AR17: Bp | AS17: Bc | AT17: Bc | AU17: Equipes | AV17: % | AW17: R | AX17: Equipes
A18: Rousset 2 | B18: 2 | C18: 1 | D18: Vivaux Sauvagère | H18: 1 | I18: =VLOOKUP(R18,S18:T22,2,0) -> Rousset 2 | J18: =VLOOKUP(I18,T18:AD22,4,0) -> 16 | K18: =VLOOKUP(I18,T18:AD22,5,0) -> 4 | L18: =VLOOKUP(I18,T18:AD22,6,0) -> 4 | M18: =VLOOKUP(I18,T18:AD22,7,0) -> 0 | N18: =VLOOKUP(I18,T18:AD22,8,0) -> 0 | O18: =VLOOKUP(I18,T18:AD22,9,0) -> 11 | P18: =VLOOKUP(I18,T18:AD22,10,0) -> 5 | Q18: =VLOOKUP(I18,T18:AD22,11,0) -> 6 | R18: 1 | S18: =V18 -> 2 | T18: =Equipes!A8 -> E | U18: =RANK(AE18,AE18:AE22) -> 2 | V18: =RANK(AF18,AF18:AF22) -> 2 | W18: =SUMPRODUCT((A18:A27=T18)*(AG18:AG27))+SUMPRODUCT((D18:D27=T18)*(AH18:AH27)) -> 13 | X18: =SUMPRODUCT((A18:A27=T18)*(AI18:AI27))+SUMPRODUCT((D18:D27=T18)*(AJ18:AJ27)) -> 4 | Y18: =SUMPRODUCT((A18:A27=T18)*(AK18:AK27))+SUMPRODUCT((D18:D27=T18)*(AL18:AL27)) -> 3 | Z18: =SUMPRODUCT((A18:A27=T18)*(AM18:AM27))+SUMPRODUCT((D18:D27=T18)*(AN18:AN27)) -> 0 | AA18: =SUMPRODUCT((A18:A27=T18)*(AO18:AO27))+SUMPRODUCT((D18:D27=T18)*(AP18:AP27)) -> 1 | AB18: =SUMPRODUCT((A18:A27=T18)*(AQ18:AQ27))+SUMPRODUCT((D18:D27=T18)*(AR18:AR27)) -> 11 | AC18: =SUMPRODUCT((A18:A27=T18)*(AS18:AS27))+SUMPRODUCT((D18:D27=T18)*(AT18:AT27)) -> 6 | AD18: =AB18-AC18 -> 5 | AE18: =SUM(W18*1000+(AD18)/100+(AB18)/1000) -> 13000.061 | AF18: =AE18+0.0000005 -> 13000.061 | AG18: =IF(B18="",0,IF(B18>C18,4,IF(B18=C18,2,IF(B18<C18,1)))) -> 4 | AH18: =IF(C18="",0,IF(C18>B18,4,IF(C18=B18,2,IF(C18<B18,1)))) -> 1 | AI18: =IF(B18="",0,1) -> 1 | AJ18: =IF(C18="",0,1) -> 1 | AK18: =IF(B18<>"",IF(B18>C18,1)) -> 1 | AL18: =IF(C18<>"",IF(C18>B18,1)) -> FALSE | AM18: =IF(B18<>"",IF(B18=C18,1)) -> FALSE | AN18: =IF(C18<>"",IF(C18=B18,1)) -> FALSE | AO18: =IF(B18<>"",IF(B18<C18,1)) -> FALSE | AP18: =IF(C18<>"",IF(C18<B18,1)) -> 1 | AQ18: =B18 -> 2 | AR18: =C18 -> 1 | AS18: =C18 -> 1 | AT18: =B18 -> 2 | AU18: =VLOOKUP(R18,S18:T22,2,0) -> Rousset 2 | AV18: =VLOOKUP(AU18,T18:AE22,12,0) -> 16000.071 | AW18: =RANK(AV18,AV18:AV22) -> 1 | AX18: =T18 -> E
A19: Gardanne Biver | B19: 3 | C19: 2 | D19: La Tour d'Aigues | H19: =IF(AV19=AV18,AW18,AW19) -> 2 | I19: =VLOOKUP(R19,S18:T22,2,0) -> E | J19: =VLOOKUP(I19,T18:AD22,4,0) -> 13 | K19: =VLOOKUP(I19,T18:AD22,5,0) -> 4 | L19: =VLOOKUP(I19,T18:AD22,6,0) -> 3 | M19: =VLOOKUP(I19,T18:AD22,7,0) -> 0 | N19: =VLOOKUP(I19,T18:AD22,8,0) -> 1 | O19: =VLOOKUP(I19,T18:AD22,9,0) -> 11 | P19: =VLOOKUP(I19,T18:AD22,10,0) -> 6 | Q19: =VLOOKUP(I19,T18:AD22,11,0) -> 5 | R19: 2 | S19: =V19 -> 3 | T19: =Equipes!A9 -> Gardanne Biver | U19: =RANK(AE19,AE18:AE22) -> 3 | V19: =RANK(AF19,AF18:AF22) -> 3 | W19: =SUMPRODUCT((A18:A27=T19)*(AG18:AG27))+SUMPRODUCT((D18:D27=T19)*(AH18:AH27)) -> 8 | X19: =SUMPRODUCT((A18:A27=T19)*(AI18:AI27))+SUMPRODUCT((D18:D27=T19)*(AJ18:AJ27)) -> 4 | Y19: =SUMPRODUCT((A18:A27=T19)*(AK18:AK27))+SUMPRODUCT((D18:D27=T19)*(AL18:AL27)) -> 1 | Z19: =SUMPRODUCT((A18:A27=T19)*(AM18:AM27))+SUMPRODUCT((D18:D27=T19)*(AN18:AN27)) -> 1 | AA19: =SUMPRODUCT((A18:A27=T19)*(AO18:AO27))+SUMPRODUCT((D18:D27=T19)*(AP18:AP27)) -> 2 | AB19: =SUMPRODUCT((A18:A27=T19)*(AQ18:AQ27))+SUMPRODUCT((D18:D27=T19)*(AR18:AR27)) -> 7 | AC19: =SUMPRODUCT((A18:A27=T19)*(AS18:AS27))+SUMPRODUCT((D18:D27=T19)*(AT18:AT27)) -> 9 | AD19: =AB19-AC19 -> -2 | AE19: =SUM(W19*1000+(AD19)/100+(AB19)/1000) -> 7999.987 | AF19: =AE19+0.0000004 -> 7999.987 | AG19: =IF(B19="",0,IF(B19>C19,4,IF(B19=C19,2,IF(B19<C19,1)))) -> 4 | AH19: =IF(C19="",0,IF(C19>B19,4,IF(C19=B19,2,IF(C19<B19,1)))) -> 1 | AI19: =IF(B19="",0,1) -> 1 | AJ19: =IF(C19="",0,1) -> 1 | AK19: =IF(B19<>"",IF(B19>C19,1)) -> 1 | AL19: =IF(C19<>"",IF(C19>B19,1)) -> FALSE | AM19: =IF(B19<>"",IF(B19=C19,1)) -> FALSE | AN19: =IF(C19<>"",IF(C19=B19,1)) -> FALSE | AO19: =IF(B19<>"",IF(B19<C19,1)) -> FALSE | AP19: =IF(C19<>"",IF(C19<B19,1)) -> 1 | AQ19: =B19 -> 3 | AR19: =C19 -> 2 | AS19: =C19 -> 2 | AT19: =B19 -> 3 | AU19: =VLOOKUP(R19,S18:T22,2,0) -> E | AV19: =VLOOKUP(AU19,T18:AE22,12,0) -> 13000.061 | AW19: =RANK(AV19,AV18:AV22) -> 2 | AX19: =T19 -> Gardanne Biver
A20: E | B20: 1 | C20: 2 | D20: Rousset 2 | H20: =IF(AV20=AV19,AW19,AW20) -> 3 | I20: =VLOOKUP(R20,S18:T22,2,0) -> Gardanne Biver | J20: =VLOOKUP(I20,T18:AD22,4,0) -> 8 | K20: =VLOOKUP(I20,T18:AD22,5,0) -> 4 | L20: =VLOOKUP(I20,T18:AD22,6,0) -> 1 | M20: =VLOOKUP(I20,T18:AD22,7,0) -> 1 | N20: =VLOOKUP(I20,T18:AD22,8,0) -> 2 | O20: =VLOOKUP(I20,T18:AD22,9,0) -> 7 | P20: =VLOOKUP(I20,T18:AD22,10,0) -> 9 | Q20: =VLOOKUP(I20,T18:AD22,11,0) -> -2 | R20: 3 | S20: =V20 -> 5 | T20: =Equipes!A10 -> La Tour d'Aigues | U20: =RANK(AE20,AE18:AE22) -> 5 | V20: =RANK(AF20,AF18:AF22) -> 5 | W20: =SUMPRODUCT((A18:A27=T20)*(AG18:AG27))+SUMPRODUCT((D18:D27=T20)*(AH18:AH27)) -> 5 | X20: =SUMPRODUCT((A18:A27=T20)*(AI18:AI27))+SUMPRODUCT((D18:D27=T20)*(AJ18:AJ27)) -> 4 | Y20: =SUMPRODUCT((A18:A27=T20)*(AK18:AK27))+SUMPRODUCT((D18:D27=T20)*(AL18:AL27)) -> 0 | Z20: =SUMPRODUCT((A18:A27=T20)*(AM18:AM27))+SUMPRODUCT((D18:D27=T20)*(AN18:AN27)) -> 1 | AA20: =SUMPRODUCT((A18:A27=T20)*(AO18:AO27))+SUMPRODUCT((D18:D27=T20)*(AP18:AP27)) -> 3 | AB20: =SUMPRODUCT((A18:A27=T20)*(AQ18:AQ27))+SUMPRODUCT((D18:D27=T20)*(AR18:AR27)) -> 6 | AC20: =SUMPRODUCT((A18:A27=T20)*(AS18:AS27))+SUMPRODUCT((D18:D27=T20)*(AT18:AT27)) -> 10 | AD20: =AB20-AC20 -> -4 | AE20: =SUM(W20*1000+(AD20)/100+(AB20)/1000) -> 4999.966 | AF20: =AE20+0.0000003 -> 4999.966 | AG20: =IF(B20="",0,IF(B20>C20,4,IF(B20=C20,2,IF(B20<C20,1)))) -> 1 | AH20: =IF(C20="",0,IF(C20>B20,4,IF(C20=B20,2,IF(C20<B20,1)))) -> 4 | AI20: =IF(B20="",0,1) -> 1 | AJ20: =IF(C20="",0,1) -> 1 | AK20: =IF(B20<>"",IF(B20>C20,1)) -> FALSE | AL20: =IF(C20<>"",IF(C20>B20,1)) -> 1 | AM20: =IF(B20<>"",IF(B20=C20,1)) -> FALSE | AN20: =IF(C20<>"",IF(C20=B20,1)) -> FALSE | AO20: =IF(B20<>"",IF(B20<C20,1)) -> 1 | AP20: =IF(C20<>"",IF(C20<B20,1)) -> FALSE | AQ20: =B20 -> 1 | AR20: =C20 -> 2 | AS20: =C20 -> 2 | AT20: =B20 -> 1 | AU20: =VLOOKUP(R20,S18:T22,2,0) -> Gardanne Biver | AV20: =VLOOKUP(AU20,T18:AE22,12,0) -> 7999.987 | AW20: =RANK(AV20,AV18:AV22) -> 3 | AX20: =T20 -> La Tour d'Aigues
A21: Vivaux Sauvagère | B21: 2 | C21: 2 | D21: Gardanne Biver | H21: =IF(AV21=AV20,AW20,AW21) -> 4 | I21: =VLOOKUP(R21,S18:T22,2,0) -> Vivaux Sauvagère | J21: =VLOOKUP(I21,T18:AD22,4,0) -> 6 | K21: =VLOOKUP(I21,T18:AD22,5,0) -> 4 | L21: =VLOOKUP(I21,T18:AD22,6,0) -> 0 | M21: =VLOOKUP(I21,T18:AD22,7,0) -> 2 | N21: =VLOOKUP(I21,T18:AD22,8,0) -> 2 | O21: =VLOOKUP(I21,T18:AD22,9,0) -> 4 | P21: =VLOOKUP(I21,T18:AD22,10,0) -> 9 | Q21: =VLOOKUP(I21,T18:AD22,11,0) -> -5 | R21: 4 | S21: =V21 -> 1 | T21: =Equipes!A11 -> Rousset 2 | U21: =RANK(AE21,AE18:AE22) -> 1 | V21: =RANK(AF21,AF18:AF22) -> 1 | W21: =SUMPRODUCT((A18:A27=T21)*(AG18:AG27))+SUMPRODUCT((D18:D27=T21)*(AH18:AH27)) -> 16 | X21: =SUMPRODUCT((A18:A27=T21)*(AI18:AI27))+SUMPRODUCT((D18:D27=T21)*(AJ18:AJ27)) -> 4 | Y21: =SUMPRODUCT((A18:A27=T21)*(AK18:AK27))+SUMPRODUCT((D18:D27=T21)*(AL18:AL27)) -> 4 | Z21: =SUMPRODUCT((A18:A27=T21)*(AM18:AM27))+SUMPRODUCT((D18:D27=T21)*(AN18:AN27)) -> 0 | AA21: =SUMPRODUCT((A18:A27=T21)*(AO18:AO27))+SUMPRODUCT((D18:D27=T21)*(AP18:AP27)) -> 0 | AB21: =SUMPRODUCT((A18:A27=T21)*(AQ18:AQ27))+SUMPRODUCT((D18:D27=T21)*(AR18:AR27)) -> 11 | AC21: =SUMPRODUCT((A18:A27=T21)*(AS18:AS27))+SUMPRODUCT((D18:D27=T21)*(AT18:AT27)) -> 5 | AD21: =AB21-AC21 -> 6 | AE21: =SUM(W21*1000+(AD21)/100+(AB21)/1000) -> 16000.071 | AF21: =AE21+0.0000002 -> 16000.071 | AG21: =IF(B21="",0,IF(B21>C21,4,IF(B21=C21,2,IF(B21<C21,1)))) -> 2 | AH21: =IF(C21="",0,IF(C21>B21,4,IF(C21=B21,2,IF(C21<B21,1)))) -> 2 | AI21: =IF(B21="",0,1) -> 1 | AJ21: =IF(C21="",0,1) -> 1 | AK21: =IF(B21<>"",IF(B21>C21,1)) -> FALSE | AL21: =IF(C21<>"",IF(C21>B21,1)) -> FALSE | AM21: =IF(B21<>"",IF(B21=C21,1)) -> 1 | AN21: =IF(C21<>"",IF(C21=B21,1)) -> 1 | AO21: =IF(B21<>"",IF(B21<C21,1)) -> FALSE | AP21: =IF(C21<>"",IF(C21<B21,1)) -> FALSE | AQ21: =B21 -> 2 | AR21: =C21 -> 2 | AS21: =C21 -> 2 | AT21: =B21 -> 2 | AU21: =VLOOKUP(R21,S18:T22,2,0) -> Vivaux Sauvagère | AV21: =VLOOKUP(AU21,T18:AE22,12,0) -> 5999.954 | AW21: =RANK(AV21,AV18:AV22) -> 4 | AX21: =T21 -> Rousset 2
A22: La Tour d'Aigues | B22: 2 | C22: 3 | D22: E | H22: =IF(AV22=AV21,AW21,AW22) -> 5 | I22: =VLOOKUP(R22,S18:T22,2,0) -> La Tour d'Aigues | J22: =VLOOKUP(I22,T18:AD22,4,0) -> 5 | K22: =VLOOKUP(I22,T18:AD22,5,0) -> 4 | L22: =VLOOKUP(I22,T18:AD22,6,0) -> 0 | M22: =VLOOKUP(I22,T18:AD22,7,0) -> 1 | N22: =VLOOKUP(I22,T18:AD22,8,0) -> 3 | O22: =VLOOKUP(I22,T18:AD22,9,0) -> 6 | P22: =VLOOKUP(I22,T18:AD22,10,0) -> 10 | Q22: =VLOOKUP(I22,T18:AD22,11,0) -> -4 | R22: 5 | S22: =V22 -> 4 | T22: =Equipes!A12 -> Vivaux Sauvagère | U22: =RANK(AE22,AE18:AE22) -> 4 | V22: =RANK(AF22,AF18:AF22) -> 4 | W22: =SUMPRODUCT((A18:A27=T22)*(AG18:AG27))+SUMPRODUCT((D18:D27=T22)*(AH18:AH27)) -> 6 | X22: =SUMPRODUCT((A18:A27=T22)*(AI18:AI27))+SUMPRODUCT((D18:D27=T22)*(AJ18:AJ27)) -> 4 | Y22: =SUMPRODUCT((A18:A27=T22)*(AK18:AK27))+SUMPRODUCT((D18:D27=T22)*(AL18:AL27)) -> 0 | Z22: =SUMPRODUCT((A18:A27=T22)*(AM18:AM27))+SUMPRODUCT((D18:D27=T22)*(AN18:AN27)) -> 2 | AA22: =SUMPRODUCT((A18:A27=T22)*(AO18:AO27))+SUMPRODUCT((D18:D27=T22)*(AP18:AP27)) -> 2 | AB22: =SUMPRODUCT((A18:A27=T22)*(AQ18:AQ27))+SUMPRODUCT((D18:D27=T22)*(AR18:AR27)) -> 4 | AC22: =SUMPRODUCT((A18:A27=T22)*(AS18:AS27))+SUMPRODUCT((D18:D27=T22)*(AT18:AT27)) -> 9 | AD22: =AB22-AC22 -> -5 | AE22: =SUM(W22*1000+(AD22)/100+(AB22)/1000) -> 5999.954 | AF22: =AE22+0.0000001 -> 5999.954 | AG22: =IF(B22="",0,IF(B22>C22,4,IF(B22=C22,2,IF(B22<C22,1)))) -> 1 | AH22: =IF(C22="",0,IF(C22>B22,4,IF(C22=B22,2,IF(C22<B22,1)))) -> 4 | AI22: =IF(B22="",0,1) -> 1 | AJ22: =IF(C22="",0,1) -> 1 | AK22: =IF(B22<>"",IF(B22>C22,1)) -> FALSE | AL22: =IF(C22<>"",IF(C22>B22,1)) -> 1 | AM22: =IF(B22<>"",IF(B22=C22,1)) -> FALSE | AN22: =IF(C22<>"",IF(C22=B22,1)) -> FALSE | AO22: =IF(B22<>"",IF(B22<C22,1)) -> 1 | AP22: =IF(C22<>"",IF(C22<B22,1)) -> FALSE | AQ22: =B22 -> 2 | AR22: =C22 -> 3 | AS22: =C22 -> 3 | AT22: =B22 -> 2 | AU22: =VLOOKUP(R22,S18:T22,2,0) -> La Tour d'Aigues | AV22: =VLOOKUP(AU22,T18:AE22,12,0) -> 4999.966 | AW22: =RANK(AV22,AV18:AV22) -> 5 | AX22: =T22 -> Vivaux Sauvagère
A23: Rousset 2 | B23: 3 | C23: 1 | D23: Gardanne Biver | AG23: =IF(B23="",0,IF(B23>C23,4,IF(B23=C23,2,IF(B23<C23,1)))) -> 4 | AH23: =IF(C23="",0,IF(C23>B23,4,IF(C23=B23,2,IF(C23<B23,1)))) -> 1 | AI23: =IF(B23="",0,1) -> 1 | AJ23: =IF(C23="",0,1) -> 1 | AK23: =IF(B23<>"",IF(B23>C23,1)) -> 1 | AL23: =IF(C23<>"",IF(C23>B23,1)) -> FALSE | AM23: =IF(B23<>"",IF(B23=C23,1)) -> FALSE | AN23: =IF(C23<>"",IF(C23=B23,1)) -> FALSE | AO23: =IF(B23<>"",IF(B23<C23,1)) -> FALSE | AP23: =IF(C23<>"",IF(C23<B23,1)) -> 1 | AQ23: =B23 -> 3 | AR23: =C23 -> 1 | AS23: =C23 -> 1 | AT23: =B23 -> 3
A24: Vivaux Sauvagère | B24: 0 | C24: 0 | D24: La Tour d'Aigues | AG24: =IF(B24="",0,IF(B24>C24,4,IF(B24=C24,2,IF(B24<C24,1)))) -> 2 | AH24: =IF(C24="",0,IF(C24>B24,4,IF(C24=B24,2,IF(C24<B24,1)))) -> 2 | AI24: =IF(B24="",0,1) -> 1 | AJ24: =IF(C24="",0,1) -> 1 | AK24: =IF(B24<>"",IF(B24>C24,1)) -> FALSE | AL24: =IF(C24<>"",IF(C24>B24,1)) -> FALSE | AM24: =IF(B24<>"",IF(B24=C24,1)) -> 1 | AN24: =IF(C24<>"",IF(C24=B24,1)) -> 1 | AO24: =IF(B24<>"",IF(B24<C24,1)) -> FALSE | AP24: =IF(C24<>"",IF(C24<B24,1)) -> FALSE | AQ24: =B24 -> 0 | AR24: =C24 -> 0 | AS24: =C24 -> 0 | AT24: =B24 -> 0
A25: E | B25: 2 | C25: 1 | D25: Gardanne Biver | AG25: =IF(B25="",0,IF(B25>C25,4,IF(B25=C25,2,IF(B25<C25,1)))) -> 4 | AH25: =IF(C25="",0,IF(C25>B25,4,IF(C25=B25,2,IF(C25<B25,1)))) -> 1 | AI25: =IF(B25="",0,1) -> 1 | AJ25: =IF(C25="",0,1) -> 1 | AK25: =IF(B25<>"",IF(B25>C25,1)) -> 1 | AL25: =IF(C25<>"",IF(C25>B25,1)) -> FALSE | AM25: =IF(B25<>"",IF(B25=C25,1)) -> FALSE | AN25: =IF(C25<>"",IF(C25=B25,1)) -> FALSE | AO25: =IF(B25<>"",IF(B25<C25,1)) -> FALSE | AP25: =IF(C25<>"",IF(C25<B25,1)) -> 1 | AQ25: =B25 -> 2 | AR25: =C25 -> 1 | AS25: =C25 -> 1 | AT25: =B25 -> 2
A26: Rousset 2 | B26: 4 | C26: 2 | D26: La Tour d'Aigues | AG26: =IF(B26="",0,IF(B26>C26,4,IF(B26=C26,2,IF(B26<C26,1)))) -> 4 | AH26: =IF(C26="",0,IF(C26>B26,4,IF(C26=B26,2,IF(C26<B26,1)))) -> 1 | AI26: =IF(B26="",0,1) -> 1 | AJ26: =IF(C26="",0,1) -> 1 | AK26: =IF(B26<>"",IF(B26>C26,1)) -> 1 | AL26: =IF(C26<>"",IF(C26>B26,1)) -> FALSE | AM26: =IF(B26<>"",IF(B26=C26,1)) -> FALSE | AN26: =IF(C26<>"",IF(C26=B26,1)) -> FALSE | AO26: =IF(B26<>"",IF(B26<C26,1)) -> FALSE | AP26: =IF(C26<>"",IF(C26<B26,1)) -> 1 | AQ26: =B26 -> 4 | AR26: =C26 -> 2 | AS26: =C26 -> 2 | AT26: =B26 -> 4
A27: Vivaux Sauvagère | B27: 1 | C27: 5 | D27: E | AG27: =IF(B27="",0,IF(B27>C27,4,IF(B27=C27,2,IF(B27<C27,1)))) -> 1 | AH27: =IF(C27="",0,IF(C27>B27,4,IF(C27=B27,2,IF(C27<B27,1)))) -> 4 | AI27: =IF(B27="",0,1) -> 1 | AJ27: =IF(C27="",0,1) -> 1 | AK27: =IF(B27<>"",IF(B27>C27,1)) -> FALSE | AL27: =IF(C27<>"",IF(C27>B27,1)) -> 1 | AM27: =IF(B27<>"",IF(B27=C27,1)) -> FALSE | AN27: =IF(C27<>"",IF(C27=B27,1)) -> FALSE | AO27: =IF(B27<>"",IF(B27<C27,1)) -> 1 | AP27: =IF(C27<>"",IF(C27<B27,1)) -> FALSE | AQ27: =B27 -> 1 | AR27: =C27 -> 5 | AS27: =C27 -> 5 | AT27: =B27 -> 1

Sheet Phase finale
A1: PHASE FINALE | F1: CLASSEMENT
A3: Equipes | B3: Scores | D3: Equipes | F3: Place | G3: Equipes | H3: Groupes
A4: =IF('Résultats et Classements'!K6=4,'Résultats et Classements'!I6,"") -> FC Pourrière | B4: 2 | C4: 3 | D4: =IF('Résultats et Classements'!K21=4,'Résultats et Classements'!I21,"") -> Vivaux Sauvagère | F4: 1 | G4: =IF(B22="","",IF(C22="","",IF(B22>C22,A22,D22))) -> Rousset 1 | H4: =IFERROR(VLOOKUP(G4,Equipes!$A$2:$B$12,2,0),"") -> Rouge
A5: =IF('Résultats et Classements'!K20=4,'Résultats et Classements'!I20,"") -> Gardanne Biver | B5: 2 | C5: 1 | D5: =IF('Résultats et Classements'!K7=4,'Résultats et Classements'!I7,"") -> EMH Allauh | F5: 2 | G5: =IF(B22="","",IF(C22="","",IF(B22>C22,D22,A22))) -> Rousset 3 | H5: =IFERROR(VLOOKUP(G5,Equipes!$A$2:$B$12,2,0),"") -> Rouge
A6: =IF('Résultats et Classements'!K4=4,'Résultats et Classements'!I4,"") -> Rousset 1 | B6: 2 | C6: 1 | D6: =IF('Résultats et Classements'!K19=4,'Résultats et Classements'!I19,"") -> E | F6: 3 | G6: =IF(B19="","",IF(C19="","",IF(B19>C19,A19,D19))) -> Rousset 2 | H6: =IFERROR(VLOOKUP(G6,Equipes!$A$2:$B$12,2,0),"") -> Jaune
A7: =IF('Résultats et Classements'!K18=4,'Résultats et Classements'!I18,"") -> Rousset 2 | B7: 3(4) | C7: 3(5) | D7: =IF('Résultats et Classements'!K5=4,'Résultats et Classements'!I5,"") -> Rousset 3 | F7: 4 | G7: =IF(B19="","",IF(C19="","",IF(B19>C19,D19,A19))) -> E | H7: =IFERROR(VLOOKUP(G7,Equipes!$A$2:$B$12,2,0),"") -> Jaune
A8: PLACES 9 ET 10 | F8: 5 | G8: =IF(B16="","",IF(C16="","",IF(B16>C16,A16,D16))) -> Vivaux Sauvagère | H8: =IFERROR(VLOOKUP(G8,Equipes!$A$2:$B$12,2,0),"") -> Jaune
F9: 6 | G9: =IF(B16="","",IF(C16="","",IF(B16>C16,D16,A16))) -> Gardanne Biver | H9: =IFERROR(VLOOKUP(G9,Equipes!$A$2:$B$12,2,0),"") -> Jaune
A10: =IF('Résultats et Classements'!K8=4,'Résultats et Classements'!I8,"") -> Alliance Nord Aix 2 | B10: 2 | C10: 1 | D10: =IF('Résultats et Classements'!K22=4,'Résultats et Classements'!I22,"") -> La Tour d'Aigues | F10: 7 | G10: =IF(B13="","",IF(C13="","",IF(B13>C13,A13,D13))) -> EMH Allauh | H10: =IFERROR(VLOOKUP(G10,Equipes!$A$2:$B$12,2,0),"") -> Rouge
A11: PLACES 7 ET 8 | F11: 8 | G11: =IF(B13="","",IF(C13="","",IF(B13>C13,D13,A13))) -> FC Pourrière | H11: =IFERROR(VLOOKUP(G11,Equipes!$A$2:$B$12,2,0),"") -> Rouge
F12: 9 | G12: =IF(B10="","",IF(C10="","",IF(B10>C10,A10,D10))) -> Alliance Nord Aix 2 | H12: =IFERROR(VLOOKUP(G12,Equipes!$A$2:$B$12,2,0),"") -> Rouge
A13: =IF(B4="","",IF(C4="","",IF(B4>C4,D4,A4))) -> FC Pourrière | B13: 1 | C13: 3 | D13: =IF(B5="","",IF(C5="","",IF(B5>C5,D5,A5))) -> EMH Allauh | F13: 10 | G13: =IF(B10="","",IF(C10="","",IF(B10>C10,D10,A10))) -> La Tour d'Aigues | H13: =IFERROR(VLOOKUP(G13,Equipes!$A$2:$B$12,2,0),"") -> Jaune
A14: PLACES 5 ET 6
A16: =IF(B4="","",IF(C4="","",IF(B4>C4,A4,D4))) -> Vivaux Sauvagère | B16: 4 | C16: 2 | D16: =IF(B5="","",IF(C5="","",IF(B5>C5,A5,D5))) -> Gardanne Biver
A17: PLACES 3 ET 4
A19: =IF(B6="","",IF(C6="","",IF(B6>C6,D6,A6))) -> E | B19: 1 | C19: 2 | D19: =IF(B7="","",IF(C7="","",IF(B7>C7,D7,A7))) -> Rousset 2
A20: FINALE
A22: =IF(B6="","",IF(C6="","",IF(B6>C6,A6,D6))) -> Rousset 1 | B22: 5 | C22: 4 | D22: =IF(B7="","",IF(C7="","",IF(B7>C7,A7,D7))) -> Rousset 3
