Workbook
Name Clubs: Equipes!$A$2:$A$21
Name Engagés: 'J01'!$GE$5:$GI$25
Name Equipes: 'J01'!$GE$5:$GI$25
Name Leséquipes: 'J01'!$GE$5:$GE$25
Name Saison: Données!$H$28:$H$78

Sheet Equipes
A1: EQUIPES
A2: Equipe 01
A3: Equipe 02
A4: Equipe 03
A5: Equipe 04
A6: Equipe 05
A7: Equipe 06
X10: Noter le nom du championnat uniquement sur la feuille "J01" | AF10: Changer la saison uniquement sur la feuille "J01" (liste déroulante)
Y24: Choisir les équipes dans les listes déroulantes | AF24: Choisir les équipes dans les listes déroulantes | AL24: Format de date à noter : 1/2 ou 1/2/18 | AQ24: Heure : 20:30
A26: 1 - Noter le nom des équipes.
Z28: Noter les points de pénalités éventuels dans la colonne "P" face à l'équipe sanctionnée
A32: 2 - Trier par ordre alphabétique.

Sheet J01
A1: Nom du championnat | I1: 2017 - 2018 | O1: Journée 01 | V1: CLASSEMENT GENERAL | AL1: CLASSEMENT DOMICILE | BB1: CLASSEMENT EXTERIEUR | BX1: CLASSEMENT GENERAL | CO1: DOMICILE | DF1: EXTERIEUR | DW1: GENERAL | DY1: DOMICILE | EA1: EXTERIEUR | EC1: Dom. | ED1: Ext. | EE1: Dom. | EF1: Ext. | EG1: Dom. | EH1: Ext. | EI1: Dom. | EJ1: Ext. | EK1: Dom. | EL1: Ext. | EM1: Dom. | EN1: Ext. | EO1: Dom. | EP1: Ext. | EQ1: Dom. | ER1: Ext. | ES1: Dom. | ET1: Ext. | EU1: GENERAL | FG1: DOMICILE | FS1: EXTERIEUR
A3: P | B3: Equipes | G3: Buts | H3: Buts | I3: Equipes | N3: P | O3: Date | S3: Heure | V3: Equipes | AA3: Evolution | AC3: Place | AD3: Pts | AE3: J | AF3: G | AG3: N | AH3: P | AI3: B + | AJ3: B - | AK3: Diff. | AL3: Equipes | AQ3: Evolution | AS3: Place | AT3: Pts | AU3: J | AV3: G | AW3: N | AX3: P | AY3: B + | AZ3: B - | BA3: Diff. | BB3: Equipes | BG3: Evolution | BI3: Place | BJ3: Pts | BK3: J | BL3: G | BM3: N | BN3: P | BO3: B + | BP3: B - | BQ3: Diff. | BR3: R Général | BT3: R Domicile | BV3: R Extérieur | BX3: Equipes | CC3: R | CD3: Evolution | CF3: Place | CG3: Pts | CH3: J | CI3: G | CJ3: N | CK3: P | CL3: B + | CM3: B - | CN3: Diff. | CO3: Equipes | CT3: R | CU3: Evolution | CW3: Place | CX3: Pts | CY3: J | CZ3: G | DA3: N | DB3: P | DC3: B + | DD3: B - | DE3: Diff. | DF3: Equipes | DK3: R | DL3: Evolution | DN3: Place | DO3: Pts | DP3: J | DQ3: G | DR3: N | DS3: P | DT3: B + | DU3: B - | DV3: Diff. | DW3: % | DX3: % | DY3: % | DZ3: % | EA3: % | EB3: % | EC3: P | ED3: P | EE3: Pts | EF3: Pts | EG3: T Pts | EH3: T Pts | EI3: J | EJ3: J | EK3: G | EL3: G | EM3: N | EN3: N | EO3: P | EP3: P | EQ3: B + | ER3: B + | ES3: B - | ET3: B - | EU3: Equipes | EZ3: % | FA3: R | FB3: Equipes | FG3: Equipes | FL3: % | FM3: R | FN3: Equipes | FS3: Equipes | FX3: % | FY3: R | FZ3: Equipes
V5: =VLOOKUP(BR5,$BS$5:$CB$21,6,0) -> Equipe 01 | AA5: =VLOOKUP(V5,$BX$5:$CN$19,7,0) -> 0 | AB5: =VLOOKUP(V5,$BX$5:$CN$19,8,0) -> u | AC5: 1 | AD5: =VLOOKUP(V5,$BX$5:$CN$19,10,0) -> 0 | AE5: =VLOOKUP(V5,$BX$5:$CN$19,11,0) -> 0 | AF5: =VLOOKUP(V5,$BX$5:$CN$19,12,0) -> 0 | AG5: =VLOOKUP(V5,$BX$5:$CN$19,13,0) -> 0 | AH5: =VLOOKUP(V5,$BX$5:$CN$19,14,0) -> 0 | AI5: =VLOOKUP(V5,$BX$5:$CN$19,15,0) -> 0 | AJ5: =VLOOKUP(V5,$BX$5:$CN$19,16,0) -> 0 | AK5: =VLOOKUP(V5,$BX$5:$CN$19,17,0) -> 0 | AL5: =VLOOKUP(BT5,$BU$5:$CS$21,4,0) -> Equipe 01 | AQ5: =VLOOKUP(AL5,$CO$5:$DE$19,7,0) -> 0 | AR5: =VLOOKUP(AL5,$CO$5:$DE$19,8,0) -> u | AS5: 1 | AT5: =VLOOKUP(AL5,$CO$5:$DE$19,10,0) -> 0 | AU5: =VLOOKUP(AL5,$CO$5:$DE$19,11,0) -> 0 | AV5: =VLOOKUP(AL5,$CO$5:$DE$19,12,0) -> 0 | AW5: =VLOOKUP(AL5,$CO$5:$DE$19,13,0) -> 0 | AX5: =VLOOKUP(AL5,$CO$5:$DE$19,14,0) -> 0 | AY5: =VLOOKUP(AL5,$CO$5:$DE$19,15,0) -> 0 | AZ5: =VLOOKUP(AL5,$CO$5:$DE$19,16,0) -> 0 | BA5: =VLOOKUP(AL5,$CO$5:$DE$19,17,0) -> 0 | BB5: =VLOOKUP(BV5,$BW$5:$DF$21,2,0) -> Equipe 01 | BG5: =VLOOKUP(BB5,$DF$5:$DV$19,7,0) -> 0 | BH5: =VLOOKUP(BB5,$DF$5:$DV$19,8,0) -> u | BI5: 1 | BJ5: =VLOOKUP(BB5,$DF$5:$DV$19,10,0) -> 0 | BK5: =VLOOKUP(BB5,$DF$5:$DV$19,11,0) -> 0 | BL5: =VLOOKUP(BB5,$DF$5:$DV$19,12,0) -> 0 | BM5: =VLOOKUP(BB5,$DF$5:$DV$19,13,0) -> 0 | BN5: =VLOOKUP(BB5,$DF$5:$DV$19,14,0) -> 0 | BO5: =VLOOKUP(BB5,$DF$5:$DV$19,15,0) -> 0 | BP5: =VLOOKUP(BB5,$DF$5:$DV$19,16,0) -> 0 | BQ5: =VLOOKUP(BB5,$DF$5:$DV$19,17,0) -> 0 | BR5: 1 | BS5: =CF5 -> 1 | BT5: 1 | BU5: =CW5 -> 1 | BV5: 1 | BW5: =DN5 -> 1 | BX5: =Equipes!A2 -> Equipe 01 | CC5: =RANK(DW5,$DW$5:$DW$19) -> 1 | CD5: =CC5-CC5 -> 0 | CE5: u | CF5: =RANK(DX5,$DX$5:$DX$13) -> 1 | CG5: =SUMPRODUCT(($B$5:$F$13=BX5)*($EG$5:$EG$13))+SUMPRODUCT(($I$5:$M$13=BX5)*($EH$5:$EH$13)) -> 0 | CH5: =SUMPRODUCT(($B$5:$F$13=BX5)*($EI$5:$EI$13))+SUMPRODUCT(($I$5:$M$13=BX5)*($EJ$5:$EJ$13)) -> 0 | CI5: =SUMPRODUCT(($B$5:$F$13=BX5)*($EK$5:$EK$13))+SUMPRODUCT(($I$5:$M$13=BX5)*($EL$5:$EL$13)) -> 0 | CJ5: =SUMPRODUCT(($B$5:$F$13=BX5)*($EM$5:$EM$13))+SUMPRODUCT(($I$5:$M$13=BX5)*($EN$5:$EN$13)) -> 0 | CK5: =SUMPRODUCT(($B$5:$F$13=BX5)*($EO$5:$EO$13))+SUMPRODUCT(($I$5:$M$13=BX5)*($EP$5:$EP$13)) -> 0 | CL5: =SUMPRODUCT(($B$5:$F$13=BX5)*($EQ$5:$EQ$13))+SUMPRODUCT(($I$5:$M$13=BX5)*($ER$5:$ER$13)) -> 0 | CM5: =SUMPRODUCT(($B$5:$F$13=BX5)*($ES$5:$ES$13))+SUMPRODUCT(($I$5:$M$13=BX5)*($ET$5:$ET$13)) -> 0 | CN5: =CL5-CM5 -> 0 | CO5: =BX5 -> Equipe 01 | CT5: =RANK(DY5,$DY$5:$DY$19) -> 1 | CU5: =CT5-CT5 -> 0 | CV5: u | CW5: =RANK(DZ5,$DZ$5:$DZ$19) -> 1 | CX5: =SUMPRODUCT(($B$5:$F$13=CO5)*($EG$5:$EG$13)) -> 0 | CY5: =SUMPRODUCT(($B$5:$F$13=CO5)*($EI$5:$EI$13)) -> 0 | CZ5: =SUMPRODUCT(($B$5:$F$13=CO5)*($EK$5:$EK$13)) -> 0 | DA5: =SUMPRODUCT(($B$5:$F$13=CO5)*($EM$5:$EM$13)) -> 0 | DB5: =SUMPRODUCT(($B$5:$F$13=CO5)*($EO$5:$EO$13)) -> 0 | DC5: =SUMPRODUCT(($B$5:$F$13=CO5)*($EQ$5:$EQ$13)) -> 0 | DD5: =SUMPRODUCT(($B$5:$F$13=CO5)*($ES$5:$ES$13)) -> 0 | DE5: =DC5-DD5 -> 0 | DF5: =BX5 -> Equipe 01 | DK5: =RANK(EA5,$EA$5:$EA$19) -> 1 | DL5: =DK5-DK5 -> 0 | DM5: u | DN5: =RANK(EB5,$EB$5:$EB$19) -> 1 | DO5: =SUMPRODUCT(($I$5:$M$13=DF5)*($EH$5:$EH$13)) -> 0 | DP5: =SUMPRODUCT(($I$5:$M$13=DF5)*($EJ$5:$EJ$13)) -> 0 | DQ5: =SUMPRODUCT(($I$5:$M$13=DF5)*($EL$5:$EL$13)) -> 0 | DR5: =SUMPRODUCT(($I$5:$M$13=DF5)*($EN$5:$EN$13)) -> 0 | DS5: =SUMPRODUCT(($I$5:$M$13=DF5)*($EP$5:$EP$13)) -> 0 | DT5: =SUMPRODUCT(($I$5:$M$13=DF5)*($ER$5:$ER$13)) -> 0 | DU5: =SUMPRODUCT(($I$5:$M$13=DF5)*($ET$5:$ET$13)) -> 0 | DV5: =DT5-DU5 -> 0 | DW5: =SUM(CG5*1000+(CN5)/100+(CL5)/1000) -> 0 | DX5: =DW5+0.0000006 -> 6e-07 | DY5: =SUM(CX5*1000+(DE5)/100+(DC5)/1000) -> 0 | DZ5: =DY5+0.0000006 -> 6e-07 | EA5: =SUM(DO5*1000+(DV5)/100+(DT5)/1000) -> 0 | EB5: =EA5+0.0000006 -> 6e-07 | EC5: =A5 -> 0 | ED5: =N5 -> 0 | EE5: =IF(G5="",0,IF(G5>H5,3,IF(G5=H5,1,IF(G5<H5,0)))) -> 0 | EF5: =IF(H5="",0,IF(H5>G5,3,IF(H5=G5,1,IF(H5<G5,0)))) -> 0 | EG5: =EE5-EC5 -> 0 | EH5: =EF5-ED5 -> 0 | EI5: =IF(G5="",0,1) -> 0 | EJ5: =IF(H5="",0,1) -> 0 | EK5: =IF(G5<>"",IF(G5>H5,1)) -> FALSE | EL5: =IF(H5<>"",IF(H5>G5,1)) -> FALSE | EM5: =IF(G5<>"",IF(G5=H5,1)) -> FALSE | EN5: =IF(H5<>"",IF(H5=G5,1)) -> FALSE | EO5: =IF(G5<>"",IF(G5<H5,1)) -> FALSE | EP5: =IF(H5<>"",IF(H5<G5,1)) -> FALSE | EQ5: =G5 -> 0 | ER5: =H5 -> 0 | ES5: =H5 -> 0 | ET5: =G5 -> 0 | EU5: =VLOOKUP(BR5,$BS$5:$CB$13,6,0) -> Equipe 01 | EZ5: =VLOOKUP(EU5,$BX$5:$DW$13,52,0) -> 0 | FA5: =RANK(EZ5,$EZ$5:$EZ$13) -> 1 | FB5: =BX5 -> Equipe 01 | FG5: =VLOOKUP(BT5,$BU$5:$CS$13,21,0) -> Equipe 01 | FL5: =VLOOKUP(FG5,$CO$5:$DY$13,37,0) -> 0 | FM5: =RANK(FL5,$FL$5:$FL$13) -> 1 | FN5: =CO5 -> Equipe 01 | FS5: =VLOOKUP(BV5,$BW$5:$DF$13,36,0) -> Equipe 01 | FX5: =VLOOKUP(FS5,$DF$5:$EA$21,22,0) -> 0 | FY5: =RANK(FX5,$FX$5:$FX$13) -> 1 | FZ5: =DF5 -> Equipe 01 | GE5: =BX5 -> Equipe 01
V6: =VLOOKUP(BR6,$BS$5:$CB$21,6,0) -> Equipe 02 | AA6: =VLOOKUP(V6,$BX$5:$CN$19,7,0) -> 0 | AB6: =VLOOKUP(V6,$BX$5:$CN$19,8,0) -> u | AC6: =IF(EZ6=EZ5,FA5,FA6) -> 1 | AD6: =VLOOKUP(V6,$BX$5:$CN$19,10,0) -> 0 | AE6: =VLOOKUP(V6,$BX$5:$CN$19,11,0) -> 0 | AF6: =VLOOKUP(V6,$BX$5:$CN$19,12,0) -> 0 | AG6: =VLOOKUP(V6,$BX$5:$CN$19,13,0) -> 0 | AH6: =VLOOKUP(V6,$BX$5:$CN$19,14,0) -> 0 | AI6: =VLOOKUP(V6,$BX$5:$CN$19,15,0) -> 0 | AJ6: =VLOOKUP(V6,$BX$5:$CN$19,16,0) -> 0 | AK6: =VLOOKUP(V6,$BX$5:$CN$19,17,0) -> 0 | AL6: =VLOOKUP(BT6,$BU$5:$CS$21,4,0) -> Equipe 02 | AQ6: =VLOOKUP(AL6,$CO$5:$DE$19,7,0) -> 0 | AR6: =VLOOKUP(AL6,$CO$5:$DE$19,8,0) -> u | AS6: =IF(FL6=FL5,FM5,FM6) -> 1 | AT6: =VLOOKUP(AL6,$CO$5:$DE$19,10,0) -> 0 | AU6: =VLOOKUP(AL6,$CO$5:$DE$19,11,0) -> 0 | AV6: =VLOOKUP(AL6,$CO$5:$DE$19,12,0) -> 0 | AW6: =VLOOKUP(AL6,$CO$5:$DE$19,13,0) -> 0 | AX6: =VLOOKUP(AL6,$CO$5:$DE$19,14,0) -> 0 | AY6: =VLOOKUP(AL6,$CO$5:$DE$19,15,0) -> 0 | AZ6: =VLOOKUP(AL6,$CO$5:$DE$19,16,0) -> 0 | BA6: =VLOOKUP(AL6,$CO$5:$DE$19,17,0) -> 0 | BB6: =VLOOKUP(BV6,$BW$5:$DF$21,2,0) -> Equipe 02 | BG6: =VLOOKUP(BB6,$DF$5:$DV$19,7,0) -> 0 | BH6: =VLOOKUP(BB6,$DF$5:$DV$19,8,0) -> u | BI6: =IF(FX6=FX5,FY5,FY6) -> 1 | BJ6: =VLOOKUP(BB6,$DF$5:$DV$19,10,0) -> 0 | BK6: =VLOOKUP(BB6,$DF$5:$DV$19,11,0) -> 0 | BL6: =VLOOKUP(BB6,$DF$5:$DV$19,12,0) -> 0 | BM6: =VLOOKUP(BB6,$DF$5:$DV$19,13,0) -> 0 | BN6: =VLOOKUP(BB6,$DF$5:$DV$19,14,0) -> 0 | BO6: =VLOOKUP(BB6,$DF$5:$DV$19,15,0) -> 0 | BP6: =VLOOKUP(BB6,$DF$5:$DV$19,16,0) -> 0 | BQ6: =VLOOKUP(BB6,$DF$5:$DV$19,17,0) -> 0 | BR6: 2 | BS6: =CF6 -> 2 | BT6: 2 | BU6: =CW6 -> 2 | BV6: 2 | BW6: =DN6 -> 2 | BX6: =Equipes!A3 -> Equipe 02 | CC6: =RANK(DW6,$DW$5:$DW$19) -> 1 | CD6: =CC6-CC6 -> 0 | CE6: u | CF6: =RANK(DX6,$DX$5:$DX$13) -> 2 | CG6: =SUMPRODUCT(($B$5:$F$13=BX6)*($EG$5:$EG$13))+SUMPRODUCT(($I$5:$M$13=BX6)*($EH$5:$EH$13)) -> 0 | CH6: =SUMPRODUCT(($B$5:$F$13=BX6)*($EI$5:$EI$13))+SUMPRODUCT(($I$5:$M$13=BX6)*($EJ$5:$EJ$13)) -> 0 | CI6: =SUMPRODUCT(($B$5:$F$13=BX6)*($EK$5:$EK$13))+SUMPRODUCT(($I$5:$M$13=BX6)*($EL$5:$EL$13)) -> 0 | CJ6: =SUMPRODUCT(($B$5:$F$13=BX6)*($EM$5:$EM$13))+SUMPRODUCT(($I$5:$M$13=BX6)*($EN$5:$EN$13)) -> 0 | CK6: =SUMPRODUCT(($B$5:$F$13=BX6)*($EO$5:$EO$13))+SUMPRODUCT(($I$5:$M$13=BX6)*($EP$5:$EP$13)) -> 0 | CL6: =SUMPRODUCT(($B$5:$F$13=BX6)*($EQ$5:$EQ$13))+SUMPRODUCT(($I$5:$M$13=BX6)*($ER$5:$ER$13)) -> 0 | CM6: =SUMPRODUCT(($B$5:$F$13=BX6)*($ES$5:$ES$13))+SUMPRODUCT(($I$5:$M$13=BX6)*($ET$5:$ET$13)) -> 0 | CN6: =CL6-CM6 -> 0 | CO6: =BX6 -> Equipe 02 | CT6: =RANK(DY6,$DY$5:$DY$19) -> 1 | CU6: =CT6-CT6 -> 0 | CV6: u | CW6: =RANK(DZ6,$DZ$5:$DZ$19) -> 2 | CX6: =SUMPRODUCT(($B$5:$F$13=CO6)*($EG$5:$EG$13)) -> 0 | CY6: =SUMPRODUCT(($B$5:$F$13=CO6)*($EI$5:$EI$13)) -> 0 | CZ6: =SUMPRODUCT(($B$5:$F$13=CO6)*($EK$5:$EK$13)) -> 0 | DA6: =SUMPRODUCT(($B$5:$F$13=CO6)*($EM$5:$EM$13)) -> 0 | DB6: =SUMPRODUCT(($B$5:$F$13=CO6)*($EO$5:$EO$13)) -> 0 | DC6: =SUMPRODUCT(($B$5:$F$13=CO6)*($EQ$5:$EQ$13)) -> 0 | DD6: =SUMPRODUCT(($B$5:$F$13=CO6)*($ES$5:$ES$13)) -> 0 | DE6: =DC6-DD6 -> 0 | DF6: =BX6 -> Equipe 02 | DK6: =RANK(EA6,$EA$5:$EA$19) -> 1 | DL6: =DK6-DK6 -> 0 | DM6: u | DN6: =RANK(EB6,$EB$5:$EB$19) -> 2 | DO6: =SUMPRODUCT(($I$5:$M$13=DF6)*($EH$5:$EH$13)) -> 0 | DP6: =SUMPRODUCT(($I$5:$M$13=DF6)*($EJ$5:$EJ$13)) -> 0 | DQ6: =SUMPRODUCT(($I$5:$M$13=DF6)*($EL$5:$EL$13)) -> 0 | DR6: =SUMPRODUCT(($I$5:$M$13=DF6)*($EN$5:$EN$13)) -> 0 | DS6: =SUMPRODUCT(($I$5:$M$13=DF6)*($EP$5:$EP$13)) -> 0 | DT6: =SUMPRODUCT(($I$5:$M$13=DF6)*($ER$5:$ER$13)) -> 0 | DU6: =SUMPRODUCT(($I$5:$M$13=DF6)*($ET$5:$ET$13)) -> 0 | DV6: =DT6-DU6 -> 0 | DW6: =SUM(CG6*1000+(CN6)/100+(CL6)/1000) -> 0 | DX6: =DW6+0.0000005 -> 5e-07 | DY6: =SUM(CX6*1000+(DE6)/100+(DC6)/1000) -> 0 | DZ6: =DY6+0.0000005 -> 5e-07 | EA6: =SUM(DO6*1000+(DV6)/100+(DT6)/1000) -> 0 | EB6: =EA6+0.0000005 -> 5e-07 | EC6: =A6 -> 0 | ED6: =N6 -> 0 | EE6: =IF(G6="",0,IF(G6>H6,3,IF(G6=H6,1,IF(G6<H6,0)))) -> 0 | EF6: =IF(H6="",0,IF(H6>G6,3,IF(H6=G6,1,IF(H6<G6,0)))) -> 0 | EG6: =EE6-EC6 -> 0 | EH6: =EF6-ED6 -> 0 | EI6: =IF(G6="",0,1) -> 0 | EJ6: =IF(H6="",0,1) -> 0 | EK6: =IF(G6<>"",IF(G6>H6,1)) -> FALSE | EL6: =IF(H6<>"",IF(H6>G6,1)) -> FALSE | EM6: =IF(G6<>"",IF(G6=H6,1)) -> FALSE | EN6: =IF(H6<>"",IF(H6=G6,1)) -> FALSE | EO6: =IF(G6<>"",IF(G6<H6,1)) -> FALSE | EP6: =IF(H6<>"",IF(H6<G6,1)) -> FALSE | EQ6: =G6 -> 0 | ER6: =H6 -> 0 | ES6: =H6 -> 0 | ET6: =G6 -> 0 | EU6: =VLOOKUP(BR6,$BS$5:$CB$13,6,0) -> Equipe 02 | EZ6: =VLOOKUP(EU6,$BX$5:$DW$13,52,0) -> 0 | FA6: =RANK(EZ6,$EZ$5:$EZ$13) -> 1 | FB6: =BX6 -> Equipe 02 | FG6: =VLOOKUP(BT6,$BU$5:$CS$13,21,0) -> Equipe 02 | FL6: =VLOOKUP(FG6,$CO$5:$DY$13,37,0) -> 0 | FM6: =RANK(FL6,$FL$5:$FL$13) -> 1 | FN6: =CO6 -> Equipe 02 | FS6: =VLOOKUP(BV6,$BW$5:$DF$13,36,0) -> Equipe 02 | FX6: =VLOOKUP(FS6,$DF$5:$EA$21,22,0) -> 0 | FY6: =RANK(FX6,$FX$5:$FX$13) -> 1 | FZ6: =DF6 -> Equipe 02 | GE6: =BX6 -> Equipe 02
V7: =VLOOKUP(BR7,$BS$5:$CB$21,6,0) -> Equipe 03 | AA7: =VLOOKUP(V7,$BX$5:$CN$19,7,0) -> 0 | AB7: =VLOOKUP(V7,$BX$5:$CN$19,8,0) -> u | AC7: =IF(EZ7=EZ6,FA6,FA7) -> 1 | AD7: =VLOOKUP(V7,$BX$5:$CN$19,10,0) -> 0 | AE7: =VLOOKUP(V7,$BX$5:$CN$19,11,0) -> 0 | AF7: =VLOOKUP(V7,$BX$5:$CN$19,12,0) -> 0 | AG7: =VLOOKUP(V7,$BX$5:$CN$19,13,0) -> 0 | AH7: =VLOOKUP(V7,$BX$5:$CN$19,14,0) -> 0 | AI7: =VLOOKUP(V7,$BX$5:$CN$19,15,0) -> 0 | AJ7: =VLOOKUP(V7,$BX$5:$CN$19,16,0) -> 0 | AK7: =VLOOKUP(V7,$BX$5:$CN$19,17,0) -> 0 | AL7: =VLOOKUP(BT7,$BU$5:$CS$21,4,0) -> Equipe 03 | AQ7: =VLOOKUP(AL7,$CO$5:$DE$19,7,0) -> 0 | AR7: =VLOOKUP(AL7,$CO$5:$DE$19,8,0) -> u | AS7: =IF(FL7=FL6,FM6,FM7) -> 1 | AT7: =VLOOKUP(AL7,$CO$5:$DE$19,10,0) -> 0 | AU7: =VLOOKUP(AL7,$CO$5:$DE$19,11,0) -> 0 | AV7: =VLOOKUP(AL7,$CO$5:$DE$19,12,0) -> 0 | AW7: =VLOOKUP(AL7,$CO$5:$DE$19,13,0) -> 0 | AX7: =VLOOKUP(AL7,$CO$5:$DE$19,14,0) -> 0 | AY7: =VLOOKUP(AL7,$CO$5:$DE$19,15,0) -> 0 | AZ7: =VLOOKUP(AL7,$CO$5:$DE$19,16,0) -> 0 | BA7: =VLOOKUP(AL7,$CO$5:$DE$19,17,0) -> 0 | BB7: =VLOOKUP(BV7,$BW$5:$DF$21,2,0) -> Equipe 03 | BG7: =VLOOKUP(BB7,$DF$5:$DV$19,7,0) -> 0 | BH7: =VLOOKUP(BB7,$DF$5:$DV$19,8,0) -> u | BI7: =IF(FX7=FX6,FY6,FY7) -> 1 | BJ7: =VLOOKUP(BB7,$DF$5:$DV$19,10,0) -> 0 | BK7: =VLOOKUP(BB7,$DF$5:$DV$19,11,0) -> 0 | BL7: =VLOOKUP(BB7,$DF$5:$DV$19,12,0) -> 0 | BM7: =VLOOKUP(BB7,$DF$5:$DV$19,13,0) -> 0 | BN7: =VLOOKUP(BB7,$DF$5:$DV$19,14,0) -> 0 | BO7: =VLOOKUP(BB7,$DF$5:$DV$19,15,0) -> 0 | BP7: =VLOOKUP(BB7,$DF$5:$DV$19,16,0) -> 0 | BQ7: =VLOOKUP(BB7,$DF$5:$DV$19,17,0) -> 0 | BR7: 3 | BS7: =CF7 -> 3 | BT7: 3 | BU7: =CW7 -> 3 | BV7: 3 | BW7: =DN7 -> 3 | BX7: =Equipes!A4 -> Equipe 03 | CC7: =RANK(DW7,$DW$5:$DW$19) -> 1 | CD7: =CC7-CC7 -> 0 | CE7: u | CF7: =RANK(DX7,$DX$5:$DX$13) -> 3 | CG7: =SUMPRODUCT(($B$5:$F$13=BX7)*($EG$5:$EG$13))+SUMPRODUCT(($I$5:$M$13=BX7)*($EH$5:$EH$13)) -> 0 | CH7: =SUMPRODUCT(($B$5:$F$13=BX7)*($EI$5:$EI$13))+SUMPRODUCT(($I$5:$M$13=BX7)*($EJ$5:$EJ$13)) -> 0 | CI7: =SUMPRODUCT(($B$5:$F$13=BX7)*($EK$5:$EK$13))+SUMPRODUCT(($I$5:$M$13=BX7)*($EL$5:$EL$13)) -> 0 | CJ7: =SUMPRODUCT(($B$5:$F$13=BX7)*($EM$5:$EM$13))+SUMPRODUCT(($I$5:$M$13=BX7)*($EN$5:$EN$13)) -> 0 | CK7: =SUMPRODUCT(($B$5:$F$13=BX7)*($EO$5:$EO$13))+SUMPRODUCT(($I$5:$M$13=BX7)*($EP$5:$EP$13)) -> 0 | CL7: =SUMPRODUCT(($B$5:$F$13=BX7)*($EQ$5:$EQ$13))+SUMPRODUCT(($I$5:$M$13=BX7)*($ER$5:$ER$13)) -> 0 | CM7: =SUMPRODUCT(($B$5:$F$13=BX7)*($ES$5:$ES$13))+SUMPRODUCT(($I$5:$M$13=BX7)*($ET$5:$ET$13)) -> 0 | CN7: =CL7-CM7 -> 0 | CO7: =BX7 -> Equipe 03 | CT7: =RANK(DY7,$DY$5:$DY$19) -> 1 | CU7: =CT7-CT7 -> 0 | CV7: u | CW7: =RANK(DZ7,$DZ$5:$DZ$19) -> 3 | CX7: =SUMPRODUCT(($B$5:$F$13=CO7)*($EG$5:$EG$13)) -> 0 | CY7: =SUMPRODUCT(($B$5:$F$13=CO7)*($EI$5:$EI$13)) -> 0 | CZ7: =SUMPRODUCT(($B$5:$F$13=CO7)*($EK$5:$EK$13)) -> 0 | DA7: =SUMPRODUCT(($B$5:$F$13=CO7)*($EM$5:$EM$13)) -> 0 | DB7: =SUMPRODUCT(($B$5:$F$13=CO7)*($EO$5:$EO$13)) -> 0 | DC7: =SUMPRODUCT(($B$5:$F$13=CO7)*($EQ$5:$EQ$13)) -> 0 | DD7: =SUMPRODUCT(($B$5:$F$13=CO7)*($ES$5:$ES$13)) -> 0 | DE7: =DC7-DD7 -> 0 | DF7: =BX7 -> Equipe 03 | DK7: =RANK(EA7,$EA$5:$EA$19) -> 1 | DL7: =DK7-DK7 -> 0 | DM7: u | DN7: =RANK(EB7,$EB$5:$EB$19) -> 3 | DO7: =SUMPRODUCT(($I$5:$M$13=DF7)*($EH$5:$EH$13)) -> 0 | DP7: =SUMPRODUCT(($I$5:$M$13=DF7)*($EJ$5:$EJ$13)) -> 0 | DQ7: =SUMPRODUCT(($I$5:$M$13=DF7)*($EL$5:$EL$13)) -> 0 | DR7: =SUMPRODUCT(($I$5:$M$13=DF7)*($EN$5:$EN$13)) -> 0 | DS7: =SUMPRODUCT(($I$5:$M$13=DF7)*($EP$5:$EP$13)) -> 0 | DT7: =SUMPRODUCT(($I$5:$M$13=DF7)*($ER$5:$ER$13)) -> 0 | DU7: =SUMPRODUCT(($I$5:$M$13=DF7)*($ET$5:$ET$13)) -> 0 | DV7: =DT7-DU7 -> 0 | DW7: =SUM(CG7*1000+(CN7)/100+(CL7)/1000) -> 0 | DX7: =DW7+0.0000004 -> 4e-07 | DY7: =SUM(CX7*1000+(DE7)/100+(DC7)/1000) -> 0 | DZ7: =DY7+0.0000004 -> 4e-07 | EA7: =SUM(DO7*1000+(DV7)/100+(DT7)/1000) -> 0 | EB7: =EA7+0.0000004 -> 4e-07 | EC7: =A7 -> 0 | ED7: =N7 -> 0 | EE7: =IF(G7="",0,IF(G7>H7,3,IF(G7=H7,1,IF(G7<H7,0)))) -> 0 | EF7: =IF(H7="",0,IF(H7>G7,3,IF(H7=G7,1,IF(H7<G7,0)))) -> 0 | EG7: =EE7-EC7 -> 0 | EH7: =EF7-ED7 -> 0 | EI7: =IF(G7="",0,1) -> 0 | EJ7: =IF(H7="",0,1) -> 0 | EK7: =IF(G7<>"",IF(G7>H7,1)) -> FALSE | EL7: =IF(H7<>"",IF(H7>G7,1)) -> FALSE | EM7: =IF(G7<>"",IF(G7=H7,1)) -> FALSE | EN7: =IF(H7<>"",IF(H7=G7,1)) -> FALSE | EO7: =IF(G7<>"",IF(G7<H7,1)) -> FALSE | EP7: =IF(H7<>"",IF(H7<G7,1)) -> FALSE | EQ7: =G7 -> 0 | ER7: =H7 -> 0 | ES7: =H7 -> 0 | ET7: =G7 -> 0 | EU7: =VLOOKUP(BR7,$BS$5:$CB$13,6,0) -> Equipe 03 | EZ7: =VLOOKUP(EU7,$BX$5:$DW$13,52,0) -> 0 | FA7: =RANK(EZ7,$EZ$5:$EZ$13) -> 1 | FB7: =BX7 -> Equipe 03 | FG7: =VLOOKUP(BT7,$BU$5:$CS$13,21,0) -> Equipe 03 | FL7: =VLOOKUP(FG7,$CO$5:$DY$13,37,0) -> 0 | FM7: =RANK(FL7,$FL$5:$FL$13) -> 1 | FN7: =CO7 -> Equipe 03 | FS7: =VLOOKUP(BV7,$BW$5:$DF$13,36,0) -> Equipe 03 | FX7: =VLOOKUP(FS7,$DF$5:$EA$21,22,0) -> 0 | FY7: =RANK(FX7,$FX$5:$FX$13) -> 1 | FZ7: =DF7 -> Equipe 03 | GE7: =BX7 -> Equipe 03
V8: =VLOOKUP(BR8,$BS$5:$CB$21,6,0) -> Equipe 04 | AA8: =VLOOKUP(V8,$BX$5:$CN$19,7,0) -> 0 | AB8: =VLOOKUP(V8,$BX$5:$CN$19,8,0) -> u | AC8: =IF(EZ8=EZ7,FA7,FA8) -> 1 | AD8: =VLOOKUP(V8,$BX$5:$CN$19,10,0) -> 0 | AE8: =VLOOKUP(V8,$BX$5:$CN$19,11,0) -> 0 | AF8: =VLOOKUP(V8,$BX$5:$CN$19,12,0) -> 0 | AG8: =VLOOKUP(V8,$BX$5:$CN$19,13,0) -> 0 | AH8: =VLOOKUP(V8,$BX$5:$CN$19,14,0) -> 0 | AI8: =VLOOKUP(V8,$BX$5:$CN$19,15,0) -> 0 | AJ8: =VLOOKUP(V8,$BX$5:$CN$19,16,0) -> 0 | AK8: =VLOOKUP(V8,$BX$5:$CN$19,17,0) -> 0 | AL8: =VLOOKUP(BT8,$BU$5:$CS$21,4,0) -> Equipe 04 | AQ8: =VLOOKUP(AL8,$CO$5:$DE$19,7,0) -> 0 | AR8: =VLOOKUP(AL8,$CO$5:$DE$19,8,0) -> u | AS8: =IF(FL8=FL7,FM7,FM8) -> 1 | AT8: =VLOOKUP(AL8,$CO$5:$DE$19,10,0) -> 0 | AU8: =VLOOKUP(AL8,$CO$5:$DE$19,11,0) -> 0 | AV8: =VLOOKUP(AL8,$CO$5:$DE$19,12,0) -> 0 | AW8: =VLOOKUP(AL8,$CO$5:$DE$19,13,0) -> 0 | AX8: =VLOOKUP(AL8,$CO$5:$DE$19,14,0) -> 0 | AY8: =VLOOKUP(AL8,$CO$5:$DE$19,15,0) -> 0 | AZ8: =VLOOKUP(AL8,$CO$5:$DE$19,16,0) -> 0 | BA8: =VLOOKUP(AL8,$CO$5:$DE$19,17,0) -> 0 | BB8: =VLOOKUP(BV8,$BW$5:$DF$21,2,0) -> Equipe 04 | BG8: =VLOOKUP(BB8,$DF$5:$DV$19,7,0) -> 0 | BH8: =VLOOKUP(BB8,$DF$5:$DV$19,8,0) -> u | BI8: =IF(FX8=FX7,FY7,FY8) -> 1 | BJ8: =VLOOKUP(BB8,$DF$5:$DV$19,10,0) -> 0 | BK8: =VLOOKUP(BB8,$DF$5:$DV$19,11,0) -> 0 | BL8: =VLOOKUP(BB8,$DF$5:$DV$19,12,0) -> 0 | BM8: =VLOOKUP(BB8,$DF$5:$DV$19,13,0) -> 0 | BN8: =VLOOKUP(BB8,$DF$5:$DV$19,14,0) -> 0 | BO8: =VLOOKUP(BB8,$DF$5:$DV$19,15,0) -> 0 | BP8: =VLOOKUP(BB8,$DF$5:$DV$19,16,0) -> 0 | BQ8: =VLOOKUP(BB8,$DF$5:$DV$19,17,0) -> 0 | BR8: 4 | BS8: =CF8 -> 4 | BT8: 4 | BU8: =CW8 -> 4 | BV8: 4 | BW8: =DN8 -> 4 | BX8: =Equipes!A5 -> Equipe 04 | CC8: =RANK(DW8,$DW$5:$DW$19) -> 1 | CD8: =CC8-CC8 -> 0 | CE8: u | CF8: =RANK(DX8,$DX$5:$DX$13) -> 4 | CG8: =SUMPRODUCT(($B$5:$F$13=BX8)*($EG$5:$EG$13))+SUMPRODUCT(($I$5:$M$13=BX8)*($EH$5:$EH$13)) -> 0 | CH8: =SUMPRODUCT(($B$5:$F$13=BX8)*($EI$5:$EI$13))+SUMPRODUCT(($I$5:$M$13=BX8)*($EJ$5:$EJ$13)) -> 0 | CI8: =SUMPRODUCT(($B$5:$F$13=BX8)*($EK$5:$EK$13))+SUMPRODUCT(($I$5:$M$13=BX8)*($EL$5:$EL$13)) -> 0 | CJ8: =SUMPRODUCT(($B$5:$F$13=BX8)*($EM$5:$EM$13))+SUMPRODUCT(($I$5:$M$13=BX8)*($EN$5:$EN$13)) -> 0 | CK8: =SUMPRODUCT(($B$5:$F$13=BX8)*($EO$5:$EO$13))+SUMPRODUCT(($I$5:$M$13=BX8)*($EP$5:$EP$13)) -> 0 | CL8: =SUMPRODUCT(($B$5:$F$13=BX8)*($EQ$5:$EQ$13))+SUMPRODUCT(($I$5:$M$13=BX8)*($ER$5:$ER$13)) -> 0 | CM8: =SUMPRODUCT(($B$5:$F$13=BX8)*($ES$5:$ES$13))+SUMPRODUCT(($I$5:$M$13=BX8)*($ET$5:$ET$13)) -> 0 | CN8: =CL8-CM8 -> 0 | CO8: =BX8 -> Equipe 04 | CT8: =RANK(DY8,$DY$5:$DY$19) -> 1 | CU8: =CT8-CT8 -> 0 | CV8: u | CW8: =RANK(DZ8,$DZ$5:$DZ$19) -> 4 | CX8: =SUMPRODUCT(($B$5:$F$13=CO8)*($EG$5:$EG$13)) -> 0 | CY8: =SUMPRODUCT(($B$5:$F$13=CO8)*($EI$5:$EI$13)) -> 0 | CZ8: =SUMPRODUCT(($B$5:$F$13=CO8)*($EK$5:$EK$13)) -> 0 | DA8: =SUMPRODUCT(($B$5:$F$13=CO8)*($EM$5:$EM$13)) -> 0 | DB8: =SUMPRODUCT(($B$5:$F$13=CO8)*($EO$5:$EO$13)) -> 0 | DC8: =SUMPRODUCT(($B$5:$F$13=CO8)*($EQ$5:$EQ$13)) -> 0 | DD8: =SUMPRODUCT(($B$5:$F$13=CO8)*($ES$5:$ES$13)) -> 0 | DE8: =DC8-DD8 -> 0 | DF8: =BX8 -> Equipe 04 | DK8: =RANK(EA8,$EA$5:$EA$19) -> 1 | DL8: =DK8-DK8 -> 0 | DM8: u | DN8: =RANK(EB8,$EB$5:$EB$19) -> 4 | DO8: =SUMPRODUCT(($I$5:$M$13=DF8)*($EH$5:$EH$13)) -> 0 | DP8: =SUMPRODUCT(($I$5:$M$13=DF8)*($EJ$5:$EJ$13)) -> 0 | DQ8: =SUMPRODUCT(($I$5:$M$13=DF8)*($EL$5:$EL$13)) -> 0 | DR8: =SUMPRODUCT(($I$5:$M$13=DF8)*($EN$5:$EN$13)) -> 0 | DS8: =SUMPRODUCT(($I$5:$M$13=DF8)*($EP$5:$EP$13)) -> 0 | DT8: =SUMPRODUCT(($I$5:$M$13=DF8)*($ER$5:$ER$13)) -> 0 | DU8: =SUMPRODUCT(($I$5:$M$13=DF8)*($ET$5:$ET$13)) -> 0 | DV8: =DT8-DU8 -> 0 | DW8: =SUM(CG8*1000+(CN8)/100+(CL8)/1000) -> 0 | DX8: =DW8+0.0000003 -> 3e-07 | DY8: =SUM(CX8*1000+(DE8)/100+(DC8)/1000) -> 0 | DZ8: =DY8+0.0000003 -> 3e-07 | EA8: =SUM(DO8*1000+(DV8)/100+(DT8)/1000) -> 0 | EB8: =EA8+0.0000003 -> 3e-07 | EU8: =VLOOKUP(BR8,$BS$5:$CB$13,6,0) -> Equipe 04 | EZ8: =VLOOKUP(EU8,$BX$5:$DW$13,52,0) -> 0 | FA8: =RANK(EZ8,$EZ$5:$EZ$13) -> 1 | FB8: =BX8 -> Equipe 04 | FG8: =VLOOKUP(BT8,$BU$5:$CS$13,21,0) -> Equipe 04 | FL8: =VLOOKUP(FG8,$CO$5:$DY$13,37,0) -> 0 | FM8: =RANK(FL8,$FL$5:$FL$13) -> 1 | FN8: =CO8 -> Equipe 04 | FS8: =VLOOKUP(BV8,$BW$5:$DF$13,36,0) -> Equipe 04 | FX8: =VLOOKUP(FS8,$DF$5:$EA$21,22,0) -> 0 | FY8: =RANK(FX8,$FX$5:$FX$13) -> 1 | FZ8: =DF8 -> Equipe 04 | GE8: =BX8 -> Equipe 04
V9: =VLOOKUP(BR9,$BS$5:$CB$21,6,0) -> Equipe 05 | AA9: =VLOOKUP(V9,$BX$5:$CN$19,7,0) -> 0 | AB9: =VLOOKUP(V9,$BX$5:$CN$19,8,0) -> u | AC9: =IF(EZ9=EZ8,FA8,FA9) -> 1 | AD9: =VLOOKUP(V9,$BX$5:$CN$19,10,0) -> 0 | AE9: =VLOOKUP(V9,$BX$5:$CN$19,11,0) -> 0 | AF9: =VLOOKUP(V9,$BX$5:$CN$19,12,0) -> 0 | AG9: =VLOOKUP(V9,$BX$5:$CN$19,13,0) -> 0 | AH9: =VLOOKUP(V9,$BX$5:$CN$19,14,0) -> 0 | AI9: =VLOOKUP(V9,$BX$5:$CN$19,15,0) -> 0 | AJ9: =VLOOKUP(V9,$BX$5:$CN$19,16,0) -> 0 | AK9: =VLOOKUP(V9,$BX$5:$CN$19,17,0) -> 0 | AL9: =VLOOKUP(BT9,$BU$5:$CS$21,4,0) -> Equipe 05 | AQ9: =VLOOKUP(AL9,$CO$5:$DE$19,7,0) -> 0 | AR9: =VLOOKUP(AL9,$CO$5:$DE$19,8,0) -> u | AS9: =IF(FL9=FL8,FM8,FM9) -> 1 | AT9: =VLOOKUP(AL9,$CO$5:$DE$19,10,0) -> 0 | AU9: =VLOOKUP(AL9,$CO$5:$DE$19,11,0) -> 0 | AV9: =VLOOKUP(AL9,$CO$5:$DE$19,12,0) -> 0 | AW9: =VLOOKUP(AL9,$CO$5:$DE$19,13,0) -> 0 | AX9: =VLOOKUP(AL9,$CO$5:$DE$19,14,0) -> 0 | AY9: =VLOOKUP(AL9,$CO$5:$DE$19,15,0) -> 0 | AZ9: =VLOOKUP(AL9,$CO$5:$DE$19,16,0) -> 0 | BA9: =VLOOKUP(AL9,$CO$5:$DE$19,17,0) -> 0 | BB9: =VLOOKUP(BV9,$BW$5:$DF$21,2,0) -> Equipe 05 | BG9: =VLOOKUP(BB9,$DF$5:$DV$19,7,0) -> 0 | BH9: =VLOOKUP(BB9,$DF$5:$DV$19,8,0) -> u | BI9: =IF(FX9=FX8,FY8,FY9) -> 1 | BJ9: =VLOOKUP(BB9,$DF$5:$DV$19,10,0) -> 0 | BK9: =VLOOKUP(BB9,$DF$5:$DV$19,11,0) -> 0 | BL9: =VLOOKUP(BB9,$DF$5:$DV$19,12,0) -> 0 | BM9: =VLOOKUP(BB9,$DF$5:$DV$19,13,0) -> 0 | BN9: =VLOOKUP(BB9,$DF$5:$DV$19,14,0) -> 0 | BO9: =VLOOKUP(BB9,$DF$5:$DV$19,15,0) -> 0 | BP9: =VLOOKUP(BB9,$DF$5:$DV$19,16,0) -> 0 | BQ9: =VLOOKUP(BB9,$DF$5:$DV$19,17,0) -> 0 | BR9: 5 | BS9: =CF9 -> 5 | BT9: 5 | BU9: =CW9 -> 5 | BV9: 5 | BW9: =DN9 -> 5 | BX9: =Equipes!A6 -> Equipe 05 | CC9: =RANK(DW9,$DW$5:$DW$19) -> 1 | CD9: =CC9-CC9 -> 0 | CE9: u | CF9: =RANK(DX9,$DX$5:$DX$13) -> 5 | CG9: =SUMPRODUCT(($B$5:$F$13=BX9)*($EG$5:$EG$13))+SUMPRODUCT(($I$5:$M$13=BX9)*($EH$5:$EH$13)) -> 0 | CH9: =SUMPRODUCT(($B$5:$F$13=BX9)*($EI$5:$EI$13))+SUMPRODUCT(($I$5:$M$13=BX9)*($EJ$5:$EJ$13)) -> 0 | CI9: =SUMPRODUCT(($B$5:$F$13=BX9)*($EK$5:$EK$13))+SUMPRODUCT(($I$5:$M$13=BX9)*($EL$5:$EL$13)) -> 0 | CJ9: =SUMPRODUCT(($B$5:$F$13=BX9)*($EM$5:$EM$13))+SUMPRODUCT(($I$5:$M$13=BX9)*($EN$5:$EN$13)) -> 0 | CK9: =SUMPRODUCT(($B$5:$F$13=BX9)*($EO$5:$EO$13))+SUMPRODUCT(($I$5:$M$13=BX9)*($EP$5:$EP$13)) -> 0 | CL9: =SUMPRODUCT(($B$5:$F$13=BX9)*($EQ$5:$EQ$13))+SUMPRODUCT(($I$5:$M$13=BX9)*($ER$5:$ER$13)) -> 0 | CM9: =SUMPRODUCT(($B$5:$F$13=BX9)*($ES$5:$ES$13))+SUMPRODUCT(($I$5:$M$13=BX9)*($ET$5:$ET$13)) -> 0 | CN9: =CL9-CM9 -> 0 | CO9: =BX9 -> Equipe 05 | CT9: =RANK(DY9,$DY$5:$DY$19) -> 1 | CU9: =CT9-CT9 -> 0 | CV9: u | CW9: =RANK(DZ9,$DZ$5:$DZ$19) -> 5 | CX9: =SUMPRODUCT(($B$5:$F$13=CO9)*($EG$5:$EG$13)) -> 0 | CY9: =SUMPRODUCT(($B$5:$F$13=CO9)*($EI$5:$EI$13)) -> 0 | CZ9: =SUMPRODUCT(($B$5:$F$13=CO9)*($EK$5:$EK$13)) -> 0 | DA9: =SUMPRODUCT(($B$5:$F$13=CO9)*($EM$5:$EM$13)) -> 0 | DB9: =SUMPRODUCT(($B$5:$F$13=CO9)*($EO$5:$EO$13)) -> 0 | DC9: =SUMPRODUCT(($B$5:$F$13=CO9)*($EQ$5:$EQ$13)) -> 0 | DD9: =SUMPRODUCT(($B$5:$F$13=CO9)*($ES$5:$ES$13)) -> 0 | DE9: =DC9-DD9 -> 0 | DF9: =BX9 -> Equipe 05 | DK9: =RANK(EA9,$EA$5:$EA$19) -> 1 | DL9: =DK9-DK9 -> 0 | DM9: u | DN9: =RANK(EB9,$EB$5:$EB$19) -> 5 | DO9: =SUMPRODUCT(($I$5:$M$13=DF9)*($EH$5:$EH$13)) -> 0 | DP9: =SUMPRODUCT(($I$5:$M$13=DF9)*($EJ$5:$EJ$13)) -> 0 | DQ9: =SUMPRODUCT(($I$5:$M$13=DF9)*($EL$5:$EL$13)) -> 0 | DR9: =SUMPRODUCT(($I$5:$M$13=DF9)*($EN$5:$EN$13)) -> 0 | DS9: =SUMPRODUCT(($I$5:$M$13=DF9)*($EP$5:$EP$13)) -> 0 | DT9: =SUMPRODUCT(($I$5:$M$13=DF9)*($ER$5:$ER$13)) -> 0 | DU9: =SUMPRODUCT(($I$5:$M$13=DF9)*($ET$5:$ET$13)) -> 0 | DV9: =DT9-DU9 -> 0 | DW9: =SUM(CG9*1000+(CN9)/100+(CL9)/1000) -> 0 | DX9: =DW9+0.0000002 -> 2e-07 | DY9: =SUM(CX9*1000+(DE9)/100+(DC9)/1000) -> 0 | DZ9: =DY9+0.0000002 -> 2e-07 | EA9: =SUM(DO9*1000+(DV9)/100+(DT9)/1000) -> 0 | EB9: =EA9+0.0000002 -> 2e-07 | EU9: =VLOOKUP(BR9,$BS$5:$CB$13,6,0) -> Equipe 05 | EZ9: =VLOOKUP(EU9,$BX$5:$DW$13,52,0) -> 0 | FA9: =RANK(EZ9,$EZ$5:$EZ$13) -> 1 | FB9: =BX9 -> Equipe 05 | FG9: =VLOOKUP(BT9,$BU$5:$CS$13,21,0) -> Equipe 05 | FL9: =VLOOKUP(FG9,$CO$5:$DY$13,37,0) -> 0 | FM9: =RANK(FL9,$FL$5:$FL$13) -> 1 | FN9: =CO9 -> Equipe 05 | FS9: =VLOOKUP(BV9,$BW$5:$DF$13,36,0) -> Equipe 05 | FX9: =VLOOKUP(FS9,$DF$5:$EA$21,22,0) -> 0 | FY9: =RANK(FX9,$FX$5:$FX$13) -> 1 | FZ9: =DF9 -> Equipe 05 | GE9: =BX9 -> Equipe 05
V10: =VLOOKUP(BR10,$BS$5:$CB$21,6,0) -> Equipe 06 | AA10: =VLOOKUP(V10,$BX$5:$CN$19,7,0) -> 0 | AB10: =VLOOKUP(V10,$BX$5:$CN$19,8,0) -> u | AC10: =IF(EZ10=EZ9,FA9,FA10) -> 1 | AD10: =VLOOKUP(V10,$BX$5:$CN$19,10,0) -> 0 | AE10: =VLOOKUP(V10,$BX$5:$CN$19,11,0) -> 0 | AF10: =VLOOKUP(V10,$BX$5:$CN$19,12,0) -> 0 | AG10: =VLOOKUP(V10,$BX$5:$CN$19,13,0) -> 0 | AH10: =VLOOKUP(V10,$BX$5:$CN$19,14,0) -> 0 | AI10: =VLOOKUP(V10,$BX$5:$CN$19,15,0) -> 0 | AJ10: =VLOOKUP(V10,$BX$5:$CN$19,16,0) -> 0 | AK10: =VLOOKUP(V10,$BX$5:$CN$19,17,0) -> 0 | AL10: =VLOOKUP(BT10,$BU$5:$CS$21,4,0) -> Equipe 06 | AQ10: =VLOOKUP(AL10,$CO$5:$DE$19,7,0) -> 0 | AR10: =VLOOKUP(AL10,$CO$5:$DE$19,8,0) -> u | AS10: =IF(FL10=FL9,FM9,FM10) -> 1 | AT10: =VLOOKUP(AL10,$CO$5:$DE$19,10,0) -> 0 | AU10: =VLOOKUP(AL10,$CO$5:$DE$19,11,0) -> 0 | AV10: =VLOOKUP(AL10,$CO$5:$DE$19,12,0) -> 0 | AW10: =VLOOKUP(AL10,$CO$5:$DE$19,13,0) -> 0 | AX10: =VLOOKUP(AL10,$CO$5:$DE$19,14,0) -> 0 | AY10: =VLOOKUP(AL10,$CO$5:$DE$19,15,0) -> 0 | AZ10: =VLOOKUP(AL10,$CO$5:$DE$19,16,0) -> 0 | BA10: =VLOOKUP(AL10,$CO$5:$DE$19,17,0) -> 0 | BB10: =VLOOKUP(BV10,$BW$5:$DF$21,2,0) -> Equipe 06 | BG10: =VLOOKUP(BB10,$DF$5:$DV$19,7,0) -> 0 | BH10: =VLOOKUP(BB10,$DF$5:$DV$19,8,0) -> u | BI10: =IF(FX10=FX9,FY9,FY10) -> 1 | BJ10: =VLOOKUP(BB10,$DF$5:$DV$19,10,0) -> 0 | BK10: =VLOOKUP(BB10,$DF$5:$DV$19,11,0) -> 0 | BL10: =VLOOKUP(BB10,$DF$5:$DV$19,12,0) -> 0 | BM10: =VLOOKUP(BB10,$DF$5:$DV$19,13,0) -> 0 | BN10: =VLOOKUP(BB10,$DF$5:$DV$19,14,0) -> 0 | BO10: =VLOOKUP(BB10,$DF$5:$DV$19,15,0) -> 0 | BP10: =VLOOKUP(BB10,$DF$5:$DV$19,16,0) -> 0 | BQ10: =VLOOKUP(BB10,$DF$5:$DV$19,17,0) -> 0 | BR10: 6 | BS10: =CF10 -> 6 | BT10: 6 | BU10: =CW10 -> 6 | BV10: 6 | BW10: =DN10 -> 6 | BX10: =Equipes!A7 -> Equipe 06 | CC10: =RANK(DW10,$DW$5:$DW$19) -> 1 | CD10: =CC10-CC10 -> 0 | CE10: u | CF10: =RANK(DX10,$DX$5:$DX$13) -> 6 | CG10: =SUMPRODUCT(($B$5:$F$13=BX10)*($EG$5:$EG$13))+SUMPRODUCT(($I$5:$M$13=BX10)*($EH$5:$EH$13)) -> 0 | CH10: =SUMPRODUCT(($B$5:$F$13=BX10)*($EI$5:$EI$13))+SUMPRODUCT(($I$5:$M$13=BX10)*($EJ$5:$EJ$13)) -> 0 | CI10: =SUMPRODUCT(($B$5:$F$13=BX10)*($EK$5:$EK$13))+SUMPRODUCT(($I$5:$M$13=BX10)*($EL$5:$EL$13)) -> 0 | CJ10: =SUMPRODUCT(($B$5:$F$13=BX10)*($EM$5:$EM$13))+SUMPRODUCT(($I$5:$M$13=BX10)*($EN$5:$EN$13)) -> 0 | CK10: =SUMPRODUCT(($B$5:$F$13=BX10)*($EO$5:$EO$13))+SUMPRODUCT(($I$5:$M$13=BX10)*($EP$5:$EP$13)) -> 0 | CL10: =SUMPRODUCT(($B$5:$F$13=BX10)*($EQ$5:$EQ$13))+SUMPRODUCT(($I$5:$M$13=BX10)*($ER$5:$ER$13)) -> 0 | CM10: =SUMPRODUCT(($B$5:$F$13=BX10)*($ES$5:$ES$13))+SUMPRODUCT(($I$5:$M$13=BX10)*($ET$5:$ET$13)) -> 0 | CN10: =CL10-CM10 -> 0 | CO10: =BX10 -> Equipe 06 | CT10: =RANK(DY10,$DY$5:$DY$19) -> 1 | CU10: =CT10-CT10 -> 0 | CV10: u | CW10: =RANK(DZ10,$DZ$5:$DZ$19) -> 6 | CX10: =SUMPRODUCT(($B$5:$F$13=CO10)*($EG$5:$EG$13)) -> 0 | CY10: =SUMPRODUCT(($B$5:$F$13=CO10)*($EI$5:$EI$13)) -> 0 | CZ10: =SUMPRODUCT(($B$5:$F$13=CO10)*($EK$5:$EK$13)) -> 0 | DA10: =SUMPRODUCT(($B$5:$F$13=CO10)*($EM$5:$EM$13)) -> 0 | DB10: =SUMPRODUCT(($B$5:$F$13=CO10)*($EO$5:$EO$13)) -> 0 | DC10: =SUMPRODUCT(($B$5:$F$13=CO10)*($EQ$5:$EQ$13)) -> 0 | DD10: =SUMPRODUCT(($B$5:$F$13=CO10)*($ES$5:$ES$13)) -> 0 | DE10: =DC10-DD10 -> 0 | DF10: =BX10 -> Equipe 06 | DK10: =RANK(EA10,$EA$5:$EA$19) -> 1 | DL10: =DK10-DK10 -> 0 | DM10: u | DN10: =RANK(EB10,$EB$5:$EB$19) -> 6 | DO10: =SUMPRODUCT(($I$5:$M$13=DF10)*($EH$5:$EH$13)) -> 0 | DP10: =SUMPRODUCT(($I$5:$M$13=DF10)*($EJ$5:$EJ$13)) -> 0 | DQ10: =SUMPRODUCT(($I$5:$M$13=DF10)*($EL$5:$EL$13)) -> 0 | DR10: =SUMPRODUCT(($I$5:$M$13=DF10)*($EN$5:$EN$13)) -> 0 | DS10: =SUMPRODUCT(($I$5:$M$13=DF10)*($EP$5:$EP$13)) -> 0 | DT10: =SUMPRODUCT(($I$5:$M$13=DF10)*($ER$5:$ER$13)) -> 0 | DU10: =SUMPRODUCT(($I$5:$M$13=DF10)*($ET$5:$ET$13)) -> 0 | DV10: =DT10-DU10 -> 0 | DW10: =SUM(CG10*1000+(CN10)/100+(CL10)/1000) -> 0 | DX10: =DW10+0.0000001 -> 1e-07 | DY10: =SUM(CX10*1000+(DE10)/100+(DC10)/1000) -> 0 | DZ10: =DY10+0.0000001 -> 1e-07 | EA10: =SUM(DO10*1000+(DV10)/100+(DT10)/1000) -> 0 | EB10: =EA10+0.0000001 -> 1e-07 | EU10: =VLOOKUP(BR10,$BS$5:$CB$13,6,0) -> Equipe 06 | EZ10: =VLOOKUP(EU10,$BX$5:$DW$13,52,0) -> 0 | FA10: =RANK(EZ10,$EZ$5:$EZ$13) -> 1 | FB10: =BX10 -> Equipe 06 | FG10: =VLOOKUP(BT10,$BU$5:$CS$13,21,0) -> Equipe 06 | FL10: =VLOOKUP(FG10,$CO$5:$DY$13,37,0) -> 0 | FM10: =RANK(FL10,$FL$5:$FL$13) -> 1 | FN10: =CO10 -> Equipe 06 | FS10: =VLOOKUP(BV10,$BW$5:$DF$13,36,0) -> Equipe 06 | FX10: =VLOOKUP(FS10,$DF$5:$EA$21,22,0) -> 0 | FY10: =RANK(FX10,$FX$5:$FX$13) -> 1 | FZ10: =DF10 -> Equipe 06 | GE10: =BX10 -> Equipe 06
AE13: Total des buts de la journée | AI13: =SUM(G5:H13) -> 0 | CC13: p | CD13: u | CE13: q | CT13: p | CU13: u | CV13: q | DK13: p | DL13: u | DM13: q
CC14: p | CD14: u | CE14: q | CT14: p | CU14: u | CV14: q | DK14: p | DL14: u | DM14: q
AE15: Total des buts du Championnat | AI15: =AI13 -> 0
AE17: Moyenne générale du Championnat | AI17: =IF(AE5=0,"",SUM(AI5:AI12)/SUM(AE5:AE12)*2)

Sheet J02
A1: ='J01'!A1:H2 -> Nom du championnat | I1: ='J01'!I1:N2 -> 2017 - 2018 | O1: Journée 02 | V1: CLASSEMENT GENERAL | AL1: CLASSEMENT DOMICILE | BB1: CLASSEMENT EXTERIEUR | BX1: CLASSEMENT GENERAL | CO1: DOMICILE | DF1: EXTERIEUR | DW1: GENERAL | DY1: DOMICILE | EA1: EXTERIEUR | EC1: Dom. | ED1: Ext. | EE1: Dom. | EF1: Ext. | EG1: Dom. | EH1: Ext. | EI1: Dom. | EJ1: Ext. | EK1: Dom. | EL1: Ext. | EM1: Dom. | EN1: Ext. | EO1: Dom. | EP1: Ext. | EQ1: Dom. | ER1: Ext. | ES1: Dom. | ET1: Ext. | EU1: GENERAL | FG1: DOMICILE | FS1: EXTERIEUR
A3: P | B3: Equipes | G3: Buts | H3: Buts | I3: Equipes | N3: P | O3: Date | S3: Heure | V3: Equipes | AA3: Evolution | AC3: Place | AD3: Pts | AE3: J | AF3: G | AG3: N | AH3: P | AI3: B + | AJ3: B - | AK3: Diff. | AL3: Equipes | AQ3: Evolution | AS3: Place | AT3: Pts | AU3: J | AV3: G | AW3: N | AX3: P | AY3: B + | AZ3: B - | BA3: Diff. | BB3: Equipes | BG3: Evolution | BI3: Place | BJ3: Pts | BK3: J | BL3: G | BM3: N | BN3: P | BO3: B + | BP3: B - | BQ3: Diff. | BR3: R Général | BT3: R Domicile | BV3: R Extérieur | BX3: Equipes | CC3: R | CD3: Evolution | CF3: Place | CG3: Pts | CH3: J | CI3: G | CJ3: N | CK3: P | CL3: B + | CM3: B - | CN3: Diff. | CO3: Equipes | CT3: R | CU3: Evolution | CW3: Place | CX3: Pts | CY3: J | CZ3: G | DA3: N | DB3: P | DC3: B + | DD3: B - | DE3: Diff. | DF3: Equipes | DK3: R | DL3: Evolution | DN3: Place | DO3: Pts | DP3: J | DQ3: G | DR3: N | DS3: P | DT3: B + | DU3: B - | DV3: Diff. | DW3: % | DX3: % | DY3: % | DZ3: % | EA3: % | EB3: % | EC3: P | ED3: P | EE3: Pts | EF3: Pts | EG3: T Pts | EH3: T Pts | EI3: J | EJ3: J | EK3: G | EL3: G | EM3: N | EN3: N | EO3: P | EP3: P | EQ3: B + | ER3: B + | ES3: B - | ET3: B - | EU3: Equipes | EZ3: % | FA3: R | FB3: Equipes | FG3: Equipes | FL3: % | FM3: R | FN3: Equipes | FS3: Equipes | FX3: % | FY3: R | FZ3: Equipes
V5: =VLOOKUP(BR5,$BS$5:$CB$21,6,0) -> Equipe 01 | AA5: =VLOOKUP(V5,$BX$5:$CN$19,7,0) -> 0 | AB5: =VLOOKUP(V5,$BX$5:$CN$19,8,0) -> u | AC5: 1 | AD5: =VLOOKUP(V5,$BX$5:$CN$19,10,0) -> 0 | AE5: =VLOOKUP(V5,$BX$5:$CN$19,11,0) -> 0 | AF5: =VLOOKUP(V5,$BX$5:$CN$19,12,0) -> 0 | AG5: =VLOOKUP(V5,$BX$5:$CN$19,13,0) -> 0 | AH5: =VLOOKUP(V5,$BX$5:$CN$19,14,0) -> 0 | AI5: =VLOOKUP(V5,$BX$5:$CN$19,15,0) -> 0 | AJ5: =VLOOKUP(V5,$BX$5:$CN$19,16,0) -> 0 | AK5: =VLOOKUP(V5,$BX$5:$CN$19,17,0) -> 0 | AL5: =VLOOKUP(BT5,$BU$5:$CS$21,4,0) -> Equipe 01 | AQ5: =VLOOKUP(AL5,$CO$5:$DE$19,7,0) -> 0 | AR5: =VLOOKUP(AL5,$CO$5:$DE$19,8,0) -> u | AS5: 1 | AT5: =VLOOKUP(AL5,$CO$5:$DE$19,10,0) -> 0 | AU5: =VLOOKUP(AL5,$CO$5:$DE$19,11,0) -> 0 | AV5: =VLOOKUP(AL5,$CO$5:$DE$19,12,0) -> 0 | AW5: =VLOOKUP(AL5,$CO$5:$DE$19,13,0) -> 0 | AX5: =VLOOKUP(AL5,$CO$5:$DE$19,14,0) -> 0 | AY5: =VLOOKUP(AL5,$CO$5:$DE$19,15,0) -> 0 | AZ5: =VLOOKUP(AL5,$CO$5:$DE$19,16,0) -> 0 | BA5: =VLOOKUP(AL5,$CO$5:$DE$19,17,0) -> 0 | BB5: =VLOOKUP(BV5,$BW$5:$DF$21,2,0) -> Equipe 01 | BG5: =VLOOKUP(BB5,$DF$5:$DV$19,7,0) -> 0 | BH5: =VLOOKUP(BB5,$DF$5:$DV$19,8,0) -> u | BI5: 1 | BJ5: =VLOOKUP(BB5,$DF$5:$DV$19,10,0) -> 0 | BK5: =VLOOKUP(BB5,$DF$5:$DV$19,11,0) -> 0 | BL5: =VLOOKUP(BB5,$DF$5:$DV$19,12,0) -> 0 | BM5: =VLOOKUP(BB5,$DF$5:$DV$19,13,0) -> 0 | BN5: =VLOOKUP(BB5,$DF$5:$DV$19,14,0) -> 0 | BO5: =VLOOKUP(BB5,$DF$5:$DV$19,15,0) -> 0 | BP5: =VLOOKUP(BB5,$DF$5:$DV$19,16,0) -> 0 | BQ5: =VLOOKUP(BB5,$DF$5:$DV$19,17,0) -> 0 | BR5: 1 | BS5: =CF5 -> 1 | BT5: 1 | BU5: =CW5 -> 1 | BV5: 1 | BW5: =DN5 -> 1 | BX5: =Equipes!A2 -> Equipe 01 | CC5: =RANK(DW5,$DW$5:$DW$19) -> 1 | CD5: ='J01'!CC5-CC5 -> 0 | CE5: =IF(CC5>'J01'!CC5,'J01'!$CE$14,IF(CC5='J01'!CC5,'J01'!$CU$14,IF(CC5<'J01'!CC5,'J01'!$CT$14))) -> u | CF5: =RANK(DX5,$DX$5:$DX$13) -> 1 | CG5: =SUMPRODUCT(($B$5:$F$13=BX5)*($EG$5:$EG$13))+SUMPRODUCT(($I$5:$M$13=BX5)*($EH$5:$EH$13))+'J01'!CG5 -> 0 | CH5: =SUMPRODUCT(($B$5:$F$13=BX5)*($EI$5:$EI$13))+SUMPRODUCT(($I$5:$M$13=BX5)*($EJ$5:$EJ$13))+'J01'!CH5 -> 0 | CI5: =SUMPRODUCT(($B$5:$F$13=BX5)*($EK$5:$EK$13))+SUMPRODUCT(($I$5:$M$13=BX5)*($EL$5:$EL$13))+'J01'!CI5 -> 0 | CJ5: =SUMPRODUCT(($B$5:$F$13=BX5)*($EM$5:$EM$13))+SUMPRODUCT(($I$5:$M$13=BX5)*($EN$5:$EN$13))+'J01'!CJ5 -> 0 | CK5: =SUMPRODUCT(($B$5:$F$13=BX5)*($EO$5:$EO$13))+SUMPRODUCT(($I$5:$M$13=BX5)*($EP$5:$EP$13))+'J01'!CK5 -> 0 | CL5: =SUMPRODUCT(($B$5:$F$13=BX5)*($EQ$5:$EQ$13))+SUMPRODUCT(($I$5:$M$13=BX5)*($ER$5:$ER$13))+'J01'!CL5 -> 0 | CM5: =SUMPRODUCT(($B$5:$F$13=BX5)*($ES$5:$ES$13))+SUMPRODUCT(($I$5:$M$13=BX5)*($ET$5:$ET$13))+'J01'!CM5 -> 0 | CN5: =CL5-CM5 -> 0 | CO5: =BX5 -> Equipe 01 | CT5: =RANK(DY5,$DY$5:$DY$19) -> 1 | CU5: ='J01'!CT5-CT5 -> 0 | CV5: =IF(CT5>'J01'!CT5,'J01'!$CV$14,IF(CT5='J01'!CT5,'J01'!$CU$14,IF(CT5<'J01'!CT5,'J01'!$CT$14))) -> u | CW5: =RANK(DZ5,$DZ$5:$DZ$19) -> 1 | CX5: =SUMPRODUCT(($B$5:$F$13=CO5)*($EG$5:$EG$13))+'J01'!CX5 -> 0 | CY5: =SUMPRODUCT(($B$5:$F$13=CO5)*($EI$5:$EI$13))+'J01'!CY5 -> 0 | CZ5: =SUMPRODUCT(($B$5:$F$13=CO5)*($EK$5:$EK$13))+'J01'!CZ5 -> 0 | DA5: =SUMPRODUCT(($B$5:$F$13=CO5)*($EM$5:$EM$13))+'J01'!DA5 -> 0 | DB5: =SUMPRODUCT(($B$5:$F$13=CO5)*($EO$5:$EO$13))+'J01'!DB5 -> 0 | DC5: =SUMPRODUCT(($B$5:$F$13=CO5)*($EQ$5:$EQ$13))+'J01'!DC5 -> 0 | DD5: =SUMPRODUCT(($B$5:$F$13=CO5)*($ES$5:$ES$13))+'J01'!DD5 -> 0 | DE5: =DC5-DD5 -> 0 | DF5: =BX5 -> Equipe 01 | DK5: =RANK(EA5,$EA$5:$EA$19) -> 1 | DL5: ='J01'!DK5-DK5 -> 0 | DM5: =IF(DK5>'J01'!DK5,'J01'!$DM$14,IF(DK5='J01'!DK5,'J01'!$DL$14,IF(DK5<'J01'!DK5,'J01'!$DK$14))) -> u | DN5: =RANK(EB5,$EB$5:$EB$19) -> 1 | DO5: =SUMPRODUCT(($I$5:$M$13=DF5)*($EH$5:$EH$13))+'J01'!DO5 -> 0 | DP5: =SUMPRODUCT(($I$5:$M$13=DF5)*($EJ$5:$EJ$13))+'J01'!DP5 -> 0 | DQ5: =SUMPRODUCT(($I$5:$M$13=DF5)*($EL$5:$EL$13))+'J01'!DQ5 -> 0 | DR5: =SUMPRODUCT(($I$5:$M$13=DF5)*($EN$5:$EN$13))+'J01'!DR5 -> 0 | DS5: =SUMPRODUCT(($I$5:$M$13=DF5)*($EP$5:$EP$13))+'J01'!DS5 -> 0 | DT5: =SUMPRODUCT(($I$5:$M$13=DF5)*($ER$5:$ER$13))+'J01'!DT5 -> 0 | DU5: =SUMPRODUCT(($I$5:$M$13=DF5)*($ET$5:$ET$13))+'J01'!DU5 -> 0 | DV5: =DT5-DU5 -> 0 | DW5: =SUM(CG5*1000+(CN5)/100+(CL5)/1000) -> 0 | DX5: =DW5+0.0000006 -> 6e-07 | DY5: =SUM(CX5*1000+(DE5)/100+(DC5)/1000) -> 0 | DZ5: =DY5+0.0000006 -> 6e-07 | EA5: =SUM(DO5*1000+(DV5)/100+(DT5)/1000) -> 0 | EB5: =EA5+0.0000006 -> 6e-07 | EC5: =A5 -> 0 | ED5: =N5 -> 0 | EE5: =IF(G5="",0,IF(G5>H5,3,IF(G5=H5,1,IF(G5<H5,0)))) -> 0 | EF5: =IF(H5="",0,IF(H5>G5,3,IF(H5=G5,1,IF(H5<G5,0)))) -> 0 | EG5: =EE5-EC5 -> 0 | EH5: =EF5-ED5 -> 0 | EI5: =IF(G5="",0,1) -> 0 | EJ5: =IF(H5="",0,1) -> 0 | EK5: =IF(G5<>"",IF(G5>H5,1)) -> FALSE | EL5: =IF(H5<>"",IF(H5>G5,1)) -> FALSE | EM5: =IF(G5<>"",IF(G5=H5,1)) -> FALSE | EN5: =IF(H5<>"",IF(H5=G5,1)) -> FALSE | EO5: =IF(G5<>"",IF(G5<H5,1)) -> FALSE | EP5: =IF(H5<>"",IF(H5<G5,1)) -> FALSE | EQ5: =G5 -> 0 | ER5: =H5 -> 0 | ES5: =H5 -> 0 | ET5: =G5 -> 0 | EU5: =VLOOKUP(BR5,$BS$5:$CB$13,6,0) -> Equipe 01 | EZ5: =VLOOKUP(EU5,$BX$5:$DW$13,52,0) -> 0 | FA5: =RANK(EZ5,$EZ$5:$EZ$13) -> 1 | FB5: =BX5 -> Equipe 01 | FG5: =VLOOKUP(BT5,$BU$5:$CS$13,21,0) -> Equipe 01 | FL5: =VLOOKUP(FG5,$CO$5:$DY$13,37,0) -> 0 | FM5: =RANK(FL5,$FL$5:$FL$13) -> 1 | FN5: =CO5 -> Equipe 01 | FS5: =VLOOKUP(BV5,$BW$5:$DF$13,36,0) -> Equipe 01 | FX5: =VLOOKUP(FS5,$DF$5:$EA$21,22,0) -> 0 | FY5: =RANK(FX5,$FX$5:$FX$13) -> 1 | FZ5: =DF5 -> Equipe 01 | GE5: =BX5 -> Equipe 01
V6: =VLOOKUP(BR6,$BS$5:$CB$21,6,0) -> Equipe 02 | AA6: =VLOOKUP(V6,$BX$5:$CN$19,7,0) -> 0 | AB6: =VLOOKUP(V6,$BX$5:$CN$19,8,0) -> u | AC6: =IF(EZ6=EZ5,FA5,FA6) -> 1 | AD6: =VLOOKUP(V6,$BX$5:$CN$19,10,0) -> 0 | AE6: =VLOOKUP(V6,$BX$5:$CN$19,11,0) -> 0 | AF6: =VLOOKUP(V6,$BX$5:$CN$19,12,0) -> 0 | AG6: =VLOOKUP(V6,$BX$5:$CN$19,13,0) -> 0 | AH6: =VLOOKUP(V6,$BX$5:$CN$19,14,0) -> 0 | AI6: =VLOOKUP(V6,$BX$5:$CN$19,15,0) -> 0 | AJ6: =VLOOKUP(V6,$BX$5:$CN$19,16,0) -> 0 | AK6: =VLOOKUP(V6,$BX$5:$CN$19,17,0) -> 0 | AL6: =VLOOKUP(BT6,$BU$5:$CS$21,4,0) -> Equipe 02 | AQ6: =VLOOKUP(AL6,$CO$5:$DE$19,7,0) -> 0 | AR6: =VLOOKUP(AL6,$CO$5:$DE$19,8,0) -> u | AS6: =IF(FL6=FL5,FM5,FM6) -> 1 | AT6: =VLOOKUP(AL6,$CO$5:$DE$19,10,0) -> 0 | AU6: =VLOOKUP(AL6,$CO$5:$DE$19,11,0) -> 0 | AV6: =VLOOKUP(AL6,$CO$5:$DE$19,12,0) -> 0 | AW6: =VLOOKUP(AL6,$CO$5:$DE$19,13,0) -> 0 | AX6: =VLOOKUP(AL6,$CO$5:$DE$19,14,0) -> 0 | AY6: =VLOOKUP(AL6,$CO$5:$DE$19,15,0) -> 0 | AZ6: =VLOOKUP(AL6,$CO$5:$DE$19,16,0) -> 0 | BA6: =VLOOKUP(AL6,$CO$5:$DE$19,17,0) -> 0 | BB6: =VLOOKUP(BV6,$BW$5:$DF$21,2,0) -> Equipe 02 | BG6: =VLOOKUP(BB6,$DF$5:$DV$19,7,0) -> 0 | BH6: =VLOOKUP(BB6,$DF$5:$DV$19,8,0) -> u | BI6: =IF(FX6=FX5,FY5,FY6) -> 1 | BJ6: =VLOOKUP(BB6,$DF$5:$DV$19,10,0) -> 0 | BK6: =VLOOKUP(BB6,$DF$5:$DV$19,11,0) -> 0 | BL6: =VLOOKUP(BB6,$DF$5:$DV$19,12,0) -> 0 | BM6: =VLOOKUP(BB6,$DF$5:$DV$19,13,0) -> 0 | BN6: =VLOOKUP(BB6,$DF$5:$DV$19,14,0) -> 0 | BO6: =VLOOKUP(BB6,$DF$5:$DV$19,15,0) -> 0 | BP6: =VLOOKUP(BB6,$DF$5:$DV$19,16,0) -> 0 | BQ6: =VLOOKUP(BB6,$DF$5:$DV$19,17,0) -> 0 | BR6: 2 | BS6: =CF6 -> 2 | BT6: 2 | BU6: =CW6 -> 2 | BV6: 2 | BW6: =DN6 -> 2 | BX6: =Equipes!A3 -> Equipe 02 | CC6: =RANK(DW6,$DW$5:$DW$19) -> 1 | CD6: ='J01'!CC6-CC6 -> 0 | CE6: =IF(CC6>'J01'!CC6,'J01'!$CE$14,IF(CC6='J01'!CC6,'J01'!$CU$14,IF(CC6<'J01'!CC6,'J01'!$CT$14))) -> u | CF6: =RANK(DX6,$DX$5:$DX$13) -> 2 | CG6: =SUMPRODUCT(($B$5:$F$13=BX6)*($EG$5:$EG$13))+SUMPRODUCT(($I$5:$M$13=BX6)*($EH$5:$EH$13))+'J01'!CG6 -> 0 | CH6: =SUMPRODUCT(($B$5:$F$13=BX6)*($EI$5:$EI$13))+SUMPRODUCT(($I$5:$M$13=BX6)*($EJ$5:$EJ$13))+'J01'!CH6 -> 0 | CI6: =SUMPRODUCT(($B$5:$F$13=BX6)*($EK$5:$EK$13))+SUMPRODUCT(($I$5:$M$13=BX6)*($EL$5:$EL$13))+'J01'!CI6 -> 0 | CJ6: =SUMPRODUCT(($B$5:$F$13=BX6)*($EM$5:$EM$13))+SUMPRODUCT(($I$5:$M$13=BX6)*($EN$5:$EN$13))+'J01'!CJ6 -> 0 | CK6: =SUMPRODUCT(($B$5:$F$13=BX6)*($EO$5:$EO$13))+SUMPRODUCT(($I$5:$M$13=BX6)*($EP$5:$EP$13))+'J01'!CK6 -> 0 | CL6: =SUMPRODUCT(($B$5:$F$13=BX6)*($EQ$5:$EQ$13))+SUMPRODUCT(($I$5:$M$13=BX6)*($ER$5:$ER$13))+'J01'!CL6 -> 0 | CM6: =SUMPRODUCT(($B$5:$F$13=BX6)*($ES$5:$ES$13))+SUMPRODUCT(($I$5:$M$13=BX6)*($ET$5:$ET$13))+'J01'!CM6 -> 0 | CN6: =CL6-CM6 -> 0 | CO6: =BX6 -> Equipe 02 | CT6: =RANK(DY6,$DY$5:$DY$19) -> 1 | CU6: ='J01'!CT6-CT6 -> 0 | CV6: =IF(CT6>'J01'!CT6,'J01'!$CV$14,IF(CT6='J01'!CT6,'J01'!$CU$14,IF(CT6<'J01'!CT6,'J01'!$CT$14))) -> u | CW6: =RANK(DZ6,$DZ$5:$DZ$19) -> 2 | CX6: =SUMPRODUCT(($B$5:$F$13=CO6)*($EG$5:$EG$13))+'J01'!CX6 -> 0 | CY6: =SUMPRODUCT(($B$5:$F$13=CO6)*($EI$5:$EI$13))+'J01'!CY6 -> 0 | CZ6: =SUMPRODUCT(($B$5:$F$13=CO6)*($EK$5:$EK$13))+'J01'!CZ6 -> 0 | DA6: =SUMPRODUCT(($B$5:$F$13=CO6)*($EM$5:$EM$13))+'J01'!DA6 -> 0 | DB6: =SUMPRODUCT(($B$5:$F$13=CO6)*($EO$5:$EO$13))+'J01'!DB6 -> 0 | DC6: =SUMPRODUCT(($B$5:$F$13=CO6)*($EQ$5:$EQ$13))+'J01'!DC6 -> 0 | DD6: =SUMPRODUCT(($B$5:$F$13=CO6)*($ES$5:$ES$13))+'J01'!DD6 -> 0 | DE6: =DC6-DD6 -> 0 | DF6: =BX6 -> Equipe 02 | DK6: =RANK(EA6,$EA$5:$EA$19) -> 1 | DL6: ='J01'!DK6-DK6 -> 0 | DM6: =IF(DK6>'J01'!DK6,'J01'!$DM$14,IF(DK6='J01'!DK6,'J01'!$DL$14,IF(DK6<'J01'!DK6,'J01'!$DK$14))) -> u | DN6: =RANK(EB6,$EB$5:$EB$19) -> 2 | DO6: =SUMPRODUCT(($I$5:$M$13=DF6)*($EH$5:$EH$13))+'J01'!DO6 -> 0 | DP6: =SUMPRODUCT(($I$5:$M$13=DF6)*($EJ$5:$EJ$13))+'J01'!DP6 -> 0 | DQ6: =SUMPRODUCT(($I$5:$M$13=DF6)*($EL$5:$EL$13))+'J01'!DQ6 -> 0 | DR6: =SUMPRODUCT(($I$5:$M$13=DF6)*($EN$5:$EN$13))+'J01'!DR6 -> 0 | DS6: =SUMPRODUCT(($I$5:$M$13=DF6)*($EP$5:$EP$13))+'J01'!DS6 -> 0 | DT6: =SUMPRODUCT(($I$5:$M$13=DF6)*($ER$5:$ER$13))+'J01'!DT6 -> 0 | DU6: =SUMPRODUCT(($I$5:$M$13=DF6)*($ET$5:$ET$13))+'J01'!DU6 -> 0 | DV6: =DT6-DU6 -> 0 | DW6: =SUM(CG6*1000+(CN6)/100+(CL6)/1000) -> 0 | DX6: =DW6+0.0000005 -> 5e-07 | DY6: =SUM(CX6*1000+(DE6)/100+(DC6)/1000) -> 0 | DZ6: =DY6+0.0000005 -> 5e-07 | EA6: =SUM(DO6*1000+(DV6)/100+(DT6)/1000) -> 0 | EB6: =EA6+0.0000005 -> 5e-07 | EC6: =A6 -> 0 | ED6: =N6 -> 0 | EE6: =IF(G6="",0,IF(G6>H6,3,IF(G6=H6,1,IF(G6<H6,0)))) -> 0 | EF6: =IF(H6="",0,IF(H6>G6,3,IF(H6=G6,1,IF(H6<G6,0)))) -> 0 | EG6: =EE6-EC6 -> 0 | EH6: =EF6-ED6 -> 0 | EI6: =IF(G6="",0,1) -> 0 | EJ6: =IF(H6="",0,1) -> 0 | EK6: =IF(G6<>"",IF(G6>H6,1)) -> FALSE | EL6: =IF(H6<>"",IF(H6>G6,1)) -> FALSE | EM6: =IF(G6<>"",IF(G6=H6,1)) -> FALSE | EN6: =IF(H6<>"",IF(H6=G6,1)) -> FALSE | EO6: =IF(G6<>"",IF(G6<H6,1)) -> FALSE | EP6: =IF(H6<>"",IF(H6<G6,1)) -> FALSE | EQ6: =G6 -> 0 | ER6: =H6 -> 0 | ES6: =H6 -> 0 | ET6: =G6 -> 0 | EU6: =VLOOKUP(BR6,$BS$5:$CB$13,6,0) -> Equipe 02 | EZ6: =VLOOKUP(EU6,$BX$5:$DW$13,52,0) -> 0 | FA6: =RANK(EZ6,$EZ$5:$EZ$13) -> 1 | FB6: =BX6 -> Equipe 02 | FG6: =VLOOKUP(BT6,$BU$5:$CS$13,21,0) -> Equipe 02 | FL6: =VLOOKUP(FG6,$CO$5:$DY$13,37,0) -> 0 | FM6: =RANK(FL6,$FL$5:$FL$13) -> 1 | FN6: =CO6 -> Equipe 02 | FS6: =VLOOKUP(BV6,$BW$5:$DF$13,36,0) -> Equipe 02 | FX6: =VLOOKUP(FS6,$DF$5:$EA$21,22,0) -> 0 | FY6: =RANK(FX6,$FX$5:$FX$13) -> 1 | FZ6: =DF6 -> Equipe 02 | GE6: =BX6 -> Equipe 02
V7: =VLOOKUP(BR7,$BS$5:$CB$21,6,0) -> Equipe 03 | AA7: =VLOOKUP(V7,$BX$5:$CN$19,7,0) -> 0 | AB7: =VLOOKUP(V7,$BX$5:$CN$19,8,0) -> u | AC7: =IF(EZ7=EZ6,FA6,FA7) -> 1 | AD7: =VLOOKUP(V7,$BX$5:$CN$19,10,0) -> 0 | AE7: =VLOOKUP(V7,$BX$5:$CN$19,11,0) -> 0 | AF7: =VLOOKUP(V7,$BX$5:$CN$19,12,0) -> 0 | AG7: =VLOOKUP(V7,$BX$5:$CN$19,13,0) -> 0 | AH7: =VLOOKUP(V7,$BX$5:$CN$19,14,0) -> 0 | AI7: =VLOOKUP(V7,$BX$5:$CN$19,15,0) -> 0 | AJ7: =VLOOKUP(V7,$BX$5:$CN$19,16,0) -> 0 | AK7: =VLOOKUP(V7,$BX$5:$CN$19,17,0) -> 0 | AL7: =VLOOKUP(BT7,$BU$5:$CS$21,4,0) -> Equipe 03 | AQ7: =VLOOKUP(AL7,$CO$5:$DE$19,7,0) -> 0 | AR7: =VLOOKUP(AL7,$CO$5:$DE$19,8,0) -> u | AS7: =IF(FL7=FL6,FM6,FM7) -> 1 | AT7: =VLOOKUP(AL7,$CO$5:$DE$19,10,0) -> 0 | AU7: =VLOOKUP(AL7,$CO$5:$DE$19,11,0) -> 0 | AV7: =VLOOKUP(AL7,$CO$5:$DE$19,12,0) -> 0 | AW7: =VLOOKUP(AL7,$CO$5:$DE$19,13,0) -> 0 | AX7: =VLOOKUP(AL7,$CO$5:$DE$19,14,0) -> 0 | AY7: =VLOOKUP(AL7,$CO$5:$DE$19,15,0) -> 0 | AZ7: =VLOOKUP(AL7,$CO$5:$DE$19,16,0) -> 0 | BA7: =VLOOKUP(AL7,$CO$5:$DE$19,17,0) -> 0 | BB7: =VLOOKUP(BV7,$BW$5:$DF$21,2,0) -> Equipe 03 | BG7: =VLOOKUP(BB7,$DF$5:$DV$19,7,0) -> 0 | BH7: =VLOOKUP(BB7,$DF$5:$DV$19,8,0) -> u | BI7: =IF(FX7=FX6,FY6,FY7) -> 1 | BJ7: =VLOOKUP(BB7,$DF$5:$DV$19,10,0) -> 0 | BK7: =VLOOKUP(BB7,$DF$5:$DV$19,11,0) -> 0 | BL7: =VLOOKUP(BB7,$DF$5:$DV$19,12,0) -> 0 | BM7: =VLOOKUP(BB7,$DF$5:$DV$19,13,0) -> 0 | BN7: =VLOOKUP(BB7,$DF$5:$DV$19,14,0) -> 0 | BO7: =VLOOKUP(BB7,$DF$5:$DV$19,15,0) -> 0 | BP7: =VLOOKUP(BB7,$DF$5:$DV$19,16,0) -> 0 | BQ7: =VLOOKUP(BB7,$DF$5:$DV$19,17,0) -> 0 | BR7: 3 | BS7: =CF7 -> 3 | BT7: 3 | BU7: =CW7 -> 3 | BV7: 3 | BW7: =DN7 -> 3 | BX7: =Equipes!A4 -> Equipe 03 | CC7: =RANK(DW7,$DW$5:$DW$19) -> 1 | CD7: ='J01'!CC7-CC7 -> 0 | CE7: =IF(CC7>'J01'!CC7,'J01'!$CE$14,IF(CC7='J01'!CC7,'J01'!$CU$14,IF(CC7<'J01'!CC7,'J01'!$CT$14))) -> u | CF7: =RANK(DX7,$DX$5:$DX$13) -> 3 | CG7: =SUMPRODUCT(($B$5:$F$13=BX7)*($EG$5:$EG$13))+SUMPRODUCT(($I$5:$M$13=BX7)*($EH$5:$EH$13))+'J01'!CG7 -> 0 | CH7: =SUMPRODUCT(($B$5:$F$13=BX7)*($EI$5:$EI$13))+SUMPRODUCT(($I$5:$M$13=BX7)*($EJ$5:$EJ$13))+'J01'!CH7 -> 0 | CI7: =SUMPRODUCT(($B$5:$F$13=BX7)*($EK$5:$EK$13))+SUMPRODUCT(($I$5:$M$13=BX7)*($EL$5:$EL$13))+'J01'!CI7 -> 0 | CJ7: =SUMPRODUCT(($B$5:$F$13=BX7)*($EM$5:$EM$13))+SUMPRODUCT(($I$5:$M$13=BX7)*($EN$5:$EN$13))+'J01'!CJ7 -> 0 | CK7: =SUMPRODUCT(($B$5:$F$13=BX7)*($EO$5:$EO$13))+SUMPRODUCT(($I$5:$M$13=BX7)*($EP$5:$EP$13))+'J01'!CK7 -> 0 | CL7: =SUMPRODUCT(($B$5:$F$13=BX7)*($EQ$5:$EQ$13))+SUMPRODUCT(($I$5:$M$13=BX7)*($ER$5:$ER$13))+'J01'!CL7 -> 0 | CM7: =SUMPRODUCT(($B$5:$F$13=BX7)*($ES$5:$ES$13))+SUMPRODUCT(($I$5:$M$13=BX7)*($ET$5:$ET$13))+'J01'!CM7 -> 0 | CN7: =CL7-CM7 -> 0 | CO7: =BX7 -> Equipe 03 | CT7: =RANK(DY7,$DY$5:$DY$19) -> 1 | CU7: ='J01'!CT7-CT7 -> 0 | CV7: =IF(CT7>'J01'!CT7,'J01'!$CV$14,IF(CT7='J01'!CT7,'J01'!$CU$14,IF(CT7<'J01'!CT7,'J01'!$CT$14))) -> u | CW7: =RANK(DZ7,$DZ$5:$DZ$19) -> 3 | CX7: =SUMPRODUCT(($B$5:$F$13=CO7)*($EG$5:$EG$13))+'J01'!CX7 -> 0 | CY7: =SUMPRODUCT(($B$5:$F$13=CO7)*($EI$5:$EI$13))+'J01'!CY7 -> 0 | CZ7: =SUMPRODUCT(($B$5:$F$13=CO7)*($EK$5:$EK$13))+'J01'!CZ7 -> 0 | DA7: =SUMPRODUCT(($B$5:$F$13=CO7)*($EM$5:$EM$13))+'J01'!DA7 -> 0 | DB7: =SUMPRODUCT(($B$5:$F$13=CO7)*($EO$5:$EO$13))+'J01'!DB7 -> 0 | DC7: =SUMPRODUCT(($B$5:$F$13=CO7)*($EQ$5:$EQ$13))+'J01'!DC7 -> 0 | DD7: =SUMPRODUCT(($B$5:$F$13=CO7)*($ES$5:$ES$13))+'J01'!DD7 -> 0 | DE7: =DC7-DD7 -> 0 | DF7: =BX7 -> Equipe 03 | DK7: =RANK(EA7,$EA$5:$EA$19) -> 1 | DL7: ='J01'!DK7-DK7 -> 0 | DM7: =IF(DK7>'J01'!DK7,'J01'!$DM$14,IF(DK7='J01'!DK7,'J01'!$DL$14,IF(DK7<'J01'!DK7,'J01'!$DK$14))) -> u | DN7: =RANK(EB7,$EB$5:$EB$19) -> 3 | DO7: =SUMPRODUCT(($I$5:$M$13=DF7)*($EH$5:$EH$13))+'J01'!DO7 -> 0 | DP7: =SUMPRODUCT(($I$5:$M$13=DF7)*($EJ$5:$EJ$13))+'J01'!DP7 -> 0 | DQ7: =SUMPRODUCT(($I$5:$M$13=DF7)*($EL$5:$EL$13))+'J01'!DQ7 -> 0 | DR7: =SUMPRODUCT(($I$5:$M$13=DF7)*($EN$5:$EN$13))+'J01'!DR7 -> 0 | DS7: =SUMPRODUCT(($I$5:$M$13=DF7)*($EP$5:$EP$13))+'J01'!DS7 -> 0 | DT7: =SUMPRODUCT(($I$5:$M$13=DF7)*($ER$5:$ER$13))+'J01'!DT7 -> 0 | DU7: =SUMPRODUCT(($I$5:$M$13=DF7)*($ET$5:$ET$13))+'J01'!DU7 -> 0 | DV7: =DT7-DU7 -> 0 | DW7: =SUM(CG7*1000+(CN7)/100+(CL7)/1000) -> 0 | DX7: =DW7+0.0000004 -> 4e-07 | DY7: =SUM(CX7*1000+(DE7)/100+(DC7)/1000) -> 0 | DZ7: =DY7+0.0000004 -> 4e-07 | EA7: =SUM(DO7*1000+(DV7)/100+(DT7)/1000) -> 0 | EB7: =EA7+0.0000004 -> 4e-07 | EC7: =A7 -> 0 | ED7: =N7 -> 0 | EE7: =IF(G7="",0,IF(G7>H7,3,IF(G7=H7,1,IF(G7<H7,0)))) -> 0 | EF7: =IF(H7="",0,IF(H7>G7,3,IF(H7=G7,1,IF(H7<G7,0)))) -> 0 | EG7: =EE7-EC7 -> 0 | EH7: =EF7-ED7 -> 0 | EI7: =IF(G7="",0,1) -> 0 | EJ7: =IF(H7="",0,1) -> 0 | EK7: =IF(G7<>"",IF(G7>H7,1)) -> FALSE | EL7: =IF(H7<>"",IF(H7>G7,1)) -> FALSE | EM7: =IF(G7<>"",IF(G7=H7,1)) -> FALSE | EN7: =IF(H7<>"",IF(H7=G7,1)) -> FALSE | EO7: =IF(G7<>"",IF(G7<H7,1)) -> FALSE | EP7: =IF(H7<>"",IF(H7<G7,1)) -> FALSE | EQ7: =G7 -> 0 | ER7: =H7 -> 0 | ES7: =H7 -> 0 | ET7: =G7 -> 0 | EU7: =VLOOKUP(BR7,$BS$5:$CB$13,6,0) -> Equipe 03 | EZ7: =VLOOKUP(EU7,$BX$5:$DW$13,52,0) -> 0 | FA7: =RANK(EZ7,$EZ$5:$EZ$13) -> 1 | FB7: =BX7 -> Equipe 03 | FG7: =VLOOKUP(BT7,$BU$5:$CS$13,21,0) -> Equipe 03 | FL7: =VLOOKUP(FG7,$CO$5:$DY$13,37,0) -> 0 | FM7: =RANK(FL7,$FL$5:$FL$13) -> 1 | FN7: =CO7 -> Equipe 03 | FS7: =VLOOKUP(BV7,$BW$5:$DF$13,36,0) -> Equipe 03 | FX7: =VLOOKUP(FS7,$DF$5:$EA$21,22,0) -> 0 | FY7: =RANK(FX7,$FX$5:$FX$13) -> 1 | FZ7: =DF7 -> Equipe 03 | GE7: =BX7 -> Equipe 03
V8: =VLOOKUP(BR8,$BS$5:$CB$21,6,0) -> Equipe 04 | AA8: =VLOOKUP(V8,$BX$5:$CN$19,7,0) -> 0 | AB8: =VLOOKUP(V8,$BX$5:$CN$19,8,0) -> u | AC8: =IF(EZ8=EZ7,FA7,FA8) -> 1 | AD8: =VLOOKUP(V8,$BX$5:$CN$19,10,0) -> 0 | AE8: =VLOOKUP(V8,$BX$5:$CN$19,11,0) -> 0 | AF8: =VLOOKUP(V8,$BX$5:$CN$19,12,0) -> 0 | AG8: =VLOOKUP(V8,$BX$5:$CN$19,13,0) -> 0 | AH8: =VLOOKUP(V8,$BX$5:$CN$19,14,0) -> 0 | AI8: =VLOOKUP(V8,$BX$5:$CN$19,15,0) -> 0 | AJ8: =VLOOKUP(V8,$BX$5:$CN$19,16,0) -> 0 | AK8: =VLOOKUP(V8,$BX$5:$CN$19,17,0) -> 0 | AL8: =VLOOKUP(BT8,$BU$5:$CS$21,4,0) -> Equipe 04 | AQ8: =VLOOKUP(AL8,$CO$5:$DE$19,7,0) -> 0 | AR8: =VLOOKUP(AL8,$CO$5:$DE$19,8,0) -> u | AS8: =IF(FL8=FL7,FM7,FM8) -> 1 | AT8: =VLOOKUP(AL8,$CO$5:$DE$19,10,0) -> 0 | AU8: =VLOOKUP(AL8,$CO$5:$DE$19,11,0) -> 0 | AV8: =VLOOKUP(AL8,$CO$5:$DE$19,12,0) -> 0 | AW8: =VLOOKUP(AL8,$CO$5:$DE$19,13,0) -> 0 | AX8: =VLOOKUP(AL8,$CO$5:$DE$19,14,0) -> 0 | AY8: =VLOOKUP(AL8,$CO$5:$DE$19,15,0) -> 0 | AZ8: =VLOOKUP(AL8,$CO$5:$DE$19,16,0) -> 0 | BA8: =VLOOKUP(AL8,$CO$5:$DE$19,17,0) -> 0 | BB8: =VLOOKUP(BV8,$BW$5:$DF$21,2,0) -> Equipe 04 | BG8: =VLOOKUP(BB8,$DF$5:$DV$19,7,0) -> 0 | BH8: =VLOOKUP(BB8,$DF$5:$DV$19,8,0) -> u | BI8: =IF(FX8=FX7,FY7,FY8) -> 1 | BJ8: =VLOOKUP(BB8,$DF$5:$DV$19,10,0) -> 0 | BK8: =VLOOKUP(BB8,$DF$5:$DV$19,11,0) -> 0 | BL8: =VLOOKUP(BB8,$DF$5:$DV$19,12,0) -> 0 | BM8: =VLOOKUP(BB8,$DF$5:$DV$19,13,0) -> 0 | BN8: =VLOOKUP(BB8,$DF$5:$DV$19,14,0) -> 0 | BO8: =VLOOKUP(BB8,$DF$5:$DV$19,15,0) -> 0 | BP8: =VLOOKUP(BB8,$DF$5:$DV$19,16,0) -> 0 | BQ8: =VLOOKUP(BB8,$DF$5:$DV$19,17,0) -> 0 | BR8: 4 | BS8: =CF8 -> 4 | BT8: 4 | BU8: =CW8 -> 4 | BV8: 4 | BW8: =DN8 -> 4 | BX8: =Equipes!A5 -> Equipe 04 | CC8: =RANK(DW8,$DW$5:$DW$19) -> 1 | CD8: ='J01'!CC8-CC8 -> 0 | CE8: =IF(CC8>'J01'!CC8,'J01'!$CE$14,IF(CC8='J01'!CC8,'J01'!$CU$14,IF(CC8<'J01'!CC8,'J01'!$CT$14))) -> u | CF8: =RANK(DX8,$DX$5:$DX$13) -> 4 | CG8: =SUMPRODUCT(($B$5:$F$13=BX8)*($EG$5:$EG$13))+SUMPRODUCT(($I$5:$M$13=BX8)*($EH$5:$EH$13))+'J01'!CG8 -> 0 | CH8: =SUMPRODUCT(($B$5:$F$13=BX8)*($EI$5:$EI$13))+SUMPRODUCT(($I$5:$M$13=BX8)*($EJ$5:$EJ$13))+'J01'!CH8 -> 0 | CI8: =SUMPRODUCT(($B$5:$F$13=BX8)*($EK$5:$EK$13))+SUMPRODUCT(($I$5:$M$13=BX8)*($EL$5:$EL$13))+'J01'!CI8 -> 0 | CJ8: =SUMPRODUCT(($B$5:$F$13=BX8)*($EM$5:$EM$13))+SUMPRODUCT(($I$5:$M$13=BX8)*($EN$5:$EN$13))+'J01'!CJ8 -> 0 | CK8: =SUMPRODUCT(($B$5:$F$13=BX8)*($EO$5:$EO$13))+SUMPRODUCT(($I$5:$M$13=BX8)*($EP$5:$EP$13))+'J01'!CK8 -> 0 | CL8: =SUMPRODUCT(($B$5:$F$13=BX8)*($EQ$5:$EQ$13))+SUMPRODUCT(($I$5:$M$13=BX8)*($ER$5:$ER$13))+'J01'!CL8 -> 0 | CM8: =SUMPRODUCT(($B$5:$F$13=BX8)*($ES$5:$ES$13))+SUMPRODUCT(($I$5:$M$13=BX8)*($ET$5:$ET$13))+'J01'!CM8 -> 0 | CN8: =CL8-CM8 -> 0 | CO8: =BX8 -> Equipe 04 | CT8: =RANK(DY8,$DY$5:$DY$19) -> 1 | CU8: ='J01'!CT8-CT8 -> 0 | CV8: =IF(CT8>'J01'!CT8,'J01'!$CV$14,IF(CT8='J01'!CT8,'J01'!$CU$14,IF(CT8<'J01'!CT8,'J01'!$CT$14))) -> u | CW8: =RANK(DZ8,$DZ$5:$DZ$19) -> 4 | CX8: =SUMPRODUCT(($B$5:$F$13=CO8)*($EG$5:$EG$13))+'J01'!CX8 -> 0 | CY8: =SUMPRODUCT(($B$5:$F$13=CO8)*($EI$5:$EI$13))+'J01'!CY8 -> 0 | CZ8: =SUMPRODUCT(($B$5:$F$13=CO8)*($EK$5:$EK$13))+'J01'!CZ8 -> 0 | DA8: =SUMPRODUCT(($B$5:$F$13=CO8)*($EM$5:$EM$13))+'J01'!DA8 -> 0 | DB8: =SUMPRODUCT(($B$5:$F$13=CO8)*($EO$5:$EO$13))+'J01'!DB8 -> 0 | DC8: =SUMPRODUCT(($B$5:$F$13=CO8)*($EQ$5:$EQ$13))+'J01'!DC8 -> 0 | DD8: =SUMPRODUCT(($B$5:$F$13=CO8)*($ES$5:$ES$13))+'J01'!DD8 -> 0 | DE8: =DC8-DD8 -> 0 | DF8: =BX8 -> Equipe 04 | DK8: =RANK(EA8,$EA$5:$EA$19) -> 1 | DL8: ='J01'!DK8-DK8 -> 0 | DM8: =IF(DK8>'J01'!DK8,'J01'!$DM$14,IF(DK8='J01'!DK8,'J01'!$DL$14,IF(DK8<'J01'!DK8,'J01'!$DK$14))) -> u | DN8: =RANK(EB8,$EB$5:$EB$19) -> 4 | DO8: =SUMPRODUCT(($I$5:$M$13=DF8)*($EH$5:$EH$13))+'J01'!DO8 -> 0 | DP8: =SUMPRODUCT(($I$5:$M$13=DF8)*($EJ$5:$EJ$13))+'J01'!DP8 -> 0 | DQ8: =SUMPRODUCT(($I$5:$M$13=DF8)*($EL$5:$EL$13))+'J01'!DQ8 -> 0 | DR8: =SUMPRODUCT(($I$5:$M$13=DF8)*($EN$5:$EN$13))+'J01'!DR8 -> 0 | DS8: =SUMPRODUCT(($I$5:$M$13=DF8)*($EP$5:$EP$13))+'J01'!DS8 -> 0 | DT8: =SUMPRODUCT(($I$5:$M$13=DF8)*($ER$5:$ER$13))+'J01'!DT8 -> 0 | DU8: =SUMPRODUCT(($I$5:$M$13=DF8)*($ET$5:$ET$13))+'J01'!DU8 -> 0 | DV8: =DT8-DU8 -> 0 | DW8: =SUM(CG8*1000+(CN8)/100+(CL8)/1000) -> 0 | DX8: =DW8+0.0000003 -> 3e-07 | DY8: =SUM(CX8*1000+(DE8)/100+(DC8)/1000) -> 0 | DZ8: =DY8+0.0000003 -> 3e-07 | EA8: =SUM(DO8*1000+(DV8)/100+(DT8)/1000) -> 0 | EB8: =EA8+0.0000003 -> 3e-07 | EU8: =VLOOKUP(BR8,$BS$5:$CB$13,6,0) -> Equipe 04 | EZ8: =VLOOKUP(EU8,$BX$5:$DW$13,52,0) -> 0 | FA8: =RANK(EZ8,$EZ$5:$EZ$13) -> 1 | FB8: =BX8 -> Equipe 04 | FG8: =VLOOKUP(BT8,$BU$5:$CS$13,21,0) -> Equipe 04 | FL8: =VLOOKUP(FG8,$CO$5:$DY$13,37,0) -> 0 | FM8: =RANK(FL8,$FL$5:$FL$13) -> 1 | FN8: =CO8 -> Equipe 04 | FS8: =VLOOKUP(BV8,$BW$5:$DF$13,36,0) -> Equipe 04 | FX8: =VLOOKUP(FS8,$DF$5:$EA$21,22,0) -> 0 | FY8: =RANK(FX8,$FX$5:$FX$13) -> 1 | FZ8: =DF8 -> Equipe 04 | GE8: =BX8 -> Equipe 04
V9: =VLOOKUP(BR9,$BS$5:$CB$21,6,0) -> Equipe 05 | AA9: =VLOOKUP(V9,$BX$5:$CN$19,7,0) -> 0 | AB9: =VLOOKUP(V9,$BX$5:$CN$19,8,0) -> u | AC9: =IF(EZ9=EZ8,FA8,FA9) -> 1 | AD9: =VLOOKUP(V9,$BX$5:$CN$19,10,0) -> 0 | AE9: =VLOOKUP(V9,$BX$5:$CN$19,11,0) -> 0 | AF9: =VLOOKUP(V9,$BX$5:$CN$19,12,0) -> 0 | AG9: =VLOOKUP(V9,$BX$5:$CN$19,13,0) -> 0 | AH9: =VLOOKUP(V9,$BX$5:$CN$19,14,0) -> 0 | AI9: =VLOOKUP(V9,$BX$5:$CN$19,15,0) -> 0 | AJ9: =VLOOKUP(V9,$BX$5:$CN$19,16,0) -> 0 | AK9: =VLOOKUP(V9,$BX$5:$CN$19,17,0) -> 0 | AL9: =VLOOKUP(BT9,$BU$5:$CS$21,4,0) -> Equipe 05 | AQ9: =VLOOKUP(AL9,$CO$5:$DE$19,7,0) -> 0 | AR9: =VLOOKUP(AL9,$CO$5:$DE$19,8,0) -> u | AS9: =IF(FL9=FL8,FM8,FM9) -> 1 | AT9: =VLOOKUP(AL9,$CO$5:$DE$19,10,0) -> 0 | AU9: =VLOOKUP(AL9,$CO$5:$DE$19,11,0) -> 0 | AV9: =VLOOKUP(AL9,$CO$5:$DE$19,12,0) -> 0 | AW9: =VLOOKUP(AL9,$CO$5:$DE$19,13,0) -> 0 | AX9: =VLOOKUP(AL9,$CO$5:$DE$19,14,0) -> 0 | AY9: =VLOOKUP(AL9,$CO$5:$DE$19,15,0) -> 0 | AZ9: =VLOOKUP(AL9,$CO$5:$DE$19,16,0) -> 0 | BA9: =VLOOKUP(AL9,$CO$5:$DE$19,17,0) -> 0 | BB9: =VLOOKUP(BV9,$BW$5:$DF$21,2,0) -> Equipe 05 | BG9: =VLOOKUP(BB9,$DF$5:$DV$19,7,0) -> 0 | BH9: =VLOOKUP(BB9,$DF$5:$DV$19,8,0) -> u | BI9: =IF(FX9=FX8,FY8,FY9) -> 1 | BJ9: =VLOOKUP(BB9,$DF$5:$DV$19,10,0) -> 0 | BK9: =VLOOKUP(BB9,$DF$5:$DV$19,11,0) -> 0 | BL9: =VLOOKUP(BB9,$DF$5:$DV$19,12,0) -> 0 | BM9: =VLOOKUP(BB9,$DF$5:$DV$19,13,0) -> 0 | BN9: =VLOOKUP(BB9,$DF$5:$DV$19,14,0) -> 0 | BO9: =VLOOKUP(BB9,$DF$5:$DV$19,15,0) -> 0 | BP9: =VLOOKUP(BB9,$DF$5:$DV$19,16,0) -> 0 | BQ9: =VLOOKUP(BB9,$DF$5:$DV$19,17,0) -> 0 | BR9: 5 | BS9: =CF9 -> 5 | BT9: 5 | BU9: =CW9 -> 5 | BV9: 5 | BW9: =DN9 -> 5 | BX9: =Equipes!A6 -> Equipe 05 | CC9: =RANK(DW9,$DW$5:$DW$19) -> 1 | CD9: ='J01'!CC9-CC9 -> 0 | CE9: =IF(CC9>'J01'!CC9,'J01'!$CE$14,IF(CC9='J01'!CC9,'J01'!$CU$14,IF(CC9<'J01'!CC9,'J01'!$CT$14))) -> u | CF9: =RANK(DX9,$DX$5:$DX$13) -> 5 | CG9: =SUMPRODUCT(($B$5:$F$13=BX9)*($EG$5:$EG$13))+SUMPRODUCT(($I$5:$M$13=BX9)*($EH$5:$EH$13))+'J01'!CG9 -> 0 | CH9: =SUMPRODUCT(($B$5:$F$13=BX9)*($EI$5:$EI$13))+SUMPRODUCT(($I$5:$M$13=BX9)*($EJ$5:$EJ$13))+'J01'!CH9 -> 0 | CI9: =SUMPRODUCT(($B$5:$F$13=BX9)*($EK$5:$EK$13))+SUMPRODUCT(($I$5:$M$13=BX9)*($EL$5:$EL$13))+'J01'!CI9 -> 0 | CJ9: =SUMPRODUCT(($B$5:$F$13=BX9)*($EM$5:$EM$13))+SUMPRODUCT(($I$5:$M$13=BX9)*($EN$5:$EN$13))+'J01'!CJ9 -> 0 | CK9: =SUMPRODUCT(($B$5:$F$13=BX9)*($EO$5:$EO$13))+SUMPRODUCT(($I$5:$M$13=BX9)*($EP$5:$EP$13))+'J01'!CK9 -> 0 | CL9: =SUMPRODUCT(($B$5:$F$13=BX9)*($EQ$5:$EQ$13))+SUMPRODUCT(($I$5:$M$13=BX9)*($ER$5:$ER$13))+'J01'!CL9 -> 0 | CM9: =SUMPRODUCT(($B$5:$F$13=BX9)*($ES$5:$ES$13))+SUMPRODUCT(($I$5:$M$13=BX9)*($ET$5:$ET$13))+'J01'!CM9 -> 0 | CN9: =CL9-CM9 -> 0 | CO9: =BX9 -> Equipe 05 | CT9: =RANK(DY9,$DY$5:$DY$19) -> 1 | CU9: ='J01'!CT9-CT9 -> 0 | CV9: =IF(CT9>'J01'!CT9,'J01'!$CV$14,IF(CT9='J01'!CT9,'J01'!$CU$14,IF(CT9<'J01'!CT9,'J01'!$CT$14))) -> u | CW9: =RANK(DZ9,$DZ$5:$DZ$19) -> 5 | CX9: =SUMPRODUCT(($B$5:$F$13=CO9)*($EG$5:$EG$13))+'J01'!CX9 -> 0 | CY9: =SUMPRODUCT(($B$5:$F$13=CO9)*($EI$5:$EI$13))+'J01'!CY9 -> 0 | CZ9: =SUMPRODUCT(($B$5:$F$13=CO9)*($EK$5:$EK$13))+'J01'!CZ9 -> 0 | DA9: =SUMPRODUCT(($B$5:$F$13=CO9)*($EM$5:$EM$13))+'J01'!DA9 -> 0 | DB9: =SUMPRODUCT(($B$5:$F$13=CO9)*($EO$5:$EO$13))+'J01'!DB9 -> 0 | DC9: =SUMPRODUCT(($B$5:$F$13=CO9)*($EQ$5:$EQ$13))+'J01'!DC9 -> 0 | DD9: =SUMPRODUCT(($B$5:$F$13=CO9)*($ES$5:$ES$13))+'J01'!DD9 -> 0 | DE9: =DC9-DD9 -> 0 | DF9: =BX9 -> Equipe 05 | DK9: =RANK(EA9,$EA$5:$EA$19) -> 1 | DL9: ='J01'!DK9-DK9 -> 0 | DM9: =IF(DK9>'J01'!DK9,'J01'!$DM$14,IF(DK9='J01'!DK9,'J01'!$DL$14,IF(DK9<'J01'!DK9,'J01'!$DK$14))) -> u | DN9: =RANK(EB9,$EB$5:$EB$19) -> 5 | DO9: =SUMPRODUCT(($I$5:$M$13=DF9)*($EH$5:$EH$13))+'J01'!DO9 -> 0 | DP9: =SUMPRODUCT(($I$5:$M$13=DF9)*($EJ$5:$EJ$13))+'J01'!DP9 -> 0 | DQ9: =SUMPRODUCT(($I$5:$M$13=DF9)*($EL$5:$EL$13))+'J01'!DQ9 -> 0 | DR9: =SUMPRODUCT(($I$5:$M$13=DF9)*($EN$5:$EN$13))+'J01'!DR9 -> 0 | DS9: =SUMPRODUCT(($I$5:$M$13=DF9)*($EP$5:$EP$13))+'J01'!DS9 -> 0 | DT9: =SUMPRODUCT(($I$5:$M$13=DF9)*($ER$5:$ER$13))+'J01'!DT9 -> 0 | DU9: =SUMPRODUCT(($I$5:$M$13=DF9)*($ET$5:$ET$13))+'J01'!DU9 -> 0 | DV9: =DT9-DU9 -> 0 | DW9: =SUM(CG9*1000+(CN9)/100+(CL9)/1000) -> 0 | DX9: =DW9+0.0000002 -> 2e-07 | DY9: =SUM(CX9*1000+(DE9)/100+(DC9)/1000) -> 0 | DZ9: =DY9+0.0000002 -> 2e-07 | EA9: =SUM(DO9*1000+(DV9)/100+(DT9)/1000) -> 0 | EB9: =EA9+0.0000002 -> 2e-07 | EU9: =VLOOKUP(BR9,$BS$5:$CB$13,6,0) -> Equipe 05 | EZ9: =VLOOKUP(EU9,$BX$5:$DW$13,52,0) -> 0 | FA9: =RANK(EZ9,$EZ$5:$EZ$13) -> 1 | FB9: =BX9 -> Equipe 05 | FG9: =VLOOKUP(BT9,$BU$5:$CS$13,21,0) -> Equipe 05 | FL9: =VLOOKUP(FG9,$CO$5:$DY$13,37,0) -> 0 | FM9: =RANK(FL9,$FL$5:$FL$13) -> 1 | FN9: =CO9 -> Equipe 05 | FS9: =VLOOKUP(BV9,$BW$5:$DF$13,36,0) -> Equipe 05 | FX9: =VLOOKUP(FS9,$DF$5:$EA$21,22,0) -> 0 | FY9: =RANK(FX9,$FX$5:$FX$13) -> 1 | FZ9: =DF9 -> Equipe 05 | GE9: =BX9 -> Equipe 05
V10: =VLOOKUP(BR10,$BS$5:$CB$21,6,0) -> Equipe 06 | AA10: =VLOOKUP(V10,$BX$5:$CN$19,7,0) -> 0 | AB10: =VLOOKUP(V10,$BX$5:$CN$19,8,0) -> u | AC10: =IF(EZ10=EZ9,FA9,FA10) -> 1 | AD10: =VLOOKUP(V10,$BX$5:$CN$19,10,0) -> 0 | AE10: =VLOOKUP(V10,$BX$5:$CN$19,11,0) -> 0 | AF10: =VLOOKUP(V10,$BX$5:$CN$19,12,0) -> 0 | AG10: =VLOOKUP(V10,$BX$5:$CN$19,13,0) -> 0 | AH10: =VLOOKUP(V10,$BX$5:$CN$19,14,0) -> 0 | AI10: =VLOOKUP(V10,$BX$5:$CN$19,15,0) -> 0 | AJ10: =VLOOKUP(V10,$BX$5:$CN$19,16,0) -> 0 | AK10: =VLOOKUP(V10,$BX$5:$CN$19,17,0) -> 0 | AL10: =VLOOKUP(BT10,$BU$5:$CS$21,4,0) -> Equipe 06 | AQ10: =VLOOKUP(AL10,$CO$5:$DE$19,7,0) -> 0 | AR10: =VLOOKUP(AL10,$CO$5:$DE$19,8,0) -> u | AS10: =IF(FL10=FL9,FM9,FM10) -> 1 | AT10: =VLOOKUP(AL10,$CO$5:$DE$19,10,0) -> 0 | AU10: =VLOOKUP(AL10,$CO$5:$DE$19,11,0) -> 0 | AV10: =VLOOKUP(AL10,$CO$5:$DE$19,12,0) -> 0 | AW10: =VLOOKUP(AL10,$CO$5:$DE$19,13,0) -> 0 | AX10: =VLOOKUP(AL10,$CO$5:$DE$19,14,0) -> 0 | AY10: =VLOOKUP(AL10,$CO$5:$DE$19,15,0) -> 0 | AZ10: =VLOOKUP(AL10,$CO$5:$DE$19,16,0) -> 0 | BA10: =VLOOKUP(AL10,$CO$5:$DE$19,17,0) -> 0 | BB10: =VLOOKUP(BV10,$BW$5:$DF$21,2,0) -> Equipe 06 | BG10: =VLOOKUP(BB10,$DF$5:$DV$19,7,0) -> 0 | BH10: =VLOOKUP(BB10,$DF$5:$DV$19,8,0) -> u | BI10: =IF(FX10=FX9,FY9,FY10) -> 1 | BJ10: =VLOOKUP(BB10,$DF$5:$DV$19,10,0) -> 0 | BK10: =VLOOKUP(BB10,$DF$5:$DV$19,11,0) -> 0 | BL10: =VLOOKUP(BB10,$DF$5:$DV$19,12,0) -> 0 | BM10: =VLOOKUP(BB10,$DF$5:$DV$19,13,0) -> 0 | BN10: =VLOOKUP(BB10,$DF$5:$DV$19,14,0) -> 0 | BO10: =VLOOKUP(BB10,$DF$5:$DV$19,15,0) -> 0 | BP10: =VLOOKUP(BB10,$DF$5:$DV$19,16,0) -> 0 | BQ10: =VLOOKUP(BB10,$DF$5:$DV$19,17,0) -> 0 | BR10: 6 | BS10: =CF10 -> 6 | BT10: 6 | BU10: =CW10 -> 6 | BV10: 6 | BW10: =DN10 -> 6 | BX10: =Equipes!A7 -> Equipe 06 | CC10: =RANK(DW10,$DW$5:$DW$19) -> 1 | CD10: ='J01'!CC10-CC10 -> 0 | CE10: =IF(CC10>'J01'!CC10,'J01'!$CE$14,IF(CC10='J01'!CC10,'J01'!$CU$14,IF(CC10<'J01'!CC10,'J01'!$CT$14))) -> u | CF10: =RANK(DX10,$DX$5:$DX$13) -> 6 | CG10: =SUMPRODUCT(($B$5:$F$13=BX10)*($EG$5:$EG$13))+SUMPRODUCT(($I$5:$M$13=BX10)*($EH$5:$EH$13))+'J01'!CG10 -> 0 | CH10: =SUMPRODUCT(($B$5:$F$13=BX10)*($EI$5:$EI$13))+SUMPRODUCT(($I$5:$M$13=BX10)*($EJ$5:$EJ$13))+'J01'!CH10 -> 0 | CI10: =SUMPRODUCT(($B$5:$F$13=BX10)*($EK$5:$EK$13))+SUMPRODUCT(($I$5:$M$13=BX10)*($EL$5:$EL$13))+'J01'!CI10 -> 0 | CJ10: =SUMPRODUCT(($B$5:$F$13=BX10)*($EM$5:$EM$13))+SUMPRODUCT(($I$5:$M$13=BX10)*($EN$5:$EN$13))+'J01'!CJ10 -> 0 | CK10: =SUMPRODUCT(($B$5:$F$13=BX10)*($EO$5:$EO$13))+SUMPRODUCT(($I$5:$M$13=BX10)*($EP$5:$EP$13))+'J01'!CK10 -> 0 | CL10: =SUMPRODUCT(($B$5:$F$13=BX10)*($EQ$5:$EQ$13))+SUMPRODUCT(($I$5:$M$13=BX10)*($ER$5:$ER$13))+'J01'!CL10 -> 0 | CM10: =SUMPRODUCT(($B$5:$F$13=BX10)*($ES$5:$ES$13))+SUMPRODUCT(($I$5:$M$13=BX10)*($ET$5:$ET$13))+'J01'!CM10 -> 0 | CN10: =CL10-CM10 -> 0 | CO10: =BX10 -> Equipe 06 | CT10: =RANK(DY10,$DY$5:$DY$19) -> 1 | CU10: ='J01'!CT10-CT10 -> 0 | CV10: =IF(CT10>'J01'!CT10,'J01'!$CV$14,IF(CT10='J01'!CT10,'J01'!$CU$14,IF(CT10<'J01'!CT10,'J01'!$CT$14))) -> u | CW10: =RANK(DZ10,$DZ$5:$DZ$19) -> 6 | CX10: =SUMPRODUCT(($B$5:$F$13=CO10)*($EG$5:$EG$13))+'J01'!CX10 -> 0 | CY10: =SUMPRODUCT(($B$5:$F$13=CO10)*($EI$5:$EI$13))+'J01'!CY10 -> 0 | CZ10: =SUMPRODUCT(($B$5:$F$13=CO10)*($EK$5:$EK$13))+'J01'!CZ10 -> 0 | DA10: =SUMPRODUCT(($B$5:$F$13=CO10)*($EM$5:$EM$13))+'J01'!DA10 -> 0 | DB10: =SUMPRODUCT(($B$5:$F$13=CO10)*($EO$5:$EO$13))+'J01'!DB10 -> 0 | DC10: =SUMPRODUCT(($B$5:$F$13=CO10)*($EQ$5:$EQ$13))+'J01'!DC10 -> 0 | DD10: =SUMPRODUCT(($B$5:$F$13=CO10)*($ES$5:$ES$13))+'J01'!DD10 -> 0 | DE10: =DC10-DD10 -> 0 | DF10: =BX10 -> Equipe 06 | DK10: =RANK(EA10,$EA$5:$EA$19) -> 1 | DL10: ='J01'!DK10-DK10 -> 0 | DM10: =IF(DK10>'J01'!DK10,'J01'!$DM$14,IF(DK10='J01'!DK10,'J01'!$DL$14,IF(DK10<'J01'!DK10,'J01'!$DK$14))) -> u | DN10: =RANK(EB10,$EB$5:$EB$19) -> 6 | DO10: =SUMPRODUCT(($I$5:$M$13=DF10)*($EH$5:$EH$13))+'J01'!DO10 -> 0 | DP10: =SUMPRODUCT(($I$5:$M$13=DF10)*($EJ$5:$EJ$13))+'J01'!DP10 -> 0 | DQ10: =SUMPRODUCT(($I$5:$M$13=DF10)*($EL$5:$EL$13))+'J01'!DQ10 -> 0 | DR10: =SUMPRODUCT(($I$5:$M$13=DF10)*($EN$5:$EN$13))+'J01'!DR10 -> 0 | DS10: =SUMPRODUCT(($I$5:$M$13=DF10)*($EP$5:$EP$13))+'J01'!DS10 -> 0 | DT10: =SUMPRODUCT(($I$5:$M$13=DF10)*($ER$5:$ER$13))+'J01'!DT10 -> 0 | DU10: =SUMPRODUCT(($I$5:$M$13=DF10)*($ET$5:$ET$13))+'J01'!DU10 -> 0 | DV10: =DT10-DU10 -> 0 | DW10: =SUM(CG10*1000+(CN10)/100+(CL10)/1000) -> 0 | DX10: =DW10+0.0000001 -> 1e-07 | DY10: =SUM(CX10*1000+(DE10)/100+(DC10)/1000) -> 0 | DZ10: =DY10+0.0000001 -> 1e-07 | EA10: =SUM(DO10*1000+(DV10)/100+(DT10)/1000) -> 0 | EB10: =EA10+0.0000001 -> 1e-07 | EU10: =VLOOKUP(BR10,$BS$5:$CB$13,6,0) -> Equipe 06 | EZ10: =VLOOKUP(EU10,$BX$5:$DW$13,52,0) -> 0 | FA10: =RANK(EZ10,$EZ$5:$EZ$13) -> 1 | FB10: =BX10 -> Equipe 06 | FG10: =VLOOKUP(BT10,$BU$5:$CS$13,21,0) -> Equipe 06 | FL10: =VLOOKUP(FG10,$CO$5:$DY$13,37,0) -> 0 | FM10: =RANK(FL10,$FL$5:$FL$13) -> 1 | FN10: =CO10 -> Equipe 06 | FS10: =VLOOKUP(BV10,$BW$5:$DF$13,36,0) -> Equipe 06 | FX10: =VLOOKUP(FS10,$DF$5:$EA$21,22,0) -> 0 | FY10: =RANK(FX10,$FX$5:$FX$13) -> 1 | FZ10: =DF10 -> Equipe 06 | GE10: =BX10 -> Equipe 06
AE13: Total des buts de la journée | AI13: =SUM(G5:H13) -> 0 | CC13: p | CD13: u | CE13: q | CT13: p | CU13: u | CV13: q | DK13: p | DL13: u | DM13: q
CC14: p | CD14: u | CE14: q | CT14: p | CU14: u | CV14: q | DK14: p | DL14: u | DM14: q
AE15: Total des buts du Championnat | AI15: =AI13+'J01'!AI15:AK16 -> 0
AE17: Moyenne générale du Championnat | AI17: =IF(AE5=0,"",SUM(AI5:AI12)/SUM(AE5:AE12)*2)

Sheet J03
A1: ='J01'!A1:H2 -> Nom du championnat | I1: ='J01'!I1:N2 -> 2017 - 2018 | O1: Journée 03 | V1: CLASSEMENT GENERAL | AL1: CLASSEMENT DOMICILE | BB1: CLASSEMENT EXTERIEUR | BX1: CLASSEMENT GENERAL | CO1: DOMICILE | DF1: EXTERIEUR | DW1: GENERAL | DY1: DOMICILE | EA1: EXTERIEUR | EC1: Dom. | ED1: Ext. | EE1: Dom. | EF1: Ext. | EG1: Dom. | EH1: Ext. | EI1: Dom. | EJ1: Ext. | EK1: Dom. | EL1: Ext. | EM1: Dom. | EN1: Ext. | EO1: Dom. | EP1: Ext. | EQ1: Dom. | ER1: Ext. | ES1: Dom. | ET1: Ext. | EU1: GENERAL | FG1: DOMICILE | FS1: EXTERIEUR
A3: P | B3: Equipes | G3: Buts | H3: Buts | I3: Equipes | N3: P | O3: Date | S3: Heure | V3: Equipes | AA3: Evolution | AC3: Place | AD3: Pts | AE3: J | AF3: G | AG3: N | AH3: P | AI3: B + | AJ3: B - | AK3: Diff. | AL3: Equipes | AQ3: Evolution | AS3: Place | AT3: Pts | AU3: J | AV3: G | AW3: N | AX3: P | AY3: B + | AZ3: B - | BA3: Diff. | BB3: Equipes | BG3: Evolution | BI3: Place | BJ3: Pts | BK3: J | BL3: G | BM3: N | BN3: P | BO3: B + | BP3: B - | BQ3: Diff. | BR3: R Général | BT3: R Domicile | BV3: R Extérieur | BX3: Equipes | CC3: R | CD3: Evolution | CF3: Place | CG3: Pts | CH3: J | CI3: G | CJ3: N | CK3: P | CL3: B + | CM3: B - | CN3: Diff. | CO3: Equipes | CT3: R | CU3: Evolution | CW3: Place | CX3: Pts | CY3: J | CZ3: G | DA3: N | DB3: P | DC3: B + | DD3: B - | DE3: Diff. | DF3: Equipes | DK3: R | DL3: Evolution | DN3: Place | DO3: Pts | DP3: J | DQ3: G | DR3: N | DS3: P | DT3: B + | DU3: B - | DV3: Diff. | DW3: % | DX3: % | DY3: % | DZ3: % | EA3: % | EB3: % | EC3: P | ED3: P | EE3: Pts | EF3: Pts | EG3: T Pts | EH3: T Pts | EI3: J | EJ3: J | EK3: G | EL3: G | EM3: N | EN3: N | EO3: P | EP3: P | EQ3: B + | ER3: B + | ES3: B - | ET3: B - | EU3: Equipes | EZ3: % | FA3: R | FB3: Equipes | FG3: Equipes | FL3: % | FM3: R | FN3: Equipes | FS3: Equipes | FX3: % | FY3: R | FZ3: Equipes
V5: =VLOOKUP(BR5,$BS$5:$CB$21,6,0) -> Equipe 01 | AA5: =VLOOKUP(V5,$BX$5:$CN$19,7,0) -> 0 | AB5: =VLOOKUP(V5,$BX$5:$CN$19,8,0) -> u | AC5: 1 | AD5: =VLOOKUP(V5,$BX$5:$CN$19,10,0) -> 0 | AE5: =VLOOKUP(V5,$BX$5:$CN$19,11,0) -> 0 | AF5: =VLOOKUP(V5,$BX$5:$CN$19,12,0) -> 0 | AG5: =VLOOKUP(V5,$BX$5:$CN$19,13,0) -> 0 | AH5: =VLOOKUP(V5,$BX$5:$CN$19,14,0) -> 0 | AI5: =VLOOKUP(V5,$BX$5:$CN$19,15,0) -> 0 | AJ5: =VLOOKUP(V5,$BX$5:$CN$19,16,0) -> 0 | AK5: =VLOOKUP(V5,$BX$5:$CN$19,17,0) -> 0 | AL5: =VLOOKUP(BT5,$BU$5:$CS$21,4,0) -> Equipe 01 | AQ5: =VLOOKUP(AL5,$CO$5:$DE$19,7,0) -> 0 | AR5: =VLOOKUP(AL5,$CO$5:$DE$19,8,0) -> u | AS5: 1 | AT5: =VLOOKUP(AL5,$CO$5:$DE$19,10,0) -> 0 | AU5: =VLOOKUP(AL5,$CO$5:$DE$19,11,0) -> 0 | AV5: =VLOOKUP(AL5,$CO$5:$DE$19,12,0) -> 0 | AW5: =VLOOKUP(AL5,$CO$5:$DE$19,13,0) -> 0 | AX5: =VLOOKUP(AL5,$CO$5:$DE$19,14,0) -> 0 | AY5: =VLOOKUP(AL5,$CO$5:$DE$19,15,0) -> 0 | AZ5: =VLOOKUP(AL5,$CO$5:$DE$19,16,0) -> 0 | BA5: =VLOOKUP(AL5,$CO$5:$DE$19,17,0) -> 0 | BB5: =VLOOKUP(BV5,$BW$5:$DF$21,2,0) -> Equipe 01 | BG5: =VLOOKUP(BB5,$DF$5:$DV$19,7,0) -> 0 | BH5: =VLOOKUP(BB5,$DF$5:$DV$19,8,0) -> u | BI5: 1 | BJ5: =VLOOKUP(BB5,$DF$5:$DV$19,10,0) -> 0 | BK5: =VLOOKUP(BB5,$DF$5:$DV$19,11,0) -> 0 | BL5: =VLOOKUP(BB5,$DF$5:$DV$19,12,0) -> 0 | BM5: =VLOOKUP(BB5,$DF$5:$DV$19,13,0) -> 0 | BN5: =VLOOKUP(BB5,$DF$5:$DV$19,14,0) -> 0 | BO5: =VLOOKUP(BB5,$DF$5:$DV$19,15,0) -> 0 | BP5: =VLOOKUP(BB5,$DF$5:$DV$19,16,0) -> 0 | BQ5: =VLOOKUP(BB5,$DF$5:$DV$19,17,0) -> 0 | BR5: 1 | BS5: =CF5 -> 1 | BT5: 1 | BU5: =CW5 -> 1 | BV5: 1 | BW5: =DN5 -> 1 | BX5: =Equipes!A2 -> Equipe 01 | CC5: =RANK(DW5,$DW$5:$DW$19) -> 1 | CD5: ='J02'!CC5-CC5 -> 0 | CE5: =IF(CC5>'J02'!CC5,'J02'!$CE$14,IF(CC5='J02'!CC5,'J02'!$CU$14,IF(CC5<'J02'!CC5,'J02'!$CT$14))) -> u | CF5: =RANK(DX5,$DX$5:$DX$13) -> 1 | CG5: =SUMPRODUCT(($B$5:$F$13=BX5)*($EG$5:$EG$13))+SUMPRODUCT(($I$5:$M$13=BX5)*($EH$5:$EH$13))+'J02'!CG5 -> 0 | CH5: =SUMPRODUCT(($B$5:$F$13=BX5)*($EI$5:$EI$13))+SUMPRODUCT(($I$5:$M$13=BX5)*($EJ$5:$EJ$13))+'J02'!CH5 -> 0 | CI5: =SUMPRODUCT(($B$5:$F$13=BX5)*($EK$5:$EK$13))+SUMPRODUCT(($I$5:$M$13=BX5)*($EL$5:$EL$13))+'J02'!CI5 -> 0 | CJ5: =SUMPRODUCT(($B$5:$F$13=BX5)*($EM$5:$EM$13))+SUMPRODUCT(($I$5:$M$13=BX5)*($EN$5:$EN$13))+'J02'!CJ5 -> 0 | CK5: =SUMPRODUCT(($B$5:$F$13=BX5)*($EO$5:$EO$13))+SUMPRODUCT(($I$5:$M$13=BX5)*($EP$5:$EP$13))+'J02'!CK5 -> 0 | CL5: =SUMPRODUCT(($B$5:$F$13=BX5)*($EQ$5:$EQ$13))+SUMPRODUCT(($I$5:$M$13=BX5)*($ER$5:$ER$13))+'J02'!CL5 -> 0 | CM5: =SUMPRODUCT(($B$5:$F$13=BX5)*($ES$5:$ES$13))+SUMPRODUCT(($I$5:$M$13=BX5)*($ET$5:$ET$13))+'J02'!CM5 -> 0 | CN5: =CL5-CM5 -> 0 | CO5: =BX5 -> Equipe 01 | CT5: =RANK(DY5,$DY$5:$DY$19) -> 1 | CU5: ='J02'!CT5-CT5 -> 0 | CV5: =IF(CT5>'J02'!CT5,'J02'!$CV$14,IF(CT5='J02'!CT5,'J02'!$CU$14,IF(CT5<'J02'!CT5,'J02'!$CT$14))) -> u | CW5: =RANK(DZ5,$DZ$5:$DZ$19) -> 1 | CX5: =SUMPRODUCT(($B$5:$F$13=CO5)*($EG$5:$EG$13))+'J02'!CX5 -> 0 | CY5: =SUMPRODUCT(($B$5:$F$13=CO5)*($EI$5:$EI$13))+'J02'!CY5 -> 0 | CZ5: =SUMPRODUCT(($B$5:$F$13=CO5)*($EK$5:$EK$13))+'J02'!CZ5 -> 0 | DA5: =SUMPRODUCT(($B$5:$F$13=CO5)*($EM$5:$EM$13))+'J02'!DA5 -> 0 | DB5: =SUMPRODUCT(($B$5:$F$13=CO5)*($EO$5:$EO$13))+'J02'!DB5 -> 0 | DC5: =SUMPRODUCT(($B$5:$F$13=CO5)*($EQ$5:$EQ$13))+'J02'!DC5 -> 0 | DD5: =SUMPRODUCT(($B$5:$F$13=CO5)*($ES$5:$ES$13))+'J02'!DD5 -> 0 | DE5: =DC5-DD5 -> 0 | DF5: =BX5 -> Equipe 01 | DK5: =RANK(EA5,$EA$5:$EA$19) -> 1 | DL5: ='J02'!DK5-DK5 -> 0 | DM5: =IF(DK5>'J02'!DK5,'J02'!$DM$14,IF(DK5='J02'!DK5,'J02'!$DL$14,IF(DK5<'J02'!DK5,'J02'!$DK$14))) -> u | DN5: =RANK(EB5,$EB$5:$EB$19) -> 1 | DO5: =SUMPRODUCT(($I$5:$M$13=DF5)*($EH$5:$EH$13))+'J02'!DO5 -> 0 | DP5: =SUMPRODUCT(($I$5:$M$13=DF5)*($EJ$5:$EJ$13))+'J02'!DP5 -> 0 | DQ5: =SUMPRODUCT(($I$5:$M$13=DF5)*($EL$5:$EL$13))+'J02'!DQ5 -> 0 | DR5: =SUMPRODUCT(($I$5:$M$13=DF5)*($EN$5:$EN$13))+'J02'!DR5 -> 0 | DS5: =SUMPRODUCT(($I$5:$M$13=DF5)*($EP$5:$EP$13))+'J02'!DS5 -> 0 | DT5: =SUMPRODUCT(($I$5:$M$13=DF5)*($ER$5:$ER$13))+'J02'!DT5 -> 0 | DU5: =SUMPRODUCT(($I$5:$M$13=DF5)*($ET$5:$ET$13))+'J02'!DU5 -> 0 | DV5: =DT5-DU5 -> 0 | DW5: =SUM(CG5*1000+(CN5)/100+(CL5)/1000) -> 0 | DX5: =DW5+0.0000006 -> 6e-07 | DY5: =SUM(CX5*1000+(DE5)/100+(DC5)/1000) -> 0 | DZ5: =DY5+0.0000006 -> 6e-07 | EA5: =SUM(DO5*1000+(DV5)/100+(DT5)/1000) -> 0 | EB5: =EA5+0.0000006 -> 6e-07 | EC5: =A5 -> 0 | ED5: =N5 -> 0 | EE5: =IF(G5="",0,IF(G5>H5,3,IF(G5=H5,1,IF(G5<H5,0)))) -> 0 | EF5: =IF(H5="",0,IF(H5>G5,3,IF(H5=G5,1,IF(H5<G5,0)))) -> 0 | EG5: =EE5-EC5 -> 0 | EH5: =EF5-ED5 -> 0 | EI5: =IF(G5="",0,1) -> 0 | EJ5: =IF(H5="",0,1) -> 0 | EK5: =IF(G5<>"",IF(G5>H5,1)) -> FALSE | EL5: =IF(H5<>"",IF(H5>G5,1)) -> FALSE | EM5: =IF(G5<>"",IF(G5=H5,1)) -> FALSE | EN5: =IF(H5<>"",IF(H5=G5,1)) -> FALSE | EO5: =IF(G5<>"",IF(G5<H5,1)) -> FALSE | EP5: =IF(H5<>"",IF(H5<G5,1)) -> FALSE | EQ5: =G5 -> 0 | ER5: =H5 -> 0 | ES5: =H5 -> 0 | ET5: =G5 -> 0 | EU5: =VLOOKUP(BR5,$BS$5:$CB$13,6,0) -> Equipe 01 | EZ5: =VLOOKUP(EU5,$BX$5:$DW$13,52,0) -> 0 | FA5: =RANK(EZ5,$EZ$5:$EZ$13) -> 1 | FB5: =BX5 -> Equipe 01 | FG5: =VLOOKUP(BT5,$BU$5:$CS$13,21,0) -> Equipe 01 | FL5: =VLOOKUP(FG5,$CO$5:$DY$13,37,0) -> 0 | FM5: =RANK(FL5,$FL$5:$FL$13) -> 1 | FN5: =CO5 -> Equipe 01 | FS5: =VLOOKUP(BV5,$BW$5:$DF$13,36,0) -> Equipe 01 | FX5: =VLOOKUP(FS5,$DF$5:$EA$21,22,0) -> 0 | FY5: =RANK(FX5,$FX$5:$FX$13) -> 1 | FZ5: =DF5 -> Equipe 01 | GE5: =BX5 -> Equipe 01
V6: =VLOOKUP(BR6,$BS$5:$CB$21,6,0) -> Equipe 02 | AA6: =VLOOKUP(V6,$BX$5:$CN$19,7,0) -> 0 | AB6: =VLOOKUP(V6,$BX$5:$CN$19,8,0) -> u | AC6: =IF(EZ6=EZ5,FA5,FA6) -> 1 | AD6: =VLOOKUP(V6,$BX$5:$CN$19,10,0) -> 0 | AE6: =VLOOKUP(V6,$BX$5:$CN$19,11,0) -> 0 | AF6: =VLOOKUP(V6,$BX$5:$CN$19,12,0) -> 0 | AG6: =VLOOKUP(V6,$BX$5:$CN$19,13,0) -> 0 | AH6: =VLOOKUP(V6,$BX$5:$CN$19,14,0) -> 0 | AI6: =VLOOKUP(V6,$BX$5:$CN$19,15,0) -> 0 | AJ6: =VLOOKUP(V6,$BX$5:$CN$19,16,0) -> 0 | AK6: =VLOOKUP(V6,$BX$5:$CN$19,17,0) -> 0 | AL6: =VLOOKUP(BT6,$BU$5:$CS$21,4,0) -> Equipe 02 | AQ6: =VLOOKUP(AL6,$CO$5:$DE$19,7,0) -> 0 | AR6: =VLOOKUP(AL6,$CO$5:$DE$19,8,0) -> u | AS6: =IF(FL6=FL5,FM5,FM6) -> 1 | AT6: =VLOOKUP(AL6,$CO$5:$DE$19,10,0) -> 0 | AU6: =VLOOKUP(AL6,$CO$5:$DE$19,11,0) -> 0 | AV6: =VLOOKUP(AL6,$CO$5:$DE$19,12,0) -> 0 | AW6: =VLOOKUP(AL6,$CO$5:$DE$19,13,0) -> 0 | AX6: =VLOOKUP(AL6,$CO$5:$DE$19,14,0) -> 0 | AY6: =VLOOKUP(AL6,$CO$5:$DE$19,15,0) -> 0 | AZ6: =VLOOKUP(AL6,$CO$5:$DE$19,16,0) -> 0 | BA6: =VLOOKUP(AL6,$CO$5:$DE$19,17,0) -> 0 | BB6: =VLOOKUP(BV6,$BW$5:$DF$21,2,0) -> Equipe 02 | BG6: =VLOOKUP(BB6,$DF$5:$DV$19,7,0) -> 0 | BH6: =VLOOKUP(BB6,$DF$5:$DV$19,8,0) -> u | BI6: =IF(FX6=FX5,FY5,FY6) -> 1 | BJ6: =VLOOKUP(BB6,$DF$5:$DV$19,10,0) -> 0 | BK6: =VLOOKUP(BB6,$DF$5:$DV$19,11,0) -> 0 | BL6: =VLOOKUP(BB6,$DF$5:$DV$19,12,0) -> 0 | BM6: =VLOOKUP(BB6,$DF$5:$DV$19,13,0) -> 0 | BN6: =VLOOKUP(BB6,$DF$5:$DV$19,14,0) -> 0 | BO6: =VLOOKUP(BB6,$DF$5:$DV$19,15,0) -> 0 | BP6: =VLOOKUP(BB6,$DF$5:$DV$19,16,0) -> 0 | BQ6: =VLOOKUP(BB6,$DF$5:$DV$19,17,0) -> 0 | BR6: 2 | BS6: =CF6 -> 2 | BT6: 2 | BU6: =CW6 -> 2 | BV6: 2 | BW6: =DN6 -> 2 | BX6: =Equipes!A3 -> Equipe 02 | CC6: =RANK(DW6,$DW$5:$DW$19) -> 1 | CD6: ='J02'!CC6-CC6 -> 0 | CE6: =IF(CC6>'J02'!CC6,'J02'!$CE$14,IF(CC6='J02'!CC6,'J02'!$CU$14,IF(CC6<'J02'!CC6,'J02'!$CT$14))) -> u | CF6: =RANK(DX6,$DX$5:$DX$13) -> 2 | CG6: =SUMPRODUCT(($B$5:$F$13=BX6)*($EG$5:$EG$13))+SUMPRODUCT(($I$5:$M$13=BX6)*($EH$5:$EH$13))+'J02'!CG6 -> 0 | CH6: =SUMPRODUCT(($B$5:$F$13=BX6)*($EI$5:$EI$13))+SUMPRODUCT(($I$5:$M$13=BX6)*($EJ$5:$EJ$13))+'J02'!CH6 -> 0 | CI6: =SUMPRODUCT(($B$5:$F$13=BX6)*($EK$5:$EK$13))+SUMPRODUCT(($I$5:$M$13=BX6)*($EL$5:$EL$13))+'J02'!CI6 -> 0 | CJ6: =SUMPRODUCT(($B$5:$F$13=BX6)*($EM$5:$EM$13))+SUMPRODUCT(($I$5:$M$13=BX6)*($EN$5:$EN$13))+'J02'!CJ6 -> 0 | CK6: =SUMPRODUCT(($B$5:$F$13=BX6)*($EO$5:$EO$13))+SUMPRODUCT(($I$5:$M$13=BX6)*($EP$5:$EP$13))+'J02'!CK6 -> 0 | CL6: =SUMPRODUCT(($B$5:$F$13=BX6)*($EQ$5:$EQ$13))+SUMPRODUCT(($I$5:$M$13=BX6)*($ER$5:$ER$13))+'J02'!CL6 -> 0 | CM6: =SUMPRODUCT(($B$5:$F$13=BX6)*($ES$5:$ES$13))+SUMPRODUCT(($I$5:$M$13=BX6)*($ET$5:$ET$13))+'J02'!CM6 -> 0 | CN6: =CL6-CM6 -> 0 | CO6: =BX6 -> Equipe 02 | CT6: =RANK(DY6,$DY$5:$DY$19) -> 1 | CU6: ='J02'!CT6-CT6 -> 0 | CV6: =IF(CT6>'J02'!CT6,'J02'!$CV$14,IF(CT6='J02'!CT6,'J02'!$CU$14,IF(CT6<'J02'!CT6,'J02'!$CT$14))) -> u | CW6: =RANK(DZ6,$DZ$5:$DZ$19) -> 2 | CX6: =SUMPRODUCT(($B$5:$F$13=CO6)*($EG$5:$EG$13))+'J02'!CX6 -> 0 | CY6: =SUMPRODUCT(($B$5:$F$13=CO6)*($EI$5:$EI$13))+'J02'!CY6 -> 0 | CZ6: =SUMPRODUCT(($B$5:$F$13=CO6)*($EK$5:$EK$13))+'J02'!CZ6 -> 0 | DA6: =SUMPRODUCT(($B$5:$F$13=CO6)*($EM$5:$EM$13))+'J02'!DA6 -> 0 | DB6: =SUMPRODUCT(($B$5:$F$13=CO6)*($EO$5:$EO$13))+'J02'!DB6 -> 0 | DC6: =SUMPRODUCT(($B$5:$F$13=CO6)*($EQ$5:$EQ$13))+'J02'!DC6 -> 0 | DD6: =SUMPRODUCT(($B$5:$F$13=CO6)*($ES$5:$ES$13))+'J02'!DD6 -> 0 | DE6: =DC6-DD6 -> 0 | DF6: =BX6 -> Equipe 02 | DK6: =RANK(EA6,$EA$5:$EA$19) -> 1 | DL6: ='J02'!DK6-DK6 -> 0 | DM6: =IF(DK6>'J02'!DK6,'J02'!$DM$14,IF(DK6='J02'!DK6,'J02'!$DL$14,IF(DK6<'J02'!DK6,'J02'!$DK$14))) -> u | DN6: =RANK(EB6,$EB$5:$EB$19) -> 2 | DO6: =SUMPRODUCT(($I$5:$M$13=DF6)*($EH$5:$EH$13))+'J02'!DO6 -> 0 | DP6: =SUMPRODUCT(($I$5:$M$13=DF6)*($EJ$5:$EJ$13))+'J02'!DP6 -> 0 | DQ6: =SUMPRODUCT(($I$5:$M$13=DF6)*($EL$5:$EL$13))+'J02'!DQ6 -> 0 | DR6: =SUMPRODUCT(($I$5:$M$13=DF6)*($EN$5:$EN$13))+'J02'!DR6 -> 0 | DS6: =SUMPRODUCT(($I$5:$M$13=DF6)*($EP$5:$EP$13))+'J02'!DS6 -> 0 | DT6: =SUMPRODUCT(($I$5:$M$13=DF6)*($ER$5:$ER$13))+'J02'!DT6 -> 0 | DU6: =SUMPRODUCT(($I$5:$M$13=DF6)*($ET$5:$ET$13))+'J02'!DU6 -> 0 | DV6: =DT6-DU6 -> 0 | DW6: =SUM(CG6*1000+(CN6)/100+(CL6)/1000) -> 0 | DX6: =DW6+0.0000005 -> 5e-07 | DY6: =SUM(CX6*1000+(DE6)/100+(DC6)/1000) -> 0 | DZ6: =DY6+0.0000005 -> 5e-07 | EA6: =SUM(DO6*1000+(DV6)/100+(DT6)/1000) -> 0 | EB6: =EA6+0.0000005 -> 5e-07 | EC6: =A6 -> 0 | ED6: =N6 -> 0 | EE6: =IF(G6="",0,IF(G6>H6,3,IF(G6=H6,1,IF(G6<H6,0)))) -> 0 | EF6: =IF(H6="",0,IF(H6>G6,3,IF(H6=G6,1,IF(H6<G6,0)))) -> 0 | EG6: =EE6-EC6 -> 0 | EH6: =EF6-ED6 -> 0 | EI6: =IF(G6="",0,1) -> 0 | EJ6: =IF(H6="",0,1) -> 0 | EK6: =IF(G6<>"",IF(G6>H6,1)) -> FALSE | EL6: =IF(H6<>"",IF(H6>G6,1)) -> FALSE | EM6: =IF(G6<>"",IF(G6=H6,1)) -> FALSE | EN6: =IF(H6<>"",IF(H6=G6,1)) -> FALSE | EO6: =IF(G6<>"",IF(G6<H6,1)) -> FALSE | EP6: =IF(H6<>"",IF(H6<G6,1)) -> FALSE | EQ6: =G6 -> 0 | ER6: =H6 -> 0 | ES6: =H6 -> 0 | ET6: =G6 -> 0 | EU6: =VLOOKUP(BR6,$BS$5:$CB$13,6,0) -> Equipe 02 | EZ6: =VLOOKUP(EU6,$BX$5:$DW$13,52,0) -> 0 | FA6: =RANK(EZ6,$EZ$5:$EZ$13) -> 1 | FB6: =BX6 -> Equipe 02 | FG6: =VLOOKUP(BT6,$BU$5:$CS$13,21,0) -> Equipe 02 | FL6: =VLOOKUP(FG6,$CO$5:$DY$13,37,0) -> 0 | FM6: =RANK(FL6,$FL$5:$FL$13) -> 1 | FN6: =CO6 -> Equipe 02 | FS6: =VLOOKUP(BV6,$BW$5:$DF$13,36,0) -> Equipe 02 | FX6: =VLOOKUP(FS6,$DF$5:$EA$21,22,0) -> 0 | FY6: =RANK(FX6,$FX$5:$FX$13) -> 1 | FZ6: =DF6 -> Equipe 02 | GE6: =BX6 -> Equipe 02
V7: =VLOOKUP(BR7,$BS$5:$CB$21,6,0) -> Equipe 03 | AA7: =VLOOKUP(V7,$BX$5:$CN$19,7,0) -> 0 | AB7: =VLOOKUP(V7,$BX$5:$CN$19,8,0) -> u | AC7: =IF(EZ7=EZ6,FA6,FA7) -> 1 | AD7: =VLOOKUP(V7,$BX$5:$CN$19,10,0) -> 0 | AE7: =VLOOKUP(V7,$BX$5:$CN$19,11,0) -> 0 | AF7: =VLOOKUP(V7,$BX$5:$CN$19,12,0) -> 0 | AG7: =VLOOKUP(V7,$BX$5:$CN$19,13,0) -> 0 | AH7: =VLOOKUP(V7,$BX$5:$CN$19,14,0) -> 0 | AI7: =VLOOKUP(V7,$BX$5:$CN$19,15,0) -> 0 | AJ7: =VLOOKUP(V7,$BX$5:$CN$19,16,0) -> 0 | AK7: =VLOOKUP(V7,$BX$5:$CN$19,17,0) -> 0 | AL7: =VLOOKUP(BT7,$BU$5:$CS$21,4,0) -> Equipe 03 | AQ7: =VLOOKUP(AL7,$CO$5:$DE$19,7,0) -> 0 | AR7: =VLOOKUP(AL7,$CO$5:$DE$19,8,0) -> u | AS7: =IF(FL7=FL6,FM6,FM7) -> 1 | AT7: =VLOOKUP(AL7,$CO$5:$DE$19,10,0) -> 0 | AU7: =VLOOKUP(AL7,$CO$5:$DE$19,11,0) -> 0 | AV7: =VLOOKUP(AL7,$CO$5:$DE$19,12,0) -> 0 | AW7: =VLOOKUP(AL7,$CO$5:$DE$19,13,0) -> 0 | AX7: =VLOOKUP(AL7,$CO$5:$DE$19,14,0) -> 0 | AY7: =VLOOKUP(AL7,$CO$5:$DE$19,15,0) -> 0 | AZ7: =VLOOKUP(AL7,$CO$5:$DE$19,16,0) -> 0 | BA7: =VLOOKUP(AL7,$CO$5:$DE$19,17,0) -> 0 | BB7: =VLOOKUP(BV7,$BW$5:$DF$21,2,0) -> Equipe 03 | BG7: =VLOOKUP(BB7,$DF$5:$DV$19,7,0) -> 0 | BH7: =VLOOKUP(BB7,$DF$5:$DV$19,8,0) -> u | BI7: =IF(FX7=FX6,FY6,FY7) -> 1 | BJ7: =VLOOKUP(BB7,$DF$5:$DV$19,10,0) -> 0 | BK7: =VLOOKUP(BB7,$DF$5:$DV$19,11,0) -> 0 | BL7: =VLOOKUP(BB7,$DF$5:$DV$19,12,0) -> 0 | BM7: =VLOOKUP(BB7,$DF$5:$DV$19,13,0) -> 0 | BN7: =VLOOKUP(BB7,$DF$5:$DV$19,14,0) -> 0 | BO7: =VLOOKUP(BB7,$DF$5:$DV$19,15,0) -> 0 | BP7: =VLOOKUP(BB7,$DF$5:$DV$19,16,0) -> 0 | BQ7: =VLOOKUP(BB7,$DF$5:$DV$19,17,0) -> 0 | BR7: 3 | BS7: =CF7 -> 3 | BT7: 3 | BU7: =CW7 -> 3 | BV7: 3 | BW7: =DN7 -> 3 | BX7: =Equipes!A4 -> Equipe 03 | CC7: =RANK(DW7,$DW$5:$DW$19) -> 1 | CD7: ='J02'!CC7-CC7 -> 0 | CE7: =IF(CC7>'J02'!CC7,'J02'!$CE$14,IF(CC7='J02'!CC7,'J02'!$CU$14,IF(CC7<'J02'!CC7,'J02'!$CT$14))) -> u | CF7: =RANK(DX7,$DX$5:$DX$13) -> 3 | CG7: =SUMPRODUCT(($B$5:$F$13=BX7)*($EG$5:$EG$13))+SUMPRODUCT(($I$5:$M$13=BX7)*($EH$5:$EH$13))+'J02'!CG7 -> 0 | CH7: =SUMPRODUCT(($B$5:$F$13=BX7)*($EI$5:$EI$13))+SUMPRODUCT(($I$5:$M$13=BX7)*($EJ$5:$EJ$13))+'J02'!CH7 -> 0 | CI7: =SUMPRODUCT(($B$5:$F$13=BX7)*($EK$5:$EK$13))+SUMPRODUCT(($I$5:$M$13=BX7)*($EL$5:$EL$13))+'J02'!CI7 -> 0 | CJ7: =SUMPRODUCT(($B$5:$F$13=BX7)*($EM$5:$EM$13))+SUMPRODUCT(($I$5:$M$13=BX7)*($EN$5:$EN$13))+'J02'!CJ7 -> 0 | CK7: =SUMPRODUCT(($B$5:$F$13=BX7)*($EO$5:$EO$13))+SUMPRODUCT(($I$5:$M$13=BX7)*($EP$5:$EP$13))+'J02'!CK7 -> 0 | CL7: =SUMPRODUCT(($B$5:$F$13=BX7)*($EQ$5:$EQ$13))+SUMPRODUCT(($I$5:$M$13=BX7)*($ER$5:$ER$13))+'J02'!CL7 -> 0 | CM7: =SUMPRODUCT(($B$5:$F$13=BX7)*($ES$5:$ES$13))+SUMPRODUCT(($I$5:$M$13=BX7)*($ET$5:$ET$13))+'J02'!CM7 -> 0 | CN7: =CL7-CM7 -> 0 | CO7: =BX7 -> Equipe 03 | CT7: =RANK(DY7,$DY$5:$DY$19) -> 1 | CU7: ='J02'!CT7-CT7 -> 0 | CV7: =IF(CT7>'J02'!CT7,'J02'!$CV$14,IF(CT7='J02'!CT7,'J02'!$CU$14,IF(CT7<'J02'!CT7,'J02'!$CT$14))) -> u | CW7: =RANK(DZ7,$DZ$5:$DZ$19) -> 3 | CX7: =SUMPRODUCT(($B$5:$F$13=CO7)*($EG$5:$EG$13))+'J02'!CX7 -> 0 | CY7: =SUMPRODUCT(($B$5:$F$13=CO7)*($EI$5:$EI$13))+'J02'!CY7 -> 0 | CZ7: =SUMPRODUCT(($B$5:$F$13=CO7)*($EK$5:$EK$13))+'J02'!CZ7 -> 0 | DA7: =SUMPRODUCT(($B$5:$F$13=CO7)*($EM$5:$EM$13))+'J02'!DA7 -> 0 | DB7: =SUMPRODUCT(($B$5:$F$13=CO7)*($EO$5:$EO$13))+'J02'!DB7 -> 0 | DC7: =SUMPRODUCT(($B$5:$F$13=CO7)*($EQ$5:$EQ$13))+'J02'!DC7 -> 0 | DD7: =SUMPRODUCT(($B$5:$F$13=CO7)*($ES$5:$ES$13))+'J02'!DD7 -> 0 | DE7: =DC7-DD7 -> 0 | DF7: =BX7 -> Equipe 03 | DK7: =RANK(EA7,$EA$5:$EA$19) -> 1 | DL7: ='J02'!DK7-DK7 -> 0 | DM7: =IF(DK7>'J02'!DK7,'J02'!$DM$14,IF(DK7='J02'!DK7,'J02'!$DL$14,IF(DK7<'J02'!DK7,'J02'!$DK$14))) -> u | DN7: =RANK(EB7,$EB$5:$EB$19) -> 3 | DO7: =SUMPRODUCT(($I$5:$M$13=DF7)*($EH$5:$EH$13))+'J02'!DO7 -> 0 | DP7: =SUMPRODUCT(($I$5:$M$13=DF7)*($EJ$5:$EJ$13))+'J02'!DP7 -> 0 | DQ7: =SUMPRODUCT(($I$5:$M$13=DF7)*($EL$5:$EL$13))+'J02'!DQ7 -> 0 | DR7: =SUMPRODUCT(($I$5:$M$13=DF7)*($EN$5:$EN$13))+'J02'!DR7 -> 0 | DS7: =SUMPRODUCT(($I$5:$M$13=DF7)*($EP$5:$EP$13))+'J02'!DS7 -> 0 | DT7: =SUMPRODUCT(($I$5:$M$13=DF7)*($ER$5:$ER$13))+'J02'!DT7 -> 0 | DU7: =SUMPRODUCT(($I$5:$M$13=DF7)*($ET$5:$ET$13))+'J02'!DU7 -> 0 | DV7: =DT7-DU7 -> 0 | DW7: =SUM(CG7*1000+(CN7)/100+(CL7)/1000) -> 0 | DX7: =DW7+0.0000004 -> 4e-07 | DY7: =SUM(CX7*1000+(DE7)/100+(DC7)/1000) -> 0 | DZ7: =DY7+0.0000004 -> 4e-07 | EA7: =SUM(DO7*1000+(DV7)/100+(DT7)/1000) -> 0 | EB7: =EA7+0.0000004 -> 4e-07 | EC7: =A7 -> 0 | ED7: =N7 -> 0 | EE7: =IF(G7="",0,IF(G7>H7,3,IF(G7=H7,1,IF(G7<H7,0)))) -> 0 | EF7: =IF(H7="",0,IF(H7>G7,3,IF(H7=G7,1,IF(H7<G7,0)))) -> 0 | EG7: =EE7-EC7 -> 0 | EH7: =EF7-ED7 -> 0 | EI7: =IF(G7="",0,1) -> 0 | EJ7: =IF(H7="",0,1) -> 0 | EK7: =IF(G7<>"",IF(G7>H7,1)) -> FALSE | EL7: =IF(H7<>"",IF(H7>G7,1)) -> FALSE | EM7: =IF(G7<>"",IF(G7=H7,1)) -> FALSE | EN7: =IF(H7<>"",IF(H7=G7,1)) -> FALSE | EO7: =IF(G7<>"",IF(G7<H7,1)) -> FALSE | EP7: =IF(H7<>"",IF(H7<G7,1)) -> FALSE | EQ7: =G7 -> 0 | ER7: =H7 -> 0 | ES7: =H7 -> 0 | ET7: =G7 -> 0 | EU7: =VLOOKUP(BR7,$BS$5:$CB$13,6,0) -> Equipe 03 | EZ7: =VLOOKUP(EU7,$BX$5:$DW$13,52,0) -> 0 | FA7: =RANK(EZ7,$EZ$5:$EZ$13) -> 1 | FB7: =BX7 -> Equipe 03 | FG7: =VLOOKUP(BT7,$BU$5:$CS$13,21,0) -> Equipe 03 | FL7: =VLOOKUP(FG7,$CO$5:$DY$13,37,0) -> 0 | FM7: =RANK(FL7,$FL$5:$FL$13) -> 1 | FN7: =CO7 -> Equipe 03 | FS7: =VLOOKUP(BV7,$BW$5:$DF$13,36,0) -> Equipe 03 | FX7: =VLOOKUP(FS7,$DF$5:$EA$21,22,0) -> 0 | FY7: =RANK(FX7,$FX$5:$FX$13) -> 1 | FZ7: =DF7 -> Equipe 03 | GE7: =BX7 -> Equipe 03
V8: =VLOOKUP(BR8,$BS$5:$CB$21,6,0) -> Equipe 04 | AA8: =VLOOKUP(V8,$BX$5:$CN$19,7,0) -> 0 | AB8: =VLOOKUP(V8,$BX$5:$CN$19,8,0) -> u | AC8: =IF(EZ8=EZ7,FA7,FA8) -> 1 | AD8: =VLOOKUP(V8,$BX$5:$CN$19,10,0) -> 0 | AE8: =VLOOKUP(V8,$BX$5:$CN$19,11,0) -> 0 | AF8: =VLOOKUP(V8,$BX$5:$CN$19,12,0) -> 0 | AG8: =VLOOKUP(V8,$BX$5:$CN$19,13,0) -> 0 | AH8: =VLOOKUP(V8,$BX$5:$CN$19,14,0) -> 0 | AI8: =VLOOKUP(V8,$BX$5:$CN$19,15,0) -> 0 | AJ8: =VLOOKUP(V8,$BX$5:$CN$19,16,0) -> 0 | AK8: =VLOOKUP(V8,$BX$5:$CN$19,17,0) -> 0 | AL8: =VLOOKUP(BT8,$BU$5:$CS$21,4,0) -> Equipe 04 | AQ8: =VLOOKUP(AL8,$CO$5:$DE$19,7,0) -> 0 | AR8: =VLOOKUP(AL8,$CO$5:$DE$19,8,0) -> u | AS8: =IF(FL8=FL7,FM7,FM8) -> 1 | AT8: =VLOOKUP(AL8,$CO$5:$DE$19,10,0) -> 0 | AU8: =VLOOKUP(AL8,$CO$5:$DE$19,11,0) -> 0 | AV8: =VLOOKUP(AL8,$CO$5:$DE$19,12,0) -> 0 | AW8: =VLOOKUP(AL8,$CO$5:$DE$19,13,0) -> 0 | AX8: =VLOOKUP(AL8,$CO$5:$DE$19,14,0) -> 0 | AY8: =VLOOKUP(AL8,$CO$5:$DE$19,15,0) -> 0 | AZ8: =VLOOKUP(AL8,$CO$5:$DE$19,16,0) -> 0 | BA8: =VLOOKUP(AL8,$CO$5:$DE$19,17,0) -> 0 | BB8: =VLOOKUP(BV8,$BW$5:$DF$21,2,0) -> Equipe 04 | BG8: =VLOOKUP(BB8,$DF$5:$DV$19,7,0) -> 0 | BH8: =VLOOKUP(BB8,$DF$5:$DV$19,8,0) -> u | BI8: =IF(FX8=FX7,FY7,FY8) -> 1 | BJ8: =VLOOKUP(BB8,$DF$5:$DV$19,10,0) -> 0 | BK8: =VLOOKUP(BB8,$DF$5:$DV$19,11,0) -> 0 | BL8: =VLOOKUP(BB8,$DF$5:$DV$19,12,0) -> 0 | BM8: =VLOOKUP(BB8,$DF$5:$DV$19,13,0) -> 0 | BN8: =VLOOKUP(BB8,$DF$5:$DV$19,14,0) -> 0 | BO8: =VLOOKUP(BB8,$DF$5:$DV$19,15,0) -> 0 | BP8: =VLOOKUP(BB8,$DF$5:$DV$19,16,0) -> 0 | BQ8: =VLOOKUP(BB8,$DF$5:$DV$19,17,0) -> 0 | BR8: 4 | BS8: =CF8 -> 4 | BT8: 4 | BU8: =CW8 -> 4 | BV8: 4 | BW8: =DN8 -> 4 | BX8: =Equipes!A5 -> Equipe 04 | CC8: =RANK(DW8,$DW$5:$DW$19) -> 1 | CD8: ='J02'!CC8-CC8 -> 0 | CE8: =IF(CC8>'J02'!CC8,'J02'!$CE$14,IF(CC8='J02'!CC8,'J02'!$CU$14,IF(CC8<'J02'!CC8,'J02'!$CT$14))) -> u | CF8: =RANK(DX8,$DX$5:$DX$13) -> 4 | CG8: =SUMPRODUCT(($B$5:$F$13=BX8)*($EG$5:$EG$13))+SUMPRODUCT(($I$5:$M$13=BX8)*($EH$5:$EH$13))+'J02'!CG8 -> 0 | CH8: =SUMPRODUCT(($B$5:$F$13=BX8)*($EI$5:$EI$13))+SUMPRODUCT(($I$5:$M$13=BX8)*($EJ$5:$EJ$13))+'J02'!CH8 -> 0 | CI8: =SUMPRODUCT(($B$5:$F$13=BX8)*($EK$5:$EK$13))+SUMPRODUCT(($I$5:$M$13=BX8)*($EL$5:$EL$13))+'J02'!CI8 -> 0 | CJ8: =SUMPRODUCT(($B$5:$F$13=BX8)*($EM$5:$EM$13))+SUMPRODUCT(($I$5:$M$13=BX8)*($EN$5:$EN$13))+'J02'!CJ8 -> 0 | CK8: =SUMPRODUCT(($B$5:$F$13=BX8)*($EO$5:$EO$13))+SUMPRODUCT(($I$5:$M$13=BX8)*($EP$5:$EP$13))+'J02'!CK8 -> 0 | CL8: =SUMPRODUCT(($B$5:$F$13=BX8)*($EQ$5:$EQ$13))+SUMPRODUCT(($I$5:$M$13=BX8)*($ER$5:$ER$13))+'J02'!CL8 -> 0 | CM8: =SUMPRODUCT(($B$5:$F$13=BX8)*($ES$5:$ES$13))+SUMPRODUCT(($I$5:$M$13=BX8)*($ET$5:$ET$13))+'J02'!CM8 -> 0 | CN8: =CL8-CM8 -> 0 | CO8: =BX8 -> Equipe 04 | CT8: =RANK(DY8,$DY$5:$DY$19) -> 1 | CU8: ='J02'!CT8-CT8 -> 0 | CV8: =IF(CT8>'J02'!CT8,'J02'!$CV$14,IF(CT8='J02'!CT8,'J02'!$CU$14,IF(CT8<'J02'!CT8,'J02'!$CT$14))) -> u | CW8: =RANK(DZ8,$DZ$5:$DZ$19) -> 4 | CX8: =SUMPRODUCT(($B$5:$F$13=CO8)*($EG$5:$EG$13))+'J02'!CX8 -> 0 | CY8: =SUMPRODUCT(($B$5:$F$13=CO8)*($EI$5:$EI$13))+'J02'!CY8 -> 0 | CZ8: =SUMPRODUCT(($B$5:$F$13=CO8)*($EK$5:$EK$13))+'J02'!CZ8 -> 0 | DA8: =SUMPRODUCT(($B$5:$F$13=CO8)*($EM$5:$EM$13))+'J02'!DA8 -> 0 | DB8: =SUMPRODUCT(($B$5:$F$13=CO8)*($EO$5:$EO$13))+'J02'!DB8 -> 0 | DC8: =SUMPRODUCT(($B$5:$F$13=CO8)*($EQ$5:$EQ$13))+'J02'!DC8 -> 0 | DD8: =SUMPRODUCT(($B$5:$F$13=CO8)*($ES$5:$ES$13))+'J02'!DD8 -> 0 | DE8: =DC8-DD8 -> 0 | DF8: =BX8 -> Equipe 04 | DK8: =RANK(EA8,$EA$5:$EA$19) -> 1 | DL8: ='J02'!DK8-DK8 -> 0 | DM8: =IF(DK8>'J02'!DK8,'J02'!$DM$14,IF(DK8='J02'!DK8,'J02'!$DL$14,IF(DK8<'J02'!DK8,'J02'!$DK$14))) -> u | DN8: =RANK(EB8,$EB$5:$EB$19) -> 4 | DO8: =SUMPRODUCT(($I$5:$M$13=DF8)*($EH$5:$EH$13))+'J02'!DO8 -> 0 | DP8: =SUMPRODUCT(($I$5:$M$13=DF8)*($EJ$5:$EJ$13))+'J02'!DP8 -> 0 | DQ8: =SUMPRODUCT(($I$5:$M$13=DF8)*($EL$5:$EL$13))+'J02'!DQ8 -> 0 | DR8: =SUMPRODUCT(($I$5:$M$13=DF8)*($EN$5:$EN$13))+'J02'!DR8 -> 0 | DS8: =SUMPRODUCT(($I$5:$M$13=DF8)*($EP$5:$EP$13))+'J02'!DS8 -> 0 | DT8: =SUMPRODUCT(($I$5:$M$13=DF8)*($ER$5:$ER$13))+'J02'!DT8 -> 0 | DU8: =SUMPRODUCT(($I$5:$M$13=DF8)*($ET$5:$ET$13))+'J02'!DU8 -> 0 | DV8: =DT8-DU8 -> 0 | DW8: =SUM(CG8*1000+(CN8)/100+(CL8)/1000) -> 0 | DX8: =DW8+0.0000003 -> 3e-07 | DY8: =SUM(CX8*1000+(DE8)/100+(DC8)/1000) -> 0 | DZ8: =DY8+0.0000003 -> 3e-07 | EA8: =SUM(DO8*1000+(DV8)/100+(DT8)/1000) -> 0 | EB8: =EA8+0.0000003 -> 3e-07 | EU8: =VLOOKUP(BR8,$BS$5:$CB$13,6,0) -> Equipe 04 | EZ8: =VLOOKUP(EU8,$BX$5:$DW$13,52,0) -> 0 | FA8: =RANK(EZ8,$EZ$5:$EZ$13) -> 1 | FB8: =BX8 -> Equipe 04 | FG8: =VLOOKUP(BT8,$BU$5:$CS$13,21,0) -> Equipe 04 | FL8: =VLOOKUP(FG8,$CO$5:$DY$13,37,0) -> 0 | FM8: =RANK(FL8,$FL$5:$FL$13) -> 1 | FN8: =CO8 -> Equipe 04 | FS8: =VLOOKUP(BV8,$BW$5:$DF$13,36,0) -> Equipe 04 | FX8: =VLOOKUP(FS8,$DF$5:$EA$21,22,0) -> 0 | FY8: =RANK(FX8,$FX$5:$FX$13) -> 1 | FZ8: =DF8 -> Equipe 04 | GE8: =BX8 -> Equipe 04
V9: =VLOOKUP(BR9,$BS$5:$CB$21,6,0) -> Equipe 05 | AA9: =VLOOKUP(V9,$BX$5:$CN$19,7,0) -> 0 | AB9: =VLOOKUP(V9,$BX$5:$CN$19,8,0) -> u | AC9: =IF(EZ9=EZ8,FA8,FA9) -> 1 | AD9: =VLOOKUP(V9,$BX$5:$CN$19,10,0) -> 0 | AE9: =VLOOKUP(V9,$BX$5:$CN$19,11,0) -> 0 | AF9: =VLOOKUP(V9,$BX$5:$CN$19,12,0) -> 0 | AG9: =VLOOKUP(V9,$BX$5:$CN$19,13,0) -> 0 | AH9: =VLOOKUP(V9,$BX$5:$CN$19,14,0) -> 0 | AI9: =VLOOKUP(V9,$BX$5:$CN$19,15,0) -> 0 | AJ9: =VLOOKUP(V9,$BX$5:$CN$19,16,0) -> 0 | AK9: =VLOOKUP(V9,$BX$5:$CN$19,17,0) -> 0 | AL9: =VLOOKUP(BT9,$BU$5:$CS$21,4,0) -> Equipe 05 | AQ9: =VLOOKUP(AL9,$CO$5:$DE$19,7,0) -> 0 | AR9: =VLOOKUP(AL9,$CO$5:$DE$19,8,0) -> u | AS9: =IF(FL9=FL8,FM8,FM9) -> 1 | AT9: =VLOOKUP(AL9,$CO$5:$DE$19,10,0) -> 0 | AU9: =VLOOKUP(AL9,$CO$5:$DE$19,11,0) -> 0 | AV9: =VLOOKUP(AL9,$CO$5:$DE$19,12,0) -> 0 | AW9: =VLOOKUP(AL9,$CO$5:$DE$19,13,0) -> 0 | AX9: =VLOOKUP(AL9,$CO$5:$DE$19,14,0) -> 0 | AY9: =VLOOKUP(AL9,$CO$5:$DE$19,15,0) -> 0 | AZ9: =VLOOKUP(AL9,$CO$5:$DE$19,16,0) -> 0 | BA9: =VLOOKUP(AL9,$CO$5:$DE$19,17,0) -> 0 | BB9: =VLOOKUP(BV9,$BW$5:$DF$21,2,0) -> Equipe 05 | BG9: =VLOOKUP(BB9,$DF$5:$DV$19,7,0) -> 0 | BH9: =VLOOKUP(BB9,$DF$5:$DV$19,8,0) -> u | BI9: =IF(FX9=FX8,FY8,FY9) -> 1 | BJ9: =VLOOKUP(BB9,$DF$5:$DV$19,10,0) -> 0 | BK9: =VLOOKUP(BB9,$DF$5:$DV$19,11,0) -> 0 | BL9: =VLOOKUP(BB9,$DF$5:$DV$19,12,0) -> 0 | BM9: =VLOOKUP(BB9,$DF$5:$DV$19,13,0) -> 0 | BN9: =VLOOKUP(BB9,$DF$5:$DV$19,14,0) -> 0 | BO9: =VLOOKUP(BB9,$DF$5:$DV$19,15,0) -> 0 | BP9: =VLOOKUP(BB9,$DF$5:$DV$19,16,0) -> 0 | BQ9: =VLOOKUP(BB9,$DF$5:$DV$19,17,0) -> 0 | BR9: 5 | BS9: =CF9 -> 5 | BT9: 5 | BU9: =CW9 -> 5 | BV9: 5 | BW9: =DN9 -> 5 | BX9: =Equipes!A6 -> Equipe 05 | CC9: =RANK(DW9,$DW$5:$DW$19) -> 1 | CD9: ='J02'!CC9-CC9 -> 0 | CE9: =IF(CC9>'J02'!CC9,'J02'!$CE$14,IF(CC9='J02'!CC9,'J02'!$CU$14,IF(CC9<'J02'!CC9,'J02'!$CT$14))) -> u | CF9: =RANK(DX9,$DX$5:$DX$13) -> 5 | CG9: =SUMPRODUCT(($B$5:$F$13=BX9)*($EG$5:$EG$13))+SUMPRODUCT(($I$5:$M$13=BX9)*($EH$5:$EH$13))+'J02'!CG9 -> 0 | CH9: =SUMPRODUCT(($B$5:$F$13=BX9)*($EI$5:$EI$13))+SUMPRODUCT(($I$5:$M$13=BX9)*($EJ$5:$EJ$13))+'J02'!CH9 -> 0 | CI9: =SUMPRODUCT(($B$5:$F$13=BX9)*($EK$5:$EK$13))+SUMPRODUCT(($I$5:$M$13=BX9)*($EL$5:$EL$13))+'J02'!CI9 -> 0 | CJ9: =SUMPRODUCT(($B$5:$F$13=BX9)*($EM$5:$EM$13))+SUMPRODUCT(($I$5:$M$13=BX9)*($EN$5:$EN$13))+'J02'!CJ9 -> 0 | CK9: =SUMPRODUCT(($B$5:$F$13=BX9)*($EO$5:$EO$13))+SUMPRODUCT(($I$5:$M$13=BX9)*($EP$5:$EP$13))+'J02'!CK9 -> 0 | CL9: =SUMPRODUCT(($B$5:$F$13=BX9)*($EQ$5:$EQ$13))+SUMPRODUCT(($I$5:$M$13=BX9)*($ER$5:$ER$13))+'J02'!CL9 -> 0 | CM9: =SUMPRODUCT(($B$5:$F$13=BX9)*($ES$5:$ES$13))+SUMPRODUCT(($I$5:$M$13=BX9)*($ET$5:$ET$13))+'J02'!CM9 -> 0 | CN9: =CL9-CM9 -> 0 | CO9: =BX9 -> Equipe 05 | CT9: =RANK(DY9,$DY$5:$DY$19) -> 1 | CU9: ='J02'!CT9-CT9 -> 0 | CV9: =IF(CT9>'J02'!CT9,'J02'!$CV$14,IF(CT9='J02'!CT9,'J02'!$CU$14,IF(CT9<'J02'!CT9,'J02'!$CT$14))) -> u | CW9: =RANK(DZ9,$DZ$5:$DZ$19) -> 5 | CX9: =SUMPRODUCT(($B$5:$F$13=CO9)*($EG$5:$EG$13))+'J02'!CX9 -> 0 | CY9: =SUMPRODUCT(($B$5:$F$13=CO9)*($EI$5:$EI$13))+'J02'!CY9 -> 0 | CZ9: =SUMPRODUCT(($B$5:$F$13=CO9)*($EK$5:$EK$13))+'J02'!CZ9 -> 0 | DA9: =SUMPRODUCT(($B$5:$F$13=CO9)*($EM$5:$EM$13))+'J02'!DA9 -> 0 | DB9: =SUMPRODUCT(($B$5:$F$13=CO9)*($EO$5:$EO$13))+'J02'!DB9 -> 0 | DC9: =SUMPRODUCT(($B$5:$F$13=CO9)*($EQ$5:$EQ$13))+'J02'!DC9 -> 0 | DD9: =SUMPRODUCT(($B$5:$F$13=CO9)*($ES$5:$ES$13))+'J02'!DD9 -> 0 | DE9: =DC9-DD9 -> 0 | DF9: =BX9 -> Equipe 05 | DK9: =RANK(EA9,$EA$5:$EA$19) -> 1 | DL9: ='J02'!DK9-DK9 -> 0 | DM9: =IF(DK9>'J02'!DK9,'J02'!$DM$14,IF(DK9='J02'!DK9,'J02'!$DL$14,IF(DK9<'J02'!DK9,'J02'!$DK$14))) -> u | DN9: =RANK(EB9,$EB$5:$EB$19) -> 5 | DO9: =SUMPRODUCT(($I$5:$M$13=DF9)*($EH$5:$EH$13))+'J02'!DO9 -> 0 | DP9: =SUMPRODUCT(($I$5:$M$13=DF9)*($EJ$5:$EJ$13))+'J02'!DP9 -> 0 | DQ9: =SUMPRODUCT(($I$5:$M$13=DF9)*($EL$5:$EL$13))+'J02'!DQ9 -> 0 | DR9: =SUMPRODUCT(($I$5:$M$13=DF9)*($EN$5:$EN$13))+'J02'!DR9 -> 0 | DS9: =SUMPRODUCT(($I$5:$M$13=DF9)*($EP$5:$EP$13))+'J02'!DS9 -> 0 | DT9: =SUMPRODUCT(($I$5:$M$13=DF9)*($ER$5:$ER$13))+'J02'!DT9 -> 0 | DU9: =SUMPRODUCT(($I$5:$M$13=DF9)*($ET$5:$ET$13))+'J02'!DU9 -> 0 | DV9: =DT9-DU9 -> 0 | DW9: =SUM(CG9*1000+(CN9)/100+(CL9)/1000) -> 0 | DX9: =DW9+0.0000002 -> 2e-07 | DY9: =SUM(CX9*1000+(DE9)/100+(DC9)/1000) -> 0 | DZ9: =DY9+0.0000002 -> 2e-07 | EA9: =SUM(DO9*1000+(DV9)/100+(DT9)/1000) -> 0 | EB9: =EA9+0.0000002 -> 2e-07 | EU9: =VLOOKUP(BR9,$BS$5:$CB$13,6,0) -> Equipe 05 | EZ9: =VLOOKUP(EU9,$BX$5:$DW$13,52,0) -> 0 | FA9: =RANK(EZ9,$EZ$5:$EZ$13) -> 1 | FB9: =BX9 -> Equipe 05 | FG9: =VLOOKUP(BT9,$BU$5:$CS$13,21,0) -> Equipe 05 | FL9: =VLOOKUP(FG9,$CO$5:$DY$13,37,0) -> 0 | FM9: =RANK(FL9,$FL$5:$FL$13) -> 1 | FN9: =CO9 -> Equipe 05 | FS9: =VLOOKUP(BV9,$BW$5:$DF$13,36,0) -> Equipe 05 | FX9: =VLOOKUP(FS9,$DF$5:$EA$21,22,0) -> 0 | FY9: =RANK(FX9,$FX$5:$FX$13) -> 1 | FZ9: =DF9 -> Equipe 05 | GE9: =BX9 -> Equipe 05
V10: =VLOOKUP(BR10,$BS$5:$CB$21,6,0) -> Equipe 06 | AA10: =VLOOKUP(V10,$BX$5:$CN$19,7,0) -> 0 | AB10: =VLOOKUP(V10,$BX$5:$CN$19,8,0) -> u | AC10: =IF(EZ10=EZ9,FA9,FA10) -> 1 | AD10: =VLOOKUP(V10,$BX$5:$CN$19,10,0) -> 0 | AE10: =VLOOKUP(V10,$BX$5:$CN$19,11,0) -> 0 | AF10: =VLOOKUP(V10,$BX$5:$CN$19,12,0) -> 0 | AG10: =VLOOKUP(V10,$BX$5:$CN$19,13,0) -> 0 | AH10: =VLOOKUP(V10,$BX$5:$CN$19,14,0) -> 0 | AI10: =VLOOKUP(V10,$BX$5:$CN$19,15,0) -> 0 | AJ10: =VLOOKUP(V10,$BX$5:$CN$19,16,0) -> 0 | AK10: =VLOOKUP(V10,$BX$5:$CN$19,17,0) -> 0 | AL10: =VLOOKUP(BT10,$BU$5:$CS$21,4,0) -> Equipe 06 | AQ10: =VLOOKUP(AL10,$CO$5:$DE$19,7,0) -> 0 | AR10: =VLOOKUP(AL10,$CO$5:$DE$19,8,0) -> u | AS10: =IF(FL10=FL9,FM9,FM10) -> 1 | AT10: =VLOOKUP(AL10,$CO$5:$DE$19,10,0) -> 0 | AU10: =VLOOKUP(AL10,$CO$5:$DE$19,11,0) -> 0 | AV10: =VLOOKUP(AL10,$CO$5:$DE$19,12,0) -> 0 | AW10: =VLOOKUP(AL10,$CO$5:$DE$19,13,0) -> 0 | AX10: =VLOOKUP(AL10,$CO$5:$DE$19,14,0) -> 0 | AY10: =VLOOKUP(AL10,$CO$5:$DE$19,15,0) -> 0 | AZ10: =VLOOKUP(AL10,$CO$5:$DE$19,16,0) -> 0 | BA10: =VLOOKUP(AL10,$CO$5:$DE$19,17,0) -> 0 | BB10: =VLOOKUP(BV10,$BW$5:$DF$21,2,0) -> Equipe 06 | BG10: =VLOOKUP(BB10,$DF$5:$DV$19,7,0) -> 0 | BH10: =VLOOKUP(BB10,$DF$5:$DV$19,8,0) -> u | BI10: =IF(FX10=FX9,FY9,FY10) -> 1 | BJ10: =VLOOKUP(BB10,$DF$5:$DV$19,10,0) -> 0 | BK10: =VLOOKUP(BB10,$DF$5:$DV$19,11,0) -> 0 | BL10: =VLOOKUP(BB10,$DF$5:$DV$19,12,0) -> 0 | BM10: =VLOOKUP(BB10,$DF$5:$DV$19,13,0) -> 0 | BN10: =VLOOKUP(BB10,$DF$5:$DV$19,14,0) -> 0 | BO10: =VLOOKUP(BB10,$DF$5:$DV$19,15,0) -> 0 | BP10: =VLOOKUP(BB10,$DF$5:$DV$19,16,0) -> 0 | BQ10: =VLOOKUP(BB10,$DF$5:$DV$19,17,0) -> 0 | BR10: 6 | BS10: =CF10 -> 6 | BT10: 6 | BU10: =CW10 -> 6 | BV10: 6 | BW10: =DN10 -> 6 | BX10: =Equipes!A7 -> Equipe 06 | CC10: =RANK(DW10,$DW$5:$DW$19) -> 1 | CD10: ='J02'!CC10-CC10 -> 0 | CE10: =IF(CC10>'J02'!CC10,'J02'!$CE$14,IF(CC10='J02'!CC10,'J02'!$CU$14,IF(CC10<'J02'!CC10,'J02'!$CT$14))) -> u | CF10: =RANK(DX10,$DX$5:$DX$13) -> 6 | CG10: =SUMPRODUCT(($B$5:$F$13=BX10)*($EG$5:$EG$13))+SUMPRODUCT(($I$5:$M$13=BX10)*($EH$5:$EH$13))+'J02'!CG10 -> 0 | CH10: =SUMPRODUCT(($B$5:$F$13=BX10)*($EI$5:$EI$13))+SUMPRODUCT(($I$5:$M$13=BX10)*($EJ$5:$EJ$13))+'J02'!CH10 -> 0 | CI10: =SUMPRODUCT(($B$5:$F$13=BX10)*($EK$5:$EK$13))+SUMPRODUCT(($I$5:$M$13=BX10)*($EL$5:$EL$13))+'J02'!CI10 -> 0 | CJ10: =SUMPRODUCT(($B$5:$F$13=BX10)*($EM$5:$EM$13))+SUMPRODUCT(($I$5:$M$13=BX10)*($EN$5:$EN$13))+'J02'!CJ10 -> 0 | CK10: =SUMPRODUCT(($B$5:$F$13=BX10)*($EO$5:$EO$13))+SUMPRODUCT(($I$5:$M$13=BX10)*($EP$5:$EP$13))+'J02'!CK10 -> 0 | CL10: =SUMPRODUCT(($B$5:$F$13=BX10)*($EQ$5:$EQ$13))+SUMPRODUCT(($I$5:$M$13=BX10)*($ER$5:$ER$13))+'J02'!CL10 -> 0 | CM10: =SUMPRODUCT(($B$5:$F$13=BX10)*($ES$5:$ES$13))+SUMPRODUCT(($I$5:$M$13=BX10)*($ET$5:$ET$13))+'J02'!CM10 -> 0 | CN10: =CL10-CM10 -> 0 | CO10: =BX10 -> Equipe 06 | CT10: =RANK(DY10,$DY$5:$DY$19) -> 1 | CU10: ='J02'!CT10-CT10 -> 0 | CV10: =IF(CT10>'J02'!CT10,'J02'!$CV$14,IF(CT10='J02'!CT10,'J02'!$CU$14,IF(CT10<'J02'!CT10,'J02'!$CT$14))) -> u | CW10: =RANK(DZ10,$DZ$5:$DZ$19) -> 6 | CX10: =SUMPRODUCT(($B$5:$F$13=CO10)*($EG$5:$EG$13))+'J02'!CX10 -> 0 | CY10: =SUMPRODUCT(($B$5:$F$13=CO10)*($EI$5:$EI$13))+'J02'!CY10 -> 0 | CZ10: =SUMPRODUCT(($B$5:$F$13=CO10)*($EK$5:$EK$13))+'J02'!CZ10 -> 0 | DA10: =SUMPRODUCT(($B$5:$F$13=CO10)*($EM$5:$EM$13))+'J02'!DA10 -> 0 | DB10: =SUMPRODUCT(($B$5:$F$13=CO10)*($EO$5:$EO$13))+'J02'!DB10 -> 0 | DC10: =SUMPRODUCT(($B$5:$F$13=CO10)*($EQ$5:$EQ$13))+'J02'!DC10 -> 0 | DD10: =SUMPRODUCT(($B$5:$F$13=CO10)*($ES$5:$ES$13))+'J02'!DD10 -> 0 | DE10: =DC10-DD10 -> 0 | DF10: =BX10 -> Equipe 06 | DK10: =RANK(EA10,$EA$5:$EA$19) -> 1 | DL10: ='J02'!DK10-DK10 -> 0 | DM10: =IF(DK10>'J02'!DK10,'J02'!$DM$14,IF(DK10='J02'!DK10,'J02'!$DL$14,IF(DK10<'J02'!DK10,'J02'!$DK$14))) -> u | DN10: =RANK(EB10,$EB$5:$EB$19) -> 6 | DO10: =SUMPRODUCT(($I$5:$M$13=DF10)*($EH$5:$EH$13))+'J02'!DO10 -> 0 | DP10: =SUMPRODUCT(($I$5:$M$13=DF10)*($EJ$5:$EJ$13))+'J02'!DP10 -> 0 | DQ10: =SUMPRODUCT(($I$5:$M$13=DF10)*($EL$5:$EL$13))+'J02'!DQ10 -> 0 | DR10: =SUMPRODUCT(($I$5:$M$13=DF10)*($EN$5:$EN$13))+'J02'!DR10 -> 0 | DS10: =SUMPRODUCT(($I$5:$M$13=DF10)*($EP$5:$EP$13))+'J02'!DS10 -> 0 | DT10: =SUMPRODUCT(($I$5:$M$13=DF10)*($ER$5:$ER$13))+'J02'!DT10 -> 0 | DU10: =SUMPRODUCT(($I$5:$M$13=DF10)*($ET$5:$ET$13))+'J02'!DU10 -> 0 | DV10: =DT10-DU10 -> 0 | DW10: =SUM(CG10*1000+(CN10)/100+(CL10)/1000) -> 0 | DX10: =DW10+0.0000001 -> 1e-07 | DY10: =SUM(CX10*1000+(DE10)/100+(DC10)/1000) -> 0 | DZ10: =DY10+0.0000001 -> 1e-07 | EA10: =SUM(DO10*1000+(DV10)/100+(DT10)/1000) -> 0 | EB10: =EA10+0.0000001 -> 1e-07 | EU10: =VLOOKUP(BR10,$BS$5:$CB$13,6,0) -> Equipe 06 | EZ10: =VLOOKUP(EU10,$BX$5:$DW$13,52,0) -> 0 | FA10: =RANK(EZ10,$EZ$5:$EZ$13) -> 1 | FB10: =BX10 -> Equipe 06 | FG10: =VLOOKUP(BT10,$BU$5:$CS$13,21,0) -> Equipe 06 | FL10: =VLOOKUP(FG10,$CO$5:$DY$13,37,0) -> 0 | FM10: =RANK(FL10,$FL$5:$FL$13) -> 1 | FN10: =CO10 -> Equipe 06 | FS10: =VLOOKUP(BV10,$BW$5:$DF$13,36,0) -> Equipe 06 | FX10: =VLOOKUP(FS10,$DF$5:$EA$21,22,0) -> 0 | FY10: =RANK(FX10,$FX$5:$FX$13) -> 1 | FZ10: =DF10 -> Equipe 06 | GE10: =BX10 -> Equipe 06
AE13: Total des buts de la journée | AI13: =SUM(G5:H13) -> 0 | CC13: p | CD13: u | CE13: q | CT13: p | CU13: u | CV13: q | DK13: p | DL13: u | DM13: q
CC14: p | CD14: u | CE14: q | CT14: p | CU14: u | CV14: q | DK14: p | DL14: u | DM14: q
AE15: Total des buts du Championnat | AI15: =AI13+'J02'!AI15:AK16 -> 0
AE17: Moyenne générale du Championnat | AI17: =IF(AE5=0,"",SUM(AI5:AI12)/SUM(AE5:AE12)*2)

Sheet J04
A1: ='J01'!A1:H2 -> Nom du championnat | I1: ='J01'!I1:N2 -> 2017 - 2018 | O1: Journée 04 | V1: CLASSEMENT GENERAL | AL1: CLASSEMENT DOMICILE | BB1: CLASSEMENT EXTERIEUR | BX1: CLASSEMENT GENERAL | CO1: DOMICILE | DF1: EXTERIEUR | DW1: GENERAL | DY1: DOMICILE | EA1: EXTERIEUR | EC1: Dom. | ED1: Ext. | EE1: Dom. | EF1: Ext. | EG1: Dom. | EH1: Ext. | EI1: Dom. | EJ1: Ext. | EK1: Dom. | EL1: Ext. | EM1: Dom. | EN1: Ext. | EO1: Dom. | EP1: Ext. | EQ1: Dom. | ER1: Ext. | ES1: Dom. | ET1: Ext. | EU1: GENERAL | FG1: DOMICILE | FS1: EXTERIEUR
A3: P | B3: Equipes | G3: Buts | H3: Buts | I3: Equipes | N3: P | O3: Date | S3: Heure | V3: Equipes | AA3: Evolution | AC3: Place | AD3: Pts | AE3: J | AF3: G | AG3: N | AH3: P | AI3: B + | AJ3: B - | AK3: Diff. | AL3: Equipes | AQ3: Evolution | AS3: Place | AT3: Pts | AU3: J | AV3: G | AW3: N | AX3: P | AY3: B + | AZ3: B - | BA3: Diff. | BB3: Equipes | BG3: Evolution | BI3: Place | BJ3: Pts | BK3: J | BL3: G | BM3: N | BN3: P | BO3: B + | BP3: B - | BQ3: Diff. | BR3: R Général | BT3: R Domicile | BV3: R Extérieur | BX3: Equipes | CC3: R | CD3: Evolution | CF3: Place | CG3: Pts | CH3: J | CI3: G | CJ3: N | CK3: P | CL3: B + | CM3: B - | CN3: Diff. | CO3: Equipes | CT3: R | CU3: Evolution | CW3: Place | CX3: Pts | CY3: J | CZ3: G | DA3: N | DB3: P | DC3: B + | DD3: B - | DE3: Diff. | DF3: Equipes | DK3: R | DL3: Evolution | DN3: Place | DO3: Pts | DP3: J | DQ3: G | DR3: N | DS3: P | DT3: B + | DU3: B - | DV3: Diff. | DW3: % | DX3: % | DY3: % | DZ3: % | EA3: % | EB3: % | EC3: P | ED3: P | EE3: Pts | EF3: Pts | EG3: T Pts | EH3: T Pts | EI3: J | EJ3: J | EK3: G | EL3: G | EM3: N | EN3: N | EO3: P | EP3: P | EQ3: B + | ER3: B + | ES3: B - | ET3: B - | EU3: Equipes | EZ3: % | FA3: R | FB3: Equipes | FG3: Equipes | FL3: % | FM3: R | FN3: Equipes | FS3: Equipes | FX3: % | FY3: R | FZ3: Equipes
V5: =VLOOKUP(BR5,$BS$5:$CB$21,6,0) -> Equipe 01 | AA5: =VLOOKUP(V5,$BX$5:$CN$19,7,0) -> 0 | AB5: =VLOOKUP(V5,$BX$5:$CN$19,8,0) -> u | AC5: 1 | AD5: =VLOOKUP(V5,$BX$5:$CN$19,10,0) -> 0 | AE5: =VLOOKUP(V5,$BX$5:$CN$19,11,0) -> 0 | AF5: =VLOOKUP(V5,$BX$5:$CN$19,12,0) -> 0 | AG5: =VLOOKUP(V5,$BX$5:$CN$19,13,0) -> 0 | AH5: =VLOOKUP(V5,$BX$5:$CN$19,14,0) -> 0 | AI5: =VLOOKUP(V5,$BX$5:$CN$19,15,0) -> 0 | AJ5: =VLOOKUP(V5,$BX$5:$CN$19,16,0) -> 0 | AK5: =VLOOKUP(V5,$BX$5:$CN$19,17,0) -> 0 | AL5: =VLOOKUP(BT5,$BU$5:$CS$21,4,0) -> Equipe 01 | AQ5: =VLOOKUP(AL5,$CO$5:$DE$19,7,0) -> 0 | AR5: =VLOOKUP(AL5,$CO$5:$DE$19,8,0) -> u | AS5: 1 | AT5: =VLOOKUP(AL5,$CO$5:$DE$19,10,0) -> 0 | AU5: =VLOOKUP(AL5,$CO$5:$DE$19,11,0) -> 0 | AV5: =VLOOKUP(AL5,$CO$5:$DE$19,12,0) -> 0 | AW5: =VLOOKUP(AL5,$CO$5:$DE$19,13,0) -> 0 | AX5: =VLOOKUP(AL5,$CO$5:$DE$19,14,0) -> 0 | AY5: =VLOOKUP(AL5,$CO$5:$DE$19,15,0) -> 0 | AZ5: =VLOOKUP(AL5,$CO$5:$DE$19,16,0) -> 0 | BA5: =VLOOKUP(AL5,$CO$5:$DE$19,17,0) -> 0 | BB5: =VLOOKUP(BV5,$BW$5:$DF$21,2,0) -> Equipe 01 | BG5: =VLOOKUP(BB5,$DF$5:$DV$19,7,0) -> 0 | BH5: =VLOOKUP(BB5,$DF$5:$DV$19,8,0) -> u | BI5: 1 | BJ5: =VLOOKUP(BB5,$DF$5:$DV$19,10,0) -> 0 | BK5: =VLOOKUP(BB5,$DF$5:$DV$19,11,0) -> 0 | BL5: =VLOOKUP(BB5,$DF$5:$DV$19,12,0) -> 0 | BM5: =VLOOKUP(BB5,$DF$5:$DV$19,13,0) -> 0 | BN5: =VLOOKUP(BB5,$DF$5:$DV$19,14,0) -> 0 | BO5: =VLOOKUP(BB5,$DF$5:$DV$19,15,0) -> 0 | BP5: =VLOOKUP(BB5,$DF$5:$DV$19,16,0) -> 0 | BQ5: =VLOOKUP(BB5,$DF$5:$DV$19,17,0) -> 0 | BR5: 1 | BS5: =CF5 -> 1 | BT5: 1 | BU5: =CW5 -> 1 | BV5: 1 | BW5: =DN5 -> 1 | BX5: =Equipes!A2 -> Equipe 01 | CC5: =RANK(DW5,$DW$5:$DW$19) -> 1 | CD5: ='J03'!CC5-CC5 -> 0 | CE5: =IF(CC5>'J03'!CC5,'J03'!$CE$14,IF(CC5='J03'!CC5,'J03'!$CU$14,IF(CC5<'J03'!CC5,'J03'!$CT$14))) -> u | CF5: =RANK(DX5,$DX$5:$DX$13) -> 1 | CG5: =SUMPRODUCT(($B$5:$F$13=BX5)*($EG$5:$EG$13))+SUMPRODUCT(($I$5:$M$13=BX5)*($EH$5:$EH$13))+'J03'!CG5 -> 0 | CH5: =SUMPRODUCT(($B$5:$F$13=BX5)*($EI$5:$EI$13))+SUMPRODUCT(($I$5:$M$13=BX5)*($EJ$5:$EJ$13))+'J03'!CH5 -> 0 | CI5: =SUMPRODUCT(($B$5:$F$13=BX5)*($EK$5:$EK$13))+SUMPRODUCT(($I$5:$M$13=BX5)*($EL$5:$EL$13))+'J03'!CI5 -> 0 | CJ5: =SUMPRODUCT(($B$5:$F$13=BX5)*($EM$5:$EM$13))+SUMPRODUCT(($I$5:$M$13=BX5)*($EN$5:$EN$13))+'J03'!CJ5 -> 0 | CK5: =SUMPRODUCT(($B$5:$F$13=BX5)*($EO$5:$EO$13))+SUMPRODUCT(($I$5:$M$13=BX5)*($EP$5:$EP$13))+'J03'!CK5 -> 0 | CL5: =SUMPRODUCT(($B$5:$F$13=BX5)*($EQ$5:$EQ$13))+SUMPRODUCT(($I$5:$M$13=BX5)*($ER$5:$ER$13))+'J03'!CL5 -> 0 | CM5: =SUMPRODUCT(($B$5:$F$13=BX5)*($ES$5:$ES$13))+SUMPRODUCT(($I$5:$M$13=BX5)*($ET$5:$ET$13))+'J03'!CM5 -> 0 | CN5: =CL5-CM5 -> 0 | CO5: =BX5 -> Equipe 01 | CT5: =RANK(DY5,$DY$5:$DY$19) -> 1 | CU5: ='J03'!CT5-CT5 -> 0 | CV5: =IF(CT5>'J03'!CT5,'J03'!$CV$14,IF(CT5='J03'!CT5,'J03'!$CU$14,IF(CT5<'J03'!CT5,'J03'!$CT$14))) -> u | CW5: =RANK(DZ5,$DZ$5:$DZ$19) -> 1 | CX5: =SUMPRODUCT(($B$5:$F$13=CO5)*($EG$5:$EG$13))+'J03'!CX5 -> 0 | CY5: =SUMPRODUCT(($B$5:$F$13=CO5)*($EI$5:$EI$13))+'J03'!CY5 -> 0 | CZ5: =SUMPRODUCT(($B$5:$F$13=CO5)*($EK$5:$EK$13))+'J03'!CZ5 -> 0 | DA5: =SUMPRODUCT(($B$5:$F$13=CO5)*($EM$5:$EM$13))+'J03'!DA5 -> 0 | DB5: =SUMPRODUCT(($B$5:$F$13=CO5)*($EO$5:$EO$13))+'J03'!DB5 -> 0 | DC5: =SUMPRODUCT(($B$5:$F$13=CO5)*($EQ$5:$EQ$13))+'J03'!DC5 -> 0 | DD5: =SUMPRODUCT(($B$5:$F$13=CO5)*($ES$5:$ES$13))+'J03'!DD5 -> 0 | DE5: =DC5-DD5 -> 0 | DF5: =BX5 -> Equipe 01 | DK5: =RANK(EA5,$EA$5:$EA$19) -> 1 | DL5: ='J03'!DK5-DK5 -> 0 | DM5: =IF(DK5>'J03'!DK5,'J03'!$DM$14,IF(DK5='J03'!DK5,'J03'!$DL$14,IF(DK5<'J03'!DK5,'J03'!$DK$14))) -> u | DN5: =RANK(EB5,$EB$5:$EB$19) -> 1 | DO5: =SUMPRODUCT(($I$5:$M$13=DF5)*($EH$5:$EH$13))+'J03'!DO5 -> 0 | DP5: =SUMPRODUCT(($I$5:$M$13=DF5)*($EJ$5:$EJ$13))+'J03'!DP5 -> 0 | DQ5: =SUMPRODUCT(($I$5:$M$13=DF5)*($EL$5:$EL$13))+'J03'!DQ5 -> 0 | DR5: =SUMPRODUCT(($I$5:$M$13=DF5)*($EN$5:$EN$13))+'J03'!DR5 -> 0 | DS5: =SUMPRODUCT(($I$5:$M$13=DF5)*($EP$5:$EP$13))+'J03'!DS5 -> 0 | DT5: =SUMPRODUCT(($I$5:$M$13=DF5)*($ER$5:$ER$13))+'J03'!DT5 -> 0 | DU5: =SUMPRODUCT(($I$5:$M$13=DF5)*($ET$5:$ET$13))+'J03'!DU5 -> 0 | DV5: =DT5-DU5 -> 0 | DW5: =SUM(CG5*1000+(CN5)/100+(CL5)/1000) -> 0 | DX5: =DW5+0.0000006 -> 6e-07 | DY5: =SUM(CX5*1000+(DE5)/100+(DC5)/1000) -> 0 | DZ5: =DY5+0.0000006 -> 6e-07 | EA5: =SUM(DO5*1000+(DV5)/100+(DT5)/1000) -> 0 | EB5: =EA5+0.0000006 -> 6e-07 | EC5: =A5 -> 0 | ED5: =N5 -> 0 | EE5: =IF(G5="",0,IF(G5>H5,3,IF(G5=H5,1,IF(G5<H5,0)))) -> 0 | EF5: =IF(H5="",0,IF(H5>G5,3,IF(H5=G5,1,IF(H5<G5,0)))) -> 0 | EG5: =EE5-EC5 -> 0 | EH5: =EF5-ED5 -> 0 | EI5: =IF(G5="",0,1) -> 0 | EJ5: =IF(H5="",0,1) -> 0 | EK5: =IF(G5<>"",IF(G5>H5,1)) -> FALSE | EL5: =IF(H5<>"",IF(H5>G5,1)) -> FALSE | EM5: =IF(G5<>"",IF(G5=H5,1)) -> FALSE | EN5: =IF(H5<>"",IF(H5=G5,1)) -> FALSE | EO5: =IF(G5<>"",IF(G5<H5,1)) -> FALSE | EP5: =IF(H5<>"",IF(H5<G5,1)) -> FALSE | EQ5: =G5 -> 0 | ER5: =H5 -> 0 | ES5: =H5 -> 0 | ET5: =G5 -> 0 | EU5: =VLOOKUP(BR5,$BS$5:$CB$13,6,0) -> Equipe 01 | EZ5: =VLOOKUP(EU5,$BX$5:$DW$13,52,0) -> 0 | FA5: =RANK(EZ5,$EZ$5:$EZ$13) -> 1 | FB5: =BX5 -> Equipe 01 | FG5: =VLOOKUP(BT5,$BU$5:$CS$13,21,0) -> Equipe 01 | FL5: =VLOOKUP(FG5,$CO$5:$DY$13,37,0) -> 0 | FM5: =RANK(FL5,$FL$5:$FL$13) -> 1 | FN5: =CO5 -> Equipe 01 | FS5: =VLOOKUP(BV5,$BW$5:$DF$13,36,0) -> Equipe 01 | FX5: =VLOOKUP(FS5,$DF$5:$EA$21,22,0) -> 0 | FY5: =RANK(FX5,$FX$5:$FX$13) -> 1 | FZ5: =DF5 -> Equipe 01 | GE5: =BX5 -> Equipe 01
V6: =VLOOKUP(BR6,$BS$5:$CB$21,6,0) -> Equipe 02 | AA6: =VLOOKUP(V6,$BX$5:$CN$19,7,0) -> 0 | AB6: =VLOOKUP(V6,$BX$5:$CN$19,8,0) -> u | AC6: =IF(EZ6=EZ5,FA5,FA6) -> 1 | AD6: =VLOOKUP(V6,$BX$5:$CN$19,10,0) -> 0 | AE6: =VLOOKUP(V6,$BX$5:$CN$19,11,0) -> 0 | AF6: =VLOOKUP(V6,$BX$5:$CN$19,12,0) -> 0 | AG6: =VLOOKUP(V6,$BX$5:$CN$19,13,0) -> 0 | AH6: =VLOOKUP(V6,$BX$5:$CN$19,14,0) -> 0 | AI6: =VLOOKUP(V6,$BX$5:$CN$19,15,0) -> 0 | AJ6: =VLOOKUP(V6,$BX$5:$CN$19,16,0) -> 0 | AK6: =VLOOKUP(V6,$BX$5:$CN$19,17,0) -> 0 | AL6: =VLOOKUP(BT6,$BU$5:$CS$21,4,0) -> Equipe 02 | AQ6: =VLOOKUP(AL6,$CO$5:$DE$19,7,0) -> 0 | AR6: =VLOOKUP(AL6,$CO$5:$DE$19,8,0) -> u | AS6: =IF(FL6=FL5,FM5,FM6) -> 1 | AT6: =VLOOKUP(AL6,$CO$5:$DE$19,10,0) -> 0 | AU6: =VLOOKUP(AL6,$CO$5:$DE$19,11,0) -> 0 | AV6: =VLOOKUP(AL6,$CO$5:$DE$19,12,0) -> 0 | AW6: =VLOOKUP(AL6,$CO$5:$DE$19,13,0) -> 0 | AX6: =VLOOKUP(AL6,$CO$5:$DE$19,14,0) -> 0 | AY6: =VLOOKUP(AL6,$CO$5:$DE$19,15,0) -> 0 | AZ6: =VLOOKUP(AL6,$CO$5:$DE$19,16,0) -> 0 | BA6: =VLOOKUP(AL6,$CO$5:$DE$19,17,0) -> 0 | BB6: =VLOOKUP(BV6,$BW$5:$DF$21,2,0) -> Equipe 02 | BG6: =VLOOKUP(BB6,$DF$5:$DV$19,7,0) -> 0 | BH6: =VLOOKUP(BB6,$DF$5:$DV$19,8,0) -> u | BI6: =IF(FX6=FX5,FY5,FY6) -> 1 | BJ6: =VLOOKUP(BB6,$DF$5:$DV$19,10,0) -> 0 | BK6: =VLOOKUP(BB6,$DF$5:$DV$19,11,0) -> 0 | BL6: =VLOOKUP(BB6,$DF$5:$DV$19,12,0) -> 0 | BM6: =VLOOKUP(BB6,$DF$5:$DV$19,13,0) -> 0 | BN6: =VLOOKUP(BB6,$DF$5:$DV$19,14,0) -> 0 | BO6: =VLOOKUP(BB6,$DF$5:$DV$19,15,0) -> 0 | BP6: =VLOOKUP(BB6,$DF$5:$DV$19,16,0) -> 0 | BQ6: =VLOOKUP(BB6,$DF$5:$DV$19,17,0) -> 0 | BR6: 2 | BS6: =CF6 -> 2 | BT6: 2 | BU6: =CW6 -> 2 | BV6: 2 | BW6: =DN6 -> 2 | BX6: =Equipes!A3 -> Equipe 02 | CC6: =RANK(DW6,$DW$5:$DW$19) -> 1 | CD6: ='J03'!CC6-CC6 -> 0 | CE6: =IF(CC6>'J03'!CC6,'J03'!$CE$14,IF(CC6='J03'!CC6,'J03'!$CU$14,IF(CC6<'J03'!CC6,'J03'!$CT$14))) -> u | CF6: =RANK(DX6,$DX$5:$DX$13) -> 2 | CG6: =SUMPRODUCT(($B$5:$F$13=BX6)*($EG$5:$EG$13))+SUMPRODUCT(($I$5:$M$13=BX6)*($EH$5:$EH$13))+'J03'!CG6 -> 0 | CH6: =SUMPRODUCT(($B$5:$F$13=BX6)*($EI$5:$EI$13))+SUMPRODUCT(($I$5:$M$13=BX6)*($EJ$5:$EJ$13))+'J03'!CH6 -> 0 | CI6: =SUMPRODUCT(($B$5:$F$13=BX6)*($EK$5:$EK$13))+SUMPRODUCT(($I$5:$M$13=BX6)*($EL$5:$EL$13))+'J03'!CI6 -> 0 | CJ6: =SUMPRODUCT(($B$5:$F$13=BX6)*($EM$5:$EM$13))+SUMPRODUCT(($I$5:$M$13=BX6)*($EN$5:$EN$13))+'J03'!CJ6 -> 0 | CK6: =SUMPRODUCT(($B$5:$F$13=BX6)*($EO$5:$EO$13))+SUMPRODUCT(($I$5:$M$13=BX6)*($EP$5:$EP$13))+'J03'!CK6 -> 0 | CL6: =SUMPRODUCT(($B$5:$F$13=BX6)*($EQ$5:$EQ$13))+SUMPRODUCT(($I$5:$M$13=BX6)*($ER$5:$ER$13))+'J03'!CL6 -> 0 | CM6: =SUMPRODUCT(($B$5:$F$13=BX6)*($ES$5:$ES$13))+SUMPRODUCT(($I$5:$M$13=BX6)*($ET$5:$ET$13))+'J03'!CM6 -> 0 | CN6: =CL6-CM6 -> 0 | CO6: =BX6 -> Equipe 02 | CT6: =RANK(DY6,$DY$5:$DY$19) -> 1 | CU6: ='J03'!CT6-CT6 -> 0 | CV6: =IF(CT6>'J03'!CT6,'J03'!$CV$14,IF(CT6='J03'!CT6,'J03'!$CU$14,IF(CT6<'J03'!CT6,'J03'!$CT$14))) -> u | CW6: =RANK(DZ6,$DZ$5:$DZ$19) -> 2 | CX6: =SUMPRODUCT(($B$5:$F$13=CO6)*($EG$5:$EG$13))+'J03'!CX6 -> 0 | CY6: =SUMPRODUCT(($B$5:$F$13=CO6)*($EI$5:$EI$13))+'J03'!CY6 -> 0 | CZ6: =SUMPRODUCT(($B$5:$F$13=CO6)*($EK$5:$EK$13))+'J03'!CZ6 -> 0 | DA6: =SUMPRODUCT(($B$5:$F$13=CO6)*($EM$5:$EM$13))+'J03'!DA6 -> 0 | DB6: =SUMPRODUCT(($B$5:$F$13=CO6)*($EO$5:$EO$13))+'J03'!DB6 -> 0 | DC6: =SUMPRODUCT(($B$5:$F$13=CO6)*($EQ$5:$EQ$13))+'J03'!DC6 -> 0 | DD6: =SUMPRODUCT(($B$5:$F$13=CO6)*($ES$5:$ES$13))+'J03'!DD6 -> 0 | DE6: =DC6-DD6 -> 0 | DF6: =BX6 -> Equipe 02 | DK6: =RANK(EA6,$EA$5:$EA$19) -> 1 | DL6: ='J03'!DK6-DK6 -> 0 | DM6: =IF(DK6>'J03'!DK6,'J03'!$DM$14,IF(DK6='J03'!DK6,'J03'!$DL$14,IF(DK6<'J03'!DK6,'J03'!$DK$14))) -> u | DN6: =RANK(EB6,$EB$5:$EB$19) -> 2 | DO6: =SUMPRODUCT(($I$5:$M$13=DF6)*($EH$5:$EH$13))+'J03'!DO6 -> 0 | DP6: =SUMPRODUCT(($I$5:$M$13=DF6)*($EJ$5:$EJ$13))+'J03'!DP6 -> 0 | DQ6: =SUMPRODUCT(($I$5:$M$13=DF6)*($EL$5:$EL$13))+'J03'!DQ6 -> 0 | DR6: =SUMPRODUCT(($I$5:$M$13=DF6)*($EN$5:$EN$13))+'J03'!DR6 -> 0 | DS6: =SUMPRODUCT(($I$5:$M$13=DF6)*($EP$5:$EP$13))+'J03'!DS6 -> 0 | DT6: =SUMPRODUCT(($I$5:$M$13=DF6)*($ER$5:$ER$13))+'J03'!DT6 -> 0 | DU6: =SUMPRODUCT(($I$5:$M$13=DF6)*($ET$5:$ET$13))+'J03'!DU6 -> 0 | DV6: =DT6-DU6 -> 0 | DW6: =SUM(CG6*1000+(CN6)/100+(CL6)/1000) -> 0 | DX6: =DW6+0.0000005 -> 5e-07 | DY6: =SUM(CX6*1000+(DE6)/100+(DC6)/1000) -> 0 | DZ6: =DY6+0.0000005 -> 5e-07 | EA6: =SUM(DO6*1000+(DV6)/100+(DT6)/1000) -> 0 | EB6: =EA6+0.0000005 -> 5e-07 | EC6: =A6 -> 0 | ED6: =N6 -> 0 | EE6: =IF(G6="",0,IF(G6>H6,3,IF(G6=H6,1,IF(G6<H6,0)))) -> 0 | EF6: =IF(H6="",0,IF(H6>G6,3,IF(H6=G6,1,IF(H6<G6,0)))) -> 0 | EG6: =EE6-EC6 -> 0 | EH6: =EF6-ED6 -> 0 | EI6: =IF(G6="",0,1) -> 0 | EJ6: =IF(H6="",0,1) -> 0 | EK6: =IF(G6<>"",IF(G6>H6,1)) -> FALSE | EL6: =IF(H6<>"",IF(H6>G6,1)) -> FALSE | EM6: =IF(G6<>"",IF(G6=H6,1)) -> FALSE | EN6: =IF(H6<>"",IF(H6=G6,1)) -> FALSE | EO6: =IF(G6<>"",IF(G6<H6,1)) -> FALSE | EP6: =IF(H6<>"",IF(H6<G6,1)) -> FALSE | EQ6: =G6 -> 0 | ER6: =H6 -> 0 | ES6: =H6 -> 0 | ET6: =G6 -> 0 | EU6: =VLOOKUP(BR6,$BS$5:$CB$13,6,0) -> Equipe 02 | EZ6: =VLOOKUP(EU6,$BX$5:$DW$13,52,0) -> 0 | FA6: =RANK(EZ6,$EZ$5:$EZ$13) -> 1 | FB6: =BX6 -> Equipe 02 | FG6: =VLOOKUP(BT6,$BU$5:$CS$13,21,0) -> Equipe 02 | FL6: =VLOOKUP(FG6,$CO$5:$DY$13,37,0) -> 0 | FM6: =RANK(FL6,$FL$5:$FL$13) -> 1 | FN6: =CO6 -> Equipe 02 | FS6: =VLOOKUP(BV6,$BW$5:$DF$13,36,0) -> Equipe 02 | FX6: =VLOOKUP(FS6,$DF$5:$EA$21,22,0) -> 0 | FY6: =RANK(FX6,$FX$5:$FX$13) -> 1 | FZ6: =DF6 -> Equipe 02 | GE6: =BX6 -> Equipe 02
V7: =VLOOKUP(BR7,$BS$5:$CB$21,6,0) -> Equipe 03 | AA7: =VLOOKUP(V7,$BX$5:$CN$19,7,0) -> 0 | AB7: =VLOOKUP(V7,$BX$5:$CN$19,8,0) -> u | AC7: =IF(EZ7=EZ6,FA6,FA7) -> 1 | AD7: =VLOOKUP(V7,$BX$5:$CN$19,10,0) -> 0 | AE7: =VLOOKUP(V7,$BX$5:$CN$19,11,0) -> 0 | AF7: =VLOOKUP(V7,$BX$5:$CN$19,12,0) -> 0 | AG7: =VLOOKUP(V7,$BX$5:$CN$19,13,0) -> 0 | AH7: =VLOOKUP(V7,$BX$5:$CN$19,14,0) -> 0 | AI7: =VLOOKUP(V7,$BX$5:$CN$19,15,0) -> 0 | AJ7: =VLOOKUP(V7,$BX$5:$CN$19,16,0) -> 0 | AK7: =VLOOKUP(V7,$BX$5:$CN$19,17,0) -> 0 | AL7: =VLOOKUP(BT7,$BU$5:$CS$21,4,0) -> Equipe 03 | AQ7: =VLOOKUP(AL7,$CO$5:$DE$19,7,0) -> 0 | AR7: =VLOOKUP(AL7,$CO$5:$DE$19,8,0) -> u | AS7: =IF(FL7=FL6,FM6,FM7) -> 1 | AT7: =VLOOKUP(AL7,$CO$5:$DE$19,10,0) -> 0 | AU7: =VLOOKUP(AL7,$CO$5:$DE$19,11,0) -> 0 | AV7: =VLOOKUP(AL7,$CO$5:$DE$19,12,0) -> 0 | AW7: =VLOOKUP(AL7,$CO$5:$DE$19,13,0) -> 0 | AX7: =VLOOKUP(AL7,$CO$5:$DE$19,14,0) -> 0 | AY7: =VLOOKUP(AL7,$CO$5:$DE$19,15,0) -> 0 | AZ7: =VLOOKUP(AL7,$CO$5:$DE$19,16,0) -> 0 | BA7: =VLOOKUP(AL7,$CO$5:$DE$19,17,0) -> 0 | BB7: =VLOOKUP(BV7,$BW$5:$DF$21,2,0) -> Equipe 03 | BG7: =VLOOKUP(BB7,$DF$5:$DV$19,7,0) -> 0 | BH7: =VLOOKUP(BB7,$DF$5:$DV$19,8,0) -> u | BI7: =IF(FX7=FX6,FY6,FY7) -> 1 | BJ7: =VLOOKUP(BB7,$DF$5:$DV$19,10,0) -> 0 | BK7: =VLOOKUP(BB7,$DF$5:$DV$19,11,0) -> 0 | BL7: =VLOOKUP(BB7,$DF$5:$DV$19,12,0) -> 0 | BM7: =VLOOKUP(BB7,$DF$5:$DV$19,13,0) -> 0 | BN7: =VLOOKUP(BB7,$DF$5:$DV$19,14,0) -> 0 | BO7: =VLOOKUP(BB7,$DF$5:$DV$19,15,0) -> 0 | BP7: =VLOOKUP(BB7,$DF$5:$DV$19,16,0) -> 0 | BQ7: =VLOOKUP(BB7,$DF$5:$DV$19,17,0) -> 0 | BR7: 3 | BS7: =CF7 -> 3 | BT7: 3 | BU7: =CW7 -> 3 | BV7: 3 | BW7: =DN7 -> 3 | BX7: =Equipes!A4 -> Equipe 03 | CC7: =RANK(DW7,$DW$5:$DW$19) -> 1 | CD7: ='J03'!CC7-CC7 -> 0 | CE7: =IF(CC7>'J03'!CC7,'J03'!$CE$14,IF(CC7='J03'!CC7,'J03'!$CU$14,IF(CC7<'J03'!CC7,'J03'!$CT$14))) -> u | CF7: =RANK(DX7,$DX$5:$DX$13) -> 3 | CG7: =SUMPRODUCT(($B$5:$F$13=BX7)*($EG$5:$EG$13))+SUMPRODUCT(($I$5:$M$13=BX7)*($EH$5:$EH$13))+'J03'!CG7 -> 0 | CH7: =SUMPRODUCT(($B$5:$F$13=BX7)*($EI$5:$EI$13))+SUMPRODUCT(($I$5:$M$13=BX7)*($EJ$5:$EJ$13))+'J03'!CH7 -> 0 | CI7: =SUMPRODUCT(($B$5:$F$13=BX7)*($EK$5:$EK$13))+SUMPRODUCT(($I$5:$M$13=BX7)*($EL$5:$EL$13))+'J03'!CI7 -> 0 | CJ7: =SUMPRODUCT(($B$5:$F$13=BX7)*($EM$5:$EM$13))+SUMPRODUCT(($I$5:$M$13=BX7)*($EN$5:$EN$13))+'J03'!CJ7 -> 0 | CK7: =SUMPRODUCT(($B$5:$F$13=BX7)*($EO$5:$EO$13))+SUMPRODUCT(($I$5:$M$13=BX7)*($EP$5:$EP$13))+'J03'!CK7 -> 0 | CL7: =SUMPRODUCT(($B$5:$F$13=BX7)*($EQ$5:$EQ$13))+SUMPRODUCT(($I$5:$M$13=BX7)*($ER$5:$ER$13))+'J03'!CL7 -> 0 | CM7: =SUMPRODUCT(($B$5:$F$13=BX7)*($ES$5:$ES$13))+SUMPRODUCT(($I$5:$M$13=BX7)*($ET$5:$ET$13))+'J03'!CM7 -> 0 | CN7: =CL7-CM7 -> 0 | CO7: =BX7 -> Equipe 03 | CT7: =RANK(DY7,$DY$5:$DY$19) -> 1 | CU7: ='J03'!CT7-CT7 -> 0 | CV7: =IF(CT7>'J03'!CT7,'J03'!$CV$14,IF(CT7='J03'!CT7,'J03'!$CU$14,IF(CT7<'J03'!CT7,'J03'!$CT$14))) -> u | CW7: =RANK(DZ7,$DZ$5:$DZ$19) -> 3 | CX7: =SUMPRODUCT(($B$5:$F$13=CO7)*($EG$5:$EG$13))+'J03'!CX7 -> 0 | CY7: =SUMPRODUCT(($B$5:$F$13=CO7)*($EI$5:$EI$13))+'J03'!CY7 -> 0 | CZ7: =SUMPRODUCT(($B$5:$F$13=CO7)*($EK$5:$EK$13))+'J03'!CZ7 -> 0 | DA7: =SUMPRODUCT(($B$5:$F$13=CO7)*($EM$5:$EM$13))+'J03'!DA7 -> 0 | DB7: =SUMPRODUCT(($B$5:$F$13=CO7)*($EO$5:$EO$13))+'J03'!DB7 -> 0 | DC7: =SUMPRODUCT(($B$5:$F$13=CO7)*($EQ$5:$EQ$13))+'J03'!DC7 -> 0 | DD7: =SUMPRODUCT(($B$5:$F$13=CO7)*($ES$5:$ES$13))+'J03'!DD7 -> 0 | DE7: =DC7-DD7 -> 0 | DF7: =BX7 -> Equipe 03 | DK7: =RANK(EA7,$EA$5:$EA$19) -> 1 | DL7: ='J03'!DK7-DK7 -> 0 | DM7: =IF(DK7>'J03'!DK7,'J03'!$DM$14,IF(DK7='J03'!DK7,'J03'!$DL$14,IF(DK7<'J03'!DK7,'J03'!$DK$14))) -> u | DN7: =RANK(EB7,$EB$5:$EB$19) -> 3 | DO7: =SUMPRODUCT(($I$5:$M$13=DF7)*($EH$5:$EH$13))+'J03'!DO7 -> 0 | DP7: =SUMPRODUCT(($I$5:$M$13=DF7)*($EJ$5:$EJ$13))+'J03'!DP7 -> 0 | DQ7: =SUMPRODUCT(($I$5:$M$13=DF7)*($EL$5:$EL$13))+'J03'!DQ7 -> 0 | DR7: =SUMPRODUCT(($I$5:$M$13=DF7)*($EN$5:$EN$13))+'J03'!DR7 -> 0 | DS7: =SUMPRODUCT(($I$5:$M$13=DF7)*($EP$5:$EP$13))+'J03'!DS7 -> 0 | DT7: =SUMPRODUCT(($I$5:$M$13=DF7)*($ER$5:$ER$13))+'J03'!DT7 -> 0 | DU7: =SUMPRODUCT(($I$5:$M$13=DF7)*($ET$5:$ET$13))+'J03'!DU7 -> 0 | DV7: =DT7-DU7 -> 0 | DW7: =SUM(CG7*1000+(CN7)/100+(CL7)/1000) -> 0 | DX7: =DW7+0.0000004 -> 4e-07 | DY7: =SUM(CX7*1000+(DE7)/100+(DC7)/1000) -> 0 | DZ7: =DY7+0.0000004 -> 4e-07 | EA7: =SUM(DO7*1000+(DV7)/100+(DT7)/1000) -> 0 | EB7: =EA7+0.0000004 -> 4e-07 | EC7: =A7 -> 0 | ED7: =N7 -> 0 | EE7: =IF(G7="",0,IF(G7>H7,3,IF(G7=H7,1,IF(G7<H7,0)))) -> 0 | EF7: =IF(H7="",0,IF(H7>G7,3,IF(H7=G7,1,IF(H7<G7,0)))) -> 0 | EG7: =EE7-EC7 -> 0 | EH7: =EF7-ED7 -> 0 | EI7: =IF(G7="",0,1) -> 0 | EJ7: =IF(H7="",0,1) -> 0 | EK7: =IF(G7<>"",IF(G7>H7,1)) -> FALSE | EL7: =IF(H7<>"",IF(H7>G7,1)) -> FALSE | EM7: =IF(G7<>"",IF(G7=H7,1)) -> FALSE | EN7: =IF(H7<>"",IF(H7=G7,1)) -> FALSE | EO7: =IF(G7<>"",IF(G7<H7,1)) -> FALSE | EP7: =IF(H7<>"",IF(H7<G7,1)) -> FALSE | EQ7: =G7 -> 0 | ER7: =H7 -> 0 | ES7: =H7 -> 0 | ET7: =G7 -> 0 | EU7: =VLOOKUP(BR7,$BS$5:$CB$13,6,0) -> Equipe 03 | EZ7: =VLOOKUP(EU7,$BX$5:$DW$13,52,0) -> 0 | FA7: =RANK(EZ7,$EZ$5:$EZ$13) -> 1 | FB7: =BX7 -> Equipe 03 | FG7: =VLOOKUP(BT7,$BU$5:$CS$13,21,0) -> Equipe 03 | FL7: =VLOOKUP(FG7,$CO$5:$DY$13,37,0) -> 0 | FM7: =RANK(FL7,$FL$5:$FL$13) -> 1 | FN7: =CO7 -> Equipe 03 | FS7: =VLOOKUP(BV7,$BW$5:$DF$13,36,0) -> Equipe 03 | FX7: =VLOOKUP(FS7,$DF$5:$EA$21,22,0) -> 0 | FY7: =RANK(FX7,$FX$5:$FX$13) -> 1 | FZ7: =DF7 -> Equipe 03 | GE7: =BX7 -> Equipe 03
V8: =VLOOKUP(BR8,$BS$5:$CB$21,6,0) -> Equipe 04 | AA8: =VLOOKUP(V8,$BX$5:$CN$19,7,0) -> 0 | AB8: =VLOOKUP(V8,$BX$5:$CN$19,8,0) -> u | AC8: =IF(EZ8=EZ7,FA7,FA8) -> 1 | AD8: =VLOOKUP(V8,$BX$5:$CN$19,10,0) -> 0 | AE8: =VLOOKUP(V8,$BX$5:$CN$19,11,0) -> 0 | AF8: =VLOOKUP(V8,$BX$5:$CN$19,12,0) -> 0 | AG8: =VLOOKUP(V8,$BX$5:$CN$19,13,0) -> 0 | AH8: =VLOOKUP(V8,$BX$5:$CN$19,14,0) -> 0 | AI8: =VLOOKUP(V8,$BX$5:$CN$19,15,0) -> 0 | AJ8: =VLOOKUP(V8,$BX$5:$CN$19,16,0) -> 0 | AK8: =VLOOKUP(V8,$BX$5:$CN$19,17,0) -> 0 | AL8: =VLOOKUP(BT8,$BU$5:$CS$21,4,0) -> Equipe 04 | AQ8: =VLOOKUP(AL8,$CO$5:$DE$19,7,0) -> 0 | AR8: =VLOOKUP(AL8,$CO$5:$DE$19,8,0) -> u | AS8: =IF(FL8=FL7,FM7,FM8) -> 1 | AT8: =VLOOKUP(AL8,$CO$5:$DE$19,10,0) -> 0 | AU8: =VLOOKUP(AL8,$CO$5:$DE$19,11,0) -> 0 | AV8: =VLOOKUP(AL8,$CO$5:$DE$19,12,0) -> 0 | AW8: =VLOOKUP(AL8,$CO$5:$DE$19,13,0) -> 0 | AX8: =VLOOKUP(AL8,$CO$5:$DE$19,14,0) -> 0 | AY8: =VLOOKUP(AL8,$CO$5:$DE$19,15,0) -> 0 | AZ8: =VLOOKUP(AL8,$CO$5:$DE$19,16,0) -> 0 | BA8: =VLOOKUP(AL8,$CO$5:$DE$19,17,0) -> 0 | BB8: =VLOOKUP(BV8,$BW$5:$DF$21,2,0) -> Equipe 04 | BG8: =VLOOKUP(BB8,$DF$5:$DV$19,7,0) -> 0 | BH8: =VLOOKUP(BB8,$DF$5:$DV$19,8,0) -> u | BI8: =IF(FX8=FX7,FY7,FY8) -> 1 | BJ8: =VLOOKUP(BB8,$DF$5:$DV$19,10,0) -> 0 | BK8: =VLOOKUP(BB8,$DF$5:$DV$19,11,0) -> 0 | BL8: =VLOOKUP(BB8,$DF$5:$DV$19,12,0) -> 0 | BM8: =VLOOKUP(BB8,$DF$5:$DV$19,13,0) -> 0 | BN8: =VLOOKUP(BB8,$DF$5:$DV$19,14,0) -> 0 | BO8: =VLOOKUP(BB8,$DF$5:$DV$19,15,0) -> 0 | BP8: =VLOOKUP(BB8,$DF$5:$DV$19,16,0) -> 0 | BQ8: =VLOOKUP(BB8,$DF$5:$DV$19,17,0) -> 0 | BR8: 4 | BS8: =CF8 -> 4 | BT8: 4 | BU8: =CW8 -> 4 | BV8: 4 | BW8: =DN8 -> 4 | BX8: =Equipes!A5 -> Equipe 04 | CC8: =RANK(DW8,$DW$5:$DW$19) -> 1 | CD8: ='J03'!CC8-CC8 -> 0 | CE8: =IF(CC8>'J03'!CC8,'J03'!$CE$14,IF(CC8='J03'!CC8,'J03'!$CU$14,IF(CC8<'J03'!CC8,'J03'!$CT$14))) -> u | CF8: =RANK(DX8,$DX$5:$DX$13) -> 4 | CG8: =SUMPRODUCT(($B$5:$F$13=BX8)*($EG$5:$EG$13))+SUMPRODUCT(($I$5:$M$13=BX8)*($EH$5:$EH$13))+'J03'!CG8 -> 0 | CH8: =SUMPRODUCT(($B$5:$F$13=BX8)*($EI$5:$EI$13))+SUMPRODUCT(($I$5:$M$13=BX8)*($EJ$5:$EJ$13))+'J03'!CH8 -> 0 | CI8: =SUMPRODUCT(($B$5:$F$13=BX8)*($EK$5:$EK$13))+SUMPRODUCT(($I$5:$M$13=BX8)*($EL$5:$EL$13))+'J03'!CI8 -> 0 | CJ8: =SUMPRODUCT(($B$5:$F$13=BX8)*($EM$5:$EM$13))+SUMPRODUCT(($I$5:$M$13=BX8)*($EN$5:$EN$13))+'J03'!CJ8 -> 0 | CK8: =SUMPRODUCT(($B$5:$F$13=BX8)*($EO$5:$EO$13))+SUMPRODUCT(($I$5:$M$13=BX8)*($EP$5:$EP$13))+'J03'!CK8 -> 0 | CL8: =SUMPRODUCT(($B$5:$F$13=BX8)*($EQ$5:$EQ$13))+SUMPRODUCT(($I$5:$M$13=BX8)*($ER$5:$ER$13))+'J03'!CL8 -> 0 | CM8: =SUMPRODUCT(($B$5:$F$13=BX8)*($ES$5:$ES$13))+SUMPRODUCT(($I$5:$M$13=BX8)*($ET$5:$ET$13))+'J03'!CM8 -> 0 | CN8: =CL8-CM8 -> 0 | CO8: =BX8 -> Equipe 04 | CT8: =RANK(DY8,$DY$5:$DY$19) -> 1 | CU8: ='J03'!CT8-CT8 -> 0 | CV8: =IF(CT8>'J03'!CT8,'J03'!$CV$14,IF(CT8='J03'!CT8,'J03'!$CU$14,IF(CT8<'J03'!CT8,'J03'!$CT$14))) -> u | CW8: =RANK(DZ8,$DZ$5:$DZ$19) -> 4 | CX8: =SUMPRODUCT(($B$5:$F$13=CO8)*($EG$5:$EG$13))+'J03'!CX8 -> 0 | CY8: =SUMPRODUCT(($B$5:$F$13=CO8)*($EI$5:$EI$13))+'J03'!CY8 -> 0 | CZ8: =SUMPRODUCT(($B$5:$F$13=CO8)*($EK$5:$EK$13))+'J03'!CZ8 -> 0 | DA8: =SUMPRODUCT(($B$5:$F$13=CO8)*($EM$5:$EM$13))+'J03'!DA8 -> 0 | DB8: =SUMPRODUCT(($B$5:$F$13=CO8)*($EO$5:$EO$13))+'J03'!DB8 -> 0 | DC8: =SUMPRODUCT(($B$5:$F$13=CO8)*($EQ$5:$EQ$13))+'J03'!DC8 -> 0 | DD8: =SUMPRODUCT(($B$5:$F$13=CO8)*($ES$5:$ES$13))+'J03'!DD8 -> 0 | DE8: =DC8-DD8 -> 0 | DF8: =BX8 -> Equipe 04 | DK8: =RANK(EA8,$EA$5:$EA$19) -> 1 | DL8: ='J03'!DK8-DK8 -> 0 | DM8: =IF(DK8>'J03'!DK8,'J03'!$DM$14,IF(DK8='J03'!DK8,'J03'!$DL$14,IF(DK8<'J03'!DK8,'J03'!$DK$14))) -> u | DN8: =RANK(EB8,$EB$5:$EB$19) -> 4 | DO8: =SUMPRODUCT(($I$5:$M$13=DF8)*($EH$5:$EH$13))+'J03'!DO8 -> 0 | DP8: =SUMPRODUCT(($I$5:$M$13=DF8)*($EJ$5:$EJ$13))+'J03'!DP8 -> 0 | DQ8: =SUMPRODUCT(($I$5:$M$13=DF8)*($EL$5:$EL$13))+'J03'!DQ8 -> 0 | DR8: =SUMPRODUCT(($I$5:$M$13=DF8)*($EN$5:$EN$13))+'J03'!DR8 -> 0 | DS8: =SUMPRODUCT(($I$5:$M$13=DF8)*($EP$5:$EP$13))+'J03'!DS8 -> 0 | DT8: =SUMPRODUCT(($I$5:$M$13=DF8)*($ER$5:$ER$13))+'J03'!DT8 -> 0 | DU8: =SUMPRODUCT(($I$5:$M$13=DF8)*($ET$5:$ET$13))+'J03'!DU8 -> 0 | DV8: =DT8-DU8 -> 0 | DW8: =SUM(CG8*1000+(CN8)/100+(CL8)/1000) -> 0 | DX8: =DW8+0.0000003 -> 3e-07 | DY8: =SUM(CX8*1000+(DE8)/100+(DC8)/1000) -> 0 | DZ8: =DY8+0.0000003 -> 3e-07 | EA8: =SUM(DO8*1000+(DV8)/100+(DT8)/1000) -> 0 | EB8: =EA8+0.0000003 -> 3e-07 | EU8: =VLOOKUP(BR8,$BS$5:$CB$13,6,0) -> Equipe 04 | EZ8: =VLOOKUP(EU8,$BX$5:$DW$13,52,0) -> 0 | FA8: =RANK(EZ8,$EZ$5:$EZ$13) -> 1 | FB8: =BX8 -> Equipe 04 | FG8: =VLOOKUP(BT8,$BU$5:$CS$13,21,0) -> Equipe 04 | FL8: =VLOOKUP(FG8,$CO$5:$DY$13,37,0) -> 0 | FM8: =RANK(FL8,$FL$5:$FL$13) -> 1 | FN8: =CO8 -> Equipe 04 | FS8: =VLOOKUP(BV8,$BW$5:$DF$13,36,0) -> Equipe 04 | FX8: =VLOOKUP(FS8,$DF$5:$EA$21,22,0) -> 0 | FY8: =RANK(FX8,$FX$5:$FX$13) -> 1 | FZ8: =DF8 -> Equipe 04 | GE8: =BX8 -> Equipe 04
V9: =VLOOKUP(BR9,$BS$5:$CB$21,6,0) -> Equipe 05 | AA9: =VLOOKUP(V9,$BX$5:$CN$19,7,0) -> 0 | AB9: =VLOOKUP(V9,$BX$5:$CN$19,8,0) -> u | AC9: =IF(EZ9=EZ8,FA8,FA9) -> 1 | AD9: =VLOOKUP(V9,$BX$5:$CN$19,10,0) -> 0 | AE9: =VLOOKUP(V9,$BX$5:$CN$19,11,0) -> 0 | AF9: =VLOOKUP(V9,$BX$5:$CN$19,12,0) -> 0 | AG9: =VLOOKUP(V9,$BX$5:$CN$19,13,0) -> 0 | AH9: =VLOOKUP(V9,$BX$5:$CN$19,14,0) -> 0 | AI9: =VLOOKUP(V9,$BX$5:$CN$19,15,0) -> 0 | AJ9: =VLOOKUP(V9,$BX$5:$CN$19,16,0) -> 0 | AK9: =VLOOKUP(V9,$BX$5:$CN$19,17,0) -> 0 | AL9: =VLOOKUP(BT9,$BU$5:$CS$21,4,0) -> Equipe 05 | AQ9: =VLOOKUP(AL9,$CO$5:$DE$19,7,0) -> 0 | AR9: =VLOOKUP(AL9,$CO$5:$DE$19,8,0) -> u | AS9: =IF(FL9=FL8,FM8,FM9) -> 1 | AT9: =VLOOKUP(AL9,$CO$5:$DE$19,10,0) -> 0 | AU9: =VLOOKUP(AL9,$CO$5:$DE$19,11,0) -> 0 | AV9: =VLOOKUP(AL9,$CO$5:$DE$19,12,0) -> 0 | AW9: =VLOOKUP(AL9,$CO$5:$DE$19,13,0) -> 0 | AX9: =VLOOKUP(AL9,$CO$5:$DE$19,14,0) -> 0 | AY9: =VLOOKUP(AL9,$CO$5:$DE$19,15,0) -> 0 | AZ9: =VLOOKUP(AL9,$CO$5:$DE$19,16,0) -> 0 | BA9: =VLOOKUP(AL9,$CO$5:$DE$19,17,0) -> 0 | BB9: =VLOOKUP(BV9,$BW$5:$DF$21,2,0) -> Equipe 05 | BG9: =VLOOKUP(BB9,$DF$5:$DV$19,7,0) -> 0 | BH9: =VLOOKUP(BB9,$DF$5:$DV$19,8,0) -> u | BI9: =IF(FX9=FX8,FY8,FY9) -> 1 | BJ9: =VLOOKUP(BB9,$DF$5:$DV$19,10,0) -> 0 | BK9: =VLOOKUP(BB9,$DF$5:$DV$19,11,0) -> 0 | BL9: =VLOOKUP(BB9,$DF$5:$DV$19,12,0) -> 0 | BM9: =VLOOKUP(BB9,$DF$5:$DV$19,13,0) -> 0 | BN9: =VLOOKUP(BB9,$DF$5:$DV$19,14,0) -> 0 | BO9: =VLOOKUP(BB9,$DF$5:$DV$19,15,0) -> 0 | BP9: =VLOOKUP(BB9,$DF$5:$DV$19,16,0) -> 0 | BQ9: =VLOOKUP(BB9,$DF$5:$DV$19,17,0) -> 0 | BR9: 5 | BS9: =CF9 -> 5 | BT9: 5 | BU9: =CW9 -> 5 | BV9: 5 | BW9: =DN9 -> 5 | BX9: =Equipes!A6 -> Equipe 05 | CC9: =RANK(DW9,$DW$5:$DW$19) -> 1 | CD9: ='J03'!CC9-CC9 -> 0 | CE9: =IF(CC9>'J03'!CC9,'J03'!$CE$14,IF(CC9='J03'!CC9,'J03'!$CU$14,IF(CC9<'J03'!CC9,'J03'!$CT$14))) -> u | CF9: =RANK(DX9,$DX$5:$DX$13) -> 5 | CG9: =SUMPRODUCT(($B$5:$F$13=BX9)*($EG$5:$EG$13))+SUMPRODUCT(($I$5:$M$13=BX9)*($EH$5:$EH$13))+'J03'!CG9 -> 0 | CH9: =SUMPRODUCT(($B$5:$F$13=BX9)*($EI$5:$EI$13))+SUMPRODUCT(($I$5:$M$13=BX9)*($EJ$5:$EJ$13))+'J03'!CH9 -> 0 | CI9: =SUMPRODUCT(($B$5:$F$13=BX9)*($EK$5:$EK$13))+SUMPRODUCT(($I$5:$M$13=BX9)*($EL$5:$EL$13))+'J03'!CI9 -> 0 | CJ9: =SUMPRODUCT(($B$5:$F$13=BX9)*($EM$5:$EM$13))+SUMPRODUCT(($I$5:$M$13=BX9)*($EN$5:$EN$13))+'J03'!CJ9 -> 0 | CK9: =SUMPRODUCT(($B$5:$F$13=BX9)*($EO$5:$EO$13))+SUMPRODUCT(($I$5:$M$13=BX9)*($EP$5:$EP$13))+'J03'!CK9 -> 0 | CL9: =SUMPRODUCT(($B$5:$F$13=BX9)*($EQ$5:$EQ$13))+SUMPRODUCT(($I$5:$M$13=BX9)*($ER$5:$ER$13))+'J03'!CL9 -> 0 | CM9: =SUMPRODUCT(($B$5:$F$13=BX9)*($ES$5:$ES$13))+SUMPRODUCT(($I$5:$M$13=BX9)*($ET$5:$ET$13))+'J03'!CM9 -> 0 | CN9: =CL9-CM9 -> 0 | CO9: =BX9 -> Equipe 05 | CT9: =RANK(DY9,$DY$5:$DY$19) -> 1 | CU9: ='J03'!CT9-CT9 -> 0 | CV9: =IF(CT9>'J03'!CT9,'J03'!$CV$14,IF(CT9='J03'!CT9,'J03'!$CU$14,IF(CT9<'J03'!CT9,'J03'!$CT$14))) -> u | CW9: =RANK(DZ9,$DZ$5:$DZ$19) -> 5 | CX9: =SUMPRODUCT(($B$5:$F$13=CO9)*($EG$5:$EG$13))+'J03'!CX9 -> 0 | CY9: =SUMPRODUCT(($B$5:$F$13=CO9)*($EI$5:$EI$13))+'J03'!CY9 -> 0 | CZ9: =SUMPRODUCT(($B$5:$F$13=CO9)*($EK$5:$EK$13))+'J03'!CZ9 -> 0 | DA9: =SUMPRODUCT(($B$5:$F$13=CO9)*($EM$5:$EM$13))+'J03'!DA9 -> 0 | DB9: =SUMPRODUCT(($B$5:$F$13=CO9)*($EO$5:$EO$13))+'J03'!DB9 -> 0 | DC9: =SUMPRODUCT(($B$5:$F$13=CO9)*($EQ$5:$EQ$13))+'J03'!DC9 -> 0 | DD9: =SUMPRODUCT(($B$5:$F$13=CO9)*($ES$5:$ES$13))+'J03'!DD9 -> 0 | DE9: =DC9-DD9 -> 0 | DF9: =BX9 -> Equipe 05 | DK9: =RANK(EA9,$EA$5:$EA$19) -> 1 | DL9: ='J03'!DK9-DK9 -> 0 | DM9: =IF(DK9>'J03'!DK9,'J03'!$DM$14,IF(DK9='J03'!DK9,'J03'!$DL$14,IF(DK9<'J03'!DK9,'J03'!$DK$14))) -> u | DN9: =RANK(EB9,$EB$5:$EB$19) -> 5 | DO9: =SUMPRODUCT(($I$5:$M$13=DF9)*($EH$5:$EH$13))+'J03'!DO9 -> 0 | DP9: =SUMPRODUCT(($I$5:$M$13=DF9)*($EJ$5:$EJ$13))+'J03'!DP9 -> 0 | DQ9: =SUMPRODUCT(($I$5:$M$13=DF9)*($EL$5:$EL$13))+'J03'!DQ9 -> 0 | DR9: =SUMPRODUCT(($I$5:$M$13=DF9)*($EN$5:$EN$13))+'J03'!DR9 -> 0 | DS9: =SUMPRODUCT(($I$5:$M$13=DF9)*($EP$5:$EP$13))+'J03'!DS9 -> 0 | DT9: =SUMPRODUCT(($I$5:$M$13=DF9)*($ER$5:$ER$13))+'J03'!DT9 -> 0 | DU9: =SUMPRODUCT(($I$5:$M$13=DF9)*($ET$5:$ET$13))+'J03'!DU9 -> 0 | DV9: =DT9-DU9 -> 0 | DW9: =SUM(CG9*1000+(CN9)/100+(CL9)/1000) -> 0 | DX9: =DW9+0.0000002 -> 2e-07 | DY9: =SUM(CX9*1000+(DE9)/100+(DC9)/1000) -> 0 | DZ9: =DY9+0.0000002 -> 2e-07 | EA9: =SUM(DO9*1000+(DV9)/100+(DT9)/1000) -> 0 | EB9: =EA9+0.0000002 -> 2e-07 | EU9: =VLOOKUP(BR9,$BS$5:$CB$13,6,0) -> Equipe 05 | EZ9: =VLOOKUP(EU9,$BX$5:$DW$13,52,0) -> 0 | FA9: =RANK(EZ9,$EZ$5:$EZ$13) -> 1 | FB9: =BX9 -> Equipe 05 | FG9: =VLOOKUP(BT9,$BU$5:$CS$13,21,0) -> Equipe 05 | FL9: =VLOOKUP(FG9,$CO$5:$DY$13,37,0) -> 0 | FM9: =RANK(FL9,$FL$5:$FL$13) -> 1 | FN9: =CO9 -> Equipe 05 | FS9: =VLOOKUP(BV9,$BW$5:$DF$13,36,0) -> Equipe 05 | FX9: =VLOOKUP(FS9,$DF$5:$EA$21,22,0) -> 0 | FY9: =RANK(FX9,$FX$5:$FX$13) -> 1 | FZ9: =DF9 -> Equipe 05 | GE9: =BX9 -> Equipe 05
V10: =VLOOKUP(BR10,$BS$5:$CB$21,6,0) -> Equipe 06 | AA10: =VLOOKUP(V10,$BX$5:$CN$19,7,0) -> 0 | AB10: =VLOOKUP(V10,$BX$5:$CN$19,8,0) -> u | AC10: =IF(EZ10=EZ9,FA9,FA10) -> 1 | AD10: =VLOOKUP(V10,$BX$5:$CN$19,10,0) -> 0 | AE10: =VLOOKUP(V10,$BX$5:$CN$19,11,0) -> 0 | AF10: =VLOOKUP(V10,$BX$5:$CN$19,12,0) -> 0 | AG10: =VLOOKUP(V10,$BX$5:$CN$19,13,0) -> 0 | AH10: =VLOOKUP(V10,$BX$5:$CN$19,14,0) -> 0 | AI10: =VLOOKUP(V10,$BX$5:$CN$19,15,0) -> 0 | AJ10: =VLOOKUP(V10,$BX$5:$CN$19,16,0) -> 0 | AK10: =VLOOKUP(V10,$BX$5:$CN$19,17,0) -> 0 | AL10: =VLOOKUP(BT10,$BU$5:$CS$21,4,0) -> Equipe 06 | AQ10: =VLOOKUP(AL10,$CO$5:$DE$19,7,0) -> 0 | AR10: =VLOOKUP(AL10,$CO$5:$DE$19,8,0) -> u | AS10: =IF(FL10=FL9,FM9,FM10) -> 1 | AT10: =VLOOKUP(AL10,$CO$5:$DE$19,10,0) -> 0 | AU10: =VLOOKUP(AL10,$CO$5:$DE$19,11,0) -> 0 | AV10: =VLOOKUP(AL10,$CO$5:$DE$19,12,0) -> 0 | AW10: =VLOOKUP(AL10,$CO$5:$DE$19,13,0) -> 0 | AX10: =VLOOKUP(AL10,$CO$5:$DE$19,14,0) -> 0 | AY10: =VLOOKUP(AL10,$CO$5:$DE$19,15,0) -> 0 | AZ10: =VLOOKUP(AL10,$CO$5:$DE$19,16,0) -> 0 | BA10: =VLOOKUP(AL10,$CO$5:$DE$19,17,0) -> 0 | BB10: =VLOOKUP(BV10,$BW$5:$DF$21,2,0) -> Equipe 06 | BG10: =VLOOKUP(BB10,$DF$5:$DV$19,7,0) -> 0 | BH10: =VLOOKUP(BB10,$DF$5:$DV$19,8,0) -> u | BI10: =IF(FX10=FX9,FY9,FY10) -> 1 | BJ10: =VLOOKUP(BB10,$DF$5:$DV$19,10,0) -> 0 | BK10: =VLOOKUP(BB10,$DF$5:$DV$19,11,0) -> 0 | BL10: =VLOOKUP(BB10,$DF$5:$DV$19,12,0) -> 0 | BM10: =VLOOKUP(BB10,$DF$5:$DV$19,13,0) -> 0 | BN10: =VLOOKUP(BB10,$DF$5:$DV$19,14,0) -> 0 | BO10: =VLOOKUP(BB10,$DF$5:$DV$19,15,0) -> 0 | BP10: =VLOOKUP(BB10,$DF$5:$DV$19,16,0) -> 0 | BQ10: =VLOOKUP(BB10,$DF$5:$DV$19,17,0) -> 0 | BR10: 6 | BS10: =CF10 -> 6 | BT10: 6 | BU10: =CW10 -> 6 | BV10: 6 | BW10: =DN10 -> 6 | BX10: =Equipes!A7 -> Equipe 06 | CC10: =RANK(DW10,$DW$5:$DW$19) -> 1 | CD10: ='J03'!CC10-CC10 -> 0 | CE10: =IF(CC10>'J03'!CC10,'J03'!$CE$14,IF(CC10='J03'!CC10,'J03'!$CU$14,IF(CC10<'J03'!CC10,'J03'!$CT$14))) -> u | CF10: =RANK(DX10,$DX$5:$DX$13) -> 6 | CG10: =SUMPRODUCT(($B$5:$F$13=BX10)*($EG$5:$EG$13))+SUMPRODUCT(($I$5:$M$13=BX10)*($EH$5:$EH$13))+'J03'!CG10 -> 0 | CH10: =SUMPRODUCT(($B$5:$F$13=BX10)*($EI$5:$EI$13))+SUMPRODUCT(($I$5:$M$13=BX10)*($EJ$5:$EJ$13))+'J03'!CH10 -> 0 | CI10: =SUMPRODUCT(($B$5:$F$13=BX10)*($EK$5:$EK$13))+SUMPRODUCT(($I$5:$M$13=BX10)*($EL$5:$EL$13))+'J03'!CI10 -> 0 | CJ10: =SUMPRODUCT(($B$5:$F$13=BX10)*($EM$5:$EM$13))+SUMPRODUCT(($I$5:$M$13=BX10)*($EN$5:$EN$13))+'J03'!CJ10 -> 0 | CK10: =SUMPRODUCT(($B$5:$F$13=BX10)*($EO$5:$EO$13))+SUMPRODUCT(($I$5:$M$13=BX10)*($EP$5:$EP$13))+'J03'!CK10 -> 0 | CL10: =SUMPRODUCT(($B$5:$F$13=BX10)*($EQ$5:$EQ$13))+SUMPRODUCT(($I$5:$M$13=BX10)*($ER$5:$ER$13))+'J03'!CL10 -> 0 | CM10: =SUMPRODUCT(($B$5:$F$13=BX10)*($ES$5:$ES$13))+SUMPRODUCT(($I$5:$M$13=BX10)*($ET$5:$ET$13))+'J03'!CM10 -> 0 | CN10: =CL10-CM10 -> 0 | CO10: =BX10 -> Equipe 06 | CT10: =RANK(DY10,$DY$5:$DY$19) -> 1 | CU10: ='J03'!CT10-CT10 -> 0 | CV10: =IF(CT10>'J03'!CT10,'J03'!$CV$14,IF(CT10='J03'!CT10,'J03'!$CU$14,IF(CT10<'J03'!CT10,'J03'!$CT$14))) -> u | CW10: =RANK(DZ10,$DZ$5:$DZ$19) -> 6 | CX10: =SUMPRODUCT(($B$5:$F$13=CO10)*($EG$5:$EG$13))+'J03'!CX10 -> 0 | CY10: =SUMPRODUCT(($B$5:$F$13=CO10)*($EI$5:$EI$13))+'J03'!CY10 -> 0 | CZ10: =SUMPRODUCT(($B$5:$F$13=CO10)*($EK$5:$EK$13))+'J03'!CZ10 -> 0 | DA10: =SUMPRODUCT(($B$5:$F$13=CO10)*($EM$5:$EM$13))+'J03'!DA10 -> 0 | DB10: =SUMPRODUCT(($B$5:$F$13=CO10)*($EO$5:$EO$13))+'J03'!DB10 -> 0 | DC10: =SUMPRODUCT(($B$5:$F$13=CO10)*($EQ$5:$EQ$13))+'J03'!DC10 -> 0 | DD10: =SUMPRODUCT(($B$5:$F$13=CO10)*($ES$5:$ES$13))+'J03'!DD10 -> 0 | DE10: =DC10-DD10 -> 0 | DF10: =BX10 -> Equipe 06 | DK10: =RANK(EA10,$EA$5:$EA$19) -> 1 | DL10: ='J03'!DK10-DK10 -> 0 | DM10: =IF(DK10>'J03'!DK10,'J03'!$DM$14,IF(DK10='J03'!DK10,'J03'!$DL$14,IF(DK10<'J03'!DK10,'J03'!$DK$14))) -> u | DN10: =RANK(EB10,$EB$5:$EB$19) -> 6 | DO10: =SUMPRODUCT(($I$5:$M$13=DF10)*($EH$5:$EH$13))+'J03'!DO10 -> 0 | DP10: =SUMPRODUCT(($I$5:$M$13=DF10)*($EJ$5:$EJ$13))+'J03'!DP10 -> 0 | DQ10: =SUMPRODUCT(($I$5:$M$13=DF10)*($EL$5:$EL$13))+'J03'!DQ10 -> 0 | DR10: =SUMPRODUCT(($I$5:$M$13=DF10)*($EN$5:$EN$13))+'J03'!DR10 -> 0 | DS10: =SUMPRODUCT(($I$5:$M$13=DF10)*($EP$5:$EP$13))+'J03'!DS10 -> 0 | DT10: =SUMPRODUCT(($I$5:$M$13=DF10)*($ER$5:$ER$13))+'J03'!DT10 -> 0 | DU10: =SUMPRODUCT(($I$5:$M$13=DF10)*($ET$5:$ET$13))+'J03'!DU10 -> 0 | DV10: =DT10-DU10 -> 0 | DW10: =SUM(CG10*1000+(CN10)/100+(CL10)/1000) -> 0 | DX10: =DW10+0.0000001 -> 1e-07 | DY10: =SUM(CX10*1000+(DE10)/100+(DC10)/1000) -> 0 | DZ10: =DY10+0.0000001 -> 1e-07 | EA10: =SUM(DO10*1000+(DV10)/100+(DT10)/1000) -> 0 | EB10: =EA10+0.0000001 -> 1e-07 | EU10: =VLOOKUP(BR10,$BS$5:$CB$13,6,0) -> Equipe 06 | EZ10: =VLOOKUP(EU10,$BX$5:$DW$13,52,0) -> 0 | FA10: =RANK(EZ10,$EZ$5:$EZ$13) -> 1 | FB10: =BX10 -> Equipe 06 | FG10: =VLOOKUP(BT10,$BU$5:$CS$13,21,0) -> Equipe 06 | FL10: =VLOOKUP(FG10,$CO$5:$DY$13,37,0) -> 0 | FM10: =RANK(FL10,$FL$5:$FL$13) -> 1 | FN10: =CO10 -> Equipe 06 | FS10: =VLOOKUP(BV10,$BW$5:$DF$13,36,0) -> Equipe 06 | FX10: =VLOOKUP(FS10,$DF$5:$EA$21,22,0) -> 0 | FY10: =RANK(FX10,$FX$5:$FX$13) -> 1 | FZ10: =DF10 -> Equipe 06 | GE10: =BX10 -> Equipe 06
AE13: Total des buts de la journée | AI13: =SUM(G5:H13) -> 0 | CC13: p | CD13: u | CE13: q | CT13: p | CU13: u | CV13: q | DK13: p | DL13: u | DM13: q
CC14: p | CD14: u | CE14: q | CT14: p | CU14: u | CV14: q | DK14: p | DL14: u | DM14: q
AE15: Total des buts du Championnat | AI15: =AI13+'J03'!AI15:AK16 -> 0
AE17: Moyenne générale du Championnat | AI17: =IF(AE5=0,"",SUM(AI5:AI12)/SUM(AE5:AE12)*2)

Sheet J05
A1: ='J01'!A1:H2 -> Nom du championnat | I1: ='J01'!I1:N2 -> 2017 - 2018 | O1: Journée 05 | V1: CLASSEMENT GENERAL | AL1: CLASSEMENT DOMICILE | BB1: CLASSEMENT EXTERIEUR | BX1: CLASSEMENT GENERAL | CO1: DOMICILE | DF1: EXTERIEUR | DW1: GENERAL | DY1: DOMICILE | EA1: EXTERIEUR | EC1: Dom. | ED1: Ext. | EE1: Dom. | EF1: Ext. | EG1: Dom. | EH1: Ext. | EI1: Dom. | EJ1: Ext. | EK1: Dom. | EL1: Ext. | EM1: Dom. | EN1: Ext. | EO1: Dom. | EP1: Ext. | EQ1: Dom. | ER1: Ext. | ES1: Dom. | ET1: Ext. | EU1: GENERAL | FG1: DOMICILE | FS1: EXTERIEUR
A3: P | B3: Equipes | G3: Buts | H3: Buts | I3: Equipes | N3: P | O3: Date | S3: Heure | V3: Equipes | AA3: Evolution | AC3: Place | AD3: Pts | AE3: J | AF3: G | AG3: N | AH3: P | AI3: B + | AJ3: B - | AK3: Diff. | AL3: Equipes | AQ3: Evolution | AS3: Place | AT3: Pts | AU3: J | AV3: G | AW3: N | AX3: P | AY3: B + | AZ3: B - | BA3: Diff. | BB3: Equipes | BG3: Evolution | BI3: Place | BJ3: Pts | BK3: J | BL3: G | BM3: N | BN3: P | BO3: B + | BP3: B - | BQ3: Diff. | BR3: R Général | BT3: R Domicile | BV3: R Extérieur | BX3: Equipes | CC3: R | CD3: Evolution | CF3: Place | CG3: Pts | CH3: J | CI3: G | CJ3: N | CK3: P | CL3: B + | CM3: B - | CN3: Diff. | CO3: Equipes | CT3: R | CU3: Evolution | CW3: Place | CX3: Pts | CY3: J | CZ3: G | DA3: N | DB3: P | DC3: B + | DD3: B - | DE3: Diff. | DF3: Equipes | DK3: R | DL3: Evolution | DN3: Place | DO3: Pts | DP3: J | DQ3: G | DR3: N | DS3: P | DT3: B + | DU3: B - | DV3: Diff. | DW3: % | DX3: % | DY3: % | DZ3: % | EA3: % | EB3: % | EC3: P | ED3: P | EE3: Pts | EF3: Pts | EG3: T Pts | EH3: T Pts | EI3: J | EJ3: J | EK3: G | EL3: G | EM3: N | EN3: N | EO3: P | EP3: P | EQ3: B + | ER3: B + | ES3: B - | ET3: B - | EU3: Equipes | EZ3: % | FA3: R | FB3: Equipes | FG3: Equipes | FL3: % | FM3: R | FN3: Equipes | FS3: Equipes | FX3: % | FY3: R | FZ3: Equipes
V5: =VLOOKUP(BR5,$BS$5:$CB$21,6,0) -> Equipe 01 | AA5: =VLOOKUP(V5,$BX$5:$CN$19,7,0) -> 0 | AB5: =VLOOKUP(V5,$BX$5:$CN$19,8,0) -> u | AC5: 1 | AD5: =VLOOKUP(V5,$BX$5:$CN$19,10,0) -> 0 | AE5: =VLOOKUP(V5,$BX$5:$CN$19,11,0) -> 0 | AF5: =VLOOKUP(V5,$BX$5:$CN$19,12,0) -> 0 | AG5: =VLOOKUP(V5,$BX$5:$CN$19,13,0) -> 0 | AH5: =VLOOKUP(V5,$BX$5:$CN$19,14,0) -> 0 | AI5: =VLOOKUP(V5,$BX$5:$CN$19,15,0) -> 0 | AJ5: =VLOOKUP(V5,$BX$5:$CN$19,16,0) -> 0 | AK5: =VLOOKUP(V5,$BX$5:$CN$19,17,0) -> 0 | AL5: =VLOOKUP(BT5,$BU$5:$CS$21,4,0) -> Equipe 01 | AQ5: =VLOOKUP(AL5,$CO$5:$DE$19,7,0) -> 0 | AR5: =VLOOKUP(AL5,$CO$5:$DE$19,8,0) -> u | AS5: 1 | AT5: =VLOOKUP(AL5,$CO$5:$DE$19,10,0) -> 0 | AU5: =VLOOKUP(AL5,$CO$5:$DE$19,11,0) -> 0 | AV5: =VLOOKUP(AL5,$CO$5:$DE$19,12,0) -> 0 | AW5: =VLOOKUP(AL5,$CO$5:$DE$19,13,0) -> 0 | AX5: =VLOOKUP(AL5,$CO$5:$DE$19,14,0) -> 0 | AY5: =VLOOKUP(AL5,$CO$5:$DE$19,15,0) -> 0 | AZ5: =VLOOKUP(AL5,$CO$5:$DE$19,16,0) -> 0 | BA5: =VLOOKUP(AL5,$CO$5:$DE$19,17,0) -> 0 | BB5: =VLOOKUP(BV5,$BW$5:$DF$21,2,0) -> Equipe 01 | BG5: =VLOOKUP(BB5,$DF$5:$DV$19,7,0) -> 0 | BH5: =VLOOKUP(BB5,$DF$5:$DV$19,8,0) -> u | BI5: 1 | BJ5: =VLOOKUP(BB5,$DF$5:$DV$19,10,0) -> 0 | BK5: =VLOOKUP(BB5,$DF$5:$DV$19,11,0) -> 0 | BL5: =VLOOKUP(BB5,$DF$5:$DV$19,12,0) -> 0 | BM5: =VLOOKUP(BB5,$DF$5:$DV$19,13,0) -> 0 | BN5: =VLOOKUP(BB5,$DF$5:$DV$19,14,0) -> 0 | BO5: =VLOOKUP(BB5,$DF$5:$DV$19,15,0) -> 0 | BP5: =VLOOKUP(BB5,$DF$5:$DV$19,16,0) -> 0 | BQ5: =VLOOKUP(BB5,$DF$5:$DV$19,17,0) -> 0 | BR5: 1 | BS5: =CF5 -> 1 | BT5: 1 | BU5: =CW5 -> 1 | BV5: 1 | BW5: =DN5 -> 1 | BX5: =Equipes!A2 -> Equipe 01 | CC5: =RANK(DW5,$DW$5:$DW$19) -> 1 | CD5: ='J04'!CC5-CC5 -> 0 | CE5: =IF(CC5>'J04'!CC5,'J04'!$CE$14,IF(CC5='J04'!CC5,'J04'!$CU$14,IF(CC5<'J04'!CC5,'J04'!$CT$14))) -> u | CF5: =RANK(DX5,$DX$5:$DX$13) -> 1 | CG5: =SUMPRODUCT(($B$5:$F$13=BX5)*($EG$5:$EG$13))+SUMPRODUCT(($I$5:$M$13=BX5)*($EH$5:$EH$13))+'J04'!CG5 -> 0 | CH5: =SUMPRODUCT(($B$5:$F$13=BX5)*($EI$5:$EI$13))+SUMPRODUCT(($I$5:$M$13=BX5)*($EJ$5:$EJ$13))+'J04'!CH5 -> 0 | CI5: =SUMPRODUCT(($B$5:$F$13=BX5)*($EK$5:$EK$13))+SUMPRODUCT(($I$5:$M$13=BX5)*($EL$5:$EL$13))+'J04'!CI5 -> 0 | CJ5: =SUMPRODUCT(($B$5:$F$13=BX5)*($EM$5:$EM$13))+SUMPRODUCT(($I$5:$M$13=BX5)*($EN$5:$EN$13))+'J04'!CJ5 -> 0 | CK5: =SUMPRODUCT(($B$5:$F$13=BX5)*($EO$5:$EO$13))+SUMPRODUCT(($I$5:$M$13=BX5)*($EP$5:$EP$13))+'J04'!CK5 -> 0 | CL5: =SUMPRODUCT(($B$5:$F$13=BX5)*($EQ$5:$EQ$13))+SUMPRODUCT(($I$5:$M$13=BX5)*($ER$5:$ER$13))+'J04'!CL5 -> 0 | CM5: =SUMPRODUCT(($B$5:$F$13=BX5)*($ES$5:$ES$13))+SUMPRODUCT(($I$5:$M$13=BX5)*($ET$5:$ET$13))+'J04'!CM5 -> 0 | CN5: =CL5-CM5 -> 0 | CO5: =BX5 -> Equipe 01 | CT5: =RANK(DY5,$DY$5:$DY$19) -> 1 | CU5: ='J04'!CT5-CT5 -> 0 | CV5: =IF(CT5>'J04'!CT5,'J04'!$CV$14,IF(CT5='J04'!CT5,'J04'!$CU$14,IF(CT5<'J04'!CT5,'J04'!$CT$14))) -> u | CW5: =RANK(DZ5,$DZ$5:$DZ$19) -> 1 | CX5: =SUMPRODUCT(($B$5:$F$13=CO5)*($EG$5:$EG$13))+'J04'!CX5 -> 0 | CY5: =SUMPRODUCT(($B$5:$F$13=CO5)*($EI$5:$EI$13))+'J04'!CY5 -> 0 | CZ5: =SUMPRODUCT(($B$5:$F$13=CO5)*($EK$5:$EK$13))+'J04'!CZ5 -> 0 | DA5: =SUMPRODUCT(($B$5:$F$13=CO5)*($EM$5:$EM$13))+'J04'!DA5 -> 0 | DB5: =SUMPRODUCT(($B$5:$F$13=CO5)*($EO$5:$EO$13))+'J04'!DB5 -> 0 | DC5: =SUMPRODUCT(($B$5:$F$13=CO5)*($EQ$5:$EQ$13))+'J04'!DC5 -> 0 | DD5: =SUMPRODUCT(($B$5:$F$13=CO5)*($ES$5:$ES$13))+'J04'!DD5 -> 0 | DE5: =DC5-DD5 -> 0 | DF5: =BX5 -> Equipe 01 | DK5: =RANK(EA5,$EA$5:$EA$19) -> 1 | DL5: ='J04'!DK5-DK5 -> 0 | DM5: =IF(DK5>'J04'!DK5,'J04'!$DM$14,IF(DK5='J04'!DK5,'J04'!$DL$14,IF(DK5<'J04'!DK5,'J04'!$DK$14))) -> u | DN5: =RANK(EB5,$EB$5:$EB$19) -> 1 | DO5: =SUMPRODUCT(($I$5:$M$13=DF5)*($EH$5:$EH$13))+'J04'!DO5 -> 0 | DP5: =SUMPRODUCT(($I$5:$M$13=DF5)*($EJ$5:$EJ$13))+'J04'!DP5 -> 0 | DQ5: =SUMPRODUCT(($I$5:$M$13=DF5)*($EL$5:$EL$13))+'J04'!DQ5 -> 0 | DR5: =SUMPRODUCT(($I$5:$M$13=DF5)*($EN$5:$EN$13))+'J04'!DR5 -> 0 | DS5: =SUMPRODUCT(($I$5:$M$13=DF5)*($EP$5:$EP$13))+'J04'!DS5 -> 0 | DT5: =SUMPRODUCT(($I$5:$M$13=DF5)*($ER$5:$ER$13))+'J04'!DT5 -> 0 | DU5: =SUMPRODUCT(($I$5:$M$13=DF5)*($ET$5:$ET$13))+'J04'!DU5 -> 0 | DV5: =DT5-DU5 -> 0 | DW5: =SUM(CG5*1000+(CN5)/100+(CL5)/1000) -> 0 | DX5: =DW5+0.0000006 -> 6e-07 | DY5: =SUM(CX5*1000+(DE5)/100+(DC5)/1000) -> 0 | DZ5: =DY5+0.0000006 -> 6e-07 | EA5: =SUM(DO5*1000+(DV5)/100+(DT5)/1000) -> 0 | EB5: =EA5+0.0000006 -> 6e-07 | EC5: =A5 -> 0 | ED5: =N5 -> 0 | EE5: =IF(G5="",0,IF(G5>H5,3,IF(G5=H5,1,IF(G5<H5,0)))) -> 0 | EF5: =IF(H5="",0,IF(H5>G5,3,IF(H5=G5,1,IF(H5<G5,0)))) -> 0 | EG5: =EE5-EC5 -> 0 | EH5: =EF5-ED5 -> 0 | EI5: =IF(G5="",0,1) -> 0 | EJ5: =IF(H5="",0,1) -> 0 | EK5: =IF(G5<>"",IF(G5>H5,1)) -> FALSE | EL5: =IF(H5<>"",IF(H5>G5,1)) -> FALSE | EM5: =IF(G5<>"",IF(G5=H5,1)) -> FALSE | EN5: =IF(H5<>"",IF(H5=G5,1)) -> FALSE | EO5: =IF(G5<>"",IF(G5<H5,1)) -> FALSE | EP5: =IF(H5<>"",IF(H5<G5,1)) -> FALSE | EQ5: =G5 -> 0 | ER5: =H5 -> 0 | ES5: =H5 -> 0 | ET5: =G5 -> 0 | EU5: =VLOOKUP(BR5,$BS$5:$CB$13,6,0) -> Equipe 01 | EZ5: =VLOOKUP(EU5,$BX$5:$DW$13,52,0) -> 0 | FA5: =RANK(EZ5,$EZ$5:$EZ$13) -> 1 | FB5: =BX5 -> Equipe 01 | FG5: =VLOOKUP(BT5,$BU$5:$CS$13,21,0) -> Equipe 01 | FL5: =VLOOKUP(FG5,$CO$5:$DY$13,37,0) -> 0 | FM5: =RANK(FL5,$FL$5:$FL$13) -> 1 | FN5: =CO5 -> Equipe 01 | FS5: =VLOOKUP(BV5,$BW$5:$DF$13,36,0) -> Equipe 01 | FX5: =VLOOKUP(FS5,$DF$5:$EA$21,22,0) -> 0 | FY5: =RANK(FX5,$FX$5:$FX$13) -> 1 | FZ5: =DF5 -> Equipe 01 | GE5: =BX5 -> Equipe 01
V6: =VLOOKUP(BR6,$BS$5:$CB$21,6,0) -> Equipe 02 | AA6: =VLOOKUP(V6,$BX$5:$CN$19,7,0) -> 0 | AB6: =VLOOKUP(V6,$BX$5:$CN$19,8,0) -> u | AC6: =IF(EZ6=EZ5,FA5,FA6) -> 1 | AD6: =VLOOKUP(V6,$BX$5:$CN$19,10,0) -> 0 | AE6: =VLOOKUP(V6,$BX$5:$CN$19,11,0) -> 0 | AF6: =VLOOKUP(V6,$BX$5:$CN$19,12,0) -> 0 | AG6: =VLOOKUP(V6,$BX$5:$CN$19,13,0) -> 0 | AH6: =VLOOKUP(V6,$BX$5:$CN$19,14,0) -> 0 | AI6: =VLOOKUP(V6,$BX$5:$CN$19,15,0) -> 0 | AJ6: =VLOOKUP(V6,$BX$5:$CN$19,16,0) -> 0 | AK6: =VLOOKUP(V6,$BX$5:$CN$19,17,0) -> 0 | AL6: =VLOOKUP(BT6,$BU$5:$CS$21,4,0) -> Equipe 02 | AQ6: =VLOOKUP(AL6,$CO$5:$DE$19,7,0) -> 0 | AR6: =VLOOKUP(AL6,$CO$5:$DE$19,8,0) -> u | AS6: =IF(FL6=FL5,FM5,FM6) -> 1 | AT6: =VLOOKUP(AL6,$CO$5:$DE$19,10,0) -> 0 | AU6: =VLOOKUP(AL6,$CO$5:$DE$19,11,0) -> 0 | AV6: =VLOOKUP(AL6,$CO$5:$DE$19,12,0) -> 0 | AW6: =VLOOKUP(AL6,$CO$5:$DE$19,13,0) -> 0 | AX6: =VLOOKUP(AL6,$CO$5:$DE$19,14,0) -> 0 | AY6: =VLOOKUP(AL6,$CO$5:$DE$19,15,0) -> 0 | AZ6: =VLOOKUP(AL6,$CO$5:$DE$19,16,0) -> 0 | BA6: =VLOOKUP(AL6,$CO$5:$DE$19,17,0) -> 0 | BB6: =VLOOKUP(BV6,$BW$5:$DF$21,2,0) -> Equipe 02 | BG6: =VLOOKUP(BB6,$DF$5:$DV$19,7,0) -> 0 | BH6: =VLOOKUP(BB6,$DF$5:$DV$19,8,0) -> u | BI6: =IF(FX6=FX5,FY5,FY6) -> 1 | BJ6: =VLOOKUP(BB6,$DF$5:$DV$19,10,0) -> 0 | BK6: =VLOOKUP(BB6,$DF$5:$DV$19,11,0) -> 0 | BL6: =VLOOKUP(BB6,$DF$5:$DV$19,12,0) -> 0 | BM6: =VLOOKUP(BB6,$DF$5:$DV$19,13,0) -> 0 | BN6: =VLOOKUP(BB6,$DF$5:$DV$19,14,0) -> 0 | BO6: =VLOOKUP(BB6,$DF$5:$DV$19,15,0) -> 0 | BP6: =VLOOKUP(BB6,$DF$5:$DV$19,16,0) -> 0 | BQ6: =VLOOKUP(BB6,$DF$5:$DV$19,17,0) -> 0 | BR6: 2 | BS6: =CF6 -> 2 | BT6: 2 | BU6: =CW6 -> 2 | BV6: 2 | BW6: =DN6 -> 2 | BX6: =Equipes!A3 -> Equipe 02 | CC6: =RANK(DW6,$DW$5:$DW$19) -> 1 | CD6: ='J04'!CC6-CC6 -> 0 | CE6: =IF(CC6>'J04'!CC6,'J04'!$CE$14,IF(CC6='J04'!CC6,'J04'!$CU$14,IF(CC6<'J04'!CC6,'J04'!$CT$14))) -> u | CF6: =RANK(DX6,$DX$5:$DX$13) -> 2 | CG6: =SUMPRODUCT(($B$5:$F$13=BX6)*($EG$5:$EG$13))+SUMPRODUCT(($I$5:$M$13=BX6)*($EH$5:$EH$13))+'J04'!CG6 -> 0 | CH6: =SUMPRODUCT(($B$5:$F$13=BX6)*($EI$5:$EI$13))+SUMPRODUCT(($I$5:$M$13=BX6)*($EJ$5:$EJ$13))+'J04'!CH6 -> 0 | CI6: =SUMPRODUCT(($B$5:$F$13=BX6)*($EK$5:$EK$13))+SUMPRODUCT(($I$5:$M$13=BX6)*($EL$5:$EL$13))+'J04'!CI6 -> 0 | CJ6: =SUMPRODUCT(($B$5:$F$13=BX6)*($EM$5:$EM$13))+SUMPRODUCT(($I$5:$M$13=BX6)*($EN$5:$EN$13))+'J04'!CJ6 -> 0 | CK6: =SUMPRODUCT(($B$5:$F$13=BX6)*($EO$5:$EO$13))+SUMPRODUCT(($I$5:$M$13=BX6)*($EP$5:$EP$13))+'J04'!CK6 -> 0 | CL6: =SUMPRODUCT(($B$5:$F$13=BX6)*($EQ$5:$EQ$13))+SUMPRODUCT(($I$5:$M$13=BX6)*($ER$5:$ER$13))+'J04'!CL6 -> 0 | CM6: =SUMPRODUCT(($B$5:$F$13=BX6)*($ES$5:$ES$13))+SUMPRODUCT(($I$5:$M$13=BX6)*($ET$5:$ET$13))+'J04'!CM6 -> 0 | CN6: =CL6-CM6 -> 0 | CO6: =BX6 -> Equipe 02 | CT6: =RANK(DY6,$DY$5:$DY$19) -> 1 | CU6: ='J04'!CT6-CT6 -> 0 | CV6: =IF(CT6>'J04'!CT6,'J04'!$CV$14,IF(CT6='J04'!CT6,'J04'!$CU$14,IF(CT6<'J04'!CT6,'J04'!$CT$14))) -> u | CW6: =RANK(DZ6,$DZ$5:$DZ$19) -> 2 | CX6: =SUMPRODUCT(($B$5:$F$13=CO6)*($EG$5:$EG$13))+'J04'!CX6 -> 0 | CY6: =SUMPRODUCT(($B$5:$F$13=CO6)*($EI$5:$EI$13))+'J04'!CY6 -> 0 | CZ6: =SUMPRODUCT(($B$5:$F$13=CO6)*($EK$5:$EK$13))+'J04'!CZ6 -> 0 | DA6: =SUMPRODUCT(($B$5:$F$13=CO6)*($EM$5:$EM$13))+'J04'!DA6 -> 0 | DB6: =SUMPRODUCT(($B$5:$F$13=CO6)*($EO$5:$EO$13))+'J04'!DB6 -> 0 | DC6: =SUMPRODUCT(($B$5:$F$13=CO6)*($EQ$5:$EQ$13))+'J04'!DC6 -> 0 | DD6: =SUMPRODUCT(($B$5:$F$13=CO6)*($ES$5:$ES$13))+'J04'!DD6 -> 0 | DE6: =DC6-DD6 -> 0 | DF6: =BX6 -> Equipe 02 | DK6: =RANK(EA6,$EA$5:$EA$19) -> 1 | DL6: ='J04'!DK6-DK6 -> 0 | DM6: =IF(DK6>'J04'!DK6,'J04'!$DM$14,IF(DK6='J04'!DK6,'J04'!$DL$14,IF(DK6<'J04'!DK6,'J04'!$DK$14))) -> u | DN6: =RANK(EB6,$EB$5:$EB$19) -> 2 | DO6: =SUMPRODUCT(($I$5:$M$13=DF6)*($EH$5:$EH$13))+'J04'!DO6 -> 0 | DP6: =SUMPRODUCT(($I$5:$M$13=DF6)*($EJ$5:$EJ$13))+'J04'!DP6 -> 0 | DQ6: =SUMPRODUCT(($I$5:$M$13=DF6)*($EL$5:$EL$13))+'J04'!DQ6 -> 0 | DR6: =SUMPRODUCT(($I$5:$M$13=DF6)*($EN$5:$EN$13))+'J04'!DR6 -> 0 | DS6: =SUMPRODUCT(($I$5:$M$13=DF6)*($EP$5:$EP$13))+'J04'!DS6 -> 0 | DT6: =SUMPRODUCT(($I$5:$M$13=DF6)*($ER$5:$ER$13))+'J04'!DT6 -> 0 | DU6: =SUMPRODUCT(($I$5:$M$13=DF6)*($ET$5:$ET$13))+'J04'!DU6 -> 0 | DV6: =DT6-DU6 -> 0 | DW6: =SUM(CG6*1000+(CN6)/100+(CL6)/1000) -> 0 | DX6: =DW6+0.0000005 -> 5e-07 | DY6: =SUM(CX6*1000+(DE6)/100+(DC6)/1000) -> 0 | DZ6: =DY6+0.0000005 -> 5e-07 | EA6: =SUM(DO6*1000+(DV6)/100+(DT6)/1000) -> 0 | EB6: =EA6+0.0000005 -> 5e-07 | EC6: =A6 -> 0 | ED6: =N6 -> 0 | EE6: =IF(G6="",0,IF(G6>H6,3,IF(G6=H6,1,IF(G6<H6,0)))) -> 0 | EF6: =IF(H6="",0,IF(H6>G6,3,IF(H6=G6,1,IF(H6<G6,0)))) -> 0 | EG6: =EE6-EC6 -> 0 | EH6: =EF6-ED6 -> 0 | EI6: =IF(G6="",0,1) -> 0 | EJ6: =IF(H6="",0,1) -> 0 | EK6: =IF(G6<>"",IF(G6>H6,1)) -> FALSE | EL6: =IF(H6<>"",IF(H6>G6,1)) -> FALSE | EM6: =IF(G6<>"",IF(G6=H6,1)) -> FALSE | EN6: =IF(H6<>"",IF(H6=G6,1)) -> FALSE | EO6: =IF(G6<>"",IF(G6<H6,1)) -> FALSE | EP6: =IF(H6<>"",IF(H6<G6,1)) -> FALSE | EQ6: =G6 -> 0 | ER6: =H6 -> 0 | ES6: =H6 -> 0 | ET6: =G6 -> 0 | EU6: =VLOOKUP(BR6,$BS$5:$CB$13,6,0) -> Equipe 02 | EZ6: =VLOOKUP(EU6,$BX$5:$DW$13,52,0) -> 0 | FA6: =RANK(EZ6,$EZ$5:$EZ$13) -> 1 | FB6: =BX6 -> Equipe 02 | FG6: =VLOOKUP(BT6,$BU$5:$CS$13,21,0) -> Equipe 02 | FL6: =VLOOKUP(FG6,$CO$5:$DY$13,37,0) -> 0 | FM6: =RANK(FL6,$FL$5:$FL$13) -> 1 | FN6: =CO6 -> Equipe 02 | FS6: =VLOOKUP(BV6,$BW$5:$DF$13,36,0) -> Equipe 02 | FX6: =VLOOKUP(FS6,$DF$5:$EA$21,22,0) -> 0 | FY6: =RANK(FX6,$FX$5:$FX$13) -> 1 | FZ6: =DF6 -> Equipe 02 | GE6: =BX6 -> Equipe 02
V7: =VLOOKUP(BR7,$BS$5:$CB$21,6,0) -> Equipe 03 | AA7: =VLOOKUP(V7,$BX$5:$CN$19,7,0) -> 0 | AB7: =VLOOKUP(V7,$BX$5:$CN$19,8,0) -> u | AC7: =IF(EZ7=EZ6,FA6,FA7) -> 1 | AD7: =VLOOKUP(V7,$BX$5:$CN$19,10,0) -> 0 | AE7: =VLOOKUP(V7,$BX$5:$CN$19,11,0) -> 0 | AF7: =VLOOKUP(V7,$BX$5:$CN$19,12,0) -> 0 | AG7: =VLOOKUP(V7,$BX$5:$CN$19,13,0) -> 0 | AH7: =VLOOKUP(V7,$BX$5:$CN$19,14,0) -> 0 | AI7: =VLOOKUP(V7,$BX$5:$CN$19,15,0) -> 0 | AJ7: =VLOOKUP(V7,$BX$5:$CN$19,16,0) -> 0 | AK7: =VLOOKUP(V7,$BX$5:$CN$19,17,0) -> 0 | AL7: =VLOOKUP(BT7,$BU$5:$CS$21,4,0) -> Equipe 03 | AQ7: =VLOOKUP(AL7,$CO$5:$DE$19,7,0) -> 0 | AR7: =VLOOKUP(AL7,$CO$5:$DE$19,8,0) -> u | AS7: =IF(FL7=FL6,FM6,FM7) -> 1 | AT7: =VLOOKUP(AL7,$CO$5:$DE$19,10,0) -> 0 | AU7: =VLOOKUP(AL7,$CO$5:$DE$19,11,0) -> 0 | AV7: =VLOOKUP(AL7,$CO$5:$DE$19,12,0) -> 0 | AW7: =VLOOKUP(AL7,$CO$5:$DE$19,13,0) -> 0 | AX7: =VLOOKUP(AL7,$CO$5:$DE$19,14,0) -> 0 | AY7: =VLOOKUP(AL7,$CO$5:$DE$19,15,0) -> 0 | AZ7: =VLOOKUP(AL7,$CO$5:$DE$19,16,0) -> 0 | BA7: =VLOOKUP(AL7,$CO$5:$DE$19,17,0) -> 0 | BB7: =VLOOKUP(BV7,$BW$5:$DF$21,2,0) -> Equipe 03 | BG7: =VLOOKUP(BB7,$DF$5:$DV$19,7,0) -> 0 | BH7: =VLOOKUP(BB7,$DF$5:$DV$19,8,0) -> u | BI7: =IF(FX7=FX6,FY6,FY7) -> 1 | BJ7: =VLOOKUP(BB7,$DF$5:$DV$19,10,0) -> 0 | BK7: =VLOOKUP(BB7,$DF$5:$DV$19,11,0) -> 0 | BL7: =VLOOKUP(BB7,$DF$5:$DV$19,12,0) -> 0 | BM7: =VLOOKUP(BB7,$DF$5:$DV$19,13,0) -> 0 | BN7: =VLOOKUP(BB7,$DF$5:$DV$19,14,0) -> 0 | BO7: =VLOOKUP(BB7,$DF$5:$DV$19,15,0) -> 0 | BP7: =VLOOKUP(BB7,$DF$5:$DV$19,16,0) -> 0 | BQ7: =VLOOKUP(BB7,$DF$5:$DV$19,17,0) -> 0 | BR7: 3 | BS7: =CF7 -> 3 | BT7: 3 | BU7: =CW7 -> 3 | BV7: 3 | BW7: =DN7 -> 3 | BX7: =Equipes!A4 -> Equipe 03 | CC7: =RANK(DW7,$DW$5:$DW$19) -> 1 | CD7: ='J04'!CC7-CC7 -> 0 | CE7: =IF(CC7>'J04'!CC7,'J04'!$CE$14,IF(CC7='J04'!CC7,'J04'!$CU$14,IF(CC7<'J04'!CC7,'J04'!$CT$14))) -> u | CF7: =RANK(DX7,$DX$5:$DX$13) -> 3 | CG7: =SUMPRODUCT(($B$5:$F$13=BX7)*($EG$5:$EG$13))+SUMPRODUCT(($I$5:$M$13=BX7)*($EH$5:$EH$13))+'J04'!CG7 -> 0 | CH7: =SUMPRODUCT(($B$5:$F$13=BX7)*($EI$5:$EI$13))+SUMPRODUCT(($I$5:$M$13=BX7)*($EJ$5:$EJ$13))+'J04'!CH7 -> 0 | CI7: =SUMPRODUCT(($B$5:$F$13=BX7)*($EK$5:$EK$13))+SUMPRODUCT(($I$5:$M$13=BX7)*($EL$5:$EL$13))+'J04'!CI7 -> 0 | CJ7: =SUMPRODUCT(($B$5:$F$13=BX7)*($EM$5:$EM$13))+SUMPRODUCT(($I$5:$M$13=BX7)*($EN$5:$EN$13))+'J04'!CJ7 -> 0 | CK7: =SUMPRODUCT(($B$5:$F$13=BX7)*($EO$5:$EO$13))+SUMPRODUCT(($I$5:$M$13=BX7)*($EP$5:$EP$13))+'J04'!CK7 -> 0 | CL7: =SUMPRODUCT(($B$5:$F$13=BX7)*($EQ$5:$EQ$13))+SUMPRODUCT(($I$5:$M$13=BX7)*($ER$5:$ER$13))+'J04'!CL7 -> 0 | CM7: =SUMPRODUCT(($B$5:$F$13=BX7)*($ES$5:$ES$13))+SUMPRODUCT(($I$5:$M$13=BX7)*($ET$5:$ET$13))+'J04'!CM7 -> 0 | CN7: =CL7-CM7 -> 0 | CO7: =BX7 -> Equipe 03 | CT7: =RANK(DY7,$DY$5:$DY$19) -> 1 | CU7: ='J04'!CT7-CT7 -> 0 | CV7: =IF(CT7>'J04'!CT7,'J04'!$CV$14,IF(CT7='J04'!CT7,'J04'!$CU$14,IF(CT7<'J04'!CT7,'J04'!$CT$14))) -> u | CW7: =RANK(DZ7,$DZ$5:$DZ$19) -> 3 | CX7: =SUMPRODUCT(($B$5:$F$13=CO7)*($EG$5:$EG$13))+'J04'!CX7 -> 0 | CY7: =SUMPRODUCT(($B$5:$F$13=CO7)*($EI$5:$EI$13))+'J04'!CY7 -> 0 | CZ7: =SUMPRODUCT(($B$5:$F$13=CO7)*($EK$5:$EK$13))+'J04'!CZ7 -> 0 | DA7: =SUMPRODUCT(($B$5:$F$13=CO7)*($EM$5:$EM$13))+'J04'!DA7 -> 0 | DB7: =SUMPRODUCT(($B$5:$F$13=CO7)*($EO$5:$EO$13))+'J04'!DB7 -> 0 | DC7: =SUMPRODUCT(($B$5:$F$13=CO7)*($EQ$5:$EQ$13))+'J04'!DC7 -> 0 | DD7: =SUMPRODUCT(($B$5:$F$13=CO7)*($ES$5:$ES$13))+'J04'!DD7 -> 0 | DE7: =DC7-DD7 -> 0 | DF7: =BX7 -> Equipe 03 | DK7: =RANK(EA7,$EA$5:$EA$19) -> 1 | DL7: ='J04'!DK7-DK7 -> 0 | DM7: =IF(DK7>'J04'!DK7,'J04'!$DM$14,IF(DK7='J04'!DK7,'J04'!$DL$14,IF(DK7<'J04'!DK7,'J04'!$DK$14))) -> u | DN7: =RANK(EB7,$EB$5:$EB$19) -> 3 | DO7: =SUMPRODUCT(($I$5:$M$13=DF7)*($EH$5:$EH$13))+'J04'!DO7 -> 0 | DP7: =SUMPRODUCT(($I$5:$M$13=DF7)*($EJ$5:$EJ$13))+'J04'!DP7 -> 0 | DQ7: =SUMPRODUCT(($I$5:$M$13=DF7)*($EL$5:$EL$13))+'J04'!DQ7 -> 0 | DR7: =SUMPRODUCT(($I$5:$M$13=DF7)*($EN$5:$EN$13))+'J04'!DR7 -> 0 | DS7: =SUMPRODUCT(($I$5:$M$13=DF7)*($EP$5:$EP$13))+'J04'!DS7 -> 0 | DT7: =SUMPRODUCT(($I$5:$M$13=DF7)*($ER$5:$ER$13))+'J04'!DT7 -> 0 | DU7: =SUMPRODUCT(($I$5:$M$13=DF7)*($ET$5:$ET$13))+'J04'!DU7 -> 0 | DV7: =DT7-DU7 -> 0 | DW7: =SUM(CG7*1000+(CN7)/100+(CL7)/1000) -> 0 | DX7: =DW7+0.0000004 -> 4e-07 | DY7: =SUM(CX7*1000+(DE7)/100+(DC7)/1000) -> 0 | DZ7: =DY7+0.0000004 -> 4e-07 | EA7: =SUM(DO7*1000+(DV7)/100+(DT7)/1000) -> 0 | EB7: =EA7+0.0000004 -> 4e-07 | EC7: =A7 -> 0 | ED7: =N7 -> 0 | EE7: =IF(G7="",0,IF(G7>H7,3,IF(G7=H7,1,IF(G7<H7,0)))) -> 0 | EF7: =IF(H7="",0,IF(H7>G7,3,IF(H7=G7,1,IF(H7<G7,0)))) -> 0 | EG7: =EE7-EC7 -> 0 | EH7: =EF7-ED7 -> 0 | EI7: =IF(G7="",0,1) -> 0 | EJ7: =IF(H7="",0,1) -> 0 | EK7: =IF(G7<>"",IF(G7>H7,1)) -> FALSE | EL7: =IF(H7<>"",IF(H7>G7,1)) -> FALSE | EM7: =IF(G7<>"",IF(G7=H7,1)) -> FALSE | EN7: =IF(H7<>"",IF(H7=G7,1)) -> FALSE | EO7: =IF(G7<>"",IF(G7<H7,1)) -> FALSE | EP7: =IF(H7<>"",IF(H7<G7,1)) -> FALSE | EQ7: =G7 -> 0 | ER7: =H7 -> 0 | ES7: =H7 -> 0 | ET7: =G7 -> 0 | EU7: =VLOOKUP(BR7,$BS$5:$CB$13,6,0) -> Equipe 03 | EZ7: =VLOOKUP(EU7,$BX$5:$DW$13,52,0) -> 0 | FA7: =RANK(EZ7,$EZ$5:$EZ$13) -> 1 | FB7: =BX7 -> Equipe 03 | FG7: =VLOOKUP(BT7,$BU$5:$CS$13,21,0) -> Equipe 03 | FL7: =VLOOKUP(FG7,$CO$5:$DY$13,37,0) -> 0 | FM7: =RANK(FL7,$FL$5:$FL$13) -> 1 | FN7: =CO7 -> Equipe 03 | FS7: =VLOOKUP(BV7,$BW$5:$DF$13,36,0) -> Equipe 03 | FX7: =VLOOKUP(FS7,$DF$5:$EA$21,22,0) -> 0 | FY7: =RANK(FX7,$FX$5:$FX$13) -> 1 | FZ7: =DF7 -> Equipe 03 | GE7: =BX7 -> Equipe 03
V8: =VLOOKUP(BR8,$BS$5:$CB$21,6,0) -> Equipe 04 | AA8: =VLOOKUP(V8,$BX$5:$CN$19,7,0) -> 0 | AB8: =VLOOKUP(V8,$BX$5:$CN$19,8,0) -> u | AC8: =IF(EZ8=EZ7,FA7,FA8) -> 1 | AD8: =VLOOKUP(V8,$BX$5:$CN$19,10,0) -> 0 | AE8: =VLOOKUP(V8,$BX$5:$CN$19,11,0) -> 0 | AF8: =VLOOKUP(V8,$BX$5:$CN$19,12,0) -> 0 | AG8: =VLOOKUP(V8,$BX$5:$CN$19,13,0) -> 0 | AH8: =VLOOKUP(V8,$BX$5:$CN$19,14,0) -> 0 | AI8: =VLOOKUP(V8,$BX$5:$CN$19,15,0) -> 0 | AJ8: =VLOOKUP(V8,$BX$5:$CN$19,16,0) -> 0 | AK8: =VLOOKUP(V8,$BX$5:$CN$19,17,0) -> 0 | AL8: =VLOOKUP(BT8,$BU$5:$CS$21,4,0) -> Equipe 04 | AQ8: =VLOOKUP(AL8,$CO$5:$DE$19,7,0) -> 0 | AR8: =VLOOKUP(AL8,$CO$5:$DE$19,8,0) -> u | AS8: =IF(FL8=FL7,FM7,FM8) -> 1 | AT8: =VLOOKUP(AL8,$CO$5:$DE$19,10,0) -> 0 | AU8: =VLOOKUP(AL8,$CO$5:$DE$19,11,0) -> 0 | AV8: =VLOOKUP(AL8,$CO$5:$DE$19,12,0) -> 0 | AW8: =VLOOKUP(AL8,$CO$5:$DE$19,13,0) -> 0 | AX8: =VLOOKUP(AL8,$CO$5:$DE$19,14,0) -> 0 | AY8: =VLOOKUP(AL8,$CO$5:$DE$19,15,0) -> 0 | AZ8: =VLOOKUP(AL8,$CO$5:$DE$19,16,0) -> 0 | BA8: =VLOOKUP(AL8,$CO$5:$DE$19,17,0) -> 0 | BB8: =VLOOKUP(BV8,$BW$5:$DF$21,2,0) -> Equipe 04 | BG8: =VLOOKUP(BB8,$DF$5:$DV$19,7,0) -> 0 | BH8: =VLOOKUP(BB8,$DF$5:$DV$19,8,0) -> u | BI8: =IF(FX8=FX7,FY7,FY8) -> 1 | BJ8: =VLOOKUP(BB8,$DF$5:$DV$19,10,0) -> 0 | BK8: =VLOOKUP(BB8,$DF$5:$DV$19,11,0) -> 0 | BL8: =VLOOKUP(BB8,$DF$5:$DV$19,12,0) -> 0 | BM8: =VLOOKUP(BB8,$DF$5:$DV$19,13,0) -> 0 | BN8: =VLOOKUP(BB8,$DF$5:$DV$19,14,0) -> 0 | BO8: =VLOOKUP(BB8,$DF$5:$DV$19,15,0) -> 0 | BP8: =VLOOKUP(BB8,$DF$5:$DV$19,16,0) -> 0 | BQ8: =VLOOKUP(BB8,$DF$5:$DV$19,17,0) -> 0 | BR8: 4 | BS8: =CF8 -> 4 | BT8: 4 | BU8: =CW8 -> 4 | BV8: 4 | BW8: =DN8 -> 4 | BX8: =Equipes!A5 -> Equipe 04 | CC8: =RANK(DW8,$DW$5:$DW$19) -> 1 | CD8: ='J04'!CC8-CC8 -> 0 | CE8: =IF(CC8>'J04'!CC8,'J04'!$CE$14,IF(CC8='J04'!CC8,'J04'!$CU$14,IF(CC8<'J04'!CC8,'J04'!$CT$14))) -> u | CF8: =RANK(DX8,$DX$5:$DX$13) -> 4 | CG8: =SUMPRODUCT(($B$5:$F$13=BX8)*($EG$5:$EG$13))+SUMPRODUCT(($I$5:$M$13=BX8)*($EH$5:$EH$13))+'J04'!CG8 -> 0 | CH8: =SUMPRODUCT(($B$5:$F$13=BX8)*($EI$5:$EI$13))+SUMPRODUCT(($I$5:$M$13=BX8)*($EJ$5:$EJ$13))+'J04'!CH8 -> 0 | CI8: =SUMPRODUCT(($B$5:$F$13=BX8)*($EK$5:$EK$13))+SUMPRODUCT(($I$5:$M$13=BX8)*($EL$5:$EL$13))+'J04'!CI8 -> 0 | CJ8: =SUMPRODUCT(($B$5:$F$13=BX8)*($EM$5:$EM$13))+SUMPRODUCT(($I$5:$M$13=BX8)*($EN$5:$EN$13))+'J04'!CJ8 -> 0 | CK8: =SUMPRODUCT(($B$5:$F$13=BX8)*($EO$5:$EO$13))+SUMPRODUCT(($I$5:$M$13=BX8)*($EP$5:$EP$13))+'J04'!CK8 -> 0 | CL8: =SUMPRODUCT(($B$5:$F$13=BX8)*($EQ$5:$EQ$13))+SUMPRODUCT(($I$5:$M$13=BX8)*($ER$5:$ER$13))+'J04'!CL8 -> 0 | CM8: =SUMPRODUCT(($B$5:$F$13=BX8)*($ES$5:$ES$13))+SUMPRODUCT(($I$5:$M$13=BX8)*($ET$5:$ET$13))+'J04'!CM8 -> 0 | CN8: =CL8-CM8 -> 0 | CO8: =BX8 -> Equipe 04 | CT8: =RANK(DY8,$DY$5:$DY$19) -> 1 | CU8: ='J04'!CT8-CT8 -> 0 | CV8: =IF(CT8>'J04'!CT8,'J04'!$CV$14,IF(CT8='J04'!CT8,'J04'!$CU$14,IF(CT8<'J04'!CT8,'J04'!$CT$14))) -> u | CW8: =RANK(DZ8,$DZ$5:$DZ$19) -> 4 | CX8: =SUMPRODUCT(($B$5:$F$13=CO8)*($EG$5:$EG$13))+'J04'!CX8 -> 0 | CY8: =SUMPRODUCT(($B$5:$F$13=CO8)*($EI$5:$EI$13))+'J04'!CY8 -> 0 | CZ8: =SUMPRODUCT(($B$5:$F$13=CO8)*($EK$5:$EK$13))+'J04'!CZ8 -> 0 | DA8: =SUMPRODUCT(($B$5:$F$13=CO8)*($EM$5:$EM$13))+'J04'!DA8 -> 0 | DB8: =SUMPRODUCT(($B$5:$F$13=CO8)*($EO$5:$EO$13))+'J04'!DB8 -> 0 | DC8: =SUMPRODUCT(($B$5:$F$13=CO8)*($EQ$5:$EQ$13))+'J04'!DC8 -> 0 | DD8: =SUMPRODUCT(($B$5:$F$13=CO8)*($ES$5:$ES$13))+'J04'!DD8 -> 0 | DE8: =DC8-DD8 -> 0 | DF8: =BX8 -> Equipe 04 | DK8: =RANK(EA8,$EA$5:$EA$19) -> 1 | DL8: ='J04'!DK8-DK8 -> 0 | DM8: =IF(DK8>'J04'!DK8,'J04'!$DM$14,IF(DK8='J04'!DK8,'J04'!$DL$14,IF(DK8<'J04'!DK8,'J04'!$DK$14))) -> u | DN8: =RANK(EB8,$EB$5:$EB$19) -> 4 | DO8: =SUMPRODUCT(($I$5:$M$13=DF8)*($EH$5:$EH$13))+'J04'!DO8 -> 0 | DP8: =SUMPRODUCT(($I$5:$M$13=DF8)*($EJ$5:$EJ$13))+'J04'!DP8 -> 0 | DQ8: =SUMPRODUCT(($I$5:$M$13=DF8)*($EL$5:$EL$13))+'J04'!DQ8 -> 0 | DR8: =SUMPRODUCT(($I$5:$M$13=DF8)*($EN$5:$EN$13))+'J04'!DR8 -> 0 | DS8: =SUMPRODUCT(($I$5:$M$13=DF8)*($EP$5:$EP$13))+'J04'!DS8 -> 0 | DT8: =SUMPRODUCT(($I$5:$M$13=DF8)*($ER$5:$ER$13))+'J04'!DT8 -> 0 | DU8: =SUMPRODUCT(($I$5:$M$13=DF8)*($ET$5:$ET$13))+'J04'!DU8 -> 0 | DV8: =DT8-DU8 -> 0 | DW8: =SUM(CG8*1000+(CN8)/100+(CL8)/1000) -> 0 | DX8: =DW8+0.0000003 -> 3e-07 | DY8: =SUM(CX8*1000+(DE8)/100+(DC8)/1000) -> 0 | DZ8: =DY8+0.0000003 -> 3e-07 | EA8: =SUM(DO8*1000+(DV8)/100+(DT8)/1000) -> 0 | EB8: =EA8+0.0000003 -> 3e-07 | EU8: =VLOOKUP(BR8,$BS$5:$CB$13,6,0) -> Equipe 04 | EZ8: =VLOOKUP(EU8,$BX$5:$DW$13,52,0) -> 0 | FA8: =RANK(EZ8,$EZ$5:$EZ$13) -> 1 | FB8: =BX8 -> Equipe 04 | FG8: =VLOOKUP(BT8,$BU$5:$CS$13,21,0) -> Equipe 04 | FL8: =VLOOKUP(FG8,$CO$5:$DY$13,37,0) -> 0 | FM8: =RANK(FL8,$FL$5:$FL$13) -> 1 | FN8: =CO8 -> Equipe 04 | FS8: =VLOOKUP(BV8,$BW$5:$DF$13,36,0) -> Equipe 04 | FX8: =VLOOKUP(FS8,$DF$5:$EA$21,22,0) -> 0 | FY8: =RANK(FX8,$FX$5:$FX$13) -> 1 | FZ8: =DF8 -> Equipe 04 | GE8: =BX8 -> Equipe 04
V9: =VLOOKUP(BR9,$BS$5:$CB$21,6,0) -> Equipe 05 | AA9: =VLOOKUP(V9,$BX$5:$CN$19,7,0) -> 0 | AB9: =VLOOKUP(V9,$BX$5:$CN$19,8,0) -> u | AC9: =IF(EZ9=EZ8,FA8,FA9) -> 1 | AD9: =VLOOKUP(V9,$BX$5:$CN$19,10,0) -> 0 | AE9: =VLOOKUP(V9,$BX$5:$CN$19,11,0) -> 0 | AF9: =VLOOKUP(V9,$BX$5:$CN$19,12,0) -> 0 | AG9: =VLOOKUP(V9,$BX$5:$CN$19,13,0) -> 0 | AH9: =VLOOKUP(V9,$BX$5:$CN$19,14,0) -> 0 | AI9: =VLOOKUP(V9,$BX$5:$CN$19,15,0) -> 0 | AJ9: =VLOOKUP(V9,$BX$5:$CN$19,16,0) -> 0 | AK9: =VLOOKUP(V9,$BX$5:$CN$19,17,0) -> 0 | AL9: =VLOOKUP(BT9,$BU$5:$CS$21,4,0) -> Equipe 05 | AQ9: =VLOOKUP(AL9,$CO$5:$DE$19,7,0) -> 0 | AR9: =VLOOKUP(AL9,$CO$5:$DE$19,8,0) -> u | AS9: =IF(FL9=FL8,FM8,FM9) -> 1 | AT9: =VLOOKUP(AL9,$CO$5:$DE$19,10,0) -> 0 | AU9: =VLOOKUP(AL9,$CO$5:$DE$19,11,0) -> 0 | AV9: =VLOOKUP(AL9,$CO$5:$DE$19,12,0) -> 0 | AW9: =VLOOKUP(AL9,$CO$5:$DE$19,13,0) -> 0 | AX9: =VLOOKUP(AL9,$CO$5:$DE$19,14,0) -> 0 | AY9: =VLOOKUP(AL9,$CO$5:$DE$19,15,0) -> 0 | AZ9: =VLOOKUP(AL9,$CO$5:$DE$19,16,0) -> 0 | BA9: =VLOOKUP(AL9,$CO$5:$DE$19,17,0) -> 0 | BB9: =VLOOKUP(BV9,$BW$5:$DF$21,2,0) -> Equipe 05 | BG9: =VLOOKUP(BB9,$DF$5:$DV$19,7,0) -> 0 | BH9: =VLOOKUP(BB9,$DF$5:$DV$19,8,0) -> u | BI9: =IF(FX9=FX8,FY8,FY9) -> 1 | BJ9: =VLOOKUP(BB9,$DF$5:$DV$19,10,0) -> 0 | BK9: =VLOOKUP(BB9,$DF$5:$DV$19,11,0) -> 0 | BL9: =VLOOKUP(BB9,$DF$5:$DV$19,12,0) -> 0 | BM9: =VLOOKUP(BB9,$DF$5:$DV$19,13,0) -> 0 | BN9: =VLOOKUP(BB9,$DF$5:$DV$19,14,0) -> 0 | BO9: =VLOOKUP(BB9,$DF$5:$DV$19,15,0) -> 0 | BP9: =VLOOKUP(BB9,$DF$5:$DV$19,16,0) -> 0 | BQ9: =VLOOKUP(BB9,$DF$5:$DV$19,17,0) -> 0 | BR9: 5 | BS9: =CF9 -> 5 | BT9: 5 | BU9: =CW9 -> 5 | BV9: 5 | BW9: =DN9 -> 5 | BX9: =Equipes!A6 -> Equipe 05 | CC9: =RANK(DW9,$DW$5:$DW$19) -> 1 | CD9: ='J04'!CC9-CC9 -> 0 | CE9: =IF(CC9>'J04'!CC9,'J04'!$CE$14,IF(CC9='J04'!CC9,'J04'!$CU$14,IF(CC9<'J04'!CC9,'J04'!$CT$14))) -> u | CF9: =RANK(DX9,$DX$5:$DX$13) -> 5 | CG9: =SUMPRODUCT(($B$5:$F$13=BX9)*($EG$5:$EG$13))+SUMPRODUCT(($I$5:$M$13=BX9)*($EH$5:$EH$13))+'J04'!CG9 -> 0 | CH9: =SUMPRODUCT(($B$5:$F$13=BX9)*($EI$5:$EI$13))+SUMPRODUCT(($I$5:$M$13=BX9)*($EJ$5:$EJ$13))+'J04'!CH9 -> 0 | CI9: =SUMPRODUCT(($B$5:$F$13=BX9)*($EK$5:$EK$13))+SUMPRODUCT(($I$5:$M$13=BX9)*($EL$5:$EL$13))+'J04'!CI9 -> 0 | CJ9: =SUMPRODUCT(($B$5:$F$13=BX9)*($EM$5:$EM$13))+SUMPRODUCT(($I$5:$M$13=BX9)*($EN$5:$EN$13))+'J04'!CJ9 -> 0 | CK9: =SUMPRODUCT(($B$5:$F$13=BX9)*($EO$5:$EO$13))+SUMPRODUCT(($I$5:$M$13=BX9)*($EP$5:$EP$13))+'J04'!CK9 -> 0 | CL9: =SUMPRODUCT(($B$5:$F$13=BX9)*($EQ$5:$EQ$13))+SUMPRODUCT(($I$5:$M$13=BX9)*($ER$5:$ER$13))+'J04'!CL9 -> 0 | CM9: =SUMPRODUCT(($B$5:$F$13=BX9)*($ES$5:$ES$13))+SUMPRODUCT(($I$5:$M$13=BX9)*($ET$5:$ET$13))+'J04'!CM9 -> 0 | CN9: =CL9-CM9 -> 0 | CO9: =BX9 -> Equipe 05 | CT9: =RANK(DY9,$DY$5:$DY$19) -> 1 | CU9: ='J04'!CT9-CT9 -> 0 | CV9: =IF(CT9>'J04'!CT9,'J04'!$CV$14,IF(CT9='J04'!CT9,'J04'!$CU$14,IF(CT9<'J04'!CT9,'J04'!$CT$14))) -> u | CW9: =RANK(DZ9,$DZ$5:$DZ$19) -> 5 | CX9: =SUMPRODUCT(($B$5:$F$13=CO9)*($EG$5:$EG$13))+'J04'!CX9 -> 0 | CY9: =SUMPRODUCT(($B$5:$F$13=CO9)*($EI$5:$EI$13))+'J04'!CY9 -> 0 | CZ9: =SUMPRODUCT(($B$5:$F$13=CO9)*($EK$5:$EK$13))+'J04'!CZ9 -> 0 | DA9: =SUMPRODUCT(($B$5:$F$13=CO9)*($EM$5:$EM$13))+'J04'!DA9 -> 0 | DB9: =SUMPRODUCT(($B$5:$F$13=CO9)*($EO$5:$EO$13))+'J04'!DB9 -> 0 | DC9: =SUMPRODUCT(($B$5:$F$13=CO9)*($EQ$5:$EQ$13))+'J04'!DC9 -> 0 | DD9: =SUMPRODUCT(($B$5:$F$13=CO9)*($ES$5:$ES$13))+'J04'!DD9 -> 0 | DE9: =DC9-DD9 -> 0 | DF9: =BX9 -> Equipe 05 | DK9: =RANK(EA9,$EA$5:$EA$19) -> 1 | DL9: ='J04'!DK9-DK9 -> 0 | DM9: =IF(DK9>'J04'!DK9,'J04'!$DM$14,IF(DK9='J04'!DK9,'J04'!$DL$14,IF(DK9<'J04'!DK9,'J04'!$DK$14))) -> u | DN9: =RANK(EB9,$EB$5:$EB$19) -> 5 | DO9: =SUMPRODUCT(($I$5:$M$13=DF9)*($EH$5:$EH$13))+'J04'!DO9 -> 0 | DP9: =SUMPRODUCT(($I$5:$M$13=DF9)*($EJ$5:$EJ$13))+'J04'!DP9 -> 0 | DQ9: =SUMPRODUCT(($I$5:$M$13=DF9)*($EL$5:$EL$13))+'J04'!DQ9 -> 0 | DR9: =SUMPRODUCT(($I$5:$M$13=DF9)*($EN$5:$EN$13))+'J04'!DR9 -> 0 | DS9: =SUMPRODUCT(($I$5:$M$13=DF9)*($EP$5:$EP$13))+'J04'!DS9 -> 0 | DT9: =SUMPRODUCT(($I$5:$M$13=DF9)*($ER$5:$ER$13))+'J04'!DT9 -> 0 | DU9: =SUMPRODUCT(($I$5:$M$13=DF9)*($ET$5:$ET$13))+'J04'!DU9 -> 0 | DV9: =DT9-DU9 -> 0 | DW9: =SUM(CG9*1000+(CN9)/100+(CL9)/1000) -> 0 | DX9: =DW9+0.0000002 -> 2e-07 | DY9: =SUM(CX9*1000+(DE9)/100+(DC9)/1000) -> 0 | DZ9: =DY9+0.0000002 -> 2e-07 | EA9: =SUM(DO9*1000+(DV9)/100+(DT9)/1000) -> 0 | EB9: =EA9+0.0000002 -> 2e-07 | EU9: =VLOOKUP(BR9,$BS$5:$CB$13,6,0) -> Equipe 05 | EZ9: =VLOOKUP(EU9,$BX$5:$DW$13,52,0) -> 0 | FA9: =RANK(EZ9,$EZ$5:$EZ$13) -> 1 | FB9: =BX9 -> Equipe 05 | FG9: =VLOOKUP(BT9,$BU$5:$CS$13,21,0) -> Equipe 05 | FL9: =VLOOKUP(FG9,$CO$5:$DY$13,37,0) -> 0 | FM9: =RANK(FL9,$FL$5:$FL$13) -> 1 | FN9: =CO9 -> Equipe 05 | FS9: =VLOOKUP(BV9,$BW$5:$DF$13,36,0) -> Equipe 05 | FX9: =VLOOKUP(FS9,$DF$5:$EA$21,22,0) -> 0 | FY9: =RANK(FX9,$FX$5:$FX$13) -> 1 | FZ9: =DF9 -> Equipe 05 | GE9: =BX9 -> Equipe 05
V10: =VLOOKUP(BR10,$BS$5:$CB$21,6,0) -> Equipe 06 | AA10: =VLOOKUP(V10,$BX$5:$CN$19,7,0) -> 0 | AB10: =VLOOKUP(V10,$BX$5:$CN$19,8,0) -> u | AC10: =IF(EZ10=EZ9,FA9,FA10) -> 1 | AD10: =VLOOKUP(V10,$BX$5:$CN$19,10,0) -> 0 | AE10: =VLOOKUP(V10,$BX$5:$CN$19,11,0) -> 0 | AF10: =VLOOKUP(V10,$BX$5:$CN$19,12,0) -> 0 | AG10: =VLOOKUP(V10,$BX$5:$CN$19,13,0) -> 0 | AH10: =VLOOKUP(V10,$BX$5:$CN$19,14,0) -> 0 | AI10: =VLOOKUP(V10,$BX$5:$CN$19,15,0) -> 0 | AJ10: =VLOOKUP(V10,$BX$5:$CN$19,16,0) -> 0 | AK10: =VLOOKUP(V10,$BX$5:$CN$19,17,0) -> 0 | AL10: =VLOOKUP(BT10,$BU$5:$CS$21,4,0) -> Equipe 06 | AQ10: =VLOOKUP(AL10,$CO$5:$DE$19,7,0) -> 0 | AR10: =VLOOKUP(AL10,$CO$5:$DE$19,8,0) -> u | AS10: =IF(FL10=FL9,FM9,FM10) -> 1 | AT10: =VLOOKUP(AL10,$CO$5:$DE$19,10,0) -> 0 | AU10: =VLOOKUP(AL10,$CO$5:$DE$19,11,0) -> 0 | AV10: =VLOOKUP(AL10,$CO$5:$DE$19,12,0) -> 0 | AW10: =VLOOKUP(AL10,$CO$5:$DE$19,13,0) -> 0 | AX10: =VLOOKUP(AL10,$CO$5:$DE$19,14,0) -> 0 | AY10: =VLOOKUP(AL10,$CO$5:$DE$19,15,0) -> 0 | AZ10: =VLOOKUP(AL10,$CO$5:$DE$19,16,0) -> 0 | BA10: =VLOOKUP(AL10,$CO$5:$DE$19,17,0) -> 0 | BB10: =VLOOKUP(BV10,$BW$5:$DF$21,2,0) -> Equipe 06 | BG10: =VLOOKUP(BB10,$DF$5:$DV$19,7,0) -> 0 | BH10: =VLOOKUP(BB10,$DF$5:$DV$19,8,0) -> u | BI10: =IF(FX10=FX9,FY9,FY10) -> 1 | BJ10: =VLOOKUP(BB10,$DF$5:$DV$19,10,0) -> 0 | BK10: =VLOOKUP(BB10,$DF$5:$DV$19,11,0) -> 0 | BL10: =VLOOKUP(BB10,$DF$5:$DV$19,12,0) -> 0 | BM10: =VLOOKUP(BB10,$DF$5:$DV$19,13,0) -> 0 | BN10: =VLOOKUP(BB10,$DF$5:$DV$19,14,0) -> 0 | BO10: =VLOOKUP(BB10,$DF$5:$DV$19,15,0) -> 0 | BP10: =VLOOKUP(BB10,$DF$5:$DV$19,16,0) -> 0 | BQ10: =VLOOKUP(BB10,$DF$5:$DV$19,17,0) -> 0 | BR10: 6 | BS10: =CF10 -> 6 | BT10: 6 | BU10: =CW10 -> 6 | BV10: 6 | BW10: =DN10 -> 6 | BX10: =Equipes!A7 -> Equipe 06 | CC10: =RANK(DW10,$DW$5:$DW$19) -> 1 | CD10: ='J04'!CC10-CC10 -> 0 | CE10: =IF(CC10>'J04'!CC10,'J04'!$CE$14,IF(CC10='J04'!CC10,'J04'!$CU$14,IF(CC10<'J04'!CC10,'J04'!$CT$14))) -> u | CF10: =RANK(DX10,$DX$5:$DX$13) -> 6 | CG10: =SUMPRODUCT(($B$5:$F$13=BX10)*($EG$5:$EG$13))+SUMPRODUCT(($I$5:$M$13=BX10)*($EH$5:$EH$13))+'J04'!CG10 -> 0 | CH10: =SUMPRODUCT(($B$5:$F$13=BX10)*($EI$5:$EI$13))+SUMPRODUCT(($I$5:$M$13=BX10)*($EJ$5:$EJ$13))+'J04'!CH10 -> 0 | CI10: =SUMPRODUCT(($B$5:$F$13=BX10)*($EK$5:$EK$13))+SUMPRODUCT(($I$5:$M$13=BX10)*($EL$5:$EL$13))+'J04'!CI10 -> 0 | CJ10: =SUMPRODUCT(($B$5:$F$13=BX10)*($EM$5:$EM$13))+SUMPRODUCT(($I$5:$M$13=BX10)*($EN$5:$EN$13))+'J04'!CJ10 -> 0 | CK10: =SUMPRODUCT(($B$5:$F$13=BX10)*($EO$5:$EO$13))+SUMPRODUCT(($I$5:$M$13=BX10)*($EP$5:$EP$13))+'J04'!CK10 -> 0 | CL10: =SUMPRODUCT(($B$5:$F$13=BX10)*($EQ$5:$EQ$13))+SUMPRODUCT(($I$5:$M$13=BX10)*($ER$5:$ER$13))+'J04'!CL10 -> 0 | CM10: =SUMPRODUCT(($B$5:$F$13=BX10)*($ES$5:$ES$13))+SUMPRODUCT(($I$5:$M$13=BX10)*($ET$5:$ET$13))+'J04'!CM10 -> 0 | CN10: =CL10-CM10 -> 0 | CO10: =BX10 -> Equipe 06 | CT10: =RANK(DY10,$DY$5:$DY$19) -> 1 | CU10: ='J04'!CT10-CT10 -> 0 | CV10: =IF(CT10>'J04'!CT10,'J04'!$CV$14,IF(CT10='J04'!CT10,'J04'!$CU$14,IF(CT10<'J04'!CT10,'J04'!$CT$14))) -> u | CW10: =RANK(DZ10,$DZ$5:$DZ$19) -> 6 | CX10: =SUMPRODUCT(($B$5:$F$13=CO10)*($EG$5:$EG$13))+'J04'!CX10 -> 0 | CY10: =SUMPRODUCT(($B$5:$F$13=CO10)*($EI$5:$EI$13))+'J04'!CY10 -> 0 | CZ10: =SUMPRODUCT(($B$5:$F$13=CO10)*($EK$5:$EK$13))+'J04'!CZ10 -> 0 | DA10: =SUMPRODUCT(($B$5:$F$13=CO10)*($EM$5:$EM$13))+'J04'!DA10 -> 0 | DB10: =SUMPRODUCT(($B$5:$F$13=CO10)*($EO$5:$EO$13))+'J04'!DB10 -> 0 | DC10: =SUMPRODUCT(($B$5:$F$13=CO10)*($EQ$5:$EQ$13))+'J04'!DC10 -> 0 | DD10: =SUMPRODUCT(($B$5:$F$13=CO10)*($ES$5:$ES$13))+'J04'!DD10 -> 0 | DE10: =DC10-DD10 -> 0 | DF10: =BX10 -> Equipe 06 | DK10: =RANK(EA10,$EA$5:$EA$19) -> 1 | DL10: ='J04'!DK10-DK10 -> 0 | DM10: =IF(DK10>'J04'!DK10,'J04'!$DM$14,IF(DK10='J04'!DK10,'J04'!$DL$14,IF(DK10<'J04'!DK10,'J04'!$DK$14))) -> u | DN10: =RANK(EB10,$EB$5:$EB$19) -> 6 | DO10: =SUMPRODUCT(($I$5:$M$13=DF10)*($EH$5:$EH$13))+'J04'!DO10 -> 0 | DP10: =SUMPRODUCT(($I$5:$M$13=DF10)*($EJ$5:$EJ$13))+'J04'!DP10 -> 0 | DQ10: =SUMPRODUCT(($I$5:$M$13=DF10)*($EL$5:$EL$13))+'J04'!DQ10 -> 0 | DR10: =SUMPRODUCT(($I$5:$M$13=DF10)*($EN$5:$EN$13))+'J04'!DR10 -> 0 | DS10: =SUMPRODUCT(($I$5:$M$13=DF10)*($EP$5:$EP$13))+'J04'!DS10 -> 0 | DT10: =SUMPRODUCT(($I$5:$M$13=DF10)*($ER$5:$ER$13))+'J04'!DT10 -> 0 | DU10: =SUMPRODUCT(($I$5:$M$13=DF10)*($ET$5:$ET$13))+'J04'!DU10 -> 0 | DV10: =DT10-DU10 -> 0 | DW10: =SUM(CG10*1000+(CN10)/100+(CL10)/1000) -> 0 | DX10: =DW10+0.0000001 -> 1e-07 | DY10: =SUM(CX10*1000+(DE10)/100+(DC10)/1000) -> 0 | DZ10: =DY10+0.0000001 -> 1e-07 | EA10: =SUM(DO10*1000+(DV10)/100+(DT10)/1000) -> 0 | EB10: =EA10+0.0000001 -> 1e-07 | EU10: =VLOOKUP(BR10,$BS$5:$CB$13,6,0) -> Equipe 06 | EZ10: =VLOOKUP(EU10,$BX$5:$DW$13,52,0) -> 0 | FA10: =RANK(EZ10,$EZ$5:$EZ$13) -> 1 | FB10: =BX10 -> Equipe 06 | FG10: =VLOOKUP(BT10,$BU$5:$CS$13,21,0) -> Equipe 06 | FL10: =VLOOKUP(FG10,$CO$5:$DY$13,37,0) -> 0 | FM10: =RANK(FL10,$FL$5:$FL$13) -> 1 | FN10: =CO10 -> Equipe 06 | FS10: =VLOOKUP(BV10,$BW$5:$DF$13,36,0) -> Equipe 06 | FX10: =VLOOKUP(FS10,$DF$5:$EA$21,22,0) -> 0 | FY10: =RANK(FX10,$FX$5:$FX$13) -> 1 | FZ10: =DF10 -> Equipe 06 | GE10: =BX10 -> Equipe 06
AE13: Total des buts de la journée | AI13: =SUM(G5:H13) -> 0 | CC13: p | CD13: u | CE13: q | CT13: p | CU13: u | CV13: q | DK13: p | DL13: u | DM13: q
CC14: p | CD14: u | CE14: q | CT14: p | CU14: u | CV14: q | DK14: p | DL14: u | DM14: q
AE15: Total des buts du Championnat | AI15: =AI13+'J04'!AI15:AK16 -> 0
AE17: Moyenne générale du Championnat | AI17: =IF(AE5=0,"",SUM(AI5:AI12)/SUM(AE5:AE12)*2)

Sheet J06
A1: ='J01'!A1:H2 -> Nom du championnat | I1: ='J01'!I1:N2 -> 2017 - 2018 | O1: Journée 06 | V1: CLASSEMENT GENERAL | AL1: CLASSEMENT DOMICILE | BB1: CLASSEMENT EXTERIEUR | BX1: CLASSEMENT GENERAL | CO1: DOMICILE | DF1: EXTERIEUR | DW1: GENERAL | DY1: DOMICILE | EA1: EXTERIEUR | EC1: Dom. | ED1: Ext. | EE1: Dom. | EF1: Ext. | EG1: Dom. | EH1: Ext. | EI1: Dom. | EJ1: Ext. | EK1: Dom. | EL1: Ext. | EM1: Dom. | EN1: Ext. | EO1: Dom. | EP1: Ext. | EQ1: Dom. | ER1: Ext. | ES1: Dom. | ET1: Ext. | EU1: GENERAL | FG1: DOMICILE | FS1: EXTERIEUR
A3: P | B3: Equipes | G3: Buts | H3: Buts | I3: Equipes | N3: P | O3: Date | S3: Heure | V3: Equipes | AA3: Evolution | AC3: Place | AD3: Pts | AE3: J | AF3: G | AG3: N | AH3: P | AI3: B + | AJ3: B - | AK3: Diff. | AL3: Equipes | AQ3: Evolution | AS3: Place | AT3: Pts | AU3: J | AV3: G | AW3: N | AX3: P | AY3: B + | AZ3: B - | BA3: Diff. | BB3: Equipes | BG3: Evolution | BI3: Place | BJ3: Pts | BK3: J | BL3: G | BM3: N | BN3: P | BO3: B + | BP3: B - | BQ3: Diff. | BR3: R Général | BT3: R Domicile | BV3: R Extérieur | BX3: Equipes | CC3: R | CD3: Evolution | CF3: Place | CG3: Pts | CH3: J | CI3: G | CJ3: N | CK3: P | CL3: B + | CM3: B - | CN3: Diff. | CO3: Equipes | CT3: R | CU3: Evolution | CW3: Place | CX3: Pts | CY3: J | CZ3: G | DA3: N | DB3: P | DC3: B + | DD3: B - | DE3: Diff. | DF3: Equipes | DK3: R | DL3: Evolution | DN3: Place | DO3: Pts | DP3: J | DQ3: G | DR3: N | DS3: P | DT3: B + | DU3: B - | DV3: Diff. | DW3: % | DX3: % | DY3: % | DZ3: % | EA3: % | EB3: % | EC3: P | ED3: P | EE3: Pts | EF3: Pts | EG3: T Pts | EH3: T Pts | EI3: J | EJ3: J | EK3: G | EL3: G | EM3: N | EN3: N | EO3: P | EP3: P | EQ3: B + | ER3: B + | ES3: B - | ET3: B - | EU3: Equipes | EZ3: % | FA3: R | FB3: Equipes | FG3: Equipes | FL3: % | FM3: R | FN3: Equipes | FS3: Equipes | FX3: % | FY3: R | FZ3: Equipes
V5: =VLOOKUP(BR5,$BS$5:$CB$21,6,0) -> Equipe 01 | AA5: =VLOOKUP(V5,$BX$5:$CN$19,7,0) -> 0 | AB5: =VLOOKUP(V5,$BX$5:$CN$19,8,0) -> u | AC5: 1 | AD5: =VLOOKUP(V5,$BX$5:$CN$19,10,0) -> 0 | AE5: =VLOOKUP(V5,$BX$5:$CN$19,11,0) -> 0 | AF5: =VLOOKUP(V5,$BX$5:$CN$19,12,0) -> 0 | AG5: =VLOOKUP(V5,$BX$5:$CN$19,13,0) -> 0 | AH5: =VLOOKUP(V5,$BX$5:$CN$19,14,0) -> 0 | AI5: =VLOOKUP(V5,$BX$5:$CN$19,15,0) -> 0 | AJ5: =VLOOKUP(V5,$BX$5:$CN$19,16,0) -> 0 | AK5: =VLOOKUP(V5,$BX$5:$CN$19,17,0) -> 0 | AL5: =VLOOKUP(BT5,$BU$5:$CS$21,4,0) -> Equipe 01 | AQ5: =VLOOKUP(AL5,$CO$5:$DE$19,7,0) -> 0 | AR5: =VLOOKUP(AL5,$CO$5:$DE$19,8,0) -> u | AS5: 1 | AT5: =VLOOKUP(AL5,$CO$5:$DE$19,10,0) -> 0 | AU5: =VLOOKUP(AL5,$CO$5:$DE$19,11,0) -> 0 | AV5: =VLOOKUP(AL5,$CO$5:$DE$19,12,0) -> 0 | AW5: =VLOOKUP(AL5,$CO$5:$DE$19,13,0) -> 0 | AX5: =VLOOKUP(AL5,$CO$5:$DE$19,14,0) -> 0 | AY5: =VLOOKUP(AL5,$CO$5:$DE$19,15,0) -> 0 | AZ5: =VLOOKUP(AL5,$CO$5:$DE$19,16,0) -> 0 | BA5: =VLOOKUP(AL5,$CO$5:$DE$19,17,0) -> 0 | BB5: =VLOOKUP(BV5,$BW$5:$DF$21,2,0) -> Equipe 01 | BG5: =VLOOKUP(BB5,$DF$5:$DV$19,7,0) -> 0 | BH5: =VLOOKUP(BB5,$DF$5:$DV$19,8,0) -> u | BI5: 1 | BJ5: =VLOOKUP(BB5,$DF$5:$DV$19,10,0) -> 0 | BK5: =VLOOKUP(BB5,$DF$5:$DV$19,11,0) -> 0 | BL5: =VLOOKUP(BB5,$DF$5:$DV$19,12,0) -> 0 | BM5: =VLOOKUP(BB5,$DF$5:$DV$19,13,0) -> 0 | BN5: =VLOOKUP(BB5,$DF$5:$DV$19,14,0) -> 0 | BO5: =VLOOKUP(BB5,$DF$5:$DV$19,15,0) -> 0 | BP5: =VLOOKUP(BB5,$DF$5:$DV$19,16,0) -> 0 | BQ5: =VLOOKUP(BB5,$DF$5:$DV$19,17,0) -> 0 | BR5: 1 | BS5: =CF5 -> 1 | BT5: 1 | BU5: =CW5 -> 1 | BV5: 1 | BW5: =DN5 -> 1 | BX5: =Equipes!A2 -> Equipe 01 | CC5: =RANK(DW5,$DW$5:$DW$19) -> 1 | CD5: ='J05'!CC5-CC5 -> 0 | CE5: =IF(CC5>'J05'!CC5,'J05'!$CE$14,IF(CC5='J05'!CC5,'J05'!$CU$14,IF(CC5<'J05'!CC5,'J05'!$CT$14))) -> u | CF5: =RANK(DX5,$DX$5:$DX$13) -> 1 | CG5: =SUMPRODUCT(($B$5:$F$13=BX5)*($EG$5:$EG$13))+SUMPRODUCT(($I$5:$M$13=BX5)*($EH$5:$EH$13))+'J05'!CG5 -> 0 | CH5: =SUMPRODUCT(($B$5:$F$13=BX5)*($EI$5:$EI$13))+SUMPRODUCT(($I$5:$M$13=BX5)*($EJ$5:$EJ$13))+'J05'!CH5 -> 0 | CI5: =SUMPRODUCT(($B$5:$F$13=BX5)*($EK$5:$EK$13))+SUMPRODUCT(($I$5:$M$13=BX5)*($EL$5:$EL$13))+'J05'!CI5 -> 0 | CJ5: =SUMPRODUCT(($B$5:$F$13=BX5)*($EM$5:$EM$13))+SUMPRODUCT(($I$5:$M$13=BX5)*($EN$5:$EN$13))+'J05'!CJ5 -> 0 | CK5: =SUMPRODUCT(($B$5:$F$13=BX5)*($EO$5:$EO$13))+SUMPRODUCT(($I$5:$M$13=BX5)*($EP$5:$EP$13))+'J05'!CK5 -> 0 | CL5: =SUMPRODUCT(($B$5:$F$13=BX5)*($EQ$5:$EQ$13))+SUMPRODUCT(($I$5:$M$13=BX5)*($ER$5:$ER$13))+'J05'!CL5 -> 0 | CM5: =SUMPRODUCT(($B$5:$F$13=BX5)*($ES$5:$ES$13))+SUMPRODUCT(($I$5:$M$13=BX5)*($ET$5:$ET$13))+'J05'!CM5 -> 0 | CN5: =CL5-CM5 -> 0 | CO5: =BX5 -> Equipe 01 | CT5: =RANK(DY5,$DY$5:$DY$19) -> 1 | CU5: ='J05'!CT5-CT5 -> 0 | CV5: =IF(CT5>'J05'!CT5,'J05'!$CV$14,IF(CT5='J05'!CT5,'J05'!$CU$14,IF(CT5<'J05'!CT5,'J05'!$CT$14))) -> u | CW5: =RANK(DZ5,$DZ$5:$DZ$19) -> 1 | CX5: =SUMPRODUCT(($B$5:$F$13=CO5)*($EG$5:$EG$13))+'J05'!CX5 -> 0 | CY5: =SUMPRODUCT(($B$5:$F$13=CO5)*($EI$5:$EI$13))+'J05'!CY5 -> 0 | CZ5: =SUMPRODUCT(($B$5:$F$13=CO5)*($EK$5:$EK$13))+'J05'!CZ5 -> 0 | DA5: =SUMPRODUCT(($B$5:$F$13=CO5)*($EM$5:$EM$13))+'J05'!DA5 -> 0 | DB5: =SUMPRODUCT(($B$5:$F$13=CO5)*($EO$5:$EO$13))+'J05'!DB5 -> 0 | DC5: =SUMPRODUCT(($B$5:$F$13=CO5)*($EQ$5:$EQ$13))+'J05'!DC5 -> 0 | DD5: =SUMPRODUCT(($B$5:$F$13=CO5)*($ES$5:$ES$13))+'J05'!DD5 -> 0 | DE5: =DC5-DD5 -> 0 | DF5: =BX5 -> Equipe 01 | DK5: =RANK(EA5,$EA$5:$EA$19) -> 1 | DL5: ='J05'!DK5-DK5 -> 0 | DM5: =IF(DK5>'J05'!DK5,'J05'!$DM$14,IF(DK5='J05'!DK5,'J05'!$DL$14,IF(DK5<'J05'!DK5,'J05'!$DK$14))) -> u | DN5: =RANK(EB5,$EB$5:$EB$19) -> 1 | DO5: =SUMPRODUCT(($I$5:$M$13=DF5)*($EH$5:$EH$13))+'J05'!DO5 -> 0 | DP5: =SUMPRODUCT(($I$5:$M$13=DF5)*($EJ$5:$EJ$13))+'J05'!DP5 -> 0 | DQ5: =SUMPRODUCT(($I$5:$M$13=DF5)*($EL$5:$EL$13))+'J05'!DQ5 -> 0 | DR5: =SUMPRODUCT(($I$5:$M$13=DF5)*($EN$5:$EN$13))+'J05'!DR5 -> 0 | DS5: =SUMPRODUCT(($I$5:$M$13=DF5)*($EP$5:$EP$13))+'J05'!DS5 -> 0 | DT5: =SUMPRODUCT(($I$5:$M$13=DF5)*($ER$5:$ER$13))+'J05'!DT5 -> 0 | DU5: =SUMPRODUCT(($I$5:$M$13=DF5)*($ET$5:$ET$13))+'J05'!DU5 -> 0 | DV5: =DT5-DU5 -> 0 | DW5: =SUM(CG5*1000+(CN5)/100+(CL5)/1000) -> 0 | DX5: =DW5+0.0000006 -> 6e-07 | DY5: =SUM(CX5*1000+(DE5)/100+(DC5)/1000) -> 0 | DZ5: =DY5+0.0000006 -> 6e-07 | EA5: =SUM(DO5*1000+(DV5)/100+(DT5)/1000) -> 0 | EB5: =EA5+0.0000006 -> 6e-07 | EC5: =A5 -> 0 | ED5: =N5 -> 0 | EE5: =IF(G5="",0,IF(G5>H5,3,IF(G5=H5,1,IF(G5<H5,0)))) -> 0 | EF5: =IF(H5="",0,IF(H5>G5,3,IF(H5=G5,1,IF(H5<G5,0)))) -> 0 | EG5: =EE5-EC5 -> 0 | EH5: =EF5-ED5 -> 0 | EI5: =IF(G5="",0,1) -> 0 | EJ5: =IF(H5="",0,1) -> 0 | EK5: =IF(G5<>"",IF(G5>H5,1)) -> FALSE | EL5: =IF(H5<>"",IF(H5>G5,1)) -> FALSE | EM5: =IF(G5<>"",IF(G5=H5,1)) -> FALSE | EN5: =IF(H5<>"",IF(H5=G5,1)) -> FALSE | EO5: =IF(G5<>"",IF(G5<H5,1)) -> FALSE | EP5: =IF(H5<>"",IF(H5<G5,1)) -> FALSE | EQ5: =G5 -> 0 | ER5: =H5 -> 0 | ES5: =H5 -> 0 | ET5: =G5 -> 0 | EU5: =VLOOKUP(BR5,$BS$5:$CB$13,6,0) -> Equipe 01 | EZ5: =VLOOKUP(EU5,$BX$5:$DW$13,52,0) -> 0 | FA5: =RANK(EZ5,$EZ$5:$EZ$13) -> 1 | FB5: =BX5 -> Equipe 01 | FG5: =VLOOKUP(BT5,$BU$5:$CS$13,21,0) -> Equipe 01 | FL5: =VLOOKUP(FG5,$CO$5:$DY$13,37,0) -> 0 | FM5: =RANK(FL5,$FL$5:$FL$13) -> 1 | FN5: =CO5 -> Equipe 01 | FS5: =VLOOKUP(BV5,$BW$5:$DF$13,36,0) -> Equipe 01 | FX5: =VLOOKUP(FS5,$DF$5:$EA$21,22,0) -> 0 | FY5: =RANK(FX5,$FX$5:$FX$13) -> 1 | FZ5: =DF5 -> Equipe 01 | GE5: =BX5 -> Equipe 01
V6: =VLOOKUP(BR6,$BS$5:$CB$21,6,0) -> Equipe 02 | AA6: =VLOOKUP(V6,$BX$5:$CN$19,7,0) -> 0 | AB6: =VLOOKUP(V6,$BX$5:$CN$19,8,0) -> u | AC6: =IF(EZ6=EZ5,FA5,FA6) -> 1 | AD6: =VLOOKUP(V6,$BX$5:$CN$19,10,0) -> 0 | AE6: =VLOOKUP(V6,$BX$5:$CN$19,11,0) -> 0 | AF6: =VLOOKUP(V6,$BX$5:$CN$19,12,0) -> 0 | AG6: =VLOOKUP(V6,$BX$5:$CN$19,13,0) -> 0 | AH6: =VLOOKUP(V6,$BX$5:$CN$19,14,0) -> 0 | AI6: =VLOOKUP(V6,$BX$5:$CN$19,15,0) -> 0 | AJ6: =VLOOKUP(V6,$BX$5:$CN$19,16,0) -> 0 | AK6: =VLOOKUP(V6,$BX$5:$CN$19,17,0) -> 0 | AL6: =VLOOKUP(BT6,$BU$5:$CS$21,4,0) -> Equipe 02 | AQ6: =VLOOKUP(AL6,$CO$5:$DE$19,7,0) -> 0 | AR6: =VLOOKUP(AL6,$CO$5:$DE$19,8,0) -> u | AS6: =IF(FL6=FL5,FM5,FM6) -> 1 | AT6: =VLOOKUP(AL6,$CO$5:$DE$19,10,0) -> 0 | AU6: =VLOOKUP(AL6,$CO$5:$DE$19,11,0) -> 0 | AV6: =VLOOKUP(AL6,$CO$5:$DE$19,12,0) -> 0 | AW6: =VLOOKUP(AL6,$CO$5:$DE$19,13,0) -> 0 | AX6: =VLOOKUP(AL6,$CO$5:$DE$19,14,0) -> 0 | AY6: =VLOOKUP(AL6,$CO$5:$DE$19,15,0) -> 0 | AZ6: =VLOOKUP(AL6,$CO$5:$DE$19,16,0) -> 0 | BA6: =VLOOKUP(AL6,$CO$5:$DE$19,17,0) -> 0 | BB6: =VLOOKUP(BV6,$BW$5:$DF$21,2,0) -> Equipe 02 | BG6: =VLOOKUP(BB6,$DF$5:$DV$19,7,0) -> 0 | BH6: =VLOOKUP(BB6,$DF$5:$DV$19,8,0) -> u | BI6: =IF(FX6=FX5,FY5,FY6) -> 1 | BJ6: =VLOOKUP(BB6,$DF$5:$DV$19,10,0) -> 0 | BK6: =VLOOKUP(BB6,$DF$5:$DV$19,11,0) -> 0 | BL6: =VLOOKUP(BB6,$DF$5:$DV$19,12,0) -> 0 | BM6: =VLOOKUP(BB6,$DF$5:$DV$19,13,0) -> 0 | BN6: =VLOOKUP(BB6,$DF$5:$DV$19,14,0) -> 0 | BO6: =VLOOKUP(BB6,$DF$5:$DV$19,15,0) -> 0 | BP6: =VLOOKUP(BB6,$DF$5:$DV$19,16,0) -> 0 | BQ6: =VLOOKUP(BB6,$DF$5:$DV$19,17,0) -> 0 | BR6: 2 | BS6: =CF6 -> 2 | BT6: 2 | BU6: =CW6 -> 2 | BV6: 2 | BW6: =DN6 -> 2 | BX6: =Equipes!A3 -> Equipe 02 | CC6: =RANK(DW6,$DW$5:$DW$19) -> 1 | CD6: ='J05'!CC6-CC6 -> 0 | CE6: =IF(CC6>'J05'!CC6,'J05'!$CE$14,IF(CC6='J05'!CC6,'J05'!$CU$14,IF(CC6<'J05'!CC6,'J05'!$CT$14))) -> u | CF6: =RANK(DX6,$DX$5:$DX$13) -> 2 | CG6: =SUMPRODUCT(($B$5:$F$13=BX6)*($EG$5:$EG$13))+SUMPRODUCT(($I$5:$M$13=BX6)*($EH$5:$EH$13))+'J05'!CG6 -> 0 | CH6: =SUMPRODUCT(($B$5:$F$13=BX6)*($EI$5:$EI$13))+SUMPRODUCT(($I$5:$M$13=BX6)*($EJ$5:$EJ$13))+'J05'!CH6 -> 0 | CI6: =SUMPRODUCT(($B$5:$F$13=BX6)*($EK$5:$EK$13))+SUMPRODUCT(($I$5:$M$13=BX6)*($EL$5:$EL$13))+'J05'!CI6 -> 0 | CJ6: =SUMPRODUCT(($B$5:$F$13=BX6)*($EM$5:$EM$13))+SUMPRODUCT(($I$5:$M$13=BX6)*($EN$5:$EN$13))+'J05'!CJ6 -> 0 | CK6: =SUMPRODUCT(($B$5:$F$13=BX6)*($EO$5:$EO$13))+SUMPRODUCT(($I$5:$M$13=BX6)*($EP$5:$EP$13))+'J05'!CK6 -> 0 | CL6: =SUMPRODUCT(($B$5:$F$13=BX6)*($EQ$5:$EQ$13))+SUMPRODUCT(($I$5:$M$13=BX6)*($ER$5:$ER$13))+'J05'!CL6 -> 0 | CM6: =SUMPRODUCT(($B$5:$F$13=BX6)*($ES$5:$ES$13))+SUMPRODUCT(($I$5:$M$13=BX6)*($ET$5:$ET$13))+'J05'!CM6 -> 0 | CN6: =CL6-CM6 -> 0 | CO6: =BX6 -> Equipe 02 | CT6: =RANK(DY6,$DY$5:$DY$19) -> 1 | CU6: ='J05'!CT6-CT6 -> 0 | CV6: =IF(CT6>'J05'!CT6,'J05'!$CV$14,IF(CT6='J05'!CT6,'J05'!$CU$14,IF(CT6<'J05'!CT6,'J05'!$CT$14))) -> u | CW6: =RANK(DZ6,$DZ$5:$DZ$19) -> 2 | CX6: =SUMPRODUCT(($B$5:$F$13=CO6)*($EG$5:$EG$13))+'J05'!CX6 -> 0 | CY6: =SUMPRODUCT(($B$5:$F$13=CO6)*($EI$5:$EI$13))+'J05'!CY6 -> 0 | CZ6: =SUMPRODUCT(($B$5:$F$13=CO6)*($EK$5:$EK$13))+'J05'!CZ6 -> 0 | DA6: =SUMPRODUCT(($B$5:$F$13=CO6)*($EM$5:$EM$13))+'J05'!DA6 -> 0 | DB6: =SUMPRODUCT(($B$5:$F$13=CO6)*($EO$5:$EO$13))+'J05'!DB6 -> 0 | DC6: =SUMPRODUCT(($B$5:$F$13=CO6)*($EQ$5:$EQ$13))+'J05'!DC6 -> 0 | DD6: =SUMPRODUCT(($B$5:$F$13=CO6)*($ES$5:$ES$13))+'J05'!DD6 -> 0 | DE6: =DC6-DD6 -> 0 | DF6: =BX6 -> Equipe 02 | DK6: =RANK(EA6,$EA$5:$EA$19) -> 1 | DL6: ='J05'!DK6-DK6 -> 0 | DM6: =IF(DK6>'J05'!DK6,'J05'!$DM$14,IF(DK6='J05'!DK6,'J05'!$DL$14,IF(DK6<'J05'!DK6,'J05'!$DK$14))) -> u | DN6: =RANK(EB6,$EB$5:$EB$19) -> 2 | DO6: =SUMPRODUCT(($I$5:$M$13=DF6)*($EH$5:$EH$13))+'J05'!DO6 -> 0 | DP6: =SUMPRODUCT(($I$5:$M$13=DF6)*($EJ$5:$EJ$13))+'J05'!DP6 -> 0 | DQ6: =SUMPRODUCT(($I$5:$M$13=DF6)*($EL$5:$EL$13))+'J05'!DQ6 -> 0 | DR6: =SUMPRODUCT(($I$5:$M$13=DF6)*($EN$5:$EN$13))+'J05'!DR6 -> 0 | DS6: =SUMPRODUCT(($I$5:$M$13=DF6)*($EP$5:$EP$13))+'J05'!DS6 -> 0 | DT6: =SUMPRODUCT(($I$5:$M$13=DF6)*($ER$5:$ER$13))+'J05'!DT6 -> 0 | DU6: =SUMPRODUCT(($I$5:$M$13=DF6)*($ET$5:$ET$13))+'J05'!DU6 -> 0 | DV6: =DT6-DU6 -> 0 | DW6: =SUM(CG6*1000+(CN6)/100+(CL6)/1000) -> 0 | DX6: =DW6+0.0000005 -> 5e-07 | DY6: =SUM(CX6*1000+(DE6)/100+(DC6)/1000) -> 0 | DZ6: =DY6+0.0000005 -> 5e-07 | EA6: =SUM(DO6*1000+(DV6)/100+(DT6)/1000) -> 0 | EB6: =EA6+0.0000005 -> 5e-07 | EC6: =A6 -> 0 | ED6: =N6 -> 0 | EE6: =IF(G6="",0,IF(G6>H6,3,IF(G6=H6,1,IF(G6<H6,0)))) -> 0 | EF6: =IF(H6="",0,IF(H6>G6,3,IF(H6=G6,1,IF(H6<G6,0)))) -> 0 | EG6: =EE6-EC6 -> 0 | EH6: =EF6-ED6 -> 0 | EI6: =IF(G6="",0,1) -> 0 | EJ6: =IF(H6="",0,1) -> 0 | EK6: =IF(G6<>"",IF(G6>H6,1)) -> FALSE | EL6: =IF(H6<>"",IF(H6>G6,1)) -> FALSE | EM6: =IF(G6<>"",IF(G6=H6,1)) -> FALSE | EN6: =IF(H6<>"",IF(H6=G6,1)) -> FALSE | EO6: =IF(G6<>"",IF(G6<H6,1)) -> FALSE | EP6: =IF(H6<>"",IF(H6<G6,1)) -> FALSE | EQ6: =G6 -> 0 | ER6: =H6 -> 0 | ES6: =H6 -> 0 | ET6: =G6 -> 0 | EU6: =VLOOKUP(BR6,$BS$5:$CB$13,6,0) -> Equipe 02 | EZ6: =VLOOKUP(EU6,$BX$5:$DW$13,52,0) -> 0 | FA6: =RANK(EZ6,$EZ$5:$EZ$13) -> 1 | FB6: =BX6 -> Equipe 02 | FG6: =VLOOKUP(BT6,$BU$5:$CS$13,21,0) -> Equipe 02 | FL6: =VLOOKUP(FG6,$CO$5:$DY$13,37,0) -> 0 | FM6: =RANK(FL6,$FL$5:$FL$13) -> 1 | FN6: =CO6 -> Equipe 02 | FS6: =VLOOKUP(BV6,$BW$5:$DF$13,36,0) -> Equipe 02 | FX6: =VLOOKUP(FS6,$DF$5:$EA$21,22,0) -> 0 | FY6: =RANK(FX6,$FX$5:$FX$13) -> 1 | FZ6: =DF6 -> Equipe 02 | GE6: =BX6 -> Equipe 02
V7: =VLOOKUP(BR7,$BS$5:$CB$21,6,0) -> Equipe 03 | AA7: =VLOOKUP(V7,$BX$5:$CN$19,7,0) -> 0 | AB7: =VLOOKUP(V7,$BX$5:$CN$19,8,0) -> u | AC7: =IF(EZ7=EZ6,FA6,FA7) -> 1 | AD7: =VLOOKUP(V7,$BX$5:$CN$19,10,0) -> 0 | AE7: =VLOOKUP(V7,$BX$5:$CN$19,11,0) -> 0 | AF7: =VLOOKUP(V7,$BX$5:$CN$19,12,0) -> 0 | AG7: =VLOOKUP(V7,$BX$5:$CN$19,13,0) -> 0 | AH7: =VLOOKUP(V7,$BX$5:$CN$19,14,0) -> 0 | AI7: =VLOOKUP(V7,$BX$5:$CN$19,15,0) -> 0 | AJ7: =VLOOKUP(V7,$BX$5:$CN$19,16,0) -> 0 | AK7: =VLOOKUP(V7,$BX$5:$CN$19,17,0) -> 0 | AL7: =VLOOKUP(BT7,$BU$5:$CS$21,4,0) -> Equipe 03 | AQ7: =VLOOKUP(AL7,$CO$5:$DE$19,7,0) -> 0 | AR7: =VLOOKUP(AL7,$CO$5:$DE$19,8,0) -> u | AS7: =IF(FL7=FL6,FM6,FM7) -> 1 | AT7: =VLOOKUP(AL7,$CO$5:$DE$19,10,0) -> 0 | AU7: =VLOOKUP(AL7,$CO$5:$DE$19,11,0) -> 0 | AV7: =VLOOKUP(AL7,$CO$5:$DE$19,12,0) -> 0 | AW7: =VLOOKUP(AL7,$CO$5:$DE$19,13,0) -> 0 | AX7: =VLOOKUP(AL7,$CO$5:$DE$19,14,0) -> 0 | AY7: =VLOOKUP(AL7,$CO$5:$DE$19,15,0) -> 0 | AZ7: =VLOOKUP(AL7,$CO$5:$DE$19,16,0) -> 0 | BA7: =VLOOKUP(AL7,$CO$5:$DE$19,17,0) -> 0 | BB7: =VLOOKUP(BV7,$BW$5:$DF$21,2,0) -> Equipe 03 | BG7: =VLOOKUP(BB7,$DF$5:$DV$19,7,0) -> 0 | BH7: =VLOOKUP(BB7,$DF$5:$DV$19,8,0) -> u | BI7: =IF(FX7=FX6,FY6,FY7) -> 1 | BJ7: =VLOOKUP(BB7,$DF$5:$DV$19,10,0) -> 0 | BK7: =VLOOKUP(BB7,$DF$5:$DV$19,11,0) -> 0 | BL7: =VLOOKUP(BB7,$DF$5:$DV$19,12,0) -> 0 | BM7: =VLOOKUP(BB7,$DF$5:$DV$19,13,0) -> 0 | BN7: =VLOOKUP(BB7,$DF$5:$DV$19,14,0) -> 0 | BO7: =VLOOKUP(BB7,$DF$5:$DV$19,15,0) -> 0 | BP7: =VLOOKUP(BB7,$DF$5:$DV$19,16,0) -> 0 | BQ7: =VLOOKUP(BB7,$DF$5:$DV$19,17,0) -> 0 | BR7: 3 | BS7: =CF7 -> 3 | BT7: 3 | BU7: =CW7 -> 3 | BV7: 3 | BW7: =DN7 -> 3 | BX7: =Equipes!A4 -> Equipe 03 | CC7: =RANK(DW7,$DW$5:$DW$19) -> 1 | CD7: ='J05'!CC7-CC7 -> 0 | CE7: =IF(CC7>'J05'!CC7,'J05'!$CE$14,IF(CC7='J05'!CC7,'J05'!$CU$14,IF(CC7<'J05'!CC7,'J05'!$CT$14))) -> u | CF7: =RANK(DX7,$DX$5:$DX$13) -> 3 | CG7: =SUMPRODUCT(($B$5:$F$13=BX7)*($EG$5:$EG$13))+SUMPRODUCT(($I$5:$M$13=BX7)*($EH$5:$EH$13))+'J05'!CG7 -> 0 | CH7: =SUMPRODUCT(($B$5:$F$13=BX7)*($EI$5:$EI$13))+SUMPRODUCT(($I$5:$M$13=BX7)*($EJ$5:$EJ$13))+'J05'!CH7 -> 0 | CI7: =SUMPRODUCT(($B$5:$F$13=BX7)*($EK$5:$EK$13))+SUMPRODUCT(($I$5:$M$13=BX7)*($EL$5:$EL$13))+'J05'!CI7 -> 0 | CJ7: =SUMPRODUCT(($B$5:$F$13=BX7)*($EM$5:$EM$13))+SUMPRODUCT(($I$5:$M$13=BX7)*($EN$5:$EN$13))+'J05'!CJ7 -> 0 | CK7: =SUMPRODUCT(($B$5:$F$13=BX7)*($EO$5:$EO$13))+SUMPRODUCT(($I$5:$M$13=BX7)*($EP$5:$EP$13))+'J05'!CK7 -> 0 | CL7: =SUMPRODUCT(($B$5:$F$13=BX7)*($EQ$5:$EQ$13))+SUMPRODUCT(($I$5:$M$13=BX7)*($ER$5:$ER$13))+'J05'!CL7 -> 0 | CM7: =SUMPRODUCT(($B$5:$F$13=BX7)*($ES$5:$ES$13))+SUMPRODUCT(($I$5:$M$13=BX7)*($ET$5:$ET$13))+'J05'!CM7 -> 0 | CN7: =CL7-CM7 -> 0 | CO7: =BX7 -> Equipe 03 | CT7: =RANK(DY7,$DY$5:$DY$19) -> 1 | CU7: ='J05'!CT7-CT7 -> 0 | CV7: =IF(CT7>'J05'!CT7,'J05'!$CV$14,IF(CT7='J05'!CT7,'J05'!$CU$14,IF(CT7<'J05'!CT7,'J05'!$CT$14))) -> u | CW7: =RANK(DZ7,$DZ$5:$DZ$19) -> 3 | CX7: =SUMPRODUCT(($B$5:$F$13=CO7)*($EG$5:$EG$13))+'J05'!CX7 -> 0 | CY7: =SUMPRODUCT(($B$5:$F$13=CO7)*($EI$5:$EI$13))+'J05'!CY7 -> 0 | CZ7: =SUMPRODUCT(($B$5:$F$13=CO7)*($EK$5:$EK$13))+'J05'!CZ7 -> 0 | DA7: =SUMPRODUCT(($B$5:$F$13=CO7)*($EM$5:$EM$13))+'J05'!DA7 -> 0 | DB7: =SUMPRODUCT(($B$5:$F$13=CO7)*($EO$5:$EO$13))+'J05'!DB7 -> 0 | DC7: =SUMPRODUCT(($B$5:$F$13=CO7)*($EQ$5:$EQ$13))+'J05'!DC7 -> 0 | DD7: =SUMPRODUCT(($B$5:$F$13=CO7)*($ES$5:$ES$13))+'J05'!DD7 -> 0 | DE7: =DC7-DD7 -> 0 | DF7: =BX7 -> Equipe 03 | DK7: =RANK(EA7,$EA$5:$EA$19) -> 1 | DL7: ='J05'!DK7-DK7 -> 0 | DM7: =IF(DK7>'J05'!DK7,'J05'!$DM$14,IF(DK7='J05'!DK7,'J05'!$DL$14,IF(DK7<'J05'!DK7,'J05'!$DK$14))) -> u | DN7: =RANK(EB7,$EB$5:$EB$19) -> 3 | DO7: =SUMPRODUCT(($I$5:$M$13=DF7)*($EH$5:$EH$13))+'J05'!DO7 -> 0 | DP7: =SUMPRODUCT(($I$5:$M$13=DF7)*($EJ$5:$EJ$13))+'J05'!DP7 -> 0 | DQ7: =SUMPRODUCT(($I$5:$M$13=DF7)*($EL$5:$EL$13))+'J05'!DQ7 -> 0 | DR7: =SUMPRODUCT(($I$5:$M$13=DF7)*($EN$5:$EN$13))+'J05'!DR7 -> 0 | DS7: =SUMPRODUCT(($I$5:$M$13=DF7)*($EP$5:$EP$13))+'J05'!DS7 -> 0 | DT7: =SUMPRODUCT(($I$5:$M$13=DF7)*($ER$5:$ER$13))+'J05'!DT7 -> 0 | DU7: =SUMPRODUCT(($I$5:$M$13=DF7)*($ET$5:$ET$13))+'J05'!DU7 -> 0 | DV7: =DT7-DU7 -> 0 | DW7: =SUM(CG7*1000+(CN7)/100+(CL7)/1000) -> 0 | DX7: =DW7+0.0000004 -> 4e-07 | DY7: =SUM(CX7*1000+(DE7)/100+(DC7)/1000) -> 0 | DZ7: =DY7+0.0000004 -> 4e-07 | EA7: =SUM(DO7*1000+(DV7)/100+(DT7)/1000) -> 0 | EB7: =EA7+0.0000004 -> 4e-07 | EC7: =A7 -> 0 | ED7: =N7 -> 0 | EE7: =IF(G7="",0,IF(G7>H7,3,IF(G7=H7,1,IF(G7<H7,0)))) -> 0 | EF7: =IF(H7="",0,IF(H7>G7,3,IF(H7=G7,1,IF(H7<G7,0)))) -> 0 | EG7: =EE7-EC7 -> 0 | EH7: =EF7-ED7 -> 0 | EI7: =IF(G7="",0,1) -> 0 | EJ7: =IF(H7="",0,1) -> 0 | EK7: =IF(G7<>"",IF(G7>H7,1)) -> FALSE | EL7: =IF(H7<>"",IF(H7>G7,1)) -> FALSE | EM7: =IF(G7<>"",IF(G7=H7,1)) -> FALSE | EN7: =IF(H7<>"",IF(H7=G7,1)) -> FALSE | EO7: =IF(G7<>"",IF(G7<H7,1)) -> FALSE | EP7: =IF(H7<>"",IF(H7<G7,1)) -> FALSE | EQ7: =G7 -> 0 | ER7: =H7 -> 0 | ES7: =H7 -> 0 | ET7: =G7 -> 0 | EU7: =VLOOKUP(BR7,$BS$5:$CB$13,6,0) -> Equipe 03 | EZ7: =VLOOKUP(EU7,$BX$5:$DW$13,52,0) -> 0 | FA7: =RANK(EZ7,$EZ$5:$EZ$13) -> 1 | FB7: =BX7 -> Equipe 03 | FG7: =VLOOKUP(BT7,$BU$5:$CS$13,21,0) -> Equipe 03 | FL7: =VLOOKUP(FG7,$CO$5:$DY$13,37,0) -> 0 | FM7: =RANK(FL7,$FL$5:$FL$13) -> 1 | FN7: =CO7 -> Equipe 03 | FS7: =VLOOKUP(BV7,$BW$5:$DF$13,36,0) -> Equipe 03 | FX7: =VLOOKUP(FS7,$DF$5:$EA$21,22,0) -> 0 | FY7: =RANK(FX7,$FX$5:$FX$13) -> 1 | FZ7: =DF7 -> Equipe 03 | GE7: =BX7 -> Equipe 03
V8: =VLOOKUP(BR8,$BS$5:$CB$21,6,0) -> Equipe 04 | AA8: =VLOOKUP(V8,$BX$5:$CN$19,7,0) -> 0 | AB8: =VLOOKUP(V8,$BX$5:$CN$19,8,0) -> u | AC8: =IF(EZ8=EZ7,FA7,FA8) -> 1 | AD8: =VLOOKUP(V8,$BX$5:$CN$19,10,0) -> 0 | AE8: =VLOOKUP(V8,$BX$5:$CN$19,11,0) -> 0 | AF8: =VLOOKUP(V8,$BX$5:$CN$19,12,0) -> 0 | AG8: =VLOOKUP(V8,$BX$5:$CN$19,13,0) -> 0 | AH8: =VLOOKUP(V8,$BX$5:$CN$19,14,0) -> 0 | AI8: =VLOOKUP(V8,$BX$5:$CN$19,15,0) -> 0 | AJ8: =VLOOKUP(V8,$BX$5:$CN$19,16,0) -> 0 | AK8: =VLOOKUP(V8,$BX$5:$CN$19,17,0) -> 0 | AL8: =VLOOKUP(BT8,$BU$5:$CS$21,4,0) -> Equipe 04 | AQ8: =VLOOKUP(AL8,$CO$5:$DE$19,7,0) -> 0 | AR8: =VLOOKUP(AL8,$CO$5:$DE$19,8,0) -> u | AS8: =IF(FL8=FL7,FM7,FM8) -> 1 | AT8: =VLOOKUP(AL8,$CO$5:$DE$19,10,0) -> 0 | AU8: =VLOOKUP(AL8,$CO$5:$DE$19,11,0) -> 0 | AV8: =VLOOKUP(AL8,$CO$5:$DE$19,12,0) -> 0 | AW8: =VLOOKUP(AL8,$CO$5:$DE$19,13,0) -> 0 | AX8: =VLOOKUP(AL8,$CO$5:$DE$19,14,0) -> 0 | AY8: =VLOOKUP(AL8,$CO$5:$DE$19,15,0) -> 0 | AZ8: =VLOOKUP(AL8,$CO$5:$DE$19,16,0) -> 0 | BA8: =VLOOKUP(AL8,$CO$5:$DE$19,17,0) -> 0 | BB8: =VLOOKUP(BV8,$BW$5:$DF$21,2,0) -> Equipe 04 | BG8: =VLOOKUP(BB8,$DF$5:$DV$19,7,0) -> 0 | BH8: =VLOOKUP(BB8,$DF$5:$DV$19,8,0) -> u | BI8: =IF(FX8=FX7,FY7,FY8) -> 1 | BJ8: =VLOOKUP(BB8,$DF$5:$DV$19,10,0) -> 0 | BK8: =VLOOKUP(BB8,$DF$5:$DV$19,11,0) -> 0 | BL8: =VLOOKUP(BB8,$DF$5:$DV$19,12,0) -> 0 | BM8: =VLOOKUP(BB8,$DF$5:$DV$19,13,0) -> 0 | BN8: =VLOOKUP(BB8,$DF$5:$DV$19,14,0) -> 0 | BO8: =VLOOKUP(BB8,$DF$5:$DV$19,15,0) -> 0 | BP8: =VLOOKUP(BB8,$DF$5:$DV$19,16,0) -> 0 | BQ8: =VLOOKUP(BB8,$DF$5:$DV$19,17,0) -> 0 | BR8: 4 | BS8: =CF8 -> 4 | BT8: 4 | BU8: =CW8 -> 4 | BV8: 4 | BW8: =DN8 -> 4 | BX8: =Equipes!A5 -> Equipe 04 | CC8: =RANK(DW8,$DW$5:$DW$19) -> 1 | CD8: ='J05'!CC8-CC8 -> 0 | CE8: =IF(CC8>'J05'!CC8,'J05'!$CE$14,IF(CC8='J05'!CC8,'J05'!$CU$14,IF(CC8<'J05'!CC8,'J05'!$CT$14))) -> u | CF8: =RANK(DX8,$DX$5:$DX$13) -> 4 | CG8: =SUMPRODUCT(($B$5:$F$13=BX8)*($EG$5:$EG$13))+SUMPRODUCT(($I$5:$M$13=BX8)*($EH$5:$EH$13))+'J05'!CG8 -> 0 | CH8: =SUMPRODUCT(($B$5:$F$13=BX8)*($EI$5:$EI$13))+SUMPRODUCT(($I$5:$M$13=BX8)*($EJ$5:$EJ$13))+'J05'!CH8 -> 0 | CI8: =SUMPRODUCT(($B$5:$F$13=BX8)*($EK$5:$EK$13))+SUMPRODUCT(($I$5:$M$13=BX8)*($EL$5:$EL$13))+'J05'!CI8 -> 0 | CJ8: =SUMPRODUCT(($B$5:$F$13=BX8)*($EM$5:$EM$13))+SUMPRODUCT(($I$5:$M$13=BX8)*($EN$5:$EN$13))+'J05'!CJ8 -> 0 | CK8: =SUMPRODUCT(($B$5:$F$13=BX8)*($EO$5:$EO$13))+SUMPRODUCT(($I$5:$M$13=BX8)*($EP$5:$EP$13))+'J05'!CK8 -> 0 | CL8: =SUMPRODUCT(($B$5:$F$13=BX8)*($EQ$5:$EQ$13))+SUMPRODUCT(($I$5:$M$13=BX8)*($ER$5:$ER$13))+'J05'!CL8 -> 0 | CM8: =SUMPRODUCT(($B$5:$F$13=BX8)*($ES$5:$ES$13))+SUMPRODUCT(($I$5:$M$13=BX8)*($ET$5:$ET$13))+'J05'!CM8 -> 0 | CN8: =CL8-CM8 -> 0 | CO8: =BX8 -> Equipe 04 | CT8: =RANK(DY8,$DY$5:$DY$19) -> 1 | CU8: ='J05'!CT8-CT8 -> 0 | CV8: =IF(CT8>'J05'!CT8,'J05'!$CV$14,IF(CT8='J05'!CT8,'J05'!$CU$14,IF(CT8<'J05'!CT8,'J05'!$CT$14))) -> u | CW8: =RANK(DZ8,$DZ$5:$DZ$19) -> 4 | CX8: =SUMPRODUCT(($B$5:$F$13=CO8)*($EG$5:$EG$13))+'J05'!CX8 -> 0 | CY8: =SUMPRODUCT(($B$5:$F$13=CO8)*($EI$5:$EI$13))+'J05'!CY8 -> 0 | CZ8: =SUMPRODUCT(($B$5:$F$13=CO8)*($EK$5:$EK$13))+'J05'!CZ8 -> 0 | DA8: =SUMPRODUCT(($B$5:$F$13=CO8)*($EM$5:$EM$13))+'J05'!DA8 -> 0 | DB8: =SUMPRODUCT(($B$5:$F$13=CO8)*($EO$5:$EO$13))+'J05'!DB8 -> 0 | DC8: =SUMPRODUCT(($B$5:$F$13=CO8)*($EQ$5:$EQ$13))+'J05'!DC8 -> 0 | DD8: =SUMPRODUCT(($B$5:$F$13=CO8)*($ES$5:$ES$13))+'J05'!DD8 -> 0 | DE8: =DC8-DD8 -> 0 | DF8: =BX8 -> Equipe 04 | DK8: =RANK(EA8,$EA$5:$EA$19) -> 1 | DL8: ='J05'!DK8-DK8 -> 0 | DM8: =IF(DK8>'J05'!DK8,'J05'!$DM$14,IF(DK8='J05'!DK8,'J05'!$DL$14,IF(DK8<'J05'!DK8,'J05'!$DK$14))) -> u | DN8: =RANK(EB8,$EB$5:$EB$19) -> 4 | DO8: =SUMPRODUCT(($I$5:$M$13=DF8)*($EH$5:$EH$13))+'J05'!DO8 -> 0 | DP8: =SUMPRODUCT(($I$5:$M$13=DF8)*($EJ$5:$EJ$13))+'J05'!DP8 -> 0 | DQ8: =SUMPRODUCT(($I$5:$M$13=DF8)*($EL$5:$EL$13))+'J05'!DQ8 -> 0 | DR8: =SUMPRODUCT(($I$5:$M$13=DF8)*($EN$5:$EN$13))+'J05'!DR8 -> 0 | DS8: =SUMPRODUCT(($I$5:$M$13=DF8)*($EP$5:$EP$13))+'J05'!DS8 -> 0 | DT8: =SUMPRODUCT(($I$5:$M$13=DF8)*($ER$5:$ER$13))+'J05'!DT8 -> 0 | DU8: =SUMPRODUCT(($I$5:$M$13=DF8)*($ET$5:$ET$13))+'J05'!DU8 -> 0 | DV8: =DT8-DU8 -> 0 | DW8: =SUM(CG8*1000+(CN8)/100+(CL8)/1000) -> 0 | DX8: =DW8+0.0000003 -> 3e-07 | DY8: =SUM(CX8*1000+(DE8)/100+(DC8)/1000) -> 0 | DZ8: =DY8+0.0000003 -> 3e-07 | EA8: =SUM(DO8*1000+(DV8)/100+(DT8)/1000) -> 0 | EB8: =EA8+0.0000003 -> 3e-07 | EU8: =VLOOKUP(BR8,$BS$5:$CB$13,6,0) -> Equipe 04 | EZ8: =VLOOKUP(EU8,$BX$5:$DW$13,52,0) -> 0 | FA8: =RANK(EZ8,$EZ$5:$EZ$13) -> 1 | FB8: =BX8 -> Equipe 04 | FG8: =VLOOKUP(BT8,$BU$5:$CS$13,21,0) -> Equipe 04 | FL8: =VLOOKUP(FG8,$CO$5:$DY$13,37,0) -> 0 | FM8: =RANK(FL8,$FL$5:$FL$13) -> 1 | FN8: =CO8 -> Equipe 04 | FS8: =VLOOKUP(BV8,$BW$5:$DF$13,36,0) -> Equipe 04 | FX8: =VLOOKUP(FS8,$DF$5:$EA$21,22,0) -> 0 | FY8: =RANK(FX8,$FX$5:$FX$13) -> 1 | FZ8: =DF8 -> Equipe 04 | GE8: =BX8 -> Equipe 04
V9: =VLOOKUP(BR9,$BS$5:$CB$21,6,0) -> Equipe 05 | AA9: =VLOOKUP(V9,$BX$5:$CN$19,7,0) -> 0 | AB9: =VLOOKUP(V9,$BX$5:$CN$19,8,0) -> u | AC9: =IF(EZ9=EZ8,FA8,FA9) -> 1 | AD9: =VLOOKUP(V9,$BX$5:$CN$19,10,0) -> 0 | AE9: =VLOOKUP(V9,$BX$5:$CN$19,11,0) -> 0 | AF9: =VLOOKUP(V9,$BX$5:$CN$19,12,0) -> 0 | AG9: =VLOOKUP(V9,$BX$5:$CN$19,13,0) -> 0 | AH9: =VLOOKUP(V9,$BX$5:$CN$19,14,0) -> 0 | AI9: =VLOOKUP(V9,$BX$5:$CN$19,15,0) -> 0 | AJ9: =VLOOKUP(V9,$BX$5:$CN$19,16,0) -> 0 | AK9: =VLOOKUP(V9,$BX$5:$CN$19,17,0) -> 0 | AL9: =VLOOKUP(BT9,$BU$5:$CS$21,4,0) -> Equipe 05 | AQ9: =VLOOKUP(AL9,$CO$5:$DE$19,7,0) -> 0 | AR9: =VLOOKUP(AL9,$CO$5:$DE$19,8,0) -> u | AS9: =IF(FL9=FL8,FM8,FM9) -> 1 | AT9: =VLOOKUP(AL9,$CO$5:$DE$19,10,0) -> 0 | AU9: =VLOOKUP(AL9,$CO$5:$DE$19,11,0) -> 0 | AV9: =VLOOKUP(AL9,$CO$5:$DE$19,12,0) -> 0 | AW9: =VLOOKUP(AL9,$CO$5:$DE$19,13,0) -> 0 | AX9: =VLOOKUP(AL9,$CO$5:$DE$19,14,0) -> 0 | AY9: =VLOOKUP(AL9,$CO$5:$DE$19,15,0) -> 0 | AZ9: =VLOOKUP(AL9,$CO$5:$DE$19,16,0) -> 0 | BA9: =VLOOKUP(AL9,$CO$5:$DE$19,17,0) -> 0 | BB9: =VLOOKUP(BV9,$BW$5:$DF$21,2,0) -> Equipe 05 | BG9: =VLOOKUP(BB9,$DF$5:$DV$19,7,0) -> 0 | BH9: =VLOOKUP(BB9,$DF$5:$DV$19,8,0) -> u | BI9: =IF(FX9=FX8,FY8,FY9) -> 1 | BJ9: =VLOOKUP(BB9,$DF$5:$DV$19,10,0) -> 0 | BK9: =VLOOKUP(BB9,$DF$5:$DV$19,11,0) -> 0 | BL9: =VLOOKUP(BB9,$DF$5:$DV$19,12,0) -> 0 | BM9: =VLOOKUP(BB9,$DF$5:$DV$19,13,0) -> 0 | BN9: =VLOOKUP(BB9,$DF$5:$DV$19,14,0) -> 0 | BO9: =VLOOKUP(BB9,$DF$5:$DV$19,15,0) -> 0 | BP9: =VLOOKUP(BB9,$DF$5:$DV$19,16,0) -> 0 | BQ9: =VLOOKUP(BB9,$DF$5:$DV$19,17,0) -> 0 | BR9: 5 | BS9: =CF9 -> 5 | BT9: 5 | BU9: =CW9 -> 5 | BV9: 5 | BW9: =DN9 -> 5 | BX9: =Equipes!A6 -> Equipe 05 | CC9: =RANK(DW9,$DW$5:$DW$19) -> 1 | CD9: ='J05'!CC9-CC9 -> 0 | CE9: =IF(CC9>'J05'!CC9,'J05'!$CE$14,IF(CC9='J05'!CC9,'J05'!$CU$14,IF(CC9<'J05'!CC9,'J05'!$CT$14))) -> u | CF9: =RANK(DX9,$DX$5:$DX$13) -> 5 | CG9: =SUMPRODUCT(($B$5:$F$13=BX9)*($EG$5:$EG$13))+SUMPRODUCT(($I$5:$M$13=BX9)*($EH$5:$EH$13))+'J05'!CG9 -> 0 | CH9: =SUMPRODUCT(($B$5:$F$13=BX9)*($EI$5:$EI$13))+SUMPRODUCT(($I$5:$M$13=BX9)*($EJ$5:$EJ$13))+'J05'!CH9 -> 0 | CI9: =SUMPRODUCT(($B$5:$F$13=BX9)*($EK$5:$EK$13))+SUMPRODUCT(($I$5:$M$13=BX9)*($EL$5:$EL$13))+'J05'!CI9 -> 0 | CJ9: =SUMPRODUCT(($B$5:$F$13=BX9)*($EM$5:$EM$13))+SUMPRODUCT(($I$5:$M$13=BX9)*($EN$5:$EN$13))+'J05'!CJ9 -> 0 | CK9: =SUMPRODUCT(($B$5:$F$13=BX9)*($EO$5:$EO$13))+SUMPRODUCT(($I$5:$M$13=BX9)*($EP$5:$EP$13))+'J05'!CK9 -> 0 | CL9: =SUMPRODUCT(($B$5:$F$13=BX9)*($EQ$5:$EQ$13))+SUMPRODUCT(($I$5:$M$13=BX9)*($ER$5:$ER$13))+'J05'!CL9 -> 0 | CM9: =SUMPRODUCT(($B$5:$F$13=BX9)*($ES$5:$ES$13))+SUMPRODUCT(($I$5:$M$13=BX9)*($ET$5:$ET$13))+'J05'!CM9 -> 0 | CN9: =CL9-CM9 -> 0 | CO9: =BX9 -> Equipe 05 | CT9: =RANK(DY9,$DY$5:$DY$19) -> 1 | CU9: ='J05'!CT9-CT9 -> 0 | CV9: =IF(CT9>'J05'!CT9,'J05'!$CV$14,IF(CT9='J05'!CT9,'J05'!$CU$14,IF(CT9<'J05'!CT9,'J05'!$CT$14))) -> u | CW9: =RANK(DZ9,$DZ$5:$DZ$19) -> 5 | CX9: =SUMPRODUCT(($B$5:$F$13=CO9)*($EG$5:$EG$13))+'J05'!CX9 -> 0 | CY9: =SUMPRODUCT(($B$5:$F$13=CO9)*($EI$5:$EI$13))+'J05'!CY9 -> 0 | CZ9: =SUMPRODUCT(($B$5:$F$13=CO9)*($EK$5:$EK$13))+'J05'!CZ9 -> 0 | DA9: =SUMPRODUCT(($B$5:$F$13=CO9)*($EM$5:$EM$13))+'J05'!DA9 -> 0 | DB9: =SUMPRODUCT(($B$5:$F$13=CO9)*($EO$5:$EO$13))+'J05'!DB9 -> 0 | DC9: =SUMPRODUCT(($B$5:$F$13=CO9)*($EQ$5:$EQ$13))+'J05'!DC9 -> 0 | DD9: =SUMPRODUCT(($B$5:$F$13=CO9)*($ES$5:$ES$13))+'J05'!DD9 -> 0 | DE9: =DC9-DD9 -> 0 | DF9: =BX9 -> Equipe 05 | DK9: =RANK(EA9,$EA$5:$EA$19) -> 1 | DL9: ='J05'!DK9-DK9 -> 0 | DM9: =IF(DK9>'J05'!DK9,'J05'!$DM$14,IF(DK9='J05'!DK9,'J05'!$DL$14,IF(DK9<'J05'!DK9,'J05'!$DK$14))) -> u | DN9: =RANK(EB9,$EB$5:$EB$19) -> 5 | DO9: =SUMPRODUCT(($I$5:$M$13=DF9)*($EH$5:$EH$13))+'J05'!DO9 -> 0 | DP9: =SUMPRODUCT(($I$5:$M$13=DF9)*($EJ$5:$EJ$13))+'J05'!DP9 -> 0 | DQ9: =SUMPRODUCT(($I$5:$M$13=DF9)*($EL$5:$EL$13))+'J05'!DQ9 -> 0 | DR9: =SUMPRODUCT(($I$5:$M$13=DF9)*($EN$5:$EN$13))+'J05'!DR9 -> 0 | DS9: =SUMPRODUCT(($I$5:$M$13=DF9)*($EP$5:$EP$13))+'J05'!DS9 -> 0 | DT9: =SUMPRODUCT(($I$5:$M$13=DF9)*($ER$5:$ER$13))+'J05'!DT9 -> 0 | DU9: =SUMPRODUCT(($I$5:$M$13=DF9)*($ET$5:$ET$13))+'J05'!DU9 -> 0 | DV9: =DT9-DU9 -> 0 | DW9: =SUM(CG9*1000+(CN9)/100+(CL9)/1000) -> 0 | DX9: =DW9+0.0000002 -> 2e-07 | DY9: =SUM(CX9*1000+(DE9)/100+(DC9)/1000) -> 0 | DZ9: =DY9+0.0000002 -> 2e-07 | EA9: =SUM(DO9*1000+(DV9)/100+(DT9)/1000) -> 0 | EB9: =EA9+0.0000002 -> 2e-07 | EU9: =VLOOKUP(BR9,$BS$5:$CB$13,6,0) -> Equipe 05 | EZ9: =VLOOKUP(EU9,$BX$5:$DW$13,52,0) -> 0 | FA9: =RANK(EZ9,$EZ$5:$EZ$13) -> 1 | FB9: =BX9 -> Equipe 05 | FG9: =VLOOKUP(BT9,$BU$5:$CS$13,21,0) -> Equipe 05 | FL9: =VLOOKUP(FG9,$CO$5:$DY$13,37,0) -> 0 | FM9: =RANK(FL9,$FL$5:$FL$13) -> 1 | FN9: =CO9 -> Equipe 05 | FS9: =VLOOKUP(BV9,$BW$5:$DF$13,36,0) -> Equipe 05 | FX9: =VLOOKUP(FS9,$DF$5:$EA$21,22,0) -> 0 | FY9: =RANK(FX9,$FX$5:$FX$13) -> 1 | FZ9: =DF9 -> Equipe 05 | GE9: =BX9 -> Equipe 05
V10: =VLOOKUP(BR10,$BS$5:$CB$21,6,0) -> Equipe 06 | AA10: =VLOOKUP(V10,$BX$5:$CN$19,7,0) -> 0 | AB10: =VLOOKUP(V10,$BX$5:$CN$19,8,0) -> u | AC10: =IF(EZ10=EZ9,FA9,FA10) -> 1 | AD10: =VLOOKUP(V10,$BX$5:$CN$19,10,0) -> 0 | AE10: =VLOOKUP(V10,$BX$5:$CN$19,11,0) -> 0 | AF10: =VLOOKUP(V10,$BX$5:$CN$19,12,0) -> 0 | AG10: =VLOOKUP(V10,$BX$5:$CN$19,13,0) -> 0 | AH10: =VLOOKUP(V10,$BX$5:$CN$19,14,0) -> 0 | AI10: =VLOOKUP(V10,$BX$5:$CN$19,15,0) -> 0 | AJ10: =VLOOKUP(V10,$BX$5:$CN$19,16,0) -> 0 | AK10: =VLOOKUP(V10,$BX$5:$CN$19,17,0) -> 0 | AL10: =VLOOKUP(BT10,$BU$5:$CS$21,4,0) -> Equipe 06 | AQ10: =VLOOKUP(AL10,$CO$5:$DE$19,7,0) -> 0 | AR10: =VLOOKUP(AL10,$CO$5:$DE$19,8,0) -> u | AS10: =IF(FL10=FL9,FM9,FM10) -> 1 | AT10: =VLOOKUP(AL10,$CO$5:$DE$19,10,0) -> 0 | AU10: =VLOOKUP(AL10,$CO$5:$DE$19,11,0) -> 0 | AV10: =VLOOKUP(AL10,$CO$5:$DE$19,12,0) -> 0 | AW10: =VLOOKUP(AL10,$CO$5:$DE$19,13,0) -> 0 | AX10: =VLOOKUP(AL10,$CO$5:$DE$19,14,0) -> 0 | AY10: =VLOOKUP(AL10,$CO$5:$DE$19,15,0) -> 0 | AZ10: =VLOOKUP(AL10,$CO$5:$DE$19,16,0) -> 0 | BA10: =VLOOKUP(AL10,$CO$5:$DE$19,17,0) -> 0 | BB10: =VLOOKUP(BV10,$BW$5:$DF$21,2,0) -> Equipe 06 | BG10: =VLOOKUP(BB10,$DF$5:$DV$19,7,0) -> 0 | BH10: =VLOOKUP(BB10,$DF$5:$DV$19,8,0) -> u | BI10: =IF(FX10=FX9,FY9,FY10) -> 1 | BJ10: =VLOOKUP(BB10,$DF$5:$DV$19,10,0) -> 0 | BK10: =VLOOKUP(BB10,$DF$5:$DV$19,11,0) -> 0 | BL10: =VLOOKUP(BB10,$DF$5:$DV$19,12,0) -> 0 | BM10: =VLOOKUP(BB10,$DF$5:$DV$19,13,0) -> 0 | BN10: =VLOOKUP(BB10,$DF$5:$DV$19,14,0) -> 0 | BO10: =VLOOKUP(BB10,$DF$5:$DV$19,15,0) -> 0 | BP10: =VLOOKUP(BB10,$DF$5:$DV$19,16,0) -> 0 | BQ10: =VLOOKUP(BB10,$DF$5:$DV$19,17,0) -> 0 | BR10: 6 | BS10: =CF10 -> 6 | BT10: 6 | BU10: =CW10 -> 6 | BV10: 6 | BW10: =DN10 -> 6 | BX10: =Equipes!A7 -> Equipe 06 | CC10: =RANK(DW10,$DW$5:$DW$19) -> 1 | CD10: ='J05'!CC10-CC10 -> 0 | CE10: =IF(CC10>'J05'!CC10,'J05'!$CE$14,IF(CC10='J05'!CC10,'J05'!$CU$14,IF(CC10<'J05'!CC10,'J05'!$CT$14))) -> u | CF10: =RANK(DX10,$DX$5:$DX$13) -> 6 | CG10: =SUMPRODUCT(($B$5:$F$13=BX10)*($EG$5:$EG$13))+SUMPRODUCT(($I$5:$M$13=BX10)*($EH$5:$EH$13))+'J05'!CG10 -> 0 | CH10: =SUMPRODUCT(($B$5:$F$13=BX10)*($EI$5:$EI$13))+SUMPRODUCT(($I$5:$M$13=BX10)*($EJ$5:$EJ$13))+'J05'!CH10 -> 0 | CI10: =SUMPRODUCT(($B$5:$F$13=BX10)*($EK$5:$EK$13))+SUMPRODUCT(($I$5:$M$13=BX10)*($EL$5:$EL$13))+'J05'!CI10 -> 0 | CJ10: =SUMPRODUCT(($B$5:$F$13=BX10)*($EM$5:$EM$13))+SUMPRODUCT(($I$5:$M$13=BX10)*($EN$5:$EN$13))+'J05'!CJ10 -> 0 | CK10: =SUMPRODUCT(($B$5:$F$13=BX10)*($EO$5:$EO$13))+SUMPRODUCT(($I$5:$M$13=BX10)*($EP$5:$EP$13))+'J05'!CK10 -> 0 | CL10: =SUMPRODUCT(($B$5:$F$13=BX10)*($EQ$5:$EQ$13))+SUMPRODUCT(($I$5:$M$13=BX10)*($ER$5:$ER$13))+'J05'!CL10 -> 0 | CM10: =SUMPRODUCT(($B$5:$F$13=BX10)*($ES$5:$ES$13))+SUMPRODUCT(($I$5:$M$13=BX10)*($ET$5:$ET$13))+'J05'!CM10 -> 0 | CN10: =CL10-CM10 -> 0 | CO10: =BX10 -> Equipe 06 | CT10: =RANK(DY10,$DY$5:$DY$19) -> 1 | CU10: ='J05'!CT10-CT10 -> 0 | CV10: =IF(CT10>'J05'!CT10,'J05'!$CV$14,IF(CT10='J05'!CT10,'J05'!$CU$14,IF(CT10<'J05'!CT10,'J05'!$CT$14))) -> u | CW10: =RANK(DZ10,$DZ$5:$DZ$19) -> 6 | CX10: =SUMPRODUCT(($B$5:$F$13=CO10)*($EG$5:$EG$13))+'J05'!CX10 -> 0 | CY10: =SUMPRODUCT(($B$5:$F$13=CO10)*($EI$5:$EI$13))+'J05'!CY10 -> 0 | CZ10: =SUMPRODUCT(($B$5:$F$13=CO10)*($EK$5:$EK$13))+'J05'!CZ10 -> 0 | DA10: =SUMPRODUCT(($B$5:$F$13=CO10)*($EM$5:$EM$13))+'J05'!DA10 -> 0 | DB10: =SUMPRODUCT(($B$5:$F$13=CO10)*($EO$5:$EO$13))+'J05'!DB10 -> 0 | DC10: =SUMPRODUCT(($B$5:$F$13=CO10)*($EQ$5:$EQ$13))+'J05'!DC10 -> 0 | DD10: =SUMPRODUCT(($B$5:$F$13=CO10)*($ES$5:$ES$13))+'J05'!DD10 -> 0 | DE10: =DC10-DD10 -> 0 | DF10: =BX10 -> Equipe 06 | DK10: =RANK(EA10,$EA$5:$EA$19) -> 1 | DL10: ='J05'!DK10-DK10 -> 0 | DM10: =IF(DK10>'J05'!DK10,'J05'!$DM$14,IF(DK10='J05'!DK10,'J05'!$DL$14,IF(DK10<'J05'!DK10,'J05'!$DK$14))) -> u | DN10: =RANK(EB10,$EB$5:$EB$19) -> 6 | DO10: =SUMPRODUCT(($I$5:$M$13=DF10)*($EH$5:$EH$13))+'J05'!DO10 -> 0 | DP10: =SUMPRODUCT(($I$5:$M$13=DF10)*($EJ$5:$EJ$13))+'J05'!DP10 -> 0 | DQ10: =SUMPRODUCT(($I$5:$M$13=DF10)*($EL$5:$EL$13))+'J05'!DQ10 -> 0 | DR10: =SUMPRODUCT(($I$5:$M$13=DF10)*($EN$5:$EN$13))+'J05'!DR10 -> 0 | DS10: =SUMPRODUCT(($I$5:$M$13=DF10)*($EP$5:$EP$13))+'J05'!DS10 -> 0 | DT10: =SUMPRODUCT(($I$5:$M$13=DF10)*($ER$5:$ER$13))+'J05'!DT10 -> 0 | DU10: =SUMPRODUCT(($I$5:$M$13=DF10)*($ET$5:$ET$13))+'J05'!DU10 -> 0 | DV10: =DT10-DU10 -> 0 | DW10: =SUM(CG10*1000+(CN10)/100+(CL10)/1000) -> 0 | DX10: =DW10+0.0000001 -> 1e-07 | DY10: =SUM(CX10*1000+(DE10)/100+(DC10)/1000) -> 0 | DZ10: =DY10+0.0000001 -> 1e-07 | EA10: =SUM(DO10*1000+(DV10)/100+(DT10)/1000) -> 0 | EB10: =EA10+0.0000001 -> 1e-07 | EU10: =VLOOKUP(BR10,$BS$5:$CB$13,6,0) -> Equipe 06 | EZ10: =VLOOKUP(EU10,$BX$5:$DW$13,52,0) -> 0 | FA10: =RANK(EZ10,$EZ$5:$EZ$13) -> 1 | FB10: =BX10 -> Equipe 06 | FG10: =VLOOKUP(BT10,$BU$5:$CS$13,21,0) -> Equipe 06 | FL10: =VLOOKUP(FG10,$CO$5:$DY$13,37,0) -> 0 | FM10: =RANK(FL10,$FL$5:$FL$13) -> 1 | FN10: =CO10 -> Equipe 06 | FS10: =VLOOKUP(BV10,$BW$5:$DF$13,36,0) -> Equipe 06 | FX10: =VLOOKUP(FS10,$DF$5:$EA$21,22,0) -> 0 | FY10: =RANK(FX10,$FX$5:$FX$13) -> 1 | FZ10: =DF10 -> Equipe 06 | GE10: =BX10 -> Equipe 06
AE13: Total des buts de la journée | AI13: =SUM(G5:H13) -> 0 | CC13: p | CD13: u | CE13: q | CT13: p | CU13: u | CV13: q | DK13: p | DL13: u | DM13: q
CC14: p | CD14: u | CE14: q | CT14: p | CU14: u | CV14: q | DK14: p | DL14: u | DM14: q
AE15: Total des buts du Championnat | AI15: =AI13+'J05'!AI15:AK16 -> 0
AE17: Moyenne générale du Championnat | AI17: =IF(AE5=0,"",SUM(AI5:AI12)/SUM(AE5:AE12)*2)

Sheet J07
A1: ='J01'!A1:H2 -> Nom du championnat | I1: ='J01'!I1:N2 -> 2017 - 2018 | O1: Journée 07 | V1: CLASSEMENT GENERAL | AL1: CLASSEMENT DOMICILE | BB1: CLASSEMENT EXTERIEUR | BX1: CLASSEMENT GENERAL | CO1: DOMICILE | DF1: EXTERIEUR | DW1: GENERAL | DY1: DOMICILE | EA1: EXTERIEUR | EC1: Dom. | ED1: Ext. | EE1: Dom. | EF1: Ext. | EG1: Dom. | EH1: Ext. | EI1: Dom. | EJ1: Ext. | EK1: Dom. | EL1: Ext. | EM1: Dom. | EN1: Ext. | EO1: Dom. | EP1: Ext. | EQ1: Dom. | ER1: Ext. | ES1: Dom. | ET1: Ext. | EU1: GENERAL | FG1: DOMICILE | FS1: EXTERIEUR
A3: P | B3: Equipes | G3: Buts | H3: Buts | I3: Equipes | N3: P | O3: Date | S3: Heure | V3: Equipes | AA3: Evolution | AC3: Place | AD3: Pts | AE3: J | AF3: G | AG3: N | AH3: P | AI3: B + | AJ3: B - | AK3: Diff. | AL3: Equipes | AQ3: Evolution | AS3: Place | AT3: Pts | AU3: J | AV3: G | AW3: N | AX3: P | AY3: B + | AZ3: B - | BA3: Diff. | BB3: Equipes | BG3: Evolution | BI3: Place | BJ3: Pts | BK3: J | BL3: G | BM3: N | BN3: P | BO3: B + | BP3: B - | BQ3: Diff. | BR3: R Général | BT3: R Domicile | BV3: R Extérieur | BX3: Equipes | CC3: R | CD3: Evolution | CF3: Place | CG3: Pts | CH3: J | CI3: G | CJ3: N | CK3: P | CL3: B + | CM3: B - | CN3: Diff. | CO3: Equipes | CT3: R | CU3: Evolution | CW3: Place | CX3: Pts | CY3: J | CZ3: G | DA3: N | DB3: P | DC3: B + | DD3: B - | DE3: Diff. | DF3: Equipes | DK3: R | DL3: Evolution | DN3: Place | DO3: Pts | DP3: J | DQ3: G | DR3: N | DS3: P | DT3: B + | DU3: B - | DV3: Diff. | DW3: % | DX3: % | DY3: % | DZ3: % | EA3: % | EB3: % | EC3: P | ED3: P | EE3: Pts | EF3: Pts | EG3: T Pts | EH3: T Pts | EI3: J | EJ3: J | EK3: G | EL3: G | EM3: N | EN3: N | EO3: P | EP3: P | EQ3: B + | ER3: B + | ES3: B - | ET3: B - | EU3: Equipes | EZ3: % | FA3: R | FB3: Equipes | FG3: Equipes | FL3: % | FM3: R | FN3: Equipes | FS3: Equipes | FX3: % | FY3: R | FZ3: Equipes
