Workbook
Name Alexandre_LAROCCA: 'site lot 12 bis'!$A$75:$A$104
Name Annuité_: #REF!
Name Annuité_: #REF!
Name Annuité_: #REF!
Name Annuité_: #REF!
Name Annuité_base_révis_1: #REF!
Name Annuité_base_révis_1: #REF!
Name Annuité_base_révis_1: #REF!
Name Annuité_base_révis_1: #REF!
Name Annuité_base_révis_2: #REF!
Name Annuité_base_révis_2: #REF!
Name Annuité_base_révis_2: #REF!
Name Annuité_base_révis_2: #REF!
Name Destinataire_devis: 'site lot 12 bis'!$A$117:$A$127
Name dico_gb: #REF!
Name dico_gb: #REF!
Name dico_gb: #REF!
Name dico_gb: #REF!
Name ee: Paul [1]Bert!$F$3
Name ee: Paul [1]Bert!$F$3
Name ee: Paul [1]Bert!$F$3
Name ee: Paul [1]Bert!$F$3
Name IM0: #REF!
Name IM0: #REF!
Name IM0: #REF!
Name IM0: #REF!
Name ima: Paul [1]Bert!$F$3
Name ima: Paul [1]Bert!$F$3
Name ima: Paul [1]Bert!$F$3
Name ima: Paul [1]Bert!$F$3
Name imi: Paul [1]Bert!$F$3
Name imi: Paul [1]Bert!$F$3
Name imi: Paul [1]Bert!$F$3
Name imi: Paul [1]Bert!$F$3
Name imo: Paul [1]Bert!$F$3
Name imo: Paul [1]Bert!$F$3
Name imo: Paul [1]Bert!$F$3
Name imo: Paul [1]Bert!$F$3
Name imu: Paul [1]Bert!$F$3
Name imu: Paul [1]Bert!$F$3
Name imu: Paul [1]Bert!$F$3
Name imu: Paul [1]Bert!$F$3
Name imu.: Paul [1]Bert!$F$3
Name imu.: Paul [1]Bert!$F$3
Name imu.: Paul [1]Bert!$F$3
Name imu.: Paul [1]Bert!$F$3
Name Nicolas_BLANCHECOTTE: 'site lot 12 bis'!$A$2:$A$37
Name PV: [2]Fiche!$R$58
Name Responsable: 'site lot 12 bis'!$A$107:$A$109
Name REX: '[3]Liste sites lot 12'!$G$9:$G$11
Name rfrfgrgr: Paul [1]Bert!$F$3
Name rfrfgrgr: Paul [1]Bert!$F$3
Name rfrfgrgr: Paul [1]Bert!$F$3
Name rfrfgrgr: Paul [1]Bert!$F$3
Name rgrgrgtrg: Paul [1]Bert!$F$3
Name rgrgrgtrg: Paul [1]Bert!$F$3
Name rgrgrgtrg: Paul [1]Bert!$F$3
Name rgrgrgtrg: Paul [1]Bert!$F$3
Name rr: Paul [1]Bert!$F$3
Name rr: Paul [1]Bert!$F$3

Sheet Lettre devis
D5: Gennevilliers, le
D8: A l’attention de :
D9: Mail : | E9: =VLOOKUP(E8,'site lot 12 bis'!A117:B127,2,FALSE) -> #N/A
B11: NoIMM : | C11: =VLOOKUP(C12,'site lot 12 bis'!$A$2:$E$104,2,FALSE) -> #N/A
B12: Site : | C12: ALFORTVILLE CT
B13: Adresse : | C13: =VLOOKUP(C12,'site lot 12 bis'!$A$2:$E$104,3,FALSE) -> #N/A
C14: =VLOOKUP(C12,'site lot 12 bis'!$A$2:$E$104,5,FALSE) -> #N/A
B15: Code postal | C15: =VLOOKUP(C12,'site lot 12 bis'!$A$2:$E$104,4,FALSE) -> #N/A
B17: N/réf DEVIS : | C17: =MID(CELL("filename"),FIND("[",CELL("filename"))+1,SUM(FIND({"[";"]"},CELL("filename"))*{-1;1})-6) -> DEVIS 2020 - FORUM XLS
B18: Affaire suivi par :
B19: Domaine facturation :
B20: Type d'opération :
B21: N° OT (ISBA) : | H21: N°OT AVANT CREATION OT DE REMISE EN ETAT
B22: N° affaire : | C22: =VLOOKUP(C18,'site lot 12 bis'!A107:B109,2,FALSE) -> #N/A
B24: DESCRIPTIF TRAVAUX :
B27: Monsieur,
B29: Nous vous prions de bien vouloir trouver ci-dessous, notre proposition commerciale concernant :
B30: =+C24 -> 0
B31: Restant à votre disposition, pour tout complément d'information,
B33: Et vous souhaitant bonne réception,
B35: Nous vous prions d’agréer, Monsieur, l’expression de nos sentiments distingués.
D39: Le Responsable de l'étude : | E39: =C18 -> 0
H42: Correctif contrat | M42: P1 - Correctif contrat
H43: Petits travaux | M43: P3 - Contrôle réglementaire
H44: Vétusté équipement / équipement HS | M44: P4 - Petits travaux
H45: CMT Étendue (Menuiserie / Serrurerie Intérieur) | M45: HORS CMT
H46: Modification installation
H47: Contrôle D'accès
H48: Amélioration (Investissement)
H49: Prise en charge
H50: Dégradation / Vandalisme
F51: =VLOOKUP(C18,'site lot 12 bis'!A107:D109,4,FALSE) -> #N/A | H51: Mise en conformité
H52: Intervention HNO
H53: Opération en équipe / Opération spécialisée
H54: Accompagnement
E68: =#REF!+#REF!+E22+E16+E54 -> #REF!
E70: =E68*20/100 -> #REF!
E72: =SUM(E68:E70) -> #REF!

Sheet Devis Client
A1: DEVIS
A3: N° : | B3: ='Lettre devis'!C17 -> DEVIS 2020 - FORUM XLS | E3: Date : | F3: ='Lettre devis'!E5 -> 0
A5: Affaire : | B5: ='Lettre devis'!C22 -> #N/A
A6: Site : | B6: ='Lettre devis'!C11 -> #N/A | C6: A l'attention de : | E6: ='Lettre devis'!E8 -> 0
B7: ='Lettre devis'!C12 -> ALFORTVILLE CT
B8: ='Lettre devis'!C13 -> #N/A
B9: ='Lettre devis'!C14 -> #N/A
A10: Travaux : | B10: ='Lettre devis'!C24 -> 0
A11: Désignation | C11: U | D11: Qté | E11: PV Ut. | F11: PV T
A12: Motivations du devis :
J13: PRIX DE REVIENT
A15: Déroulement des travaux : | J15: ='Débours Global'!I66 -> 0.050300536 | K15: ='Débours Global'!J66 -> 47.891564
A18: Fourniture :
F19: =D19*E19 -> 0
F20: =D20*E20 -> 0
F21: =D21*E21 -> 0
A23: sous-total Fourniture : | F23: =SUM(F18:F22) -> 0
A24: Sous-traitance :
F25: =D25*E25 -> 0
C26: U | D26: 1 | F26: =D26*E26 -> 0
F27: =E27*D27 -> 0
A29: sous-total Sous-traitance : | F29: =SUM(F24:F28) -> 0
A30: Main d'oeuvre :
A31: Intervention en HO du lundi au vendredi (06h à 21h) :
B32: Technicien polyvalent | C32: H | E32: 42 | F32: =IF(D32="","",+E32*D32)
B33: Technicien spécialisé | C33: H | E33: 48 | F33: =IF(D33="","",+E33*D33)
B34: Expert | C34: H | E34: 63 | F34: =IF(D34="","",+E34*D34)
A35: Intervention en HNO du lundi au vendredi (21h à 06h) :
B36: Technicien polyvalent | C36: H | E36: 84 | F36: =IF(D36="","",+E36*D36)
B37: Technicien spécialisé | C37: H | E37: 96 | F37: =IF(D37="","",+E37*D37)
B38: Expert | C38: H | E38: 126 | F38: =IF(D38="","",+E38*D38)
A39: Intervention en HO un samedi (06h à 21h) :
B40: Technicien polyvalent | C40: H | E40: 52.5 | F40: =IF(D40="","",+E40*D40)
B41: Technicien spécialisé | C41: H | E41: 60 | F41: =IF(D41="","",+E41*D41)
B42: Expert | C42: H | E42: 78.75 | F42: =IF(D42="","",+E42*D42)
A43: Intervention en HNO un samedi (21h à 06h) :
B44: Technicien polyvalent | C44: H | E44: 84 | F44: =IF(D44="","",+E44*D44)
B45: Technicien spécialisé | C45: H | E45: 96 | F45: =IF(D45="","",+E45*D45)
B46: Expert | C46: H | E46: 126 | F46: =IF(D46="","",+E46*D46)
A47: Intervention un dimanche ou jour férié :
...

Sheet Devis Accomp
A1: DEVIS
A3: N° : | B3: ='Lettre devis'!C17 -> DEVIS 2020 - FORUM XLS | E3: Date : | F3: ='Lettre devis'!E5 -> 0
A5: Affaire : | B5: ='Lettre devis'!C22 -> #N/A
A6: Site : | B6: ='Lettre devis'!C11 -> #N/A | C6: A l'attention de : | E6: ='Lettre devis'!E8 -> 0
B7: ='Lettre devis'!C12 -> ALFORTVILLE CT
B8: ='Lettre devis'!C13 -> #N/A
B9: ='Lettre devis'!C14 -> #N/A
A10: Travaux : | B10: ='Lettre devis'!C24 -> 0
A11: Désignation | C11: U | D11: Qté | E11: PV Ut. | F11: PV T
A12: Motivations du devis :
A15: Déroulement des travaux : | I15: PRIX DE REVIENT | J15: ='Débours Global'!I66 -> 0.050300536 | K15: ='Débours Global'!J66 -> 47.891564 | O15: ='Débours Global'!I66 -> 0.050300536
A18: BPU :
B21: Forfait demi-journée | C21: BPU | E21: 208 | F21: =D21*E21 -> 0
B23: Forfait journée | C23: BPU | E23: 334 | F23: =D23*E23 -> 0
A28: sous-total BPU : | F28: =SUM(F18:F27) -> 0
B30: Conditions de paiement : 45 jours fin de mois.
B32: MONTANT TOTAL H.T. : | F32: =F28 -> 0
B34: T.V.A. 20%. : | F34: =F32*20/100 -> 0
B36: MONTANT TOTAL T.T.C. : | F36: =SUM(F32:F34) -> 0
B39: Bon pour accord : | C39: Affaire suivie par : | E39: ='Lettre devis'!C18 -> 0
B40: le :

Sheet Débours Global
B3: BUDGET D'AFFAIRE 2020
G6: NUMERO D'AFFAIRE | I6: ='Lettre devis'!C22 -> #N/A | L6: DATE : | M6: ='Lettre devis'!E5 -> 0
G7: NOM DU CLIENT | I7: ='Lettre devis'!E8 -> 0 | L7: CREATEUR DU BUDGET : | R7: RECAPITULATIF
G8: SITE | L8: ='Lettre devis'!C18 -> 0 | R8: Responsable d'Exploitation | T8: =F20 -> 7
G9: REFERENCE DEVIS | I9: ='Lettre devis'!C17 -> DEVIS 2020 - FORUM XLS | L9: VERSION : | R9: BUDGET ACHAT | T9: =J42 -> 0
G10: REFERENCE CLIENT | I10: ='Lettre devis'!C21 -> 0 | L10: CODE MARKETING : | R10: SOUS-TRAITANCE EXTERNE | T10: =J49 -> 381.7
G11: PROJET | I11: ='Lettre devis'!C24 -> 0 | R11: SOUS-TRAITANCE INTERNE | T11: =J52 -> 0
R12: SOUS-TRAITANCE SERVICES | T12: =J50 -> 0
C14: DETAILS DES HEURES | R14: NOTE DE FRAIS | T14: =J33 -> 48
C16: Section | D16: Libellé | F16: Heures normales | H16: HNO / H astreinte | J16: Montants | K16: Commentaires | R16: PRIX DE VENTE | T16: =ROUND(J68,2) -> 1000
F17: Nombre | G17: Taux Devis | H17: Nombre | I17: Coefficient
R18: FRANCHISE | T18: ='Devis Client'!C64 -> NON
C19: 1 | D19: Responsable d'Affaires | G19: 107 | J19: =(F19*G19)+(G19*H19*I19) -> 0 | P19: 4.5 | Q19: =P19*(F19+H19*I19) -> 0
C20: 2 | D20: Responsable d'Exploitation | F20: 7 | G20: 58 | J20: =(F20*G20)+(G20*H20*I20) -> 406 | P20: 1.55 | Q20: =P20*(F20+H20*I20) -> 10.85
C21: 3 | D21: Technicien spécialisé | G21: 51 | J21: =(F21*G21)+(G21*H21*I21) -> 0 | P21: 1.1 | Q21: =P21*(F21+H21*I21) -> 0
C22: 4 | D22: Multitechnique | G22: 46 | J22: =(F22*G22)+(G22*H22*I22) -> 0 | P22: 1 | Q22: =P22*(F22+H22*I22) -> 0 | R22: PRIX DE REVIENT
C23: 5 | D23: Technicien CMT | G23: 44 | J23: =(F23*G23)+(G23*H23*I23) -> 0 | P23: 1.1 | Q23: =P23*(F23+H23*I23) -> 0 | R23: =I66 -> 0.050300536 | S23: =J66 -> 47.891564
C24: 6 | D24: Assistante | G24: 44 | J24: =(F24*G24)+(G24*H24*I24) -> 0 | P24: 1 | Q24: =P24*(F24+H24*I24) -> 0
C25: 7 | D25: Méthodes / Commerce | G25: 108 | J25: =(F25*G25)+(G25*H25*I25) -> 0 | P25: 4.75 | Q25: =P25*(F25+H25*I25) -> 0
C26: 8 | D26: 3*8 | G26: 48 | J26: =(F26*G26)+(G26*H26*I26) -> 0 | P26: 0.5 | Q26: =P26*(F26+H26*I26) -> 0
C27: 11 | D27: Apprentis | G27: 37 | J27: =(F27*G27)+(G27*H27*I27) -> 0 | P27: 1.75 | Q27: =P27*(F27+H27*I27) -> 0
J28: =(F28*G28)+(G28*H28*I28) -> 0 | P28: Total | Q28: =SUM(Q19:Q27) -> 10.85
C29: SOUS-TOTAL HEURES SOCIETE | F29: =SUM(F19:F28) -> 7 | H29: =SUM(H19:H28) -> 0 | J29: =SUM(J19:J28) -> 406
C31: AUTRES MAIN D'ŒUVRE
D33: NOTE DE FRAIS | J33: 48 | L33: Achats
D34: PETITS DEPLACEMENTS | F34: =SUM(F20:F23)+F26+F27 -> 7 | G34: heures avec panier de | I34: =(9+0.8*1.87)/7 -> 1.4994286 | J34: =F34*I34 -> 10.496 | L34: Montant initial | M34: =Annexe!I10 -> 0
D35: PRIMES EXCEPTIONNELLES | L35: Buy out
D36: DEPLACEMENTS / AUTRES INDEMNITES | J36: =J34+J35 -> 10.496 | L36: Economies | M36: =M34*M35 -> 0
L37: Montant final | M37: =M34-M36 -> 0
D38: S/TOTAL AUTRES MAIN D'ŒUVRE | J38: =SUM(J33+J36) -> 58.496
L39: Sous-traitance externe
C40: ACHATS | L40: Montant initial | M40: =Annexe!I34 -> 381.7
L41: Buy out
D42: FOURNITURES (voir détails en Annexe) | J42: =M37 -> 0 | L42: Economies | M42: =M40*M41 -> 0
D43: Frais généraux sur achats | H43: Taux | I43: 0.1 | J43: =J42*I43 -> 0 | L43: Montant final | M43: =M40-M42 -> 381.7
D45: S/TOTAL ACHATS | J45: =SUM(J43+J42) -> 0 | L45: Sous-traitance services
L46: Montant initial | M46: =Annexe!I42 -> 0
C47: SOUS-TRAITANCE | L47: Buy out
L48: Economies | M48: =M46*M47 -> 0
D49: SOUS-TRAITANCE EXTERNE (voir détails en Annexe) | J49: =+M43 -> 381.7 | L49: Montant final | M49: =M46-M48 -> 0
...

Sheet Débours E
B3: BUDGET D'AFFAIRE 2020
G6: NUMERO D'AFFAIRE | I6: E. | L6: DATE : | M6: ='Lettre devis'!E5 -> 0
G7: NOM DU CLIENT | I7: ='Lettre devis'!E8 -> 0 | L7: CREATEUR DU BUDGET : | R7: RECAPITULATIF
G8: SITE | I8: ='Lettre devis'!C12 -> ALFORTVILLE CT | L8: ='Lettre devis'!C18 -> 0 | R8: Responsable d'Exploitation | T8: =F20 -> 0
G9: REFERENCE DEVIS | I9: ='Lettre devis'!C17 -> DEVIS 2020 - FORUM XLS | L9: VERSION : | R9: BUDGET ACHAT | T9: =J42 -> 0
G10: REFERENCE CLIENT | I10: ='Lettre devis'!C21 -> 0 | L10: CODE MARKETING : | R10: SOUS-TRAITANCE EXTERNE | T10: =J49 -> 0
G11: PROJET | I11: ='Lettre devis'!C24 -> 0 | R11: SOUS-TRAITANCE INTERNE | T11: =J52 -> 0
R12: SOUS-TRAITANCE SERVICES | T12: =J50 -> 0
C14: DETAILS DES HEURES | R14: NOTE DE FRAIS | T14: =J33 -> 0
C16: Section | D16: Libellé | F16: Heures normales | H16: HNO / H astreinte | J16: Montants | K16: Commentaires | R16: PRIX DE VENTE | T16: =ROUND(J68,2) -> 0
F17: Nombre | G17: Taux Devis | H17: Nombre | I17: Coefficient
R18: FRANCHISE | T18: ='Devis Client'!C64 -> NON
C19: 1 | D19: Responsable d'Affaires | G19: 107 | J19: =(F19*G19)+(G19*H19*I19) -> 0 | P19: 4.5 | Q19: =P19*(F19+H19*I19) -> 0
C20: 2 | D20: Responsable d'Exploitation | G20: 58 | J20: =(F20*G20)+(G20*H20*I20) -> 0 | P20: 1.55 | Q20: =P20*(F20+H20*I20) -> 0
C21: 3 | D21: Technicien spécialisé | G21: 51 | J21: =(F21*G21)+(G21*H21*I21) -> 0 | P21: 1.1 | Q21: =P21*(F21+H21*I21) -> 0
C22: 4 | D22: Multitechnique | G22: 46 | J22: =(F22*G22)+(G22*H22*I22) -> 0 | P22: 1 | Q22: =P22*(F22+H22*I22) -> 0 | R22: PRIX DE REVIENT
C23: 5 | D23: Technicien CMT | G23: 44 | J23: =(F23*G23)+(G23*H23*I23) -> 0 | P23: 1.1 | Q23: =P23*(F23+H23*I23) -> 0 | R23: =I66 -> 0 | S23: =J66 -> 0
C24: 6 | D24: Assistante | G24: 44 | J24: =(F24*G24)+(G24*H24*I24) -> 0 | P24: 1 | Q24: =P24*(F24+H24*I24) -> 0
C25: 7 | D25: Méthodes / Commerce | G25: 108 | J25: =(F25*G25)+(G25*H25*I25) -> 0 | P25: 4.75 | Q25: =P25*(F25+H25*I25) -> 0
C26: 8 | D26: 3*8 | G26: 48 | J26: =(F26*G26)+(G26*H26*I26) -> 0 | P26: 0.5 | Q26: =P26*(F26+H26*I26) -> 0
C27: 11 | D27: Apprentis | G27: 37 | J27: =(F27*G27)+(G27*H27*I27) -> 0 | P27: 1.75 | Q27: =P27*(F27+H27*I27) -> 0
J28: =(F28*G28)+(G28*H28*I28) -> 0 | P28: Total | Q28: =SUM(Q19:Q27) -> 0
C29: SOUS-TOTAL HEURES SOCIETE | F29: =SUM(F19:F28) -> 0 | H29: =SUM(H19:H28) -> 0 | J29: =SUM(J19:J28) -> 0
C31: AUTRES MAIN D'ŒUVRE
D33: NOTE DE FRAIS | L33: Achats
D34: PETITS DEPLACEMENTS | F34: =SUM(F20:F23)+F26+F27 -> 0 | G34: heures avec panier de | I34: =(9+0.8*1.87)/7 -> 1.4994286 | J34: =F34*I34 -> 0 | L34: Montant initial | M34: =Annexe!I10 -> 0
D35: PRIMES EXCEPTIONNELLES | L35: Buy out
D36: DEPLACEMENTS / AUTRES INDEMNITES | J36: =J34+J35 -> 0 | L36: Economies | M36: =M34*M35 -> 0
L37: Montant final | M37: =M34-M36 -> 0
D38: S/TOTAL AUTRES MAIN D'ŒUVRE | J38: =SUM(J33+J36) -> 0
L39: Sous-traitance externe
C40: ACHATS | L40: Montant initial | M40: =Annexe!I34 -> 381.7
L41: Buy out
D42: FOURNITURES (voir détails en Annexe) | L42: Economies | M42: =M40*M41 -> 0
D43: Frais généraux sur achats | H43: Taux | I43: 0.1 | J43: =J42*I43 -> 0 | L43: Montant final | M43: =M40-M42 -> 381.7
D45: S/TOTAL ACHATS | J45: =SUM(J43+J42) -> 0 | L45: Sous-traitance services
L46: Montant initial | M46: =Annexe!I42 -> 0
C47: SOUS-TRAITANCE | L47: Buy out
L48: Economies | M48: =M46*M47 -> 0
D49: SOUS-TRAITANCE EXTERNE (voir détails en Annexe) | L49: Montant final | M49: =M46-M48 -> 0
...

Sheet Débours M
B3: BUDGET D'AFFAIRE 2020
G6: NUMERO D'AFFAIRE | I6: ='Lettre devis'!C22 -> #N/A | L6: DATE : | M6: ='Lettre devis'!E5 -> 0
G7: NOM DU CLIENT | I7: ='Lettre devis'!E8 -> 0 | L7: CREATEUR DU BUDGET : | R7: RECAPITULATIF
G8: SITE | I8: ='Lettre devis'!C12 -> ALFORTVILLE CT | L8: ='Lettre devis'!C18 -> 0 | R8: Responsable d'Exploitation | T8: =F20 -> 0
G9: REFERENCE DEVIS | I9: ='Lettre devis'!C17 -> DEVIS 2020 - FORUM XLS | L9: VERSION : | R9: BUDGET ACHAT | T9: =J42 -> 0
G10: REFERENCE CLIENT | I10: ='Lettre devis'!C21 -> 0 | L10: CODE MARKETING : | R10: SOUS-TRAITANCE EXTERNE | T10: =J49 -> 381.7
G11: PROJET | I11: ='Lettre devis'!C24 -> 0 | R11: SOUS-TRAITANCE INTERNE | T11: =J52 -> 0
R12: SOUS-TRAITANCE SERVICES | T12: =J50 -> 0
C14: DETAILS DES HEURES | R14: NOTE DE FRAIS | T14: =J33 -> 0
C16: Section | D16: Libellé | F16: Heures normales | H16: HNO / H astreinte | J16: Montants | K16: Commentaires | R16: PRIX DE VENTE | T16: =ROUND(J68,2) -> 1000
F17: Nombre | G17: Taux Devis | H17: Nombre | I17: Coefficient
R18: FRANCHISE | T18: ='Devis Client'!C64 -> NON
C19: 1 | D19: Responsable d'Affaires | G19: 107 | J19: =(F19*G19)+(G19*H19*I19) -> 0 | P19: 4.5 | Q19: =P19*(F19+H19*I19) -> 0
C20: 2 | D20: Responsable d'Exploitation | G20: 58 | J20: =(F20*G20)+(G20*H20*I20) -> 0 | P20: 1.55 | Q20: =P20*(F20+H20*I20) -> 0
C21: 3 | D21: Technicien spécialisé | G21: 51 | J21: =(F21*G21)+(G21*H21*I21) -> 0 | P21: 1.1 | Q21: =P21*(F21+H21*I21) -> 0
C22: 4 | D22: Multitechnique | G22: 46 | J22: =(F22*G22)+(G22*H22*I22) -> 0 | P22: 1 | Q22: =P22*(F22+H22*I22) -> 0 | R22: PRIX DE REVIENT
C23: 5 | D23: Technicien CMT | G23: 44 | J23: =(F23*G23)+(G23*H23*I23) -> 0 | P23: 1.1 | Q23: =P23*(F23+H23*I23) -> 0 | R23: =I66 -> 1.2122326 | S23: =J66 -> 547.96796
C24: 6 | D24: Assistante | G24: 44 | J24: =(F24*G24)+(G24*H24*I24) -> 0 | P24: 1 | Q24: =P24*(F24+H24*I24) -> 0
C25: 7 | D25: Méthodes / Commerce | G25: 108 | J25: =(F25*G25)+(G25*H25*I25) -> 0 | P25: 4.75 | Q25: =P25*(F25+H25*I25) -> 0
C26: 8 | D26: 3*8 | G26: 48 | J26: =(F26*G26)+(G26*H26*I26) -> 0 | P26: 0.5 | Q26: =P26*(F26+H26*I26) -> 0
C27: 11 | D27: Apprentis | G27: 37 | J27: =(F27*G27)+(G27*H27*I27) -> 0 | P27: 1.75 | Q27: =P27*(F27+H27*I27) -> 0
J28: =(F28*G28)+(G28*H28*I28) -> 0 | P28: Total | Q28: =SUM(Q19:Q27) -> 0
C29: SOUS-TOTAL HEURES SOCIETE | F29: =SUM(F19:F28) -> 0 | H29: =SUM(H19:H28) -> 0 | J29: =SUM(J19:J28) -> 0
C31: AUTRES MAIN D'ŒUVRE
D33: NOTE DE FRAIS | L33: Achats
D34: PETITS DEPLACEMENTS | F34: =SUM(F20:F23)+F26+F27 -> 0 | G34: heures avec panier de | I34: =(9+0.8*1.87)/7 -> 1.4994286 | J34: =F34*I34 -> 0 | L34: Montant initial | M34: =Annexe!I10 -> 0
D35: PRIMES EXCEPTIONNELLES | L35: Buy out
D36: DEPLACEMENTS / AUTRES INDEMNITES | J36: =J34+J35 -> 0 | L36: Economies | M36: =M34*M35 -> 0
L37: Montant final | M37: =M34-M36 -> 0
D38: S/TOTAL AUTRES MAIN D'ŒUVRE | J38: =SUM(J33+J36) -> 0
L39: Sous-traitance externe
C40: ACHATS | L40: Montant initial | M40: =Annexe!I34 -> 381.7
L41: Buy out
D42: FOURNITURES (voir détails en Annexe) | J42: =M34 -> 0 | L42: Economies | M42: =M40*M41 -> 0
D43: Frais généraux sur achats | H43: Taux | I43: 0.1 | J43: =J42*I43 -> 0 | L43: Montant final | M43: =M40-M42 -> 381.7
D45: S/TOTAL ACHATS | J45: =SUM(J43+J42) -> 0 | L45: Sous-traitance services
L46: Montant initial | M46: =Annexe!I42 -> 0
C47: SOUS-TRAITANCE | L47: Buy out
L48: Economies | M48: =M46*M47 -> 0
D49: SOUS-TRAITANCE EXTERNE (voir détails en Annexe) | J49: =M40 -> 381.7 | L49: Montant final | M49: =M46-M48 -> 0
...

Sheet Annexe
E1: PRIX DE REVIENT | F1: ='Débours Global'!I66 -> 0.050300536 | G1: ='Débours Global'!J66 -> 47.891564
B2: Pièces
B3: Lot | C3: Désignation | E3: Société | F3: Prestations | I3: Prix de Revient
H10: Total | I10: =SUM(I4:I8) -> 0
B12: Sous-traitance technique
B13: Lot | C13: Désignation | E13: Société | F13: Prestations | I13: Prix de Revient
I14: 381.7
H34: Total | I34: =SUM(I14:I32) -> 381.7
B36: Sous-traitance services
B37: Lot | C37: Désignation | E37: Société | F37: Prestations | I37: Prix de Revient
H42: Total | I42: =SUM(I38:I40) -> 0
B44: Sous-traitants internes VINCI (affaire E)
B45: Lot | C45: Désignation | E45: Société | F45: Prestations | I45: Prix de Revient
H53: Total | I53: =SUM(I46:I51) -> 0

Sheet REFERENTIEL PRIX
A1: MONTANTS A PRENDRE EN COMPTE AU CAS PAR CAS SELON VOS DEVIS
A2: DOMAINE | B2: EQUIPEMENT | C2: DESCRIPTION | D2: MONTANT FOURNISSEUR | E2: N° DE DEVIS S/TRAIT. DE REFERENCE | F2: MONTANT VINCI

Sheet site lot 12 bis
