Workbook
Name AprSun1: DATE(CalendarYear,4,1)-WEEKDAY(DATE(CalendarYear,4,1))+1
Name AprSun1: DATE(CalendarYear,4,1)-WEEKDAY(DATE(CalendarYear,4,1))+1
Name AprSun1: DATE(CalendarYear,4,1)-WEEKDAY(DATE(CalendarYear,4,1))+1
Name AprSun1: DATE(CalendarYear,4,1)-WEEKDAY(DATE(CalendarYear,4,1))+1
Name AprSun1: DATE(CalendarYear,4,1)-WEEKDAY(DATE(CalendarYear,4,1))+1
Name AugSun1: DATE(CalendarYear,8,1)-WEEKDAY(DATE(CalendarYear,8,1))+1
Name AugSun1: DATE(CalendarYear,8,1)-WEEKDAY(DATE(CalendarYear,8,1))+1
Name AugSun1: DATE(CalendarYear,8,1)-WEEKDAY(DATE(CalendarYear,8,1))+1
Name AugSun1: DATE(CalendarYear,8,1)-WEEKDAY(DATE(CalendarYear,8,1))+1
Name AugSun1: DATE(CalendarYear,8,1)-WEEKDAY(DATE(CalendarYear,8,1))+1
Name AZ: [2]!YearLookup[#Data]
Name CalendarYear: [1]Janv.!$K$1
Name DecSun1: DATE(CalendarYear,12,1)-WEEKDAY(DATE(CalendarYear,12,1))+1
Name DecSun1: DATE(CalendarYear,12,1)-WEEKDAY(DATE(CalendarYear,12,1))+1
Name DecSun1: DATE(CalendarYear,12,1)-WEEKDAY(DATE(CalendarYear,12,1))+1
Name DecSun1: DATE(CalendarYear,12,1)-WEEKDAY(DATE(CalendarYear,12,1))+1
Name DecSun1: DATE(CalendarYear,12,1)-WEEKDAY(DATE(CalendarYear,12,1))+1
Name FebSun1: DATE(CalendarYear,2,1)-WEEKDAY(DATE(CalendarYear,2,1))+1
Name FebSun1: DATE(CalendarYear,2,1)-WEEKDAY(DATE(CalendarYear,2,1))+1
Name FebSun1: DATE(CalendarYear,2,1)-WEEKDAY(DATE(CalendarYear,2,1))+1
Name FebSun1: DATE(CalendarYear,2,1)-WEEKDAY(DATE(CalendarYear,2,1))+1
Name FebSun1: DATE(CalendarYear,2,1)-WEEKDAY(DATE(CalendarYear,2,1))+1
Name JanSun1: DATE(CalendarYear,1,1)-WEEKDAY(DATE(CalendarYear,1,1))+1
Name JanSun1: DATE(CalendarYear,1,1)-WEEKDAY(DATE(CalendarYear,1,1))+1
Name JanSun1: DATE(CalendarYear,1,1)-WEEKDAY(DATE(CalendarYear,1,1))+1
Name JanSun1: DATE(CalendarYear,1,1)-WEEKDAY(DATE(CalendarYear,1,1))+1
Name JanSun1: DATE(CalendarYear,1,1)-WEEKDAY(DATE(CalendarYear,1,1))+1
Name JulSun1: DATE(CalendarYear,7,1)-WEEKDAY(DATE(CalendarYear,7,1))+1
Name JulSun1: DATE(CalendarYear,7,1)-WEEKDAY(DATE(CalendarYear,7,1))+1
Name JulSun1: DATE(CalendarYear,7,1)-WEEKDAY(DATE(CalendarYear,7,1))+1
Name JulSun1: DATE(CalendarYear,7,1)-WEEKDAY(DATE(CalendarYear,7,1))+1
Name JulSun1: DATE(CalendarYear,7,1)-WEEKDAY(DATE(CalendarYear,7,1))+1
Name JunSun1: DATE(CalendarYear,6,1)-WEEKDAY(DATE(CalendarYear,6,1))+1
Name JunSun1: DATE(CalendarYear,6,1)-WEEKDAY(DATE(CalendarYear,6,1))+1
Name JunSun1: DATE(CalendarYear,6,1)-WEEKDAY(DATE(CalendarYear,6,1))+1
Name JunSun1: DATE(CalendarYear,6,1)-WEEKDAY(DATE(CalendarYear,6,1))+1
Name JunSun1: DATE(CalendarYear,6,1)-WEEKDAY(DATE(CalendarYear,6,1))+1
Name MarSun1: DATE(CalendarYear,3,1)-WEEKDAY(DATE(CalendarYear,3,1))+1
Name MarSun1: DATE(CalendarYear,3,1)-WEEKDAY(DATE(CalendarYear,3,1))+1
Name MarSun1: DATE(CalendarYear,3,1)-WEEKDAY(DATE(CalendarYear,3,1))+1
Name MarSun1: DATE(CalendarYear,3,1)-WEEKDAY(DATE(CalendarYear,3,1))+1
Name MarSun1: DATE(CalendarYear,3,1)-WEEKDAY(DATE(CalendarYear,3,1))+1
Name MaySun1: DATE(CalendarYear,5,1)-WEEKDAY(DATE(CalendarYear,5,1))+1
Name MaySun1: DATE(CalendarYear,5,1)-WEEKDAY(DATE(CalendarYear,5,1))+1
Name MaySun1: DATE(CalendarYear,5,1)-WEEKDAY(DATE(CalendarYear,5,1))+1
Name MaySun1: DATE(CalendarYear,5,1)-WEEKDAY(DATE(CalendarYear,5,1))+1
Name MaySun1: DATE(CalendarYear,5,1)-WEEKDAY(DATE(CalendarYear,5,1))+1
Name NovSun1: DATE(CalendarYear,11,1)-WEEKDAY(DATE(CalendarYear,11,1))+1
Name NovSun1: DATE(CalendarYear,11,1)-WEEKDAY(DATE(CalendarYear,11,1))+1
Name NovSun1: DATE(CalendarYear,11,1)-WEEKDAY(DATE(CalendarYear,11,1))+1
Name NovSun1: DATE(CalendarYear,11,1)-WEEKDAY(DATE(CalendarYear,11,1))+1
Name NovSun1: DATE(CalendarYear,11,1)-WEEKDAY(DATE(CalendarYear,11,1))+1
Name OctSun1: DATE(CalendarYear,10,1)-WEEKDAY(DATE(CalendarYear,10,1))+1
Name OctSun1: DATE(CalendarYear,10,1)-WEEKDAY(DATE(CalendarYear,10,1))+1
Name OctSun1: DATE(CalendarYear,10,1)-WEEKDAY(DATE(CalendarYear,10,1))+1
Name OctSun1: DATE(CalendarYear,10,1)-WEEKDAY(DATE(CalendarYear,10,1))+1
Name OctSun1: DATE(CalendarYear,10,1)-WEEKDAY(DATE(CalendarYear,10,1))+1
Name SepSun1: DATE(CalendarYear,9,1)-WEEKDAY(DATE(CalendarYear,9,1))+1
Name SepSun1: DATE(CalendarYear,9,1)-WEEKDAY(DATE(CalendarYear,9,1))+1
Name SepSun1: DATE(CalendarYear,9,1)-WEEKDAY(DATE(CalendarYear,9,1))+1

Sheet Personnels 2
A4: NOMS | B4: JANVIER | D4: FÉVRIER | F4: MARS | H4: AVRIL | J4: MAI | L4: JUIN | N4: JUILLET | P4: AOÛT | R4: SEPTEMBRE | T4: OCTOBRE | V4: NOVEMBRE | X4: DÉCEMBRE
B6: ENTRETIEN | C6: SERVITUDE | D6: ENTRETIEN | E6: SERVITUDE | F6: ENTRETIEN | G6: SERVITUDE | H6: ENTRETIEN | I6: SERVITUDE | J6: ENTRETIEN | K6: SERVITUDE | L6: ENTRETIEN | M6: SERVITUDE | N6: ENTRETIEN | O6: SERVITUDE | P6: ENTRETIEN | Q6: SERVITUDE | R6: ENTRETIEN | S6: SERVITUDE | T6: ENTRETIEN | U6: SERVITUDE | V6: ENTRETIEN | W6: SERVITUDE | X6: ENTRETIEN | Y6: SERVITUDE
A8: JOHN | B8: =SUMIFS('0201'!K$7:K86,'0201'!B$7:B86,'Personnels 2'!A8:A11,'0201'!J$7:J86,"Entretien compétences chasse") +SUMIFS('0201'!K$7:K86,'0201'!B$7:B86,'Personnels 2'!A8:A11,'0201'!J$7:J86,"Abonnés non instructeur") +SUMIFS('0301'!K$7:K86,'0301'!B$7:B86,'Personnels 2'!A8:A11,'0301'!J$7:J86,"Entretien compétences chasse") +SUMIFS('0301'!K$7:K86,'0301'!B$7:B86,'Personnels 2'!A8:A11,'0301'!J$7:J86,"Abonnés non instructeur") -> 0 | C8: =SUMIFS('0201'!K$7:K86,'0201'!B$7:B86,'Personnels 2'!A8,'0201'!J$7:J86,"Mission Livre bleu") +SUMIFS('0201'!K$7:K86,'0201'!B$7:B86,'Personnels 2'!A8,'0201'!J$7:J86,"Servitude défilé VDC Vol CNOA + Présent Tactique (130H)") +SUMIFS('0201'!K$7:K86,'0201'!B$7:B86,'Personnels 2'!A8,'0201'!J$7:J86,"Entrainement présentation tactique") +SUMIFS('0301'!K$7:K86,'0301'!B$7:B86,'Personnels 2'!A8,'0301'!J$7:J86,"Mission Livre bleu") +SUMIFS('0301'!K$7:K86,'0301'!B$7:B86,'Personnels 2'!A8,'0301'!J$7:J86,"Servitude défilé VDC Vol CNOA + Présent Tactique (130H)") +SUMIFS('0301'!K$7:K86,'0301'!B$7:B86,'Personnels 2'!A8,'0301'!J$7:J86,"Entrainement présentation tactique") -> 0
A9: MAC | B9: =SUMIFS('0201'!K$7:K87,'0201'!B$7:B87,'Personnels 2'!A9:A12,'0201'!J$7:J87,"Entretien compétences chasse") +SUMIFS('0201'!K$7:K87,'0201'!B$7:B87,'Personnels 2'!A9:A12,'0201'!J$7:J87,"Abonnés non instructeur") +SUMIFS('0301'!K$7:K87,'0301'!B$7:B87,'Personnels 2'!A9:A12,'0301'!J$7:J87,"Entretien compétences chasse") +SUMIFS('0301'!K$7:K87,'0301'!B$7:B87,'Personnels 2'!A9:A12,'0301'!J$7:J87,"Abonnés non instructeur") -> 0 | C9: =SUMIFS('0201'!K$7:K87,'0201'!B$7:B87,'Personnels 2'!A9,'0201'!J$7:J87,"Mission Livre bleu") +SUMIFS('0201'!K$7:K87,'0201'!B$7:B87,'Personnels 2'!A9,'0201'!J$7:J87,"Servitude défilé VDC Vol CNOA + Présent Tactique (130H)") +SUMIFS('0201'!K$7:K87,'0201'!B$7:B87,'Personnels 2'!A9,'0201'!J$7:J87,"Entrainement présentation tactique") +SUMIFS('0301'!K$7:K87,'0301'!B$7:B87,'Personnels 2'!A9,'0301'!J$7:J87,"Mission Livre bleu") +SUMIFS('0301'!K$7:K87,'0301'!B$7:B87,'Personnels 2'!A9,'0301'!J$7:J87,"Servitude défilé VDC Vol CNOA + Présent Tactique (130H)") +SUMIFS('0301'!K$7:K87,'0301'!B$7:B87,'Personnels 2'!A9,'0301'!J$7:J87,"Entrainement présentation tactique") -> 0
A10: DOU | B10: =SUMIFS('0201'!K$7:K88,'0201'!B$7:B88,'Personnels 2'!A10:A13,'0201'!J$7:J88,"Entretien compétences chasse") +SUMIFS('0201'!K$7:K88,'0201'!B$7:B88,'Personnels 2'!A10:A13,'0201'!J$7:J88,"Abonnés non instructeur") +SUMIFS('0301'!K$7:K88,'0301'!B$7:B88,'Personnels 2'!A10:A13,'0301'!J$7:J88,"Entretien compétences chasse") +SUMIFS('0301'!K$7:K88,'0301'!B$7:B88,'Personnels 2'!A10:A13,'0301'!J$7:J88,"Abonnés non instructeur") -> 0 | C10: =SUMIFS('0201'!K$7:K88,'0201'!B$7:B88,'Personnels 2'!A10,'0201'!J$7:J88,"Mission Livre bleu") +SUMIFS('0201'!K$7:K88,'0201'!B$7:B88,'Personnels 2'!A10,'0201'!J$7:J88,"Servitude défilé VDC Vol CNOA + Présent Tactique (130H)") +SUMIFS('0201'!K$7:K88,'0201'!B$7:B88,'Personnels 2'!A10,'0201'!J$7:J88,"Entrainement présentation tactique") +SUMIFS('0301'!K$7:K88,'0301'!B$7:B88,'Personnels 2'!A10,'0301'!J$7:J88,"Mission Livre bleu") +SUMIFS('0301'!K$7:K88,'0301'!B$7:B88,'Personnels 2'!A10,'0301'!J$7:J88,"Servitude défilé VDC Vol CNOA + Présent Tactique (130H)") +SUMIFS('0301'!K$7:K88,'0301'!B$7:B88,'Personnels 2'!A10,'0301'!J$7:J88,"Entrainement présentation tactique") -> 0
A11: GALL | B11: =SUMIFS('0201'!K$7:K89,'0201'!B$7:B89,'Personnels 2'!A11:A14,'0201'!J$7:J89,"Entretien compétences chasse") +SUMIFS('0201'!K$7:K89,'0201'!B$7:B89,'Personnels 2'!A11:A14,'0201'!J$7:J89,"Abonnés non instructeur") +SUMIFS('0301'!K$7:K89,'0301'!B$7:B89,'Personnels 2'!A11:A14,'0301'!J$7:J89,"Entretien compétences chasse") +SUMIFS('0301'!K$7:K89,'0301'!B$7:B89,'Personnels 2'!A11:A14,'0301'!J$7:J89,"Abonnés non instructeur") -> 0 | C11: =SUMIFS('0201'!K$7:K89,'0201'!B$7:B89,'Personnels 2'!A11,'0201'!J$7:J89,"Mission Livre bleu") +SUMIFS('0201'!K$7:K89,'0201'!B$7:B89,'Personnels 2'!A11,'0201'!J$7:J89,"Servitude défilé VDC Vol CNOA + Présent Tactique (130H)") +SUMIFS('0201'!K$7:K89,'0201'!B$7:B89,'Personnels 2'!A11,'0201'!J$7:J89,"Entrainement présentation tactique") +SUMIFS('0301'!K$7:K89,'0301'!B$7:B89,'Personnels 2'!A11,'0301'!J$7:J89,"Mission Livre bleu") +SUMIFS('0301'!K$7:K89,'0301'!B$7:B89,'Personnels 2'!A11,'0301'!J$7:J89,"Servitude défilé VDC Vol CNOA + Présent Tactique (130H)") +SUMIFS('0301'!K$7:K89,'0301'!B$7:B89,'Personnels 2'!A11,'0301'!J$7:J89,"Entrainement présentation tactique") -> 0

Sheet Janv.
B1: =DATE(CalendarYear,1,1) -> 42736 | J1: Sélectionner l'année : | K1: 2017
B2: Lundi | C2: Mardi | D2: Mercredi | E2: Jeudi | F2: Vendredi | G2: Samedi | H2: Dimanche
B3: =IF(DAY(JanSun1)=1,"",IF(AND(YEAR(JanSun1+1)=CalendarYear,MONTH(JanSun1+1)=1),JanSun1+1,"")) | C3: =IF(DAY(JanSun1)=1,"",IF(AND(YEAR(JanSun1+2)=CalendarYear,MONTH(JanSun1+2)=1),JanSun1+2,"")) | D3: =IF(DAY(JanSun1)=1,"",IF(AND(YEAR(JanSun1+3)=CalendarYear,MONTH(JanSun1+3)=1),JanSun1+3,"")) | E3: =IF(DAY(JanSun1)=1,"",IF(AND(YEAR(JanSun1+4)=CalendarYear,MONTH(JanSun1+4)=1),JanSun1+4,"")) | F3: =IF(DAY(JanSun1)=1,"",IF(AND(YEAR(JanSun1+5)=CalendarYear,MONTH(JanSun1+5)=1),JanSun1+5,"")) | G3: =IF(DAY(JanSun1)=1,"",IF(AND(YEAR(JanSun1+6)=CalendarYear,MONTH(JanSun1+6)=1),JanSun1+6,"")) | H3: =IF(DAY(JanSun1)=1,IF(AND(YEAR(JanSun1)=CalendarYear,MONTH(JanSun1)=1),JanSun1,""),IF(AND(YEAR(JanSun1+7)=CalendarYear,MONTH(JanSun1+7)=1),JanSun1+7,"")) -> 42736
B5: =IF(DAY(JanSun1)=1,IF(AND(YEAR(JanSun1+1)=CalendarYear,MONTH(JanSun1+1)=1),JanSun1+1,""),IF(AND(YEAR(JanSun1+8)=CalendarYear,MONTH(JanSun1+8)=1),JanSun1+8,"")) -> 42737 | C5: =IF(DAY(JanSun1)=1,IF(AND(YEAR(JanSun1+2)=CalendarYear,MONTH(JanSun1+2)=1),JanSun1+2,""),IF(AND(YEAR(JanSun1+9)=CalendarYear,MONTH(JanSun1+9)=1),JanSun1+9,"")) -> 42738 | D5: =IF(DAY(JanSun1)=1,IF(AND(YEAR(JanSun1+3)=CalendarYear,MONTH(JanSun1+3)=1),JanSun1+3,""),IF(AND(YEAR(JanSun1+10)=CalendarYear,MONTH(JanSun1+10)=1),JanSun1+10,"")) -> 42739 | E5: =IF(DAY(JanSun1)=1,IF(AND(YEAR(JanSun1+4)=CalendarYear,MONTH(JanSun1+4)=1),JanSun1+4,""),IF(AND(YEAR(JanSun1+11)=CalendarYear,MONTH(JanSun1+11)=1),JanSun1+11,"")) -> 42740 | F5: =IF(DAY(JanSun1)=1,IF(AND(YEAR(JanSun1+5)=CalendarYear,MONTH(JanSun1+5)=1),JanSun1+5,""),IF(AND(YEAR(JanSun1+12)=CalendarYear,MONTH(JanSun1+12)=1),JanSun1+12,"")) -> 42741 | G5: =IF(DAY(JanSun1)=1,IF(AND(YEAR(JanSun1+6)=CalendarYear,MONTH(JanSun1+6)=1),JanSun1+6,""),IF(AND(YEAR(JanSun1+13)=CalendarYear,MONTH(JanSun1+13)=1),JanSun1+13,"")) -> 42742 | H5: =IF(DAY(JanSun1)=1,IF(AND(YEAR(JanSun1+7)=CalendarYear,MONTH(JanSun1+7)=1),JanSun1+7,""),IF(AND(YEAR(JanSun1+14)=CalendarYear,MONTH(JanSun1+14)=1),JanSun1+14,"")) -> 42743
B6: ='[1]0201'!N10 -> 0 | C6: ='[1]0301'!N10 -> 7 | D6: ='[1]0401'!N10 -> 16 | E6: ='[1]0501'!N10 -> 24 | F6: ='[1]0601'!N10 -> 18
B7: ='[1]0201'!N7 -> 0 | C7: ='[1]0301'!N7 -> 0.39930556 | D7: ='[1]0401'!N7 -> 0.83680556 | E7: ='[1]0501'!N7 -> 1.1597222 | F7: ='[1]0601'!N7 -> 0.92361111
B8: =IF(DAY(JanSun1)=1,IF(AND(YEAR(JanSun1+8)=CalendarYear,MONTH(JanSun1+8)=1),JanSun1+8,""),IF(AND(YEAR(JanSun1+15)=CalendarYear,MONTH(JanSun1+15)=1),JanSun1+15,"")) -> 42744 | C8: =IF(DAY(JanSun1)=1,IF(AND(YEAR(JanSun1+9)=CalendarYear,MONTH(JanSun1+9)=1),JanSun1+9,""),IF(AND(YEAR(JanSun1+16)=CalendarYear,MONTH(JanSun1+16)=1),JanSun1+16,"")) -> 42745 | D8: =IF(DAY(JanSun1)=1,IF(AND(YEAR(JanSun1+10)=CalendarYear,MONTH(JanSun1+10)=1),JanSun1+10,""),IF(AND(YEAR(JanSun1+17)=CalendarYear,MONTH(JanSun1+17)=1),JanSun1+17,"")) -> 42746 | E8: =IF(DAY(JanSun1)=1,IF(AND(YEAR(JanSun1+11)=CalendarYear,MONTH(JanSun1+11)=1),JanSun1+11,""),IF(AND(YEAR(JanSun1+18)=CalendarYear,MONTH(JanSun1+18)=1),JanSun1+18,"")) -> 42747 | F8: =IF(DAY(JanSun1)=1,IF(AND(YEAR(JanSun1+12)=CalendarYear,MONTH(JanSun1+12)=1),JanSun1+12,""),IF(AND(YEAR(JanSun1+19)=CalendarYear,MONTH(JanSun1+19)=1),JanSun1+19,"")) -> 42748 | G8: =IF(DAY(JanSun1)=1,IF(AND(YEAR(JanSun1+13)=CalendarYear,MONTH(JanSun1+13)=1),JanSun1+13,""),IF(AND(YEAR(JanSun1+20)=CalendarYear,MONTH(JanSun1+20)=1),JanSun1+20,"")) -> 42749 | H8: =IF(DAY(JanSun1)=1,IF(AND(YEAR(JanSun1+14)=CalendarYear,MONTH(JanSun1+14)=1),JanSun1+14,""),IF(AND(YEAR(JanSun1+21)=CalendarYear,MONTH(JanSun1+21)=1),JanSun1+21,"")) -> 42750
B9: =+'[1]0901'!N10 -> 6 | C9: =+'[1]1001'!N10 -> 29 | D9: =+'[1]1101'!N10 -> 7 | E9: =+'[1]1201'!N10 -> 19 | F9: =+'[1]1301'!N10 -> 20
B10: =+'[1]0901'!N7 -> 0.28125 | C10: =+'[1]1001'!N7 -> 1.3611111 | D10: =+'[1]1101'!N7 -> 0.39930556 | E10: =+'[1]1201'!N7 -> 0.89236111 | F10: =+'[1]1301'!N7 -> 0.99305556
B11: =IF(DAY(JanSun1)=1,IF(AND(YEAR(JanSun1+15)=CalendarYear,MONTH(JanSun1+15)=1),JanSun1+15,""),IF(AND(YEAR(JanSun1+22)=CalendarYear,MONTH(JanSun1+22)=1),JanSun1+22,"")) -> 42751 | C11: =IF(DAY(JanSun1)=1,IF(AND(YEAR(JanSun1+16)=CalendarYear,MONTH(JanSun1+16)=1),JanSun1+16,""),IF(AND(YEAR(JanSun1+23)=CalendarYear,MONTH(JanSun1+23)=1),JanSun1+23,"")) -> 42752 | D11: =IF(DAY(JanSun1)=1,IF(AND(YEAR(JanSun1+17)=CalendarYear,MONTH(JanSun1+17)=1),JanSun1+17,""),IF(AND(YEAR(JanSun1+24)=CalendarYear,MONTH(JanSun1+24)=1),JanSun1+24,"")) -> 42753 | E11: =IF(DAY(JanSun1)=1,IF(AND(YEAR(JanSun1+18)=CalendarYear,MONTH(JanSun1+18)=1),JanSun1+18,""),IF(AND(YEAR(JanSun1+25)=CalendarYear,MONTH(JanSun1+25)=1),JanSun1+25,"")) -> 42754 | F11: =IF(DAY(JanSun1)=1,IF(AND(YEAR(JanSun1+19)=CalendarYear,MONTH(JanSun1+19)=1),JanSun1+19,""),IF(AND(YEAR(JanSun1+26)=CalendarYear,MONTH(JanSun1+26)=1),JanSun1+26,"")) -> 42755 | G11: =IF(DAY(JanSun1)=1,IF(AND(YEAR(JanSun1+20)=CalendarYear,MONTH(JanSun1+20)=1),JanSun1+20,""),IF(AND(YEAR(JanSun1+27)=CalendarYear,MONTH(JanSun1+27)=1),JanSun1+27,"")) -> 42756 | H11: =IF(DAY(JanSun1)=1,IF(AND(YEAR(JanSun1+21)=CalendarYear,MONTH(JanSun1+21)=1),JanSun1+21,""),IF(AND(YEAR(JanSun1+28)=CalendarYear,MONTH(JanSun1+28)=1),JanSun1+28,"")) -> 42757
B12: =+'[1]1601'!N10 -> 26 | C12: =+'[1]1701'!N10 -> 9 | D12: =+'[1]1801'!N10 -> 31 | E12: ='[1]1901'!N10 -> 34 | F12: =+'[1]2001'!N10 -> 21
B13: =+'[1]1601'!N7 -> 1.2638889 | C13: =+'[1]1701'!N7 -> 0.40277778 | D13: =+'[1]1801'!N7 -> 1.4791667 | E13: =+'[1]1901'!N7 -> 1.59375 | F13: =+'[1]2001'!N7 -> 0.90277778
B14: =IF(DAY(JanSun1)=1,IF(AND(YEAR(JanSun1+22)=CalendarYear,MONTH(JanSun1+22)=1),JanSun1+22,""),IF(AND(YEAR(JanSun1+29)=CalendarYear,MONTH(JanSun1+29)=1),JanSun1+29,"")) -> 42758 | C14: =IF(DAY(JanSun1)=1,IF(AND(YEAR(JanSun1+23)=CalendarYear,MONTH(JanSun1+23)=1),JanSun1+23,""),IF(AND(YEAR(JanSun1+30)=CalendarYear,MONTH(JanSun1+30)=1),JanSun1+30,"")) -> 42759 | D14: =IF(DAY(JanSun1)=1,IF(AND(YEAR(JanSun1+24)=CalendarYear,MONTH(JanSun1+24)=1),JanSun1+24,""),IF(AND(YEAR(JanSun1+31)=CalendarYear,MONTH(JanSun1+31)=1),JanSun1+31,"")) -> 42760 | E14: =IF(DAY(JanSun1)=1,IF(AND(YEAR(JanSun1+25)=CalendarYear,MONTH(JanSun1+25)=1),JanSun1+25,""),IF(AND(YEAR(JanSun1+32)=CalendarYear,MONTH(JanSun1+32)=1),JanSun1+32,"")) -> 42761 | F14: =IF(DAY(JanSun1)=1,IF(AND(YEAR(JanSun1+26)=CalendarYear,MONTH(JanSun1+26)=1),JanSun1+26,""),IF(AND(YEAR(JanSun1+33)=CalendarYear,MONTH(JanSun1+33)=1),JanSun1+33,"")) -> 42762 | G14: =IF(DAY(JanSun1)=1,IF(AND(YEAR(JanSun1+27)=CalendarYear,MONTH(JanSun1+27)=1),JanSun1+27,""),IF(AND(YEAR(JanSun1+34)=CalendarYear,MONTH(JanSun1+34)=1),JanSun1+34,"")) -> 42763 | H14: =IF(DAY(JanSun1)=1,IF(AND(YEAR(JanSun1+28)=CalendarYear,MONTH(JanSun1+28)=1),JanSun1+28,""),IF(AND(YEAR(JanSun1+35)=CalendarYear,MONTH(JanSun1+35)=1),JanSun1+35,"")) -> 42764
B15: =+'[1]2301'!N10 -> 20 | C15: =+'[1]2401'!N10 -> 12 | D15: =+'[1]2501'!N10 -> 17 | E15: =+'[1]2601'!N10 -> 22 | F15: =+'[1]2701'!N10 -> 22
B16: =+'[1]2301'!N7 -> 0.88888889 | C16: =+'[1]2401'!N7 -> 0.52430556 | D16: =+'[1]2501'!N7 -> 0.70833333 | E16: =+'[1]2601'!N7 -> 1.0451389 | F16: =+'[1]2701'!N7 -> 1.0590278
B17: =IF(DAY(JanSun1)=1,IF(AND(YEAR(JanSun1+29)=CalendarYear,MONTH(JanSun1+29)=1),JanSun1+29,""),IF(AND(YEAR(JanSun1+36)=CalendarYear,MONTH(JanSun1+36)=1),JanSun1+36,"")) -> 42765 | C17: =IF(DAY(JanSun1)=1,IF(AND(YEAR(JanSun1+30)=CalendarYear,MONTH(JanSun1+30)=1),JanSun1+30,""),IF(AND(YEAR(JanSun1+37)=CalendarYear,MONTH(JanSun1+37)=1),JanSun1+37,"")) -> 42766 | D17: Remarques :
B18: =+'[1]3001'!N10 -> 18 | C18: =+'[1]3101'!N10 -> 20 | D18: RETOUR PAGE D'ACCUEIL
B19: =+'[1]3001'!N7 -> 0.8125 | C19: =+'[1]3101'!N7 -> 1.0381944

Sheet 0201
C1: 42737 | K1: RETOUR JANVIER
B5: Nom | C5: N | D5: Heures jour | E5: Heures nuit | F5: ATRX | G5: AMVX | H5: Miss | I5: Coeff. | J5: PUX | K5: TOTAL
A7: 1 | K7: =D7+E7 -> 0 | M7: NB HEURES | N7: =SUM(K7:K86) -> 0
A9: 2 | K9: =D9+E9 -> 0
M10: SORTIES | N10: =ROWS(C7:C86)-COUNTBLANK(C7:C86) -> 0
A11: 3 | K11: =D11+E11 -> 0
A13: 4 | K13: =D13+E13 -> 0 | M13: NB ATRX | N13: =SUM(F7:F86) -> 0
A15: 5 | K15: =D15+E15 -> 0
M16: NB AMVX | N16: =SUM(G7:G86) -> 0
A17: 6 | K17: =D17+E17 -> 0
A19: 7 | K19: =D19+E19 -> 0
A21: 8 | K21: =D21+E21 -> 0
A23: 9 | K23: =D23+E23 -> 0
M24: NB ENTRETIEN | N24: =COUNTIF(J7:J86,"ENTRETIEN")+COUNTIF(J7:J86,"Entretien compétences chasse")+COUNTIF(J7:J86,"Abonnés non instructeur") -> 0
A25: 10 | K25: =D25+E25 -> 0
M26: HEURES ENTRETIEN | N26: =SUMIFS(K7:K86,J7:J86,"ENTRETIEN")+SUMIFS(K7:K86,J7:J86,"Entretien compétences chasse")+SUMIFS(K7:K86,J7:J86,"Abonnés non instructeur") -> 0
A27: 11 | K27: =D27+E27 -> 0
A29: 12 | K29: =D29+E29 -> 0 | M29: NB SERVITUDE | N29: =COUNTIF(J7:J86,"SERVITUDE")+COUNTIF(J7:J86,"Mission Livre bleu")+COUNTIF(J7:J86,"Servitude défilé VDC Vol CNOA + Présent Tactique (130H)")+COUNTIF(J7:J86,"Entrainement présentation tactique") -> 0
A31: 13 | K31: =D31+E31 -> 0 | M31: HEURES SERVITUDE | N31: =SUMIFS(K7:K86,J7:J86,"SERVITUDE")+SUMIFS(K7:K86,J7:J86,"Mission Livre bleu")+SUMIFS(K7:K86,J7:J86,"Servitude défilé VDC Vol CNOA + Présent Tactique (130H)")+SUMIFS(K7:K86,J7:J86,"Entrainement présentation tactique") -> 0
A33: 14 | K33: =D33+E33 -> 0
A35: 15 | K35: =D35+E35 -> 0
A37: 16 | K37: =D37+E37 -> 0
A39: 17 | K39: =D39+E39 -> 0
A41: 18 | K41: =D41+E41 -> 0
A43: 19 | K43: =D43+E43 -> 0
A45: 20 | K45: =D45+E45 -> 0
A47: 21 | K47: =D47+E47 -> 0
A49: 22 | K49: =D49+E49 -> 0
A51: 23 | K51: =D51+E51 -> 0
A53: 24 | K53: =D53+E53 -> 0
A55: 25 | K55: =D55+E55 -> 0
... A85: 40 | K85: =D85+E85 -> 0

Sheet 0301
C1: 42738 | K1: RETOUR JANVIER
B5: Noms | C5: N° | D5: Heures jour | E5: Heures nuit | F5: ATRX | G5: AMVX | H5: Miss | I5: Coeff. | J5: PUX | K5: TOTAL
A7: 1 | K7: =D7+E7 -> 0 | M7: NB HEURES | N7: =SUM(K7:K86) -> 0
A9: 2 | K9: =D9+E9 -> 0
M10: SORTIES | N10: =ROWS(C7:C86)-COUNTBLANK(C7:C86) -> 0
A11: 3 | K11: =D11+E11 -> 0
A13: 4 | K13: =D13+E13 -> 0 | M13: NB ATR | N13: =SUM(F7:F86) -> 0
A15: 5 | K15: =D15+E15 -> 0
M16: NB AMV | N16: =SUM(G7:G86) -> 0
A17: 6 | K17: =D17+E17 -> 0
A19: 7 | K19: =D19+E19 -> 0
A21: 8 | K21: =D21+E21 -> 0
A23: 9 | K23: =D23+E23 -> 0
M24: NB ENTRETIEN | N24: =COUNTIF(J7:J86,"ENTRETIEN")+COUNTIF(J7:J86,"Entretien compétences chasse")+COUNTIF(J7:J86,"Abonnés non instructeur") -> 0
A25: 10 | K25: =D25+E25 -> 0
M26: HEURES ENTRETIEN | N26: =SUMIFS(K7:K86,J7:J86,"ENTRETIEN")+SUMIFS(K7:K86,J7:J86,"Entretien compétences chasse")+SUMIFS(K7:K86,J7:J86,"Abonnés non instructeur") -> 0
A27: 11 | K27: =D27+E27 -> 0
A29: 12 | K29: =D29+E29 -> 0 | M29: NB SERVITUDE | N29: =COUNTIF(J7:J86,"SERVITUDE")+COUNTIF(J7:J86,"Mission Livre bleu")+COUNTIF(J7:J86,"Servitude défilé VDC Vol CNOA + Présent Tactique (130H)")+COUNTIF(J7:J86,"Entrainement présentation tactique") -> 0
A31: 13 | K31: =D31+E31 -> 0 | M31: HEURES SERVITUDE | N31: =SUMIFS(K7:K86,J7:J86,"SERVITUDE")+SUMIFS(K7:K86,J7:J86,"Mission Livre bleu")+SUMIFS(K7:K86,J7:J86,"Servitude défilé VDC Vol CNOA + Présent Tactique (130H)")+SUMIFS(K7:K86,J7:J86,"Entrainement présentation tactique") -> 0
A33: 14 | K33: =D33+E33 -> 0
A35: 15 | K35: =D35+E35 -> 0
A37: 16 | K37: =D37+E37 -> 0
A39: 17 | K39: =D39+E39 -> 0
A41: 18 | K41: =D41+E41 -> 0
A43: 19 | K43: =D43+E43 -> 0
A45: 20 | K45: =D45+E45 -> 0
A47: 21 | K47: =D47+E47 -> 0
A49: 22 | K49: =D49+E49 -> 0
A51: 23 | K51: =D51+E51 -> 0
A53: 24 | K53: =D53+E53 -> 0
A55: 25 | K55: =D55+E55 -> 0
... A85: 40 | K85: =D85+E85 -> 0

Sheet Liste de recherche
A1: Année
A2: 2010 | G2: ENTRETIEN
A3: 2011 | G3: Entretien compétences chasse
A4: 2012 | G4: Abonnés non instructeur
A5: 2013 | G5: SERVITUDE
A6: 2014 | G6: Mission Livre bleu
A7: 2015 | G7: Servitude défilé VDC Vol CNOA + Présent Tactique (130H)
A8: 2016 | G8: Entrainement présentation tactique
A9: 2017
A10: 2018
A11: 2019
A12: 2020
