Workbook

Sheet résultat
A1: N° d'écriture | B1: Ecriture à extourner ? | C1: Motif de l'extourne | D1: Date d'extourne | E1: Société | F1: Type de pièce | G1: Devise | H1: Date comptable | I1: Date de pièce | J1: Libellé d'écriture | K1: Référence | L1: Type de compte | M1: Numéro du compte fournisseur/client/compte | N1: Code CGS | O1: Investissement ? | P1: Montant | Q1: Sens | R1: Code TVA | S1: Montant de base TVA | T1: Libellé du poste | U1: Affectation | V1: Centre de coûts
A3: =IF(K3=K2,A2,A2+1) -> 1 | E3: =IF(I3="","","ZER") -> ZER | F3: =IF(I3="","","OD") -> OD | G3: =IF(I3="","","EUR") -> EUR | H3: =IF(I3="","",I3) -> 42737 | I3: 42737 | K3: F01000036 | L3: =IF(LEFT(M3,2)="40","K","S") -> S | M3: 62510000 | P3: 493.99 | Q3: =IF(LEFT(M3,2)="40","C","D") -> D | R3: =IF(P4=0,"V0",IF(P4=ROUND(P3*0.2,2),"V6","")) -> V0 | S3: =IF(LEFT(M3,2)="44",P2,"") | T3: =CONCATENATE(LEFT(base!E2,FIND("/",base!E2)-1),"/",base!P2) -> REGN/AIR FRANCE | V3: =VLOOKUP(LEFT(T3,FIND("/",T3)-1),'salarie CC'!C:E,3,FALSE) -> 0104A4A000
A4: =IF(K4=K3,A3,A3+1) -> 1 | E4: =IF(I4="","","ZER") -> ZER | F4: =IF(I4="","","OD") -> OD | G4: =IF(I4="","","EUR") -> EUR | H4: =IF(I4="","",I4) -> 42737 | I4: 42737 | K4: F01000036 | L4: =IF(LEFT(M4,2)="40","K","S") -> S | M4: 44566000 | P4: 0 | Q4: =IF(LEFT(M4,2)="40","C","D") -> D | R4: =IF(P5=0,"V0",IF(P5=ROUND(P4*0.2,2),"V6","")) | S4: =IF(LEFT(M4,2)="44",P3,"") -> 493.99 | T4: =CONCATENATE(LEFT(base!E2,FIND("/",base!E2)-1),"/",base!P2) -> REGN/AIR FRANCE | V4: =VLOOKUP(LEFT(T4,FIND("/",T4)-1),'salarie CC'!C:E,3,FALSE) -> 0104A4A000
A5: =IF(K5=K4,A4,A4+1) -> 1 | E5: =IF(I5="","","ZER") -> ZER | F5: =IF(I5="","","OD") -> OD | G5: =IF(I5="","","EUR") -> EUR | H5: =IF(I5="","",I5) -> 42737 | I5: 42737 | K5: F01000036 | L5: =IF(LEFT(M5,2)="40","K","S") -> K | M5: 40110000 | P5: 493.99 | Q5: =IF(LEFT(M5,2)="40","C","D") -> C | R5: =IF(P6=0,"V0",IF(P6=ROUND(P5*0.2,2),"V6","")) | S5: =IF(LEFT(M5,2)="44",P4,"") | T5: =CONCATENATE(LEFT(base!E2,FIND("/",base!E2)-1),"/",base!P2) -> REGN/AIR FRANCE | V5: =VLOOKUP(LEFT(T5,FIND("/",T5)-1),'salarie CC'!C:E,3,FALSE) -> 0104A4A000
A6: =IF(K6=K5,A5,A5+1) -> 1 | E6: =IF(I6="","","ZER") -> ZER | F6: =IF(I6="","","OD") -> OD | G6: =IF(I6="","","EUR") -> EUR | H6: =IF(I6="","",I6) -> 42737 | I6: 42737 | K6: F01000036 | L6: =IF(LEFT(M6,2)="40","K","S") -> S | M6: 62510000 | P6: 18.33 | Q6: =IF(LEFT(M6,2)="40","C","D") -> D | R6: =IF(P7=0,"V0",IF(P7=ROUND(P6*0.2,2),"V6","")) -> V6 | S6: =IF(LEFT(M6,2)="44",P5,"") | T6: =CONCATENATE(LEFT(base!E2,FIND("/",base!E2)-1),"/",base!P2) -> REGN/AIR FRANCE | V6: =VLOOKUP(LEFT(T6,FIND("/",T6)-1),'salarie CC'!C:E,3,FALSE) -> 0104A4A000
A7: =IF(K7=K6,A6,A6+1) -> 1 | E7: =IF(I7="","","ZER") -> ZER | F7: =IF(I7="","","OD") -> OD | G7: =IF(I7="","","EUR") -> EUR | H7: =IF(I7="","",I7) -> 42737 | I7: 42737 | K7: F01000036 | L7: =IF(LEFT(M7,2)="40","K","S") -> S | M7: 44566000 | P7: 3.67 | Q7: =IF(LEFT(M7,2)="40","C","D") -> D | R7: =IF(P8=0,"V0",IF(P8=ROUND(P7*0.2,2),"V6","")) | S7: =IF(LEFT(M7,2)="44",P6,"") -> 18.33 | T7: =CONCATENATE(LEFT(base!E2,FIND("/",base!E2)-1),"/",base!P2) -> REGN/AIR FRANCE | V7: =VLOOKUP(LEFT(T7,FIND("/",T7)-1),'salarie CC'!C:E,3,FALSE) -> 0104A4A000
A8: =IF(K8=K7,A7,A7+1) -> 1 | E8: =IF(I8="","","ZER") -> ZER | F8: =IF(I8="","","OD") -> OD | G8: =IF(I8="","","EUR") -> EUR | H8: =IF(I8="","",I8) -> 42737 | I8: 42737 | K8: F01000036 | L8: =IF(LEFT(M8,2)="40","K","S") -> K | M8: 40110000 | P8: 22 | Q8: =IF(LEFT(M8,2)="40","C","D") -> C | R8: =IF(P9=0,"V0",IF(P9=ROUND(P8*0.2,2),"V6","")) | S8: =IF(LEFT(M8,2)="44",P7,"") | T8: =CONCATENATE(LEFT(base!E2,FIND("/",base!E2)-1),"/",base!P2) -> REGN/AIR FRANCE | V8: =VLOOKUP(LEFT(T8,FIND("/",T8)-1),'salarie CC'!C:E,3,FALSE) -> 0104A4A000
A9: =IF(K9=K8,A8,A8+1) -> 2 | E9: =IF(I9="","","ZER") -> ZER | F9: =IF(I9="","","OD") -> OD | G9: =IF(I9="","","EUR") -> EUR | H9: =IF(I9="","",I9) -> 42737 | I9: 42737 | K9: F01000037 | L9: =IF(LEFT(M9,2)="40","K","S") -> S | M9: 62510000 | P9: 475.04 | Q9: =IF(LEFT(M9,2)="40","C","D") -> D | R9: =IF(P10=0,"V0",IF(P10=ROUND(P9*0.2,2),"V6","")) -> V0 | S9: =IF(LEFT(M9,2)="44",P8,"")
A10: =IF(K10=K9,A9,A9+1) -> 2 | E10: =IF(I10="","","ZER") -> ZER | F10: =IF(I10="","","OD") -> OD | G10: =IF(I10="","","EUR") -> EUR | H10: =IF(I10="","",I10) -> 42737 | I10: 42737 | K10: F01000037 | L10: =IF(LEFT(M10,2)="40","K","S") -> S | M10: 44566000 | P10: 0 | Q10: =IF(LEFT(M10,2)="40","C","D") -> D | R10: =IF(P11=0,"V0",IF(P11=ROUND(P10*0.2,2),"V6","")) | S10: =IF(LEFT(M10,2)="44",P9,"") -> 475.04
A11: =IF(K11=K10,A10,A10+1) -> 2 | E11: =IF(I11="","","ZER") -> ZER | F11: =IF(I11="","","OD") -> OD | G11: =IF(I11="","","EUR") -> EUR | H11: =IF(I11="","",I11) -> 42737 | I11: 42737 | K11: F01000037 | L11: =IF(LEFT(M11,2)="40","K","S") -> K | M11: 40110000 | P11: 475.04 | Q11: =IF(LEFT(M11,2)="40","C","D") -> C | R11: =IF(P12=0,"V0",IF(P12=ROUND(P11*0.2,2),"V6","")) | S11: =IF(LEFT(M11,2)="44",P10,"")
A12: =IF(K12=K11,A11,A11+1) -> 2 | E12: =IF(I12="","","ZER") -> ZER | F12: =IF(I12="","","OD") -> OD | G12: =IF(I12="","","EUR") -> EUR | H12: =IF(I12="","",I12) -> 42737 | I12: 42737 | K12: F01000037 | L12: =IF(LEFT(M12,2)="40","K","S") -> S | M12: 62510000 | P12: 18.33 | Q12: =IF(LEFT(M12,2)="40","C","D") -> D | R12: =IF(P13=0,"V0",IF(P13=ROUND(P12*0.2,2),"V6","")) -> V6 | S12: =IF(LEFT(M12,2)="44",P11,"")
A13: =IF(K13=K12,A12,A12+1) -> 2 | E13: =IF(I13="","","ZER") -> ZER | F13: =IF(I13="","","OD") -> OD | G13: =IF(I13="","","EUR") -> EUR | H13: =IF(I13="","",I13) -> 42737 | I13: 42737 | K13: F01000037 | L13: =IF(LEFT(M13,2)="40","K","S") -> S | M13: 44566000 | P13: 3.67 | Q13: =IF(LEFT(M13,2)="40","C","D") -> D | R13: =IF(P14=0,"V0",IF(P14=ROUND(P13*0.2,2),"V6","")) | S13: =IF(LEFT(M13,2)="44",P12,"") -> 18.33
A14: =IF(K14=K13,A13,A13+1) -> 2 | E14: =IF(I14="","","ZER") -> ZER | F14: =IF(I14="","","OD") -> OD | G14: =IF(I14="","","EUR") -> EUR | H14: =IF(I14="","",I14) -> 42737 | I14: 42737 | K14: F01000037 | L14: =IF(LEFT(M14,2)="40","K","S") -> K | M14: 40110000 | P14: 22 | Q14: =IF(LEFT(M14,2)="40","C","D") -> C | R14: =IF(P15=0,"V0",IF(P15=ROUND(P14*0.2,2),"V6","")) | S14: =IF(LEFT(M14,2)="44",P13,"")
A15: =IF(K15=K14,A14,A14+1) -> 3 | E15: =IF(I15="","","ZER") -> ZER | F15: =IF(I15="","","OD") -> OD | G15: =IF(I15="","","EUR") -> EUR | H15: =IF(I15="","",I15) -> 42738 | I15: 42738 | K15: A01000005 | L15: =IF(LEFT(M15,2)="40","K","S") -> S | M15: 62510000 | P15: -17 | Q15: =IF(LEFT(M15,2)="40","C","D") -> D | R15: =IF(P16=0,"V0",IF(P16=ROUND(P15*0.2,2),"V6","")) -> V0 | S15: =IF(LEFT(M15,2)="44",P14,"")
A16: =IF(K16=K15,A15,A15+1) -> 3 | E16: =IF(I16="","","ZER") -> ZER | F16: =IF(I16="","","OD") -> OD | G16: =IF(I16="","","EUR") -> EUR | H16: =IF(I16="","",I16) -> 42738 | I16: 42738 | K16: A01000005 | L16: =IF(LEFT(M16,2)="40","K","S") -> S | M16: 44566000 | P16: 0 | Q16: =IF(LEFT(M16,2)="40","C","D") -> D | R16: =IF(P17=0,"V0",IF(P17=ROUND(P16*0.2,2),"V6","")) | S16: =IF(LEFT(M16,2)="44",P15,"") -> -17
A17: =IF(K17=K16,A16,A16+1) -> 3 | E17: =IF(I17="","","ZER") -> ZER | F17: =IF(I17="","","OD") -> OD | G17: =IF(I17="","","EUR") -> EUR | H17: =IF(I17="","",I17) -> 42738 | I17: 42738 | K17: A01000005 | L17: =IF(LEFT(M17,2)="40","K","S") -> K | M17: 40110000 | P17: -17 | Q17: =IF(LEFT(M17,2)="40","C","D") -> C | R17: =IF(P18=0,"V0",IF(P18=ROUND(P17*0.2,2),"V6","")) | S17: =IF(LEFT(M17,2)="44",P16,"")
A18: =IF(K18=K17,A17,A17+1) -> 4 | E18: =IF(I18="","","ZER") -> ZER | F18: =IF(I18="","","OD") -> OD | G18: =IF(I18="","","EUR") -> EUR | H18: =IF(I18="","",I18) -> 42738 | I18: 42738 | K18: F01000051 | L18: =IF(LEFT(M18,2)="40","K","S") -> S | M18: 62510000 | P18: 18.33 | Q18: =IF(LEFT(M18,2)="40","C","D") -> D | R18: =IF(P19=0,"V0",IF(P19=ROUND(P18*0.2,2),"V6","")) -> V6 | S18: =IF(LEFT(M18,2)="44",P17,"")
A19: =IF(K19=K18,A18,A18+1) -> 4 | E19: =IF(I19="","","ZER") -> ZER | F19: =IF(I19="","","OD") -> OD | G19: =IF(I19="","","EUR") -> EUR | H19: =IF(I19="","",I19) -> 42738 | I19: 42738 | K19: F01000051 | L19: =IF(LEFT(M19,2)="40","K","S") -> S | M19: 44566000 | P19: 3.67 | Q19: =IF(LEFT(M19,2)="40","C","D") -> D | R19: =IF(P20=0,"V0",IF(P20=ROUND(P19*0.2,2),"V6","")) | S19: =IF(LEFT(M19,2)="44",P18,"") -> 18.33
A20: =IF(K20=K19,A19,A19+1) -> 4 | E20: =IF(I20="","","ZER") -> ZER | F20: =IF(I20="","","OD") -> OD | G20: =IF(I20="","","EUR") -> EUR | H20: =IF(I20="","",I20) -> 42738 | I20: 42738 | K20: F01000051 | L20: =IF(LEFT(M20,2)="40","K","S") -> K | M20: 40110000 | P20: 22 | Q20: =IF(LEFT(M20,2)="40","C","D") -> C | R20: =IF(P21=0,"V0",IF(P21=ROUND(P20*0.2,2),"V6","")) -> V0 | S20: =IF(LEFT(M20,2)="44",P19,"")
... A179: =IF(K179=K178,A178,A178+1) -> 26 | E179: =IF(I179="","","ZER") -> ZER | F179: =IF(I179="","","OD") -> OD | G179: =IF(I179="","","EUR") -> EUR | H179: =IF(I179="","",I179) -> 42746 | I179: 42746 | K179: F01000500 | L179: =IF(LEFT(M179,2)="40","K","S") -> K | M179: 40110000 | P179: 8.4 | Q179: =IF(LEFT(M179,2)="40","C","D") -> C | R179: =IF(P180=0,"V0",IF(P180=ROUND(P179*0.2,2),"V6","")) -> V0 | S179: =IF(LEFT(M179,2)="44",P178,"")
I630: 42740 | M630: Libellé du poste | P630: 71 | T630: 1.4
I631: 42740 | M631: Affectation | T631: 1.4
I632: 42740 | M632: Centre de coûts | T632: 1.4
I633: 42740 | M633: Libellé du poste | P633: 71 | T633: 8.4
I634: 42740 | M634: Affectation | T634: 8.4
I635: 42740 | M635: Centre de coûts | T635: 8.4
I636: 42740 | M636: Libellé du poste | P636: 7 | T636: 726.06
I637: 42740 | M637: Affectation | T637: 726.06
I638: 42740 | M638: Centre de coûts | T638: 726.06
I639: 42740 | M639: Libellé du poste | P639: 7 | T639: 0
I640: 42740 | M640: Affectation | T640: 0
I641: 42740 | M641: Centre de coûts | T641: 0
I642: 42740 | M642: Libellé du poste | P642: 7 | T642: 726.06
I643: 42740 | M643: Affectation | T643: 726.06
I644: 42740 | M644: Centre de coûts | T644: 726.06
I645: 42740 | M645: Libellé du poste | P645: 1.4 | T645: 18.33
I646: 42740 | M646: Affectation | T646: 18.33
I647: 42740 | M647: Centre de coûts | T647: 18.33
I648: 42740 | M648: Libellé du poste | P648: 1.4 | T648: 3.67
I649: 42740 | M649: Affectation | T649: 3.67
...

Sheet base
A1: NOMAGENCE | B1: CODEAGENCE | C1: NOMCOLLABORATEUR | D1: CODECLIENT | E1: VOYAGEUR | F1: type de pièce | G1: No de facture | H1: Date de facture | I1: Date de depart | J1: Date de retour | K1: PARCOURS | L1: origine | M1: destination | N1: pays destination | O1: zone | P1: Prestation | Q1: TYPETITRE | R1: NUMEROTITRE | S1: CODECLASSEVOYAGE | T1: 62510000 | U1: 44566000 | V1: 40110000 | W1: CODEACTIVITE | X1: Code Fournisseur | Y1: CODECANALRESA | Z1: CO2 | AA1: REFPNR | AB1: Zone STC | AC1: Tag | AD1: ORDRE DE MISSION | AE1: Champs Analytique2 | AF1: Champs Analytique3 | AG1: Champs Analytique4 | AH1: Champs Analytique5 | AI1: Champs Analytique6 | AJ1: Champs Analytique7 | AK1: Champs Analytique8 | AL1: Champs Analytique9 | AM1: Champs Analytique10 | AN1: Champs Analytique11 | AO1: Champs Analytique12 | AP1: Champs Analytique13 | AQ1: Champs Analytique14 | AR1: Champs Analytique15 | AS1: Miles | AT1: Trajet | AU1: Type de tarif
A2: subocea | B2: 1 | C2: CHRISTELLE | D2: C0008834 | E2: REGN/BERTRAND | F2: F | G2: F01000036 | H2: 42737 | I2: 42746 | J2: 42747 | K2: ORLY/LORIENT/LORIENT/ORLY | L2: PARIS | M2: LORIENT | N2: FRANCE | O2: FRANCE | P2: AIR FRANCE | Q2: E | S2: ECO/S | T2: 493.99 | U2: 0 | V2: 493.99 | W2: 72 | X2: AF | Y2: AG | Z2: 162 | AA2: LFVBHT | AB2: NATIONAL | AC2: BILLET | AD2: LLRJ6 | AS2: 1026 | AT2: ROUND TRIP | AU2: Tarif Public
A3: subocea | B3: 1 | C3: CHRISTELLE | D3: C0008834 | E3: REGN/BERTRAND | F3: F | G3: F01000036 | H3: 42737 | I3: 42746 | J3: 42747 | K3: FRAIS | P3: FRAIS AERIEN BSP | T3: 18.33 | U3: 3.67 | V3: 22 | W3: 2 | X3: AGENCE | Y3: AG | Z3: 0 | AA3: LFVBHT | AD3: LLRJ6 | AS3: 0
A4: subocea | B4: 1 | C4: VANESSA | D4: C0008834 | E4: HAY/VICTOR | F4: F | G4: F01000037 | H4: 42737 | I4: 42739 | J4: 42739 | K4: ORLY/QUIMPER/BREST/ORLY | L4: PARIS | M4: QUIMPER | N4: FRANCE | O4: FRANCE | P4: AIR FRANCE | Q4: E | S4: ECO/S | T4: 475.04 | U4: 0 | V4: 475.04 | W4: 72 | X4: AF | Y4: AG | Z4: 171 | AA4: YELYAZ | AB4: NATIONAL | AC4: BILLET | AD4: LLRP2 | AS4: 1145 | AT4: ROUND TRIP | AU4: Tarif Public
A5: subocea | B5: 1 | C5: VANESSA | D5: C0008834 | E5: HAY/VICTOR | F5: F | G5: F01000037 | H5: 42737 | I5: 42739 | J5: 42739 | K5: FRAIS | P5: FRAIS AERIEN BSP | T5: 18.33 | U5: 3.67 | V5: 22 | W5: 2 | X5: AGENCE | Y5: AG | Z5: 0 | AA5: YELYAZ | AD5: LLRP2 | AS5: 0
A6: subocea | B6: 1 | C6: VANESSA | D6: C0008834 | E6: HAY/VICTOR | F6: A | G6: A01000005 | H6: 42738 | I6: 42739 | J6: 42739 | K6: ORLY/QUIMPER | L6: PARIS | M6: QUIMPER | N6: FRANCE | O6: FRANCE | P6: AIR FRANCE | Q6: P | S6: ECO/S | T6: -17 | U6: 0 | V6: -17 | W6: 72 | X6: AF | Y6: AG | Z6: -85 | AA6: YELYAZ | AB6: NATIONAL | AC6: BILLET | AD6: LLRP2 | AS6: -567 | AT6: ONE WAY | AU6: Tarif Public
A7: subocea | B7: 1 | C7: VANESSA | D7: C0008834 | E7: HAY/VICTOR | F7: F | G7: F01000051 | H7: 42738 | I7: 42739 | J7: 42739 | K7: FRAIS | P7: FRAIS AERIEN BSP | T7: 18.33 | U7: 3.67 | V7: 22 | W7: 2 | X7: AGENCE | Y7: AG | Z7: 0 | AA7: YELYAZ | AD7: LLRP2 | AS7: 0
A8: subocea | B8: 1 | C8: VANESSA | D8: C0008834 | E8: HAY/VICTOR | F8: F | G8: F01000051 | H8: 42738 | I8: 42739 | J8: 42739 | K8: ORLY/BREST/BREST/ORLY | L8: PARIS | M8: BREST | N8: FRANCE | O8: FRANCE | P8: AIR FRANCE | Q8: E | S8: ECO/S | T8: 0 | U8: 0 | V8: 0 | W8: 72 | X8: AF | Y8: AG | Z8: 0 | AA8: YELYAZ | AB8: NATIONAL | AC8: EXCH | AD8: LLRP2 | AS8: 0 | AU8: Tarif Public
A9: subocea | B9: 1 | C9: LAURENCE | D9: C0008834 | E9: HAY/VICTOR | F9: F | G9: F01000059 | H9: 42738 | I9: 42700 | J9: 42730 | K9: CORBEIL/CORBEIL | L9: CORBEIL | M9: CORBEIL | N9: FRANCE | O9: FRANCE | P9: AVIS | Q9: E | S9: J | T9: 691.94 | U9: 0 | V9: 691.94 | W9: 50 | X9: AVIS | Y9: AG | Z9: 0 | AA9: X | AB9: NATIONAL | AS9: 0 | AU9: Tarif Public
A10: subocea | B10: 1 | C10: LAURENCE | D10: C0008834 | E10: HAY/VICTOR | F10: F | G10: F01000059 | H10: 42738 | I10: 42700 | J10: 42730 | K10: FRAIS | P10: FRAIS LOCATION DE VOITURES | T10: 7 | U10: 1.4 | V10: 8.4 | W10: 2 | X10: AGENCE | Y10: AG | Z10: 0 | AA10: X | AS10: 0
A11: subocea | B11: 1 | C11: VANESSA | D11: C0008834 | E11: BEC/JEROME | F11: F | G11: F01000089 | H11: 42738 | I11: 42739 | J11: 42741 | K11: NANTES/TOULOUSE/TOULOUSE/LYON/LYON/NANTES | L11: NANTES | M11: LYON | N11: FRANCE | O11: FRANCE | P11: AIR FRANCE | Q11: E | S11: ECO/S | T11: 553.05 | U11: 0 | V11: 553.05 | W11: 72 | X11: AF | Y11: AG | Z11: 247 | AA11: KYRYOK | AB11: NATIONAL | AC11: BILLET | AD11: LLTA7 | AS11: 1577 | AT11: ROUND TRIP | AU11: Tarif Public
A12: subocea | B12: 1 | C12: VANESSA | D12: C0008834 | E12: BEC/JEROME | F12: F | G12: F01000089 | H12: 42738 | I12: 42739 | J12: 42741 | K12: FRAIS | P12: FRAIS AERIEN BSP | T12: 18.33 | U12: 3.67 | V12: 22 | W12: 2 | X12: AGENCE | Y12: AG | Z12: 0 | AA12: KYRYOK | AD12: LLTA7 | AS12: 0
A13: subocea | B13: 1 | C13: CHRISTELLE | D13: C0008834 | E13: ON/NATHALIE | F13: F | G13: F01000100 | H13: 42738 | I13: 42739 | J13: 42741 | K13: ORLY/TOULOUSE/TOULOUSE/ORLY | L13: PARIS | M13: TOULOUSE | N13: FRANCE | O13: FRANCE | P13: AIR FRANCE | Q13: E | S13: PREMIUM/W | T13: 522.75 | U13: 0 | V13: 522.75 | W13: 72 | X13: AF | Y13: AG | Z13: 186 | AA13: VAZEFW | AB13: NATIONAL | AC13: BILLET | AD13: LLUAE | AS13: 1318 | AT13: ROUND TRIP | AU13: Tarif Public
A14: subocea | B14: 1 | C14: CHRISTELLE | D14: C0008834 | E14: ON/NATHALIE | F14: F | G14: F01000100 | H14: 42738 | I14: 42739 | J14: 42741 | K14: FRAIS | P14: FRAIS AERIEN BSP | T14: 18.33 | U14: 3.67 | V14: 22 | W14: 2 | X14: AGENCE | Y14: AG | Z14: 0 | AA14: VAZEFW | AD14: LLUAE | AS14: 0
A15: subocea | B15: 1 | C15: SABINE | D15: C0008834 | E15: JALL/PASCAL | F15: F | G15: F01000148 | H15: 42740 | I15: 43060 | J15: 43090 | K15: AVIS RENT-A-CAR | L15: RENNES | M15: RENNES | N15: FRANCE | O15: FRANCE | P15: AVIS | Q15: E | S15: IWMR | T15: 1440.56 | U15: 0 | V15: 1440.56 | W15: 50 | X15: AVIS | Y15: AG | Z15: 0 | AA15: YAKKHO | AB15: NATIONAL | AS15: 0 | AU15: Tarif Public
A16: subocea | B16: 1 | C16: SABINE | D16: C0008834 | E16: JALL/PASCAL | F16: F | G16: F01000148 | H16: 42740 | I16: 43060 | J16: 43090 | K16: FRAIS | P16: FRAIS LOCATION DE VOITURES | T16: 7 | U16: 1.4 | V16: 8.4 | W16: 2 | X16: AGENCE | Y16: AG | Z16: 0 | AA16: YAKKHO | AS16: 0
A17: subocea | B17: 1 | C17: VANESSA | D17: C0008834 | E17: BOEHMIN/NICOLAS | F17: F | G17: F01000154 | H17: 42740 | I17: 42717 | J17: 42718 | K17: QUIMPER/QUIMPER | L17: QUIMPER | M17: QUIMPER | N17: FRANCE | O17: FRANCE | P17: AVIS | Q17: E | S17: I | T17: 70.4 | U17: 0 | V17: 70.4 | W17: 50 | X17: AVIS | Y17: AG | Z17: 0 | AA17: X | AB17: NATIONAL | AS17: 0 | AU17: Tarif Public
A18: subocea | B18: 1 | C18: VANESSA | D18: C0008834 | E18: BOEHMIN/NICOLAS | F18: F | G18: F01000154 | H18: 42740 | I18: 42717 | J18: 42718 | K18: FRAIS | P18: FRAIS LOCATION DE VOITURES | T18: 7 | U18: 1.4 | V18: 8.4 | W18: 2 | X18: AGENCE | Y18: AG | Z18: 0 | AA18: X | AS18: 0
A19: subocea | B19: 1 | C19: VANESSA | D19: C0008834 | E19: DURAD/CAROLINE | F19: F | G19: F01000172 | H19: 42740 | I19: 42747 | J19: 42747 | K19: LILLE EUROPE/MASSY TGV | L19: LILLE | M19: MASSY | N19: FRANCE | O19: FRANCE | P19: SNCF | Q19: E | S19: PRO SECONDE | T19: 53 | U19: 0 | V19: 53 | W19: 68 | X19: 87 | Y19: AG | Z19: 3 | AA19: EKXVXO | AB19: NATIONAL | AC19: P | AD19: LLZGY | AS19: 241 | AT19: ONE WAY | AU19: Tarif PRO
A20: subocea | B20: 1 | C20: VANESSA | D20: C0008834 | E20: DURAD/CAROLINE | F20: F | G20: F01000172 | H20: 42740 | I20: 42748 | J20: 42748 | K20: PARIS NORD/LILLE EUROPE | L20: PARIS | M20: LILLE | N20: FRANCE | O20: FRANCE | P20: SNCF | Q20: E | S20: PRO SECONDE | T20: 53 | U20: 0 | V20: 53 | W20: 68 | X20: 87 | Y20: AG | Z20: 4 | AA20: EKXVXO | AB20: NATIONAL | AC20: P | AD20: LLZGY | AS20: 274 | AT20: ONE WAY | AU20: Tarif PRO
A21: subocea | B21: 1 | C21: VANESSA | D21: C0008834 | E21: DURAD/CAROLINE | F21: F | G21: F01000172 | H21: 42740 | I21: 42747 | J21: 42747 | K21: FRAIS | P21: FRAIS FER | T21: 7 | U21: 1.4 | V21: 8.4 | W21: 2 | X21: AGENCE | Y21: AG | Z21: 0 | AA21: EKXVXO | AD21: LLZGY | AS21: 0
A22: subocea | B22: 1 | C22: VANESSA | D22: C0008834 | E22: DURAD/CAROLINE | F22: F | G22: F01000172 | H22: 42740 | I22: 42748 | J22: 42748 | K22: FRAIS | P22: FRAIS FER | T22: 7 | U22: 1.4 | V22: 8.4 | W22: 2 | X22: AGENCE | Y22: AG | Z22: 0 | AA22: EKXVXO | AD22: LLZGY | AS22: 0
A23: subocea | B23: 1 | C23: LAURENCE | D23: C0008834 | E23: BOEHMIN/NICOLAS | F23: F | G23: F01000190 | H23: 42740 | I23: 42751 | J23: 42751 | K23: PARIS MONTPARNASSE 1 ET 2/VANNES | L23: PARIS | M23: VANNES | N23: FRANCE | O23: FRANCE | P23: SNCF | Q23: E | S23: LOISIR PREMIERE | T23: 80 | U23: 0 | V23: 80 | W23: 68 | X23: 87 | Y23: AG | Z23: 7 | AA23: EEBUMS | AB23: NATIONAL | AC23: P | AD23: LLZJH | AS23: 541 | AT23: ONE WAY | AU23: Tarif Loisir
A24: subocea | B24: 1 | C24: LAURENCE | D24: C0008834 | E24: BOEHMIN/NICOLAS | F24: F | G24: F01000190 | H24: 42740 | I24: 42752 | J24: 42752 | K24: VANNES/PARIS MONTPARNASSE 1 ET 2 | L24: VANNES | M24: PARIS | N24: FRANCE | O24: FRANCE | P24: SNCF | Q24: E | S24: LOISIR PREMIERE | T24: 71 | U24: 0 | V24: 71 | W24: 68 | X24: 87 | Y24: AG | Z24: 7 | AA24: EEBUMS | AB24: NATIONAL | AC24: P | AD24: LLZJH | AS24: 541 | AT24: ONE WAY | AU24: Tarif Loisir
A25: subocea | B25: 1 | C25: LAURENCE | D25: C0008834 | E25: BOEHMIN/NICOLAS | F25: F | G25: F01000190 | H25: 42740 | I25: 42752 | J25: 42752 | K25: FRAIS | P25: FRAIS FER | T25: 7 | U25: 1.4 | V25: 8.4 | W25: 2 | X25: AGENCE | Y25: AG | Z25: 0 | AA25: EEBUMS | AD25: LLZJH | AS25: 0
A26: subocea | B26: 1 | C26: LAURENCE | D26: C0008834 | E26: BOEHMIN/NICOLAS | F26: F | G26: F01000190 | H26: 42740 | I26: 42751 | J26: 42751 | K26: FRAIS | P26: FRAIS FER | T26: 7 | U26: 1.4 | V26: 8.4 | W26: 2 | X26: AGENCE | Y26: AG | Z26: 0 | AA26: EEBUMS | AD26: LLZJH | AS26: 0

Sheet salarie CC
A1: 42762
A3: Liste des centres de coûts (CC) associés au collaborateurs.
A6: Code société | B6: Libellé société | C6: Nom | D6: Prénom | E6: Code CC
A7: 10 | B7: MOUSSE | C7: BOEHMIN | D7: NICOLAS | E7: 0104A1C100
A8: 10 | B8: MOUSSE | C8: ON | D8: NATHALIE | E8: 0104A1A000
A9: 10 | B9: MOUSSE | C9: DURAD | D9: CAROLINE | E9: 0104A3C200
A10: 10 | B10: MOUSSE | C10: HAY | D10: VICTOR | E10: 0104A1C000
A11: 10 | B11: MOUSSE | C11: JALL | D11: PASCAL | E11: 0104A6G050
A12: 10 | B12: MOUSSE | C12: BEC | D12: JEROME | E12: 0104A6G070
A13: 10 | B13: MOUSSE | C13: REGN | D13: BERTRAND | E13: 0104A4A000
