Workbook

Sheet Cours et volumes
A2: Nom du titre
A3: Prix initial
A6: Date (t) | B6: Valeur ouverture (Vo) | C6: Valeur maximum (Vmax) | D6: Valeur minimum ( Vmin) | E6: Valeure fermeture (Vf) | F6: Volume
A7: 42786 | B7: 38.555 | C7: 38.73 | D7: 38.265 | E7: 10 | F7: 525478
A8: 42787 | B8: 38.8 | C8: 38.98 | D8: 38.455 | E8: 20 | F8: 660563
A9: 42788 | B9: 39 | C9: 39 | D9: 37.365 | E9: 30 | F9: 1922770
A10: 42789 | B10: 37.7 | C10: 37.885 | D10: 37.37 | E10: 40 | F10: 1012412
A11: 42790

Sheet Chanderliers
R6: Date (t) | S6: Valeur ouverture (Vo) | T6: Valeur maximum (Vmax) | U6: Valeur minimum ( Vmin) | V6: Valeure fermeture (Vf) | W6: Volume
R7: ='Cours et volumes'!A7 -> 42786 | S7: ='Cours et volumes'!B7 -> 38.555 | T7: ='Cours et volumes'!C7 -> 38.73 | U7: ='Cours et volumes'!D7 -> 38.265 | V7: ='Cours et volumes'!E7 -> 10 | W7: ='Cours et volumes'!F7 -> 525478 | X7: =IF(+U7<V8*0.9, "resa baisse","")&IF(+T7>V8*1.1, "resa hausse","") -> resa hausse | AG7: =AVERAGE(V7:V16) -> 25
R8: ='Cours et volumes'!A8 -> 42787 | S8: ='Cours et volumes'!B8 -> 38.8 | T8: ='Cours et volumes'!C8 -> 38.98 | U8: ='Cours et volumes'!D8 -> 38.455 | V8: ='Cours et volumes'!E8 -> 20 | W8: ='Cours et volumes'!F8 -> 660563 | X8: =IF(+U8<V9*0.9, "resa baisse","")&IF(+T8>V9*1.1, "resa hausse","") -> resa hausse | AG8: =AVERAGE(V8:V17) -> 30
R9: ='Cours et volumes'!A9 -> 42788 | S9: ='Cours et volumes'!B9 -> 39 | T9: ='Cours et volumes'!C9 -> 39 | U9: ='Cours et volumes'!D9 -> 37.365 | V9: ='Cours et volumes'!E9 -> 30 | W9: ='Cours et volumes'!F9 -> 1922770 | X9: =IF(+U9<V10*0.9, "resa baisse","")&IF(+T9>V10*1.1, "resa hausse","")
R10: ='Cours et volumes'!A10 -> 42789 | S10: ='Cours et volumes'!B10 -> 37.7 | T10: ='Cours et volumes'!C10 -> 37.885 | U10: ='Cours et volumes'!D10 -> 37.37 | V10: ='Cours et volumes'!E10 -> 40 | W10: ='Cours et volumes'!F10 -> 1012412 | X10: =IF(+U10<V11*0.9, "resa baisse","")&IF(+T10>V11*1.1, "resa hausse","") -> resa hausse
X11: =IF(+U11<V12*0.9, "resa baisse","")&IF(+T11>V12*1.1, "resa hausse","")
X12: =IF(+U12<V13*0.9, "resa baisse","")&IF(+T12>V13*1.1, "resa hausse","")
X13: =IF(+U13<V14*0.9, "resa baisse","")&IF(+T13>V14*1.1, "resa hausse","")
X14: =IF(+U14<V15*0.9, "resa baisse","")&IF(+T14>V15*1.1, "resa hausse","")
X15: =IF(+U15<V16*0.9, "resa baisse","")&IF(+T15>V16*1.1, "resa hausse","")
X16: =IF(+U16<V17*0.9, "resa baisse","")&IF(+T16>V17*1.1, "resa hausse","")
X17: =IF(+U17<V18*0.9, "resa baisse","")&IF(+T17>V18*1.1, "resa hausse","")
X18: =IF(+U18<V19*0.9, "resa baisse","")&IF(+T18>V19*1.1, "resa hausse","")
X19: =IF(+U19<V20*0.9, "resa baisse","")&IF(+T19>V20*1.1, "resa hausse","")
X20: =IF(+U20<V21*0.9, "resa baisse","")&IF(+T20>V21*1.1, "resa hausse","")
X21: =IF(+U21<V22*0.9, "resa baisse","")&IF(+T21>V22*1.1, "resa hausse","")
X22: =IF(+U22<V23*0.9, "resa baisse","")&IF(+T22>V23*1.1, "resa hausse","")
... X101: =IF(+U101<V102*0.9, "resa baisse","")&IF(+T101>V102*1.1, "resa hausse","")

Sheet Bollinger
T3: BOLLINGER
U6: Période
U7: ='Moyennes mobiles'!N2 -> 2 | V7: derniers jours
S9: Date | T9: Inférieur | U9: Moyenne | V9: Supérieur
S10: ='Cours et volumes'!A7 -> 42786 | T10: =+$U10-2*STDEVP(OFFSET('Moyennes mobiles'!W7,-'Moyennes mobiles'!N$2+1,0,'Moyennes mobiles'!N$2))/'Moyennes mobiles'!N$2 -> 5 | U10: ='Moyennes mobiles'!N7 -> 5 | V10: =U10+2*STDEV(OFFSET('Cours et volumes'!E7,0,0,-$U$7,1)) -> #DIV/0!
S11: ='Cours et volumes'!A8 -> 42787 | T11: =+$U11-2*STDEVP(OFFSET('Moyennes mobiles'!W8,-'Moyennes mobiles'!N$2,0,'Moyennes mobiles'!N$2))/'Moyennes mobiles'!N$2 -> 15 | U11: ='Moyennes mobiles'!N8 -> 15 | V11: =+$U11+2*STDEVP(OFFSET('Moyennes mobiles'!W8,-'Moyennes mobiles'!N$2+1,0,'Moyennes mobiles'!N$2))/'Moyennes mobiles'!N$2 -> 20
S12: ='Cours et volumes'!A9 -> 42788 | T12: =+$U11-2*STDEVP(OFFSET('Moyennes mobiles'!W8,-'Moyennes mobiles'!N$2,0,'Moyennes mobiles'!N$2))/'Moyennes mobiles'!N$2 -> 15 | U12: ='Moyennes mobiles'!N9 -> 25 | V12: =+$U12+2*STDEVP(OFFSET('Moyennes mobiles'!W9,-'Moyennes mobiles'!N$2+1,0,'Moyennes mobiles'!N$2))/'Moyennes mobiles'!N$2 -> 30
S13: ='Cours et volumes'!A10 -> 42789 | T13: =+$U13-2*STDEVP(OFFSET('Moyennes mobiles'!W10,-'Moyennes mobiles'!N$2+1,0,'Moyennes mobiles'!N$2))/'Moyennes mobiles'!N$2 -> 30 | U13: ='Moyennes mobiles'!N10 -> 35 | V13: =+$U13+2*STDEVP(OFFSET('Moyennes mobiles'!W10,-'Moyennes mobiles'!N$2+1,0,'Moyennes mobiles'!N$2))/'Moyennes mobiles'!N$2 -> 40
S14: ='Cours et volumes'!A11 -> 42790 | T14: =+$U14-2*STDEVP(OFFSET('Moyennes mobiles'!W11,-'Moyennes mobiles'!N$2+1,0,'Moyennes mobiles'!N$2))/'Moyennes mobiles'!N$2 -> 0 | U14: ='Moyennes mobiles'!N11 -> 0 | V14: =+$U14+2*STDEVP(OFFSET('Moyennes mobiles'!W11,-'Moyennes mobiles'!N$2+1,0,'Moyennes mobiles'!N$2))/'Moyennes mobiles'!N$2 -> 0

Sheet Moyennes mobiles
L2: moyenne calculée sur les | N2: 2 | P2: derniers jours
L6: date | N6: MM Arithmetique | S6: date | T6: ouv | U6: haut | V6: bas | W6: Cours de cloture | X6: volume
L7: =+S7 -> 42786 | N7: =SUM(OFFSET(W7,-N$2+1,0,N$2))/N$2 -> 5 | O7: =IF(#REF!>0,#REF!,"") -> #REF! | S7: ='Cours et volumes'!A7 -> 42786 | T7: ='Cours et volumes'!B7 -> 38.555 | U7: ='Cours et volumes'!C7 -> 38.73 | V7: ='Cours et volumes'!D7 -> 38.265 | W7: ='Cours et volumes'!E7 -> 10 | X7: ='Cours et volumes'!F7 -> 525478
L8: =+S8 -> 42787 | N8: =SUM(OFFSET(W8,-N$2+1,0,N$2))/N$2 -> 15 | O8: =IF(#REF!>0,#REF!,"") -> #REF! | S8: ='Cours et volumes'!A8 -> 42787 | T8: ='Cours et volumes'!B8 -> 38.8 | U8: ='Cours et volumes'!C8 -> 38.98 | V8: ='Cours et volumes'!D8 -> 38.455 | W8: ='Cours et volumes'!E8 -> 20 | X8: ='Cours et volumes'!F8 -> 660563
L9: =+S9 -> 42788 | N9: =SUM(OFFSET(W9,-N$2+1,0,N$2))/N$2 -> 25 | O9: =IF(#REF!>0,#REF!,"") -> #REF! | S9: ='Cours et volumes'!A9 -> 42788 | T9: ='Cours et volumes'!B9 -> 39 | U9: ='Cours et volumes'!C9 -> 39 | V9: ='Cours et volumes'!D9 -> 37.365 | W9: ='Cours et volumes'!E9 -> 30 | X9: ='Cours et volumes'!F9 -> 1922770
L10: =+S10 -> 42789 | N10: =SUM(OFFSET(W10,-N$2+1,0,N$2))/N$2 -> 35 | O10: =IF(#REF!>0,#REF!,"") -> #REF! | S10: ='Cours et volumes'!A10 -> 42789 | T10: ='Cours et volumes'!B10 -> 37.7 | U10: ='Cours et volumes'!C10 -> 37.885 | V10: ='Cours et volumes'!D10 -> 37.37 | W10: ='Cours et volumes'!E10 -> 40 | X10: ='Cours et volumes'!F10 -> 1012412

Sheet RSI
W1: Moy Mob Arithmetique | AA1: RSI de Wilder
X2: 27 | AA2: 14
W5: RSI | Z5: RSI | AA5: MMmodifiée
S6: Variation | T6: Haussse | U6: Baisse | W6: 10 cours | Z6: =+$AA$2 -> 14 | AA6: Haussse | AB6: Baisse
L7: date | M7: Valeur ouverture | N7: Valeur maximum | O7: Valeur minimum | P7: Valeure cloture | Q7: volume | X7: =+W1&X2&" cours" -> Moy Mob Arithmetique27 cours | Z7: =+AA1&Z6 -> RSI de Wilder14
L8: ='Cours et volumes'!A7 -> 42786 | M8: ='Cours et volumes'!B7 -> 38.555 | N8: ='Cours et volumes'!C7 -> 38.73 | O8: ='Cours et volumes'!D7 -> 38.265 | P8: ='Cours et volumes'!E7 -> 10 | Q8: ='Cours et volumes'!F7 -> 525478
L9: ='Cours et volumes'!A8 -> 42787 | M9: ='Cours et volumes'!B8 -> 38.8 | N9: ='Cours et volumes'!C8 -> 38.98 | O9: ='Cours et volumes'!D8 -> 38.455 | P9: ='Cours et volumes'!E8 -> 20 | Q9: ='Cours et volumes'!F8 -> 660563 | S9: =+P9-P8 -> 10 | T9: =+S9*(+S9>0) -> 10 | U9: =-S9*(S9<0) -> 0 | V9: =+L8 -> 42786 | W9: =SUM(#REF!)/SUM(#REF!) -> #REF! | X9: =1-1/(1+SUM(OFFSET($T9,0,0,X$2,1))/SUM(OFFSET($U9,0,0,X$2,1))) -> 0.42857143 | Z9: =1-(1/(1+AA9/AB9)) -> #DIV/0! | AA9: =+(T9+AA8*($AA$2-1))/($AA$2) -> 0.71428571 | AB9: =+(U9+AB8*($AA$2-1))/($AA$2) -> 0
L10: ='Cours et volumes'!A9 -> 42788 | M10: ='Cours et volumes'!B9 -> 39 | N10: ='Cours et volumes'!C9 -> 39 | O10: ='Cours et volumes'!D9 -> 37.365 | P10: ='Cours et volumes'!E9 -> 30 | Q10: ='Cours et volumes'!F9 -> 1922770 | S10: =+P10-P9 -> 10 | T10: =+S10*(+S10>0) -> 10 | U10: =-S10*(S10<0) -> 0 | V10: =+L9 -> 42787 | W10: =SUM(T1:T10)/SUM(T1:U10) -> 1 | X10: =1-1/(1+SUM(OFFSET($T10,0,0,X$2,1))/SUM(OFFSET($U10,0,0,X$2,1))) -> 0.33333333 | Z10: =1-(1/(1+AA10/AB10)) -> #DIV/0! | AA10: =+(T10+AA9*($AA$2-1))/($AA$2) -> 1.377551 | AB10: =+(U10+AB9*($AA$2-1))/($AA$2) -> 0
L11: ='Cours et volumes'!A10 -> 42789 | M11: ='Cours et volumes'!B10 -> 37.7 | N11: ='Cours et volumes'!C10 -> 37.885 | O11: ='Cours et volumes'!D10 -> 37.37 | P11: ='Cours et volumes'!E10 -> 40 | Q11: ='Cours et volumes'!F10 -> 1012412 | S11: =+P11-P10 -> 10 | T11: =+S11*(+S11>0) -> 10 | U11: =-S11*(S11<0) -> 0 | V11: =+L10 -> 42788 | W11: =SUM(T2:T11)/SUM(T2:U11) -> 1 | X11: =1-1/(1+SUM(OFFSET($T11,0,0,X$2,1))/SUM(OFFSET($U11,0,0,X$2,1))) -> 0.2 | Z11: =1-(1/(1+AA11/AB11)) -> #DIV/0! | AA11: =+(T11+AA10*($AA$2-1))/($AA$2) -> 1.9934402 | AB11: =+(U11+AB10*($AA$2-1))/($AA$2) -> 0
L12: ='Cours et volumes'!A11 -> 42790 | M12: ='Cours et volumes'!B11 -> 0 | N12: ='Cours et volumes'!C11 -> 0 | O12: ='Cours et volumes'!D11 -> 0 | P12: ='Cours et volumes'!E11 -> 0 | Q12: ='Cours et volumes'!F11 -> 0 | S12: =+P12-P11 -> -40 | T12: =+S12*(+S12>0) -> 0 | U12: =-S12*(S12<0) -> 40 | V12: =+L11 -> 42789 | W12: =SUM(T3:T12)/SUM(T3:U12) -> 0.42857143 | X12: =1-1/(1+SUM(OFFSET($T12,0,0,X$2,1))/SUM(OFFSET($U12,0,0,X$2,1))) -> 0 | Z12: =1-(1/(1+AA12/AB12)) -> 0.3931553 | AA12: =+(T12+AA11*($AA$2-1))/($AA$2) -> 1.8510516 | AB12: =+(U12+AB11*($AA$2-1))/($AA$2) -> 2.8571429
L13: ='Cours et volumes'!A12 -> 0 | M13: ='Cours et volumes'!B12 -> 0 | N13: ='Cours et volumes'!C12 -> 0 | O13: ='Cours et volumes'!D12 -> 0 | P13: ='Cours et volumes'!E12 -> 0 | Q13: ='Cours et volumes'!F12 -> 0 | S13: =+P13-P12 -> 0 | T13: =+S13*(+S13>0) -> 0 | U13: =-S13*(S13<0) -> 0 | V13: =+L12 -> 42790 | W13: =SUM(T4:T13)/SUM(T4:U13) -> 0.42857143 | X13: =1-1/(1+SUM(OFFSET($T13,0,0,X$2,1))/SUM(OFFSET($U13,0,0,X$2,1))) -> #DIV/0! | Z13: =1-(1/(1+AA13/AB13)) -> 0.3931553 | AA13: =+(T13+AA12*($AA$2-1))/($AA$2) -> 1.7188337 | AB13: =+(U13+AB12*($AA$2-1))/($AA$2) -> 2.6530612
L14: ='Cours et volumes'!A13 -> 0 | M14: ='Cours et volumes'!B13 -> 0 | N14: ='Cours et volumes'!C13 -> 0 | O14: ='Cours et volumes'!D13 -> 0 | P14: ='Cours et volumes'!E13 -> 0 | Q14: ='Cours et volumes'!F13 -> 0 | S14: =+P14-P13 -> 0 | T14: =+S14*(+S14>0) -> 0 | U14: =-S14*(S14<0) -> 0 | V14: =+L13 -> 0 | W14: =SUM(T5:T14)/SUM(T5:U14) -> 0.42857143 | X14: =1-1/(1+SUM(OFFSET($T14,0,0,X$2,1))/SUM(OFFSET($U14,0,0,X$2,1))) -> #DIV/0! | Z14: =1-(1/(1+AA14/AB14)) -> 0.3931553 | AA14: =+(T14+AA13*($AA$2-1))/($AA$2) -> 1.5960598 | AB14: =+(U14+AB13*($AA$2-1))/($AA$2) -> 2.4635569
L15: ='Cours et volumes'!A14 -> 0 | M15: ='Cours et volumes'!B14 -> 0 | N15: ='Cours et volumes'!C14 -> 0 | O15: ='Cours et volumes'!D14 -> 0 | P15: ='Cours et volumes'!E14 -> 0 | Q15: ='Cours et volumes'!F14 -> 0 | S15: =+P15-P14 -> 0 | T15: =+S15*(+S15>0) -> 0 | U15: =-S15*(S15<0) -> 0 | V15: =+L14 -> 0 | W15: =SUM(T6:T15)/SUM(T6:U15) -> 0.42857143 | X15: =1-1/(1+SUM(OFFSET($T15,0,0,X$2,1))/SUM(OFFSET($U15,0,0,X$2,1))) -> #DIV/0! | Z15: =1-(1/(1+AA15/AB15)) -> 0.3931553 | AA15: =+(T15+AA14*($AA$2-1))/($AA$2) -> 1.4820556 | AB15: =+(U15+AB14*($AA$2-1))/($AA$2) -> 2.2875885
L16: ='Cours et volumes'!A15 -> 0 | M16: ='Cours et volumes'!B15 -> 0 | N16: ='Cours et volumes'!C15 -> 0 | O16: ='Cours et volumes'!D15 -> 0 | P16: ='Cours et volumes'!E15 -> 0 | Q16: ='Cours et volumes'!F15 -> 0 | S16: =+P16-P15 -> 0 | T16: =+S16*(+S16>0) -> 0 | U16: =-S16*(S16<0) -> 0 | V16: =+L15 -> 0 | W16: =SUM(T7:T16)/SUM(T7:U16) -> 0.42857143 | X16: =1-1/(1+SUM(OFFSET($T16,0,0,X$2,1))/SUM(OFFSET($U16,0,0,X$2,1))) -> #DIV/0! | Z16: =1-(1/(1+AA16/AB16)) -> 0.3931553 | AA16: =+(T16+AA15*($AA$2-1))/($AA$2) -> 1.3761945 | AB16: =+(U16+AB15*($AA$2-1))/($AA$2) -> 2.1241893
L17: ='Cours et volumes'!A16 -> 0 | M17: ='Cours et volumes'!B16 -> 0 | N17: ='Cours et volumes'!C16 -> 0 | O17: ='Cours et volumes'!D16 -> 0 | P17: ='Cours et volumes'!E16 -> 0 | Q17: ='Cours et volumes'!F16 -> 0 | S17: =+P17-P16 -> 0 | T17: =+S17*(+S17>0) -> 0 | U17: =-S17*(S17<0) -> 0 | V17: =+L16 -> 0 | W17: =SUM(T8:T17)/SUM(T8:U17) -> 0.42857143 | X17: =1-1/(1+SUM(OFFSET($T17,0,0,X$2,1))/SUM(OFFSET($U17,0,0,X$2,1))) -> #DIV/0! | Z17: =1-(1/(1+AA17/AB17)) -> 0.3931553 | AA17: =+(T17+AA16*($AA$2-1))/($AA$2) -> 1.2778948 | AB17: =+(U17+AB16*($AA$2-1))/($AA$2) -> 1.9724615
L18: ='Cours et volumes'!A17 -> 0 | M18: ='Cours et volumes'!B17 -> 0 | N18: ='Cours et volumes'!C17 -> 0 | O18: ='Cours et volumes'!D17 -> 0 | P18: ='Cours et volumes'!E17 -> 0 | Q18: ='Cours et volumes'!F17 -> 0 | S18: =+P18-P17 -> 0 | T18: =+S18*(+S18>0) -> 0 | U18: =-S18*(S18<0) -> 0 | V18: =+L17 -> 0 | W18: =SUM(T9:T18)/SUM(T9:U18) -> 0.42857143 | X18: =1-1/(1+SUM(OFFSET($T18,0,0,X$2,1))/SUM(OFFSET($U18,0,0,X$2,1))) -> #DIV/0! | Z18: =1-(1/(1+AA18/AB18)) -> 0.3931553 | AA18: =+(T18+AA17*($AA$2-1))/($AA$2) -> 1.1866166 | AB18: =+(U18+AB17*($AA$2-1))/($AA$2) -> 1.8315714
K19: J1 | L19: ='Cours et volumes'!A18 -> 0 | M19: ='Cours et volumes'!B18 -> 0 | N19: ='Cours et volumes'!C18 -> 0 | O19: ='Cours et volumes'!D18 -> 0 | P19: ='Cours et volumes'!E18 -> 0 | Q19: ='Cours et volumes'!F18 -> 0 | S19: =+P19-P18 -> 0 | T19: =+S19*(+S19>0) -> 0 | U19: =-S19*(S19<0) -> 0 | V19: =+L18 -> 0 | W19: =SUM(T10:T19)/SUM(T10:U19) -> 0.33333333 | X19: =1-1/(1+SUM(OFFSET($T19,0,0,X$2,1))/SUM(OFFSET($U19,0,0,X$2,1))) -> #DIV/0! | Z19: =1-(1/(1+AA19/AB19)) -> 0.3931553 | AA19: =+(T19+AA18*($AA$2-1))/($AA$2) -> 1.1018583 | AB19: =+(U19+AB18*($AA$2-1))/($AA$2) -> 1.7007449
L20: ='Cours et volumes'!A19 -> 0 | M20: ='Cours et volumes'!B19 -> 0 | N20: ='Cours et volumes'!C19 -> 0 | O20: ='Cours et volumes'!D19 -> 0 | P20: ='Cours et volumes'!E19 -> 0 | Q20: ='Cours et volumes'!F19 -> 0 | S20: =+P20-P19 -> 0 | T20: =+S20*(+S20>0) -> 0 | U20: =-S20*(S20<0) -> 0 | V20: =+L19 -> 0 | W20: =SUM(T11:T20)/SUM(T11:U20) -> 0.2 | X20: =1-1/(1+SUM(OFFSET($T20,0,0,X$2,1))/SUM(OFFSET($U20,0,0,X$2,1))) -> #DIV/0! | Z20: =1-(1/(1+AA20/AB20)) -> 0.3931553 | AA20: =+(T20+AA19*($AA$2-1))/($AA$2) -> 1.0231541 | AB20: =+(U20+AB19*($AA$2-1))/($AA$2) -> 1.5792631
L21: ='Cours et volumes'!A20 -> 0 | M21: ='Cours et volumes'!B20 -> 0 | N21: ='Cours et volumes'!C20 -> 0 | O21: ='Cours et volumes'!D20 -> 0 | P21: ='Cours et volumes'!E20 -> 0 | Q21: ='Cours et volumes'!F20 -> 0 | S21: =+P21-P20 -> 0 | T21: =+S21*(+S21>0) -> 0 | U21: =-S21*(S21<0) -> 0 | V21: =+L20 -> 0 | W21: =SUM(T12:T21)/SUM(T12:U21) -> 0 | X21: =1-1/(1+SUM(OFFSET($T21,0,0,X$2,1))/SUM(OFFSET($U21,0,0,X$2,1))) -> #DIV/0! | Z21: =1-(1/(1+AA21/AB21)) -> 0.3931553 | AA21: =+(T21+AA20*($AA$2-1))/($AA$2) -> 0.95007171 | AB21: =+(U21+AB20*($AA$2-1))/($AA$2) -> 1.4664586
L22: ='Cours et volumes'!A21 -> 0 | M22: ='Cours et volumes'!B21 -> 0 | N22: ='Cours et volumes'!C21 -> 0 | O22: ='Cours et volumes'!D21 -> 0 | P22: ='Cours et volumes'!E21 -> 0 | Q22: ='Cours et volumes'!F21 -> 0 | S22: =+P22-P21 -> 0 | T22: =+S22*(+S22>0) -> 0 | U22: =-S22*(S22<0) -> 0 | V22: =+L21 -> 0 | W22: =SUM(T13:T22)/SUM(T13:U22) -> #DIV/0! | X22: =1-1/(1+SUM(OFFSET($T22,0,0,X$2,1))/SUM(OFFSET($U22,0,0,X$2,1))) -> #DIV/0! | Z22: =1-(1/(1+AA22/AB22)) -> 0.3931553 | AA22: =+(T22+AA21*($AA$2-1))/($AA$2) -> 0.88220944 | AB22: =+(U22+AB21*($AA$2-1))/($AA$2) -> 1.3617116

Sheet Stop an reverse
W1: 0.02 | X1: 0.02 | Y1: 0.4
W2: Initialisation (compatibilité Graphe AT:0,04) | X2: Incrément | Y2: Limite
W3: Paramètres
K7: date | L7: ouv | M7: haut | N7: bas | O7: cloture | P7: volume | T7: Baisse | U7: Hausse | V7: SAR | W7: max | X7: Sens: Baisse= vrai
K8: ='Cours et volumes'!A7 -> 42786 | L8: ='Cours et volumes'!B7 -> 38.555 | M8: ='Cours et volumes'!C7 -> 38.73 | N8: ='Cours et volumes'!D7 -> 38.265 | O8: ='Cours et volumes'!E7 -> 10 | P8: ='Cours et volumes'!F7 -> 525478
K9: ='Cours et volumes'!A8 -> 42787 | L9: ='Cours et volumes'!B8 -> 38.8 | M9: ='Cours et volumes'!C8 -> 38.98 | N9: ='Cours et volumes'!D8 -> 38.455 | O9: ='Cours et volumes'!E8 -> 20 | P9: ='Cours et volumes'!F8 -> 660563
K10: ='Cours et volumes'!A9 -> 42788 | L10: ='Cours et volumes'!B9 -> 39 | M10: ='Cours et volumes'!C9 -> 39 | N10: ='Cours et volumes'!D9 -> 37.365 | O10: ='Cours et volumes'!E9 -> 30 | P10: ='Cours et volumes'!F9 -> 1922770 | T10: =IF(X10,IF(X10=X9,V10,W9),"") | U10: =IF(X10,"",IF(X10=X9,V10,W9)) -> 30 | V10: =IF(V9=0,O10,IF(X9=X8,+Y10*(W10-V9)+V9,Y10*(W10-W9)+W9)) -> 30 | W10: =IF(X9=X8,IF(X9,IF(N10<W9,N10,W9),IF(M10>W9,M10,W9)),IF(X9,N10,M10)) -> 39 | X10: =IF(X9,V10>M10,NOT(V10<N10)) -> FALSE | Y10: =IF(X9=X8,IF(W9=W10,Y9,IF(Y9<Y$1,Y9+X$1,Y$1)),W$1) -> 0.02
K11: ='Cours et volumes'!A10 -> 42789 | L11: ='Cours et volumes'!B10 -> 37.7 | M11: ='Cours et volumes'!C10 -> 37.885 | N11: ='Cours et volumes'!D10 -> 37.37 | O11: ='Cours et volumes'!E10 -> 40 | P11: ='Cours et volumes'!F10 -> 1012412 | T11: =IF(X11,IF(X11=X10,V11,W10),"") | U11: =IF(X11,"",IF(X11=X10,V11,W10)) -> 30.18 | V11: =IF(V10=0,O11,IF(X10=X9,+Y11*(W11-V10)+V10,Y11*(W11-W10)+W10)) -> 30.18 | W11: =IF(X10=X9,IF(X10,IF(N11<W10,N11,W10),IF(M11>W10,M11,W10)),IF(X10,N11,M11)) -> 39 | X11: =IF(X10,V11>M11,NOT(V11<N11)) -> FALSE | Y11: =IF(X10=X9,IF(W10=W11,Y10,IF(Y10<Y$1,Y10+X$1,Y$1)),W$1) -> 0.02

Sheet Dow
U1: Date | V1: Valeur fermeture | W1: Valeur minimum | X1: Valeur maximum | Y1: Drawdown | AA1: Equity curve | AD1: C'est l'évolution Titres + Liquidités
U2: ='Cours et volumes'!A7 -> 42786 | V2: ='Cours et volumes'!E7 -> 10 | Y2: =X2-W2 -> 0
U3: ='Cours et volumes'!A8 -> 42787 | V3: ='Cours et volumes'!E8 -> 20 | W3: =IF(X3=V3,V3,IF(V3<W2,V3,W2)) -> 20 | X3: =IF(V3>X2,V3,X2) -> 20 | Y3: =X3-W3 -> 0 | AA3: max | AB3: =SI(J2>L3;J2;L3) | AD3: calcul du plus haut historique
U4: ='Cours et volumes'!A9 -> 42788 | V4: ='Cours et volumes'!E9 -> 30 | W4: =IF(X4=V4,V4,IF(V4<W3,V4,W3)) -> 30 | X4: =IF(V4>X3,V4,X3) -> 30 | Y4: =X4-W4 -> 0
U5: ='Cours et volumes'!A10 -> 42789 | V5: ='Cours et volumes'!E10 -> 40 | W5: =IF(X5=V5,V5,IF(V5<W4,V5,W4)) -> 40 | X5: =IF(V5>X4,V5,X4) -> 40 | Y5: =X5-W5 -> 0 | AA5: min | AB5: =SI(L2=J2;J2;SI(J2<K3;J2;K3))
V6: ='Cours et volumes'!E11 -> 0 | W6: =IF(X6=V6,V6,IF(V6<W5,V6,W5)) -> 0 | X6: =IF(V6>X5,V6,X5) -> 40 | Y6: =X6-W6 -> 40 | AA6: se décompose en : | AC6: plus bas historique | AE6: =SI(J2<K3;J2;K3)
AC7: Remise à zero si un nouveau + haut est atteint,
AA9: Drawdown | AB9: =+L2-K2 | AD9: plus haut historique -plus bas historique
AA12: maxdrawdown | AB12: =MAX(M2:M352) | AD12: =MAX(Y2:Y352) -> 40 | AE12: calcul du plus haut du drawdown
