Workbook
Name pratiques: Feuil1!$A$2:$A$7

Sheet QUESTIONNEMENT EVALUATIF
A1: Evaluation interne
A3: Méthodologie de la démarche
A5: 1. L'animateur énonce synthétiquement l'attendu, "la bonne pratique" (cadre légal, ANESM, autres références CD, DDCS PJJ, ADSEA)
A6: 2. Le groupe, au regard de l'attendu présenté, décrit le fonctionnement du service et les pratiques et se situe:
A7: 2.1. Comment fonctionnons nous, quelle est notre pratique?
A8: 2.2. Quels sont les effets de cette pratique pour les destinataires?
A9: 2.3. L'animateur doit avoir en tête et recueillir des éléments permettant la description et l'analyse des écarts:
A10: 2.3.1 Entre les actions prévues et celles réalisées,
A11: 2.3.2, Entre les effets attendus et les effets observés,
A12: 2.3.3, Entre les pratiques recommandées et les pratiques observées,
A13: 3. L'animateur propose, à partir de la description du fonctionnement et des pratiques, une double cotation au groupe, avec recherche de consensus, et annotation en cas de divergence
B14: pratique informelle | C14: pratique formalisée | D14: pratique actualisée
B15: pratique inexistante | C15: pratique occasionnelle ou partielle | D15: pratique intégrale et systématique
A17: 4. Le groupe, au regard de la description et de la cotation propose des pistes d'amélioration

Sheet A remplir
B3: Date :
B5: Service :
B7: N° de Groupe :
B9: Axes traités :
B11: Animateurs :

Sheet AXE 1
B1: AXE N°1 : xxxxxxxxx
B4: 1.1 xxxxxxx
B6: Cadre légal :
B7: xxxx | C7: xxxxxxxx | U7: Conformité | V7: Qualité
B8: xxxx | C8: xxxxxxxx | U8: Pratique formalisée | V8: Pratique intégrale et systématique
U9: Pratique actualisée | V9: Pratique occasionnelle ou partielle
B10: xxxx | U10: Pratique inexistante | V10: Pratique informelle
O12: Cotation
A13: Ind 1 | B13: 1er indicateur : xxxxx | O13: Pratique formalisée | Q13: =IF(O13=$U$8,100,IF(O13=$U$9,50,IF(O13=$U$10,0))) -> 100 | R13: Pratique occasionnelle ou partielle | S13: =IF(R13=$V$8,100,IF(R13=$V$9,50,IF(R13=$V$10,0))) -> 50
A14: Ind 2 | B14: 2ème indicateur : xxxxx | O14: Pratique inexistante | Q14: =IF(O14=$U$8,100,IF(O14=$U$9,50,IF(O14=$U$10,0))) -> 0 | R14: Pratique informelle | S14: =IF(R14=$V$8,100,IF(R14=$V$9,50,IF(R14=$V$10,0))) -> 0
A15: Ind 3 | B15: 3ème indicateur : xxxx | O15: Pratique formalisée | Q15: =IF(O15=$U$8,100,IF(O15=$U$9,50,IF(O15=$U$10,0))) -> 100 | R15: Pratique informelle | S15: =IF(R15=$V$8,100,IF(R15=$V$9,50,IF(R15=$V$10,0))) -> 0
A16: Ind 4 | B16: 4ème indicateur : xxxxx | O16: Pratique formalisée | Q16: =IF(O16=$U$8,100,IF(O16=$U$9,50,IF(O16=$U$10,0))) -> 100 | R16: Pratique occasionnelle ou partielle | S16: =IF(R16=$V$8,100,IF(R16=$V$9,50,IF(R16=$V$10,0))) -> 50
N17: TOTAL | O17: Conformité | Q17: =(SUM(Q13:Q16)/4) -> 75 | R17: Qualité | S17: =(SUM(S13:S16)/4) -> 25
B23: Commentaires
B26: Propositions d'amélioration

Sheet AXE 2
B1: AXE N°2
V2: Conformité | W2: Qualité
B3: 2. La garantie des droits des personnes accompagnées et leur participation au fonctionnement de la structure | V3: Pratique formalisée | W3: Pratique intégrale et systématique
V4: Pratique actualisée | W4: Pratique occasionnelle ou partielle
B5: 2.1 L’exercice des droits et libertés individuels | V5: Pratique inexistante | W5: Pratique informelle
B7: Cadre légal :
B8: PE | C8: La loi du 6 juin 1984 relative aux droits des familles dans leurs rapports avec les services chargés de la protection de la famille et de l'enfance, et au statut des pupilles de l'État a marqué un tournant. Elle est en effet venue mettre en place les conditions d'un réel respect du droit des familles, là où il y avait des rapports d'assistance voire de force. S'il y a des familles en difficulté et des familles défaillantes, ce n'est pas en les écartant ou en les dénigrant aux yeux de leurs enfants que sera résolue durablement leur situation et celle de leurs enfants. C'est au contraire, en leur reconnaissant des droits et en leur donnant les moyens de les exercer qu'ils pourront sortir de leur difficulté.Dans cette continuité et de manière à garantir l'exercice effectif des droits et libertés des personnes accompagnées et prévenir des abus professionnels et/ou institutionnels, la loi n° 2002-2 rénovant l'action sociale et médico-sociale a rendu obligatoire un certain nombre d'outils afin de garantir le droit à l'information, à la confidentialité des informations, à l'expression et la participation, au respect des règles relatives à l'autorité parentale. Si le contrôle doit permettre de vérifier la mise en œuvre effective des droits, l'évaluation doit interroger la manière dont ils se traduisent dans le fonctionnement quotidien de la structure et dans la relation d'accompagnement entre intervenants et mineurs/jeunes majeurs accompagnés et leurs représentants légaux.
B9: PA
B11: ANESM : | C11: Le projet d'établissement et/ou de service, régulièrement et collectivement actualisé, représentation des bénéficiaires Fixe les orientations et valeurs du service, regard d'une instance de son organisation. Il est soumis au livret Charte ; RF. Un document type DIPC, DIPM DFPC ou contrat de séjour est élaboré conjointement avec les bénéficiaires et/ou leurs représentants Légaux. Des avenants sont élaborés autant que de besoin de façon à permettre l'ajustement des objectifs à l'évolution des situations CVS ou autre forme de participation Droit à l'information; Projet personnalisé ; Dossier ; Personne qualifiée Droit recours : est-ce que notre service veille à informer les familles de leur possibilité de faire appel de la mesure ?
O13: Cotation
B14: 1er indicateur : Les outils de la loi du 2 janvier 2002 existent. Ils ont été soumis et co-construits avec les représentants des personnes accompagnées. | O14: Pratique actualisée | Q14: =IF(O14=$V$3,100,IF(O14=$V$4,50,IF(O14=$V$5,0))) -> 50 | R14: Pratique intégrale et systématique | S14: =IF(R14=$W$3,100,IF(R14=$W$4,50,IF(R14=$W$5,0))) -> 100
B15: 2ème indicateur : Au sein des équipes, des espaces de réflexion existent et permettent au professionnels de s'approprier les outils. | O15: Pratique actualisée | Q15: =IF(O15=$V$3,100,IF(O15=$V$4,50,IF(O15=$V$5,0))) -> 50 | R15: Pratique informelle | S15: =IF(R15=$W$3,100,IF(R15=$W$4,50,IF(R15=$W$5,0))) -> 0
B16: 3ème indicateur : Des temps d'échange sur la compréhension et la mise en oeuvre des outils existent avec les personnes accompagnées | O16: Pratique inexistante | Q16: =IF(O16=$V$3,100,IF(O16=$V$4,50,IF(O16=$V$5,0))) -> 0 | R16: Pratique occasionnelle ou partielle | S16: =IF(R16=$W$3,100,IF(R16=$W$4,50,IF(R16=$W$5,0))) -> 50
B17: 4ème indicateur : La confidentialité des informations des personnes accompagnées est garantie | O17: Pratique formalisée | Q17: =IF(O17=$V$3,100,IF(O17=$V$4,50,IF(O17=$V$5,0))) -> 100 | R17: Pratique intégrale et systématique | S17: =IF(R17=$W$3,100,IF(R17=$W$4,50,IF(R17=$W$5,0))) -> 100
B18: 5ème indicateur : Une procédure définit les conditions d'accès au dossier unique. Ses modalités sont inscrites dans les livrets d'accueil, la consultation du dossier est facilitée. | O18: Pratique actualisée | Q18: =IF(O18=$V$3,100,IF(O18=$V$4,50,IF(O18=$V$5,0))) -> 50 | R18: Pratique informelle | S18: =IF(R18=$W$3,100,IF(R18=$W$4,50,IF(R18=$W$5,0))) -> 0
B19: 6ème indicateur: Les pratiques et les écrits professionnels garantissent le respect de l'intimité et de la vie privée. Une réflexion partagée autour des pratiques existe. | O19: Pratique inexistante | Q19: =IF(O19=$V$3,100,IF(O19=$V$4,50,IF(O19=$V$5,0))) -> 0 | R19: Pratique informelle | S19: =IF(R19=$W$3,100,IF(R19=$W$4,50,IF(R19=$W$5,0))) -> 0
O20: Conformité | P20: 50 | Q20: =(SUM(Q16:Q19)/6) -> 25 | R20: Qualité | S20: =(SUM(S16:S19)/6) -> 25
B23: Propositions d'amélioration
B26: Commentaires
B29: 2.2 Le respect du droit à la vie familiale et celui du droit à l'autorité parentale dans le cadre de l'intervention
B31: Cadre légal :
B32: PE | C32: « Dans toutes les décisions qui concernent les enfants, qu’elles soient le fait des institutions publiques ou privées de protection sociale, des tribunaux, des autorités administratives ou des organes législatifs, l’intérêt supérieur de l’enfant doit être une considération primordiale. (…) » Article 3 de la C.I.D.E Art 371 et suivants du Code civil énonçant les droits et devoirs relatifs à l’autorité parentale et son exercice. Art. 375-7 du Code civil concernant les décisions relatives aux attributs de l’autorité parentale qui ne sont pas incompatibles avec la mesure d’assistance éducative.
B33: PA | C33: Article 458 du Code Civil : « Sous réserve des dispositions particulières prévues par la loi, l'accomplissement des actes dont la nature implique un consentement strictement personnel ne peut jamais donner lieu à assistance ou représentation de la personne protégée. Sont réputés strictement personnels la déclaration de naissance d'un enfant, sa reconnaissance, les actes de l'autorité parentale relatifs à la personne d'un enfant, la déclaration du choix ou du changement du nom d'un enfant et le consentement donné à sa propre adoption ou à celle de son enfant. »
B35: ANESM : | C35: RBPP ANESM, "L’évaluation interdisciplinaire de la situation du mineur/jeune majeur en cours de mesure", mai 2013 RBPP ANESM, "Le questionnement éthique dans les établissements et services sociaux et médico-sociaux", Octobre 2010
O37: Cotation
B38: 1er indicateur : Les conditions particulières de l'exercice de l'autorité parentale sont connues des professionnels | O38: Pratique actualisée | Q38: =IF(O38=$V$3,100,IF(O38=$V$4,50,IF(O38=$V$5,0))) -> 50 | R38: Pratique intégrale et systématique | S38: =IF(R38=$W$3,100,IF(R38=$W$4,50,IF(R38=$W$5,0))) -> 100
B39: 2ème indicateur : Les familles sont informées des conditions particulières de l'exercice de l'autorité parentale | O39: Pratique inexistante | Q39: =IF(O39=$V$3,100,IF(O39=$V$4,50,IF(O39=$V$5,0))) -> 0 | R39: Pratique informelle | S39: =IF(R39=$W$3,100,IF(R39=$W$4,50,IF(R39=$W$5,0))) -> 0
B40: 3ème indicateur : le respect du droit à l'autorité parentale et à la vie familiale est garanti tout au long de l'accompagnement. | O40: Pratique formalisée | Q40: =IF(O40=$V$3,100,IF(O40=$V$4,50,IF(O40=$V$5,0))) -> 100 | R40: Pratique occasionnelle ou partielle | S40: =IF(R40=$W$3,100,IF(R40=$W$4,50,IF(R40=$W$5,0))) -> 50
O41: Conformité | P41: 50 | Q41: =(SUM(Q37:Q40)/3) -> 50 | R41: Qualité | S41: =(SUM(S37:S40)/3) -> 50
B44: Propositions d'amélioration
B47: Commentaires
B49: 2.3 La consultation et la participation des personnes accompagnées au fonctionnement de l'établissement / service
B51: Cadre légal :
B52: PE
B53: PA | C53: Le cadre juridique supranational et national place l’expression et la participation du mineur comme un droit fondamental (L’article 12 de la C.I.D.E, recommandation du Comité des Ministres aux États membres du Conseil de l’Europe). Ce principe est repris dans le droit français, notamment au travers des lois n° 2002-2 du 2 janvier 2002 et n° 2007-973 du 5 mars 2007. La loi du 5 mars 2007 réformant la protection des majeurs, entrée en vigueur le 1 janvier 2009, est l’aboutissement d’une longue réflexion qui visait à adapter le système de protection des personnes aux mutations sociales, à garantir la protection des intérêts des personnes et à promouvoir dans la mesure du possible leur autonomie. En inscrivant les services mandataires judiciaires à la protection des majeurs dans le cadre de la loi du 2 janvier 2002, la loi a reconnu l’importance de ces services dans la promotion de l’autonomie et du respect des droits des personnes vulnérables. Désormais, les pratiques des professionnels se situent à l’articulation du droit civil et du droit de l’action sociale et des familles.
B55: ANESM :
O57: Cotation
B58: 1er indicateur : Des instances de participation (Comité d'usagers, CVS, enquêtes ….) des personnes accompagnées existent. | O58: Pratique actualisée | Q58: =IF(O58=$V$3,100,IF(O58=$V$4,50,IF(O58=$V$5,0))) -> 50 | R58: Pratique intégrale et systématique | S58: =IF(R58=$W$3,100,IF(R58=$W$4,50,IF(R58=$W$5,0))) -> 100
B59: 2ème indicateur : L'existence de ces instances de participation est portée à la connaissance des personnes accompagnées | O59: Pratique inexistante | Q59: =IF(O59=$V$3,100,IF(O59=$V$4,50,IF(O59=$V$5,0))) -> 0 | R59: Pratique informelle | S59: =IF(R59=$W$3,100,IF(R59=$W$4,50,IF(R59=$W$5,0))) -> 0
B60: 3ème indicateur : Les comptes-rendus de ces instances sont portés à la connaissance des personnes accompagnées | O60: Pratique inexistante | Q60: =IF(O60=$V$3,100,IF(O60=$V$4,50,IF(O60=$V$5,0))) -> 0 | R60: Pratique occasionnelle ou partielle | S60: =IF(R60=$W$3,100,IF(R60=$W$4,50,IF(R60=$W$5,0))) -> 50
...

Sheet AXE 3
B1: AXE N°3
T3: Conformité | U3: Qualité
B4: 3. La personnalisation de l’accompagnement | T4: Pratique formalisée | U4: Pratique intégrale et systématique
T5: Pratique actualisée | U5: Pratique occasionnelle ou partielle
B6: 3.1 La participation des personnes accompagnées à leur projet personnalisé | T6: Pratique inexistante | U6: Pratique informelle
B8: Cadre légal :
B9: PE | C9: La loi n° 2007-293 du 5 mars 2007 réformant la protection de l’enfance a introduit dans le Code de l’action sociale et des familles les dispositions de l’article 3 de la Convention internationale des Droits de l’Enfant (CIDE) en posant « l’intérêt de l’enfant, la prise en compte de ses besoins et le respect de ses droits devant guider toute décision le concernant ».
B10: PA | C10: Pour le service MJPM, la loi du 5 mars 2007 réformant la protection des majeurs inscrit les services mandataires judiciaires dans le cadre de la loi du 2 janvier 2002 rénovant l’action sociale et médico‐sociale. L’un des axes principaux de cette loi est de renforcer les droits des usagers et tout particulièrement leur information, leur expression et leur participation.
B12: ANESM : | C12: Dans l’intérêt de l’enfant, des principes forts régissent les interventions des professionnels du secteur : • l’individualisation de la prise en charge, avec notamment l’obligation des services départementaux d’établir un projet pour l’enfant (PPE) • la continuité du parcours et la cohérence des actions ; • la stabilité affective définie comme l’un des besoins de l’enfant auquel la prise en charge doit répondre.
O14: Cotation
B15: 1er indicateur : Un projet individuel d'accompagnement existe. | O15: Pratique formalisée | Q15: =IF(O15=$T$4,100,IF(O15=$T$5,50,IF(O15=$T$6,0))) -> 100 | R15: Pratique intégrale et systématique | S15: =IF(R15=$U$4,100,IF(R15=$U$5,50,IF(R15=$U$6,0))) -> 100
B16: 2ème indicateur : La personne accompagnée et/ou ses représentant légaux sont associées à l'élaboration du projet individuel. | O16: Pratique actualisée | Q16: =IF(O16=$T$4,100,IF(O16=$T$5,50,IF(O16=$T$6,0))) -> 50 | R16: Pratique informelle | S16: =IF(R16=$U$4,100,IF(R16=$U$5,50,IF(R16=$U$6,0))) -> 0
B17: 3ème indicateur : Des rencontres régulières avec la personne accompagnée permettent de prendre en compte ses besoins et ses attentes. | O17: Pratique formalisée | Q17: =IF(O17=$T$4,100,IF(O17=$T$5,50,IF(O17=$T$6,0))) -> 100 | R17: Pratique informelle | S17: =IF(R17=$U$4,100,IF(R17=$U$5,50,IF(R17=$U$6,0))) -> 0
B18: 4ème indicateur : Le projet individuel fait l'objet d'une évaluation régulière et d'un avenant. | O18: Pratique formalisée | Q18: =IF(O18=$T$4,100,IF(O18=$T$5,50,IF(O18=$T$6,0))) -> 100 | R18: Pratique intégrale et systématique | S18: =IF(R18=$U$4,100,IF(R18=$U$5,50,IF(R18=$U$6,0))) -> 100
O19: Conformité | P19: 50 | Q19: =(SUM(Q15:Q18)/6) -> 58.333333 | R19: Qualité | S19: =(SUM(S15:S18)/6) -> 33.333333
B22: Propositions d'amélioration
B25: Commentaires
B29: 3.2 La coordination des interventions au sein de la structure dans un cadre formalisé
B31: Cadre légal :
B32: PE
B33: PA
B35: ANESM : | C35: Un accompagnement suppose une articulation et une coordination de ses différentes dimensions. Il vient également interroger des antinomies qui peuvent exister entre, d’une part, une certaine autonomie du (ou des) professionnel(s) chargé(s) du suivi et, d’autre part, celle d’inscrire l’action menée dans une réflexion commune participant à l’intervention du service. L’accompagnement doit nécessairement interroger l’organisation et les modalités de travail des équipes autour du partage d’informations. S’assurer que les références législatives et réglementaires soient connues de l’ensemble des professionnels. Construire le projet de service, les outils et les procédures de façon participative avec les professionnels. Faire vivre ces références collectives au quotidien au sein du service.
O37: Cotation
B38: 1er indicateur : Les rôles et les responsabilités de chaque membre de l'équipe sont définis et connus de tous. | O38: Pratique formalisée | Q38: =IF(O38=$T$4,100,IF(O38=$T$5,50,IF(O38=$T$6,0))) -> 100 | R38: Pratique informelle | S38: =IF(R38=$U$4,100,IF(R38=$U$5,50,IF(R38=$U$6,0))) -> 0
B39: 2ème indicateur : Un temps dédié à la coordination de l'intervention existe dans les réunions d'équipe. | O39: Pratique actualisée | Q39: =IF(O39=$T$4,100,IF(O39=$T$5,50,IF(O39=$T$6,0))) -> 50 | R39: Pratique intégrale et systématique | S39: =IF(R39=$U$4,100,IF(R39=$U$5,50,IF(R39=$U$6,0))) -> 100
B40: 3ème indicateur : L'organisation des services prévoit un temps d'échange formalisé entre les services en cas de double mesure ou de passation. | O40: Pratique actualisée | Q40: =IF(O40=$T$4,100,IF(O40=$T$5,50,IF(O40=$T$6,0))) -> 50 | R40: Pratique informelle | S40: =IF(R40=$U$4,100,IF(R40=$U$5,50,IF(R40=$U$6,0))) -> 0
B41: 4ème indicateur : Une veille juridique et sociale est assurée, les évolutions législatives et reglementaires sont portées à la connaissance des professionnels | O41: Pratique formalisée | Q41: =IF(O41=$T$4,100,IF(O41=$T$5,50,IF(O41=$T$6,0))) -> 100 | R41: Pratique intégrale et systématique | S41: =IF(R41=$U$4,100,IF(R41=$U$5,50,IF(R41=$U$6,0))) -> 100
B42: 5ème indicateur : Le projet de service élaboré de façon participative avec des professionnels vient coordonner les interventions à côté des références collectives. | O42: Pratique formalisée | Q42: =IF(O42=$T$4,100,IF(O42=$T$5,50,IF(O42=$T$6,0))) -> 100 | R42: Pratique intégrale et systématique | S42: =IF(R42=$U$4,100,IF(R42=$U$5,50,IF(R42=$U$6,0))) -> 100
O43: Conformité | P43: 50 | Q43: =(SUM(Q39:Q42)/6) -> 50 | R43: Qualité | S43: =(SUM(S39:S42)/6) -> 50
B46: Propositions d'amélioration
B49: Commentaires
B51: 3.3 La continuité des parcours et la cohérence des actions avec les partenaires.
B53: Cadre légal :
B54: PE
B55: PA
B57: ANESM : | C57: Les professionnels des structures inscrivent leur intervention dans un cadre contraint définit par la mesure mais dans un contexte faisant intervenir une multiplicité d’acteurs (compte tenu de la diversité des intervenants jouant un rôle auprès de la personne accompagnée). Les niveaux de collaboration varient et évoluent selon le moment de l’accompagnement et les missions respectives de chacun. Dans ce thème, l’enjeu principal pour les professionnels est d’une part d’interroger les partenariats autour des projets d’accompagnement, et d’autre part leur manière d’accompagner les situations de transition. Identifier les principaux acteurs du réseau professionnel du service pour connaitre l’objet de leurs missions, faire connaitre nos missions et le fonctionnement du service, informer et faire respecter les droits des personnes accompagnées. Rencontrer les autres intervenants pour identifier les besoins et attentes des personnes accompagnées, définir le périmètre d’intervention de chacun, coordonner l’exercice de la mesure avec les différents projets. Développer, faire évoluer et formaliser certains partenariats institutionnels par le biais de chartes de coopération ou de conventions en fonction des besoins identifiés. Mutualiser les réflexions et/ou les ressources avec les autres services ou les établissements sociaux ou médico-sociaux du réseau.
O59: Cotation
B60: 1er indicateur : Les histoires de vie et parcours institutionnels des personnes accompagnées sont connues (consultation des dossiers au tribunal, recueil des rapports antérieurs). | O60: Pratique inexistante | Q60: =IF(O60=$T$4,100,IF(O60=$T$5,50,IF(O60=$T$6,0))) -> 0 | R60: Pratique informelle | S60: =IF(R60=$U$4,100,IF(R60=$U$5,50,IF(R60=$U$6,0))) -> 0
B61: 2ème indicateur : Les personnes ressources dans l'entourage de la personne accompagnée sont identifiées. | O61: Pratique formalisée | Q61: =IF(O61=$T$4,100,IF(O61=$T$5,50,IF(O61=$T$6,0))) -> 100 | R61: Pratique informelle | S61: =IF(R61=$U$4,100,IF(R61=$U$5,50,IF(R61=$U$6,0))) -> 0
B62: 3ème indicateur : Des synthèses avec des partenaires sont organisées pour permettre une cohérence et une continuité dans le projet individuel. | O62: Pratique formalisée | Q62: =IF(O62=$T$4,100,IF(O62=$T$5,50,IF(O62=$T$6,0))) -> 100 | R62: Pratique occasionnelle ou partielle | S62: =IF(R62=$U$4,100,IF(R62=$U$5,50,IF(R62=$U$6,0))) -> 50
...

Sheet AXE 4
B1: AXE N°4
B3: 4. La prévention et la gestion des risques liés à la vulnérabilité des personnes accompagnées. | R3: Conformité | S3: Qualité
R4: Pratique formalisée | S4: Pratique intégrale et systématique
R5: Pratique actualisée | S5: Pratique occasionnelle ou partielle
B6: Cadre légal : | R6: Pratique inexistante | S6: Pratique informelle
B7: PE | C7: Le principe de protection est un principe fondamental, affirmé à plusieurs niveaux dans la Convention internationale des Droits de l’Enfant (CIDE). L’ intervention fait suite à la situation de danger ou de risque de danger auxquels l’enfant est exposé. Par conséquent, le traitement de l’axe relatif à la promotion de la Bientraitance et à la gestion des situations de crise intervient ici dans un contexte spécifique. En comparaison avec les autres secteurs sociaux et médico-sociaux où la nécessité de l’intervention s’appuie sur la situation de vulnérabilité des personnes mais n’est pas nécessairement liée à des faits de maltraitance.
B8: PA
B10: ANESM : | C10: La maltraitance n’est pas un risque hypothétique et lointain mais bien un risque incontournable, consubstantiel des pratiques pour tous les professionnels au contact des personnes vulnérables, quel que soit leur métier. L’exercice de leur mission appelle donc la conscience de ce risque et la vigilance qu’elle induit. Les questionnements proposés dans cet axe interrogeront la réponse apportée par les professionnels pour garantir la protection et la sécurité des mineurs/jeunes majeurs dans le cadre de la mesure et promouvoir la Bientraitance. Il sera ici question des risques de maltraitance institutionnelle (c’est-à-dire des risques de maltraitance des professionnels envers les personnes accompagnées ou liés à l'organisation institutionnelle), de la prévention des situations de violence, ainsi que de la mise en place de dispositifs de gestion et de régulation des crises. Les professionnels des structures sont confrontés à différents types de violences (ou risques de violences) qu’ils vont devoir identifier, prévenir et/ou gérer : • La violence intrafamiliale ; • Celle des personnes accompagnées entre-elles ; • Celle des personnes accompagnées à l’égard des professionnels ; • Celle des professionnels envers les personnes accompagnées • Celle de l’institution : dont l’origine peut être liée à la nature de l’intervention (celle-ci peut être potentiellement violente car elle n’est pas toujours acceptée, voulue par les personnes auxquelles elle s’impose) ou à l’organisation de l’institution et ses dysfonctionnements.
B13: Propositions d'amélioration
B16: Commentaires
B19: 4.1 La promotion de la Bientraitance et la prévention des violences
B21: Cadre légal :
B22: PE
B23: PA
B25: ANESM : | C25: La Bientraitance est une culture inspirant les actions individuelles et les relations collectives au sein de la structure. Elle vise à promouvoir le bien-être du mineur/jeune majeur en gardant présent à l’esprit le risque de maltraitance. • Aménager des conditions de participation collectives et mettre en œuvre des actions psycho-socio-éducatives pour promouvoir la Bientraitance et prévenir les risques de violence. • Garantir le traitement des réclamations. La réclamation peut être considérée comme un véritable outil de rélexion sur les dysfonctionnements dans l'organisation du service
O27: Cotation
B28: 1er indicateur : Une réflexion éthique autour de la promotion de la bientraitance existe dans l'association | O28: Pratique formalisée | Q28: =IF(O28=$R$4,100,IF(O28=$R$5,50,IF(O28=$R$6,0))) -> 100 | R28: Pratique informelle | S28: =IF(R28=$S$4,100,IF(R28=$S$5,50,IF(R28=$S$6,0))) -> 0
B29: 2ème indicateur : Le projet associatif et les projets de service prennent en compte cette promotion de la bientraitance | O29: Pratique actualisée | Q29: =IF(O29=$R$4,100,IF(O29=$R$5,50,IF(O29=$R$6,0))) -> 50 | R29: Pratique intégrale et systématique | S29: =IF(R29=$S$4,100,IF(R29=$S$5,50,IF(R29=$S$6,0))) -> 100
B30: 3ème indicateur : Les professionnels participent à la définition des déclinaisons opérationnelles du concept de bientraitance. | O30: Pratique actualisée | Q30: =IF(O30=$R$4,100,IF(O30=$R$5,50,IF(O30=$R$6,0))) -> 50 | R30: Pratique informelle | S30: =IF(R30=$S$4,100,IF(R30=$S$5,50,IF(R30=$S$6,0))) -> 0
B31: 4ème indicateur : Chaque service garantit le traitement, le suivi et l'analyse des réclamations et une procédure formalisée existe. | O31: Pratique formalisée | Q31: =IF(O31=$R$4,100,IF(O31=$R$5,50,IF(O31=$R$6,0))) -> 100 | R31: Pratique occasionnelle ou partielle | S31: =IF(R31=$S$4,100,IF(R31=$S$5,50,IF(R31=$S$6,0))) -> 50
B32: 5ème indicateur : Les résultats de l'analyse des réclamations ainsi que les modifications des pratiques et de l'organisation sont portés à la connaissance des professionnels. | O32: Pratique formalisée | Q32: =IF(O32=$R$4,100,IF(O32=$R$5,50,IF(O32=$R$6,0))) -> 100 | R32: Pratique intégrale et systématique | S32: =IF(R32=$S$4,100,IF(R32=$S$5,50,IF(R32=$S$6,0))) -> 100
O33: Conformité | P33: 50 | Q33: =(SUM(Q29:Q32)/6) -> 50 | R33: Qualité | S33: =(SUM(S29:S32)/6) -> 41.666667
B36: Propositions d'amélioration
B39: Commentaires
B41: 4.2 La gestion et le traitement des situations de crise.
B43: Cadre légal :
B44: PE
B45: PA
B46: ANESM : | C46: Nul ne peut impunément mettre à mal la dignité et l’intégrité des personnes, quelles qu’elles soient. Les situations de passage à l’acte sont complexes. Elles mettent en jeu des responsabilités souvent diffuses au sein de la structure et génèrent des réactions émotionnelles fortes. Dans ce contexte, une démarche rigoureuse est indispensable pour que le traitement des faits soit juste et compréhensible. • Développer une conscience et une connaissance des risques de maltraitance par une réflexion éthique (portée par l’institution) prenant en compte la réalité de la dissymétrie entre personnes accompagnées et professionnels. • Identifier et définir collectivement les risques de maltraitance (dans le cadre de l'accompagnement) d’une part et la violence d’autre part. • Identifier et mettre en œuvre des modalités d’organisation et de fonctionnement qui contribuent à procurer une base d’intervention sécurisée (et sécurisante pour les mineurs/jeunes majeurs et leurs parents et pour les professionnels) et à prévenir la maltraitance, ainsi que les actes violents au sein de l’établissement ou du service. Les principaux objectifs à évaluer : • Organiser un traitement systématique et adapté des faits de maltraitance et des actes violents. • Communiquer autour des faits de maltraitance avérés et des actes violents. • Mettre en place un suivi auprès des mineurs/jeunes majeurs et des professionnels.
O48: Cotation
B49: 1er indicateur : Une réflexion éthique autour de la prévention de la maltraitance et de la gestion des situations de crise existe dans l'association. | O49: Pratique formalisée | Q49: =IF(O49=$R$4,100,IF(O49=$R$5,50,IF(O49=$R$6,0))) -> 100 | R49: Pratique informelle | S49: =IF(R49=$S$4,100,IF(R49=$S$5,50,IF(R49=$S$6,0))) -> 0
B50: 2ème indicateur : Le projet associatif et les projets de service prennent en compte la gestion des risques liés à la situation de vulnérabilité des personnes accompagnées. | O50: Pratique actualisée | Q50: =IF(O50=$R$4,100,IF(O50=$R$5,50,IF(O50=$R$6,0))) -> 50 | R50: Pratique intégrale et systématique | S50: =IF(R50=$S$4,100,IF(R50=$S$5,50,IF(R50=$S$6,0))) -> 100
B51: 3ème indicateur : Les professionnels participent à la définition des déclinaisons opérationnelles du concept de bientraitance. | O51: Pratique actualisée | Q51: =IF(O51=$R$4,100,IF(O51=$R$5,50,IF(O51=$R$6,0))) -> 50 | R51: Pratique informelle | S51: =IF(R51=$S$4,100,IF(R51=$S$5,50,IF(R51=$S$6,0))) -> 0
B52: 4ème indicateur : Chaque service garantit le traitement, le suivi et l'analyse des évènements indésirables et gestion de crise et une procédure formalisée existe. | O52: Pratique actualisée | Q52: =IF(O52=$R$4,100,IF(O52=$R$5,50,IF(O52=$R$6,0))) -> 50 | R52: Pratique intégrale et systématique | S52: =IF(R52=$S$4,100,IF(R52=$S$5,50,IF(R52=$S$6,0))) -> 100
B53: 5ème indicateur : Les résultats de cette analyse ainsi que les modifications des pratiques et de l'organisation sont portés à la connaissance des professionnels. | O53: Pratique inexistante | Q53: =IF(O53=$R$4,100,IF(O53=$R$5,50,IF(O53=$R$6,0))) -> 0 | R53: Pratique informelle | S53: =IF(R53=$S$4,100,IF(R53=$S$5,50,IF(R53=$S$6,0))) -> 0
O54: Conformité | P54: 50 | Q54: =(SUM(Q50:Q53)/6) -> 25 | R54: Qualité | S54: =(SUM(S50:S53)/6) -> 33.333333
B57: Propositions d'amélioration
B60: Commentaires
B64: Conformité | C64: Nb | D64: Qualité | E64: Nb
B65: Pratique actualisée | C65: =COUNTIF($O$14:$O$65,B65) -> 5 | D65: Pratique informelle | E65: =COUNTIF($R$14:$R$65,D65) -> 5
...

Sheet Feuil1
A1: Qualité | B1: Conformité
A2: Pratique actualisée | B2: Pratique informelle
A3: Pratique formalisée | B3: Pratique intégrale et systématique
A4: Pratique inexistante | B4: Pratique occasionnelle ou partielle
A5: Sans objet | B5: Sans objet

Sheet Synthèse des axes
B1: Synthèse des quatre axes
B4: Conformité | C4: Nb | E4: Qualité | F4: Nb | J4: Changement des couleurs , police etc
B5: Pratique actualisée | C5: =SUM('AXE 1'!#REF!+'AXE 2'!C74+'AXE 3'!C74+'AXE 4'!C65) -> #REF! | E5: Pratique informelle | F5: =SUM('AXE 1'!#REF!+'AXE 2'!E74+'AXE 3'!E74+'AXE 4'!E65) -> #REF!
B6: Pratique formalisée | C6: =SUM('AXE 1'!#REF!+'AXE 2'!C75+'AXE 3'!C75+'AXE 4'!C66) -> #REF! | E6: Pratique intégrale et systématique | F6: =SUM('AXE 1'!#REF!+'AXE 2'!E75+'AXE 3'!E75+'AXE 4'!E66) -> #REF!
B7: Pratique inexistante | C7: =SUM('AXE 1'!#REF!+'AXE 2'!C76+'AXE 3'!C76+'AXE 4'!C67) -> #REF! | E7: Pratique occasionnelle ou partielle | F7: =SUM('AXE 1'!#REF!+'AXE 2'!E76+'AXE 3'!E76+'AXE 4'!E67) -> #REF!
B29: Évaluation des 4 Axes en 50 indicateurs
B30: Conformité | C30: Ind | D30: Qualité | E30: Ind
B31: Pratique actualisée | C31: =COUNTIF(#REF!,B31) -> #REF! | D31: Pratique informelle | E31: =COUNTIF(#REF!,D31) -> #REF!
B32: Pratique formalisée | C32: =COUNTIF(#REF!,B32) -> #REF! | D32: Pratique intégrale et systématique | E32: =COUNTIF(#REF!,D32) -> #REF!
B33: Pratique inexistante | C33: =COUNTIF(#REF!,B33) -> #REF! | D33: Pratique occasionnelle ou partielle | E33: =COUNTIF(#REF!,D33) -> #REF!
