Workbook
Name Antennes: '[1]Listes déroulantes'!$B$2:$B$9
Name Mesures: '[1]Listes déroulantes'!$F$2:$F$7
Name Sexe: '[1]Listes déroulantes'!$A$2:$A$3

Sheet Feuil1
A1: Nom | B1: Numéro de dossier | C1: Date d'envoi théorique
A2: VORET | B2: 125/96 | C2: 43045
A3: POLAIN | B3: 125/97 | C3: 41662
A4: MARTIN | B4: 125/92 | C4: 41768
A5: MARTIN | B5: 125/93 | C5: 41768
A6: LEFEVRE | B6: 125/94 | C6: 42187
A7: LEFEVRE | B7: 125/95 | C7: 43201
A8: DURAND | B8: 125/90 | C8: 43335
A9: DURANC | B9: 125/91 | C9: 43287
A10: DUPONT | B10: 4106/98 | C10: 43161
A11: DUPONT | B11: 125/89 | C11: 43161

Sheet Feuil2
A1: NOM | B1: N° de dossier | C1: Couriers
C2: Échéance secrétariat | D2: Date théorique d'envoi | E2: Date d'envoi réel
A3: =(INDEX(Feuil1!A2:B11,MATCH(B3,Feuil1!B2:B11,0),1)) -> VORET | B3: =Feuil1!B2 -> 125/96 | C3: =IFERROR(D3-7,"") -> 43038 | D3: =IF($B3=Feuil1!B2,Feuil1!C2,"") -> 43045
A4: =(INDEX(Feuil1!A3:B12,MATCH(B4,Feuil1!B3:B12,0),1)) -> POLAIN | B4: =Feuil1!B3 -> 125/97 | C4: =IFERROR(D4-7,"") -> 41655 | D4: =IF($B4=Feuil1!B3,Feuil1!C3,"") -> 41662
A5: =(INDEX(Feuil1!A4:B13,MATCH(B5,Feuil1!B4:B13,0),1)) -> MARTIN | B5: =Feuil1!B4 -> 125/92 | C5: =IFERROR(D5-7,"") -> 41761 | D5: =IF($B5=Feuil1!B4,Feuil1!C4,"") -> 41768
A6: =(INDEX(Feuil1!A5:B14,MATCH(B6,Feuil1!B5:B14,0),1)) -> MARTIN | B6: =Feuil1!B5 -> 125/93 | C6: =IFERROR(D6-7,"") -> 41761 | D6: =IF($B6=Feuil1!B5,Feuil1!C5,"") -> 41768
A7: =(INDEX(Feuil1!A6:B15,MATCH(B7,Feuil1!B6:B15,0),1)) -> LEFEVRE | B7: =Feuil1!B6 -> 125/94 | C7: =IFERROR(D7-7,"") -> 42180 | D7: =IF($B7=Feuil1!B6,Feuil1!C6,"") -> 42187
A8: =(INDEX(Feuil1!A7:B16,MATCH(B8,Feuil1!B7:B16,0),1)) -> LEFEVRE | B8: =Feuil1!B7 -> 125/95 | C8: =IFERROR(D8-7,"") -> 43194 | D8: =IF($B8=Feuil1!B7,Feuil1!C7,"") -> 43201
A9: =(INDEX(Feuil1!A8:B17,MATCH(B9,Feuil1!B8:B17,0),1)) -> DURAND | B9: =Feuil1!B8 -> 125/90 | C9: =IFERROR(D9-7,"") -> 43328 | D9: =IF($B9=Feuil1!B8,Feuil1!C8,"") -> 43335 | E9: 42064
A10: =(INDEX(Feuil1!A9:B18,MATCH(B10,Feuil1!B9:B18,0),1)) -> DURANC | B10: =Feuil1!B9 -> 125/91 | C10: =IFERROR(D10-7,"") -> 43280 | D10: =IF($B10=Feuil1!B9,Feuil1!C9,"") -> 43287
A11: =(INDEX(Feuil1!A10:B19,MATCH(B11,Feuil1!B10:B19,0),1)) -> DUPONT | B11: =Feuil1!B10 -> 4106/98 | C11: =IFERROR(D11-7,"") -> 43154 | D11: =IF($B11=Feuil1!B10,Feuil1!C10,"") -> 43161
A12: =(INDEX(Feuil1!A11:B20,MATCH(B12,Feuil1!B11:B20,0),1)) -> DUPONT | B12: =Feuil1!B11 -> 125/89 | C12: =IFERROR(D12-7,"") -> 43154 | D12: =IF($B12=Feuil1!B11,Feuil1!C11,"") -> 43161
