Workbook
Name datab1: #REF!
Name RMdata: [1]database!$F$2:$G$11

Sheet Onglet 1
A1: Nom projet | B1: Code Chantier | D1: Renaming Proposal Project
A2: 2Ki | B2: IPV27 | C2: =GAUCHE(B2;TROUVE("-";B2)-1) | D2: =IF(ISERROR(VLOOKUP(B2,'Onglet 2'!A:A,1,)),IF(ISERROR(VLOOKUP(A2,D:D,1,)),"",""),"+'Onglet 2'!C2") -> 0
A3: 2Ki | B3: IPV28 | C3: =GAUCHE(B2;TROUVE("-";B2)-1) | D3: =IF(ISERROR(VLOOKUP(B3,'Onglet 2'!A:A,1,)),IF(ISERROR(VLOOKUP(A3,D:D,1,)),"",""),"+'Onglet 2'!C2") -> 0
A4: 2Ki | B4: IPV31 | C4: =GAUCHE(B2;TROUVE("-";B2)-1) | D4: =IF(ISERROR(VLOOKUP(B4,'Onglet 2'!A:A,1,)),IF(ISERROR(VLOOKUP(A4,D:D,1,)),"",""),"+'Onglet 2'!C2") -> 0
A5: 2Ki | B5: IPV51-EXT | C5: =GAUCHE(B2;TROUVE("-";B2)-1) | D5: =IF(ISERROR(VLOOKUP(B5,'Onglet 2'!A:A,1,)),IF(ISERROR(VLOOKUP(A5,D:D,1,)),"",""),"+'Onglet 2'!C2") -> +'Onglet 2'!C2
A6: A5I | B6: A5I06 | C6: =GAUCHE(B2;TROUVE("-";B2)-1) | D6: =IF(ISERROR(VLOOKUP(B6,'Onglet 2'!A:A,1,)),IF(ISERROR(VLOOKUP(A6,D:D,1,)),"",""),"+'Onglet 2'!C2") -> 0
A7: Mirage | B7: AR-400 | C7: =GAUCHE(B2;TROUVE("-";B2)-1) | D7: =IF(ISERROR(VLOOKUP(B7,'Onglet 2'!A:A,1,)),IF(ISERROR(VLOOKUP(A7,D:D,1,)),"",""),"+'Onglet 2'!C2") -> 0

Sheet Onglet 2
A1: Chantiers | C1: Nouveau project name
A2: AR400 | B2: =LEFT(A2,FIND("-",A2)-1) -> #VALUE! | C2: Kalimero
A3: AR400-EXT | B3: =LEFT(A3,FIND("-",A3)-1) -> AR400 | C3: Neutrogena
A4: GRD-EXT | B4: =LEFT(A4,FIND("-",A4)-1) -> GRD | C4: Thinkpad
A5: A3L33 | B5: =LEFT(A5,FIND("-",A5)-1) -> #VALUE! | C5: Void
A6: IPV51-EXT | B6: =LEFT(A6,FIND("-",A6)-1) -> IPV51 | C6: Void2

Sheet Feuil2

Sheet Feuil3
A2: IPV27 | B2: IPV31 | C2: =VLOOKUP(B2,A:A,1,FALSE) -> IPV31
A3: IPV28 | B3: IPV27 | C3: =VLOOKUP(B3,A:A,1,FALSE) -> IPV27
A4: IPV31 | B4: IPV28 | C4: =VLOOKUP(B4,A:A,1,FALSE) -> IPV28
A5: IPV51-EXT | B5: U01-A5I-302 | C5: =VLOOKUP(B5,A:A,1,FALSE) -> U01-A5I-302
A6: A5I06 | B6: A5I06 | C6: =VLOOKUP(B6,A:A,1,FALSE) -> A5I06
A7: A5I07 | B7: A5I07 | C7: =VLOOKUP(B7,A:A,1,FALSE) -> A5I07
A8: A5I09 | B8: A5I09 | C8: =VLOOKUP(B8,A:A,1,FALSE) -> A5I09
A9: A5I15 | B9: A5I15 | C9: =VLOOKUP(B9,A:A,1,FALSE) -> A5I15
A10: A5I16 | B10: A5I16 | C10: =VLOOKUP(B10,A:A,1,FALSE) -> A5I16
A11: A5I18 | B11: A5I18 | C11: =VLOOKUP(B11,A:A,1,FALSE) -> A5I18
A12: A5I19 | B12: A5I19 | C12: =VLOOKUP(B12,A:A,1,FALSE) -> A5I19
A13: EUV07499_HE9810 | B13: HE9811 | C13: =VLOOKUP(B13,A:A,1,FALSE) -> HE9811
... A1059: VAG00001 | B1059: PAL03 | C1059: =VLOOKUP(B1059,A:A,1,FALSE) -> PAL03
B1060: PAL04 | C1060: =VLOOKUP(B1060,A:A,1,FALSE) -> PAL04
B1061: WLI01 | C1061: =VLOOKUP(B1061,A:A,1,FALSE) -> WLI01
B1062: TDC01 | C1062: =VLOOKUP(B1062,A:A,1,FALSE) -> TDC01
B1063: Td536 | C1063: =VLOOKUP(B1063,A:A,1,FALSE) -> Td536
B1064: Td512 | C1064: =VLOOKUP(B1064,A:A,1,FALSE) -> Td512
B1065: Td515 | C1065: =VLOOKUP(B1065,A:A,1,FALSE) -> Td515
B1066: Td516 | C1066: =VLOOKUP(B1066,A:A,1,FALSE) -> Td516
B1067: Td517 | C1067: =VLOOKUP(B1067,A:A,1,FALSE) -> Td517
B1068: Td518 | C1068: =VLOOKUP(B1068,A:A,1,FALSE) -> Td518
B1069: Td519 | C1069: =VLOOKUP(B1069,A:A,1,FALSE) -> Td519
B1070: Td521 | C1070: =VLOOKUP(B1070,A:A,1,FALSE) -> Td521
B1071: Td525 | C1071: =VLOOKUP(B1071,A:A,1,FALSE) -> Td525
... B1166: VAG00001 | C1166: =VLOOKUP(B1166,A:A,1,FALSE) -> VAG00001

Sheet Feuil4
A3: ADC02
A4: ADC03
A5: GID52
A6: GRT91
A7: A3R30
A8: HAF56
A9: ECP01
A10: CMC12
A11: CMC13
A12: CMC14
A13: CMC15
A14: 5B9701
... A124: RAB38
