Workbook
Name A001_: 'Valeur POINT'!$B$44
Name A001_: 'Valeur horaireR'!$B$44
Name A002_: 'Valeur POINT'!$B$45
Name A002_: 'Valeur horaireR'!$B$45
Name A003_: 'Valeur POINT'!$B$46
Name A003_: 'Valeur horaireR'!$B$46
Name A004_: 'Valeur POINT'!$B$47
Name A004_: 'Valeur horaireR'!$B$47
Name A005_: 'Valeur POINT'!$B$48
Name A005_: 'Valeur horaireR'!$B$48
Name A006_: 'Valeur POINT'!$B$49
Name A006_: 'Valeur horaireR'!$B$49
Name A007_: 'Valeur POINT'!$B$50
Name A007_: 'Valeur horaireR'!$B$50
Name A008_: 'Valeur POINT'!$B$51
Name A008_: 'Valeur horaireR'!$B$51
Name A009_: 'Valeur POINT'!$B$52
Name A009_: 'Valeur horaireR'!$B$52
Name A010_: 'Valeur POINT'!$B$53
Name A010_: 'Valeur horaireR'!$B$53
Name A011_: 'Valeur POINT'!$B$54
Name A011_: 'Valeur horaireR'!$B$54
Name A012_: 'Valeur POINT'!$B$55
Name A012_: 'Valeur horaireR'!$B$55
Name A013_: 'Valeur POINT'!$B$56
Name A013_: 'Valeur horaireR'!$B$56
Name A014_: 'Valeur POINT'!$B$57
Name A014_: 'Valeur horaireR'!$B$57
Name A015_: 'Valeur POINT'!$B$58
Name A015_: 'Valeur horaireR'!$B$58
Name A016_: 'Valeur POINT'!$B$59
Name A016_: 'Valeur horaireR'!$B$59
Name A017_: 'Valeur POINT'!$B$60
Name A017_: 'Valeur horaireR'!$B$60
Name A018_: 'Valeur POINT'!$B$61
Name A018_: 'Valeur horaireR'!$B$61
Name A019_: 'Valeur POINT'!$B$62
Name A019_: 'Valeur horaireR'!$B$62
Name A020_: 'Valeur POINT'!$B$63
Name A020_: 'Valeur horaireR'!$B$63
Name A021_: 'Valeur POINT'!$B$64
Name A021_: 'Valeur horaireR'!$B$64
Name A022_: 'Valeur POINT'!$B$65
Name A022_: 'Valeur horaireR'!$B$65
Name A023_: 'Valeur POINT'!$B$66
Name A023_: 'Valeur horaireR'!$B$66
Name A024_: 'Valeur POINT'!$B$67
Name A024_: 'Valeur horaireR'!$B$67
Name A025_: 'Valeur POINT'!$B$68
Name A025_: 'Valeur horaireR'!$B$68
Name A026_: 'Valeur POINT'!$B$69
Name A026_: 'Valeur horaireR'!$B$69
Name A027_: 'Valeur POINT'!$B$70
Name A027_: 'Valeur horaireR'!$B$70
Name A028_: 'Valeur POINT'!$B$71
Name A028_: 'Valeur horaireR'!$B$71
Name A029_: 'Valeur POINT'!$B$72
Name A029_: 'Valeur horaireR'!$B$72
Name A030_: 'Valeur POINT'!$B$73
Name A030_: 'Valeur horaireR'!$B$73

Sheet Simulation Semaine
D2: Simulation de roulement A
A5: N° Paie | C5: 55015 | G5: Points restant | H5: =M33 -> 684 | I5: Moyenne Hebdo | J5: =M28 -> 35:49
C6: =IF(C5="","",VLOOKUP(C5,Conducteurs!$A$2:$C$600,2,0)) -> a m
D9: Lundi | E9: Mardi | F9: Mercredi | G9: Jeudi | H9: Vendredi | I9: Samedi | J9: Dimanche
C10: 1 | D10: A031 | E10: A033 | F10: A031 | G10: A004 | H10: RN | I10: A002 | J10: A001
C11: 2 | D11: A016 | E11: A002 | F11: RN | G11: RN | H11: A006 | I11: A021 | J11: A003
C12: 3 | D12: A004 | E12: RN | F12: A007 | G12: A003 | H12: A002 | I12: A003 | J12: RN
C13: 4 | D13: RN | E13: A003 | F13: A002 | G13: A001 | H13: A001 | I13: RN | J13: RN
C14: 5 | D14: A002 | E14: A004 | F14: A003 | G14: RN | H14: RN | I14: A002 | J14: A007
C15: 6 | D15: A003 | E15: A036 | F15: RN | G15: A002 | H15: A002 | I15: A017 | J15: A031
C16: 7 | D16: RN | E16: RN | F16: A002 | G16: A004 | H16: A004 | I16: A003 | J16: RN
C17: 8 | D17: A005 | E17: A004 | F17: A004 | G17: A002 | H17: A011 | I17: RN | J17: RN
J18: Durée hebdomadaire | K18: Différence
B19: Lundi | C19: Mardi | D19: Mercredi | E19: Jeudi | F19: Vendredi | G19: Samedi | H19: Dimanche | K19: Centième | M19: Heure
A20: 1 | B20: =VLOOKUP(D10,'Valeur horaireR'!A4:B40,2) -> 7.55 | C20: =VLOOKUP(E10,'Valeur horaireR'!A4:B40,2) -> 7.9666667 | D20: =VLOOKUP(F10,'Valeur horaireR'!A4:B40,2) -> 7.55 | E20: =VLOOKUP(G10,'Valeur horaireR'!A4:B40,2) -> 6.35 | F20: =VLOOKUP(H10,'Valeur horaireR'!A4:B40,2) -> RN | G20: =VLOOKUP(I10,'Valeur horaireR'!D4:E40,2) -> 6.0833333 | H20: =VLOOKUP(J10,'Valeur horaireR'!G4:H40,2) -> 5.9166667 | J20: =SUM(B20:H20) -> 41.416667 | K20: =J20-A6 -> 41.416667 | L20: =K20/24 -> 1.7256944 | M20: =IF(L20<0,"-"," ")&TEXT(ABS(L20),"[h]:mm") -> 41:25
A21: 2 | B21: =VLOOKUP(D11,'Valeur horaireR'!A4:B40,2) -> 8.1666667 | C21: =VLOOKUP(E11,'Valeur horaireR'!A4:B40,2) -> 8.45 | D21: =VLOOKUP(F11,'Valeur horaireR'!A4:B40,2) -> RN | E21: =VLOOKUP(G11,'Valeur horaireR'!A4:B40,2) -> RN | F21: =VLOOKUP(H11,'Valeur horaireR'!A4:B40,2) -> 7.1666667 | G21: =VLOOKUP(I11,'Valeur horaireR'!D4:E40,2) -> 7.8666667 | H21: =VLOOKUP(J11,'Valeur horaireR'!G4:H40,2) -> 5.3333333 | J21: =SUM(B21:H21) -> 36.983333 | K21: =J21-A6 -> 36.983333 | L21: =K21/24 -> 1.5409722 | M21: =IF(L21<0,"-"," ")&TEXT(ABS(L21),"[h]:mm") -> 36:59
A22: 3 | B22: =VLOOKUP(D12,'Valeur horaireR'!A4:B40,2) -> 6.35 | C22: =VLOOKUP(E12,'Valeur horaireR'!A4:B40,2) -> RN | D22: =VLOOKUP(F12,'Valeur horaireR'!A4:B40,2) -> 7.4333333 | E22: =VLOOKUP(G12,'Valeur horaireR'!A4:B40,2) -> 7.5 | F22: =VLOOKUP(H12,'Valeur horaireR'!A4:B40,2) -> 8.45 | G22: =VLOOKUP(I12,'Valeur horaireR'!D4:E40,2) -> 7.55 | H22: =VLOOKUP(J12,'Valeur horaireR'!G4:H40,2) -> 0 | J22: =SUM(B22:H22) -> 37.283333 | K22: =J22-A6 -> 37.283333 | L22: =K22/24 -> 1.5534722 | M22: =IF(L22<0,"-"," ")&TEXT(ABS(L22),"[h]:mm") -> 37:17
A23: 4 | B23: =VLOOKUP(D13,'Valeur horaireR'!A4:B40,2) -> RN | C23: =VLOOKUP(E13,'Valeur horaireR'!A4:B40,2) -> 7.5 | D23: =VLOOKUP(F13,'Valeur horaireR'!A4:B40,2) -> 8.45 | E23: =VLOOKUP(G13,'Valeur horaireR'!A4:B40,2) -> 8.4166667 | F23: =VLOOKUP(H13,'Valeur horaireR'!A4:B40,2) -> 8.4166667 | G23: =VLOOKUP(I13,'Valeur horaireR'!D4:E40,2) -> RN | H23: =VLOOKUP(J13,'Valeur horaireR'!G4:H40,2) -> 0 | J23: =SUM(B23:H23) -> 32.783333 | K23: =J23-A6 -> 32.783333 | L23: =K23/24 -> 1.3659722 | M23: =IF(L23<0,"-"," ")&TEXT(ABS(L23),"[h]:mm") -> 32:47
A24: 5 | B24: =VLOOKUP(D14,'Valeur horaireR'!A4:B40,2) -> 8.45 | C24: =VLOOKUP(E14,'Valeur horaireR'!A4:B40,2) -> 6.35 | D24: =VLOOKUP(F14,'Valeur horaireR'!A4:B40,2) -> 7.5 | E24: =VLOOKUP(G14,'Valeur horaireR'!A4:B40,2) -> RN | F24: =VLOOKUP(H14,'Valeur horaireR'!A4:B40,2) -> RN | G24: =VLOOKUP(I14,'Valeur horaireR'!D4:E40,2) -> 6.0833333 | H24: =VLOOKUP(J14,'Valeur horaireR'!G4:H40,2) -> 5.75 | J24: =SUM(B24:H24) -> 34.133333 | K24: =J24-A6 -> 34.133333 | L24: =K24/24 -> 1.4222222 | M24: =IF(L24<0,"-"," ")&TEXT(ABS(L24),"[h]:mm") -> 34:08
A25: 6 | B25: =VLOOKUP(D15,'Valeur horaireR'!A4:B40,2) -> 7.5 | C25: =VLOOKUP(E15,'Valeur horaireR'!A4:B40,2) -> 6.45 | D25: =VLOOKUP(F15,'Valeur horaireR'!A4:B40,2) -> RN | E25: =VLOOKUP(G15,'Valeur horaireR'!A4:B40,2) -> 8.45 | F25: =VLOOKUP(H15,'Valeur horaireR'!A4:B40,2) -> 8.45 | G25: =VLOOKUP(I15,'Valeur horaireR'!D4:E40,2) -> 7.1666667 | H25: =VLOOKUP(J15,'Valeur horaireR'!G4:H40,2) -> 0 | J25: =SUM(B25:H25) -> 38.016667 | K25: =J25-A6 -> 38.016667 | L25: =K25/24 -> 1.5840278 | M25: =IF(L25<0,"-"," ")&TEXT(ABS(L25),"[h]:mm") -> 38:01
A26: 7 | B26: =VLOOKUP(D16,'Valeur horaireR'!A4:B40,2) -> RN | C26: =VLOOKUP(E16,'Valeur horaireR'!A4:B40,2) -> RN | D26: =VLOOKUP(F16,'Valeur horaireR'!A4:B40,2) -> 8.45 | E26: =VLOOKUP(G16,'Valeur horaireR'!A4:B40,2) -> 6.35 | F26: =VLOOKUP(H16,'Valeur horaireR'!A4:B40,2) -> 6.35 | G26: =VLOOKUP(I16,'Valeur horaireR'!D4:E40,2) -> 7.55 | H26: =VLOOKUP(J16,'Valeur horaireR'!G4:H40,2) -> 0 | J26: =SUM(B26:H26) -> 28.7 | K26: =J26-A6 -> 28.7 | L26: =K26/24 -> 1.1958333 | M26: =IF(L26<0,"-"," ")&TEXT(ABS(L26),"[h]:mm") -> 28:42
A27: 8 | B27: =VLOOKUP(D17,'Valeur horaireR'!A4:B40,2) -> 7.9833333 | C27: =VLOOKUP(E17,'Valeur horaireR'!A4:B40,2) -> 6.35 | D27: =VLOOKUP(F17,'Valeur horaireR'!A4:B40,2) -> 6.35 | E27: =VLOOKUP(G17,'Valeur horaireR'!A4:B40,2) -> 8.45 | F27: =VLOOKUP(H17,'Valeur horaireR'!A4:B40,2) -> 8.0833333 | G27: =VLOOKUP(I17,'Valeur horaireR'!D4:E40,2) -> RN | H27: =VLOOKUP(J17,'Valeur horaireR'!G4:H40,2) -> 0 | J27: =SUM(B27:H27) -> 37.216667 | K27: =J27-A6 -> 37.216667 | L27: =K27/24 -> 1.5506944 | M27: =IF(L27<0,"-"," ")&TEXT(ABS(L27),"[h]:mm") -> 37:13
I28: Moyenne hebdomadaire | J28: =SUM(J20:J27)/8 -> 35.816667 | K28: =SUM(K20:K27)/8 -> 35.816667 | L28: =SUM(L20:L27)/8 -> 1.4923611 | M28: =IF(L28<0,"-"," ")&TEXT(ABS(L28),"[h]:mm") -> 35:49
J31: POINTS | K31: Différence
B32: Lundi | C32: Mardi | D32: Mercredi | E32: Jeudi | F32: Vendredi | G32: Samedi | H32: Dimanche | K32: DEPART | M32: ARRIVEE
A33: 1 | B33: =VLOOKUP(D10,'Valeur POINT'!A4:B40,2) -> 1 | C33: =VLOOKUP(E10,'Valeur POINT'!A4:B40,2) -> 24 | D33: =VLOOKUP(F10,'Valeur POINT'!A4:B40,2) -> 1 | E33: =VLOOKUP(G10,'Valeur POINT'!A4:B40,2) -> -1 | F33: =VLOOKUP(H10,'Valeur POINT'!A4:B40,2) -> RN | G33: =VLOOKUP(I10,'Valeur POINT'!D4:E40,2) -> 5 | H33: =VLOOKUP(J10,'Valeur POINT'!G4:H40,2) -> -16 | J33: =SUM(B33:H33) -> 14 | K33: 870 | L33: =#REF!/24 -> #REF! | M33: =SUM(K33+J41) -> 684
A34: 2 | B34: =VLOOKUP(D11,'Valeur POINT'!A4:B40,2) -> 15 | C34: =VLOOKUP(E11,'Valeur POINT'!A4:B40,2) -> -22 | D34: =VLOOKUP(F11,'Valeur POINT'!A4:B40,2) -> RN | E34: =VLOOKUP(G11,'Valeur POINT'!A4:B40,2) -> RN | F34: =VLOOKUP(H11,'Valeur POINT'!A4:B40,2) -> -3 | G34: =VLOOKUP(I11,'Valeur POINT'!D4:E40,2) -> -7 | H34: =VLOOKUP(J11,'Valeur POINT'!G4:H40,2) -> 4 | J34: =SUM(B34:H34) -> -13 | L34: =K34/24 -> 0
A35: 3 | B35: =VLOOKUP(D12,'Valeur POINT'!A4:B40,2) -> -1 | C35: =VLOOKUP(E12,'Valeur POINT'!A4:B40,2) -> RN | D35: =VLOOKUP(F12,'Valeur POINT'!A4:B40,2) -> 18 | E35: =VLOOKUP(G12,'Valeur POINT'!A4:B40,2) -> 2 | F35: =VLOOKUP(H12,'Valeur POINT'!A4:B40,2) -> -22 | G35: =VLOOKUP(I12,'Valeur POINT'!D4:E40,2) -> -17 | H35: =VLOOKUP(J12,'Valeur POINT'!G4:H40,2) -> RN | J35: =SUM(B35:H35) -> -20 | L35: =K35/24 -> 0
A36: 4 | B36: =VLOOKUP(D13,'Valeur POINT'!A4:B40,2) -> RN | C36: =VLOOKUP(E13,'Valeur POINT'!A4:B40,2) -> 2 | D36: =VLOOKUP(F13,'Valeur POINT'!A4:B40,2) -> -22 | E36: =VLOOKUP(G13,'Valeur POINT'!A4:B40,2) -> 7 | F36: =VLOOKUP(H13,'Valeur POINT'!A4:B40,2) -> 7 | G36: =VLOOKUP(I13,'Valeur POINT'!D4:E40,2) -> RN | H36: =VLOOKUP(J13,'Valeur POINT'!G4:H40,2) -> RN | J36: =SUM(B36:H36) -> -6 | L36: =K36/24 -> 0
A37: 5 | B37: =VLOOKUP(D14,'Valeur POINT'!A4:B40,2) -> -22 | C37: =VLOOKUP(E14,'Valeur POINT'!A4:B40,2) -> -1 | D37: =VLOOKUP(F14,'Valeur POINT'!A4:B40,2) -> 2 | E37: =VLOOKUP(G14,'Valeur POINT'!A4:B40,2) -> RN | F37: =VLOOKUP(H14,'Valeur POINT'!A4:B40,2) -> RN | G37: =VLOOKUP(I14,'Valeur POINT'!D4:E40,2) -> 5 | H37: =VLOOKUP(J14,'Valeur POINT'!G4:H40,2) -> 1 | J37: =SUM(B37:H37) -> -15 | L37: =K37/24 -> 0
A38: 6 | B38: =VLOOKUP(D15,'Valeur POINT'!A4:B40,2) -> 2 | C38: =VLOOKUP(E15,'Valeur POINT'!A4:B40,2) -> -3 | D38: =VLOOKUP(F15,'Valeur POINT'!A4:B40,2) -> RN | E38: =VLOOKUP(G15,'Valeur POINT'!A4:B40,2) -> -22 | F38: =VLOOKUP(H15,'Valeur POINT'!A4:B40,2) -> -22 | G38: =VLOOKUP(I15,'Valeur POINT'!D4:E40,2) -> -6 | H38: =VLOOKUP(J15,'Valeur POINT'!G4:H40,2) -> 1 | J38: =SUM(B38:H38) -> -50 | L38: =K38/24 -> 0
A39: 7 | B39: =VLOOKUP(D16,'Valeur POINT'!A4:B40,2) -> RN | C39: =VLOOKUP(E16,'Valeur POINT'!A4:B40,2) -> RN | D39: =VLOOKUP(F16,'Valeur POINT'!A4:B40,2) -> -22 | E39: =VLOOKUP(G16,'Valeur POINT'!A4:B40,2) -> -1 | F39: =VLOOKUP(H16,'Valeur POINT'!A4:B40,2) -> -1 | G39: =VLOOKUP(I16,'Valeur POINT'!D4:E40,2) -> -17 | H39: =VLOOKUP(J16,'Valeur POINT'!G4:H40,2) -> RN | J39: =SUM(B39:H39) -> -41 | L39: =K39/24 -> 0
A40: 8 | B40: =VLOOKUP(D17,'Valeur POINT'!A4:B40,2) -> -1 | C40: =VLOOKUP(E17,'Valeur POINT'!A4:B40,2) -> -1 | D40: =VLOOKUP(F17,'Valeur POINT'!A4:B40,2) -> -1 | E40: =VLOOKUP(G17,'Valeur POINT'!A4:B40,2) -> -22 | F40: =VLOOKUP(H17,'Valeur POINT'!A4:B40,2) -> -30 | G40: =VLOOKUP(I17,'Valeur POINT'!D4:E40,2) -> RN | H40: =VLOOKUP(J17,'Valeur POINT'!G4:H40,2) -> RN | J40: =SUM(B40:H40) -> -55 | L40: =K40/24 -> 0
J41: =SUM(J33:J40) -> -186 | L41: =SUM(L33:L40)/8 -> #REF!

Sheet Simulation Vacances

Sheet Valeur horaireR
A1: ROULEMENT A1
A2: SEMAINE | D2: SAMEDI | G2: DIMANCHE | J2: VACANCES
A3: Service | B3: heure en centième | C3: Pointage | D3: Service | E3: heure en centième | F3: Pointage | G3: Service | H3: heure en centième | I3: Pointage | J3: Service | K3: heure en centième | L3: Pointage
A4: A001 | B4: =C4*24 -> 8.4166667 | C4: 0.35069444 | D4: A001 | E4: =F4*24 -> 6.85 | F4: 0.28541667 | G4: A001 | H4: =I4*24 -> 5.9166667 | I4: 0.24652778 | J4: roulement_A1_vacances | K4: =L4*24 -> 8.4166667 | L4: 0.35069444
A5: A002 | B5: =C5*24 -> 8.45 | C5: 0.35208333 | D5: A002 | E5: =F5*24 -> 6.0833333 | F5: 0.25347222 | G5: A002 | H5: =I5*24 -> 4.35 | I5: 0.18125 | J5: A002 | K5: =L5*24 -> 7.5333333 | L5: 0.31388889
A6: A003 | B6: =C6*24 -> 7.5 | C6: 0.3125 | D6: A003 | E6: =F6*24 -> 7.55 | F6: 0.31458333 | G6: A003 | H6: =I6*24 -> 5.3333333 | I6: 0.22222222 | J6: A003 | K6: =L6*24 -> 9.2666667 | L6: 0.38611111
A7: A004 | B7: =C7*24 -> 6.35 | C7: 0.26458333 | D7: A004 | E7: =F7*24 -> 8.15 | F7: 0.33958333 | G7: A004 | H7: =I7*24 -> 6.2833333 | I7: 0.26180556 | J7: A004 | K7: =L7*24 -> 6.8666667 | L7: 0.28611111
A8: A005 | B8: =C8*24 -> 7.9833333 | C8: 0.33263889 | D8: A005 | E8: =F8*24 -> 7.0833333 | F8: 0.29513889 | G8: A005 | H8: =I8*24 -> 7.0833333 | I8: 0.29513889 | J8: A005 | K8: =L8*24 -> 7.5333333 | L8: 0.31388889
A9: A006 | B9: =C9*24 -> 7.1666667 | C9: 0.29861111 | D9: A006 | E9: =F9*24 -> 5.9333333 | F9: 0.24722222 | G9: A006 | H9: =I9*24 -> 5.3333333 | I9: 0.22222222 | J9: A006 | K9: =L9*24 -> 7.4333333 | L9: 0.30972222
A10: A007 | B10: =C10*24 -> 7.4333333 | C10: 0.30972222 | D10: A007 | E10: =F10*24 -> 7.65 | F10: 0.31875 | G10: A007 | H10: =I10*24 -> 5.75 | I10: 0.23958333 | J10: A007 | K10: =L10*24 -> 8.0166667 | L10: 0.33402778
A11: A008 | B11: =C11*24 -> 7.6 | C11: 0.31666667 | D11: A008 | E11: =F11*24 -> 7.1 | F11: 0.29583333 | G11: A008 | H11: =I11*24 -> 5.9166667 | I11: 0.24652778 | J11: A008 | K11: =L11*24 -> 7.4 | L11: 0.30833333
A12: A009 | B12: =C12*24 -> 8.4333333 | C12: 0.35138889 | D12: A009 | E12: =F12*24 -> 6.9833333 | F12: 0.29097222 | G12: A009 | H12: =I12*24 -> 5.8666667 | I12: 0.24444444 | J12: A009 | K12: =L12*24 -> 0.6 | L12: 0.025
A13: A010 | B13: =C13*24 -> 7.75 | C13: 0.32291667 | D13: A010 | E13: =F13*24 -> 7.2333333 | F13: 0.30138889 | G13: A010 | H13: =I13*24 -> 5.4833333 | I13: 0.22847222 | J13: A010 | K13: =L13*24 -> 8.4166667 | L13: 0.35069444
A14: A011 | B14: =C14*24 -> 8.0833333 | C14: 0.33680556 | D14: A011 | E14: =F14*24 -> 6.6833333 | F14: 0.27847222 | G14: A011 | H14: =I14*24 -> 5.5 | I14: 0.22916667 | J14: A011 | K14: =L14*24 -> 7.5333333 | L14: 0.31388889
A15: A012 | B15: =C15*24 -> 8.15 | C15: 0.33958333 | D15: A012 | E15: =F15*24 -> 6.8333333 | F15: 0.28472222 | G15: A012 | H15: =I15*24 -> 6 | I15: 0.25 | J15: A012 | K15: =L15*24 -> 9.2666667 | L15: 0.38611111
... A27: A024 | B27: =C27*24 -> 7.8333333 | C27: 0.32638889 | D27: A024 | E27: =F27*24 -> 7.9333333 | F27: 0.33055556 | G27: A024 | H27: =I27*24 -> 5.9166667 | I27: 0.24652778 | J27: A024 | K27: =L27*24 -> 7.4333333 | L27: 0.30972222
A28: A025 | B28: =C28*24 -> 7.6833333 | C28: 0.32013889 | D28: A025 | E28: =F28*24 -> 7.0166667 | F28: 0.29236111 | G28: RN | H28: RN | J28: A025 | K28: =L28*24 -> 8.0166667 | L28: 0.33402778
A29: A026 | B29: =C29*24 -> 8.3666667 | C29: 0.34861111 | D29: A026 | E29: =F29*24 -> 7.5333333 | F29: 0.31388889 | G29: A025 | J29: A026 | K29: =L29*24 -> 7.4 | L29: 0.30833333
A30: A027 | B30: =C30*24 -> 7.5833333 | C30: 0.31597222 | D30: A027 | E30: =F30*24 -> 7.8166667 | F30: 0.32569444 | G30: A026 | J30: A027 | K30: =L30*24 -> 0.6 | L30: 0.025
A31: A028 | B31: =C31*24 -> 8.3333333 | C31: 0.34722222 | D31: A028 | E31: =F31*24 -> 6.2 | F31: 0.25833333 | G31: A027 | J31: A028 | K31: =L31*24 -> 8.4166667 | L31: 0.35069444
A32: A029 | B32: =C32*24 -> 7.9833333 | C32: 0.33263889 | D32: A029 | E32: =F32*24 -> 6.7 | F32: 0.27916667 | G32: A028
A33: A030 | B33: =C33*24 -> 8.4 | C33: 0.35 | D33: A030 | E33: =F33*24 -> 8.3833333 | F33: 0.34930556 | G33: A029
A34: A031 | B34: =C34*24 -> 7.55 | C34: 0.31458333 | D34: A031 | E34: =F34*24 -> 8.5 | F34: 0.35416667 | G34: A030
A35: A032 | B35: =C35*24 -> 8.2 | C35: 0.34166667 | D35: A032 | E35: =F35*24 -> 7.55 | F35: 0.31458333 | G35: A031
A36: A033 | B36: =C36*24 -> 7.9666667 | C36: 0.33194444 | D36: A033 | E36: =F36*24 -> 7.6833333 | F36: 0.32013889 | G36: A032
A37: A034 | B37: =C37*24 -> 7.6166667 | C37: 0.31736111 | D37: A034 | E37: =F37*24 -> 8.0333333 | F37: 0.33472222 | G37: A033 | J37: A029 | K37: =L37*24 -> 7.5333333 | L37: 0.31388889
A38: A035 | B38: =C38*24 -> 7.3333333 | C38: 0.30555556 | D38: A035 | E38: =F38*24 -> 8.4166667 | F38: 0.35069444 | G38: A034
A39: A036 | B39: =C39*24 -> 6.45 | C39: 0.26875 | D39: A036 | E39: =F39*24 -> 8.1833333 | F39: 0.34097222 | G39: A035
A40: RN | B40: RN | D40: RN | E40: RN | G40: A036 | J40: RN | K40: RN
A41: ROULEMENT A
A42: SEMAINE | D42: SAMEDI | G42: DIMANCHE | J42: VACANCES
A43: Service | B43: heure en centième | C43: Pointage | D43: Service | E43: heure en centième | F43: Pointage | G43: Service | H43: heure en centième | I43: Pointage | J43: Service | K43: heure en centième | L43: Pointage
A44: A001 | B44: =C44*24 -> 8.4166667 | C44: 0.35069444 | D44: A001 | E44: =F44*24 -> 8 | F44: 0.33333333 | G44: A001 | H44: =I44*24 -> 8.5 | I44: 0.35416667 | J44: A001 | K44: =L44*24 -> 8.4166667 | L44: 0.35069444
A45: A002 | B45: =C45*24 -> 7.5333333 | C45: 0.31388889 | D45: A002 | E45: =F45*24 -> 7 | F45: 0.29166667 | G45: A002 | H45: =I45*24 -> 7.75 | I45: 0.32291667 | J45: A002 | K45: =L45*24 -> 7.5333333 | L45: 0.31388889
A46: A003 | B46: =C46*24 -> 9.2666667 | C46: 0.38611111 | D46: A003 | E46: =F46*24 -> 9 | F46: 0.375 | G46: A003 | H46: =I46*24 -> 9.25 | I46: 0.38541667 | J46: A003 | K46: =L46*24 -> 9.2666667 | L46: 0.38611111
A47: A004 | B47: =C47*24 -> 6.8666667 | C47: 0.28611111 | D47: A004 | E47: =F47*24 -> 6.25 | F47: 0.26041667 | G47: A004 | H47: =I47*24 -> 6.8333333 | I47: 0.28472222 | J47: A004 | K47: =L47*24 -> 6.8666667 | L47: 0.28611111
A48: A005 | B48: =C48*24 -> 7.5333333 | C48: 0.31388889 | D48: A005 | E48: =F48*24 -> 7.5333333 | F48: 0.31388889 | G48: A005 | H48: =I48*24 -> 7.5333333 | I48: 0.31388889 | J48: A005 | K48: =L48*24 -> 7.5333333 | L48: 0.31388889
A49: A006 | B49: =C49*24 -> 7.4333333 | C49: 0.30972222 | D49: A006 | E49: =F49*24 -> 7.4333333 | F49: 0.30972222 | G49: A006 | H49: =I49*24 -> 7.4333333 | I49: 0.30972222 | J49: A006 | K49: =L49*24 -> 7.4333333 | L49: 0.30972222
A50: A007 | B50: =C50*24 -> 8.0166667 | C50: 0.33402778 | D50: A007 | E50: =F50*24 -> 8.0166667 | F50: 0.33402778 | G50: A007 | H50: =I50*24 -> 8.0166667 | I50: 0.33402778 | J50: A007 | K50: =L50*24 -> 8.0166667 | L50: 0.33402778
A51: A008 | B51: =C51*24 -> 7.4 | C51: 0.30833333 | D51: A008 | E51: =F51*24 -> 7.4 | F51: 0.30833333 | G51: A008 | H51: =I51*24 -> 7.4 | I51: 0.30833333 | J51: A008 | K51: =L51*24 -> 7.4 | L51: 0.30833333
A52: A009 | B52: =C52*24 -> 0.6 | C52: 0.025 | D52: A009 | E52: =F52*24 -> 0.6 | F52: 0.025 | G52: A009 | H52: =I52*24 -> 0.6 | I52: 0.025 | J52: A009 | K52: =L52*24 -> 0.6 | L52: 0.025
A53: A010 | B53: =C53*24 -> 8.4166667 | C53: 0.35069444 | D53: A010 | E53: =F53*24 -> 8.4166667 | F53: 0.35069444 | G53: A010 | H53: =I53*24 -> 8.4166667 | I53: 0.35069444 | J53: A010 | K53: =L53*24 -> 8.4166667 | L53: 0.35069444
A54: A011 | B54: =C54*24 -> 7.5333333 | C54: 0.31388889 | D54: A011 | E54: =F54*24 -> 7.5333333 | F54: 0.31388889 | G54: A011 | H54: =I54*24 -> 7.5333333 | I54: 0.31388889 | J54: A011 | K54: =L54*24 -> 7.5333333 | L54: 0.31388889
A55: A012 | B55: =C55*24 -> 9.2666667 | C55: 0.38611111 | D55: A012 | E55: =F55*24 -> 9.2666667 | F55: 0.38611111 | G55: A012 | H55: =I55*24 -> 9.2666667 | I55: 0.38611111 | J55: A012 | K55: =L55*24 -> 9.2666667 | L55: 0.38611111
... A67: A024 | B67: =C67*24 -> 7.4333333 | C67: 0.30972222 | D67: A024 | E67: =F67*24 -> 7.4333333 | F67: 0.30972222 | G67: A024 | H67: =I67*24 -> 7.4333333 | I67: 0.30972222 | J67: A024 | K67: =L67*24 -> 7.4333333 | L67: 0.30972222
A68: A025 | B68: =C68*24 -> 8.0166667 | C68: 0.33402778 | D68: A025 | E68: =F68*24 -> 8.0166667 | F68: 0.33402778 | G68: RN | H68: RN | J68: A025 | K68: =L68*24 -> 8.0166667 | L68: 0.33402778
A69: A026 | B69: =C69*24 -> 7.4 | C69: 0.30833333 | D69: A026 | E69: =F69*24 -> 7.4 | F69: 0.30833333 | J69: A026 | K69: =L69*24 -> 7.4 | L69: 0.30833333
A70: A027 | B70: =C70*24 -> 0.6 | C70: 0.025 | J70: A027 | K70: =L70*24 -> 0.6 | L70: 0.025
A71: A028 | B71: =C71*24 -> 8.4166667 | C71: 0.35069444 | J71: A028 | K71: =L71*24 -> 8.4166667 | L71: 0.35069444
A72: A029 | B72: =C72*24 -> 7.5333333 | C72: 0.31388889 | J72: A029 | K72: =L72*24 -> 7.5333333 | L72: 0.31388889
A73: A030 | B73: =C73*24 -> 9.2666667 | C73: 0.38611111 | J73: A030 | K73: =L73*24 -> 9.2666667 | L73: 0.38611111
A74: RN | B74: RN | D74: RN | E74: RN | J74: RN | K74: RN
A75: ROULEMENT B
A76: SEMAINE | D76: SAMEDI | G76: DIMANCHE | J76: VACANCES
A77: Service | B77: heure en centième | C77: Pointage | D77: Service | E77: heure en centième | F77: Pointage | G77: Service | H77: heure en centième | I77: Pointage | J77: Service | K77: heure en centième | L77: Pointage
A78: B001 | B78: =C78*24 -> 8.4166667 | C78: 0.35069444 | D78: B001 | E78: =F78*24 -> 8.4166667 | F78: 0.35069444 | G78: B001 | H78: =I78*24 -> 8.4166667 | I78: 0.35069444 | J78: B001 | K78: =L78*24 -> 8.4166667 | L78: 0.35069444
A79: B002 | B79: =C79*24 -> 7.5333333 | C79: 0.31388889 | D79: B002 | E79: =F79*24 -> 7.5333333 | F79: 0.31388889 | G79: B002 | H79: =I79*24 -> 7.5333333 | I79: 0.31388889 | J79: B002 | K79: =L79*24 -> 7.5333333 | L79: 0.31388889
A80: B003 | B80: =C80*24 -> 9.2666667 | C80: 0.38611111 | D80: B003 | E80: =F80*24 -> 9.2666667 | F80: 0.38611111 | G80: B003 | H80: =I80*24 -> 9.2666667 | I80: 0.38611111 | J80: B003 | K80: =L80*24 -> 9.2666667 | L80: 0.38611111
A81: B004 | B81: =C81*24 -> 6.8666667 | C81: 0.28611111 | D81: B004 | E81: =F81*24 -> 6.8666667 | F81: 0.28611111 | G81: B004 | H81: =I81*24 -> 6.8666667 | I81: 0.28611111 | J81: B004 | K81: =L81*24 -> 6.8666667 | L81: 0.28611111
A82: B005 | B82: =C82*24 -> 7.5333333 | C82: 0.31388889 | D82: B005 | E82: =F82*24 -> 7.5333333 | F82: 0.31388889 | G82: B005 | H82: =I82*24 -> 7.5333333 | I82: 0.31388889 | J82: B005 | K82: =L82*24 -> 7.5333333 | L82: 0.31388889
A83: B006 | B83: =C83*24 -> 7.4333333 | C83: 0.30972222 | D83: B006 | E83: =F83*24 -> 7.4333333 | F83: 0.30972222 | G83: B006 | H83: =I83*24 -> 7.4333333 | I83: 0.30972222 | J83: B006 | K83: =L83*24 -> 7.4333333 | L83: 0.30972222
A84: B007 | B84: =C84*24 -> 8.0166667 | C84: 0.33402778 | D84: B007 | E84: =F84*24 -> 8.0166667 | F84: 0.33402778 | G84: B007 | H84: =I84*24 -> 8.0166667 | I84: 0.33402778 | J84: B007 | K84: =L84*24 -> 8.0166667 | L84: 0.33402778
A85: B008 | B85: =C85*24 -> 7.4 | C85: 0.30833333 | D85: B008 | E85: =F85*24 -> 7.4 | F85: 0.30833333 | G85: B008 | H85: =I85*24 -> 7.4 | I85: 0.30833333 | J85: B008 | K85: =L85*24 -> 7.4 | L85: 0.30833333
A86: B009 | B86: =C86*24 -> 0.6 | C86: 0.025 | D86: B009 | E86: =F86*24 -> 0.6 | F86: 0.025 | G86: B009 | H86: =I86*24 -> 0.6 | I86: 0.025 | J86: B009 | K86: =L86*24 -> 0.6 | L86: 0.025
A87: B010 | B87: =C87*24 -> 8.4166667 | C87: 0.35069444 | D87: B010 | E87: =F87*24 -> 8.4166667 | F87: 0.35069444 | G87: B010 | H87: =I87*24 -> 8.4166667 | I87: 0.35069444 | J87: B010 | K87: =L87*24 -> 8.4166667 | L87: 0.35069444
A88: B011 | B88: =C88*24 -> 7.5333333 | C88: 0.31388889 | D88: B011 | E88: =F88*24 -> 7.5333333 | F88: 0.31388889 | G88: B011 | H88: =I88*24 -> 7.5333333 | I88: 0.31388889 | J88: B011 | K88: =L88*24 -> 7.5333333 | L88: 0.31388889
A89: B012 | B89: =C89*24 -> 9.2666667 | C89: 0.38611111 | D89: B012 | E89: =F89*24 -> 9.2666667 | F89: 0.38611111 | G89: B012 | H89: =I89*24 -> 9.2666667 | I89: 0.38611111 | J89: B012 | K89: =L89*24 -> 9.2666667 | L89: 0.38611111
... A101: B024 | B101: =C101*24 -> 7.4333333 | C101: 0.30972222 | D101: B024 | E101: =F101*24 -> 7.4333333 | F101: 0.30972222 | G101: B024 | H101: =I101*24 -> 7.4333333 | I101: 0.30972222 | J101: B024 | K101: =L101*24 -> 7.4333333 | L101: 0.30972222
A102: B025 | B102: =C102*24 -> 8.0166667 | C102: 0.33402778 | D102: B025 | E102: =F102*24 -> 8.0166667 | F102: 0.33402778 | J102: B025 | K102: =L102*24 -> 8.0166667 | L102: 0.33402778
A103: B026 | B103: =C103*24 -> 7.4 | C103: 0.30833333 | D103: B026 | E103: =F103*24 -> 7.4 | F103: 0.30833333 | J103: B026 | K103: =L103*24 -> 7.4 | L103: 0.30833333
A104: B027 | B104: =C104*24 -> 0.6 | C104: 0.025 | D104: B027 | E104: =F104*24 -> 0.6 | F104: 0.025 | J104: B027 | K104: =L104*24 -> 0.6 | L104: 0.025
A105: B028 | B105: =C105*24 -> 8.4166667 | C105: 0.35069444 | J105: B028 | K105: =L105*24 -> 8.4166667 | L105: 0.35069444
A106: B029 | B106: =C106*24 -> 7.5333333 | C106: 0.31388889 | J106: B029 | K106: =L106*24 -> 7.5333333 | L106: 0.31388889
A107: B030 | B107: =C107*24 -> 9.2666667 | C107: 0.38611111 | J107: B030 | K107: =L107*24 -> 9.2666667 | L107: 0.38611111
A108: RN | B108: RN | D108: RN | E108: RN | G108: RN | H108: RN | J108: RN | K108: RN
A109: ROULEMENT C
A110: SEMAINE | D110: SAMEDI | G110: DIMANCHE | J110: VACANCES
A111: Service | B111: heure en centième | C111: Pointage | D111: Service | E111: heure en centième | F111: Pointage | G111: Service | H111: heure en centième | I111: Pointage | J111: Service | K111: heure en centième | L111: Pointage
A112: C001 | B112: =C112*24 -> 8.4166667 | C112: 0.35069444 | D112: C001 | E112: =F112*24 -> 8.4166667 | F112: 0.35069444 | G112: C001 | H112: =I112*24 -> 8.4166667 | I112: 0.35069444 | J112: C001 | K112: =L112*24 -> 8.4166667 | L112: 0.35069444
A113: C002 | B113: =C113*24 -> 7.5333333 | C113: 0.31388889 | D113: C002 | E113: =F113*24 -> 7.5333333 | F113: 0.31388889 | G113: C002 | H113: =I113*24 -> 7.5333333 | I113: 0.31388889 | J113: C002 | K113: =L113*24 -> 7.5333333 | L113: 0.31388889
A114: C003 | B114: =C114*24 -> 9.2666667 | C114: 0.38611111 | D114: C003 | E114: =F114*24 -> 9.2666667 | F114: 0.38611111 | G114: C003 | H114: =I114*24 -> 9.2666667 | I114: 0.38611111 | J114: C003 | K114: =L114*24 -> 9.2666667 | L114: 0.38611111
A115: C004 | B115: =C115*24 -> 6.8666667 | C115: 0.28611111 | D115: C004 | E115: =F115*24 -> 6.8666667 | F115: 0.28611111 | G115: C004 | H115: =I115*24 -> 6.8666667 | I115: 0.28611111 | J115: C004 | K115: =L115*24 -> 6.8666667 | L115: 0.28611111
A116: C005 | B116: =C116*24 -> 7.5333333 | C116: 0.31388889 | D116: C005 | E116: =F116*24 -> 7.5333333 | F116: 0.31388889 | G116: C005 | H116: =I116*24 -> 7.5333333 | I116: 0.31388889 | J116: C005 | K116: =L116*24 -> 7.5333333 | L116: 0.31388889
A117: C006 | B117: =C117*24 -> 7.4333333 | C117: 0.30972222 | D117: C006 | E117: =F117*24 -> 7.4333333 | F117: 0.30972222 | G117: C006 | H117: =I117*24 -> 7.4333333 | I117: 0.30972222 | J117: C006 | K117: =L117*24 -> 7.4333333 | L117: 0.30972222
A118: C007 | B118: =C118*24 -> 8.0166667 | C118: 0.33402778 | D118: C007 | E118: =F118*24 -> 8.0166667 | F118: 0.33402778 | G118: C007 | H118: =I118*24 -> 8.0166667 | I118: 0.33402778 | J118: C007 | K118: =L118*24 -> 8.0166667 | L118: 0.33402778
A119: C008 | B119: =C119*24 -> 7.4 | C119: 0.30833333 | D119: C008 | E119: =F119*24 -> 7.4 | F119: 0.30833333 | G119: C008 | H119: =I119*24 -> 7.4 | I119: 0.30833333 | J119: C008 | K119: =L119*24 -> 7.4 | L119: 0.30833333
A120: C009 | B120: =C120*24 -> 0.6 | C120: 0.025 | D120: C009 | E120: =F120*24 -> 0.6 | F120: 0.025 | G120: C009 | H120: =I120*24 -> 0.6 | I120: 0.025 | J120: C009 | K120: =L120*24 -> 0.6 | L120: 0.025
A121: C010 | B121: =C121*24 -> 8.4166667 | C121: 0.35069444 | D121: C010 | E121: =F121*24 -> 8.4166667 | F121: 0.35069444 | G121: C010 | H121: =I121*24 -> 8.4166667 | I121: 0.35069444 | J121: C010 | K121: =L121*24 -> 8.4166667 | L121: 0.35069444
A122: C011 | B122: =C122*24 -> 7.5333333 | C122: 0.31388889 | D122: C011 | E122: =F122*24 -> 7.5333333 | F122: 0.31388889 | G122: C011 | H122: =I122*24 -> 7.5333333 | I122: 0.31388889 | J122: C011 | K122: =L122*24 -> 7.5333333 | L122: 0.31388889
A123: C012 | B123: =C123*24 -> 9.2666667 | C123: 0.38611111 | D123: C012 | E123: =F123*24 -> 9.2666667 | F123: 0.38611111 | G123: C012 | H123: =I123*24 -> 9.2666667 | I123: 0.38611111 | J123: C012 | K123: =L123*24 -> 9.2666667 | L123: 0.38611111
... A135: C024 | B135: =C135*24 -> 7.4333333 | C135: 0.30972222 | D135: C024 | E135: =F135*24 -> 7.4333333 | F135: 0.30972222 | G135: C024 | H135: =I135*24 -> 7.4333333 | I135: 0.30972222 | J135: C024 | K135: =L135*24 -> 7.4333333 | L135: 0.30972222
A136: C025 | B136: =C136*24 -> 8.0166667 | C136: 0.33402778 | D136: C025 | E136: =F136*24 -> 8.0166667 | F136: 0.33402778 | G136: C025 | J136: C025 | K136: =L136*24 -> 8.0166667 | L136: 0.33402778
A137: C026 | B137: =C137*24 -> 7.4 | C137: 0.30833333 | D137: C026 | E137: =F137*24 -> 7.4 | F137: 0.30833333 | G137: C026 | J137: C026 | K137: =L137*24 -> 7.4 | L137: 0.30833333
A138: C027 | B138: =C138*24 -> 0.6 | C138: 0.025 | D138: C027 | E138: =F138*24 -> 0.6 | F138: 0.025 | G138: C027 | J138: C027 | K138: =L138*24 -> 0.6 | L138: 0.025
A139: C028 | B139: =C139*24 -> 8.4166667 | C139: 0.35069444 | D139: C028 | E139: =F139*24 -> 8.4166667 | F139: 0.35069444 | G139: C028 | J139: C028 | K139: =L139*24 -> 8.4166667 | L139: 0.35069444
A140: C029 | B140: =C140*24 -> 7.5333333 | C140: 0.31388889 | D140: C029 | E140: =F140*24 -> 7.5333333 | F140: 0.31388889 | G140: C029 | J140: C029 | K140: =L140*24 -> 7.5333333 | L140: 0.31388889
A141: C030 | B141: =C141*24 -> 9.2666667 | C141: 0.38611111 | D141: C030 | E141: =F141*24 -> 9.2666667 | F141: 0.38611111 | G141: C030 | J141: C030 | K141: =L141*24 -> 9.2666667 | L141: 0.38611111
A142: RN | B142: RN | D142: RN | E142: RN | G142: RN | H142: RN | J142: RN | K142: RN
A143: ROULEMENT D
A144: SEMAINE | D144: SAMEDI | G144: DIMANCHE | J144: VACANCES
...

Sheet Conducteurs
A1: N° Paie | B1: Prénom Nom | C1: Prénom | D1: Nom
A2: 28294 | B2: =C2&" "&D2 -> a k | C2: a | D2: k
A3: 28298 | B3: =C3&" "&D3 -> b l | C3: b | D3: l
A4: 28302 | B4: =C4&" "&D4 -> c m | C4: c | D4: m
A5: 28303 | B5: =C5&" "&D5 -> d n | C5: d | D5: n
A6: 28304 | B6: =C6&" "&D6 -> e f | C6: e | D6: f
A7: 28305 | B7: =C7&" "&D7 -> f r | C7: f | D7: r
A8: 28309 | B8: =C8&" "&D8 -> g e | C8: g | D8: e
A9: 28314 | B9: =C9&" "&D9 -> h z | C9: h | D9: z
A10: 28316 | B10: =C10&" "&D10 -> b a | C10: b | D10: a
A11: 28317 | B11: =C11&" "&D11 -> a t | C11: a | D11: t
A12: 28320 | B12: =C12&" "&D12 -> a y | C12: a | D12: y
A13: 28321 | B13: =C13&" "&D13 -> a u | C13: a | D13: u
... A476: 56769 | B476: =C476&" "&D476 -> a m | C476: a | D476: m

Sheet Valeur POINT
A1: ROULEMENT A1
A2: SEMAINE | D2: SAMEDI | G2: DIMANCHE | J2: VACANCES
A3: Service | B3: POINTS | C3: Pointage | D3: Service | E3: POINT | F3: Pointage | G3: Service | H3: POINT | I3: Pointage | J3: Service | K3: heure en centième | L3: Pointage
A4: A001 | B4: 7 | C4: 0.35069444 | D4: A001 | E4: -7 | F4: 0.28541667 | G4: A001 | H4: -16 | I4: 0.24652778 | J4: roulement_A1_vacances | K4: =L4*24 -> 8.4166667 | L4: 0.35069444
A5: A002 | B5: -22 | C5: 0.35208333 | D5: A002 | E5: 5 | F5: 0.25347222 | G5: A002 | H5: 3 | I5: 0.18125 | J5: A002 | K5: =L5*24 -> 7.5333333 | L5: 0.31388889
A6: A003 | B6: 2 | C6: 0.3125 | D6: A003 | E6: -17 | F6: 0.31458333 | G6: A003 | H6: 4 | I6: 0.22222222 | J6: A003 | K6: =L6*24 -> 9.2666667 | L6: 0.38611111
A7: A004 | B7: -1 | C7: 0.26458333 | D7: A004 | E7: -2 | F7: 0.33958333 | G7: A004 | H7: -5 | I7: 0.26180556 | J7: A004 | K7: =L7*24 -> 6.8666667 | L7: 0.28611111
A8: A005 | B8: -1 | C8: 0.33263889 | D8: A005 | E8: 3 | F8: 0.29513889 | G8: A005 | H8: -4 | I8: 0.29513889 | J8: A005 | K8: =L8*24 -> 7.5333333 | L8: 0.31388889
A9: A006 | B9: -3 | C9: 0.29861111 | D9: A006 | E9: 3 | F9: 0.24722222 | G9: A006 | H9: 1 | I9: 0.22222222 | J9: A006 | K9: =L9*24 -> 7.4333333 | L9: 0.30972222
A10: A007 | B10: 18 | C10: 0.30972222 | D10: A007 | E10: -10 | F10: 0.31875 | G10: A007 | H10: 1 | I10: 0.23958333 | J10: A007 | K10: =L10*24 -> 8.0166667 | L10: 0.33402778
A11: A008 | B11: -46 | C11: 0.31666667 | D11: A008 | E11: 4 | F11: 0.29583333 | G11: A008 | H11: -3 | I11: 0.24652778 | J11: A008 | K11: =L11*24 -> 7.4 | L11: 0.30833333
A12: A009 | B12: 3 | C12: 0.35138889 | D12: A009 | E12: 0 | F12: 0.29097222 | G12: A009 | H12: -4 | I12: 0.24444444 | J12: A009 | K12: =L12*24 -> 0.6 | L12: 0.025
A13: A010 | B13: -10 | C13: 0.32291667 | D13: A010 | E13: 4 | F13: 0.30138889 | G13: A010 | H13: 2 | I13: 0.22847222 | J13: A010 | K13: =L13*24 -> 8.4166667 | L13: 0.35069444
A14: A011 | B14: -30 | C14: 0.33680556 | D14: A011 | E14: 5 | F14: 0.27847222 | G14: A011 | H14: 3 | I14: 0.22916667 | J14: A011 | K14: =L14*24 -> 7.5333333 | L14: 0.31388889
A15: A012 | B15: -62 | C15: 0.33958333 | D15: A012 | E15: 1 | F15: 0.28472222 | G15: A012 | H15: -8 | I15: 0.25 | J15: A012 | K15: =L15*24 -> 9.2666667 | L15: 0.38611111
... A27: A024 | B27: 15 | C27: 0.32638889 | D27: A024 | E27: 2 | F27: 0.33055556 | G27: A024 | H27: 1 | I27: 0.24652778 | J27: A024 | K27: =L27*24 -> 7.4333333 | L27: 0.30972222
A28: A025 | B28: 17 | C28: 0.32013889 | D28: A025 | E28: -1 | F28: 0.29236111 | G28: RN | H28: RN | J28: A025 | K28: =L28*24 -> 8.0166667 | L28: 0.33402778
A29: A026 | B29: 25 | C29: 0.34861111 | D29: A026 | E29: 0 | F29: 0.31388889 | J29: A026 | K29: =L29*24 -> 7.4 | L29: 0.30833333
A30: A027 | B30: 18 | C30: 0.31597222 | D30: A027 | E30: 2 | F30: 0.32569444 | J30: A027 | K30: =L30*24 -> 0.6 | L30: 0.025
A31: A028 | B31: 22 | C31: 0.34722222 | D31: A028 | E31: 2 | F31: 0.25833333 | J31: A028 | K31: =L31*24 -> 8.4166667 | L31: 0.35069444
A32: A029 | B32: 17 | C32: 0.33263889 | D32: A029 | E32: -6 | F32: 0.27916667
A33: A030 | B33: -9 | C33: 0.35 | D33: A030 | E33: 1 | F33: 0.34930556
A34: A031 | B34: 1 | C34: 0.31458333 | D34: A031 | E34: 4 | F34: 0.35416667
A35: A032 | B35: -4 | C35: 0.34166667 | D35: A032 | E35: 4 | F35: 0.31458333
A36: A033 | B36: 24 | C36: 0.33194444 | D36: A033 | E36: 5 | F36: 0.32013889
A37: A034 | B37: 24 | C37: 0.31736111 | D37: A034 | E37: 2 | F37: 0.33472222 | J37: A029 | K37: =L37*24 -> 7.5333333 | L37: 0.31388889
A38: A035 | B38: -2 | C38: 0.30555556 | D38: A035 | E38: 6 | F38: 0.35069444
A39: A036 | B39: -3 | C39: 0.26875 | D39: A036 | E39: 5 | F39: 0.34097222
A40: RN | B40: RN | D40: RN | E40: RN | J40: RN | K40: RN
A41: ROULEMENT A
A42: SEMAINE | D42: SAMEDI | G42: DIMANCHE | J42: VACANCES
A43: Service | B43: heure en centième | C43: Pointage | D43: Service | E43: heure en centième | F43: Pointage | G43: Service | H43: heure en centième | I43: Pointage | J43: Service | K43: heure en centième | L43: Pointage
A44: A001 | B44: =C44*24 -> 8.4166667 | C44: 0.35069444 | D44: A001 | E44: =F44*24 -> 8 | F44: 0.33333333 | G44: A001 | H44: =I44*24 -> 8.5 | I44: 0.35416667 | J44: A001 | K44: =L44*24 -> 8.4166667 | L44: 0.35069444
A45: A002 | B45: =C45*24 -> 7.5333333 | C45: 0.31388889 | D45: A002 | E45: =F45*24 -> 7 | F45: 0.29166667 | G45: A002 | H45: =I45*24 -> 7.75 | I45: 0.32291667 | J45: A002 | K45: =L45*24 -> 7.5333333 | L45: 0.31388889
A46: A003 | B46: =C46*24 -> 9.2666667 | C46: 0.38611111 | D46: A003 | E46: =F46*24 -> 9 | F46: 0.375 | G46: A003 | H46: =I46*24 -> 9.25 | I46: 0.38541667 | J46: A003 | K46: =L46*24 -> 9.2666667 | L46: 0.38611111
A47: A004 | B47: =C47*24 -> 6.8666667 | C47: 0.28611111 | D47: A004 | E47: =F47*24 -> 6.25 | F47: 0.26041667 | G47: A004 | H47: =I47*24 -> 6.8333333 | I47: 0.28472222 | J47: A004 | K47: =L47*24 -> 6.8666667 | L47: 0.28611111
A48: A005 | B48: =C48*24 -> 7.5333333 | C48: 0.31388889 | D48: A005 | E48: =F48*24 -> 7.5333333 | F48: 0.31388889 | G48: A005 | H48: =I48*24 -> 7.5333333 | I48: 0.31388889 | J48: A005 | K48: =L48*24 -> 7.5333333 | L48: 0.31388889
A49: A006 | B49: =C49*24 -> 7.4333333 | C49: 0.30972222 | D49: A006 | E49: =F49*24 -> 7.4333333 | F49: 0.30972222 | G49: A006 | H49: =I49*24 -> 7.4333333 | I49: 0.30972222 | J49: A006 | K49: =L49*24 -> 7.4333333 | L49: 0.30972222
A50: A007 | B50: =C50*24 -> 8.0166667 | C50: 0.33402778 | D50: A007 | E50: =F50*24 -> 8.0166667 | F50: 0.33402778 | G50: A007 | H50: =I50*24 -> 8.0166667 | I50: 0.33402778 | J50: A007 | K50: =L50*24 -> 8.0166667 | L50: 0.33402778
A51: A008 | B51: =C51*24 -> 7.4 | C51: 0.30833333 | D51: A008 | E51: =F51*24 -> 7.4 | F51: 0.30833333 | G51: A008 | H51: =I51*24 -> 7.4 | I51: 0.30833333 | J51: A008 | K51: =L51*24 -> 7.4 | L51: 0.30833333
A52: A009 | B52: =C52*24 -> 0.6 | C52: 0.025 | D52: A009 | E52: =F52*24 -> 0.6 | F52: 0.025 | G52: A009 | H52: =I52*24 -> 0.6 | I52: 0.025 | J52: A009 | K52: =L52*24 -> 0.6 | L52: 0.025
A53: A010 | B53: =C53*24 -> 8.4166667 | C53: 0.35069444 | D53: A010 | E53: =F53*24 -> 8.4166667 | F53: 0.35069444 | G53: A010 | H53: =I53*24 -> 8.4166667 | I53: 0.35069444 | J53: A010 | K53: =L53*24 -> 8.4166667 | L53: 0.35069444
A54: A011 | B54: =C54*24 -> 7.5333333 | C54: 0.31388889 | D54: A011 | E54: =F54*24 -> 7.5333333 | F54: 0.31388889 | G54: A011 | H54: =I54*24 -> 7.5333333 | I54: 0.31388889 | J54: A011 | K54: =L54*24 -> 7.5333333 | L54: 0.31388889
A55: A012 | B55: =C55*24 -> 9.2666667 | C55: 0.38611111 | D55: A012 | E55: =F55*24 -> 9.2666667 | F55: 0.38611111 | G55: A012 | H55: =I55*24 -> 9.2666667 | I55: 0.38611111 | J55: A012 | K55: =L55*24 -> 9.2666667 | L55: 0.38611111
... A67: A024 | B67: =C67*24 -> 7.4333333 | C67: 0.30972222 | D67: A024 | E67: =F67*24 -> 7.4333333 | F67: 0.30972222 | G67: A024 | H67: =I67*24 -> 7.4333333 | I67: 0.30972222 | J67: A024 | K67: =L67*24 -> 7.4333333 | L67: 0.30972222
A68: A025 | B68: =C68*24 -> 8.0166667 | C68: 0.33402778 | D68: A025 | E68: =F68*24 -> 8.0166667 | F68: 0.33402778 | G68: RN | H68: RN | J68: A025 | K68: =L68*24 -> 8.0166667 | L68: 0.33402778
A69: A026 | B69: =C69*24 -> 7.4 | C69: 0.30833333 | D69: A026 | E69: =F69*24 -> 7.4 | F69: 0.30833333 | J69: A026 | K69: =L69*24 -> 7.4 | L69: 0.30833333
A70: A027 | B70: =C70*24 -> 0.6 | C70: 0.025 | J70: A027 | K70: =L70*24 -> 0.6 | L70: 0.025
A71: A028 | B71: =C71*24 -> 8.4166667 | C71: 0.35069444 | J71: A028 | K71: =L71*24 -> 8.4166667 | L71: 0.35069444
A72: A029 | B72: =C72*24 -> 7.5333333 | C72: 0.31388889 | J72: A029 | K72: =L72*24 -> 7.5333333 | L72: 0.31388889
A73: A030 | B73: =C73*24 -> 9.2666667 | C73: 0.38611111 | J73: A030 | K73: =L73*24 -> 9.2666667 | L73: 0.38611111
A74: RN | B74: RN | D74: RN | E74: RN | J74: RN | K74: RN
A75: ROULEMENT B
A76: SEMAINE | D76: SAMEDI | G76: DIMANCHE | J76: VACANCES
A77: Service | B77: heure en centième | C77: Pointage | D77: Service | E77: heure en centième | F77: Pointage | G77: Service | H77: heure en centième | I77: Pointage | J77: Service | K77: heure en centième | L77: Pointage
A78: B001 | B78: =C78*24 -> 8.4166667 | C78: 0.35069444 | D78: B001 | E78: =F78*24 -> 8.4166667 | F78: 0.35069444 | G78: B001 | H78: =I78*24 -> 8.4166667 | I78: 0.35069444 | J78: B001 | K78: =L78*24 -> 8.4166667 | L78: 0.35069444
A79: B002 | B79: =C79*24 -> 7.5333333 | C79: 0.31388889 | D79: B002 | E79: =F79*24 -> 7.5333333 | F79: 0.31388889 | G79: B002 | H79: =I79*24 -> 7.5333333 | I79: 0.31388889 | J79: B002 | K79: =L79*24 -> 7.5333333 | L79: 0.31388889
A80: B003 | B80: =C80*24 -> 9.2666667 | C80: 0.38611111 | D80: B003 | E80: =F80*24 -> 9.2666667 | F80: 0.38611111 | G80: B003 | H80: =I80*24 -> 9.2666667 | I80: 0.38611111 | J80: B003 | K80: =L80*24 -> 9.2666667 | L80: 0.38611111
A81: B004 | B81: =C81*24 -> 6.8666667 | C81: 0.28611111 | D81: B004 | E81: =F81*24 -> 6.8666667 | F81: 0.28611111 | G81: B004 | H81: =I81*24 -> 6.8666667 | I81: 0.28611111 | J81: B004 | K81: =L81*24 -> 6.8666667 | L81: 0.28611111
A82: B005 | B82: =C82*24 -> 7.5333333 | C82: 0.31388889 | D82: B005 | E82: =F82*24 -> 7.5333333 | F82: 0.31388889 | G82: B005 | H82: =I82*24 -> 7.5333333 | I82: 0.31388889 | J82: B005 | K82: =L82*24 -> 7.5333333 | L82: 0.31388889
A83: B006 | B83: =C83*24 -> 7.4333333 | C83: 0.30972222 | D83: B006 | E83: =F83*24 -> 7.4333333 | F83: 0.30972222 | G83: B006 | H83: =I83*24 -> 7.4333333 | I83: 0.30972222 | J83: B006 | K83: =L83*24 -> 7.4333333 | L83: 0.30972222
A84: B007 | B84: =C84*24 -> 8.0166667 | C84: 0.33402778 | D84: B007 | E84: =F84*24 -> 8.0166667 | F84: 0.33402778 | G84: B007 | H84: =I84*24 -> 8.0166667 | I84: 0.33402778 | J84: B007 | K84: =L84*24 -> 8.0166667 | L84: 0.33402778
A85: B008 | B85: =C85*24 -> 7.4 | C85: 0.30833333 | D85: B008 | E85: =F85*24 -> 7.4 | F85: 0.30833333 | G85: B008 | H85: =I85*24 -> 7.4 | I85: 0.30833333 | J85: B008 | K85: =L85*24 -> 7.4 | L85: 0.30833333
A86: B009 | B86: =C86*24 -> 0.6 | C86: 0.025 | D86: B009 | E86: =F86*24 -> 0.6 | F86: 0.025 | G86: B009 | H86: =I86*24 -> 0.6 | I86: 0.025 | J86: B009 | K86: =L86*24 -> 0.6 | L86: 0.025
A87: B010 | B87: =C87*24 -> 8.4166667 | C87: 0.35069444 | D87: B010 | E87: =F87*24 -> 8.4166667 | F87: 0.35069444 | G87: B010 | H87: =I87*24 -> 8.4166667 | I87: 0.35069444 | J87: B010 | K87: =L87*24 -> 8.4166667 | L87: 0.35069444
A88: B011 | B88: =C88*24 -> 7.5333333 | C88: 0.31388889 | D88: B011 | E88: =F88*24 -> 7.5333333 | F88: 0.31388889 | G88: B011 | H88: =I88*24 -> 7.5333333 | I88: 0.31388889 | J88: B011 | K88: =L88*24 -> 7.5333333 | L88: 0.31388889
A89: B012 | B89: =C89*24 -> 9.2666667 | C89: 0.38611111 | D89: B012 | E89: =F89*24 -> 9.2666667 | F89: 0.38611111 | G89: B012 | H89: =I89*24 -> 9.2666667 | I89: 0.38611111 | J89: B012 | K89: =L89*24 -> 9.2666667 | L89: 0.38611111
... A101: B024 | B101: =C101*24 -> 7.4333333 | C101: 0.30972222 | D101: B024 | E101: =F101*24 -> 7.4333333 | F101: 0.30972222 | G101: B024 | H101: =I101*24 -> 7.4333333 | I101: 0.30972222 | J101: B024 | K101: =L101*24 -> 7.4333333 | L101: 0.30972222
A102: B025 | B102: =C102*24 -> 8.0166667 | C102: 0.33402778 | D102: B025 | E102: =F102*24 -> 8.0166667 | F102: 0.33402778 | J102: B025 | K102: =L102*24 -> 8.0166667 | L102: 0.33402778
A103: B026 | B103: =C103*24 -> 7.4 | C103: 0.30833333 | D103: B026 | E103: =F103*24 -> 7.4 | F103: 0.30833333 | J103: B026 | K103: =L103*24 -> 7.4 | L103: 0.30833333
A104: B027 | B104: =C104*24 -> 0.6 | C104: 0.025 | D104: B027 | E104: =F104*24 -> 0.6 | F104: 0.025 | J104: B027 | K104: =L104*24 -> 0.6 | L104: 0.025
A105: B028 | B105: =C105*24 -> 8.4166667 | C105: 0.35069444 | J105: B028 | K105: =L105*24 -> 8.4166667 | L105: 0.35069444
A106: B029 | B106: =C106*24 -> 7.5333333 | C106: 0.31388889 | J106: B029 | K106: =L106*24 -> 7.5333333 | L106: 0.31388889
A107: B030 | B107: =C107*24 -> 9.2666667 | C107: 0.38611111 | J107: B030 | K107: =L107*24 -> 9.2666667 | L107: 0.38611111
A108: RN | B108: RN | D108: RN | E108: RN | G108: RN | H108: RN | J108: RN | K108: RN
A109: ROULEMENT C
A110: SEMAINE | D110: SAMEDI | G110: DIMANCHE | J110: VACANCES
A111: Service | B111: heure en centième | C111: Pointage | D111: Service | E111: heure en centième | F111: Pointage | G111: Service | H111: heure en centième | I111: Pointage | J111: Service | K111: heure en centième | L111: Pointage
A112: C001 | B112: =C112*24 -> 8.4166667 | C112: 0.35069444 | D112: C001 | E112: =F112*24 -> 8.4166667 | F112: 0.35069444 | G112: C001 | H112: =I112*24 -> 8.4166667 | I112: 0.35069444 | J112: C001 | K112: =L112*24 -> 8.4166667 | L112: 0.35069444
A113: C002 | B113: =C113*24 -> 7.5333333 | C113: 0.31388889 | D113: C002 | E113: =F113*24 -> 7.5333333 | F113: 0.31388889 | G113: C002 | H113: =I113*24 -> 7.5333333 | I113: 0.31388889 | J113: C002 | K113: =L113*24 -> 7.5333333 | L113: 0.31388889
A114: C003 | B114: =C114*24 -> 9.2666667 | C114: 0.38611111 | D114: C003 | E114: =F114*24 -> 9.2666667 | F114: 0.38611111 | G114: C003 | H114: =I114*24 -> 9.2666667 | I114: 0.38611111 | J114: C003 | K114: =L114*24 -> 9.2666667 | L114: 0.38611111
A115: C004 | B115: =C115*24 -> 6.8666667 | C115: 0.28611111 | D115: C004 | E115: =F115*24 -> 6.8666667 | F115: 0.28611111 | G115: C004 | H115: =I115*24 -> 6.8666667 | I115: 0.28611111 | J115: C004 | K115: =L115*24 -> 6.8666667 | L115: 0.28611111
A116: C005 | B116: =C116*24 -> 7.5333333 | C116: 0.31388889 | D116: C005 | E116: =F116*24 -> 7.5333333 | F116: 0.31388889 | G116: C005 | H116: =I116*24 -> 7.5333333 | I116: 0.31388889 | J116: C005 | K116: =L116*24 -> 7.5333333 | L116: 0.31388889
A117: C006 | B117: =C117*24 -> 7.4333333 | C117: 0.30972222 | D117: C006 | E117: =F117*24 -> 7.4333333 | F117: 0.30972222 | G117: C006 | H117: =I117*24 -> 7.4333333 | I117: 0.30972222 | J117: C006 | K117: =L117*24 -> 7.4333333 | L117: 0.30972222
A118: C007 | B118: =C118*24 -> 8.0166667 | C118: 0.33402778 | D118: C007 | E118: =F118*24 -> 8.0166667 | F118: 0.33402778 | G118: C007 | H118: =I118*24 -> 8.0166667 | I118: 0.33402778 | J118: C007 | K118: =L118*24 -> 8.0166667 | L118: 0.33402778
A119: C008 | B119: =C119*24 -> 7.4 | C119: 0.30833333 | D119: C008 | E119: =F119*24 -> 7.4 | F119: 0.30833333 | G119: C008 | H119: =I119*24 -> 7.4 | I119: 0.30833333 | J119: C008 | K119: =L119*24 -> 7.4 | L119: 0.30833333
A120: C009 | B120: =C120*24 -> 0.6 | C120: 0.025 | D120: C009 | E120: =F120*24 -> 0.6 | F120: 0.025 | G120: C009 | H120: =I120*24 -> 0.6 | I120: 0.025 | J120: C009 | K120: =L120*24 -> 0.6 | L120: 0.025
A121: C010 | B121: =C121*24 -> 8.4166667 | C121: 0.35069444 | D121: C010 | E121: =F121*24 -> 8.4166667 | F121: 0.35069444 | G121: C010 | H121: =I121*24 -> 8.4166667 | I121: 0.35069444 | J121: C010 | K121: =L121*24 -> 8.4166667 | L121: 0.35069444
A122: C011 | B122: =C122*24 -> 7.5333333 | C122: 0.31388889 | D122: C011 | E122: =F122*24 -> 7.5333333 | F122: 0.31388889 | G122: C011 | H122: =I122*24 -> 7.5333333 | I122: 0.31388889 | J122: C011 | K122: =L122*24 -> 7.5333333 | L122: 0.31388889
A123: C012 | B123: =C123*24 -> 9.2666667 | C123: 0.38611111 | D123: C012 | E123: =F123*24 -> 9.2666667 | F123: 0.38611111 | G123: C012 | H123: =I123*24 -> 9.2666667 | I123: 0.38611111 | J123: C012 | K123: =L123*24 -> 9.2666667 | L123: 0.38611111
... A135: C024 | B135: =C135*24 -> 7.4333333 | C135: 0.30972222 | D135: C024 | E135: =F135*24 -> 7.4333333 | F135: 0.30972222 | G135: C024 | H135: =I135*24 -> 7.4333333 | I135: 0.30972222 | J135: C024 | K135: =L135*24 -> 7.4333333 | L135: 0.30972222
A136: C025 | B136: =C136*24 -> 8.0166667 | C136: 0.33402778 | D136: C025 | E136: =F136*24 -> 8.0166667 | F136: 0.33402778 | G136: C025 | J136: C025 | K136: =L136*24 -> 8.0166667 | L136: 0.33402778
A137: C026 | B137: =C137*24 -> 7.4 | C137: 0.30833333 | D137: C026 | E137: =F137*24 -> 7.4 | F137: 0.30833333 | G137: C026 | J137: C026 | K137: =L137*24 -> 7.4 | L137: 0.30833333
A138: C027 | B138: =C138*24 -> 0.6 | C138: 0.025 | D138: C027 | E138: =F138*24 -> 0.6 | F138: 0.025 | G138: C027 | J138: C027 | K138: =L138*24 -> 0.6 | L138: 0.025
A139: C028 | B139: =C139*24 -> 8.4166667 | C139: 0.35069444 | D139: C028 | E139: =F139*24 -> 8.4166667 | F139: 0.35069444 | G139: C028 | J139: C028 | K139: =L139*24 -> 8.4166667 | L139: 0.35069444
A140: C029 | B140: =C140*24 -> 7.5333333 | C140: 0.31388889 | D140: C029 | E140: =F140*24 -> 7.5333333 | F140: 0.31388889 | G140: C029 | J140: C029 | K140: =L140*24 -> 7.5333333 | L140: 0.31388889
A141: C030 | B141: =C141*24 -> 9.2666667 | C141: 0.38611111 | D141: C030 | E141: =F141*24 -> 9.2666667 | F141: 0.38611111 | G141: C030 | J141: C030 | K141: =L141*24 -> 9.2666667 | L141: 0.38611111
A142: RN | B142: RN | D142: RN | E142: RN | G142: RN | H142: RN | J142: RN | K142: RN
A143: ROULEMENT D
A144: SEMAINE | D144: SAMEDI | G144: DIMANCHE | J144: VACANCES
...

Sheet Roulement conducteur 1
D2: Simulation de roulement A
A5: N° Paie | C5: 55015 | G5: Points restant | H5: =M33 -> 649 | I5: Moyenne Hebdo | J5: =M28 -> 35:22
C6: =IF(C5="","",VLOOKUP(C5,Conducteurs!$A$2:$C$600,2,0)) -> a m
D9: Lundi | E9: Mardi | F9: Mercredi | G9: Jeudi | H9: Vendredi | I9: Samedi | J9: Dimanche
C10: 1 | D10: A001 | E10: A002 | F10: A003 | G10: A004 | H10: A005 | I10: RN | J10: RN
C11: 2 | D11: RN | E11: A002 | F11: A003 | G11: A004 | H11: A005 | I11: A006 | J11: RN
C12: 3 | D12: A004 | E12: RN | F12: A007 | G12: A003 | H12: A002 | I12: A003 | J12: RN
C13: 4 | D13: RN | E13: A003 | F13: A002 | G13: A001 | H13: A001 | I13: RN | J13: RN
C14: 5 | D14: A002 | E14: A004 | F14: A003 | G14: RN | H14: RN | I14: A002 | J14: A007
C15: 6 | D15: A003 | E15: A036 | F15: RN | G15: A002 | H15: A002 | I15: A017 | J15: A031
C16: 7 | D16: RN | E16: RN | F16: A002 | G16: A004 | H16: A004 | I16: A003 | J16: RN
C17: 8 | D17: A005 | E17: A004 | F17: A004 | G17: A002 | H17: A011 | I17: RN | J17: RN
J18: Durée hebdomadaire | K18: Différence
B19: Lundi | C19: Mardi | D19: Mercredi | E19: Jeudi | F19: Vendredi | G19: Samedi | H19: Dimanche | K19: Centième | M19: Heure
A20: 1 | B20: =VLOOKUP(D10,'Valeur horaireR'!A4:B40,2) -> 8.4166667 | C20: =VLOOKUP(E10,'Valeur horaireR'!A4:B40,2) -> 8.45 | D20: =VLOOKUP(F10,'Valeur horaireR'!A4:B40,2) -> 7.5 | E20: =VLOOKUP(G10,'Valeur horaireR'!A4:B40,2) -> 6.35 | F20: =VLOOKUP(H10,'Valeur horaireR'!A4:B40,2) -> 7.9833333 | G20: =VLOOKUP(I10,'Valeur horaireR'!D4:E40,2) -> RN | H20: =VLOOKUP(J10,'Valeur horaireR'!G4:H40,2) -> 0 | J20: =SUM(B20:H20) -> 38.7 | K20: =J20-A6 -> 38.7 | L20: =K20/24 -> 1.6125 | M20: =IF(L20<0,"-"," ")&TEXT(ABS(L20),"[h]:mm") -> 38:42
A21: 2 | B21: =VLOOKUP(D11,'Valeur horaireR'!A4:B40,2) -> RN | C21: =VLOOKUP(E11,'Valeur horaireR'!A4:B40,2) -> 8.45 | D21: =VLOOKUP(F11,'Valeur horaireR'!A4:B40,2) -> 7.5 | E21: =VLOOKUP(G11,'Valeur horaireR'!A4:B40,2) -> 6.35 | F21: =VLOOKUP(H11,'Valeur horaireR'!A4:B40,2) -> 7.9833333 | G21: =VLOOKUP(I11,'Valeur horaireR'!D4:E40,2) -> 5.9333333 | H21: =VLOOKUP(J11,'Valeur horaireR'!G4:H40,2) -> 0 | J21: =SUM(B21:H21) -> 36.216667 | K21: =J21-A6 -> 36.216667 | L21: =K21/24 -> 1.5090278 | M21: =IF(L21<0,"-"," ")&TEXT(ABS(L21),"[h]:mm") -> 36:13
A22: 3 | B22: =VLOOKUP(D12,'Valeur horaireR'!A4:B40,2) -> 6.35 | C22: =VLOOKUP(E12,'Valeur horaireR'!A4:B40,2) -> RN | D22: =VLOOKUP(F12,'Valeur horaireR'!A4:B40,2) -> 7.4333333 | E22: =VLOOKUP(G12,'Valeur horaireR'!A4:B40,2) -> 7.5 | F22: =VLOOKUP(H12,'Valeur horaireR'!A4:B40,2) -> 8.45 | G22: =VLOOKUP(I12,'Valeur horaireR'!D4:E40,2) -> 7.55 | H22: =VLOOKUP(J12,'Valeur horaireR'!G4:H40,2) -> 0 | J22: =SUM(B22:H22) -> 37.283333 | K22: =J22-A6 -> 37.283333 | L22: =K22/24 -> 1.5534722 | M22: =IF(L22<0,"-"," ")&TEXT(ABS(L22),"[h]:mm") -> 37:17
A23: 4 | B23: =VLOOKUP(D13,'Valeur horaireR'!A4:B40,2) -> RN | C23: =VLOOKUP(E13,'Valeur horaireR'!A4:B40,2) -> 7.5 | D23: =VLOOKUP(F13,'Valeur horaireR'!A4:B40,2) -> 8.45 | E23: =VLOOKUP(G13,'Valeur horaireR'!A4:B40,2) -> 8.4166667 | F23: =VLOOKUP(H13,'Valeur horaireR'!A4:B40,2) -> 8.4166667 | G23: =VLOOKUP(I13,'Valeur horaireR'!D4:E40,2) -> RN | H23: =VLOOKUP(J13,'Valeur horaireR'!G4:H40,2) -> 0 | J23: =SUM(B23:H23) -> 32.783333 | K23: =J23-A6 -> 32.783333 | L23: =K23/24 -> 1.3659722 | M23: =IF(L23<0,"-"," ")&TEXT(ABS(L23),"[h]:mm") -> 32:47
A24: 5 | B24: =VLOOKUP(D14,'Valeur horaireR'!A4:B40,2) -> 8.45 | C24: =VLOOKUP(E14,'Valeur horaireR'!A4:B40,2) -> 6.35 | D24: =VLOOKUP(F14,'Valeur horaireR'!A4:B40,2) -> 7.5 | E24: =VLOOKUP(G14,'Valeur horaireR'!A4:B40,2) -> RN | F24: =VLOOKUP(H14,'Valeur horaireR'!A4:B40,2) -> RN | G24: =VLOOKUP(I14,'Valeur horaireR'!D4:E40,2) -> 6.0833333 | H24: =VLOOKUP(J14,'Valeur horaireR'!G4:H40,2) -> 5.75 | J24: =SUM(B24:H24) -> 34.133333 | K24: =J24-A6 -> 34.133333 | L24: =K24/24 -> 1.4222222 | M24: =IF(L24<0,"-"," ")&TEXT(ABS(L24),"[h]:mm") -> 34:08
A25: 6 | B25: =VLOOKUP(D15,'Valeur horaireR'!A4:B40,2) -> 7.5 | C25: =VLOOKUP(E15,'Valeur horaireR'!A4:B40,2) -> 6.45 | D25: =VLOOKUP(F15,'Valeur horaireR'!A4:B40,2) -> RN | E25: =VLOOKUP(G15,'Valeur horaireR'!A4:B40,2) -> 8.45 | F25: =VLOOKUP(H15,'Valeur horaireR'!A4:B40,2) -> 8.45 | G25: =VLOOKUP(I15,'Valeur horaireR'!D4:E40,2) -> 7.1666667 | H25: =VLOOKUP(J15,'Valeur horaireR'!G4:H40,2) -> 0 | J25: =SUM(B25:H25) -> 38.016667 | K25: =J25-A6 -> 38.016667 | L25: =K25/24 -> 1.5840278 | M25: =IF(L25<0,"-"," ")&TEXT(ABS(L25),"[h]:mm") -> 38:01
A26: 7 | B26: =VLOOKUP(D16,'Valeur horaireR'!A4:B40,2) -> RN | C26: =VLOOKUP(E16,'Valeur horaireR'!A4:B40,2) -> RN | D26: =VLOOKUP(F16,'Valeur horaireR'!A4:B40,2) -> 8.45 | E26: =VLOOKUP(G16,'Valeur horaireR'!A4:B40,2) -> 6.35 | F26: =VLOOKUP(H16,'Valeur horaireR'!A4:B40,2) -> 6.35 | G26: =VLOOKUP(I16,'Valeur horaireR'!D4:E40,2) -> 7.55 | H26: =VLOOKUP(J16,'Valeur horaireR'!G4:H40,2) -> 0 | J26: =SUM(B26:H26) -> 28.7 | K26: =J26-A6 -> 28.7 | L26: =K26/24 -> 1.1958333 | M26: =IF(L26<0,"-"," ")&TEXT(ABS(L26),"[h]:mm") -> 28:42
A27: 8 | B27: =VLOOKUP(D17,'Valeur horaireR'!A4:B40,2) -> 7.9833333 | C27: =VLOOKUP(E17,'Valeur horaireR'!A4:B40,2) -> 6.35 | D27: =VLOOKUP(F17,'Valeur horaireR'!A4:B40,2) -> 6.35 | E27: =VLOOKUP(G17,'Valeur horaireR'!A4:B40,2) -> 8.45 | F27: =VLOOKUP(H17,'Valeur horaireR'!A4:B40,2) -> 8.0833333 | G27: =VLOOKUP(I17,'Valeur horaireR'!D4:E40,2) -> RN | H27: =VLOOKUP(J17,'Valeur horaireR'!G4:H40,2) -> 0 | J27: =SUM(B27:H27) -> 37.216667 | K27: =J27-A6 -> 37.216667 | L27: =K27/24 -> 1.5506944 | M27: =IF(L27<0,"-"," ")&TEXT(ABS(L27),"[h]:mm") -> 37:13
I28: Moyenne hebdomadaire | J28: =SUM(J20:J27)/8 -> 35.38125 | K28: =SUM(K20:K27)/8 -> 35.38125 | L28: =SUM(L20:L27)/8 -> 1.4742187 | M28: =IF(L28<0,"-"," ")&TEXT(ABS(L28),"[h]:mm") -> 35:22
J31: POINTS | K31: Différence
B32: Lundi | C32: Mardi | D32: Mercredi | E32: Jeudi | F32: Vendredi | G32: Samedi | H32: Dimanche | K32: DEPART | M32: ARRIVEE
A33: 1 | B33: =VLOOKUP(D10,'Valeur POINT'!A4:B40,2) -> 7 | C33: =VLOOKUP(E10,'Valeur POINT'!A4:B40,2) -> -22 | D33: =VLOOKUP(F10,'Valeur POINT'!A4:B40,2) -> 2 | E33: =VLOOKUP(G10,'Valeur POINT'!A4:B40,2) -> -1 | F33: =VLOOKUP(H10,'Valeur POINT'!A4:B40,2) -> -1 | G33: =VLOOKUP(I10,'Valeur POINT'!D4:E40,2) -> RN | H33: =VLOOKUP(J10,'Valeur POINT'!G4:H40,2) -> RN | J33: =SUM(B33:H33) -> -15 | K33: 870 | L33: =#REF!/24 -> #REF! | M33: =SUM(K33+J41) -> 649
A34: 2 | B34: =VLOOKUP(D11,'Valeur POINT'!A4:B40,2) -> RN | C34: =VLOOKUP(E11,'Valeur POINT'!A4:B40,2) -> -22 | D34: =VLOOKUP(F11,'Valeur POINT'!A4:B40,2) -> 2 | E34: =VLOOKUP(G11,'Valeur POINT'!A4:B40,2) -> -1 | F34: =VLOOKUP(H11,'Valeur POINT'!A4:B40,2) -> -1 | G34: =VLOOKUP(I11,'Valeur POINT'!D4:E40,2) -> 3 | H34: =VLOOKUP(J11,'Valeur POINT'!G4:H40,2) -> RN | J34: =SUM(B34:H34) -> -19 | L34: =K34/24 -> 0
A35: 3 | B35: =VLOOKUP(D12,'Valeur POINT'!A4:B40,2) -> -1 | C35: =VLOOKUP(E12,'Valeur POINT'!A4:B40,2) -> RN | D35: =VLOOKUP(F12,'Valeur POINT'!A4:B40,2) -> 18 | E35: =VLOOKUP(G12,'Valeur POINT'!A4:B40,2) -> 2 | F35: =VLOOKUP(H12,'Valeur POINT'!A4:B40,2) -> -22 | G35: =VLOOKUP(I12,'Valeur POINT'!D4:E40,2) -> -17 | H35: =VLOOKUP(J12,'Valeur POINT'!G4:H40,2) -> RN | J35: =SUM(B35:H35) -> -20 | L35: =K35/24 -> 0
A36: 4 | B36: =VLOOKUP(D13,'Valeur POINT'!A4:B40,2) -> RN | C36: =VLOOKUP(E13,'Valeur POINT'!A4:B40,2) -> 2 | D36: =VLOOKUP(F13,'Valeur POINT'!A4:B40,2) -> -22 | E36: =VLOOKUP(G13,'Valeur POINT'!A4:B40,2) -> 7 | F36: =VLOOKUP(H13,'Valeur POINT'!A4:B40,2) -> 7 | G36: =VLOOKUP(I13,'Valeur POINT'!D4:E40,2) -> RN | H36: =VLOOKUP(J13,'Valeur POINT'!G4:H40,2) -> RN | J36: =SUM(B36:H36) -> -6 | L36: =K36/24 -> 0
A37: 5 | B37: =VLOOKUP(D14,'Valeur POINT'!A4:B40,2) -> -22 | C37: =VLOOKUP(E14,'Valeur POINT'!A4:B40,2) -> -1 | D37: =VLOOKUP(F14,'Valeur POINT'!A4:B40,2) -> 2 | E37: =VLOOKUP(G14,'Valeur POINT'!A4:B40,2) -> RN | F37: =VLOOKUP(H14,'Valeur POINT'!A4:B40,2) -> RN | G37: =VLOOKUP(I14,'Valeur POINT'!D4:E40,2) -> 5 | H37: =VLOOKUP(J14,'Valeur POINT'!G4:H40,2) -> 1 | J37: =SUM(B37:H37) -> -15 | L37: =K37/24 -> 0
A38: 6 | B38: =VLOOKUP(D15,'Valeur POINT'!A4:B40,2) -> 2 | C38: =VLOOKUP(E15,'Valeur POINT'!A4:B40,2) -> -3 | D38: =VLOOKUP(F15,'Valeur POINT'!A4:B40,2) -> RN | E38: =VLOOKUP(G15,'Valeur POINT'!A4:B40,2) -> -22 | F38: =VLOOKUP(H15,'Valeur POINT'!A4:B40,2) -> -22 | G38: =VLOOKUP(I15,'Valeur POINT'!D4:E40,2) -> -6 | H38: =VLOOKUP(J15,'Valeur POINT'!G4:H40,2) -> 1 | J38: =SUM(B38:H38) -> -50 | L38: =K38/24 -> 0
A39: 7 | B39: =VLOOKUP(D16,'Valeur POINT'!A4:B40,2) -> RN | C39: =VLOOKUP(E16,'Valeur POINT'!A4:B40,2) -> RN | D39: =VLOOKUP(F16,'Valeur POINT'!A4:B40,2) -> -22 | E39: =VLOOKUP(G16,'Valeur POINT'!A4:B40,2) -> -1 | F39: =VLOOKUP(H16,'Valeur POINT'!A4:B40,2) -> -1 | G39: =VLOOKUP(I16,'Valeur POINT'!D4:E40,2) -> -17 | H39: =VLOOKUP(J16,'Valeur POINT'!G4:H40,2) -> RN | J39: =SUM(B39:H39) -> -41 | L39: =K39/24 -> 0
A40: 8 | B40: =VLOOKUP(D17,'Valeur POINT'!A4:B40,2) -> -1 | C40: =VLOOKUP(E17,'Valeur POINT'!A4:B40,2) -> -1 | D40: =VLOOKUP(F17,'Valeur POINT'!A4:B40,2) -> -1 | E40: =VLOOKUP(G17,'Valeur POINT'!A4:B40,2) -> -22 | F40: =VLOOKUP(H17,'Valeur POINT'!A4:B40,2) -> -30 | G40: =VLOOKUP(I17,'Valeur POINT'!D4:E40,2) -> RN | H40: =VLOOKUP(J17,'Valeur POINT'!G4:H40,2) -> RN | J40: =SUM(B40:H40) -> -55 | L40: =K40/24 -> 0
J41: =SUM(J33:J40) -> -221 | L41: =SUM(L33:L40)/8 -> #REF!

Sheet Roulement conducteur 2
D2: Simulation de roulement A
A5: N° Paie | C5: 55015 | G5: Points restant | H5: =M33 -> 565 | I5: Moyenne Hebdo | J5: =M28 -> 35:51
C6: =IF(C5="","",VLOOKUP(C5,Conducteurs!$A$2:$C$600,2,0)) -> a m
D9: Lundi | E9: Mardi | F9: Mercredi | G9: Jeudi | H9: Vendredi | I9: Samedi | J9: Dimanche
C10: 1 | D10: A031 | E10: A031 | F10: A031 | G10: A004 | H10: RN | I10: A002 | J10: A001
C11: 2 | D11: A016 | E11: A002 | F11: RN | G11: RN | H11: A006 | I11: A021 | J11: A003
C12: 3 | D12: A004 | E12: RN | F12: A011 | G12: A008 | H12: A002 | I12: A003 | J12: RN
C13: 4 | D13: RN | E13: A003 | F13: A002 | G13: A001 | H13: A001 | I13: RN | J13: RN
C14: 5 | D14: A002 | E14: A004 | F14: A003 | G14: RN | H14: RN | I14: A002 | J14: A007
C15: 6 | D15: A003 | E15: A036 | F15: RN | G15: A002 | H15: A002 | I15: A017 | J15: A032
C16: 7 | D16: RN | E16: RN | F16: A002 | G16: A004 | H16: A004 | I16: A003 | J16: RN
C17: 8 | D17: A005 | E17: A004 | F17: A004 | G17: A002 | H17: A011 | I17: RN | J17: RN
J18: Durée hebdomadaire | K18: Différence
B19: Lundi | C19: Mardi | D19: Mercredi | E19: Jeudi | F19: Vendredi | G19: Samedi | H19: Dimanche | K19: Centième | M19: Heure
A20: 1 | B20: =VLOOKUP(D10,'Valeur horaireR'!A4:B40,2) -> 7.55 | C20: =VLOOKUP(E10,'Valeur horaireR'!A4:B40,2) -> 7.55 | D20: =VLOOKUP(F10,'Valeur horaireR'!A4:B40,2) -> 7.55 | E20: =VLOOKUP(G10,'Valeur horaireR'!A4:B40,2) -> 6.35 | F20: =VLOOKUP(H10,'Valeur horaireR'!A4:B40,2) -> RN | G20: =VLOOKUP(I10,'Valeur horaireR'!D4:E40,2) -> 6.0833333 | H20: =VLOOKUP(J10,'Valeur horaireR'!G4:H40,2) -> 5.9166667 | J20: =SUM(B20:H20) -> 41 | K20: =J20-A6 -> 41 | L20: =K20/24 -> 1.7083333 | M20: =IF(L20<0,"-"," ")&TEXT(ABS(L20),"[h]:mm") -> 41:00
A21: 2 | B21: =VLOOKUP(D11,'Valeur horaireR'!A4:B40,2) -> 8.1666667 | C21: =VLOOKUP(E11,'Valeur horaireR'!A4:B40,2) -> 8.45 | D21: =VLOOKUP(F11,'Valeur horaireR'!A4:B40,2) -> RN | E21: =VLOOKUP(G11,'Valeur horaireR'!A4:B40,2) -> RN | F21: =VLOOKUP(H11,'Valeur horaireR'!A4:B40,2) -> 7.1666667 | G21: =VLOOKUP(I11,'Valeur horaireR'!D4:E40,2) -> 7.8666667 | H21: =VLOOKUP(J11,'Valeur horaireR'!G4:H40,2) -> 5.3333333 | J21: =SUM(B21:H21) -> 36.983333 | K21: =J21-A6 -> 36.983333 | L21: =K21/24 -> 1.5409722 | M21: =IF(L21<0,"-"," ")&TEXT(ABS(L21),"[h]:mm") -> 36:59
A22: 3 | B22: =VLOOKUP(D12,'Valeur horaireR'!A4:B40,2) -> 6.35 | C22: =VLOOKUP(E12,'Valeur horaireR'!A4:B40,2) -> RN | D22: =VLOOKUP(F12,'Valeur horaireR'!A4:B40,2) -> 8.0833333 | E22: =VLOOKUP(G12,'Valeur horaireR'!A4:B40,2) -> 7.6 | F22: =VLOOKUP(H12,'Valeur horaireR'!A4:B40,2) -> 8.45 | G22: =VLOOKUP(I12,'Valeur horaireR'!D4:E40,2) -> 7.55 | H22: =VLOOKUP(J12,'Valeur horaireR'!G4:H40,2) -> 0 | J22: =SUM(B22:H22) -> 38.033333 | K22: =J22-A6 -> 38.033333 | L22: =K22/24 -> 1.5847222 | M22: =IF(L22<0,"-"," ")&TEXT(ABS(L22),"[h]:mm") -> 38:02
A23: 4 | B23: =VLOOKUP(D13,'Valeur horaireR'!A4:B40,2) -> RN | C23: =VLOOKUP(E13,'Valeur horaireR'!A4:B40,2) -> 7.5 | D23: =VLOOKUP(F13,'Valeur horaireR'!A4:B40,2) -> 8.45 | E23: =VLOOKUP(G13,'Valeur horaireR'!A4:B40,2) -> 8.4166667 | F23: =VLOOKUP(H13,'Valeur horaireR'!A4:B40,2) -> 8.4166667 | G23: =VLOOKUP(I13,'Valeur horaireR'!D4:E40,2) -> RN | H23: =VLOOKUP(J13,'Valeur horaireR'!G4:H40,2) -> 0 | J23: =SUM(B23:H23) -> 32.783333 | K23: =J23-A6 -> 32.783333 | L23: =K23/24 -> 1.3659722 | M23: =IF(L23<0,"-"," ")&TEXT(ABS(L23),"[h]:mm") -> 32:47
A24: 5 | B24: =VLOOKUP(D14,'Valeur horaireR'!A4:B40,2) -> 8.45 | C24: =VLOOKUP(E14,'Valeur horaireR'!A4:B40,2) -> 6.35 | D24: =VLOOKUP(F14,'Valeur horaireR'!A4:B40,2) -> 7.5 | E24: =VLOOKUP(G14,'Valeur horaireR'!A4:B40,2) -> RN | F24: =VLOOKUP(H14,'Valeur horaireR'!A4:B40,2) -> RN | G24: =VLOOKUP(I14,'Valeur horaireR'!D4:E40,2) -> 6.0833333 | H24: =VLOOKUP(J14,'Valeur horaireR'!G4:H40,2) -> 5.75 | J24: =SUM(B24:H24) -> 34.133333 | K24: =J24-A6 -> 34.133333 | L24: =K24/24 -> 1.4222222 | M24: =IF(L24<0,"-"," ")&TEXT(ABS(L24),"[h]:mm") -> 34:08
A25: 6 | B25: =VLOOKUP(D15,'Valeur horaireR'!A4:B40,2) -> 7.5 | C25: =VLOOKUP(E15,'Valeur horaireR'!A4:B40,2) -> 6.45 | D25: =VLOOKUP(F15,'Valeur horaireR'!A4:B40,2) -> RN | E25: =VLOOKUP(G15,'Valeur horaireR'!A4:B40,2) -> 8.45 | F25: =VLOOKUP(H15,'Valeur horaireR'!A4:B40,2) -> 8.45 | G25: =VLOOKUP(I15,'Valeur horaireR'!D4:E40,2) -> 7.1666667 | H25: =VLOOKUP(J15,'Valeur horaireR'!G4:H40,2) -> 0 | J25: =SUM(B25:H25) -> 38.016667 | K25: =J25-A6 -> 38.016667 | L25: =K25/24 -> 1.5840278 | M25: =IF(L25<0,"-"," ")&TEXT(ABS(L25),"[h]:mm") -> 38:01
A26: 7 | B26: =VLOOKUP(D16,'Valeur horaireR'!A4:B40,2) -> RN | C26: =VLOOKUP(E16,'Valeur horaireR'!A4:B40,2) -> RN | D26: =VLOOKUP(F16,'Valeur horaireR'!A4:B40,2) -> 8.45 | E26: =VLOOKUP(G16,'Valeur horaireR'!A4:B40,2) -> 6.35 | F26: =VLOOKUP(H16,'Valeur horaireR'!A4:B40,2) -> 6.35 | G26: =VLOOKUP(I16,'Valeur horaireR'!D4:E40,2) -> 7.55 | H26: =VLOOKUP(J16,'Valeur horaireR'!G4:H40,2) -> 0 | J26: =SUM(B26:H26) -> 28.7 | K26: =J26-A6 -> 28.7 | L26: =K26/24 -> 1.1958333 | M26: =IF(L26<0,"-"," ")&TEXT(ABS(L26),"[h]:mm") -> 28:42
A27: 8 | B27: =VLOOKUP(D17,'Valeur horaireR'!A4:B40,2) -> 7.9833333 | C27: =VLOOKUP(E17,'Valeur horaireR'!A4:B40,2) -> 6.35 | D27: =VLOOKUP(F17,'Valeur horaireR'!A4:B40,2) -> 6.35 | E27: =VLOOKUP(G17,'Valeur horaireR'!A4:B40,2) -> 8.45 | F27: =VLOOKUP(H17,'Valeur horaireR'!A4:B40,2) -> 8.0833333 | G27: =VLOOKUP(I17,'Valeur horaireR'!D4:E40,2) -> RN | H27: =VLOOKUP(J17,'Valeur horaireR'!G4:H40,2) -> 0 | J27: =SUM(B27:H27) -> 37.216667 | K27: =J27-A6 -> 37.216667 | L27: =K27/24 -> 1.5506944 | M27: =IF(L27<0,"-"," ")&TEXT(ABS(L27),"[h]:mm") -> 37:13
I28: Moyenne hebdomadaire | J28: =SUM(J20:J27)/8 -> 35.858333 | K28: =SUM(K20:K27)/8 -> 35.858333 | L28: =SUM(L20:L27)/8 -> 1.4940972 | M28: =IF(L28<0,"-"," ")&TEXT(ABS(L28),"[h]:mm") -> 35:51
J31: POINTS | K31: Différence
B32: Lundi | C32: Mardi | D32: Mercredi | E32: Jeudi | F32: Vendredi | G32: Samedi | H32: Dimanche | K32: DEPART | M32: ARRIVEE
A33: 1 | B33: =VLOOKUP(D10,'Valeur POINT'!A4:B40,2) -> 1 | C33: =VLOOKUP(E10,'Valeur POINT'!A4:B40,2) -> 1 | D33: =VLOOKUP(F10,'Valeur POINT'!A4:B40,2) -> 1 | E33: =VLOOKUP(G10,'Valeur POINT'!A4:B40,2) -> -1 | F33: =VLOOKUP(H10,'Valeur POINT'!A4:B40,2) -> RN | G33: =VLOOKUP(I10,'Valeur POINT'!D4:E40,2) -> 5 | H33: =VLOOKUP(J10,'Valeur POINT'!G4:H40,2) -> -16 | J33: =SUM(B33:H33) -> -9 | K33: 870 | L33: =#REF!/24 -> #REF! | M33: =SUM(K33+J41) -> 565
A34: 2 | B34: =VLOOKUP(D11,'Valeur POINT'!A4:B40,2) -> 15 | C34: =VLOOKUP(E11,'Valeur POINT'!A4:B40,2) -> -22 | D34: =VLOOKUP(F11,'Valeur POINT'!A4:B40,2) -> RN | E34: =VLOOKUP(G11,'Valeur POINT'!A4:B40,2) -> RN | F34: =VLOOKUP(H11,'Valeur POINT'!A4:B40,2) -> -3 | G34: =VLOOKUP(I11,'Valeur POINT'!D4:E40,2) -> -7 | H34: =VLOOKUP(J11,'Valeur POINT'!G4:H40,2) -> 4 | J34: =SUM(B34:H34) -> -13 | L34: =K34/24 -> 0
A35: 3 | B35: =VLOOKUP(D12,'Valeur POINT'!A4:B40,2) -> -1 | C35: =VLOOKUP(E12,'Valeur POINT'!A4:B40,2) -> RN | D35: =VLOOKUP(F12,'Valeur POINT'!A4:B40,2) -> -30 | E35: =VLOOKUP(G12,'Valeur POINT'!A4:B40,2) -> -46 | F35: =VLOOKUP(H12,'Valeur POINT'!A4:B40,2) -> -22 | G35: =VLOOKUP(I12,'Valeur POINT'!D4:E40,2) -> -17 | H35: =VLOOKUP(J12,'Valeur POINT'!G4:H40,2) -> RN | J35: =SUM(B35:H35) -> -116 | L35: =K35/24 -> 0
A36: 4 | B36: =VLOOKUP(D13,'Valeur POINT'!A4:B40,2) -> RN | C36: =VLOOKUP(E13,'Valeur POINT'!A4:B40,2) -> 2 | D36: =VLOOKUP(F13,'Valeur POINT'!A4:B40,2) -> -22 | E36: =VLOOKUP(G13,'Valeur POINT'!A4:B40,2) -> 7 | F36: =VLOOKUP(H13,'Valeur POINT'!A4:B40,2) -> 7 | G36: =VLOOKUP(I13,'Valeur POINT'!D4:E40,2) -> RN | H36: =VLOOKUP(J13,'Valeur POINT'!G4:H40,2) -> RN | J36: =SUM(B36:H36) -> -6 | L36: =K36/24 -> 0
A37: 5 | B37: =VLOOKUP(D14,'Valeur POINT'!A4:B40,2) -> -22 | C37: =VLOOKUP(E14,'Valeur POINT'!A4:B40,2) -> -1 | D37: =VLOOKUP(F14,'Valeur POINT'!A4:B40,2) -> 2 | E37: =VLOOKUP(G14,'Valeur POINT'!A4:B40,2) -> RN | F37: =VLOOKUP(H14,'Valeur POINT'!A4:B40,2) -> RN | G37: =VLOOKUP(I14,'Valeur POINT'!D4:E40,2) -> 5 | H37: =VLOOKUP(J14,'Valeur POINT'!G4:H40,2) -> 1 | J37: =SUM(B37:H37) -> -15 | L37: =K37/24 -> 0
A38: 6 | B38: =VLOOKUP(D15,'Valeur POINT'!A4:B40,2) -> 2 | C38: =VLOOKUP(E15,'Valeur POINT'!A4:B40,2) -> -3 | D38: =VLOOKUP(F15,'Valeur POINT'!A4:B40,2) -> RN | E38: =VLOOKUP(G15,'Valeur POINT'!A4:B40,2) -> -22 | F38: =VLOOKUP(H15,'Valeur POINT'!A4:B40,2) -> -22 | G38: =VLOOKUP(I15,'Valeur POINT'!D4:E40,2) -> -6 | H38: =VLOOKUP(J15,'Valeur POINT'!G4:H40,2) -> 1 | J38: =SUM(B38:H38) -> -50 | L38: =K38/24 -> 0
A39: 7 | B39: =VLOOKUP(D16,'Valeur POINT'!A4:B40,2) -> RN | C39: =VLOOKUP(E16,'Valeur POINT'!A4:B40,2) -> RN | D39: =VLOOKUP(F16,'Valeur POINT'!A4:B40,2) -> -22 | E39: =VLOOKUP(G16,'Valeur POINT'!A4:B40,2) -> -1 | F39: =VLOOKUP(H16,'Valeur POINT'!A4:B40,2) -> -1 | G39: =VLOOKUP(I16,'Valeur POINT'!D4:E40,2) -> -17 | H39: =VLOOKUP(J16,'Valeur POINT'!G4:H40,2) -> RN | J39: =SUM(B39:H39) -> -41 | L39: =K39/24 -> 0
A40: 8 | B40: =VLOOKUP(D17,'Valeur POINT'!A4:B40,2) -> -1 | C40: =VLOOKUP(E17,'Valeur POINT'!A4:B40,2) -> -1 | D40: =VLOOKUP(F17,'Valeur POINT'!A4:B40,2) -> -1 | E40: =VLOOKUP(G17,'Valeur POINT'!A4:B40,2) -> -22 | F40: =VLOOKUP(H17,'Valeur POINT'!A4:B40,2) -> -30 | G40: =VLOOKUP(I17,'Valeur POINT'!D4:E40,2) -> RN | H40: =VLOOKUP(J17,'Valeur POINT'!G4:H40,2) -> RN | J40: =SUM(B40:H40) -> -55 | L40: =K40/24 -> 0
J41: =SUM(J33:J40) -> -305 | L41: =SUM(L33:L40)/8 -> #REF!

Sheet Roulement conducteur 3
D2: Simulation de roulement A
A5: N° Paie | C5: 55015 | G5: Points restant | H5: =M33 -> 661 | I5: Moyenne Hebdo | J5: =M28 -> 35:45
C6: =IF(C5="","",VLOOKUP(C5,Conducteurs!$A$2:$C$600,2,0)) -> a m
D9: Lundi | E9: Mardi | F9: Mercredi | G9: Jeudi | H9: Vendredi | I9: Samedi | J9: Dimanche
C10: 1 | D10: A031 | E10: A031 | F10: A031 | G10: A004 | H10: RN | I10: A002 | J10: A001
C11: 2 | D11: A016 | E11: A002 | F11: RN | G11: RN | H11: A006 | I11: A021 | J11: A003
C12: 3 | D12: A004 | E12: RN | F12: A007 | G12: A003 | H12: A002 | I12: A003 | J12: RN
C13: 4 | D13: RN | E13: A003 | F13: A002 | G13: A001 | H13: A001 | I13: RN | J13: RN
C14: 5 | D14: A002 | E14: A004 | F14: A003 | G14: RN | H14: RN | I14: A002 | J14: A007
C15: 6 | D15: A003 | E15: A036 | F15: RN | G15: A002 | H15: A002 | I15: A017 | J15: A031
C16: 7 | D16: RN | E16: RN | F16: A002 | G16: A004 | H16: A004 | I16: A003 | J16: RN
C17: 8 | D17: A005 | E17: A004 | F17: A004 | G17: A002 | H17: A011 | I17: RN | J17: RN
J18: Durée hebdomadaire | K18: Différence
B19: Lundi | C19: Mardi | D19: Mercredi | E19: Jeudi | F19: Vendredi | G19: Samedi | H19: Dimanche | K19: Centième | M19: Heure
A20: 1 | B20: =VLOOKUP(D10,'Valeur horaireR'!A4:B40,2) -> 7.55 | C20: =VLOOKUP(E10,'Valeur horaireR'!A4:B40,2) -> 7.55 | D20: =VLOOKUP(F10,'Valeur horaireR'!A4:B40,2) -> 7.55 | E20: =VLOOKUP(G10,'Valeur horaireR'!A4:B40,2) -> 6.35 | F20: =VLOOKUP(H10,'Valeur horaireR'!A4:B40,2) -> RN | G20: =VLOOKUP(I10,'Valeur horaireR'!D4:E40,2) -> 6.0833333 | H20: =VLOOKUP(J10,'Valeur horaireR'!G4:H40,2) -> 5.9166667 | J20: =SUM(B20:H20) -> 41 | K20: =J20-A6 -> 41 | L20: =K20/24 -> 1.7083333 | M20: =IF(L20<0,"-"," ")&TEXT(ABS(L20),"[h]:mm") -> 41:00
A21: 2 | B21: =VLOOKUP(D11,'Valeur horaireR'!A4:B40,2) -> 8.1666667 | C21: =VLOOKUP(E11,'Valeur horaireR'!A4:B40,2) -> 8.45 | D21: =VLOOKUP(F11,'Valeur horaireR'!A4:B40,2) -> RN | E21: =VLOOKUP(G11,'Valeur horaireR'!A4:B40,2) -> RN | F21: =VLOOKUP(H11,'Valeur horaireR'!A4:B40,2) -> 7.1666667 | G21: =VLOOKUP(I11,'Valeur horaireR'!D4:E40,2) -> 7.8666667 | H21: =VLOOKUP(J11,'Valeur horaireR'!G4:H40,2) -> 5.3333333 | J21: =SUM(B21:H21) -> 36.983333 | K21: =J21-A6 -> 36.983333 | L21: =K21/24 -> 1.5409722 | M21: =IF(L21<0,"-"," ")&TEXT(ABS(L21),"[h]:mm") -> 36:59
A22: 3 | B22: =VLOOKUP(D12,'Valeur horaireR'!A4:B40,2) -> 6.35 | C22: =VLOOKUP(E12,'Valeur horaireR'!A4:B40,2) -> RN | D22: =VLOOKUP(F12,'Valeur horaireR'!A4:B40,2) -> 7.4333333 | E22: =VLOOKUP(G12,'Valeur horaireR'!A4:B40,2) -> 7.5 | F22: =VLOOKUP(H12,'Valeur horaireR'!A4:B40,2) -> 8.45 | G22: =VLOOKUP(I12,'Valeur horaireR'!D4:E40,2) -> 7.55 | H22: =VLOOKUP(J12,'Valeur horaireR'!G4:H40,2) -> 0 | J22: =SUM(B22:H22) -> 37.283333 | K22: =J22-A6 -> 37.283333 | L22: =K22/24 -> 1.5534722 | M22: =IF(L22<0,"-"," ")&TEXT(ABS(L22),"[h]:mm") -> 37:17
A23: 4 | B23: =VLOOKUP(D13,'Valeur horaireR'!A4:B40,2) -> RN | C23: =VLOOKUP(E13,'Valeur horaireR'!A4:B40,2) -> 7.5 | D23: =VLOOKUP(F13,'Valeur horaireR'!A4:B40,2) -> 8.45 | E23: =VLOOKUP(G13,'Valeur horaireR'!A4:B40,2) -> 8.4166667 | F23: =VLOOKUP(H13,'Valeur horaireR'!A4:B40,2) -> 8.4166667 | G23: =VLOOKUP(I13,'Valeur horaireR'!D4:E40,2) -> RN | H23: =VLOOKUP(J13,'Valeur horaireR'!G4:H40,2) -> 0 | J23: =SUM(B23:H23) -> 32.783333 | K23: =J23-A6 -> 32.783333 | L23: =K23/24 -> 1.3659722 | M23: =IF(L23<0,"-"," ")&TEXT(ABS(L23),"[h]:mm") -> 32:47
A24: 5 | B24: =VLOOKUP(D14,'Valeur horaireR'!A4:B40,2) -> 8.45 | C24: =VLOOKUP(E14,'Valeur horaireR'!A4:B40,2) -> 6.35 | D24: =VLOOKUP(F14,'Valeur horaireR'!A4:B40,2) -> 7.5 | E24: =VLOOKUP(G14,'Valeur horaireR'!A4:B40,2) -> RN | F24: =VLOOKUP(H14,'Valeur horaireR'!A4:B40,2) -> RN | G24: =VLOOKUP(I14,'Valeur horaireR'!D4:E40,2) -> 6.0833333 | H24: =VLOOKUP(J14,'Valeur horaireR'!G4:H40,2) -> 5.75 | J24: =SUM(B24:H24) -> 34.133333 | K24: =J24-A6 -> 34.133333 | L24: =K24/24 -> 1.4222222 | M24: =IF(L24<0,"-"," ")&TEXT(ABS(L24),"[h]:mm") -> 34:08
A25: 6 | B25: =VLOOKUP(D15,'Valeur horaireR'!A4:B40,2) -> 7.5 | C25: =VLOOKUP(E15,'Valeur horaireR'!A4:B40,2) -> 6.45 | D25: =VLOOKUP(F15,'Valeur horaireR'!A4:B40,2) -> RN | E25: =VLOOKUP(G15,'Valeur horaireR'!A4:B40,2) -> 8.45 | F25: =VLOOKUP(H15,'Valeur horaireR'!A4:B40,2) -> 8.45 | G25: =VLOOKUP(I15,'Valeur horaireR'!D4:E40,2) -> 7.1666667 | H25: =VLOOKUP(J15,'Valeur horaireR'!G4:H40,2) -> 0 | J25: =SUM(B25:H25) -> 38.016667 | K25: =J25-A6 -> 38.016667 | L25: =K25/24 -> 1.5840278 | M25: =IF(L25<0,"-"," ")&TEXT(ABS(L25),"[h]:mm") -> 38:01
A26: 7 | B26: =VLOOKUP(D16,'Valeur horaireR'!A4:B40,2) -> RN | C26: =VLOOKUP(E16,'Valeur horaireR'!A4:B40,2) -> RN | D26: =VLOOKUP(F16,'Valeur horaireR'!A4:B40,2) -> 8.45 | E26: =VLOOKUP(G16,'Valeur horaireR'!A4:B40,2) -> 6.35 | F26: =VLOOKUP(H16,'Valeur horaireR'!A4:B40,2) -> 6.35 | G26: =VLOOKUP(I16,'Valeur horaireR'!D4:E40,2) -> 7.55 | H26: =VLOOKUP(J16,'Valeur horaireR'!G4:H40,2) -> 0 | J26: =SUM(B26:H26) -> 28.7 | K26: =J26-A6 -> 28.7 | L26: =K26/24 -> 1.1958333 | M26: =IF(L26<0,"-"," ")&TEXT(ABS(L26),"[h]:mm") -> 28:42
A27: 8 | B27: =VLOOKUP(D17,'Valeur horaireR'!A4:B40,2) -> 7.9833333 | C27: =VLOOKUP(E17,'Valeur horaireR'!A4:B40,2) -> 6.35 | D27: =VLOOKUP(F17,'Valeur horaireR'!A4:B40,2) -> 6.35 | E27: =VLOOKUP(G17,'Valeur horaireR'!A4:B40,2) -> 8.45 | F27: =VLOOKUP(H17,'Valeur horaireR'!A4:B40,2) -> 8.0833333 | G27: =VLOOKUP(I17,'Valeur horaireR'!D4:E40,2) -> RN | H27: =VLOOKUP(J17,'Valeur horaireR'!G4:H40,2) -> 0 | J27: =SUM(B27:H27) -> 37.216667 | K27: =J27-A6 -> 37.216667 | L27: =K27/24 -> 1.5506944 | M27: =IF(L27<0,"-"," ")&TEXT(ABS(L27),"[h]:mm") -> 37:13
I28: Moyenne hebdomadaire | J28: =SUM(J20:J27)/8 -> 35.764583 | K28: =SUM(K20:K27)/8 -> 35.764583 | L28: =SUM(L20:L27)/8 -> 1.490191 | M28: =IF(L28<0,"-"," ")&TEXT(ABS(L28),"[h]:mm") -> 35:45
J31: POINTS | K31: Différence
B32: Lundi | C32: Mardi | D32: Mercredi | E32: Jeudi | F32: Vendredi | G32: Samedi | H32: Dimanche | K32: DEPART | M32: ARRIVEE
A33: 1 | B33: =VLOOKUP(D10,'Valeur POINT'!A4:B40,2) -> 1 | C33: =VLOOKUP(E10,'Valeur POINT'!A4:B40,2) -> 1 | D33: =VLOOKUP(F10,'Valeur POINT'!A4:B40,2) -> 1 | E33: =VLOOKUP(G10,'Valeur POINT'!A4:B40,2) -> -1 | F33: =VLOOKUP(H10,'Valeur POINT'!A4:B40,2) -> RN | G33: =VLOOKUP(I10,'Valeur POINT'!D4:E40,2) -> 5 | H33: =VLOOKUP(J10,'Valeur POINT'!G4:H40,2) -> -16 | J33: =SUM(B33:H33) -> -9 | K33: 870 | L33: =#REF!/24 -> #REF! | M33: =SUM(K33+J41) -> 661
A34: 2 | B34: =VLOOKUP(D11,'Valeur POINT'!A4:B40,2) -> 15 | C34: =VLOOKUP(E11,'Valeur POINT'!A4:B40,2) -> -22 | D34: =VLOOKUP(F11,'Valeur POINT'!A4:B40,2) -> RN | E34: =VLOOKUP(G11,'Valeur POINT'!A4:B40,2) -> RN | F34: =VLOOKUP(H11,'Valeur POINT'!A4:B40,2) -> -3 | G34: =VLOOKUP(I11,'Valeur POINT'!D4:E40,2) -> -7 | H34: =VLOOKUP(J11,'Valeur POINT'!G4:H40,2) -> 4 | J34: =SUM(B34:H34) -> -13 | L34: =K34/24 -> 0
A35: 3 | B35: =VLOOKUP(D12,'Valeur POINT'!A4:B40,2) -> -1 | C35: =VLOOKUP(E12,'Valeur POINT'!A4:B40,2) -> RN | D35: =VLOOKUP(F12,'Valeur POINT'!A4:B40,2) -> 18 | E35: =VLOOKUP(G12,'Valeur POINT'!A4:B40,2) -> 2 | F35: =VLOOKUP(H12,'Valeur POINT'!A4:B40,2) -> -22 | G35: =VLOOKUP(I12,'Valeur POINT'!D4:E40,2) -> -17 | H35: =VLOOKUP(J12,'Valeur POINT'!G4:H40,2) -> RN | J35: =SUM(B35:H35) -> -20 | L35: =K35/24 -> 0
A36: 4 | B36: =VLOOKUP(D13,'Valeur POINT'!A4:B40,2) -> RN | C36: =VLOOKUP(E13,'Valeur POINT'!A4:B40,2) -> 2 | D36: =VLOOKUP(F13,'Valeur POINT'!A4:B40,2) -> -22 | E36: =VLOOKUP(G13,'Valeur POINT'!A4:B40,2) -> 7 | F36: =VLOOKUP(H13,'Valeur POINT'!A4:B40,2) -> 7 | G36: =VLOOKUP(I13,'Valeur POINT'!D4:E40,2) -> RN | H36: =VLOOKUP(J13,'Valeur POINT'!G4:H40,2) -> RN | J36: =SUM(B36:H36) -> -6 | L36: =K36/24 -> 0
A37: 5 | B37: =VLOOKUP(D14,'Valeur POINT'!A4:B40,2) -> -22 | C37: =VLOOKUP(E14,'Valeur POINT'!A4:B40,2) -> -1 | D37: =VLOOKUP(F14,'Valeur POINT'!A4:B40,2) -> 2 | E37: =VLOOKUP(G14,'Valeur POINT'!A4:B40,2) -> RN | F37: =VLOOKUP(H14,'Valeur POINT'!A4:B40,2) -> RN | G37: =VLOOKUP(I14,'Valeur POINT'!D4:E40,2) -> 5 | H37: =VLOOKUP(J14,'Valeur POINT'!G4:H40,2) -> 1 | J37: =SUM(B37:H37) -> -15 | L37: =K37/24 -> 0
A38: 6 | B38: =VLOOKUP(D15,'Valeur POINT'!A4:B40,2) -> 2 | C38: =VLOOKUP(E15,'Valeur POINT'!A4:B40,2) -> -3 | D38: =VLOOKUP(F15,'Valeur POINT'!A4:B40,2) -> RN | E38: =VLOOKUP(G15,'Valeur POINT'!A4:B40,2) -> -22 | F38: =VLOOKUP(H15,'Valeur POINT'!A4:B40,2) -> -22 | G38: =VLOOKUP(I15,'Valeur POINT'!D4:E40,2) -> -6 | H38: =VLOOKUP(J15,'Valeur POINT'!G4:H40,2) -> 1 | J38: =SUM(B38:H38) -> -50 | L38: =K38/24 -> 0
A39: 7 | B39: =VLOOKUP(D16,'Valeur POINT'!A4:B40,2) -> RN | C39: =VLOOKUP(E16,'Valeur POINT'!A4:B40,2) -> RN | D39: =VLOOKUP(F16,'Valeur POINT'!A4:B40,2) -> -22 | E39: =VLOOKUP(G16,'Valeur POINT'!A4:B40,2) -> -1 | F39: =VLOOKUP(H16,'Valeur POINT'!A4:B40,2) -> -1 | G39: =VLOOKUP(I16,'Valeur POINT'!D4:E40,2) -> -17 | H39: =VLOOKUP(J16,'Valeur POINT'!G4:H40,2) -> RN | J39: =SUM(B39:H39) -> -41 | L39: =K39/24 -> 0
A40: 8 | B40: =VLOOKUP(D17,'Valeur POINT'!A4:B40,2) -> -1 | C40: =VLOOKUP(E17,'Valeur POINT'!A4:B40,2) -> -1 | D40: =VLOOKUP(F17,'Valeur POINT'!A4:B40,2) -> -1 | E40: =VLOOKUP(G17,'Valeur POINT'!A4:B40,2) -> -22 | F40: =VLOOKUP(H17,'Valeur POINT'!A4:B40,2) -> -30 | G40: =VLOOKUP(I17,'Valeur POINT'!D4:E40,2) -> RN | H40: =VLOOKUP(J17,'Valeur POINT'!G4:H40,2) -> RN | J40: =SUM(B40:H40) -> -55 | L40: =K40/24 -> 0
J41: =SUM(J33:J40) -> -209 | L41: =SUM(L33:L40)/8 -> #REF!
