Workbook
Name AUTRES_ESPACES: #REF!
Name BAT_CUL_POLY: #REF!
Name Brut_Volume: 'Physical Data Rooms'!#REF!
Name BUREAUX: #REF!
Name BUREAUX_ECL: #REF!
Name Ceiling_Surf: 'Physical Data Rooms'!#REF!
Name COMMERCE: #REF!
Name COMMERCE_ECL: #REF!
Name ECOLE_ECL: #REF!
Name ENSEIGNEMENT: #REF!
Name Eqt_LAF_Height: 'Physical Data Rooms'!#REF!
Name Eqt_LAF_Surface: 'Physical Data Rooms'!#REF!
Name Eqt_LAF_Volume: 'Physical Data Rooms'!#REF!
Name Existing_Brut_Volume: 'Physical Data Rooms'!#REF!
Name Existing_Ceiling_Surf: 'Physical Data Rooms'!#REF!
Name Existing_Free_Height: 'Physical Data Rooms'!#REF!
Name Existing_Net_Volume: 'Physical Data Rooms'!#REF!
Name Free_Height: 'Physical Data Rooms'!#REF!
Name HOTEL: #REF!
Name INDUSTRIE: #REF!
Name INDUSTRIE_ECL: #REF!
Name LIEUX_PUBLICS: #REF!
Name LOCAUX_TRAVAIL: #REF!
Name Menu_Déroulant_Condition: #REF!
Name Menu_Déroulant_LevelList_GSK: #REF!
Name Menu_Déroulant_LevelList_Others: #REF!
Name Menu_Déroulant_Noise: #REF!
Name Menu_Déroulant_PAL_MAL_Type: #REF!
Name Menu_Déroulant_Phase: #REF!
Name Menu_déroulant_PHASE1: #REF!
Name Menu_Déroulant_Remark_Rooms_1: #REF!
Name Menu_Déroulant_Zone_Area_Line_Unit: #REF!
Name Net_Surface: 'Physical Data Rooms'!#REF!
Name Net_Volume: 'Physical Data Rooms'!#REF!
Name RESTAURANT: #REF!
Name Room_Name: 'Physical Data Rooms'!#REF!
Name Room_Number: 'Physical Data Rooms'!$E$10:$E$777
Name SALLE_SPORT_ECL: #REF!
Name SPORTS_LOISIRS: #REF!

Sheet Room List
A1: Text blue = From an other folder or file ( automatic ) Text blue and italic = from calculation in this folder ( automatic )
A2: Index | B2: Rev | C2: Date | D2: Heure | E2: Site | F2: Building Nbr | G2: Zone - Aera - Line - Unit | H2: Phase | I2: Level ( Others ) | J2: Aile or Others | K2: Level ID ( Gsk ) | L2: Room Sequential Nbr | M2: Optional char | N2: Room Number | O2: Room Name
B3: AUTOMATIC | C3: Format xx/xx/xx | D3: Format xx:xx:xx | E3: 00.00-FORM-0004-Base Projet | G3: Menu déroulant | H3: Menu déroulant | I3: Menu déroulant | J3: Input your value | K3: Menu déroulant | L3: Input your value | M3: Input your value | N3: Le Num du local est fonction du CLIENT 00.00-FORM-0001-Base Projet
A4: Exemple | C4: Pas de date à la première introduction
A5: 1 | B5: 42121.427 | C5: 42121 | D5: 0.42708333 | E5: WN | F5: 26 | G5: - | H5: - | K5: 00 | L5: 000 | N5: WN26-00-000
A8: =COLUMN(A8) -> 1 | B8: =COLUMN(B8) -> 2 | C8: =COLUMN(C8) -> 3 | D8: =COLUMN(D8) -> 4 | E8: =COLUMN(E8) -> 5 | F8: =COLUMN(F8) -> 6 | G8: =COLUMN(G8) -> 7 | H8: =COLUMN(H8) -> 8 | ... N8: =COLUMN(N8) -> 14
A10: =OFFSET(A10,-1,0,1,1)+1 -> 1 | E10: LLN | F10: Extension | G10: - | I10: 0 | J10: - | K10: - | L10: 000 | N10: 000 | O10: a
A11: =OFFSET(A11,-1,0,1,1)+1 -> 2 | E11: LLN | F11: Extension | G11: - | I11: 0 | J11: - | K11: - | L11: 273 | N11: 273 | O11: b
A12: =OFFSET(A12,-1,0,1,1)+1 -> 3 | E12: LLN | F12: Extension | G12: - | I12: 0 | J12: - | K12: - | L12: 283 | N12: 283 | O12: c
A13: =OFFSET(A13,-1,0,1,1)+1 -> 4 | E13: LLN | F13: Extension | G13: - | I13: 0 | J13: - | K13: - | L13: 281 | N13: 281 | O13: d
A14: =OFFSET(A14,-1,0,1,1)+1 -> 5 | E14: LLN | F14: Extension | G14: - | I14: 0 | J14: - | K14: - | L14: 282 | N14: 282 | O14: e
A15: =OFFSET(A15,-1,0,1,1)+1 -> 6 | E15: LLN | F15: Extension | G15: - | I15: 0 | J15: - | K15: - | L15: 272 | N15: 272 | O15: f
A16: =OFFSET(A16,-1,0,1,1)+1 -> 7 | E16: LLN | F16: Extension | G16: - | I16: 0 | J16: - | K16: - | L16: 275 | N16: 275 | O16: g
A17: =OFFSET(A17,-1,0,1,1)+1 -> 8 | E17: LLN | F17: Extension | G17: - | I17: 0 | J17: - | K17: - | L17: 276 | N17: 276 | O17: h
A18: =OFFSET(A18,-1,0,1,1)+1 -> 9 | E18: LLN | F18: Extension | G18: - | I18: 0 | J18: - | K18: - | L18: 277 | N18: 277 | O18: i
A19: =OFFSET(A19,-1,0,1,1)+1 -> 10 | E19: LLN | F19: Extension | G19: - | I19: 0 | J19: - | K19: - | L19: 280 | N19: 280 | O19: j
A20: =OFFSET(A20,-1,0,1,1)+1 -> 11 | E20: LLN | F20: Extension | G20: - | I20: 0 | J20: - | K20: - | L20: 278 | N20: 278 | O20: k
A21: =OFFSET(A21,-1,0,1,1)+1 -> 12 | E21: LLN | F21: Extension | G21: - | I21: 0 | J21: - | K21: - | L21: 279 | N21: 279 | O21: l
... A29: =OFFSET(A29,-1,0,1,1)+1 -> 20 | E29: LLN | F29: Extension | G29: - | I29: 0 | J29: - | K29: - | L29: 5101 | N29: 5101 | O29: t
A30: - | B30: =IF($A30="-","-",IF(MAX(#REF!)=0,"",MAX(#REF!))) -> - | E30: - | F30: - | G30: - | H30: - | I30: - | J30: - | K30: - | N30: - | O30: -
A31: - | B31: =IF($A31="-","-",IF(MAX(#REF!)=0,"",MAX(#REF!))) -> - | E31: - | F31: - | G31: - | H31: - | I31: - | J31: - | K31: - | N31: - | O31: -
A32: END OF LIST - PLEASE LET THE 2 LAST LINES EMPTY
A40: Index = Numéro unique pour chaque local

Sheet Physical Data Rooms
A1: Text blue = From an other folder or file ( automatic ) Text blue and italic = from calculation in this folder ( automatic )
A2: Index | B2: Rev | C2: Date | D2: Heure | E2: Room Number | F2: Room Name
A8: =COLUMN(A6) -> 1 | B8: =COLUMN(B6) -> 2 | C8: =COLUMN(C6) -> 3 | D8: =COLUMN(D6) -> 4 | E8: =COLUMN(E6) -> 5
A10: =OFFSET(A10,-1,0,1,1)+1 -> 1 | E10: =IF($A10="-","-",VLOOKUP($A10,'Room List'!$A$10:$N$787,14)) -> 000 | F10: a
A11: =OFFSET(A11,-1,0,1,1)+1 -> 2 | E11: =IF($A11="-","-",VLOOKUP($A11,'Room List'!$A$10:$N$787,14)) -> 273 | F11: b
A12: =OFFSET(A12,-1,0,1,1)+1 -> 3 | E12: =IF($A12="-","-",VLOOKUP($A12,'Room List'!$A$10:$N$787,14)) -> 283 | F12: c
A13: =OFFSET(A13,-1,0,1,1)+1 -> 4 | E13: =IF($A13="-","-",VLOOKUP($A13,'Room List'!$A$10:$N$787,14)) -> 281 | F13: d
A14: =OFFSET(A14,-1,0,1,1)+1 -> 5 | E14: =IF($A14="-","-",VLOOKUP($A14,'Room List'!$A$10:$N$787,14)) -> 282 | F14: e
A15: =OFFSET(A15,-1,0,1,1)+1 -> 6 | E15: =IF($A15="-","-",VLOOKUP($A15,'Room List'!$A$10:$N$787,14)) -> 272 | F15: f
A16: =OFFSET(A16,-1,0,1,1)+1 -> 7 | E16: =IF($A16="-","-",VLOOKUP($A16,'Room List'!$A$10:$N$787,14)) -> 275 | F16: g
A17: =OFFSET(A17,-1,0,1,1)+1 -> 8 | E17: =IF($A17="-","-",VLOOKUP($A17,'Room List'!$A$10:$N$787,14)) -> 276 | F17: h
A18: =OFFSET(A18,-1,0,1,1)+1 -> 9 | E18: =IF($A18="-","-",VLOOKUP($A18,'Room List'!$A$10:$N$787,14)) -> 277 | F18: i
A19: =OFFSET(A19,-1,0,1,1)+1 -> 10 | E19: =IF($A19="-","-",VLOOKUP($A19,'Room List'!$A$10:$N$787,14)) -> 280 | F19: j | I19: A l'ouverture 10 locaux dans ce folder, il devrait en fait s'ouvrir et augmenter de 10 unités l'index et afficher les données de la
A20: - | B20: =IF($A20="-","-",IF(MAX(#REF!)=0,"",MAX(#REF!))) -> - | E20: =IF($A20="-","-",VLOOKUP($A20,'Room List'!$A$10:$N$787,14)) -> - | F20: -
A21: - | B21: =IF($A21="-","-",IF(MAX(#REF!)=0,"",MAX(#REF!))) -> - | E21: =IF($A21="-","-",VLOOKUP($A21,'Room List'!$A$10:$N$787,14)) -> - | F21: -
A22: END OF LIST - PLEASE LET THE 2 LAST LINES EMPTY
