Workbook

Sheet Listes
A1: Ref | B1: Prix | C1: Vendu
A2: 01-A | B2: 2 | C2: =VLOOKUP(A2,Vendu!$1:$65535,1,FALSE) -> 01-A
A3: 01-B | B3: 21 | C3: =VLOOKUP(A3,Vendu!$1:$65535,1,FALSE) -> #N/A
A4: 01-C | B4: 2 | C4: =VLOOKUP(A4,Vendu!$1:$65535,1,FALSE) -> #N/A
A5: 01-D | B5: 4 | C5: =VLOOKUP(A5,Vendu!$1:$65535,1,FALSE) -> #N/A
A6: 01-E | B6: 1 | C6: =VLOOKUP(A6,Vendu!$1:$65535,1,FALSE) -> #N/A
A7: 01-F | B7: 3 | C7: =VLOOKUP(A7,Vendu!$1:$65535,1,FALSE) -> #N/A
A8: 01-G | B8: 6 | C8: =VLOOKUP(A8,Vendu!$1:$65535,1,FALSE) -> #N/A
A9: 01-H | B9: 11 | C9: =VLOOKUP(A9,Vendu!$1:$65535,1,FALSE) -> #N/A
A10: 01-I | B10: 1 | C10: =VLOOKUP(A10,Vendu!$1:$65535,1,FALSE) -> #N/A
A11: 01-J | B11: 1 | C11: =VLOOKUP(A11,Vendu!$1:$65535,1,FALSE) -> #N/A
A12: 01-K | B12: 1 | C12: =VLOOKUP(A12,Vendu!$1:$65535,1,FALSE) -> #N/A
A13: 01-L | B13: 4 | C13: =VLOOKUP(A13,Vendu!$1:$65535,1,FALSE) -> #N/A
... A41: 02-T | B41: 5 | C41: =VLOOKUP(A41,Vendu!$1:$65535,1,FALSE) -> #N/A

Sheet Vendu
A1: Vendu | B1: Prix
A2: 01-A | B2: ??? Formule pour recuperer le chiffre de la case A2 feuille "Listes"
A3: 01-T | B3: ??? Formule pour recuperer le chiffre de la case B21 feuille "Listes"
A4: 02-A | B4: ??? Formule pour recuperer le chiffre de la case A3 feuille "Listes"
A5: 02-B | B5: ??? Formule pour recuperer le chiffre de la case B23 feuille "Listes"
A6: 02-G | B6: ??? Formule pour recuperer le chiffre de la case B28 feuille "Listes"

Sheet Feuil3
A1: A-01 | B1: 2 | C1: =VLOOKUP(A1,Vendu!$1:$65535,1,FALSE) -> #N/A
A2: A-02 | B2: 21 | C2: =VLOOKUP(A2,Vendu!$1:$65535,1,FALSE) -> #N/A
A3: A-03 | B3: 2 | C3: =VLOOKUP(A3,Vendu!$1:$65535,1,FALSE) -> #N/A
A4: A-04 | B4: 4 | C4: =VLOOKUP(A4,Vendu!$1:$65535,1,FALSE) -> #N/A
A5: A-05 | B5: 1 | C5: =VLOOKUP(A5,Vendu!$1:$65535,1,FALSE) -> #N/A
A6: A-06 | B6: 3 | C6: =VLOOKUP(A6,Vendu!$1:$65535,1,FALSE) -> #N/A
A7: A-07 | B7: 6 | C7: =VLOOKUP(A7,Vendu!$1:$65535,1,FALSE) -> #N/A
A8: A-08 | B8: 11 | C8: =VLOOKUP(A8,Vendu!$1:$65535,1,FALSE) -> #N/A
A9: A-09 | B9: 1 | C9: =VLOOKUP(A9,Vendu!$1:$65535,1,FALSE) -> #N/A
A10: A-10 | B10: 1 | C10: =VLOOKUP(A10,Vendu!$1:$65535,1,FALSE) -> #N/A
A11: A-11 | B11: 1 | C11: =VLOOKUP(A11,Vendu!$1:$65535,1,FALSE) -> #N/A
A12: A-12 | B12: 4 | C12: =VLOOKUP(A12,Vendu!$1:$65535,1,FALSE) -> #N/A
... A21: B-01 | B21: 2 | C21: =VLOOKUP(A21,Vendu!$1:$65535,1,FALSE) -> #N/A

Sheet Feuil1
