Workbook
Name Admis_bloc: OFFSET(BLOC!$A$1,0,0,COUNTA(BLOC!$A:$A)-1,COUNTA(BLOC!$1:$1)-1)
Name Admis_chgie: OFFSET(CHIRURGIE!$A$1,0,0,COUNTA(CHIRURGIE!$A:$A)-1,COUNTA(CHIRURGIE!$1:$1))
Name Admis_ped: OFFSET(PEDIATRIE!$A$1,0,0,COUNTA(PEDIATRIE!$A:$A)-1,COUNTA(PEDIATRIE!$1:$1))
Name Admis_rea: OFFSET(REANIMATION!$A$1,0,0,COUNTA(REANIMATION!$A:$A)-1,COUNTA(REANIMATION!$1:$1))
Name Admis_urgences: OFFSET(URGENCES!$A$1,0,0,COUNTA(URGENCES!$A:$A)-1,COUNTA(URGENCES!$1:$1))
Name BL_ACT: OFFSET(BLOC!$K$2,0,0,COUNTA(BLOC!$A:$A),1)
Name BL_CONS: OFFSET(BLOC!$I$2,0,0,COUNTA(BLOC!$A:$A),1)
Name BL_FF: OFFSET(BLOC!$M$2,0,0,COUNTA(BLOC!$A:$A),1)
Name BL_HOSP: OFFSET(BLOC!$O$2,0,0,COUNTA(BLOC!$A:$A),1)
Name BL_ID: OFFSET(BLOC!$A$2,0,0,COUNTA(BLOC!$A:$A),1)
Name BL_IMA: OFFSET(BLOC!$W$2,0,0,COUNTA(BLOC!$A:$A),1)
Name BL_LAB: OFFSET(BLOC!$U$2,0,0,COUNTA(BLOC!$A:$A),1)
Name BL_O2: OFFSET(BLOC!$Q$2,0,0,COUNTA(BLOC!$A:$A),1)
Name BL_PCIE: OFFSET(BLOC!$S$2,0,0,COUNTA(BLOC!$A:$A),1)
Name BL_SANG: OFFSET(BLOC!$Y$2,0,0,COUNTA(BLOC!$A:$A),1)
Name BL_SOLD: OFFSET(BLOC!$AD$2,0,0,COUNTA(BLOC!$A:$A),1)
Name CH_ACT: OFFSET(CHIRURGIE!$K$2,0,0,COUNTA(CHIRURGIE!$A:$A),1)
Name CH_CONS: OFFSET(CHIRURGIE!$I$2,0,0,COUNTA(CHIRURGIE!$A:$A),1)
Name CH_FF: OFFSET(CHIRURGIE!$M$2,0,0,COUNTA(CHIRURGIE!$A:$A),1)
Name CH_HOSP: OFFSET(CHIRURGIE!$O$2,0,0,COUNTA(CHIRURGIE!$A:$A),1)
Name CH_ID: OFFSET(CHIRURGIE!$A$2,0,0,COUNTA(CHIRURGIE!$A:$A),1)
Name CH_IMA: OFFSET(CHIRURGIE!$W$2,0,0,COUNTA(CHIRURGIE!$A:$A),1)
Name CH_LAB: OFFSET(CHIRURGIE!$U$2,0,0,COUNTA(CHIRURGIE!$A:$A),1)
Name CH_O2: OFFSET(CHIRURGIE!$Q$2,0,0,COUNTA(CHIRURGIE!$A:$A),1)
Name CH_PCIE: OFFSET(CHIRURGIE!$S$2,0,0,COUNTA(CHIRURGIE!$A:$A),1)
Name CH_SANG: OFFSET(CHIRURGIE!$Y$2,0,0,COUNTA(CHIRURGIE!$A:$A),1)
Name CH_SOLD: OFFSET(CHIRURGIE!$AD$2,0,0,COUNTA(CHIRURGIE!$A:$A),1)
Name obs: listes!$A$1:$A$5
Name PED_ACT: OFFSET(PEDIATRIE!$K$2,0,0,COUNTA(PEDIATRIE!$A:$A),1)
Name PED_CONS: OFFSET(PEDIATRIE!$I$2,0,0,COUNTA(PEDIATRIE!$A:$A),1)
Name PED_FF: OFFSET(PEDIATRIE!$M$2,0,0,COUNTA(PEDIATRIE!$A:$A),1)
Name PED_HOSP: OFFSET(PEDIATRIE!$O$2,0,0,COUNTA(PEDIATRIE!$A:$A),1)
Name PED_ID: OFFSET(PEDIATRIE!$A$2,0,0,COUNTA(PEDIATRIE!$A:$A),1)
Name PED_IMA: OFFSET(PEDIATRIE!$W$2,0,0,COUNTA(PEDIATRIE!$A:$A),1)
Name PED_LAB: OFFSET(PEDIATRIE!$U$2,0,0,COUNTA(PEDIATRIE!$A:$A),1)
Name PED_O2: OFFSET(PEDIATRIE!$Q$2,0,0,COUNTA(PEDIATRIE!$A:$A),1)
Name PED_PCIE: OFFSET(PEDIATRIE!$S$2,0,0,COUNTA(PEDIATRIE!$A:$A),1)
Name PED_SANG: OFFSET(PEDIATRIE!$Y$2,0,0,COUNTA(PEDIATRIE!$A:$A),1)
Name PED_SOLD: OFFSET(PEDIATRIE!$AD$2,0,0,COUNTA(PEDIATRIE!$A:$A),1)
Name RA_ID: OFFSET(REANIMATION!$A$2,0,0,COUNTA(REANIMATION!$A:$A),1)
Name RA_SOLD: OFFSET(REANIMATION!$AD$2,0,0,COUNTA(REANIMATION!$A:$A),1)
Name RE_ACT: OFFSET(REANIMATION!$K$2,0,0,COUNTA(REANIMATION!$A:$A),1)
Name RE_BON: OFFSET(RECOUV!$F$2,0,0,COUNTA(RECOUV!$A:$A)+10,1)
Name RE_CONS: OFFSET(REANIMATION!$I$2,0,0,COUNTA(REANIMATION!$A:$A),1)
Name RE_FF: OFFSET(REANIMATION!$M$2,0,0,COUNTA(REANIMATION!$A:$A),1)
Name RE_HOSP: OFFSET(REANIMATION!$O$2,0,0,COUNTA(REANIMATION!$A:$A),1)
Name RE_ID: OFFSET(RECOUV!$A$2,0,0,COUNTA(RECOUV!$A:$A)+10,1)
Name RE_IMA: OFFSET(REANIMATION!$W$2,0,0,COUNTA(REANIMATION!$A:$A),1)
Name RE_LAB: OFFSET(REANIMATION!$U$2,0,0,COUNTA(REANIMATION!$A:$A),1)
Name RE_O2: OFFSET(REANIMATION!$Q$2,0,0,COUNTA(REANIMATION!$A:$A),1)
Name RE_PCIE: OFFSET(REANIMATION!$S$2,0,0,COUNTA(REANIMATION!$A:$A),1)
Name RE_SANG: OFFSET(REANIMATION!$Y$2,0,0,COUNTA(REANIMATION!$A:$A),1)
Name RE_SOLD: OFFSET(REANIMATION!$AD$2,0,0,COUNTA(REANIMATION!$A:$A),1)
Name SEXE: listes!$A$35:$A$36
Name SO_ID: OFFSET(F_SOLDES!$A$2,0,0,COUNTA(F_SOLDES!$A:$A),1)
Name SO_TOT: OFFSET(F_SOLDES!$G$2,0,0,COUNTA(F_SOLDES!$A:$A),1)
Name TRANSFERTS: listes!$A$9:$A$28
Name UR_ACT: OFFSET(URGENCES!$K$2,0,0,COUNTA(URGENCES!$A:$A),1)
Name UR_CONS: OFFSET(URGENCES!$I$2,0,0,COUNTA(URGENCES!$A:$A),1)
Name UR_FF: OFFSET(URGENCES!$M$2,0,0,COUNTA(URGENCES!$A:$A),1)

Sheet PEDIATRIE
A1: DOSSIER PATIENT | B1: NOM ET PRENOM | C1: SEXE | D1: ÂGE | E1: DATE ENTREE | F1: MEDECIN TRAITANT | G1: DIAGNOSTIC | H1: CONSULTATION MT A PAYER | I1: CONSULTATION RT A PAYER | J1: ACTES MT A PAYER | K1: ACTES RT A PAYER | L1: FORFAITS SOINS MT A PAYER | M1: FORFAITS SOINS RT A PAYER | N1: HOSPITALISATION MT A PAYER | O1: HOSPITALISATION RT A PAYER | P1: OXYGENE MT A PAYER | Q1: OXYGENE RT A PAYER | R1: BON PHCIE MT A PAYER | S1: PHCIE RT A PAYER | T1: BON LABO MT A PAYER | U1: LABO RT A PAYER | V1: IMAGERIE MT A PAYER | W1: IMAGERIE RT A PAYER | X1: BON BQUE SANG MT A PAYER | Y1: BQ SANG RT A PAYER | Z1: SERVICE TRANSFERT | AA1: OBSERVATIONS | AB1: DATE SORTIE | AC1: DUREE SEJOUR | AD1: SOLDE PEDIA | AE1: RESTE TOTAL A PAYER
A2: UR0617107 | B2: =IFERROR(INDEX(UR_NOM,MATCH(A2,UR_ID,0)),0) -> 0 | AD2: =SUM(I2,K2,M2,O2,Q2,S2,U2,W2,Y2) -> 0 | AE2: =IFERROR(INDEX(SO_TOT,MATCH(A2,SO_ID,0)),0) -> 0
B3: =IFERROR(INDEX(UR_NOM,MATCH(A3,UR_ID,0)),0) -> 0 | AD3: =SUM(I3,K3,M3,O3,Q3,S3,U3,W3,Y3) -> 0 | AE3: =IFERROR(INDEX(SO_TOT,MATCH(A3,SO_ID,0)),0) -> 0
B4: =IFERROR(INDEX(UR_NOM,MATCH(A4,UR_ID,0)),0) -> 0 | AD4: =SUM(I4,K4,M4,O4,Q4,S4,U4,W4,Y4) -> 0 | AE4: =IFERROR(INDEX(SO_TOT,MATCH(A4,SO_ID,0)),0) -> 0
B5: =IFERROR(INDEX(UR_NOM,MATCH(A5,UR_ID,0)),0) -> 0 | AD5: =SUM(I5,K5,M5,O5,Q5,S5,U5,W5,Y5) -> 0 | AE5: =IFERROR(INDEX(SO_TOT,MATCH(A5,SO_ID,0)),0) -> 0
B6: =IFERROR(INDEX(UR_NOM,MATCH(A6,UR_ID,0)),0) -> 0 | AD6: =SUM(I6,K6,M6,O6,Q6,S6,U6,W6,Y6) -> 0 | AE6: =IFERROR(INDEX(SO_TOT,MATCH(A6,SO_ID,0)),0) -> 0
B7: =IFERROR(INDEX(UR_NOM,MATCH(A7,UR_ID,0)),0) -> 0 | AD7: =SUM(I7,K7,M7,O7,Q7,S7,U7,W7,Y7) -> 0 | AE7: =IFERROR(INDEX(SO_TOT,MATCH(A7,SO_ID,0)),0) -> 0
B8: =IFERROR(INDEX(UR_NOM,MATCH(A8,UR_ID,0)),0) -> 0 | AD8: =SUM(I8,K8,M8,O8,Q8,S8,U8,W8,Y8) -> 0 | AE8: =IFERROR(INDEX(SO_TOT,MATCH(A8,SO_ID,0)),0) -> 0
B9: =IFERROR(INDEX(UR_NOM,MATCH(A9,UR_ID,0)),0) -> 0 | AD9: =SUM(I9,K9,M9,O9,Q9,S9,U9,W9,Y9) -> 0 | AE9: =IFERROR(INDEX(SO_TOT,MATCH(A9,SO_ID,0)),0) -> 0
B10: =IFERROR(INDEX(UR_NOM,MATCH(A10,UR_ID,0)),0) -> 0 | AD10: =SUM(I10,K10,M10,O10,Q10,S10,U10,W10,Y10) -> 0 | AE10: =IFERROR(INDEX(SO_TOT,MATCH(A10,SO_ID,0)),0) -> 0
B11: =IFERROR(INDEX(UR_NOM,MATCH(A11,UR_ID,0)),0) -> 0 | AD11: =SUM(I11,K11,M11,O11,Q11,S11,U11,W11,Y11) -> 0 | AE11: =IFERROR(INDEX(SO_TOT,MATCH(A11,SO_ID,0)),0) -> 0
B12: =IFERROR(INDEX(UR_NOM,MATCH(A12,UR_ID,0)),0) -> 0 | AD12: =SUM(I12,K12,M12,O12,Q12,S12,U12,W12,Y12) -> 0 | AE12: =IFERROR(INDEX(SO_TOT,MATCH(A12,SO_ID,0)),0) -> 0
B13: =IFERROR(INDEX(UR_NOM,MATCH(A13,UR_ID,0)),0) -> 0 | AD13: =SUM(I13,K13,M13,O13,Q13,S13,U13,W13,Y13) -> 0 | AE13: =IFERROR(INDEX(SO_TOT,MATCH(A13,SO_ID,0)),0) -> 0
B14: =IFERROR(INDEX(UR_NOM,MATCH(A14,UR_ID,0)),0) -> 0 | AD14: =SUM(I14,K14,M14,O14,Q14,S14,U14,W14,Y14) -> 0 | AE14: =IFERROR(INDEX(SO_TOT,MATCH(A14,SO_ID,0)),0) -> 0
... B122: =IFERROR(INDEX(UR_NOM,MATCH(A122,UR_ID,0)),0) -> 0 | AD122: =SUM(I122,K122,M122,O122,Q122,S122,U122,W122,Y122) -> 0 | AE122: =IFERROR(INDEX(SO_TOT,MATCH(A122,SO_ID,0)),0) -> 0
A123: Total | H123: =SUBTOTAL(109,PEDIATRIE!$H$2:$H$122) -> 0 | I123: =SUBTOTAL(109,PEDIATRIE!$I$2:$I$122) -> 0 | J123: =SUBTOTAL(109,PEDIATRIE!$J$2:$J$122) -> 0 | K123: =SUBTOTAL(109,PEDIATRIE!$K$2:$K$122) -> 0 | L123: =SUBTOTAL(109,PEDIATRIE!$L$2:$L$122) -> 0 | M123: =SUBTOTAL(109,PEDIATRIE!$M$2:$M$122) -> 0 | N123: =SUBTOTAL(109,PEDIATRIE!$N$2:$N$122) -> 0 | O123: =SUBTOTAL(109,PEDIATRIE!$O$2:$O$122) -> 0 | P123: =SUBTOTAL(109,PEDIATRIE!$P$2:$P$122) -> 0 | Q123: =SUBTOTAL(109,PEDIATRIE!$Q$2:$Q$122) -> 0 | R123: =SUBTOTAL(109,PEDIATRIE!$R$2:$R$122) -> 0 | S123: =SUBTOTAL(109,PEDIATRIE!$S$2:$S$122) -> 0 | T123: =SUBTOTAL(109,PEDIATRIE!$T$2:$T$122) -> 0 | U123: =SUBTOTAL(109,PEDIATRIE!$U$2:$U$122) -> 0 | V123: =SUBTOTAL(109,PEDIATRIE!$V$2:$V$122) -> 0 | W123: =SUBTOTAL(109,PEDIATRIE!$W$2:$W$122) -> 0 | X123: =SUBTOTAL(109,PEDIATRIE!$X$2:$X$122) -> 0 | Y123: =SUBTOTAL(109,PEDIATRIE!$Y$2:$Y$122) -> 0 | AD123: =SUBTOTAL(109,PEDIATRIE!$AD$2:$AD$122) -> 0 | AE123: =SUBTOTAL(109,PEDIATRIE!$AE$2:$AE$122) -> 0

Sheet CHIRURGIE
A1: DOSSIER PATIENT | B1: NOM ET PRENOM | C1: SEXE | D1: ÂGE | E1: DATE ENTREE | F1: MEDECIN TRAITANT | G1: DIAGNOSTIC | H1: CONSULTATION MT A PAYER | I1: CONSULTATION RT A PAYER | J1: ACTES MT A PAYER | K1: ACTES RT A PAYER | L1: FORFAITS SOINS MT A PAYER | M1: FORFAITS SOINS RT A PAYER | N1: HOSPITALISATION MT A PAYER | O1: HOSPITALISATION RT A PAYER | P1: OXYGENE MT A PAYER | Q1: OXYGENE RT A PAYER | R1: BON PHCIE MT A PAYER | S1: PHCIE RT A PAYER | T1: BON LABO MT A PAYER | U1: LABO RT A PAYER | V1: IMAGERIE MT A PAYER | W1: IMAGERIE RT A PAYER | X1: BON BQUE SANG MT A PAYER | Y1: BQ SANG RT A PAYER | Z1: SERVICE TRANSFERT | AA1: OBSERVATIONS | AB1: DATE SORTIE | AC1: DUREE SEJOUR | AD1: SOLDE CHIRURGIE | AE1: RESTE TOTAL A PAYER
B2: =IFERROR(INDEX(UR_NOM,MATCH(A2,UR_ID,0))," ") | AD2: =SUM(I2,K2,M2,O2,Q2,S2,U2,W2,Y2) -> 0 | AE2: =IFERROR(INDEX(SO_TOT,MATCH(A2,SO_ID,0)),0) -> 0
B3: =IFERROR(INDEX(UR_NOM,MATCH(A3,UR_ID,0))," ") | AD3: =SUM(I3,K3,M3,O3,Q3,S3,U3,W3,Y3) -> 0 | AE3: =IFERROR(INDEX(SO_TOT,MATCH(A3,SO_ID,0)),0) -> 0
B4: =IFERROR(INDEX(UR_NOM,MATCH(A4,UR_ID,0))," ") | AD4: =SUM(I4,K4,M4,O4,Q4,S4,U4,W4,Y4) -> 0 | AE4: =IFERROR(INDEX(SO_TOT,MATCH(A4,SO_ID,0)),0) -> 0
B5: =IFERROR(INDEX(UR_NOM,MATCH(A5,UR_ID,0))," ") | AD5: =SUM(I5,K5,M5,O5,Q5,S5,U5,W5,Y5) -> 0 | AE5: =IFERROR(INDEX(SO_TOT,MATCH(A5,SO_ID,0)),0) -> 0
B6: =IFERROR(INDEX(UR_NOM,MATCH(A6,UR_ID,0))," ") | AD6: =SUM(I6,K6,M6,O6,Q6,S6,U6,W6,Y6) -> 0 | AE6: =IFERROR(INDEX(SO_TOT,MATCH(A6,SO_ID,0)),0) -> 0
B7: =IFERROR(INDEX(UR_NOM,MATCH(A7,UR_ID,0))," ") | AD7: =SUM(I7,K7,M7,O7,Q7,S7,U7,W7,Y7) -> 0 | AE7: =IFERROR(INDEX(SO_TOT,MATCH(A7,SO_ID,0)),0) -> 0
B8: =IFERROR(INDEX(UR_NOM,MATCH(A8,UR_ID,0))," ") | AD8: =SUM(I8,K8,M8,O8,Q8,S8,U8,W8,Y8) -> 0 | AE8: =IFERROR(INDEX(SO_TOT,MATCH(A8,SO_ID,0)),0) -> 0
B9: =IFERROR(INDEX(UR_NOM,MATCH(A9,UR_ID,0))," ") | AD9: =SUM(I9,K9,M9,O9,Q9,S9,U9,W9,Y9) -> 0 | AE9: =IFERROR(INDEX(SO_TOT,MATCH(A9,SO_ID,0)),0) -> 0
B10: =IFERROR(INDEX(UR_NOM,MATCH(A10,UR_ID,0))," ") | AD10: =SUM(I10,K10,M10,O10,Q10,S10,U10,W10,Y10) -> 0 | AE10: =IFERROR(INDEX(SO_TOT,MATCH(A10,SO_ID,0)),0) -> 0
B11: =IFERROR(INDEX(UR_NOM,MATCH(A11,UR_ID,0))," ") | AD11: =SUM(I11,K11,M11,O11,Q11,S11,U11,W11,Y11) -> 0 | AE11: =IFERROR(INDEX(SO_TOT,MATCH(A11,SO_ID,0)),0) -> 0
B12: =IFERROR(INDEX(UR_NOM,MATCH(A12,UR_ID,0))," ") | AD12: =SUM(I12,K12,M12,O12,Q12,S12,U12,W12,Y12) -> 0 | AE12: =IFERROR(INDEX(SO_TOT,MATCH(A12,SO_ID,0)),0) -> 0
B13: =IFERROR(INDEX(UR_NOM,MATCH(A13,UR_ID,0))," ") | AD13: =SUM(I13,K13,M13,O13,Q13,S13,U13,W13,Y13) -> 0 | AE13: =IFERROR(INDEX(SO_TOT,MATCH(A13,SO_ID,0)),0) -> 0
... B122: =IFERROR(INDEX(UR_NOM,MATCH(A122,UR_ID,0))," ") | AD122: =SUM(I122,K122,M122,O122,Q122,S122,U122,W122,Y122) -> 0 | AE122: =IFERROR(INDEX(SO_TOT,MATCH(A122,SO_ID,0)),0) -> 0
A123: Total | H123: =SUBTOTAL(109,CHIRURGIE!$H$2:$H$122) -> 0 | I123: =SUBTOTAL(109,CHIRURGIE!$I$2:$I$122) -> 0 | J123: =SUBTOTAL(109,CHIRURGIE!$J$2:$J$122) -> 0 | K123: =SUBTOTAL(109,CHIRURGIE!$K$2:$K$122) -> 0 | L123: =SUBTOTAL(109,CHIRURGIE!$L$2:$L$122) -> 0 | M123: =SUBTOTAL(109,CHIRURGIE!$M$2:$M$122) -> 0 | N123: =SUBTOTAL(109,CHIRURGIE!$N$2:$N$122) -> 0 | O123: =SUBTOTAL(109,CHIRURGIE!$O$2:$O$122) -> 0 | P123: =SUBTOTAL(109,CHIRURGIE!$P$2:$P$122) -> 0 | Q123: =SUBTOTAL(109,CHIRURGIE!$Q$2:$Q$122) -> 0 | R123: =SUBTOTAL(109,CHIRURGIE!$R$2:$R$122) -> 0 | S123: =SUBTOTAL(109,CHIRURGIE!$S$2:$S$122) -> 0 | T123: =SUBTOTAL(109,CHIRURGIE!$T$2:$T$122) -> 0 | U123: =SUBTOTAL(109,CHIRURGIE!$U$2:$U$122) -> 0 | V123: =SUBTOTAL(109,CHIRURGIE!$V$2:$V$122) -> 0 | W123: =SUBTOTAL(109,CHIRURGIE!$W$2:$W$122) -> 0 | X123: =SUBTOTAL(109,CHIRURGIE!$X$2:$X$122) -> 0 | Y123: =SUBTOTAL(109,CHIRURGIE!$Y$2:$Y$122) -> 0 | AD123: =SUBTOTAL(109,CHIRURGIE!$AD$2:$AD$122) -> 0 | AE123: =SUBTOTAL(109,CHIRURGIE!$AE$2:$AE$122) -> 0

Sheet REANIMATION
A1: DOSSIER PATIENT | B1: NOM ET PRENOM | C1: SEXE | D1: ÂGE | E1: DATE ENTREE | F1: MEDECIN TRAITANT | G1: DIAGNOSTIC | H1: CONSULTATION MT A PAYER | I1: CONSULTATION RT A PAYER2 | J1: ACTES MT A PAYER | K1: ACTES RT A PAYER | L1: FORFAITS SOINS MT A PAYER | M1: FORFAITS SOINS RT A PAYER | N1: HOSPITALISATION MT A PAYER | O1: HOSPITALISATION RT A PAYER | P1: OXYGENE MT A PAYER | Q1: OXYGENE RT A PAYER | R1: BON PHCIE MT A PAYER | S1: PHCIE RT A PAYER | T1: BON LABO MT A PAYER | U1: LABO RT A PAYER | V1: IMAGERIE MT A PAYER | W1: IMAGERIE RT A PAYER | X1: BON BQUE SANG MT A PAYER | Y1: BQ SANG RT A PAYER | Z1: SERVICE TRANSFERT | AA1: OBSERVATIONS | AB1: DATE SORTIE | AC1: DUREE SEJOUR | AD1: SOLDE REA | AE1: RESTE TOTAL A PAYER
B2: =IFERROR(INDEX(UR_NOM,MATCH(A2,UR_ID,0))," ") | AD2: =SUM(I2,K2,M2,O2,Q2,S2,U2,W2,Y2) -> 0 | AE2: =IFERROR(INDEX(SO_TOT,MATCH(A2,SO_ID,0)),0) -> 0
B3: =IFERROR(INDEX(UR_NOM,MATCH(A3,UR_ID,0))," ") | AD3: =SUM(I3,K3,M3,O3,Q3,S3,U3,W3,Y3) -> 0 | AE3: =IFERROR(INDEX(SO_TOT,MATCH(A3,SO_ID,0)),0) -> 0
B4: =IFERROR(INDEX(UR_NOM,MATCH(A4,UR_ID,0))," ") | AD4: =SUM(I4,K4,M4,O4,Q4,S4,U4,W4,Y4) -> 0 | AE4: =IFERROR(INDEX(SO_TOT,MATCH(A4,SO_ID,0)),0) -> 0
B5: =IFERROR(INDEX(UR_NOM,MATCH(A5,UR_ID,0))," ") | AD5: =SUM(I5,K5,M5,O5,Q5,S5,U5,W5,Y5) -> 0 | AE5: =IFERROR(INDEX(SO_TOT,MATCH(A5,SO_ID,0)),0) -> 0
B6: =IFERROR(INDEX(UR_NOM,MATCH(A6,UR_ID,0))," ") | AD6: =SUM(I6,K6,M6,O6,Q6,S6,U6,W6,Y6) -> 0 | AE6: =IFERROR(INDEX(SO_TOT,MATCH(A6,SO_ID,0)),0) -> 0
B7: =IFERROR(INDEX(UR_NOM,MATCH(A7,UR_ID,0))," ") | AD7: =SUM(I7,K7,M7,O7,Q7,S7,U7,W7,Y7) -> 0 | AE7: =IFERROR(INDEX(SO_TOT,MATCH(A7,SO_ID,0)),0) -> 0
B8: =IFERROR(INDEX(UR_NOM,MATCH(A8,UR_ID,0))," ") | AD8: =SUM(I8,K8,M8,O8,Q8,S8,U8,W8,Y8) -> 0 | AE8: =IFERROR(INDEX(SO_TOT,MATCH(A8,SO_ID,0)),0) -> 0
B9: =IFERROR(INDEX(UR_NOM,MATCH(A9,UR_ID,0))," ") | AD9: =SUM(I9,K9,M9,O9,Q9,S9,U9,W9,Y9) -> 0 | AE9: =IFERROR(INDEX(SO_TOT,MATCH(A9,SO_ID,0)),0) -> 0
B10: =IFERROR(INDEX(UR_NOM,MATCH(A10,UR_ID,0))," ") | AD10: =SUM(I10,K10,M10,O10,Q10,S10,U10,W10,Y10) -> 0 | AE10: =IFERROR(INDEX(SO_TOT,MATCH(A10,SO_ID,0)),0) -> 0
B11: =IFERROR(INDEX(UR_NOM,MATCH(A11,UR_ID,0))," ") | AD11: =SUM(I11,K11,M11,O11,Q11,S11,U11,W11,Y11) -> 0 | AE11: =IFERROR(INDEX(SO_TOT,MATCH(A11,SO_ID,0)),0) -> 0
B12: =IFERROR(INDEX(UR_NOM,MATCH(A12,UR_ID,0))," ") | AD12: =SUM(I12,K12,M12,O12,Q12,S12,U12,W12,Y12) -> 0 | AE12: =IFERROR(INDEX(SO_TOT,MATCH(A12,SO_ID,0)),0) -> 0
B13: =IFERROR(INDEX(UR_NOM,MATCH(A13,UR_ID,0))," ") | AD13: =SUM(I13,K13,M13,O13,Q13,S13,U13,W13,Y13) -> 0 | AE13: =IFERROR(INDEX(SO_TOT,MATCH(A13,SO_ID,0)),0) -> 0
... B122: =IFERROR(INDEX(UR_NOM,MATCH(A122,UR_ID,0))," ") | AD122: =SUM(I122,K122,M122,O122,Q122,S122,U122,W122,Y122) -> 0 | AE122: =IFERROR(INDEX(SO_TOT,MATCH(A122,SO_ID,0)),0) -> 0
A123: Total | H123: =SUBTOTAL(109,REANIMATION!$H$2:$H$122) -> 0 | I123: =SUBTOTAL(109,REANIMATION!$I$2:$I$122) -> 0 | J123: =SUBTOTAL(109,REANIMATION!$J$2:$J$122) -> 0 | K123: =SUBTOTAL(109,REANIMATION!$K$2:$K$122) -> 0 | L123: =SUBTOTAL(109,REANIMATION!$L$2:$L$122) -> 0 | M123: =SUBTOTAL(109,REANIMATION!$M$2:$M$122) -> 0 | N123: =SUBTOTAL(109,REANIMATION!$N$2:$N$122) -> 0 | O123: =SUBTOTAL(109,REANIMATION!$O$2:$O$122) -> 0 | P123: =SUBTOTAL(109,REANIMATION!$P$2:$P$122) -> 0 | Q123: =SUBTOTAL(109,REANIMATION!$Q$2:$Q$122) -> 0 | R123: =SUBTOTAL(109,REANIMATION!$R$2:$R$122) -> 0 | S123: =SUBTOTAL(109,REANIMATION!$S$2:$S$122) -> 0 | T123: =SUBTOTAL(109,REANIMATION!$T$2:$T$122) -> 0 | U123: =SUBTOTAL(109,REANIMATION!$U$2:$U$122) -> 0 | V123: =SUBTOTAL(109,REANIMATION!$V$2:$V$122) -> 0 | W123: =SUBTOTAL(109,REANIMATION!$W$2:$W$122) -> 0 | X123: =SUBTOTAL(109,REANIMATION!$X$2:$X$122) -> 0 | Y123: =SUBTOTAL(109,REANIMATION!$Y$2:$Y$122) -> 0 | AD123: =SUBTOTAL(109,REANIMATION!$AD$2:$AD$122) -> 0 | AE123: =SUBTOTAL(109,REANIMATION!$AE$2:$AE$122) -> 0

Sheet BLOC
A1: DOSSIER PATIENT | B1: NOM ET PRENOM | C1: SEXE | D1: ÂGE | E1: DATE ENTREE | F1: MEDECIN TRAITANT | G1: DIAGNOSTIC | H1: CONSULTATION ANESTHESIES MT A PAYER | I1: CONSULTATION ANESTHESIE RT A PAYER | J1: KIT OPERATOIRE MT A PAYER | K1: KIT OPERATOIRE RT A PAYER | L1: IMPLANTSMT A PAYER | M1: IMPLANTSRT A PAYER | N1: MEDICAMENTS D'URGENCE MT A PAYER | O1: MEDICAMENTS D'URGENCE RT A PAYER | P1: O2 MT A PAYER | Q1: O2 RT A PAYER | R1: BON PHCIE MT A PAYER | S1: PHCIE RT A PAYER | T1: BON LABO MT A PAYER | U1: LABO RT A PAYER | V1: IMAGERIE MT A PAYER | W1: IMAGERIE RT A PAYER | X1: BON BQUE SANG MT A PAYER | Y1: BQ SANG RT A PAYER | Z1: SERVICE TRANSFERT | AA1: OBSERVATIONS | AB1: DATE SORTIE | AC1: DUREE SEJOUR | AD1: SOLDE BLOC | AE1: RESTE TOTAL A PAYER
B2: =IFERROR(INDEX(UR_NOM,MATCH(A2,UR_ID,0))," ") | AD2: =SUM(I2,K2,M2,O2,Q2,S2,U2,W2,Y2) -> 0 | AE2: =INDEX(SO_TOT,MATCH(A2,SO_ID,0)) -> #N/A
B3: =IFERROR(INDEX(UR_NOM,MATCH(A3,UR_ID,0))," ") | AD3: =SUM(I3,K3,M3,O3,Q3,S3,U3,W3,Y3) -> 0 | AE3: =INDEX(SO_TOT,MATCH(A3,SO_ID,0)) -> #N/A
B4: =IFERROR(INDEX(UR_NOM,MATCH(A4,UR_ID,0))," ") | AD4: =SUM(I4,K4,M4,O4,Q4,S4,U4,W4,Y4) -> 0 | AE4: =INDEX(SO_TOT,MATCH(A4,SO_ID,0)) -> #N/A
B5: =IFERROR(INDEX(UR_NOM,MATCH(A5,UR_ID,0))," ") | AD5: =SUM(I5,K5,M5,O5,Q5,S5,U5,W5,Y5) -> 0 | AE5: =INDEX(SO_TOT,MATCH(A5,SO_ID,0)) -> #N/A
B6: =IFERROR(INDEX(UR_NOM,MATCH(A6,UR_ID,0))," ") | AD6: =SUM(I6,K6,M6,O6,Q6,S6,U6,W6,Y6) -> 0 | AE6: =INDEX(SO_TOT,MATCH(A6,SO_ID,0)) -> #N/A
B7: =IFERROR(INDEX(UR_NOM,MATCH(A7,UR_ID,0))," ") | AD7: =SUM(I7,K7,M7,O7,Q7,S7,U7,W7,Y7) -> 0 | AE7: =INDEX(SO_TOT,MATCH(A7,SO_ID,0)) -> #N/A
B8: =IFERROR(INDEX(UR_NOM,MATCH(A8,UR_ID,0))," ") | AD8: =SUM(I8,K8,M8,O8,Q8,S8,U8,W8,Y8) -> 0 | AE8: =INDEX(SO_TOT,MATCH(A8,SO_ID,0)) -> #N/A
B9: =IFERROR(INDEX(UR_NOM,MATCH(A9,UR_ID,0))," ") | AD9: =SUM(I9,K9,M9,O9,Q9,S9,U9,W9,Y9) -> 0 | AE9: =INDEX(SO_TOT,MATCH(A9,SO_ID,0)) -> #N/A
B10: =IFERROR(INDEX(UR_NOM,MATCH(A10,UR_ID,0))," ") | AD10: =SUM(I10,K10,M10,O10,Q10,S10,U10,W10,Y10) -> 0 | AE10: =INDEX(SO_TOT,MATCH(A10,SO_ID,0)) -> #N/A
B11: =IFERROR(INDEX(UR_NOM,MATCH(A11,UR_ID,0))," ") | AD11: =SUM(I11,K11,M11,O11,Q11,S11,U11,W11,Y11) -> 0 | AE11: =INDEX(SO_TOT,MATCH(A11,SO_ID,0)) -> #N/A
B12: =IFERROR(INDEX(UR_NOM,MATCH(A12,UR_ID,0))," ") | AD12: =SUM(I12,K12,M12,O12,Q12,S12,U12,W12,Y12) -> 0 | AE12: =INDEX(SO_TOT,MATCH(A12,SO_ID,0)) -> #N/A
B13: =IFERROR(INDEX(UR_NOM,MATCH(A13,UR_ID,0))," ") | AD13: =SUM(I13,K13,M13,O13,Q13,S13,U13,W13,Y13) -> 0 | AE13: =INDEX(SO_TOT,MATCH(A13,SO_ID,0)) -> #N/A
... B42: =IFERROR(INDEX(UR_NOM,MATCH(A42,UR_ID,0))," ") | AD42: =SUM(I42,K42,M42,O42,Q42,S42,U42,W42,Y42) -> 0 | AE42: =INDEX(SO_TOT,MATCH(A42,SO_ID,0)) -> #N/A
A43: Total | H43: =SUBTOTAL(109,BLOC!$H$2:$H$42) -> 0 | I43: =SUBTOTAL(109,BLOC!$I$2:$I$42) -> 0 | J43: =SUBTOTAL(109,BLOC!$J$2:$J$42) -> 0 | K43: =SUBTOTAL(109,BLOC!$K$2:$K$42) -> 0 | L43: =SUBTOTAL(109,BLOC!$L$2:$L$42) -> 0 | M43: =SUBTOTAL(109,BLOC!$M$2:$M$42) -> 0 | N43: =SUBTOTAL(109,BLOC!$N$2:$N$42) -> 0 | O43: =SUBTOTAL(109,BLOC!$O$2:$O$42) -> 0 | P43: =SUBTOTAL(109,BLOC!$P$2:$P$42) -> 0 | Q43: =SUBTOTAL(109,BLOC!$Q$2:$Q$42) -> 0 | R43: =SUBTOTAL(109,BLOC!$R$2:$R$42) -> 0 | S43: =SUBTOTAL(109,BLOC!$S$2:$S$42) -> 0 | T43: =SUBTOTAL(109,BLOC!$T$2:$T$42) -> 0 | U43: =SUBTOTAL(109,BLOC!$U$2:$U$42) -> 0 | V43: =SUBTOTAL(109,BLOC!$V$2:$V$42) -> 0 | W43: =SUBTOTAL(109,BLOC!$W$2:$W$42) -> 0 | X43: =SUBTOTAL(109,BLOC!$X$2:$X$42) -> 0 | Y43: =SUBTOTAL(109,BLOC!$Y$2:$Y$42) -> 0 | AD43: =SUBTOTAL(109,BLOC!$AD$2:$AD$42) -> 0 | AE43: =SUBTOTAL(109,BLOC!$AE$2:$AE$42) -> #N/A

Sheet URGENCES
A1: DOSSIER PATIENT | B1: NOM ET PRENOM | C1: SEXE | D1: ÂGE | E1: DATE ENTREE | F1: MEDECIN TRAITANT | G1: DIAGNOSTIC | H1: CONSULTATION MT A PAYER | I1: CONSULTATION RT A PAYER | J1: ACTES MT A PAYER | K1: ACTES RT A PAYER | L1: FORFAITS SOINS MT A PAYER | M1: FORFAITS SOINS RT A PAYER | N1: HOSPITALISATION MT A PAYER | O1: HOSPITALISATION RT A PAYER | P1: O2 MT A PAYER | Q1: O2 RT A PAYER | R1: BON PHCIE MT A PAYER | S1: PHCIE RT A PAYER | T1: BON LABO MT A PAYER | U1: LABO RT A PAYER | V1: IMAGERIE MT A PAYER | W1: IMAGERIE RT A PAYER | X1: BON BQUE SANG MT A PAYER | Y1: BQ SANG RT A PAYER | Z1: SERVICE TRANSFERT | AA1: OBSERVATIONS | AB1: DATE SORTIE | AC1: DUREE SEJOUR | AD1: SOLDE URGENCES | AE1: RESTE TOTAL A PAYER
A2: UR0117001 | B2: malla brinda | C2: F | D2: 0 | E2: 42766 | H2: 1500 | I2: 1500 | L2: 3000 | M2: 3000 | N2: 1000 | O2: 1000 | S2: 0 | Z2: PEDIATRIE | AA2: TRANSFERE | AC2: =SUM(AB2-E2) -> -42766 | AD2: =SUM(I2,K2,M2,O2,Q2,S2,U2,W2,Y2) -> 5500 | AE2: =INDEX(SO_TOT,MATCH(A2,SO_ID,0)) -> 5500
A3: UR0117002 | B3: EBON ETONGUE NATHANAEL | C3: M | D3: 5 | E3: 42766 | H3: 1500 | I3: 1500 | L3: 3000 | M3: 3000 | N3: 1000 | O3: 1000 | Z3: PEDIATRIE | AA3: TRANSFERE | AC3: =SUM(AB3-E3) -> -42766 | AD3: =SUM(I3,K3,M3,O3,Q3,S3,U3,W3,Y3) -> 5500 | AE3: =INDEX(SO_TOT,MATCH(A3,SO_ID,0)) -> 5500
A4: UR0117003 | B4: NTONE EKAMBI ARISTIDE | C4: M | D4: 45 | E4: 42766 | H4: 2000 | I4: 0 | L4: 3000 | M4: 0 | N4: 1000 | O4: 0 | R4: 14920 | S4: 0 | Z4: SCAM | AA4: SCAM | AB4: 42767 | AC4: =SUM(AB4-E4) -> 1 | AD4: =SUM(I4,K4,M4,O4,Q4,S4,U4,W4,Y4) -> 0 | AE4: =INDEX(SO_TOT,MATCH(A4,SO_ID,0)) -> 0
A5: UR0117004 | B5: TAGNE GABRIEL | C5: M | D5: 10 | E5: 42766 | H5: 2000 | I5: 0 | J5: 4000 | K5: 0 | L5: 3000 | M5: 0 | N5: 1000 | O5: 0 | R5: 3210 | S5: 0 | Z5: SCAM | AA5: SCAM | AB5: 42767 | AC5: =SUM(AB5-E5) -> 1 | AD5: =SUM(I5,K5,M5,O5,Q5,S5,U5,W5,Y5) -> 0 | AE5: =INDEX(SO_TOT,MATCH(A5,SO_ID,0)) -> 0
A6: UR0117005 | B6: KENNVO BASILE | C6: M | E6: 42766 | H6: 2000 | I6: 0 | J6: 2000 | K6: 0 | L6: 3000 | M6: 0 | N6: 1000 | O6: 0 | R6: 6145 | S6: 0 | Z6: BLOC | AA6: TRANSFERE | AB6: 42767 | AC6: =SUM(AB6-E6) -> 1 | AD6: =SUM(I6,K6,M6,O6,Q6,S6,U6,W6,Y6) -> 0 | AE6: =INDEX(SO_TOT,MATCH(A6,SO_ID,0)) -> 0
A7: UR0117006 | B7: FONKING CASIAEN | C7: M | D7: 25 | E7: 42766 | H7: 1500 | I7: 1500 | J7: 5000 | K7: 5000 | L7: 3000 | M7: 3000 | N7: 1000 | O7: 1000 | AC7: =SUM(AB7-E7) -> -42766 | AD7: =SUM(I7,K7,M7,O7,Q7,S7,U7,W7,Y7) -> 10500 | AE7: =INDEX(SO_TOT,MATCH(A7,SO_ID,0)) -> 10500
A8: UR0117007 | B8: MATOU TAGNEBIANCE | C8: M | D8: 26 | E8: 42766 | H8: 2000 | I8: 0 | K8: 0 | L8: 3000 | M8: 0 | N8: 1000 | O8: 0 | R8: 7120 | S8: 0 | Z8: SORTIE AUTORISEE | AA8: NON MEO | AB8: 42767 | AC8: =SUM(AB8-E8) -> 1 | AD8: =SUM(I8,K8,M8,O8,Q8,S8,U8,W8,Y8) -> 0 | AE8: =INDEX(SO_TOT,MATCH(A8,SO_ID,0)) -> 0
A9: UR0117008 | B9: KUERE FOSSO BOUMOBE | C9: M | D9: 21 | E9: 42766 | H9: 1500 | I9: 0 | L9: 3000 | M9: 0 | N9: 1000 | O9: 0 | P9: 35000 | Q9: 0 | R9: 11180 | S9: 0 | Z9: SORTIE AUTORISEE | AB9: 42767 | AC9: =SUM(AB9-E9) -> 1 | AD9: =SUM(I9,K9,M9,O9,Q9,S9,U9,W9,Y9) -> 0 | AE9: =INDEX(SO_TOT,MATCH(A9,SO_ID,0)) -> 0
A10: UR0117009 | B10: NGONGANG CELESTIN | C10: M | D10: 55 | E10: 42766 | H10: 2000 | I10: 0 | L10: 3000 | M10: 0 | N10: 1000 | O10: 0 | R10: 2965 | S10: 0 | Z10: BLOC | AB10: 42767 | AC10: =SUM(AB10-E10) -> 1 | AD10: =SUM(I10,K10,M10,O10,Q10,S10,U10,W10,Y10) -> 0 | AE10: =INDEX(SO_TOT,MATCH(A10,SO_ID,0)) -> 0
A11: UR0117010 | B11: KAMDEM SIMEON | C11: M | E11: 42766 | H11: 1500 | I11: 0 | L11: 3000 | M11: 0 | N11: 1000 | O11: 0 | R11: 7310 | S11: 0 | Z11: BLOC | AA11: TRANSFERE | AB11: 42767 | AC11: =SUM(AB11-E11) -> 1 | AD11: =SUM(I11,K11,M11,O11,Q11,S11,U11,W11,Y11) -> 0 | AE11: =INDEX(SO_TOT,MATCH(A11,SO_ID,0)) -> 0
A12: UR0117011 | B12: MOKAM ODETTE | C12: F | E12: 42766 | R12: 3695 | S12: 0 | Z12: SORTIE AUTORISEE | AB12: 42768 | AC12: =SUM(AB12-E12) -> 2 | AD12: =SUM(I12,K12,M12,O12,Q12,S12,U12,W12,Y12) -> 0 | AE12: =INDEX(SO_TOT,MATCH(A12,SO_ID,0)) -> 0
A13: UR0217001 | B13: WAFO GASTON | C13: M | D13: 42 | E13: 42767 | H13: 1500 | I13: 0 | J13: 5000 | K13: 0 | L13: 3000 | M13: 0 | N13: 1000 | O13: 0 | S13: 0 | Z13: SORTIE AUTORISEE | AB13: 42768 | AC13: =SUM(AB13-E13) -> 1 | AD13: =SUM(I13,K13,M13,O13,Q13,S13,U13,W13,Y13) -> 0 | AE13: =INDEX(SO_TOT,MATCH(A13,SO_ID,0)) -> 0
A14: UR0217002 | B14: EYENGA ANDRE | C14: M | E14: 42767 | H14: 1500 | I14: 0 | AC14: =SUM(AB14-E14) -> -42767 | AD14: =SUM(I14,K14,M14,O14,Q14,S14,U14,W14,Y14) -> 0 | AE14: =INDEX(SO_TOT,MATCH(A14,SO_ID,0)) -> 0
A15: UR0217003 | B15: NOVENG VANESSA | C15: F | E15: 42767 | H15: 2000 | I15: 0 | L15: 3000 | M15: 0 | N15: 1000 | O15: 0 | Z15: SORTIE AUTORISEE | AB15: 42768 | AC15: =SUM(AB15-E15) -> 1 | AD15: =SUM(I15,K15,M15,O15,Q15,S15,U15,W15,Y15) -> 0 | AE15: =INDEX(SO_TOT,MATCH(A15,SO_ID,0)) -> 0
A16: UR0217004 | B16: SAMDJE WILLI | C16: M | D16: 16 | E16: 42767 | H16: 1500 | I16: 0 | L16: 3000 | M16: 0 | N16: 1000 | O16: 0 | R16: 3705 | S16: 0 | Z16: BLOC | AA16: TRANSFERE | AB16: 42768 | AC16: =SUM(AB16-E16) -> 1 | AD16: =SUM(I16,K16,M16,O16,Q16,S16,U16,W16,Y16) -> 0 | AE16: =INDEX(SO_TOT,MATCH(A16,SO_ID,0)) -> 0
A17: UR0217005 | B17: WIMAHA REBECCA | C17: F | E17: 42767 | H17: 1500 | I17: 0 | L17: 3000 | M17: 0 | N17: 1000 | O17: 0 | Z17: PEDIATRIE | AA17: TRANSFERE | AB17: 42768 | AC17: =SUM(AB17-E17) -> 1 | AD17: =SUM(I17,K17,M17,O17,Q17,S17,U17,W17,Y17) -> 0 | AE17: =INDEX(SO_TOT,MATCH(A17,SO_ID,0)) -> 0
A18: UR0217006 | B18: MBELO RAISSA | C18: F | E18: 42767 | H18: 1500 | I18: 0 | L18: 3000 | M18: 0 | N18: 1000 | O18: 0 | Z18: PEDIATRIE | AA18: TRANSFERE | AB18: 42768 | AC18: =SUM(AB18-E18) -> 1 | AD18: =SUM(I18,K18,M18,O18,Q18,S18,U18,W18,Y18) -> 0 | AE18: =INDEX(SO_TOT,MATCH(A18,SO_ID,0)) -> 0
A19: UR0217007 | B19: TONLIO DONKENG BERNINE | C19: F | D19: 30 | E19: 42767 | H19: 2000 | I19: 0 | L19: 3000 | M19: 0 | N19: 1000 | O19: 0 | Z19: PEDIATRIE | AA19: TRANSFERE | AC19: =SUM(AB19-E19) -> -42767 | AD19: =SUM(I19,K19,M19,O19,Q19,S19,U19,W19,Y19) -> 0 | AE19: =INDEX(SO_TOT,MATCH(A19,SO_ID,0)) -> 0
A20: UR0217008 | B20: SONKOUE MARTHE | C20: F | D20: 62 | E20: 42767 | H20: 2000 | I20: 0 | J20: 1000 | K20: 0 | L20: 3000 | M20: 0 | N20: 2000 | O20: 0 | Z20: SORTIE AUTORISEE | AB20: 42769 | AC20: =SUM(AB20-E20) -> 2 | AD20: =SUM(I20,K20,M20,O20,Q20,S20,U20,W20,Y20) -> 0 | AE20: =INDEX(SO_TOT,MATCH(A20,SO_ID,0)) -> 0
A21: UR0217009 | B21: SOAFO ROBRTINE | C21: F | D21: 33 | E21: 42767 | H21: 2000 | I21: 0 | L21: 3000 | M21: 0 | N21: 1000 | O21: 0 | Z21: SORTIE AUTORISEE | AB21: 42768 | AC21: =SUM(AB21-E21) -> 1 | AD21: =SUM(I21,K21,M21,O21,Q21,S21,U21,W21,Y21) -> 0 | AE21: =INDEX(SO_TOT,MATCH(A21,SO_ID,0)) -> 0
A22: UR0217010 | B22: TATISSONG ULRICH | C22: M | E22: 42767 | H22: 2000 | I22: 0 | L22: 3000 | M22: 0 | N22: 1000 | O22: 0 | Z22: SORTIE AUTORISEE | AB22: 42768 | AC22: =SUM(AB22-E22) -> 1 | AD22: =SUM(I22,K22,M22,O22,Q22,S22,U22,W22,Y22) -> 0 | AE22: =INDEX(SO_TOT,MATCH(A22,SO_ID,0)) -> 0
A23: UR0217011 | B23: MAPOUOKAM REBECCA | C23: M | D23: 89 | E23: 42767 | H23: 1500 | I23: 0 | L23: 3000 | M23: 3000 | N23: 1000 | O23: 1000 | P23: 150000 | Q23: 150000 | Z23: REANIMATION | AA23: TRANSFERE | AB23: 42768 | AC23: =SUM(AB23-E23) -> 1 | AD23: =SUM(I23,K23,M23,O23,Q23,S23,U23,W23,Y23) -> 154000 | AE23: =INDEX(SO_TOT,MATCH(A23,SO_ID,0)) -> 154000
A24: UR0217012 | B24: NOTUE RAISSA | C24: F | D24: 25 | E24: 42768 | H24: 1500 | I24: 1500 | L24: 3000 | M24: 3000 | N24: 1000 | O24: 1000 | R24: 2005 | S24: 2005 | AC24: =SUM(AB24-E24) -> -42768 | AD24: =SUM(I24,K24,M24,O24,Q24,S24,U24,W24,Y24) -> 7505 | AE24: =INDEX(SO_TOT,MATCH(A24,SO_ID,0)) -> 7505
A25: UR0217013 | B25: MBOUOMBOUO AICHETOU | C25: F | D25: 66 | E25: 42768 | H25: 1500 | I25: 0 | L25: 3000 | M25: 0 | N25: 1000 | O25: 0 | R25: 8645 | S25: 0 | Z25: BLOC | AA25: TRANSFERE | AB25: 42769 | AC25: =SUM(AB25-E25) -> 1 | AD25: =SUM(I25,K25,M25,O25,Q25,S25,U25,W25,Y25) -> 0 | AE25: =INDEX(SO_TOT,MATCH(A25,SO_ID,0)) -> 0
A26: UR0217014 | B26: MEGNE EMILIENNE | C26: F | E26: 42768 | H26: 1500 | I26: 0 | J26: 5000 | K26: 0 | L26: 3000 | M26: 0 | N26: 1000 | O26: 0 | R26: 15640 | S26: 15640 | Z26: BLOC | AA26: TRANSFERE | AB26: 42769 | AC26: =SUM(AB26-E26) -> 1 | AD26: =SUM(I26,K26,M26,O26,Q26,S26,U26,W26,Y26) -> 15640 | AE26: =INDEX(SO_TOT,MATCH(A26,SO_ID,0)) -> 15640
A27: UR0217015 | B27: DZEKUI MADELEINE | C27: F | D27: 46 | E27: 42768 | H27: 1500 | I27: 1500 | L27: 3000 | M27: 3000 | N27: 1000 | O27: 1000 | R27: 6020 | S27: 0 | AC27: =SUM(AB27-E27) -> -42768 | AD27: =SUM(I27,K27,M27,O27,Q27,S27,U27,W27,Y27) -> 5500 | AE27: =INDEX(SO_TOT,MATCH(A27,SO_ID,0)) -> 5500
A28: UR0217016 | B28: CHECK JUNIOR | C28: M | D28: 3 | E28: 42768 | H28: 2000 | I28: 0 | L28: 3000 | M28: 0 | N28: 1000 | O28: 0 | R28: 5300 | S28: 0 | Z28: CHIRURGIE | AA28: TRANSFERE | AB28: 42769 | AC28: =SUM(AB28-E28) -> 1 | AD28: =SUM(I28,K28,M28,O28,Q28,S28,U28,W28,Y28) -> 0 | AE28: =INDEX(SO_TOT,MATCH(A28,SO_ID,0)) -> 0
A29: UR0217017 | B29: FODJEUO TAGNE ULRICH | C29: M | D29: 27 | E29: 42769 | H29: 1500 | I29: 0 | L29: 3000 | M29: 0 | N29: 1000 | O29: 0 | R29: 2335 | S29: 0 | AC29: =SUM(AB29-E29) -> -42769 | AD29: =SUM(I29,K29,M29,O29,Q29,S29,U29,W29,Y29) -> 0 | AE29: =INDEX(SO_TOT,MATCH(A29,SO_ID,0)) -> 0
A30: UR0217018 | B30: DJUIDJE GEORGETTE | C30: F | D30: 49 | E30: 42768 | H30: 15000 | I30: 0 | L30: 3000 | M30: 0 | N30: 1000 | O30: 0 | Z30: SORTIE AUTORISEE | AB30: 42769 | AC30: =SUM(AB30-E30) -> 1 | AD30: =SUM(I30,K30,M30,O30,Q30,S30,U30,W30,Y30) -> 0 | AE30: =INDEX(SO_TOT,MATCH(A30,SO_ID,0)) -> 0
A31: UR0217019 | B31: KAYOU FRANCOIS | C31: M | E31: 42768 | H31: 2000 | I31: 0 | L31: 3000 | M31: 0 | N31: 1000 | O31: 0 | Z31: SORTIE AUTORISEE | AB31: 42769 | AC31: =SUM(AB31-E31) -> 1 | AD31: =SUM(I31,K31,M31,O31,Q31,S31,U31,W31,Y31) -> 0 | AE31: =INDEX(SO_TOT,MATCH(A31,SO_ID,0)) -> 0
A32: UR0217020 | B32: PEKRIEKOUE MARIAMA | C32: F | E32: 42768 | H32: 1500 | I32: 0 | L32: 5000 | M32: 0 | N32: 1000 | O32: 0 | Z32: PEDIATRIE | AA32: TRANSFERE | AB32: 42769 | AC32: =SUM(AB32-E32) -> 1 | AD32: =SUM(I32,K32,M32,O32,Q32,S32,U32,W32,Y32) -> 0 | AE32: =INDEX(SO_TOT,MATCH(A32,SO_ID,0)) -> 0
A33: UR0217021 | B33: NGAMGNE CATHERINE | C33: F | D33: 47 | E33: 42768 | H33: 2000 | I33: 0 | J33: 5000 | K33: 0 | L33: 0 | M33: 0 | N33: 0 | O33: 0 | Z33: SCAM | AA33: SCAM | AB33: 42768 | AC33: =SUM(AB33-E33) -> 0 | AD33: =SUM(I33,K33,M33,O33,Q33,S33,U33,W33,Y33) -> 0 | AE33: =INDEX(SO_TOT,MATCH(A33,SO_ID,0)) -> 0
A34: UR0217022 | B34: AGOMO JOUANE CHRIST | C34: M | E34: 42768 | H34: 1500 | I34: 1500 | L34: 3000 | M34: 3000 | N34: 1000 | O34: 1000 | Z34: PEDIATRIE | AA34: TRANSFERE | AB34: 42769 | AC34: =SUM(AB34-E34) -> 1 | AD34: =SUM(I34,K34,M34,O34,Q34,S34,U34,W34,Y34) -> 5500 | AE34: =INDEX(SO_TOT,MATCH(A34,SO_ID,0)) -> 5500
A35: UR0217023 | B35: DZOYEM KEMKO | C35: M | D35: 18 | E35: 42768 | H35: 2000 | I35: 0 | L35: 3000 | M35: 0 | N35: 0 | O35: 0 | Z35: SCAM | AA35: SCAM | AB35: 42768 | AC35: =SUM(AB35-E35) -> 0 | AD35: =SUM(I35,K35,M35,O35,Q35,S35,U35,W35,Y35) -> 0 | AE35: =INDEX(SO_TOT,MATCH(A35,SO_ID,0)) -> 0
A36: UR0217024 | B36: NKONDJOCK FELICITE | C36: F | D36: 3 | E36: 42768 | H36: 1500 | I36: 1500 | L36: 3000 | M36: 0 | N36: 1000 | O36: 0 | Z36: PEDIATRIE | AA36: TRANSFERE | AB36: 42769 | AC36: =SUM(AB36-E36) -> 1 | AD36: =SUM(I36,K36,M36,O36,Q36,S36,U36,W36,Y36) -> 1500 | AE36: =INDEX(SO_TOT,MATCH(A36,SO_ID,0)) -> 1500
A37: UR0217025 | B37: NOUMESSI DETAWO | C37: M | D37: 3 | E37: 42768 | H37: 2000 | I37: 0 | L37: 3000 | M37: 3000 | N37: 1000 | O37: 1000 | Z37: PEDIATRIE | AA37: TRANSFERE | AB37: 42769 | AC37: =SUM(AB37-E37) -> 1 | AD37: =SUM(I37,K37,M37,O37,Q37,S37,U37,W37,Y37) -> 4000 | AE37: =INDEX(SO_TOT,MATCH(A37,SO_ID,0)) -> 4000
A38: UR0217026 | B38: KEMEGNE FORTUNE | C38: F | D38: 13 | E38: 42769 | F38: DR TCHOUTEDEM | G38: TRAUMA CRANIEN | H38: 1500 | I38: 1500 | L38: 3000 | M38: 3000 | N38: 1000 | O38: 1000 | AC38: =SUM(AB38-E38) -> -42769 | AD38: =SUM(I38,K38,M38,O38,Q38,S38,U38,W38,Y38) -> 5500 | AE38: =INDEX(SO_TOT,MATCH(A38,SO_ID,0)) -> 5500
A39: UR0217027 | B39: NGONGANG SATURIN | C39: M | D39: 48 | E39: 42769 | F39: DR TCHOUTEDEM | G39: ASCITE THROMBOSE | H39: 2000 | I39: 0 | J39: 5000 | K39: 0 | L39: 3000 | M39: 0 | N39: 1000 | O39: 0 | R39: 2650 | S39: 0 | Z39: SCAM | AA39: SCAM | AB39: 42769 | AC39: =SUM(AB39-E39) -> 0 | AD39: =SUM(I39,K39,M39,O39,Q39,S39,U39,W39,Y39) -> 0 | AE39: =INDEX(SO_TOT,MATCH(A39,SO_ID,0)) -> 0
A40: UR0217028 | B40: MAJUINE KENGNE FRANCOISE | C40: M | D40: 8 | E40: 42769 | F40: DR MISSINGA | G40: HEMOPERITOINE | H40: 1500 | I40: 1500 | J40: 0 | K40: 0 | L40: 3000 | M40: 3000 | N40: 3000 | O40: 3000 | R40: 4575 | S40: 0 | AC40: =SUM(AB40-E40) -> -42769 | AD40: =SUM(I40,K40,M40,O40,Q40,S40,U40,W40,Y40) -> 7500 | AE40: =INDEX(SO_TOT,MATCH(A40,SO_ID,0)) -> 7500
A41: UR0217029 | B41: MONKAM THOMAS | C41: M | E41: 42769 | F41: DR MISSINGA | G41: GASTRITE | H41: 1500 | I41: 0 | L41: 3000 | M41: 0 | N41: 1000 | O41: 0 | R41: 9845 | S41: 9845 | Z41: CHIRURGIE | AA41: TRANSFERE | AB41: 42769 | AC41: =SUM(AB41-E41) -> 0 | AD41: =SUM(I41,K41,M41,O41,Q41,S41,U41,W41,Y41) -> 9845 | AE41: =INDEX(SO_TOT,MATCH(A41,SO_ID,0)) -> 9845
A42: UR0217030 | B42: DJIKAM ANDRE | C42: M | E42: 42769 | F42: DR MISSINGA | G42: DIABETE | H42: 1500 | I42: 0 | L42: 3000 | M42: 0 | N42: 1000 | O42: 0 | R42: 6075 | S42: 6075 | AC42: =SUM(AB42-E42) -> -42769 | AD42: =SUM(I42,K42,M42,O42,Q42,S42,U42,W42,Y42) -> 6075 | AE42: =INDEX(SO_TOT,MATCH(A42,SO_ID,0)) -> 6075
A43: UR0217031 | B43: LANHOUTON ROGER | C43: M | D43: 23 | E43: 42769 | G43: TRAUMA DU BASSIN | H43: 2000 | I43: 0 | L43: 3000 | M43: 0 | N43: 1000 | O43: 0 | Z43: CHIRURGIE | AA43: TRANSFERE | AB43: 42769 | AC43: =SUM(AB43-E43) -> 0 | AD43: =SUM(I43,K43,M43,O43,Q43,S43,U43,W43,Y43) -> 0 | AE43: =INDEX(SO_TOT,MATCH(A43,SO_ID,0)) -> 0
A44: UR0217032 | B44: MANFO REYES | C44: M | D44: 10 | E44: 42769 | H44: 2000 | I44: 0 | L44: 3000 | M44: 0 | N44: 1000 | O44: 0 | Z44: PEDIATRIE | AA44: TRANSFERE | AB44: 42769 | AC44: =SUM(AB44-E44) -> 0 | AD44: =SUM(I44,K44,M44,O44,Q44,S44,U44,W44,Y44) -> 0 | AE44: =INDEX(SO_TOT,MATCH(A44,SO_ID,0)) -> 0
A45: UR0217033 | B45: TALING JEAN | C45: M | D45: 70 | E45: 42769 | G45: HEMORRAGIE DIGES | H45: 1500 | I45: 1500 | L45: 3000 | M45: 3000 | N45: 1000 | O45: 1000 | AC45: =SUM(AB45-E45) -> -42769 | AD45: =SUM(I45,K45,M45,O45,Q45,S45,U45,W45,Y45) -> 5500 | AE45: =INDEX(SO_TOT,MATCH(A45,SO_ID,0)) -> 5500
A46: UR0217034 | B46: NINEKEN BRAYAN | C46: M | D46: 4 | E46: 42769 | H46: 1500 | I46: 1500 | L46: 3000 | M46: 0 | N46: 1000 | O46: 0 | AC46: =SUM(AB46-E46) -> -42769 | AD46: =SUM(I46,K46,M46,O46,Q46,S46,U46,W46,Y46) -> 1500 | AE46: =INDEX(SO_TOT,MATCH(A46,SO_ID,0)) -> 1500
A47: UR0217035 | B47: NEMBOT | C47: M | E47: 42769 | H47: 2000 | I47: 0 | L47: 5000 | M47: 0 | N47: 1000 | O47: 0 | Z47: SORTIE AUTORISEE | AA47: NON MEO | AB47: 42769 | AC47: =SUM(AB47-E47) -> 0 | AD47: =SUM(I47,K47,M47,O47,Q47,S47,U47,W47,Y47) -> 0 | AE47: =INDEX(SO_TOT,MATCH(A47,SO_ID,0)) -> 0
A48: UR0217036 | B48: NDABOU RAISSA | C48: F | D48: 18 | E48: 42769 | G48: INTOXICATION | H48: 2000 | I48: 0 | J48: 2000 | K48: 0 | L48: 3000 | M48: 0 | N48: 1000 | O48: 0 | Z48: SORTIE AUTORISEE | AA48: NON MEO | AB48: 42769 | AC48: =SUM(AB48-E48) -> 0 | AD48: =SUM(I48,K48,M48,O48,Q48,S48,U48,W48,Y48) -> 0 | AE48: =INDEX(SO_TOT,MATCH(A48,SO_ID,0)) -> 0
A49: UR0217037 | B49: SILATCHOM RODRIGUE | C49: M | D49: 29 | E49: 42769 | G49: PLAIE PROFONDE | H49: 2000 | I49: 0 | J49: 5000 | K49: 0 | L49: 3000 | M49: 0 | N49: 1000 | O49: 0 | Z49: SORTIE AUTORISEE | AA49: NON MEO | AB49: 42769 | AC49: =SUM(AB49-E49) -> 0 | AD49: =SUM(I49,K49,M49,O49,Q49,S49,U49,W49,Y49) -> 0 | AE49: =INDEX(SO_TOT,MATCH(A49,SO_ID,0)) -> 0
A50: UR0217038 | B50: MVESSETH NZAPENA | C50: F | D50: 19 | E50: 42769 | G50: METRORAGIE | H50: 2000 | I50: 0 | L50: 3000 | M50: 0 | N50: 1000 | O50: 0 | AC50: =SUM(AB50-E50) -> -42769 | AD50: =SUM(I50,K50,M50,O50,Q50,S50,U50,W50,Y50) -> 0 | AE50: =INDEX(SO_TOT,MATCH(A50,SO_ID,0)) -> 0
A51: UR0217039 | B51: SONKE DILANE | C51: M | D51: 15 | E51: 42769 | G51: BRONCHOPNEUMOPATHIE | H51: 2000 | I51: 0 | L51: 3000 | M51: 0 | N51: 1000 | O51: 0 | Z51: PEDIATRIE | AA51: TRANSFERE | AB51: 42769 | AC51: =SUM(AB51-E51) -> 0 | AD51: =SUM(I51,K51,M51,O51,Q51,S51,U51,W51,Y51) -> 0 | AE51: =INDEX(SO_TOT,MATCH(A51,SO_ID,0)) -> 0
A52: UR0217040 | B52: POKEU KAMDEU | C52: M | D52: 1MOIS | E52: 42769 | G52: BRONCHOPNEUMONIE | H52: 1500 | I52: 0 | L52: 3000 | M52: 0 | N52: 1000 | O52: 0 | Z52: PEDIATRIE | AA52: TRANSFERE | AB52: 42769 | AC52: =SUM(AB52-E52) -> 0 | AD52: =SUM(I52,K52,M52,O52,Q52,S52,U52,W52,Y52) -> 0 | AE52: =INDEX(SO_TOT,MATCH(A52,SO_ID,0)) -> 0
A53: UR0217041 | B53: WOCHE GAITAN | C53: M | D53: 12 | E53: 42769 | G53: PALUDISME GRAVE | H53: 2000 | I53: 0 | L53: 3000 | M53: 0 | N53: 1000 | O53: 0 | Z53: DCD | AA53: DECEDE | AB53: 42769 | AC53: =SUM(AB53-E53) -> 0 | AD53: =SUM(I53,K53,M53,O53,Q53,S53,U53,W53,Y53) -> 0 | AE53: =INDEX(SO_TOT,MATCH(A53,SO_ID,0)) -> 0
A54: UR0217042 | B54: KOM PRINCE | C54: M | D54: 8 | E54: 42769 | H54: 2000 | I54: 0 | L54: 3000 | M54: 0 | N54: 1000 | O54: 0 | Z54: PEDIATRIE | AA54: TRANSFERE | AB54: 42769 | AC54: =SUM(AB54-E54) -> 0 | AD54: =SUM(I54,K54,M54,O54,Q54,S54,U54,W54,Y54) -> 0 | AE54: =INDEX(SO_TOT,MATCH(A54,SO_ID,0)) -> 0
A55: UR0217043 | B55: TEDONTSA DONGMO HUBERT | C55: M | D55: 42 | E55: 42770 | H55: 2000 | I55: 0 | J55: 0 | L55: 5000 | M55: 0 | N55: 0 | O55: 0 | Z55: SORTIE AUTORISEE | AA55: NON MEO | AB55: 42770 | AC55: =SUM(AB55-E55) -> 0 | AD55: =SUM(I55,K55,M55,O55,Q55,S55,U55,W55,Y55) -> 0 | AE55: =INDEX(SO_TOT,MATCH(A55,SO_ID,0)) -> 0
A56: UR0217044 | B56: MANDEH ALINE | C56: F | D56: 69 | E56: 42770 | H56: 1500 | I56: 1500 | J56: 0 | K56: 0 | L56: 3000 | M56: 3000 | N56: 1000 | O56: 1000 | AC56: =SUM(AB56-E56) -> -42770 | AD56: =SUM(I56,K56,M56,O56,Q56,S56,U56,W56,Y56) -> 5500 | AE56: =INDEX(SO_TOT,MATCH(A56,SO_ID,0)) -> 5500
A57: UR0217045 | B57: SOFEU JULIENNE | C57: F | D57: 47 | E57: 42770 | H57: 2000 | I57: 0 | L57: 3000 | M57: 0 | N57: 1000 | O57: 0 | Z57: PEDIATRIE | AA57: TRANSFERE | AB57: 42770 | AC57: =SUM(AB57-E57) -> 0 | AD57: =SUM(I57,K57,M57,O57,Q57,S57,U57,W57,Y57) -> 0 | AE57: =INDEX(SO_TOT,MATCH(A57,SO_ID,0)) -> 0
A58: UR0217046 | B58: KANA JACGUELINE | C58: F | E58: 42770 | H58: 2000 | I58: 0 | L58: 3000 | M58: 0 | N58: 1000 | O58: 0 | Z58: PEDIATRIE | AA58: TRANSFERE | AB58: 42770 | AC58: =SUM(AB58-E58) -> 0 | AD58: =SUM(I58,K58,M58,O58,Q58,S58,U58,W58,Y58) -> 0 | AE58: =INDEX(SO_TOT,MATCH(A58,SO_ID,0)) -> 0
A59: UR0217047 | B59: KOULAGNA DJOULDE | C59: M | E59: 42770 | H59: 2000 | I59: 0 | J59: 5000 | K59: 0 | L59: 3000 | M59: 0 | N59: 1000 | O59: 0 | Z59: SORTIE AUTORISEE | AA59: NON MEO | AB59: 42770 | AC59: =SUM(AB59-E59) -> 0 | AD59: =SUM(I59,K59,M59,O59,Q59,S59,U59,W59,Y59) -> 0 | AE59: =INDEX(SO_TOT,MATCH(A59,SO_ID,0)) -> 0
A60: UR0217048 | B60: ABENDE DJOLLA BELL | C60: F | D60: 25 | E60: 42770 | G60: TRAUMA CRANIEN | H60: 2000 | I60: 0 | L60: 3000 | M60: 0 | N60: 1000 | O60: 0 | Z60: SORTIE AUTORISEE | AA60: NON MEO | AB60: 42770 | AC60: =SUM(AB60-E60) -> 0 | AD60: =SUM(I60,K60,M60,O60,Q60,S60,U60,W60,Y60) -> 0 | AE60: =INDEX(SO_TOT,MATCH(A60,SO_ID,0)) -> 0
A61: UR0217049 | B61: SONNA VERONIGUE | C61: F | D61: 69 | E61: 42770 | H61: 2000 | I61: 0 | L61: 3000 | M61: 3000 | N61: 1000 | O61: 1000 | Z61: BLOC | AA61: TRANSFERE | AB61: 42770 | AC61: =SUM(AB61-E61) -> 0 | AD61: =SUM(I61,K61,M61,O61,Q61,S61,U61,W61,Y61) -> 4000 | AE61: =INDEX(SO_TOT,MATCH(A61,SO_ID,0)) -> 4000
A62: UR0217050 | B62: KAMKUIMO FRANCOIS | C62: M | D62: 36 | E62: 42770 | G62: FRACTURE OUVERTE | H62: 2000 | I62: 0 | L62: 3000 | M62: 0 | N62: 1000 | O62: 0 | Z62: BLOC | AA62: TRANSFERE | AB62: 42770 | AC62: =SUM(AB62-E62) -> 0 | AD62: =SUM(I62,K62,M62,O62,Q62,S62,U62,W62,Y62) -> 0 | AE62: =INDEX(SO_TOT,MATCH(A62,SO_ID,0)) -> 0
A63: UR0217051 | B63: SIGNING NANFA ALIDA | C63: F | D63: 17 | E63: 42770 | H63: 1500 | I63: 0 | L63: 3000 | M63: 0 | N63: 1000 | O63: 0 | Z63: SORTIE AUTORISEE | AA63: NON MEO | AB63: 42770 | AC63: =SUM(AB63-E63) -> 0 | AD63: =SUM(I63,K63,M63,O63,Q63,S63,U63,W63,Y63) -> 0 | AE63: =INDEX(SO_TOT,MATCH(A63,SO_ID,0)) -> 0
A64: UR0217052 | B64: DOH ESTELLE | C64: F | D64: 21 | E64: 42770 | H64: 2000 | I64: 0 | L64: 3000 | M64: 0 | N64: 1000 | O64: 0 | Z64: SORTIE AUTORISEE | AA64: PAS D'OBS | AB64: 42770 | AC64: =SUM(AB64-E64) -> 0 | AD64: =SUM(I64,K64,M64,O64,Q64,S64,U64,W64,Y64) -> 0 | AE64: =INDEX(SO_TOT,MATCH(A64,SO_ID,0)) -> 0
A65: UR0217053 | B65: DJUMBOUONG | C65: M | D65: 45 | E65: 42770 | G65: FRACTURE OUV TIBIA | H65: 2000 | I65: 0 | J65: 5000 | K65: 0 | L65: 3000 | M65: 0 | N65: 1000 | O65: 0 | Z65: CHIRURGIE | AA65: TRANSFERE | AB65: 42770 | AC65: =SUM(AB65-E65) -> 0 | AD65: =SUM(I65,K65,M65,O65,Q65,S65,U65,W65,Y65) -> 0 | AE65: =INDEX(SO_TOT,MATCH(A65,SO_ID,0)) -> 0
A66: UR0217054 | B66: KENGNE FOKA | C66: F | D66: 33 | E66: 42770 | G66: COLITE AIGUE | H66: 1500 | I66: 0 | L66: 3000 | M66: 0 | N66: 1000 | O66: 0 | Z66: SORTIE AUTORISEE | AA66: NON MEO | AB66: 42770 | AC66: =SUM(AB66-E66) -> 0 | AD66: =SUM(I66,K66,M66,O66,Q66,S66,U66,W66,Y66) -> 0 | AE66: =INDEX(SO_TOT,MATCH(A66,SO_ID,0)) -> 0
A67: UR0217055 | B67: TAKOUGUE JEAN | C67: M | D67: 38 | E67: 42770 | G67: TRAUMA DE LA MAIN | H67: 2000 | I67: 0 | J67: 5000 | K67: 0 | L67: 0 | M67: 0 | N67: 0 | O67: 0 | Z67: SORTIE AUTORISEE | AA67: NON MEO | AB67: 42770 | AC67: =SUM(AB67-E67) -> 0 | AD67: =SUM(I67,K67,M67,O67,Q67,S67,U67,W67,Y67) -> 0 | AE67: =INDEX(SO_TOT,MATCH(A67,SO_ID,0)) -> 0
A68: UR0217056 | B68: NOUDJEU JUNIOR | C68: M | D68: 24 | E68: 42770 | G68: CRISE HEMORROIDAIRE | H68: 2000 | I68: 0 | L68: 3000 | M68: 0 | N68: 1000 | O68: 0 | Z68: CHIRURGIE | AA68: TRANSFERE | AB68: 42770 | AC68: =SUM(AB68-E68) -> 0 | AD68: =SUM(I68,K68,M68,O68,Q68,S68,U68,W68,Y68) -> 0 | AE68: =INDEX(SO_TOT,MATCH(A68,SO_ID,0)) -> 0
A69: UR0217057 | B69: DJOUNANG DENISE | C69: F | E69: 42770 | G69: GASTROENTERITE | H69: 2000 | I69: 0 | L69: 3000 | M69: 0 | N69: 1000 | O69: 0 | Z69: PEDIATRIE | AA69: TRANSFERE | AB69: 42770 | AC69: =SUM(AB69-E69) -> 0 | AD69: =SUM(I69,K69,M69,O69,Q69,S69,U69,W69,Y69) -> 0 | AE69: =INDEX(SO_TOT,MATCH(A69,SO_ID,0)) -> 0
A70: UR0217058 | B70: ONDO ELLA GUILLAUME | C70: M | D70: 18 | E70: 42770 | G70: TRAUMA MEMBRE INF | H70: 2000 | I70: 0 | L70: 3000 | M70: 0 | N70: 1000 | O70: 0 | Z70: CHIRURGIE | AA70: TRANSFERE | AB70: 42770 | AC70: =SUM(AB70-E70) -> 0 | AD70: =SUM(I70,K70,M70,O70,Q70,S70,U70,W70,Y70) -> 0 | AE70: =INDEX(SO_TOT,MATCH(A70,SO_ID,0)) -> 0
A71: UR0217059 | B71: JUSTIN OTIOLIE | C71: M | D71: 12 | E71: 42770 | G71: PICURE PAR UN CLOU | H71: 2000 | I71: 0 | J71: 1000 | K71: 0 | L71: 0 | M71: 0 | N71: 0 | O71: 0 | Z71: SORTIE AUTORISEE | AA71: NON MEO | AB71: 42770 | AC71: =SUM(AB71-E71) -> 0 | AD71: =SUM(I71,K71,M71,O71,Q71,S71,U71,W71,Y71) -> 0 | AE71: =INDEX(SO_TOT,MATCH(A71,SO_ID,0)) -> 0
A72: UR0217060 | B72: CHOUMESSI NADEGE | C72: F | D72: 20 | E72: 42771 | H72: 2000 | I72: 0 | J72: 0 | K72: 0 | L72: 3000 | M72: 0 | N72: 1000 | O72: 0 | Z72: SORTIE AUTORISEE | AA72: NON MEO | AB72: 42771 | AC72: =SUM(AB72-E72) -> 0 | AD72: =SUM(I72,K72,M72,O72,Q72,S72,U72,W72,Y72) -> 0 | AE72: =INDEX(SO_TOT,MATCH(A72,SO_ID,0)) -> 0
A73: UR0217061 | B73: FOGOIENG PENEDE VALENTIN | C73: M | D73: 25 | E73: 42771 | H73: 2000 | I73: 0 | J73: 0 | L73: 3000 | M73: 0 | N73: 1000 | O73: 0 | Z73: SORTIE AUTORISEE | AA73: NON MEO | AB73: 42771 | AC73: =SUM(AB73-E73) -> 0 | AD73: =SUM(I73,K73,M73,O73,Q73,S73,U73,W73,Y73) -> 0 | AE73: =INDEX(SO_TOT,MATCH(A73,SO_ID,0)) -> 0
A74: UR0217062 | B74: DJIEKOUE NANY FLORE | C74: F | E74: 42771 | H74: 2000 | I74: 0 | L74: 3000 | M74: 0 | N74: 1000 | O74: 0 | Z74: PEDIATRIE | AA74: TRANSFERE | AB74: 42771 | AC74: =SUM(AB74-E74) -> 0 | AD74: =SUM(I74,K74,M74,O74,Q74,S74,U74,W74,Y74) -> 0 | AE74: =INDEX(SO_TOT,MATCH(A74,SO_ID,0)) -> 0
A75: UR0217063 | B75: SAMBAMKEU TSOUBA ARNAULD | C75: M | E75: 42771 | H75: 2000 | I75: 0 | J75: 5000 | K75: 0 | L75: 3000 | M75: 0 | N75: 1000 | O75: 0 | Z75: SORTIE AUTORISEE | AA75: NON MEO | AB75: 42771 | AC75: =SUM(AB75-E75) -> 0 | AD75: =SUM(I75,K75,M75,O75,Q75,S75,U75,W75,Y75) -> 0 | AE75: =INDEX(SO_TOT,MATCH(A75,SO_ID,0)) -> 0
A76: UR0217064 | B76: MBE RONALDO | C76: M | D76: 18 | E76: 42771 | H76: 1500 | I76: 0 | J76: 2000 | K76: 0 | L76: 3000 | M76: 0 | N76: 1000 | O76: 0 | Z76: EVACUE | AA76: NON MEO | AB76: 42771 | AC76: =SUM(AB76-E76) -> 0 | AD76: =SUM(I76,K76,M76,O76,Q76,S76,U76,W76,Y76) -> 0 | AE76: =INDEX(SO_TOT,MATCH(A76,SO_ID,0)) -> 0
A77: UR0217065 | B77: KWEYA | C77: M | D77: 1 | E77: 42771 | H77: 2000 | I77: 0 | J77: 0 | K77: 0 | L77: 3000 | M77: 0 | N77: 1000 | O77: 0 | Z77: SORTIE AUTORISEE | AA77: NON MEO | AB77: 42771 | AC77: =SUM(AB77-E77) -> 0 | AD77: =SUM(I77,K77,M77,O77,Q77,S77,U77,W77,Y77) -> 0 | AE77: =INDEX(SO_TOT,MATCH(A77,SO_ID,0)) -> 0
A78: UR0217066 | B78: DJUIDJE GEORGETTE | C78: F | E78: 42771 | H78: 1500 | I78: 0 | J78: 0 | K78: 0 | L78: 3000 | M78: 0 | N78: 1000 | O78: 0 | Z78: SORTIE AUTORISEE | AA78: DECEDE | AB78: 42771 | AC78: =SUM(AB78-E78) -> 0 | AD78: =SUM(I78,K78,M78,O78,Q78,S78,U78,W78,Y78) -> 0 | AE78: =INDEX(SO_TOT,MATCH(A78,SO_ID,0)) -> 0
A79: UR0217067 | B79: TEMGUE CHERIF | C79: M | E79: 42771 | H79: 2000 | I79: 0 | J79: 0 | K79: 0 | L79: 3000 | M79: 0 | N79: 1000 | O79: 0 | Z79: SORTIE AUTORISEE | AA79: NON MEO | AB79: 42771 | AC79: =SUM(AB79-E79) -> 0 | AD79: =SUM(I79,K79,M79,O79,Q79,S79,U79,W79,Y79) -> 0 | AE79: =INDEX(SO_TOT,MATCH(A79,SO_ID,0)) -> 0
A80: UR0217068 | B80: DOUANLA TCHABOU STEPHANE | C80: F | D80: 31 | E80: 42771 | H80: 2000 | I80: 0 | J80: 0 | L80: 3000 | M80: 0 | N80: 1000 | O80: 0 | Z80: BLOC | AA80: TRANSFERE | AB80: 42771 | AC80: =SUM(AB80-E80) -> 0 | AD80: =SUM(I80,K80,M80,O80,Q80,S80,U80,W80,Y80) -> 0 | AE80: =INDEX(SO_TOT,MATCH(A80,SO_ID,0)) -> 0
A81: UR0217069 | B81: DJOUGO JEAN | C81: M | D81: 54 | E81: 42771 | H81: 2000 | I81: 0 | J81: 5000 | K81: 5000 | L81: 3000 | M81: 3000 | N81: 1000 | O81: 1000 | AC81: =SUM(AB81-E81) -> -42771 | AD81: =SUM(I81,K81,M81,O81,Q81,S81,U81,W81,Y81) -> 9000 | AE81: =INDEX(SO_TOT,MATCH(A81,SO_ID,0)) -> 9000
A82: UR0217070 | B82: BOBOW GOGIUB EUGINE | C82: M | D82: 28 | E82: 42771 | H82: 15000 | I82: 0 | J82: 0 | K82: 0 | L82: 3000 | M82: 3000 | N82: 1000 | O82: 1000 | Z82: BLOC | AA82: TRANSFERE | AB82: 42771 | AC82: =SUM(AB82-E82) -> 0 | AD82: =SUM(I82,K82,M82,O82,Q82,S82,U82,W82,Y82) -> 4000 | AE82: =INDEX(SO_TOT,MATCH(A82,SO_ID,0)) -> 4000
A83: UR0217071 | B83: NGUOUBOUO MADELIENNE | C83: F | E83: 42771 | H83: 2000 | I83: 0 | J83: 0 | K83: 0 | L83: 3000 | M83: 0 | N83: 1000 | O83: 0 | Z83: BLOC | AA83: TRANSFERE | AB83: 42771 | AC83: =SUM(AB83-E83) -> 0 | AD83: =SUM(I83,K83,M83,O83,Q83,S83,U83,W83,Y83) -> 0 | AE83: =INDEX(SO_TOT,MATCH(A83,SO_ID,0)) -> 0
A84: UR0217072 | B84: WAFO TENE BERTRAND | C84: M | D84: 29 | E84: 42771 | G84: FRACTUE DE LA JAMBE D | H84: 2000 | I84: 0 | J84: 5000 | K84: 0 | L84: 3000 | M84: 0 | N84: 2000 | O84: 0 | R84: 3910 | S84: 0 | Z84: SCAM | AA84: SCAM | AB84: 42773 | AC84: =SUM(AB84-E84) -> 2 | AD84: =SUM(I84,K84,M84,O84,Q84,S84,U84,W84,Y84) -> 0 | AE84: =INDEX(SO_TOT,MATCH(A84,SO_ID,0)) -> 0
A85: UR0217073 | B85: CHEBONG VANESSA | C85: F | E85: 42771 | H85: 1500 | I85: 1500 | L85: 3000 | M85: 3000 | N85: 1000 | O85: 1000 | AC85: =SUM(AB85-E85) -> -42771 | AD85: =SUM(I85,K85,M85,O85,Q85,S85,U85,W85,Y85) -> 5500 | AE85: =INDEX(SO_TOT,MATCH(A85,SO_ID,0)) -> 5500
A86: UR0217074 | B86: TAMOU DJOUNG | C86: M | D86: 14 | E86: 42771 | H86: 2000 | I86: 0 | J86: 0 | K86: 0 | L86: 3000 | M86: 0 | N86: 1000 | O86: 0 | Z86: SORTIE AUTORISEE | AA86: NON MEO | AB86: 42772 | AC86: =SUM(AB86-E86) -> 1 | AD86: =SUM(I86,K86,M86,O86,Q86,S86,U86,W86,Y86) -> 0 | AE86: =INDEX(SO_TOT,MATCH(A86,SO_ID,0)) -> 0
A87: UR0217075 | B87: NDAM ABDOU WARISSOU | C87: M | D87: 17 | E87: 42771 | H87: 2000 | J87: 3000 | K87: 0 | L87: 3000 | M87: 0 | N87: 1000 | O87: 0 | Z87: SORTIE AUTORISEE | AA87: NON MEO | AB87: 42772 | AC87: =SUM(AB87-E87) -> 1 | AD87: =SUM(I87,K87,M87,O87,Q87,S87,U87,W87,Y87) -> 0 | AE87: =INDEX(SO_TOT,MATCH(A87,SO_ID,0)) -> 0
A88: UR0217076 | B88: NGAPOUM CHRISTINE | C88: F | D88: 66 | E88: 42771 | H88: 1500 | I88: 1500 | J88: 0 | K88: 0 | L88: 3000 | M88: 3000 | N88: 1000 | O88: 1000 | AC88: =SUM(AB88-E88) -> -42771 | AD88: =SUM(I88,K88,M88,O88,Q88,S88,U88,W88,Y88) -> 5500 | AE88: =INDEX(SO_TOT,MATCH(A88,SO_ID,0)) -> 5500
A89: UR0217077 | B89: DJAM JEAN | C89: M | D89: 57 | E89: 42771 | H89: 2000 | I89: 0 | J89: 0 | K89: 0 | L89: 3000 | M89: 0 | N89: 1000 | O89: 0 | R89: 2005 | S89: 0 | AC89: =SUM(AB89-E89) -> -42771 | AD89: =SUM(I89,K89,M89,O89,Q89,S89,U89,W89,Y89) -> 0 | AE89: =INDEX(SO_TOT,MATCH(A89,SO_ID,0)) -> 0
A90: UR0217078 | B90: DJOUHOUO ANNE | C90: F | D90: 50 | E90: 42772 | H90: 1500 | I90: 0 | J90: 4000 | K90: 0 | L90: 3000 | M90: 0 | N90: 1000 | O90: 0 | Z90: DCD | AA90: DECEDE | AB90: 42772 | AC90: =SUM(AB90-E90) -> 0 | AD90: =SUM(I90,K90,M90,O90,Q90,S90,U90,W90,Y90) -> 0 | AE90: =INDEX(SO_TOT,MATCH(A90,SO_ID,0)) -> 0
A91: UR0217079 | B91: tegel dongo | C91: F | D91: 18 | E91: 42772 | G91: conjonctivite bacterienne | H91: 1500 | I91: 0 | J91: 0 | K91: 0 | L91: 3000 | M91: 0 | N91: 1000 | O91: 0 | Z91: PEDIATRIE | AA91: TRANSFERE | AB91: 42772 | AC91: =SUM(AB91-E91) -> 0 | AD91: =SUM(I91,K91,M91,O91,Q91,S91,U91,W91,Y91) -> 0 | AE91: =INDEX(SO_TOT,MATCH(A91,SO_ID,0)) -> 0
A92: UR0217080 | B92: MEFFO ARIOL | C92: F | D92: 19 | E92: 42772 | G92: HOULLE HYDROELECTRIQUE | H92: 1500 | I92: 1500 | J92: 0 | K92: 0 | L92: 3000 | M92: 3000 | N92: 1000 | O92: 1000 | R92: 3035 | S92: 0 | Z92: BLOC | AA92: TRANSFERE | AB92: 42772 | AC92: =SUM(AB92-E92) -> 0 | AD92: =SUM(I92,K92,M92,O92,Q92,S92,U92,W92,Y92) -> 5500 | AE92: =INDEX(SO_TOT,MATCH(A92,SO_ID,0)) -> 5500
A93: UR0217081 | B93: MAKEU MADELEINNE | C93: F | D93: 58 | E93: 42772 | G93: CONTUSION THORACIGUE | H93: 1500 | I93: 0 | J93: 0 | K93: 0 | L93: 3000 | M93: 0 | N93: 1000 | O93: 0 | R93: 3500 | S93: 0 | Z93: SORTIE AUTORISEE | AA93: NON MEO | AB93: 42772 | AC93: =SUM(AB93-E93) -> 0 | AD93: =SUM(I93,K93,M93,O93,Q93,S93,U93,W93,Y93) -> 0 | AE93: =INDEX(SO_TOT,MATCH(A93,SO_ID,0)) -> 0
A94: UR0217082 | B94: NGOWEGNI REGINE | C94: F | D94: 62 | E94: 42772 | G94: A E G | H94: 1500 | I94: 0 | J94: 0 | K94: 0 | L94: 3000 | M94: 0 | N94: 1000 | O94: 0 | R94: 4095 | S94: 0 | Z94: BLOC | AA94: TRANSFERE | AB94: 42773 | AC94: =SUM(AB94-E94) -> 1 | AD94: =SUM(I94,K94,M94,O94,Q94,S94,U94,W94,Y94) -> 0 | AE94: =INDEX(SO_TOT,MATCH(A94,SO_ID,0)) -> 0
A95: UR0217083 | B95: KEMGOUNKON MOHBOU ANNOLD | C95: M | D95: 20 | E95: 42772 | H95: 1500 | I95: 0 | J95: 0 | K95: 0 | L95: 3000 | M95: 3000 | N95: 1000 | O95: 1000 | Z95: BLOC | AA95: TRANSFERE | AB95: 42773 | AC95: =SUM(AB95-E95) -> 1 | AD95: =SUM(I95,K95,M95,O95,Q95,S95,U95,W95,Y95) -> 4000 | AE95: =INDEX(SO_TOT,MATCH(A95,SO_ID,0)) -> 4000
A96: UR0217084 | B96: KUATE JOSEPH | C96: M | D96: 59 | E96: 42772 | G96: RETENTION URINAIRE | H96: 15000 | I96: 0 | J96: 2000 | K96: 0 | L96: 3000 | M96: 0 | N96: 1000 | O96: 0 | Z96: SORTIE AUTORISEE | AA96: NON MEO | AB96: 42773 | AC96: =SUM(AB96-E96) -> 1 | AD96: =SUM(I96,K96,M96,O96,Q96,S96,U96,W96,Y96) -> 0 | AE96: =INDEX(SO_TOT,MATCH(A96,SO_ID,0)) -> 0
A97: UR0217085 | B97: NGUENSU KENMOGNE ARCHANG | C97: M | D97: 2 | E97: 42772 | H97: 15000 | I97: 0 | J97: 0 | K97: 0 | L97: 3000 | M97: 0 | N97: 1000 | O97: 0 | R97: 3020 | S97: 0 | Z97: PEDIATRIE | AA97: TRANSFERE | AB97: 42773 | AC97: =SUM(AB97-E97) -> 1 | AD97: =SUM(I97,K97,M97,O97,Q97,S97,U97,W97,Y97) -> 0 | AE97: =INDEX(SO_TOT,MATCH(A97,SO_ID,0)) -> 0
A98: UR0217086 | B98: NYE MARIE | C98: F | D98: 26 | E98: 42772 | G98: SEPSIS A INVESTIGUE | H98: 1500 | I98: 0 | J98: 0 | K98: 0 | L98: 3000 | M98: 0 | N98: 1000 | O98: 0 | R98: 4680 | S98: 0 | Z98: PEDIATRIE | AA98: TRANSFERE | AB98: 42773 | AC98: =SUM(AB98-E98) -> 1 | AD98: =SUM(I98,K98,M98,O98,Q98,S98,U98,W98,Y98) -> 0 | AE98: =INDEX(SO_TOT,MATCH(A98,SO_ID,0)) -> 0
A99: UR0217087 | B99: MIGHIGNIEN EDITH | C99: F | D99: 21 | E99: 42772 | G99: P I D | H99: 2000 | I99: 0 | J99: 0 | K99: 0 | L99: 3000 | M99: 0 | N99: 1000 | O99: 0 | R99: 3180 | S99: 0 | Z99: CHIRURGIE | AA99: TRANSFERE | AB99: 42773 | AC99: =SUM(AB99-E99) -> 1 | AD99: =SUM(I99,K99,M99,O99,Q99,S99,U99,W99,Y99) -> 0 | AE99: =INDEX(SO_TOT,MATCH(A99,SO_ID,0)) -> 0
A100: UR0217088 | B100: NZIE | C100: M | D100: 19 | E100: 42772 | H100: 2000 | I100: 0 | J100: 7000 | K100: 0 | L100: 3000 | M100: 0 | N100: 1000 | O100: 0 | P100: 5000 | Q100: 0 | R100: 15120 | S100: 0 | Z100: DCD | AA100: DECEDE | AB100: 42773 | AC100: =SUM(AB100-E100) -> 1 | AD100: =SUM(I100,K100,M100,O100,Q100,S100,U100,W100,Y100) -> 0 | AE100: =INDEX(SO_TOT,MATCH(A100,SO_ID,0)) -> 0
...

Sheet listes
A1: DECEDE
A2: NON MEO
A3: SCAM
A4: TRANSFERE
A5: EVADE
A9: BLOC
A10: CARDIOLOGIE
A11: CHIRURGIE
A12: DCD
A13: DERMATOLOGIE
A14: DIABETO
A15: ENDOSCOPIE
... A36: M

Sheet F_SOLDES
A1: Mle | B1: Urgences | C1: Bloc | D1: Pediatrie | E1: Chirurgie | F1: Rea | G1: TOTAL | H1: DIFF BONS
A2: =URGENCES!A2 -> UR0117001 | B2: =IFERROR(INDEX(UR_SOLD,MATCH(A2,UR_ID,0)),0) -> 5500 | C2: =IFERROR(INDEX(BL_SOLD,MATCH(A2,BL_ID,0)),0) -> 0 | D2: =IFERROR(INDEX(PED_SOLD,MATCH(A2,PED_ID,0)),0) -> 0 | E2: =IFERROR(INDEX(CH_SOLD,MATCH(A2,CH_ID,0)),0) -> 0 | F2: =IFERROR(INDEX(RE_SOLD,MATCH(A2,RE_ID,0)),0) -> 0 | G2: =IF(SUM(B2:F2)<=H2,H2,SUM(B2:F2)) -> 5500 | H2: =IFERROR(IF(INDEX(RE_BON,MATCH(A2,RE_ID,0))<SUM(B2:F2),INDEX(RE_BON,MATCH(A2,RE_ID,0)),SUM(B2:F2)),0) -> 5500
A3: =URGENCES!A3 -> UR0117002 | B3: =IFERROR(INDEX(UR_SOLD,MATCH(A3,UR_ID,0)),0) -> 5500 | C3: =IFERROR(INDEX(BL_SOLD,MATCH(A3,BL_ID,0)),0) -> 0 | D3: =IFERROR(INDEX(PED_SOLD,MATCH(A3,PED_ID,0)),0) -> 0 | E3: =IFERROR(INDEX(CH_SOLD,MATCH(A3,CH_ID,0)),0) -> 0 | F3: =IFERROR(INDEX(RE_SOLD,MATCH(A3,RE_ID,0)),0) -> 0 | G3: =IF(SUM(B3:F3)<=H3,H3,SUM(B3:F3)) -> 5500 | H3: =IFERROR(IF(INDEX(RE_BON,MATCH(A3,RE_ID,0))<SUM(B3:F3),INDEX(RE_BON,MATCH(A3,RE_ID,0)),SUM(B3:F3)),0) -> 5500
A4: =URGENCES!A4 -> UR0117003 | B4: =IFERROR(INDEX(UR_SOLD,MATCH(A4,UR_ID,0)),0) -> 0 | C4: =IFERROR(INDEX(BL_SOLD,MATCH(A4,BL_ID,0)),0) -> 0 | D4: =IFERROR(INDEX(PED_SOLD,MATCH(A4,PED_ID,0)),0) -> 0 | E4: =IFERROR(INDEX(CH_SOLD,MATCH(A4,CH_ID,0)),0) -> 0 | F4: =IFERROR(INDEX(RE_SOLD,MATCH(A4,RE_ID,0)),0) -> 0 | G4: =IF(SUM(B4:F4)<=H4,H4,SUM(B4:F4)) -> 0 | H4: =IFERROR(IF(INDEX(RE_BON,MATCH(A4,RE_ID,0))<SUM(B4:F4),INDEX(RE_BON,MATCH(A4,RE_ID,0)),SUM(B4:F4)),0) -> 0
A5: =URGENCES!A5 -> UR0117004 | B5: =IFERROR(INDEX(UR_SOLD,MATCH(A5,UR_ID,0)),0) -> 0 | C5: =IFERROR(INDEX(BL_SOLD,MATCH(A5,BL_ID,0)),0) -> 0 | D5: =IFERROR(INDEX(PED_SOLD,MATCH(A5,PED_ID,0)),0) -> 0 | E5: =IFERROR(INDEX(CH_SOLD,MATCH(A5,CH_ID,0)),0) -> 0 | F5: =IFERROR(INDEX(RE_SOLD,MATCH(A5,RE_ID,0)),0) -> 0 | G5: =IF(SUM(B5:F5)<=H5,H5,SUM(B5:F5)) -> 0 | H5: =IFERROR(IF(INDEX(RE_BON,MATCH(A5,RE_ID,0))<SUM(B5:F5),INDEX(RE_BON,MATCH(A5,RE_ID,0)),SUM(B5:F5)),0) -> 0
A6: =URGENCES!A6 -> UR0117005 | B6: =IFERROR(INDEX(UR_SOLD,MATCH(A6,UR_ID,0)),0) -> 0 | C6: =IFERROR(INDEX(BL_SOLD,MATCH(A6,BL_ID,0)),0) -> 0 | D6: =IFERROR(INDEX(PED_SOLD,MATCH(A6,PED_ID,0)),0) -> 0 | E6: =IFERROR(INDEX(CH_SOLD,MATCH(A6,CH_ID,0)),0) -> 0 | F6: =IFERROR(INDEX(RE_SOLD,MATCH(A6,RE_ID,0)),0) -> 0 | G6: =IF(SUM(B6:F6)<=H6,H6,SUM(B6:F6)) -> 0 | H6: =IFERROR(IF(INDEX(RE_BON,MATCH(A6,RE_ID,0))<SUM(B6:F6),INDEX(RE_BON,MATCH(A6,RE_ID,0)),SUM(B6:F6)),0) -> 0
A7: =URGENCES!A7 -> UR0117006 | B7: =IFERROR(INDEX(UR_SOLD,MATCH(A7,UR_ID,0)),0) -> 10500 | C7: =IFERROR(INDEX(BL_SOLD,MATCH(A7,BL_ID,0)),0) -> 0 | D7: =IFERROR(INDEX(PED_SOLD,MATCH(A7,PED_ID,0)),0) -> 0 | E7: =IFERROR(INDEX(CH_SOLD,MATCH(A7,CH_ID,0)),0) -> 0 | F7: =IFERROR(INDEX(RE_SOLD,MATCH(A7,RE_ID,0)),0) -> 0 | G7: =IF(SUM(B7:F7)<=H7,H7,SUM(B7:F7)) -> 10500 | H7: =IFERROR(IF(INDEX(RE_BON,MATCH(A7,RE_ID,0))<SUM(B7:F7),INDEX(RE_BON,MATCH(A7,RE_ID,0)),SUM(B7:F7)),0) -> 10500
A8: =URGENCES!A8 -> UR0117007 | B8: =IFERROR(INDEX(UR_SOLD,MATCH(A8,UR_ID,0)),0) -> 0 | C8: =IFERROR(INDEX(BL_SOLD,MATCH(A8,BL_ID,0)),0) -> 0 | D8: =IFERROR(INDEX(PED_SOLD,MATCH(A8,PED_ID,0)),0) -> 0 | E8: =IFERROR(INDEX(CH_SOLD,MATCH(A8,CH_ID,0)),0) -> 0 | F8: =IFERROR(INDEX(RE_SOLD,MATCH(A8,RE_ID,0)),0) -> 0 | G8: =IF(SUM(B8:F8)<=H8,H8,SUM(B8:F8)) -> 0 | H8: =IFERROR(IF(INDEX(RE_BON,MATCH(A8,RE_ID,0))<SUM(B8:F8),INDEX(RE_BON,MATCH(A8,RE_ID,0)),SUM(B8:F8)),0) -> 0
A9: =URGENCES!A9 -> UR0117008 | B9: =IFERROR(INDEX(UR_SOLD,MATCH(A9,UR_ID,0)),0) -> 0 | C9: =IFERROR(INDEX(BL_SOLD,MATCH(A9,BL_ID,0)),0) -> 0 | D9: =IFERROR(INDEX(PED_SOLD,MATCH(A9,PED_ID,0)),0) -> 0 | E9: =IFERROR(INDEX(CH_SOLD,MATCH(A9,CH_ID,0)),0) -> 0 | F9: =IFERROR(INDEX(RE_SOLD,MATCH(A9,RE_ID,0)),0) -> 0 | G9: =IF(SUM(B9:F9)<=H9,H9,SUM(B9:F9)) -> 0 | H9: =IFERROR(IF(INDEX(RE_BON,MATCH(A9,RE_ID,0))<SUM(B9:F9),INDEX(RE_BON,MATCH(A9,RE_ID,0)),SUM(B9:F9)),0) -> 0
A10: =URGENCES!A10 -> UR0117009 | B10: =IFERROR(INDEX(UR_SOLD,MATCH(A10,UR_ID,0)),0) -> 0 | C10: =IFERROR(INDEX(BL_SOLD,MATCH(A10,BL_ID,0)),0) -> 0 | D10: =IFERROR(INDEX(PED_SOLD,MATCH(A10,PED_ID,0)),0) -> 0 | E10: =IFERROR(INDEX(CH_SOLD,MATCH(A10,CH_ID,0)),0) -> 0 | F10: =IFERROR(INDEX(RE_SOLD,MATCH(A10,RE_ID,0)),0) -> 0 | G10: =IF(SUM(B10:F10)<=H10,H10,SUM(B10:F10)) -> 0 | H10: =IFERROR(IF(INDEX(RE_BON,MATCH(A10,RE_ID,0))<SUM(B10:F10),INDEX(RE_BON,MATCH(A10,RE_ID,0)),SUM(B10:F10)),0) -> 0
A11: =URGENCES!A11 -> UR0117010 | B11: =IFERROR(INDEX(UR_SOLD,MATCH(A11,UR_ID,0)),0) -> 0 | C11: =IFERROR(INDEX(BL_SOLD,MATCH(A11,BL_ID,0)),0) -> 0 | D11: =IFERROR(INDEX(PED_SOLD,MATCH(A11,PED_ID,0)),0) -> 0 | E11: =IFERROR(INDEX(CH_SOLD,MATCH(A11,CH_ID,0)),0) -> 0 | F11: =IFERROR(INDEX(RE_SOLD,MATCH(A11,RE_ID,0)),0) -> 0 | G11: =IF(SUM(B11:F11)<=H11,H11,SUM(B11:F11)) -> 0 | H11: =IFERROR(IF(INDEX(RE_BON,MATCH(A11,RE_ID,0))<SUM(B11:F11),INDEX(RE_BON,MATCH(A11,RE_ID,0)),SUM(B11:F11)),0) -> 0
A12: =URGENCES!A12 -> UR0117011 | B12: =IFERROR(INDEX(UR_SOLD,MATCH(A12,UR_ID,0)),0) -> 0 | C12: =IFERROR(INDEX(BL_SOLD,MATCH(A12,BL_ID,0)),0) -> 0 | D12: =IFERROR(INDEX(PED_SOLD,MATCH(A12,PED_ID,0)),0) -> 0 | E12: =IFERROR(INDEX(CH_SOLD,MATCH(A12,CH_ID,0)),0) -> 0 | F12: =IFERROR(INDEX(RE_SOLD,MATCH(A12,RE_ID,0)),0) -> 0 | G12: =IF(SUM(B12:F12)<=H12,H12,SUM(B12:F12)) -> 0 | H12: =IFERROR(IF(INDEX(RE_BON,MATCH(A12,RE_ID,0))<SUM(B12:F12),INDEX(RE_BON,MATCH(A12,RE_ID,0)),SUM(B12:F12)),0) -> 0
A13: =URGENCES!A13 -> UR0217001 | B13: =IFERROR(INDEX(UR_SOLD,MATCH(A13,UR_ID,0)),0) -> 0 | C13: =IFERROR(INDEX(BL_SOLD,MATCH(A13,BL_ID,0)),0) -> 0 | D13: =IFERROR(INDEX(PED_SOLD,MATCH(A13,PED_ID,0)),0) -> 0 | E13: =IFERROR(INDEX(CH_SOLD,MATCH(A13,CH_ID,0)),0) -> 0 | F13: =IFERROR(INDEX(RE_SOLD,MATCH(A13,RE_ID,0)),0) -> 0 | G13: =IF(SUM(B13:F13)<=H13,H13,SUM(B13:F13)) -> 0 | H13: =IFERROR(IF(INDEX(RE_BON,MATCH(A13,RE_ID,0))<SUM(B13:F13),INDEX(RE_BON,MATCH(A13,RE_ID,0)),SUM(B13:F13)),0) -> 0
... A204: =URGENCES!A204 -> UR0217192 | B204: =IFERROR(INDEX(UR_SOLD,MATCH(A204,UR_ID,0)),0) -> 0 | C204: =IFERROR(INDEX(BL_SOLD,MATCH(A204,BL_ID,0)),0) -> 0 | D204: =IFERROR(INDEX(PED_SOLD,MATCH(A204,PED_ID,0)),0) -> 0 | E204: =IFERROR(INDEX(CH_SOLD,MATCH(A204,CH_ID,0)),0) -> 0 | F204: =IFERROR(INDEX(RE_SOLD,MATCH(A204,RE_ID,0)),0) -> 0 | G204: =IF(SUM(B204:F204)<=H204,H204,SUM(B204:F204)) -> 0 | H204: =IFERROR(IF(INDEX(RE_BON,MATCH(A204,RE_ID,0))<SUM(B204:F204),INDEX(RE_BON,MATCH(A204,RE_ID,0)),SUM(B204:F204)),0) -> 0

Sheet RECOUV
A1: DOSSIER PATIENT | B1: NOM ET PRENOM | C1: DATE ENTREE | D1: MONTANT BONS | E1: MT RECOUV | F1: SOLDE AP RECOUV
A2: UR0117001 | B2: malla brinda | C2: 42766 | D2: 5500 | F2: =D2-E2 -> 5500
A3: UR0117002 | B3: EBON ETONGUE NATHANAEL | C3: 42766 | D3: 5500 | F3: =D3-E3 -> 5500
A4: UR0117006 | B4: FONKING CASIAEN | C4: 42766 | D4: 10500 | F4: =D4-E4 -> 10500
A5: UR0217011 | B5: MAPOUOKAM REBECCA | C5: 42767 | D5: 154000 | F5: =D5-E5 -> 154000
A6: UR0217012 | B6: NOTUE RAISSA | C6: 42768 | D6: 7505 | F6: =D6-E6 -> 7505
A7: UR0217014 | B7: MEGNE EMILIENNE | C7: 42768 | D7: 15640 | F7: =D7-E7 -> 15640
A8: UR0217015 | B8: DZEKUI MADELEINE | C8: 42768 | D8: 5500 | F8: =D8-E8 -> 5500
A9: UR0217022 | B9: AGOMO JOUANE CHRIST | C9: 42768 | D9: 5500 | F9: =D9-E9 -> 5500
A10: UR0217024 | B10: NKONDJOCK FELICITE | C10: 42768 | D10: 1500 | F10: =D10-E10 -> 1500
A11: UR0217025 | B11: NOUMESSI DETAWO | C11: 42768 | D11: 4000 | F11: =D11-E11 -> 4000
A12: UR0217026 | B12: KEMEGNE FORTUNE | C12: 42769 | D12: 5500 | F12: =D12-E12 -> 5500
A13: UR0217028 | B13: MAJUINE KENGNE FRANCOISE | C13: 42769 | D13: 7500 | F13: =D13-E13 -> 7500
... A47: UR0217180 | B47: NGUEMOGNE CHANCELINE | C47: 42778 | D47: 4000 | F47: =D47-E47 -> 4000
A48: Total général | D48: 473565 | F48: =D48-E48 -> 473565
F49: =D49-E49 -> 0
F50: =D50-E50 -> 0
F51: =D51-E51 -> 0
F52: =D52-E52 -> 0
F53: =D53-E53 -> 0
F54: =D54-E54 -> 0
F55: =D55-E55 -> 0
F56: =D56-E56 -> 0
F57: =D57-E57 -> 0
F58: =D58-E58 -> 0
F59: =D59-E59 -> 0
F60: =D60-E60 -> 0
... F3024: =D3024-E3024 -> 0
