Workbook
Name a: tournée!#REF!
Name agences: tournée!$B$2
Name b: tournée!#REF!
Name tournée: tournée!#REF!

Sheet tournée
A1: AMILLY + SENS
A2: A/A + PARC BAIN | D2: Heure de début de service | E2: Tournée
A3: AGEN | D3: 16H00 | E3: AMILLY + SENS
A4: AGEN DIM | D4: 17H | E4: A/A + PARC BAIN
A5: AMILLY / SENS | D5: 16H15 | E5: AGEN
A6: ANGERS + BASES | D6: 15H | E6: AGEN DIM
A7: ATHIS 1 FERIE 17H30 | D7: 18H45 | E7: AMILLY / SENS
A8: BASES 23H | D8: 18H | E8: ANGERS + BASES
A9: BASES DIM | D9: 17H30 | E9: ATHIS 1 FERIE 17H30
A10: CAEN FERIE 17H | D10: 23H00 | E10: BASES 23H
A11: CLERMONT FERIE 18H15 | D11: 21H30 | E11: BASES DIM
A12: CONGES | D12: 17H | E12: CAEN FERIE 17H
A13: DIJON FERIE 14H | D13: 18H15 | E13: CLERMONT FERIE 18H15
A14: INDISPO | D14: 0 | E14: CONGES
A15: INTER DEPOTS DIM | D15: 14H | E15: DIJON FERIE 14H
A16: JACQUET SA | D16: 0 | E16: INDISPO
A17: LANGRES FERIE | D17: 16H00 | E17: INTER DEPOTS DIM
A18: LE MANS A/A | D18: 12H00 | E18: JACQUET SA
A19: NANTES + BASES | D19: 15H | E19: LANGRES FERIE
A20: NAV ATHIS 2 | D20: 15H30 | E20: LE MANS A/A
A21: NAV CHATEAUBOUR | D21: 20H30 | E21: NANTES + BASES
A22: NAV CHAULNES | D22: 20H45 | E22: NAV ATHIS 2
A23: NAV CLERMONT | D23: 15H15 | E23: NAV CHATEAUBOUR
A24: NAV DIJON | D24: 18H30 | E24: NAV CHAULNES
A25: NAV LANGRES | D25: 18H | E25: NAV CLERMONT
A26: NAV LILLE | D26: 14H45 | E26: NAV DIJON
A27: NAV NIORT | D27: 17H | E27: NAV LANGRES
A28: NAV NIORT 21H15 | D28: 18H00 | E28: NAV LILLE
... A87: RETOUR AGEN | D87: 9H30 | E87: RAM SAM 9H30
A88: RETOUR ORLEANS | D88: 0 | E88: RCR
A89: RETOUR ORLEANS LU | D89: 0 | E89: REPOS
A90: RETOUR ORLEANS SA | D90: 16H00 | E90: RETOUR AGEN
A91: ROUEN + BASES | D91: 14H15 | E91: RETOUR ORLEANS
A92: SU FONTENAY | D92: 11H00 | E92: RETOUR ORLEANS LU
A93: SU FONTENAY 12H | D93: 13H15 | E93: RETOUR ORLEANS SA
A94: SU IFS + BASES | D94: 11H | E94: RAM SAM 11H
A95: SUP A/A PARIS | D95: 20H15 | E95: ROUEN + BASES
A96: VEH EMBALLAGES | D96: 12H | E96: SU FONTENAY
A97: VENDEE | D97: 15H45 | E97: NAV LANGRE DIM
D98: 12H | E98: SU FONTENAY 12H
D99: 20H | E99: SU IFS + BASES
D100: 14H | E100: SUP A/A PARIS
D101: 9H | E101: VEH EMBALLAGES
D102: 16H | E102: VENDEE

Sheet ram ou 
B3: NAV ATHIS 2
B4: NAV CHATEAUBOUR
B5: NAV CHAULNES
B6: NAV CLERMONT
B7: NAV DIJON
B8: NAV LANGRES
B9: NAV LILLE
B10: NAV NIORT
B11: NAV ST SEVER
B12: NAV VELAINES
B13: RAM + NANTES 21H
B14: RAM + 20H TOURS
... B21: RAM 14H00

Sheet chauffeur
B2: RAMASSE NAVETTE | C2: GRANDE LIGNE | D2: INTERIMAIRE
B3: NOMS | C3: NOMS | D3: NOMS
B4: ARZAC | C4: DENIS | D4: BELLOIR
B5: AUPIED | C5: GUYOT | D5: BENARD
B6: BARRE | C6: LETARD | D6: CAUDRON
B7: BELHARCH | C7: VIVIER | D7: DIARRA
B8: BERTHELOT | D8: DUPE
B9: BEZIEL | D9: EVRARD
B10: BRILLET | D10: HENRY Y
B11: CARREAU | D11: HOCHART
B12: CHAUVIN | D12: KOUPRAVA
B13: CHIKHA | D13: LEMIERE
B14: CHOTARD | D14: LEROUYER
B15: CHRETIEN | D15: METAYER
B16: DEGUELDRE | D16: RAVACHE
B17: DELALANDE | D17: ROUAULT
B18: DUAULT | D18: UZEL
B19: DUGUE | D19: HUET
B20: DUGUE A
B21: EL MANDILI
B22: FEVRIER
B23: FOUCAUD
B24: GUESDON
B25: GUEZENNEC
B26: HABASQUE
B27: HENRY
B28: HORVAIS
B29: HUARD
B30: HUS
B31: JALU
... B54: VISSEICHE

Sheet athis 2
B3: BARRE | C3: BRILLET | D3: CHAUVIN | E3: CHOTARD | F3: DELALANDE | G3: DUGUE A | H3: FOUCAUD | I3: GUEZENNEC | J3: HENRY | K3: HORVAIS | L3: LAABID R | M3: LEMARCHAND | N3: MACE | O3: MEURDRAC | P3: NICOL | Q3: NOLLET | R3: PETIT | S3: RAZE | T3: ROUAUD | U3: SINIVASSIN | V3: VISSEICHE | W3: DENIS | X3: GUYOT | Y3: LETARD | Z3: VIVIER
A4: NAV ATHIS 2 | B4: =VLOOKUP(A4,'planing annuel'!B1:AQ20,2,FALSE) -> 1 | C4: =VLOOKUP(B4,'planing annuel'!C1:AR20,2,FALSE) -> 1 | D4: =VLOOKUP(C4,'planing annuel'!D1:AS20,2,FALSE) -> 2 | E4: =VLOOKUP(D4,'planing annuel'!E1:AT20,2,FALSE) -> 2 | F4: =VLOOKUP(E4,'planing annuel'!F1:AU20,2,FALSE) -> 1 | G4: =VLOOKUP(F4,'planing annuel'!G1:AV20,2,FALSE) -> 2 | H4: =VLOOKUP(G4,'planing annuel'!H1:AW20,2,FALSE) -> 1 | I4: =VLOOKUP(H4,'planing annuel'!I1:AX20,2,FALSE) -> 1 | ... Z4: =VLOOKUP(Y4,'planing annuel'!Z1:BO20,2,FALSE) -> 1

Sheet nav chateaubourg
B3: BARRE | C3: BRILLET | D3: CHAUVIN | E3: CHOTARD | F3: DELALANDE | G3: DUGUE A | H3: FOUCAUD | I3: GUEZENNEC | J3: HENRY | K3: HORVAIS | L3: LAABID R | M3: LEMARCHAND | N3: MACE | O3: MEURDRAC | P3: NICOL | Q3: NOLLET | R3: PETIT | S3: RAZE | T3: ROUAUD | U3: SINIVASSIN | V3: VISSEICHE | W3: DENIS | X3: GUYOT | Y3: LETARD | Z3: VIVIER
A4: NAV CHATEAUBOUR | B4: =VLOOKUP(A4,'planing annuel'!B1:AA20,2,FALSE) -> 2 | C4: =VLOOKUP(B4,'planing annuel'!C1:AB20,2,FALSE) -> 2 | D4: =VLOOKUP(C4,'planing annuel'!D1:AC20,2,FALSE) -> 1 | E4: =VLOOKUP(D4,'planing annuel'!E1:AD20,2,FALSE) -> 0 | F4: =VLOOKUP(E4,'planing annuel'!F1:AE20,2,FALSE) -> 1 | G4: =VLOOKUP(F4,'planing annuel'!G1:AF20,2,FALSE) -> 2 | H4: =VLOOKUP(G4,'planing annuel'!H1:AG20,2,FALSE) -> 1 | I4: =VLOOKUP(H4,'planing annuel'!I1:AH20,2,FALSE) -> 1 | ... Z4: =VLOOKUP(Y4,'planing annuel'!Z1:AY20,2,FALSE) -> 1

Sheet nav chaulnes
B3: BARRE | C3: BRILLET | D3: CHAUVIN | E3: CHOTARD | F3: DELALANDE | G3: DUGUE A | H3: FOUCAUD | I3: GUEZENNEC | J3: HENRY | K3: HORVAIS | L3: LAABID R | M3: LEMARCHAND | N3: MACE | O3: MEURDRAC | P3: NICOL | Q3: NOLLET | R3: PETIT | S3: RAZE | T3: ROUAUD | U3: SINIVASSIN | V3: VISSEICHE | W3: DENIS | X3: GUYOT | Y3: LETARD | Z3: VIVIER
A4: NAV CHAULNES

Sheet nav clermonts
B3: BARRE | C3: BRILLET | D3: CHAUVIN | E3: CHOTARD | F3: DELALANDE | G3: DUGUE A | H3: FOUCAUD | I3: GUEZENNEC | J3: HENRY | K3: HORVAIS | L3: LAABID R | M3: LEMARCHAND | N3: MACE | O3: MEURDRAC | P3: NICOL | Q3: NOLLET | R3: PETIT | S3: RAZE | T3: ROUAUD | U3: SINIVASSIN | V3: VISSEICHE | W3: DENIS | X3: GUYOT | Y3: LETARD | Z3: VIVIER
A4: NAV CLERMONT

Sheet nav dijon
B3: BARRE | C3: BRILLET | D3: CHAUVIN | E3: CHOTARD | F3: DELALANDE | G3: DUGUE A | H3: FOUCAUD | I3: GUEZENNEC | J3: HENRY | K3: HORVAIS | L3: LAABID R | M3: LEMARCHAND | N3: MACE | O3: MEURDRAC | P3: NICOL | Q3: NOLLET | R3: PETIT | S3: RAZE | T3: ROUAUD | U3: SINIVASSIN | V3: VISSEICHE | W3: DENIS | X3: GUYOT | Y3: LETARD | Z3: VIVIER
A4: NAV DIJON

Sheet nav langres
B3: BARRE | C3: BRILLET | D3: CHAUVIN | E3: CHOTARD | F3: DELALANDE | G3: DUGUE A | H3: FOUCAUD | I3: GUEZENNEC | J3: HENRY | K3: HORVAIS | L3: LAABID R | M3: LEMARCHAND | N3: MACE | O3: MEURDRAC | P3: NICOL | Q3: NOLLET | R3: PETIT | S3: RAZE | T3: ROUAUD | U3: SINIVASSIN | V3: VISSEICHE | W3: DENIS | X3: GUYOT | Y3: LETARD | Z3: VIVIER
A4: NAV LANGRES

Sheet nav lille
B3: BARRE | C3: BRILLET | D3: CHAUVIN | E3: CHOTARD | F3: DELALANDE | G3: DUGUE A | H3: FOUCAUD | I3: GUEZENNEC | J3: HENRY | K3: HORVAIS | L3: LAABID R | M3: LEMARCHAND | N3: MACE | O3: MEURDRAC | P3: NICOL | Q3: NOLLET | R3: PETIT | S3: RAZE | T3: ROUAUD | U3: SINIVASSIN | V3: VISSEICHE | W3: DENIS | X3: GUYOT | Y3: LETARD | Z3: VIVIER
A4: NAV LILLE

Sheet planing annuel
C1: BARRE | D1: BRILLET | E1: CHAUVIN | F1: CHOTARD | G1: DELALANDE | H1: DUGUE A | I1: FOUCAUD | J1: GUEZENNEC | K1: HENRY | L1: HORVAIS | M1: LAABID R | N1: LEMARCHAND | O1: MACE | P1: MEURDRAC | Q1: NICOL | R1: NOLLET | S1: PETIT | T1: RAZE | U1: ROUAUD | V1: SINIVASSIN | W1: VISSEICHE | X1: DENIS | Y1: GUYOT | Z1: LETARD | AA1: VIVIER | AB1: BELLOIR | AC1: BENARD | AD1: CAUDRON | AE1: DIARRA | AF1: DUPE | AG1: EVRARD | AH1: HENRY Y | AI1: HOCHART | AJ1: KOUPRAVA | AK1: LEMIERE | AL1: LEROUYER | AM1: METAYER | AN1: RAVACHE | AO1: ROUAULT | AP1: UZEL | AQ1: HUET
B2: NAV ATHIS 2 | C2: =COUNTIF($C$24:$C$389,B2) -> 1 | D2: =COUNTIF($D$24:$D$389,B2) -> 1 | E2: =COUNTIF($E$24:$E$389,B2) -> 2 | F2: =COUNTIF($F$24:$F$389,B2) -> 2 | G2: =COUNTIF($G$24:$G$389,B2) -> 1 | H2: =COUNTIF($H$24:$H$389,B2) -> 2 | I2: =COUNTIF($I$24:$I$389,B2) -> 1 | J2: =COUNTIF($J$24:$J$389,B2) -> 1 | K2: =COUNTIF($K$24:$K$389,B2) -> 1 | L2: =COUNTIF($L$24:$L$389,B2) -> 1 | M2: =COUNTIF($M$24:$M$389,B2) -> 1 | N2: =COUNTIF($N$24:$N$389,B2) -> 1 | O2: =COUNTIF($O$24:$O$389,B2) -> 1 | P2: =COUNTIF($P$24:$P$389,B2) -> 1 | Q2: =COUNTIF($Q$24:$Q$389,B2) -> 1 | R2: =COUNTIF($R$24:$R$389,B2) -> 1 | S2: =COUNTIF($S$24:$S$389,B2) -> 1 | T2: =COUNTIF($T$24:$T$389,B2) -> 1 | U2: =COUNTIF($U$24:$U$389,B2) -> 1 | V2: =COUNTIF($V$24:$V$389,B2) -> 1 | W2: =COUNTIF($W$24:$W$389,B2) -> 1 | X2: =COUNTIF($X$24:$X$389,B2) -> 1 | Y2: =COUNTIF($Y$24:$Y$389,B2) -> 1 | Z2: =COUNTIF($Z$24:$Z$389,B2) -> 1 | AA2: =COUNTIF($AA$24:$AA$389,B2) -> 1 | AB2: =COUNTIF($AB$24:$AB$389,B2) -> 1 | AC2: =COUNTIF($AC$24:$AC$389,B2) -> 1 | AD2: =COUNTIF($AD$24:$AD$389,B2) -> 1 | AE2: =COUNTIF($AE$24:$AE$389,B2) -> 1 | AF2: =COUNTIF($AF$24:$AF$389,B2) -> 1 | AG2: =COUNTIF($AG$24:$AG$389,B2) -> 0 | AH2: =COUNTIF($AH$24:$AH$389,B2) -> 0 | AI2: =COUNTIF($AI$24:$AI$389,B2) -> 0 | AJ2: =COUNTIF($AJ$24:$AJ$389,B2) -> 0 | AK2: =COUNTIF($AK$24:$AK$389,B2) -> 0 | AL2: =COUNTIF($AL$24:$AL$389,B2) -> 0 | AM2: =COUNTIF($AM$24:$AM$389,B2) -> 0 | AN2: =COUNTIF($AN$24:$AN$389,B2) -> 0 | AO2: =COUNTIF($AO$24:$AO$389,B2) -> 2 | AP2: =COUNTIF($AP$24:$AP$389,B2) -> 0 | AQ2: =COUNTIF($AQ$24:$AQ$389,B2) -> 1
B3: NAV CHATEAUBOUR | C3: =COUNTIF($C$24:$C$389,B3) -> 2 | D3: =COUNTIF($D$24:$D$389,B3) -> 2 | E3: =COUNTIF($E$24:$E$389,B3) -> 1 | F3: =COUNTIF($F$24:$F$389,B3) -> 0 | G3: =COUNTIF($G$24:$G$389,B3) -> 1 | H3: =COUNTIF($H$24:$H$389,B3) -> 4 | I3: =COUNTIF($I$24:$I$389,B3) -> 0 | J3: =COUNTIF($J$24:$J$389,B3) -> 0 | K3: =COUNTIF($K$24:$K$389,B3) -> 0 | L3: =COUNTIF($L$24:$L$389,B3) -> 0 | M3: =COUNTIF($M$24:$M$389,B3) -> 0 | N3: =COUNTIF($N$24:$N$389,B3) -> 0 | O3: =COUNTIF($O$24:$O$389,B3) -> 0 | P3: =COUNTIF($P$24:$P$389,B3) -> 0 | Q3: =COUNTIF($Q$24:$Q$389,B3) -> 0 | R3: =COUNTIF($R$24:$R$389,B3) -> 0 | S3: =COUNTIF($S$24:$S$389,B3) -> 0 | T3: =COUNTIF($T$24:$T$389,B3) -> 0 | U3: =COUNTIF($U$24:$U$389,B3) -> 0 | V3: =COUNTIF($V$24:$V$389,B3) -> 0 | W3: =COUNTIF($W$24:$W$389,B3) -> 0 | X3: =COUNTIF($X$24:$X$389,B3) -> 0 | Y3: =COUNTIF($Y$24:$Y$389,B3) -> 0 | Z3: =COUNTIF($Z$24:$Z$389,B3) -> 0 | AA3: =COUNTIF($AA$24:$AA$389,B3) -> 2 | AB3: =COUNTIF($AB$24:$AB$389,B3) -> 1 | AC3: =COUNTIF($AC$24:$AC$389,B3) -> 0 | AD3: =COUNTIF($AD$24:$AD$389,B3) -> 0 | AE3: =COUNTIF($AE$24:$AE$389,B3) -> 0 | AF3: =COUNTIF($AF$24:$AF$389,B3) -> 0 | AG3: =COUNTIF($AG$24:$AG$389,B3) -> 0 | AH3: =COUNTIF($AH$24:$AH$389,B3) -> 0 | AI3: =COUNTIF($AI$24:$AI$389,B3) -> 0 | AJ3: =COUNTIF($AJ$24:$AJ$389,B3) -> 0 | AK3: =COUNTIF($AK$24:$AK$389,B3) -> 0 | AL3: =COUNTIF($AL$24:$AL$389,B3) -> 0 | AM3: =COUNTIF($AM$24:$AM$389,B3) -> 0 | AN3: =COUNTIF($AN$24:$AN$389,B3) -> 0 | AO3: =COUNTIF($AO$24:$AO$389,B3) -> 0 | AP3: =COUNTIF($AP$24:$AP$389,B3) -> 0 | AQ3: =COUNTIF($AQ$24:$AQ$389,B3) -> 0
B4: NAV CHAULNES | C4: =COUNTIF($C$24:$C$389,B4) -> 1 | D4: =COUNTIF($D$24:$D$389,B4) -> 0 | E4: =COUNTIF($E$24:$E$389,B4) -> 0 | F4: =COUNTIF($F$24:$F$389,B4) -> 0 | G4: =COUNTIF($G$24:$G$389,B4) -> 0 | H4: =COUNTIF($H$24:$H$389,B4) -> 0 | I4: =COUNTIF($I$24:$I$389,B4) -> 0 | J4: =COUNTIF($J$24:$J$389,B4) -> 0 | K4: =COUNTIF($K$24:$K$389,B4) -> 0 | L4: =COUNTIF($L$24:$L$389,B4) -> 0 | M4: =COUNTIF($M$24:$M$389,B4) -> 0 | N4: =COUNTIF($N$24:$N$389,B4) -> 0 | O4: =COUNTIF($O$24:$O$389,B4) -> 0 | P4: =COUNTIF($P$24:$P$389,B4) -> 0 | Q4: =COUNTIF($Q$24:$Q$389,B4) -> 0 | R4: =COUNTIF($R$24:$R$389,B4) -> 0 | S4: =COUNTIF($S$24:$S$389,B4) -> 0 | T4: =COUNTIF($T$24:$T$389,B4) -> 0 | U4: =COUNTIF($U$24:$U$389,B4) -> 0 | V4: =COUNTIF($V$24:$V$389,B4) -> 0 | W4: =COUNTIF($W$24:$W$389,B4) -> 0 | X4: =COUNTIF($X$24:$X$389,B4) -> 0 | Y4: =COUNTIF($Y$24:$Y$389,B4) -> 0 | Z4: =COUNTIF($Z$24:$Z$389,B4) -> 0 | AA4: =COUNTIF($AA$24:$AA$389,B4) -> 0 | AB4: =COUNTIF($AB$24:$AB$389,B4) -> 0 | AC4: =COUNTIF($AC$24:$AC$389,B4) -> 0 | AD4: =COUNTIF($AD$24:$AD$389,B4) -> 0 | AE4: =COUNTIF($AE$24:$AE$389,B4) -> 0 | AF4: =COUNTIF($AF$24:$AF$389,B4) -> 0 | AG4: =COUNTIF($AG$24:$AG$389,B4) -> 0 | AH4: =COUNTIF($AH$24:$AH$389,B4) -> 0 | AI4: =COUNTIF($AI$24:$AI$389,B4) -> 0 | AJ4: =COUNTIF($AJ$24:$AJ$389,B4) -> 0 | AK4: =COUNTIF($AK$24:$AK$389,B4) -> 0 | AL4: =COUNTIF($AL$24:$AL$389,B4) -> 0 | AM4: =COUNTIF($AM$24:$AM$389,B4) -> 0 | AN4: =COUNTIF($AN$24:$AN$389,B4) -> 0 | AO4: =COUNTIF($AO$24:$AO$389,B4) -> 0 | AP4: =COUNTIF($AP$24:$AP$389,B4) -> 0 | AQ4: =COUNTIF($AQ$24:$AQ$389,B4) -> 0
B5: NAV CLERMONT | C5: =COUNTIF($C$24:$C$389,B5) -> 0 | D5: =COUNTIF($D$24:$D$389,B5) -> 0 | E5: =COUNTIF($E$24:$E$389,B5) -> 1 | F5: =COUNTIF($F$24:$F$389,B5) -> 0 | G5: =COUNTIF($G$24:$G$389,B5) -> 0 | H5: =COUNTIF($H$24:$H$389,B5) -> 1 | I5: =COUNTIF($I$24:$I$389,B5) -> 0 | J5: =COUNTIF($J$24:$J$389,B5) -> 0 | K5: =COUNTIF($K$24:$K$389,B5) -> 0 | L5: =COUNTIF($L$24:$L$389,B5) -> 0 | M5: =COUNTIF($M$24:$M$389,B5) -> 0 | N5: =COUNTIF($N$24:$N$389,B5) -> 0 | O5: =COUNTIF($O$24:$O$389,B5) -> 0 | P5: =COUNTIF($P$24:$P$389,B5) -> 0 | Q5: =COUNTIF($Q$24:$Q$389,B5) -> 0 | R5: =COUNTIF($R$24:$R$389,B5) -> 0 | S5: =COUNTIF($S$24:$S$389,B5) -> 0 | T5: =COUNTIF($T$24:$T$389,B5) -> 0 | U5: =COUNTIF($U$24:$U$389,B5) -> 0 | V5: =COUNTIF($V$24:$V$389,B5) -> 0 | W5: =COUNTIF($W$24:$W$389,B5) -> 0 | X5: =COUNTIF($X$24:$X$389,B5) -> 0 | Y5: =COUNTIF($Y$24:$Y$389,B5) -> 0 | Z5: =COUNTIF($Z$24:$Z$389,B5) -> 0 | AA5: =COUNTIF($AA$24:$AA$389,B5) -> 0 | AB5: =COUNTIF($AB$24:$AB$389,B5) -> 0 | AC5: =COUNTIF($AC$24:$AC$389,B5) -> 0 | AD5: =COUNTIF($AD$24:$AD$389,B5) -> 0 | AE5: =COUNTIF($AE$24:$AE$389,B5) -> 0 | AF5: =COUNTIF($AF$24:$AF$389,B5) -> 0 | AG5: =COUNTIF($AG$24:$AG$389,B5) -> 0 | AH5: =COUNTIF($AH$24:$AH$389,B5) -> 0 | AI5: =COUNTIF($AI$24:$AI$389,B5) -> 0 | AJ5: =COUNTIF($AJ$24:$AJ$389,B5) -> 0 | AK5: =COUNTIF($AK$24:$AK$389,B5) -> 0 | AL5: =COUNTIF($AL$24:$AL$389,B5) -> 0 | AM5: =COUNTIF($AM$24:$AM$389,B5) -> 0 | AN5: =COUNTIF($AN$24:$AN$389,B5) -> 0 | AO5: =COUNTIF($AO$24:$AO$389,B5) -> 0 | AP5: =COUNTIF($AP$24:$AP$389,B5) -> 0 | AQ5: =COUNTIF($AQ$24:$AQ$389,B5) -> 0
B6: NAV DIJON | C6: =COUNTIF($C$24:$C$389,B6) -> 0 | D6: =COUNTIF($D$24:$D$389,B6) -> 0 | E6: =COUNTIF($E$24:$E$389,B6) -> 0 | F6: =COUNTIF($F$24:$F$389,B6) -> 0 | G6: =COUNTIF($G$24:$G$389,B6) -> 0 | H6: =COUNTIF($H$24:$H$389,B6) -> 1 | I6: =COUNTIF($I$24:$I$389,B6) -> 0 | J6: =COUNTIF($J$24:$J$389,B6) -> 0 | K6: =COUNTIF($K$24:$K$389,B6) -> 0 | L6: =COUNTIF($L$24:$L$389,B6) -> 0 | M6: =COUNTIF($M$24:$M$389,B6) -> 0 | N6: =COUNTIF($N$24:$N$389,B6) -> 0 | O6: =COUNTIF($O$24:$O$389,B6) -> 0 | P6: =COUNTIF($P$24:$P$389,B6) -> 0 | Q6: =COUNTIF($Q$24:$Q$389,B6) -> 0 | R6: =COUNTIF($R$24:$R$389,B6) -> 0 | S6: =COUNTIF($S$24:$S$389,B6) -> 0 | T6: =COUNTIF($T$24:$T$389,B6) -> 0 | U6: =COUNTIF($U$24:$U$389,B6) -> 0 | V6: =COUNTIF($V$24:$V$389,B6) -> 0 | W6: =COUNTIF($W$24:$W$389,B6) -> 0 | X6: =COUNTIF($X$24:$X$389,B6) -> 0 | Y6: =COUNTIF($Y$24:$Y$389,B6) -> 0 | Z6: =COUNTIF($Z$24:$Z$389,B6) -> 0 | AA6: =COUNTIF($AA$24:$AA$389,B6) -> 0 | AB6: =COUNTIF($AB$24:$AB$389,B6) -> 0 | AC6: =COUNTIF($AC$24:$AC$389,B6) -> 0 | AD6: =COUNTIF($AD$24:$AD$389,B6) -> 0 | AE6: =COUNTIF($AE$24:$AE$389,B6) -> 0 | AF6: =COUNTIF($AF$24:$AF$389,B6) -> 0 | AG6: =COUNTIF($AG$24:$AG$389,B6) -> 0 | AH6: =COUNTIF($AH$24:$AH$389,B6) -> 0 | AI6: =COUNTIF($AI$24:$AI$389,B6) -> 0 | AJ6: =COUNTIF($AJ$24:$AJ$389,B6) -> 0 | AK6: =COUNTIF($AK$24:$AK$389,B6) -> 0 | AL6: =COUNTIF($AL$24:$AL$389,B6) -> 0 | AM6: =COUNTIF($AM$24:$AM$389,B6) -> 0 | AN6: =COUNTIF($AN$24:$AN$389,B6) -> 0 | AO6: =COUNTIF($AO$24:$AO$389,B6) -> 0 | AP6: =COUNTIF($AP$24:$AP$389,B6) -> 0 | AQ6: =COUNTIF($AQ$24:$AQ$389,B6) -> 0
B7: NAV LANGRES | C7: =COUNTIF($C$24:$C$389,B7) -> 0 | D7: =COUNTIF($D$24:$D$389,B7) -> 0 | E7: =COUNTIF($E$24:$E$389,B7) -> 0 | F7: =COUNTIF($F$24:$F$389,B7) -> 0 | G7: =COUNTIF($G$24:$G$389,B7) -> 0 | H7: =COUNTIF($H$24:$H$389,B7) -> 0 | I7: =COUNTIF($I$24:$I$389,B7) -> 0 | J7: =COUNTIF($J$24:$J$389,B7) -> 0 | K7: =COUNTIF($K$24:$K$389,B7) -> 0 | L7: =COUNTIF($L$24:$L$389,B7) -> 0 | M7: =COUNTIF($M$24:$M$389,B7) -> 0 | N7: =COUNTIF($N$24:$N$389,B7) -> 0 | O7: =COUNTIF($O$24:$O$389,B7) -> 0 | P7: =COUNTIF($P$24:$P$389,B7) -> 0 | Q7: =COUNTIF($Q$24:$Q$389,B7) -> 0 | R7: =COUNTIF($R$24:$R$389,B7) -> 0 | S7: =COUNTIF($S$24:$S$389,B7) -> 0 | T7: =COUNTIF($T$24:$T$389,B7) -> 0 | U7: =COUNTIF($U$24:$U$389,B7) -> 0 | V7: =COUNTIF($V$24:$V$389,B7) -> 0 | W7: =COUNTIF($W$24:$W$389,B7) -> 0 | X7: =COUNTIF($X$24:$X$389,B7) -> 0 | Y7: =COUNTIF($Y$24:$Y$389,B7) -> 0 | Z7: =COUNTIF($Z$24:$Z$389,B7) -> 0 | AA7: =COUNTIF($AA$24:$AA$389,B7) -> 0 | AB7: =COUNTIF($AB$24:$AB$389,B7) -> 0 | AC7: =COUNTIF($AC$24:$AC$389,B7) -> 0 | AD7: =COUNTIF($AD$24:$AD$389,B7) -> 0 | AE7: =COUNTIF($AE$24:$AE$389,B7) -> 0 | AF7: =COUNTIF($AF$24:$AF$389,B7) -> 0 | AG7: =COUNTIF($AG$24:$AG$389,B7) -> 0 | AH7: =COUNTIF($AH$24:$AH$389,B7) -> 0 | AI7: =COUNTIF($AI$24:$AI$389,B7) -> 0 | AJ7: =COUNTIF($AJ$24:$AJ$389,B7) -> 0 | AK7: =COUNTIF($AK$24:$AK$389,B7) -> 0 | AL7: =COUNTIF($AL$24:$AL$389,B7) -> 0 | AM7: =COUNTIF($AM$24:$AM$389,B7) -> 0 | AN7: =COUNTIF($AN$24:$AN$389,B7) -> 0 | AO7: =COUNTIF($AO$24:$AO$389,B7) -> 0 | AP7: =COUNTIF($AP$24:$AP$389,B7) -> 0 | AQ7: =COUNTIF($AQ$24:$AQ$389,B7) -> 0
B8: NAV LILLE | C8: =COUNTIF($C$24:$C$389,B8) -> 0 | D8: =COUNTIF($D$24:$D$389,B8) -> 0 | E8: =COUNTIF($E$24:$E$389,B8) -> 0 | F8: =COUNTIF($F$24:$F$389,B8) -> 0 | G8: =COUNTIF($G$24:$G$389,B8) -> 0 | H8: =COUNTIF($H$24:$H$389,B8) -> 0 | I8: =COUNTIF($I$24:$I$389,B8) -> 0 | J8: =COUNTIF($J$24:$J$389,B8) -> 0 | K8: =COUNTIF($K$24:$K$389,B8) -> 0 | L8: =COUNTIF($L$24:$L$389,B8) -> 0 | M8: =COUNTIF($M$24:$M$389,B8) -> 0 | N8: =COUNTIF($N$24:$N$389,B8) -> 0 | O8: =COUNTIF($O$24:$O$389,B8) -> 0 | P8: =COUNTIF($P$24:$P$389,B8) -> 0 | Q8: =COUNTIF($Q$24:$Q$389,B8) -> 0 | R8: =COUNTIF($R$24:$R$389,B8) -> 0 | S8: =COUNTIF($S$24:$S$389,B8) -> 0 | T8: =COUNTIF($T$24:$T$389,B8) -> 0 | U8: =COUNTIF($U$24:$U$389,B8) -> 0 | V8: =COUNTIF($V$24:$V$389,B8) -> 0 | W8: =COUNTIF($W$24:$W$389,B8) -> 0 | X8: =COUNTIF($X$24:$X$389,B8) -> 0 | Y8: =COUNTIF($Y$24:$Y$389,B8) -> 0 | Z8: =COUNTIF($Z$24:$Z$389,B8) -> 0 | AA8: =COUNTIF($AA$24:$AA$389,B8) -> 0 | AB8: =COUNTIF($AB$24:$AB$389,B8) -> 0 | AC8: =COUNTIF($AC$24:$AC$389,B8) -> 0 | AD8: =COUNTIF($AD$24:$AD$389,B8) -> 0 | AE8: =COUNTIF($AE$24:$AE$389,B8) -> 0 | AF8: =COUNTIF($AF$24:$AF$389,B8) -> 0 | AG8: =COUNTIF($AG$24:$AG$389,B8) -> 0 | AH8: =COUNTIF($AH$24:$AH$389,B8) -> 0 | AI8: =COUNTIF($AI$24:$AI$389,B8) -> 0 | AJ8: =COUNTIF($AJ$24:$AJ$389,B8) -> 0 | AK8: =COUNTIF($AK$24:$AK$389,B8) -> 0 | AL8: =COUNTIF($AL$24:$AL$389,B8) -> 0 | AM8: =COUNTIF($AM$24:$AM$389,B8) -> 0 | AN8: =COUNTIF($AN$24:$AN$389,B8) -> 0 | AO8: =COUNTIF($AO$24:$AO$389,B8) -> 0 | AP8: =COUNTIF($AP$24:$AP$389,B8) -> 0 | AQ8: =COUNTIF($AQ$24:$AQ$389,B8) -> 0
B9: NAV NIORT | C9: =COUNTIF($C$24:$C$389,B9) -> 1 | D9: =COUNTIF($D$24:$D$389,B9) -> 0 | E9: =COUNTIF($E$24:$E$389,B9) -> 0 | F9: =COUNTIF($F$24:$F$389,B9) -> 0 | G9: =COUNTIF($G$24:$G$389,B9) -> 0 | H9: =COUNTIF($H$24:$H$389,B9) -> 0 | I9: =COUNTIF($I$24:$I$389,B9) -> 0 | J9: =COUNTIF($J$24:$J$389,B9) -> 0 | K9: =COUNTIF($K$24:$K$389,B9) -> 0 | L9: =COUNTIF($L$24:$L$389,B9) -> 0 | M9: =COUNTIF($M$24:$M$389,B9) -> 0 | N9: =COUNTIF($N$24:$N$389,B9) -> 0 | O9: =COUNTIF($O$24:$O$389,B9) -> 0 | P9: =COUNTIF($P$24:$P$389,B9) -> 0 | Q9: =COUNTIF($Q$24:$Q$389,B9) -> 0 | R9: =COUNTIF($R$24:$R$389,B9) -> 0 | S9: =COUNTIF($S$24:$S$389,B9) -> 0 | T9: =COUNTIF($T$24:$T$389,B9) -> 0 | U9: =COUNTIF($U$24:$U$389,B9) -> 0 | V9: =COUNTIF($V$24:$V$389,B9) -> 0 | W9: =COUNTIF($W$24:$W$389,B9) -> 0 | X9: =COUNTIF($X$24:$X$389,B9) -> 0 | Y9: =COUNTIF($Y$24:$Y$389,B9) -> 0 | Z9: =COUNTIF($Z$24:$Z$389,B9) -> 0 | AA9: =COUNTIF($AA$24:$AA$389,B9) -> 0 | AB9: =COUNTIF($AB$24:$AB$389,B9) -> 0 | AC9: =COUNTIF($AC$24:$AC$389,B9) -> 0 | AD9: =COUNTIF($AD$24:$AD$389,B9) -> 0 | AE9: =COUNTIF($AE$24:$AE$389,B9) -> 0 | AF9: =COUNTIF($AF$24:$AF$389,B9) -> 0 | AG9: =COUNTIF($AG$24:$AG$389,B9) -> 0 | AH9: =COUNTIF($AH$24:$AH$389,B9) -> 0 | AI9: =COUNTIF($AI$24:$AI$389,B9) -> 0 | AJ9: =COUNTIF($AJ$24:$AJ$389,B9) -> 0 | AK9: =COUNTIF($AK$24:$AK$389,B9) -> 0 | AL9: =COUNTIF($AL$24:$AL$389,B9) -> 0 | AM9: =COUNTIF($AM$24:$AM$389,B9) -> 0 | AN9: =COUNTIF($AN$24:$AN$389,B9) -> 0 | AO9: =COUNTIF($AO$24:$AO$389,B9) -> 0 | AP9: =COUNTIF($AP$24:$AP$389,B9) -> 0 | AQ9: =COUNTIF($AQ$24:$AQ$389,B9) -> 0
B10: NAV ST SEVER | C10: =COUNTIF($C$24:$C$389,B10) -> 0 | D10: =COUNTIF($D$24:$D$389,B10) -> 0 | E10: =COUNTIF($E$24:$E$389,B10) -> 0 | F10: =COUNTIF($F$24:$F$389,B10) -> 0 | G10: =COUNTIF($G$24:$G$389,B10) -> 0 | H10: =COUNTIF($H$24:$H$389,B10) -> 0 | I10: =COUNTIF($I$24:$I$389,B10) -> 0 | J10: =COUNTIF($J$24:$J$389,B10) -> 0 | K10: =COUNTIF($K$24:$K$389,B10) -> 0 | L10: =COUNTIF($L$24:$L$389,B10) -> 0 | M10: =COUNTIF($M$24:$M$389,B10) -> 0 | N10: =COUNTIF($N$24:$N$389,B10) -> 0 | O10: =COUNTIF($O$24:$O$389,B10) -> 0 | P10: =COUNTIF($P$24:$P$389,B10) -> 0 | Q10: =COUNTIF($Q$24:$Q$389,B10) -> 0 | R10: =COUNTIF($R$24:$R$389,B10) -> 0 | S10: =COUNTIF($S$24:$S$389,B10) -> 0 | T10: =COUNTIF($T$24:$T$389,B10) -> 0 | U10: =COUNTIF($U$24:$U$389,B10) -> 0 | V10: =COUNTIF($V$24:$V$389,B10) -> 0 | W10: =COUNTIF($W$24:$W$389,B10) -> 0 | X10: =COUNTIF($X$24:$X$389,B10) -> 0 | Y10: =COUNTIF($Y$24:$Y$389,B10) -> 0 | Z10: =COUNTIF($Z$24:$Z$389,B10) -> 0 | AA10: =COUNTIF($AA$24:$AA$389,B10) -> 0 | AB10: =COUNTIF($AB$24:$AB$389,B10) -> 0 | AC10: =COUNTIF($AC$24:$AC$389,B10) -> 0 | AD10: =COUNTIF($AD$24:$AD$389,B10) -> 0 | AE10: =COUNTIF($AE$24:$AE$389,B10) -> 0 | AF10: =COUNTIF($AF$24:$AF$389,B10) -> 0 | AG10: =COUNTIF($AG$24:$AG$389,B10) -> 0 | AH10: =COUNTIF($AH$24:$AH$389,B10) -> 0 | AI10: =COUNTIF($AI$24:$AI$389,B10) -> 0 | AJ10: =COUNTIF($AJ$24:$AJ$389,B10) -> 0 | AK10: =COUNTIF($AK$24:$AK$389,B10) -> 0 | AL10: =COUNTIF($AL$24:$AL$389,B10) -> 0 | AM10: =COUNTIF($AM$24:$AM$389,B10) -> 0 | AN10: =COUNTIF($AN$24:$AN$389,B10) -> 0 | AO10: =COUNTIF($AO$24:$AO$389,B10) -> 0 | AP10: =COUNTIF($AP$24:$AP$389,B10) -> 0 | AQ10: =COUNTIF($AQ$24:$AQ$389,B10) -> 0
B11: NAV VELAINES | C11: =COUNTIF($C$24:$C$389,B11) -> 0 | D11: =COUNTIF($D$24:$D$389,B11) -> 0 | E11: =COUNTIF($E$24:$E$389,B11) -> 0 | F11: =COUNTIF($F$24:$F$389,B11) -> 0 | G11: =COUNTIF($G$24:$G$389,B11) -> 0 | H11: =COUNTIF($H$24:$H$389,B11) -> 0 | I11: =COUNTIF($I$24:$I$389,B11) -> 0 | J11: =COUNTIF($J$24:$J$389,B11) -> 0 | K11: =COUNTIF($K$24:$K$389,B11) -> 0 | L11: =COUNTIF($L$24:$L$389,B11) -> 0 | M11: =COUNTIF($M$24:$M$389,B11) -> 0 | N11: =COUNTIF($N$24:$N$389,B11) -> 0 | O11: =COUNTIF($O$24:$O$389,B11) -> 0 | P11: =COUNTIF($P$24:$P$389,B11) -> 0 | Q11: =COUNTIF($Q$24:$Q$389,B11) -> 0 | R11: =COUNTIF($R$24:$R$389,B11) -> 0 | S11: =COUNTIF($S$24:$S$389,B11) -> 0 | T11: =COUNTIF($T$24:$T$389,B11) -> 0 | U11: =COUNTIF($U$24:$U$389,B11) -> 0 | V11: =COUNTIF($V$24:$V$389,B11) -> 0 | W11: =COUNTIF($W$24:$W$389,B11) -> 0 | X11: =COUNTIF($X$24:$X$389,B11) -> 0 | Y11: =COUNTIF($Y$24:$Y$389,B11) -> 0 | Z11: =COUNTIF($Z$24:$Z$389,B11) -> 0 | AA11: =COUNTIF($AA$24:$AA$389,B11) -> 0 | AB11: =COUNTIF($AB$24:$AB$389,B11) -> 0 | AC11: =COUNTIF($AC$24:$AC$389,B11) -> 0 | AD11: =COUNTIF($AD$24:$AD$389,B11) -> 0 | AE11: =COUNTIF($AE$24:$AE$389,B11) -> 0 | AF11: =COUNTIF($AF$24:$AF$389,B11) -> 0 | AG11: =COUNTIF($AG$24:$AG$389,B11) -> 0 | AH11: =COUNTIF($AH$24:$AH$389,B11) -> 0 | AI11: =COUNTIF($AI$24:$AI$389,B11) -> 0 | AJ11: =COUNTIF($AJ$24:$AJ$389,B11) -> 0 | AK11: =COUNTIF($AK$24:$AK$389,B11) -> 0 | AL11: =COUNTIF($AL$24:$AL$389,B11) -> 0 | AM11: =COUNTIF($AM$24:$AM$389,B11) -> 0 | AN11: =COUNTIF($AN$24:$AN$389,B11) -> 0 | AO11: =COUNTIF($AO$24:$AO$389,B11) -> 0 | AP11: =COUNTIF($AP$24:$AP$389,B11) -> 0 | AQ11: =COUNTIF($AQ$24:$AQ$389,B11) -> 0
B12: RAM + NANTES 21H | C12: =COUNTIF($C$24:$C$389,B12) -> 0 | D12: =COUNTIF($D$24:$D$389,B12) -> 0 | E12: =COUNTIF($E$24:$E$389,B12) -> 0 | F12: =COUNTIF($F$24:$F$389,B12) -> 0 | G12: =COUNTIF($G$24:$G$389,B12) -> 0 | H12: =COUNTIF($H$24:$H$389,B12) -> 0 | I12: =COUNTIF($I$24:$I$389,B12) -> 0 | J12: =COUNTIF($J$24:$J$389,B12) -> 0 | K12: =COUNTIF($K$24:$K$389,B12) -> 0 | L12: =COUNTIF($L$24:$L$389,B12) -> 0 | M12: =COUNTIF($M$24:$M$389,B12) -> 0 | N12: =COUNTIF($N$24:$N$389,B12) -> 0 | O12: =COUNTIF($O$24:$O$389,B12) -> 0 | P12: =COUNTIF($P$24:$P$389,B12) -> 0 | Q12: =COUNTIF($Q$24:$Q$389,B12) -> 0 | R12: =COUNTIF($R$24:$R$389,B12) -> 0 | S12: =COUNTIF($S$24:$S$389,B12) -> 0 | T12: =COUNTIF($T$24:$T$389,B12) -> 0 | U12: =COUNTIF($U$24:$U$389,B12) -> 0 | V12: =COUNTIF($V$24:$V$389,B12) -> 0 | W12: =COUNTIF($W$24:$W$389,B12) -> 0 | X12: =COUNTIF($X$24:$X$389,B12) -> 0 | Y12: =COUNTIF($Y$24:$Y$389,B12) -> 0 | Z12: =COUNTIF($Z$24:$Z$389,B12) -> 0 | AA12: =COUNTIF($AA$24:$AA$389,B12) -> 0 | AB12: =COUNTIF($AB$24:$AB$389,B12) -> 0 | AC12: =COUNTIF($AC$24:$AC$389,B12) -> 0 | AD12: =COUNTIF($AD$24:$AD$389,B12) -> 0 | AE12: =COUNTIF($AE$24:$AE$389,B12) -> 0 | AF12: =COUNTIF($AF$24:$AF$389,B12) -> 0 | AG12: =COUNTIF($AG$24:$AG$389,B12) -> 0 | AH12: =COUNTIF($AH$24:$AH$389,B12) -> 0 | AI12: =COUNTIF($AI$24:$AI$389,B12) -> 0 | AJ12: =COUNTIF($AJ$24:$AJ$389,B12) -> 0 | AK12: =COUNTIF($AK$24:$AK$389,B12) -> 0 | AL12: =COUNTIF($AL$24:$AL$389,B12) -> 0 | AM12: =COUNTIF($AM$24:$AM$389,B12) -> 0 | AN12: =COUNTIF($AN$24:$AN$389,B12) -> 0 | AO12: =COUNTIF($AO$24:$AO$389,B12) -> 0 | AP12: =COUNTIF($AP$24:$AP$389,B12) -> 0 | AQ12: =COUNTIF($AQ$24:$AQ$389,B12) -> 0
B13: RAM + 20H TOURS | C13: =COUNTIF($C$24:$C$389,B13) -> 0 | D13: =COUNTIF($D$24:$D$389,B13) -> 0 | E13: =COUNTIF($E$24:$E$389,B13) -> 0 | F13: =COUNTIF($F$24:$F$389,B13) -> 0 | G13: =COUNTIF($G$24:$G$389,B13) -> 0 | H13: =COUNTIF($H$24:$H$389,B13) -> 0 | I13: =COUNTIF($I$24:$I$389,B13) -> 0 | J13: =COUNTIF($J$24:$J$389,B13) -> 0 | K13: =COUNTIF($K$24:$K$389,B13) -> 0 | L13: =COUNTIF($L$24:$L$389,B13) -> 0 | M13: =COUNTIF($M$24:$M$389,B13) -> 0 | N13: =COUNTIF($N$24:$N$389,B13) -> 0 | O13: =COUNTIF($O$24:$O$389,B13) -> 0 | P13: =COUNTIF($P$24:$P$389,B13) -> 0 | Q13: =COUNTIF($Q$24:$Q$389,B13) -> 0 | R13: =COUNTIF($R$24:$R$389,B13) -> 0 | S13: =COUNTIF($S$24:$S$389,B13) -> 0 | T13: =COUNTIF($T$24:$T$389,B13) -> 0 | U13: =COUNTIF($U$24:$U$389,B13) -> 0 | V13: =COUNTIF($V$24:$V$389,B13) -> 0 | W13: =COUNTIF($W$24:$W$389,B13) -> 0 | X13: =COUNTIF($X$24:$X$389,B13) -> 0 | Y13: =COUNTIF($Y$24:$Y$389,B13) -> 0 | Z13: =COUNTIF($Z$24:$Z$389,B13) -> 0 | AA13: =COUNTIF($AA$24:$AA$389,B13) -> 0 | AB13: =COUNTIF($AB$24:$AB$389,B13) -> 0 | AC13: =COUNTIF($AC$24:$AC$389,B13) -> 0 | AD13: =COUNTIF($AD$24:$AD$389,B13) -> 0 | AE13: =COUNTIF($AE$24:$AE$389,B13) -> 0 | AF13: =COUNTIF($AF$24:$AF$389,B13) -> 0 | AG13: =COUNTIF($AG$24:$AG$389,B13) -> 0 | AH13: =COUNTIF($AH$24:$AH$389,B13) -> 0 | AI13: =COUNTIF($AI$24:$AI$389,B13) -> 0 | AJ13: =COUNTIF($AJ$24:$AJ$389,B13) -> 0 | AK13: =COUNTIF($AK$24:$AK$389,B13) -> 0 | AL13: =COUNTIF($AL$24:$AL$389,B13) -> 0 | AM13: =COUNTIF($AM$24:$AM$389,B13) -> 0 | AN13: =COUNTIF($AN$24:$AN$389,B13) -> 0 | AO13: =COUNTIF($AO$24:$AO$389,B13) -> 0 | AP13: =COUNTIF($AP$24:$AP$389,B13) -> 0 | AQ13: =COUNTIF($AQ$24:$AQ$389,B13) -> 0
... B19: RAM + ORLEANS 21H | C19: =COUNTIF($C$24:$C$389,B19) -> 1 | D19: =COUNTIF($D$24:$D$389,B19) -> 0 | E19: =COUNTIF($E$24:$E$389,B19) -> 0 | F19: =COUNTIF($F$24:$F$389,B19) -> 0 | G19: =COUNTIF($G$24:$G$389,B19) -> 0 | H19: =COUNTIF($H$24:$H$389,B19) -> 0 | I19: =COUNTIF($I$24:$I$389,B19) -> 0 | J19: =COUNTIF($J$24:$J$389,B19) -> 0 | K19: =COUNTIF($K$24:$K$389,B19) -> 0 | L19: =COUNTIF($L$24:$L$389,B19) -> 0 | M19: =COUNTIF($M$24:$M$389,B19) -> 0 | N19: =COUNTIF($N$24:$N$389,B19) -> 0 | O19: =COUNTIF($O$24:$O$389,B19) -> 0 | P19: =COUNTIF($P$24:$P$389,B19) -> 0 | Q19: =COUNTIF($Q$24:$Q$389,B19) -> 0 | R19: =COUNTIF($R$24:$R$389,B19) -> 0 | S19: =COUNTIF($S$24:$S$389,B19) -> 0 | T19: =COUNTIF($T$24:$T$389,B19) -> 0 | U19: =COUNTIF($U$24:$U$389,B19) -> 0 | V19: =COUNTIF($V$24:$V$389,B19) -> 0 | W19: =COUNTIF($W$24:$W$389,B19) -> 0 | X19: =COUNTIF($X$24:$X$389,B19) -> 0 | Y19: =COUNTIF($Y$24:$Y$389,B19) -> 0 | Z19: =COUNTIF($Z$24:$Z$389,B19) -> 0 | AA19: =COUNTIF($AA$24:$AA$389,B19) -> 0 | AB19: =COUNTIF($AB$24:$AB$389,B19) -> 0 | AC19: =COUNTIF($AC$24:$AC$389,B19) -> 0 | AD19: =COUNTIF($AD$24:$AD$389,B19) -> 0 | AE19: =COUNTIF($AE$24:$AE$389,B19) -> 0 | AF19: =COUNTIF($AF$24:$AF$389,B19) -> 0 | AG19: =COUNTIF($AG$24:$AG$389,B19) -> 0 | AH19: =COUNTIF($AH$24:$AH$389,B19) -> 0 | AI19: =COUNTIF($AI$24:$AI$389,B19) -> 0 | AJ19: =COUNTIF($AJ$24:$AJ$389,B19) -> 0 | AK19: =COUNTIF($AK$24:$AK$389,B19) -> 0 | AL19: =COUNTIF($AL$24:$AL$389,B19) -> 0 | AM19: =COUNTIF($AM$24:$AM$389,B19) -> 0 | AN19: =COUNTIF($AN$24:$AN$389,B19) -> 0 | AO19: =COUNTIF($AO$24:$AO$389,B19) -> 0 | AP19: =COUNTIF($AP$24:$AP$389,B19) -> 0 | AQ19: =COUNTIF($AQ$24:$AQ$389,B19) -> 0
B20: RAM 14H00 | C20: =COUNTIF($C$24:$C$389,B20) -> 1 | D20: =COUNTIF($D$24:$D$389,B20) -> 2 | E20: =COUNTIF($E$24:$E$389,B20) -> 1 | F20: =COUNTIF($F$24:$F$389,B20) -> 1 | G20: =COUNTIF($G$24:$G$389,B20) -> 2 | H20: =COUNTIF($H$24:$H$389,B20) -> 3 | I20: =COUNTIF($I$24:$I$389,B20) -> 1 | J20: =COUNTIF($J$24:$J$389,B20) -> 1 | K20: =COUNTIF($K$24:$K$389,B20) -> 1 | L20: =COUNTIF($L$24:$L$389,B20) -> 1 | M20: =COUNTIF($M$24:$M$389,B20) -> 1 | N20: =COUNTIF($N$24:$N$389,B20) -> 1 | O20: =COUNTIF($O$24:$O$389,B20) -> 1 | P20: =COUNTIF($P$24:$P$389,B20) -> 1 | Q20: =COUNTIF($Q$24:$Q$389,B20) -> 1 | R20: =COUNTIF($R$24:$R$389,B20) -> 1 | S20: =COUNTIF(S42:S407,$B$20) -> 0 | T20: =COUNTIF($T$24:$T$389,B20) -> 1 | U20: =COUNTIF($U$24:$U$389,B20) -> 1 | V20: =COUNTIF($V$24:$V$389,B20) -> 1 | W20: =COUNTIF($W$24:$W$389,B20) -> 1 | X20: =COUNTIF($X$24:$X$389,B20) -> 1 | Y20: =COUNTIF($Y$24:$Y$389,B20) -> 1 | Z20: =COUNTIF($Z$24:$Z$389,B20) -> 1 | AA20: =COUNTIF($AA$24:$AA$389,B20) -> 1 | AB20: =COUNTIF($AB$24:$AB$389,B20) -> 1 | AC20: =COUNTIF($AC$24:$AC$389,B20) -> 1 | AD20: =COUNTIF($AD$24:$AD$389,B20) -> 1 | AE20: =COUNTIF($AE$24:$AE$389,B20) -> 1 | AF20: =COUNTIF($AF$24:$AF$389,B20) -> 1 | AG20: =COUNTIF($AG$24:$AG$389,B20) -> 0 | AH20: =COUNTIF($AH$24:$AH$389,B20) -> 0 | AI20: =COUNTIF($AI$24:$AI$389,B20) -> 0 | AJ20: =COUNTIF($AJ$24:$AJ$389,B20) -> 0 | AK20: =COUNTIF($AK$24:$AK$389,B20) -> 0 | AL20: =COUNTIF($AL$24:$AL$389,B20) -> 0 | AM20: =COUNTIF($AM$24:$AM$389,B20) -> 0 | AN20: =COUNTIF($AN$24:$AN$389,B20) -> 0 | AO20: =COUNTIF($AO$24:$AO$389,B20) -> 1 | AP20: =COUNTIF($AP$24:$AP$389,B20) -> 0 | AQ20: =COUNTIF($AQ$24:$AQ$389,B20) -> 1
C22: BARRE | D22: BRILLET | E22: CHAUVIN | F22: CHOTARD | G22: DELALANDE | H22: DUGUE A | I22: FOUCAUD | J22: GUEZENNEC | K22: HENRY | L22: HORVAIS | M22: LAABID R | N22: LEMARCHAND | O22: MACE | P22: MEURDRAC | Q22: NICOL | R22: NOLLET | S22: PETIT | T22: RAZE | U22: ROUAUD | V22: SINIVASSIN | W22: VISSEICHE | X22: DENIS | Y22: GUYOT | Z22: LETARD | AA22: VIVIER | AB22: BELLOIR | AC22: BENARD | AD22: CAUDRON | AE22: DIARRA | AF22: DUPE | AG22: EVRARD | AH22: HENRY Y | AI22: HOCHART | AJ22: KOUPRAVA | AK22: LEMIERE | AL22: LEROUYER | AM22: METAYER | AN22: RAVACHE | AO22: ROUAULT | AP22: UZEL | AQ22: HUET
B23: DATE
B24: 43466 | C24: NAV CHATEAUBOUR | D24: RAM 14H00 | E24: NAV CHATEAUBOUR | F24: NAV ATHIS 2 | G24: RAM 14H00 | H24: NAV CHATEAUBOUR | I24: NAV ATHIS 2 | J24: NAV ATHIS 2 | K24: NAV ATHIS 2 | L24: NAV ATHIS 2 | M24: NAV ATHIS 2 | N24: NAV ATHIS 2 | O24: NAV ATHIS 2 | P24: NAV ATHIS 2 | Q24: NAV ATHIS 2 | R24: NAV ATHIS 2 | S24: NAV ATHIS 2 | T24: NAV ATHIS 2 | U24: NAV ATHIS 2 | V24: NAV ATHIS 2 | W24: NAV ATHIS 2 | X24: NAV ATHIS 2 | Y24: NAV ATHIS 2 | Z24: NAV ATHIS 2 | AA24: NAV ATHIS 2 | AB24: NAV ATHIS 2 | AC24: NAV ATHIS 2 | AD24: NAV ATHIS 2 | AE24: NAV ATHIS 2 | AF24: NAV ATHIS 2 | AO24: NAV ATHIS 2 | AQ24: NAV ATHIS 2
B25: 43467 | C25: NAV ATHIS 2 | D25: NAV ATHIS 2 | E25: NAV ATHIS 2 | F25: NAV ATHIS 2 | G25: NAV CHATEAUBOUR | H25: RAM 14H00 | I25: RAM 14H00 | J25: RAM 14H00 | K25: RAM 14H00 | L25: RAM 14H00 | M25: RAM 14H00 | N25: RAM 14H00 | O25: RAM 14H00 | P25: RAM 14H00 | Q25: RAM 14H00 | R25: RAM 14H00 | S25: RAM 14H00 | T25: RAM 14H00 | U25: RAM 14H00 | V25: RAM 14H00 | W25: RAM 14H00 | X25: RAM 14H00 | Y25: RAM 14H00 | Z25: RAM 14H00 | AA25: NAV CHATEAUBOUR | AB25: NAV CHATEAUBOUR | AC25: RAM 14H00 | AD25: RAM 14H00 | AE25: RAM 14H00 | AF25: RAM 14H00 | AO25: NAV ATHIS 2 | AQ25: RAM 14H00 | AS25: NAV ATHIS 2 | AT25: AMILLY + SENS
B26: 43468 | C26: NAV CHAULNES | D26: NAV CHATEAUBOUR | E26: NAV ATHIS 2 | F26: RAM 14H00 | G26: NAV ATHIS 2 | H26: NAV CLERMONT | AA26: NAV CHATEAUBOUR | AB26: RAM 14H00 | AO26: RAM 14H00 | AS26: NAV CHATEAUBOUR | AT26: A/A + PARC BAIN
B27: 43469 | C27: RAM 14H00 | D27: NAV CHATEAUBOUR | E27: NAV CLERMONT | H27: NAV CHATEAUBOUR | AA27: RAM 14H00 | AS27: NAV CHAULNES | AT27: AGEN
B28: 43470 | C28: RAM + ORLEANS 21H | D28: RAM 14H00 | E28: RAM 14H00 | G28: RAM 14H00 | H28: NAV DIJON | AS28: NAV CLERMONT | AT28: AGEN DIM
B29: 43471 | C29: NAV CHATEAUBOUR | H29: RAM 14H00 | AS29: NAV DIJON | AT29: AMILLY / SENS
B30: 43472 | C30: NAV NIORT | H30: RAM 14H00 | AS30: NAV LANGRES | AT30: ANGERS + BASES
B31: 43473 | H31: NAV ATHIS 2 | AS31: NAV LILLE | AT31: ATHIS 1 FERIE 17H30
B32: 43474 | H32: NAV ATHIS 2 | AS32: NAV NIORT | AT32: BASES 23H
B33: 43475 | H33: NAV CHATEAUBOUR | AS33: NAV ST SEVER | AT33: BASES DIM
B34: 43476 | H34: NAV CHATEAUBOUR | AS34: NAV VELAINES | AT34: CAEN FERIE 17H
B35: 43477 | AS35: RAM + NANTES 21H | AT35: CLERMONT FERIE 18H15
B36: 43478 | AS36: RAM + 20H TOURS | AT36: CONGES
B37: 43479 | AS37: RAM + 21h30 TOURS | AT37: DIJON FERIE 14H
B38: 43480 | AS38: RAM + ANGERS 21H30 | AT38: INDISPO
B39: 43481 | AS39: RAM + ATHIS 1 | AT39: INTER DEPOTS DIM
B40: 43482 | AS40: RAM + CAEN 21H15 | AT40: JACQUET SA
B41: 43483 | AS41: RAM + NANTES 1 | AT41: LANGRES FERIE
B42: 43484 | AS42: RAM + ORLEANS 21H | AT42: LE MANS A/A
B43: 43485 | AS43: RAM 14H00 | AT43: NANTES + BASES
B44: 43486 | AT44: NAV ATHIS 2
B45: 43487 | AT45: NAV CHATEAUBOUR
B46: 43488 | AT46: NAV CHAULNES
B47: 43489 | AT47: NAV CLERMONT
B48: 43490 | AT48: NAV DIJON
B49: 43491 | AT49: NAV LANGRES
B50: 43492 | AT50: NAV LILLE
B51: 43493 | AT51: NAV NIORT
B52: 43494 | AT52: NAV NIORT 21H15
B53: 43495 | AT53: NAV ST SEVER
B54: 43496 | AT54: NAV TOURS
B55: 43497 | AT55: NAV VELAINES
... B124: 43566 | AT124: VENDEE
B125: 43567
B126: 43568
B127: 43569
B128: 43570
B129: 43571
B130: 43572
B131: 43573
B132: 43574
B133: 43575
B134: 43576
B135: 43577
B136: 43578
... B389: 43831

Sheet nav niort
B3: BARRE | C3: BRILLET | D3: CHAUVIN | E3: CHOTARD | F3: DELALANDE | G3: DUGUE A | H3: FOUCAUD | I3: GUEZENNEC | J3: HENRY | K3: HORVAIS | L3: LAABID R | M3: LEMARCHAND | N3: MACE | O3: MEURDRAC | P3: NICOL | Q3: NOLLET | R3: PETIT | S3: RAZE | T3: ROUAUD | U3: SINIVASSIN | V3: VISSEICHE | W3: DENIS | X3: GUYOT | Y3: LETARD | Z3: VIVIER
A4: NAV NIORT

Sheet nav st sever
B3: BARRE | C3: BRILLET | D3: CHAUVIN | E3: CHOTARD | F3: DELALANDE | G3: DUGUE A | H3: FOUCAUD | I3: GUEZENNEC | J3: HENRY | K3: HORVAIS | L3: LAABID R | M3: LEMARCHAND | N3: MACE | O3: MEURDRAC | P3: NICOL | Q3: NOLLET | R3: PETIT | S3: RAZE | T3: ROUAUD | U3: SINIVASSIN | V3: VISSEICHE | W3: DENIS | X3: GUYOT | Y3: LETARD | Z3: VIVIER
A4: NAV ST SEVER

Sheet nav velaines
B3: BARRE | C3: BRILLET | D3: CHAUVIN | E3: CHOTARD | F3: DELALANDE | G3: DUGUE A | H3: FOUCAUD | I3: GUEZENNEC | J3: HENRY | K3: HORVAIS | L3: LAABID R | M3: LEMARCHAND | N3: MACE | O3: MEURDRAC | P3: NICOL | Q3: NOLLET | R3: PETIT | S3: RAZE | T3: ROUAUD | U3: SINIVASSIN | V3: VISSEICHE | W3: DENIS | X3: GUYOT | Y3: LETARD | Z3: VIVIER
A4: NAV VELAINES

Sheet ram+nantes 21h
B3: BARRE | C3: BRILLET | D3: CHAUVIN | E3: CHOTARD | F3: DELALANDE | G3: DUGUE A | H3: FOUCAUD | I3: GUEZENNEC | J3: HENRY | K3: HORVAIS | L3: LAABID R | M3: LEMARCHAND | N3: MACE | O3: MEURDRAC | P3: NICOL | Q3: NOLLET | R3: PETIT | S3: RAZE | T3: ROUAUD | U3: SINIVASSIN | V3: VISSEICHE | W3: DENIS | X3: GUYOT | Y3: LETARD | Z3: VIVIER
A4: RAM + NANTES 21H

Sheet ram+20h tours
B3: BARRE | C3: BRILLET | D3: CHAUVIN | E3: CHOTARD | F3: DELALANDE | G3: DUGUE A | H3: FOUCAUD | I3: GUEZENNEC | J3: HENRY | K3: HORVAIS | L3: LAABID R | M3: LEMARCHAND | N3: MACE | O3: MEURDRAC | P3: NICOL | Q3: NOLLET | R3: PETIT | S3: RAZE | T3: ROUAUD | U3: SINIVASSIN | V3: VISSEICHE | W3: DENIS | X3: GUYOT | Y3: LETARD | Z3: VIVIER
A4: RAM + 20H TOURS

Sheet ram+21h30 tours
B3: BARRE | C3: BRILLET | D3: CHAUVIN | E3: CHOTARD | F3: DELALANDE | G3: DUGUE A | H3: FOUCAUD | I3: GUEZENNEC | J3: HENRY | K3: HORVAIS | L3: LAABID R | M3: LEMARCHAND | N3: MACE | O3: MEURDRAC | P3: NICOL | Q3: NOLLET | R3: PETIT | S3: RAZE | T3: ROUAUD | U3: SINIVASSIN | V3: VISSEICHE | W3: DENIS | X3: GUYOT | Y3: LETARD | Z3: VIVIER
A4: RAM + 21h30 TOURS

Sheet ram+angers 21h30
B3: BARRE | C3: BRILLET | D3: CHAUVIN | E3: CHOTARD | F3: DELALANDE | G3: DUGUE A | H3: FOUCAUD | I3: GUEZENNEC | J3: HENRY | K3: HORVAIS | L3: LAABID R | M3: LEMARCHAND | N3: MACE | O3: MEURDRAC | P3: NICOL | Q3: NOLLET | R3: PETIT | S3: RAZE | T3: ROUAUD | U3: SINIVASSIN | V3: VISSEICHE | W3: DENIS | X3: GUYOT | Y3: LETARD | Z3: VIVIER
A4: RAM + ANGERS 21H30

Sheet ram+athis 1
B3: BARRE | C3: BRILLET | D3: CHAUVIN | E3: CHOTARD | F3: DELALANDE | G3: DUGUE A | H3: FOUCAUD | I3: GUEZENNEC | J3: HENRY | K3: HORVAIS | L3: LAABID R | M3: LEMARCHAND | N3: MACE | O3: MEURDRAC | P3: NICOL | Q3: NOLLET | R3: PETIT | S3: RAZE | T3: ROUAUD | U3: SINIVASSIN | V3: VISSEICHE | W3: DENIS | X3: GUYOT | Y3: LETARD | Z3: VIVIER
A4: RAM + ATHIS 1

Sheet ram+caen 21h15
B3: BARRE | C3: BRILLET | D3: CHAUVIN | E3: CHOTARD | F3: DELALANDE | G3: DUGUE A | H3: FOUCAUD | I3: GUEZENNEC | J3: HENRY | K3: HORVAIS | L3: LAABID R | M3: LEMARCHAND | N3: MACE | O3: MEURDRAC | P3: NICOL | Q3: NOLLET | R3: PETIT | S3: RAZE | T3: ROUAUD | U3: SINIVASSIN | V3: VISSEICHE | W3: DENIS | X3: GUYOT | Y3: LETARD | Z3: VIVIER
A4: RAM + CAEN 21H15

Sheet ram+nantes 1
B3: BARRE | C3: BRILLET | D3: CHAUVIN | E3: CHOTARD | F3: DELALANDE | G3: DUGUE A | H3: FOUCAUD | I3: GUEZENNEC | J3: HENRY | K3: HORVAIS | L3: LAABID R | M3: LEMARCHAND | N3: MACE | O3: MEURDRAC | P3: NICOL | Q3: NOLLET | R3: PETIT | S3: RAZE | T3: ROUAUD | U3: SINIVASSIN | V3: VISSEICHE | W3: DENIS | X3: GUYOT | Y3: LETARD | Z3: VIVIER
A4: RAM + NANTES 1

Sheet ram+orleans 21h
B3: BARRE | C3: BRILLET | D3: CHAUVIN | E3: CHOTARD | F3: DELALANDE | G3: DUGUE A | H3: FOUCAUD | I3: GUEZENNEC | J3: HENRY | K3: HORVAIS | L3: LAABID R | M3: LEMARCHAND | N3: MACE | O3: MEURDRAC | P3: NICOL | Q3: NOLLET | R3: PETIT | S3: RAZE | T3: ROUAUD | U3: SINIVASSIN | V3: VISSEICHE | W3: DENIS | X3: GUYOT | Y3: LETARD | Z3: VIVIER
A4: RAM + ORLEANS 21H

Sheet ram 14h
B3: BARRE | C3: BRILLET | D3: CHAUVIN | E3: CHOTARD | F3: DELALANDE | G3: DUGUE A | H3: FOUCAUD | I3: GUEZENNEC | J3: HENRY | K3: HORVAIS | L3: LAABID R | M3: LEMARCHAND | N3: MACE | O3: MEURDRAC | P3: NICOL | Q3: NOLLET | R3: PETIT | S3: RAZE | T3: ROUAUD | U3: SINIVASSIN | V3: VISSEICHE | W3: DENIS | X3: GUYOT | Y3: LETARD | Z3: VIVIER
A4: RAM 14H00 | B4: =VLOOKUP(A4,'planing annuel'!B1:AQ20,2,FALSE) -> 1 | C4: =VLOOKUP(B4,'planing annuel'!C1:AR20,2,FALSE) -> 1 | D4: =VLOOKUP(C4,'planing annuel'!D1:AS20,2,FALSE) -> 2 | E4: =VLOOKUP(D4,'planing annuel'!E1:AT20,2,FALSE) -> 2 | F4: =VLOOKUP(E4,'planing annuel'!F1:AU20,2,FALSE) -> 1 | G4: =VLOOKUP(F4,'planing annuel'!G1:AV20,2,FALSE) -> 2 | H4: =VLOOKUP(G4,'planing annuel'!H1:AW20,2,FALSE) -> 1 | I4: =VLOOKUP(H4,'planing annuel'!I1:AX20,2,FALSE) -> 1 | ... Z4: =VLOOKUP(Y4,'planing annuel'!Z1:BO20,2,FALSE) -> 1

Sheet ram +nav ou navette
B3: BARRE | C3: BRILLET | D3: CHAUVIN | E3: CHOTARD | F3: DELALANDE | G3: DUGUE A | H3: FOUCAUD | I3: GUEZENNEC | J3: HENRY | K3: HORVAIS | L3: LAABID R | M3: LEMARCHAND | N3: MACE | O3: MEURDRAC | P3: NICOL | Q3: NOLLET | R3: PETIT | S3: RAZE | T3: ROUAUD | U3: SINIVASSIN | V3: VISSEICHE | W3: DENIS | X3: GUYOT | Y3: LETARD | Z3: VIVIER
A4: NAVETTE | B4: =SUM('planing annuel'!C2+'planing annuel'!C4+'planing annuel'!C5+'planing annuel'!C6+'planing annuel'!C7+'planing annuel'!C8+'planing annuel'!C9+'planing annuel'!C10+'planing annuel'!C11) -> 3 | C4: =SUM('planing annuel'!D2+'planing annuel'!D4+'planing annuel'!D5+'planing annuel'!D6+'planing annuel'!D7+'planing annuel'!D8+'planing annuel'!D9+'planing annuel'!D10+'planing annuel'!D11) -> 1 | D4: =SUM('planing annuel'!E2+'planing annuel'!E4+'planing annuel'!E5+'planing annuel'!E6+'planing annuel'!E7+'planing annuel'!E8+'planing annuel'!E9+'planing annuel'!E10+'planing annuel'!E11) -> 3 | E4: =SUM('planing annuel'!F2+'planing annuel'!F4+'planing annuel'!F5+'planing annuel'!F6+'planing annuel'!F7+'planing annuel'!F8+'planing annuel'!F9+'planing annuel'!F10+'planing annuel'!F11) -> 2 | F4: =SUM('planing annuel'!G2+'planing annuel'!G4+'planing annuel'!G5+'planing annuel'!G6+'planing annuel'!G7+'planing annuel'!G8+'planing annuel'!G9+'planing annuel'!G10+'planing annuel'!G11) -> 1 | G4: =SUM('planing annuel'!H2+'planing annuel'!H4+'planing annuel'!H5+'planing annuel'!H6+'planing annuel'!H7+'planing annuel'!H8+'planing annuel'!H9+'planing annuel'!H10+'planing annuel'!H11) -> 4 | H4: =SUM('planing annuel'!I2+'planing annuel'!I4+'planing annuel'!I5+'planing annuel'!I6+'planing annuel'!I7+'planing annuel'!I8+'planing annuel'!I9+'planing annuel'!I10+'planing annuel'!I11) -> 1 | I4: =SUM('planing annuel'!J2+'planing annuel'!J4+'planing annuel'!J5+'planing annuel'!J6+'planing annuel'!J7+'planing annuel'!J8+'planing annuel'!J9+'planing annuel'!J10+'planing annuel'!J11) -> 1 | ... Z4: =SUM('planing annuel'!AA2+'planing annuel'!AA4+'planing annuel'!AA5+'planing annuel'!AA6+'planing annuel'!AA7+'planing annuel'!AA8+'planing annuel'!AA9+'planing annuel'!AA10+'planing annuel'!AA11) -> 1
A5: RAM+NAVETTE | B5: =SUM('planing annuel'!C3+'planing annuel'!C12+'planing annuel'!C13+'planing annuel'!C14+'planing annuel'!C15+'planing annuel'!C16+'planing annuel'!C17+'planing annuel'!C18+'planing annuel'!C19+'planing annuel'!C20) -> 4 | C5: =SUM('planing annuel'!D3+'planing annuel'!D12+'planing annuel'!D13+'planing annuel'!D14+'planing annuel'!D15+'planing annuel'!D16+'planing annuel'!D17+'planing annuel'!D18+'planing annuel'!D19+'planing annuel'!D20) -> 4 | D5: =SUM('planing annuel'!E3+'planing annuel'!E12+'planing annuel'!E13+'planing annuel'!E14+'planing annuel'!E15+'planing annuel'!E16+'planing annuel'!E17+'planing annuel'!E18+'planing annuel'!E19+'planing annuel'!E20) -> 2 | E5: =SUM('planing annuel'!F3+'planing annuel'!F12+'planing annuel'!F13+'planing annuel'!F14+'planing annuel'!F15+'planing annuel'!F16+'planing annuel'!F17+'planing annuel'!F18+'planing annuel'!F19+'planing annuel'!F20) -> 1 | F5: =SUM('planing annuel'!G3+'planing annuel'!G12+'planing annuel'!G13+'planing annuel'!G14+'planing annuel'!G15+'planing annuel'!G16+'planing annuel'!G17+'planing annuel'!G18+'planing annuel'!G19+'planing annuel'!G20) -> 3 | G5: =SUM('planing annuel'!H3+'planing annuel'!H12+'planing annuel'!H13+'planing annuel'!H14+'planing annuel'!H15+'planing annuel'!H16+'planing annuel'!H17+'planing annuel'!H18+'planing annuel'!H19+'planing annuel'!H20) -> 7 | H5: =SUM('planing annuel'!I3+'planing annuel'!I12+'planing annuel'!I13+'planing annuel'!I14+'planing annuel'!I15+'planing annuel'!I16+'planing annuel'!I17+'planing annuel'!I18+'planing annuel'!I19+'planing annuel'!I20) -> 1 | I5: =SUM('planing annuel'!J3+'planing annuel'!J12+'planing annuel'!J13+'planing annuel'!J14+'planing annuel'!J15+'planing annuel'!J16+'planing annuel'!J17+'planing annuel'!J18+'planing annuel'!J19+'planing annuel'!J20) -> 1 | ... Z5: =SUM('planing annuel'!AA3+'planing annuel'!AA12+'planing annuel'!AA13+'planing annuel'!AA14+'planing annuel'!AA15+'planing annuel'!AA16+'planing annuel'!AA17+'planing annuel'!AA18+'planing annuel'!AA19+'planing annuel'!AA20) -> 3

Sheet Feuil1
