Workbook

Sheet base de données
O1: DATE DE NAISSANCE ENFANTS
A2: FICHE N° | B2: NOM | C2: PRENOM | D2: DATE DE NAISSANCE | E2: MOIS ANNIVERSAIRE | F2: AGE | G2: SEXE | H2: DATE D'ENTREE | I2: ANCIENNETEE | J2: POSTE | K2: STATUT | L2: ADRESSE MAIL | M2: N° PORTABLE | N2: NOMBRE D ENFANTS | O2: ENFANT 1 | P2: ENFANT 2 | Q2: ENFANT 3 | R2: ENFANT 4 | S2: ENFANT 5 | T2: ENFANT 6 | U2: ADRESSE POSTALE | V2: VILLE | W2: SECTEUR GEOGRAPHIQUE | X2: sexe pour pyramide | AC2: SEXE | AE2: COLLEGE | AG2: POSTE
A3: 1 | B3: a | C3: Isabelle | D3: 36548 | E3: =PROPER(TEXT($D3,"mmmm")) -> Janvier | F3: =DATEDIF(Données4[[#This Row],[DATE DE NAISSANCE]],TODAY(), "y") -> 19 | G3: M | H3: 39571 | I3: =DATEDIF(H3,TODAY(),"y") -> 11 | J3: ADMINISTRATIF | K3: 1er COLLEGE | N3: 2 | U3: 33 rue des hhhh 30000 iouytr | X3: =IF(G:G,-1,0) -> #VALUE! | AC3: M | AE3: 1er COLLEGE | AG3: ADMINISTRATIF
A4: 2 | B4: d | C4: Liliane | D4: 36543 | E4: =PROPER(TEXT($D4,"mmmm")) -> Janvier | F4: =DATEDIF(Données4[[#This Row],[DATE DE NAISSANCE]],TODAY(), "y") -> 20 | G4: F | H4: 43225 | I4: =DATEDIF(H4,TODAY(),"y") -> 1 | J4: GARAGE | K4: 1er COLLEGE | N4: 0 | AC4: F | AE4: 2eme COLLEGE | AG4: GARAGE
A5: 3 | B5: g | C5: Laurent | D5: 25587 | E5: =PROPER(TEXT($D5,"mmmm")) -> Janvier | F5: =DATEDIF(Données4[[#This Row],[DATE DE NAISSANCE]],TODAY(), "y") -> 50 | G5: F | H5: 36648 | I5: =DATEDIF(H5,TODAY(),"y") -> 19 | J5: ADMINISTRATIF | K5: 1er COLLEGE | N5: 4 | AG5: DIRECTEUR
A6: 4 | B6: d | C6: Magalie | D6: 36213 | E6: =PROPER(TEXT($D6,"mmmm")) -> Février | F6: =DATEDIF(Données4[[#This Row],[DATE DE NAISSANCE]],TODAY(), "y") -> 20 | G6: M | H6: 43498 | I6: =DATEDIF(H6,TODAY(),"y") -> 0 | J6: GARAGE | K6: 2eme COLLEGE | L6: mm@mmposte,net | M6: 06/00/00/00/00 | N6: 1 | AG6: QUAI
A7: 5 | B7: km | C7: Julie | D7: 36379 | E7: =PROPER(TEXT($D7,"mmmm")) -> Août | F7: =DATEDIF(Données4[[#This Row],[DATE DE NAISSANCE]],TODAY(), "y") -> 20 | G7: F | H7: 36653 | I7: =DATEDIF(H7,TODAY(),"y") -> 19 | J7: DIRECTEUR | K7: 2eme COLLEGE | AG7: CHAUFFEUR
A8: 6 | B8: o | C8: Stéphane | D8: 36411 | E8: =PROPER(TEXT($D8,"mmmm")) -> Septembre | F8: =DATEDIF(Données4[[#This Row],[DATE DE NAISSANCE]],TODAY(), "y") -> 20 | G8: M | H8: 36654 | I8: =DATEDIF(H8,TODAY(),"y") -> 19 | J8: QUAI | K8: 2eme COLLEGE | AG8: DIRECTEUR
A9: 7 | B9: u | C9: Camille | D9: 38389 | E9: =PROPER(TEXT($D9,"mmmm")) -> Février | F9: =DATEDIF(Données4[[#This Row],[DATE DE NAISSANCE]],TODAY(), "y") -> 14 | G9: F | H9: 32999 | I9: =DATEDIF(H9,TODAY(),"y") -> 29 | J9: QUAI | K9: 2eme COLLEGE | AG9: RH
A10: 8 | B10: y | C10: Nathalie | D10: 24050 | E10: =PROPER(TEXT($D10,"mmmm")) -> Novembre | F10: =DATEDIF(Données4[[#This Row],[DATE DE NAISSANCE]],TODAY(), "y") -> 54 | G10: M | H10: 42128 | I10: =DATEDIF(H10,TODAY(),"y") -> 4 | J10: DIRECTEUR | K10: 2eme COLLEGE | N10: 3
A11: 9 | B11: d | C11: michel | D11: 36587 | E11: =PROPER(TEXT($D11,"mmmm")) -> Mars | F11: =DATEDIF(Données4[[#This Row],[DATE DE NAISSANCE]],TODAY(), "y") -> 19 | G11: M | H11: 36650 | I11: =DATEDIF(H11,TODAY(),"y") -> 19 | J11: CHAUFFEUR | K11: 1er COLLEGE | L11: mic.tt@laposte.net
B12: bb | C12: 22 | D12: 26564 | E12: =PROPER(TEXT($D12,"mmmm")) -> Septembre | F12: =DATEDIF(Données4[[#This Row],[DATE DE NAISSANCE]],TODAY(), "y") -> 47 | G12: f | H12: 32408 | I12: =DATEDIF(H12,TODAY(),"y") -> 31

Sheet anniversaire a souhaiter
B2: ANNIVERSAIRE CE JOUR | I2: ANNIVERSAIRE DANS LA SEMAINE
B4: NOM | C4: PRENOM | D4: DATE DE NAISSANCE | E4: AGE | F4: SEXE | G4: ADRESSE MAIL | I4: NOM | J4: PRENOM | K4: DATE DE NAISSANCE | L4: AGE | M4: SEXE | N4: ADRESSE MAIL
A5: {=IFERROR(SMALL(IF((DAY(Données4[DATE DE NAISSANCE])=DAY(TODAY()))*(MONTH(Données4[DATE DE NAISSANCE])=MONTH(TODAY())),ROW(Données4[DATE DE NAISSANCE]),""),ROW()-ROW($B$4)),"")} -> 5 | B5: =IF(A5="","",INDEX(Données4[NOM],A5-2)) -> g | C5: =IF(A5="","",INDEX(Données4[PRENOM],A5-2)) -> Laurent | D5: =IF(A5="","",INDEX(Données4[DATE DE NAISSANCE],A5-2)) -> 25587 | E5: =IF(A5="","",INDEX(Données4[AGE],A5-2)) -> 50 | F5: =IF(A5="","",INDEX(Données4[SEXE],A5-2)) -> F | G5: =IF(A5="","",INDEX(Données4[ADRESSE MAIL],A5-2)) -> 0 | H5: {=IFERROR(SMALL(IF((DAY(Données4[DATE DE NAISSANCE])>=DAY(TODAY())-WEEKDAY(TODAY(),3))*(DAY(Données4[DATE DE NAISSANCE])<=DAY(TODAY())+6-WEEKDAY(TODAY(),3)),ROW(Données4[DATE DE NAISSANCE]),""),ROW()-ROW($I$4)),"")} -> 4 | I5: =IF(H5="","",INDEX(Données4[NOM],H5-2)) -> d | J5: =IF(H5="","",INDEX(Données4[PRENOM],H5-2)) -> Liliane | K5: =IF(H5="","",INDEX(Données4[DATE DE NAISSANCE],H5-2)) -> 36543 | L5: =IF(H5="","",INDEX(Données4[AGE],H5-2)) -> 20 | M5: =IF(H5="","",INDEX(Données4[SEXE],H5-2)) -> F | N5: =IF(H5="","",INDEX(Données4[ADRESSE MAIL],H5-2)) -> 0
A6: {=IFERROR(SMALL(IF((DAY(Données4[DATE DE NAISSANCE])=DAY(TODAY()))*(MONTH(Données4[DATE DE NAISSANCE])=MONTH(TODAY())),ROW(Données4[DATE DE NAISSANCE]),""),ROW()-ROW($B$4)),"")} | B6: =IF(A6="","",INDEX(Données4[NOM],A6-2)) | C6: =IF(A6="","",INDEX(Données4[PRENOM],A6-2)) | D6: =IF(A6="","",INDEX(Données4[DATE DE NAISSANCE],A6-2)) | E6: =IF(A6="","",INDEX(Données4[AGE],A6-2)) | F6: =IF(A6="","",INDEX(Données4[SEXE],A6-2)) | G6: =IF(A6="","",INDEX(Données4[ADRESSE MAIL],A6-2)) | H6: {=IFERROR(SMALL(IF((DAY(Données4[DATE DE NAISSANCE])>=DAY(TODAY())-WEEKDAY(TODAY(),3))*(DAY(Données4[DATE DE NAISSANCE])<=DAY(TODAY())+6-WEEKDAY(TODAY(),3)),ROW(Données4[DATE DE NAISSANCE]),""),ROW()-ROW($I$4)),"")} -> 5 | I6: =IF(H6="","",INDEX(Données4[NOM],H6-2)) -> g | J6: =IF(H6="","",INDEX(Données4[PRENOM],H6-2)) -> Laurent | K6: =IF(H6="","",INDEX(Données4[DATE DE NAISSANCE],H6-2)) -> 25587 | L6: =IF(H6="","",INDEX(Données4[AGE],H6-2)) -> 50 | M6: =IF(H6="","",INDEX(Données4[SEXE],H6-2)) -> F | N6: =IF(H6="","",INDEX(Données4[ADRESSE MAIL],H6-2)) -> 0
A7: {=IFERROR(SMALL(IF((DAY(Données4[DATE DE NAISSANCE])=DAY(TODAY()))*(MONTH(Données4[DATE DE NAISSANCE])=MONTH(TODAY())),ROW(Données4[DATE DE NAISSANCE]),""),ROW()-ROW($B$4)),"")} | B7: =IF(A7="","",INDEX(Données4[NOM],A7-2)) | C7: =IF(A7="","",INDEX(Données4[PRENOM],A7-2)) | D7: =IF(A7="","",INDEX(Données4[DATE DE NAISSANCE],A7-2)) | E7: =IF(A7="","",INDEX(Données4[AGE],A7-2)) | F7: =IF(A7="","",INDEX(Données4[SEXE],A7-2)) | G7: =IF(A7="","",INDEX(Données4[ADRESSE MAIL],A7-2)) | H7: {=IFERROR(SMALL(IF((DAY(Données4[DATE DE NAISSANCE])>=DAY(TODAY())-WEEKDAY(TODAY(),3))*(DAY(Données4[DATE DE NAISSANCE])<=DAY(TODAY())+6-WEEKDAY(TODAY(),3)),ROW(Données4[DATE DE NAISSANCE]),""),ROW()-ROW($I$4)),"")} | I7: =IF(H7="","",INDEX(Données4[NOM],H7-2)) | J7: =IF(H7="","",INDEX(Données4[PRENOM],H7-2)) | K7: =IF(H7="","",INDEX(Données4[DATE DE NAISSANCE],H7-2)) | L7: =IF(H7="","",INDEX(Données4[AGE],H7-2)) | M7: =IF(H7="","",INDEX(Données4[SEXE],H7-2)) | N7: =IF(H7="","",INDEX(Données4[ADRESSE MAIL],H7-2))
A8: {=IFERROR(SMALL(IF((DAY(Données4[DATE DE NAISSANCE])=DAY(TODAY()))*(MONTH(Données4[DATE DE NAISSANCE])=MONTH(TODAY())),ROW(Données4[DATE DE NAISSANCE]),""),ROW()-ROW($B$4)),"")} | B8: =IF(A8="","",INDEX(Données4[NOM],A8-2)) | C8: =IF(A8="","",INDEX(Données4[PRENOM],A8-2)) | D8: =IF(A8="","",INDEX(Données4[DATE DE NAISSANCE],A8-2)) | E8: =IF(A8="","",INDEX(Données4[AGE],A8-2)) | F8: =IF(A8="","",INDEX(Données4[SEXE],A8-2)) | G8: =IF(A8="","",INDEX(Données4[ADRESSE MAIL],A8-2)) | H8: {=IFERROR(SMALL(IF((DAY(Données4[DATE DE NAISSANCE])>=DAY(TODAY())-WEEKDAY(TODAY(),3))*(DAY(Données4[DATE DE NAISSANCE])<=DAY(TODAY())+6-WEEKDAY(TODAY(),3)),ROW(Données4[DATE DE NAISSANCE]),""),ROW()-ROW($I$4)),"")} | I8: =IF(H8="","",INDEX(Données4[NOM],H8-2)) | J8: =IF(H8="","",INDEX(Données4[PRENOM],H8-2)) | K8: =IF(H8="","",INDEX(Données4[DATE DE NAISSANCE],H8-2)) | L8: =IF(H8="","",INDEX(Données4[AGE],H8-2)) | M8: =IF(H8="","",INDEX(Données4[SEXE],H8-2)) | N8: =IF(H8="","",INDEX(Données4[ADRESSE MAIL],H8-2))
A9: {=IFERROR(SMALL(IF((DAY(Données4[DATE DE NAISSANCE])=DAY(TODAY()))*(MONTH(Données4[DATE DE NAISSANCE])=MONTH(TODAY())),ROW(Données4[DATE DE NAISSANCE]),""),ROW()-ROW($B$4)),"")} | B9: =IF(A9="","",INDEX(Données4[NOM],A9-2)) | C9: =IF(A9="","",INDEX(Données4[PRENOM],A9-2)) | D9: =IF(A9="","",INDEX(Données4[DATE DE NAISSANCE],A9-2)) | E9: =IF(A9="","",INDEX(Données4[AGE],A9-2)) | F9: =IF(A9="","",INDEX(Données4[SEXE],A9-2)) | G9: =IF(A9="","",INDEX(Données4[ADRESSE MAIL],A9-2)) | H9: {=IFERROR(SMALL(IF((DAY(Données4[DATE DE NAISSANCE])>=DAY(TODAY())-WEEKDAY(TODAY(),3))*(DAY(Données4[DATE DE NAISSANCE])<=DAY(TODAY())+6-WEEKDAY(TODAY(),3)),ROW(Données4[DATE DE NAISSANCE]),""),ROW()-ROW($I$4)),"")} | I9: =IF(H9="","",INDEX(Données4[NOM],H9-2)) | J9: =IF(H9="","",INDEX(Données4[PRENOM],H9-2)) | K9: =IF(H9="","",INDEX(Données4[DATE DE NAISSANCE],H9-2)) | L9: =IF(H9="","",INDEX(Données4[AGE],H9-2)) | M9: =IF(H9="","",INDEX(Données4[SEXE],H9-2)) | N9: =IF(H9="","",INDEX(Données4[ADRESSE MAIL],H9-2))
A10: {=IFERROR(SMALL(IF((DAY(Données4[DATE DE NAISSANCE])=DAY(TODAY()))*(MONTH(Données4[DATE DE NAISSANCE])=MONTH(TODAY())),ROW(Données4[DATE DE NAISSANCE]),""),ROW()-ROW($B$4)),"")} | B10: =IF(A10="","",INDEX(Données4[NOM],A10-2)) | C10: =IF(A10="","",INDEX(Données4[PRENOM],A10-2)) | D10: =IF(A10="","",INDEX(Données4[DATE DE NAISSANCE],A10-2)) | E10: =IF(A10="","",INDEX(Données4[AGE],A10-2)) | F10: =IF(A10="","",INDEX(Données4[SEXE],A10-2)) | G10: =IF(A10="","",INDEX(Données4[ADRESSE MAIL],A10-2)) | H10: {=IFERROR(SMALL(IF((DAY(Données4[DATE DE NAISSANCE])>=DAY(TODAY())-WEEKDAY(TODAY(),3))*(DAY(Données4[DATE DE NAISSANCE])<=DAY(TODAY())+6-WEEKDAY(TODAY(),3)),ROW(Données4[DATE DE NAISSANCE]),""),ROW()-ROW($I$4)),"")} | I10: =IF(H10="","",INDEX(Données4[NOM],H10-2)) | J10: =IF(H10="","",INDEX(Données4[PRENOM],H10-2)) | K10: =IF(H10="","",INDEX(Données4[DATE DE NAISSANCE],H10-2)) | L10: =IF(H10="","",INDEX(Données4[AGE],H10-2)) | M10: =IF(H10="","",INDEX(Données4[SEXE],H10-2)) | N10: =IF(H10="","",INDEX(Données4[ADRESSE MAIL],H10-2))
A11: {=IFERROR(SMALL(IF((DAY(Données4[DATE DE NAISSANCE])=DAY(TODAY()))*(MONTH(Données4[DATE DE NAISSANCE])=MONTH(TODAY())),ROW(Données4[DATE DE NAISSANCE]),""),ROW()-ROW($B$4)),"")} | B11: =IF(A11="","",INDEX(Données4[NOM],A11-2)) | C11: =IF(A11="","",INDEX(Données4[PRENOM],A11-2)) | D11: =IF(A11="","",INDEX(Données4[DATE DE NAISSANCE],A11-2)) | E11: =IF(A11="","",INDEX(Données4[AGE],A11-2)) | F11: =IF(A11="","",INDEX(Données4[SEXE],A11-2)) | G11: =IF(A11="","",INDEX(Données4[ADRESSE MAIL],A11-2)) | H11: {=IFERROR(SMALL(IF((DAY(Données4[DATE DE NAISSANCE])>=DAY(TODAY())-WEEKDAY(TODAY(),3))*(DAY(Données4[DATE DE NAISSANCE])<=DAY(TODAY())+6-WEEKDAY(TODAY(),3)),ROW(Données4[DATE DE NAISSANCE]),""),ROW()-ROW($I$4)),"")} | I11: =IF(H11="","",INDEX(Données4[NOM],H11-2)) | J11: =IF(H11="","",INDEX(Données4[PRENOM],H11-2)) | K11: =IF(H11="","",INDEX(Données4[DATE DE NAISSANCE],H11-2)) | L11: =IF(H11="","",INDEX(Données4[AGE],H11-2)) | M11: =IF(H11="","",INDEX(Données4[SEXE],H11-2)) | N11: =IF(H11="","",INDEX(Données4[ADRESSE MAIL],H11-2))
A12: {=IFERROR(SMALL(IF((DAY(Données4[DATE DE NAISSANCE])=DAY(TODAY()))*(MONTH(Données4[DATE DE NAISSANCE])=MONTH(TODAY())),ROW(Données4[DATE DE NAISSANCE]),""),ROW()-ROW($B$4)),"")} | B12: =IF(A12="","",INDEX(Données4[NOM],A12-2)) | C12: =IF(A12="","",INDEX(Données4[PRENOM],A12-2)) | D12: =IF(A12="","",INDEX(Données4[DATE DE NAISSANCE],A12-2)) | E12: =IF(A12="","",INDEX(Données4[AGE],A12-2)) | F12: =IF(A12="","",INDEX(Données4[SEXE],A12-2)) | G12: =IF(A12="","",INDEX(Données4[ADRESSE MAIL],A12-2)) | H12: {=IFERROR(SMALL(IF((DAY(Données4[DATE DE NAISSANCE])>=DAY(TODAY())-WEEKDAY(TODAY(),3))*(DAY(Données4[DATE DE NAISSANCE])<=DAY(TODAY())+6-WEEKDAY(TODAY(),3)),ROW(Données4[DATE DE NAISSANCE]),""),ROW()-ROW($I$4)),"")} | I12: =IF(H12="","",INDEX(Données4[NOM],H12-2)) | J12: =IF(H12="","",INDEX(Données4[PRENOM],H12-2)) | K12: =IF(H12="","",INDEX(Données4[DATE DE NAISSANCE],H12-2)) | L12: =IF(H12="","",INDEX(Données4[AGE],H12-2)) | M12: =IF(H12="","",INDEX(Données4[SEXE],H12-2)) | N12: =IF(H12="","",INDEX(Données4[ADRESSE MAIL],H12-2))
B14: ANNIVERSAIRE DANS LE MOIS
B16: NOM | C16: PRENOM | D16: DATE DE NAISSANCE | E16: AGE | F16: SEXE | G16: ADRESSE MAIL
A17: {=IFERROR(SMALL(IF(MONTH(Données4[DATE DE NAISSANCE])=MONTH(TODAY()),ROW(Données4[DATE DE NAISSANCE]),""),ROW()-ROW($B$16)),"")} -> 3 | B17: =IF(A17="","",INDEX(Données4[NOM],A17-2)) -> a | C17: =IF(A17="","",INDEX(Données4[PRENOM],A17-2)) -> Isabelle | D17: =IF(A17="","",INDEX(Données4[DATE DE NAISSANCE],A17-2)) -> 36548 | E17: =IF(A17="","",INDEX(Données4[AGE],A17-2)) -> 19 | F17: =IF(A17="","",INDEX(Données4[SEXE],A17-2)) -> M | G17: =IF(A17="","",INDEX(Données4[ADRESSE MAIL],A17-2)) -> 0
A18: {=IFERROR(SMALL(IF(MONTH(Données4[DATE DE NAISSANCE])=MONTH(TODAY()),ROW(Données4[DATE DE NAISSANCE]),""),ROW()-ROW($B$16)),"")} -> 4 | B18: =IF(A18="","",INDEX(Données4[NOM],A18-2)) -> d | C18: =IF(A18="","",INDEX(Données4[PRENOM],A18-2)) -> Liliane | D18: =IF(A18="","",INDEX(Données4[DATE DE NAISSANCE],A18-2)) -> 36543 | E18: =IF(A18="","",INDEX(Données4[AGE],A18-2)) -> 20 | F18: =IF(A18="","",INDEX(Données4[SEXE],A18-2)) -> F | G18: =IF(A18="","",INDEX(Données4[ADRESSE MAIL],A18-2)) -> 0
A19: {=IFERROR(SMALL(IF(MONTH(Données4[DATE DE NAISSANCE])=MONTH(TODAY()),ROW(Données4[DATE DE NAISSANCE]),""),ROW()-ROW($B$16)),"")} -> 5 | B19: =IF(A19="","",INDEX(Données4[NOM],A19-2)) -> g | C19: =IF(A19="","",INDEX(Données4[PRENOM],A19-2)) -> Laurent | D19: =IF(A19="","",INDEX(Données4[DATE DE NAISSANCE],A19-2)) -> 25587 | E19: =IF(A19="","",INDEX(Données4[AGE],A19-2)) -> 50 | F19: =IF(A19="","",INDEX(Données4[SEXE],A19-2)) -> F | G19: =IF(A19="","",INDEX(Données4[ADRESSE MAIL],A19-2)) -> 0
A20: {=IFERROR(SMALL(IF(MONTH(Données4[DATE DE NAISSANCE])=MONTH(TODAY()),ROW(Données4[DATE DE NAISSANCE]),""),ROW()-ROW($B$16)),"")} | B20: =IF(A20="","",INDEX(Données4[NOM],A20-2)) | C20: =IF(A20="","",INDEX(Données4[PRENOM],A20-2)) | D20: =IF(A20="","",INDEX(Données4[DATE DE NAISSANCE],A20-2)) | E20: =IF(A20="","",INDEX(Données4[AGE],A20-2)) | F20: =IF(A20="","",INDEX(Données4[SEXE],A20-2)) | G20: =IF(A20="","",INDEX(Données4[ADRESSE MAIL],A20-2))
A21: {=IFERROR(SMALL(IF(MONTH(Données4[DATE DE NAISSANCE])=MONTH(TODAY()),ROW(Données4[DATE DE NAISSANCE]),""),ROW()-ROW($B$16)),"")} | B21: =IF(A21="","",INDEX(Données4[NOM],A21-2)) | C21: =IF(A21="","",INDEX(Données4[PRENOM],A21-2)) | D21: =IF(A21="","",INDEX(Données4[DATE DE NAISSANCE],A21-2)) | E21: =IF(A21="","",INDEX(Données4[AGE],A21-2)) | F21: =IF(A21="","",INDEX(Données4[SEXE],A21-2)) | G21: =IF(A21="","",INDEX(Données4[ADRESSE MAIL],A21-2))
A22: {=IFERROR(SMALL(IF(MONTH(Données4[DATE DE NAISSANCE])=MONTH(TODAY()),ROW(Données4[DATE DE NAISSANCE]),""),ROW()-ROW($B$16)),"")} | B22: =IF(A22="","",INDEX(Données4[NOM],A22-2)) | C22: =IF(A22="","",INDEX(Données4[PRENOM],A22-2)) | D22: =IF(A22="","",INDEX(Données4[DATE DE NAISSANCE],A22-2)) | E22: =IF(A22="","",INDEX(Données4[AGE],A22-2)) | F22: =IF(A22="","",INDEX(Données4[SEXE],A22-2)) | G22: =IF(A22="","",INDEX(Données4[ADRESSE MAIL],A22-2))
A23: {=IFERROR(SMALL(IF(MONTH(Données4[DATE DE NAISSANCE])=MONTH(TODAY()),ROW(Données4[DATE DE NAISSANCE]),""),ROW()-ROW($B$16)),"")} | B23: =IF(A23="","",INDEX(Données4[NOM],A23-2)) | C23: =IF(A23="","",INDEX(Données4[PRENOM],A23-2)) | D23: =IF(A23="","",INDEX(Données4[DATE DE NAISSANCE],A23-2)) | E23: =IF(A23="","",INDEX(Données4[AGE],A23-2)) | F23: =IF(A23="","",INDEX(Données4[SEXE],A23-2)) | G23: =IF(A23="","",INDEX(Données4[ADRESSE MAIL],A23-2))
A24: {=IFERROR(SMALL(IF(MONTH(Données4[DATE DE NAISSANCE])=MONTH(TODAY()),ROW(Données4[DATE DE NAISSANCE]),""),ROW()-ROW($B$16)),"")} | B24: =IF(A24="","",INDEX(Données4[NOM],A24-2)) | C24: =IF(A24="","",INDEX(Données4[PRENOM],A24-2)) | D24: =IF(A24="","",INDEX(Données4[DATE DE NAISSANCE],A24-2)) | E24: =IF(A24="","",INDEX(Données4[AGE],A24-2)) | F24: =IF(A24="","",INDEX(Données4[SEXE],A24-2)) | G24: =IF(A24="","",INDEX(Données4[ADRESSE MAIL],A24-2))
A25: {=IFERROR(SMALL(IF(MONTH(Données4[DATE DE NAISSANCE])=MONTH(TODAY()),ROW(Données4[DATE DE NAISSANCE]),""),ROW()-ROW($B$16)),"")} | B25: =IF(A25="","",INDEX(Données4[NOM],A25-2)) | C25: =IF(A25="","",INDEX(Données4[PRENOM],A25-2)) | D25: =IF(A25="","",INDEX(Données4[DATE DE NAISSANCE],A25-2)) | E25: =IF(A25="","",INDEX(Données4[AGE],A25-2)) | F25: =IF(A25="","",INDEX(Données4[SEXE],A25-2)) | G25: =IF(A25="","",INDEX(Données4[ADRESSE MAIL],A25-2))
A26: {=IFERROR(SMALL(IF(MONTH(Données4[DATE DE NAISSANCE])=MONTH(TODAY()),ROW(Données4[DATE DE NAISSANCE]),""),ROW()-ROW($B$16)),"")} | B26: =IF(A26="","",INDEX(Données4[NOM],A26-2)) | C26: =IF(A26="","",INDEX(Données4[PRENOM],A26-2)) | D26: =IF(A26="","",INDEX(Données4[DATE DE NAISSANCE],A26-2)) | E26: =IF(A26="","",INDEX(Données4[AGE],A26-2)) | F26: =IF(A26="","",INDEX(Données4[SEXE],A26-2)) | G26: =IF(A26="","",INDEX(Données4[ADRESSE MAIL],A26-2))
A27: {=IFERROR(SMALL(IF(MONTH(Données4[DATE DE NAISSANCE])=MONTH(TODAY()),ROW(Données4[DATE DE NAISSANCE]),""),ROW()-ROW($B$16)),"")} | B27: =IF(A27="","",INDEX(Données4[NOM],A27-2)) | C27: =IF(A27="","",INDEX(Données4[PRENOM],A27-2)) | D27: =IF(A27="","",INDEX(Données4[DATE DE NAISSANCE],A27-2)) | E27: =IF(A27="","",INDEX(Données4[AGE],A27-2)) | F27: =IF(A27="","",INDEX(Données4[SEXE],A27-2)) | G27: =IF(A27="","",INDEX(Données4[ADRESSE MAIL],A27-2))
A28: {=IFERROR(SMALL(IF(MONTH(Données4[DATE DE NAISSANCE])=MONTH(TODAY()),ROW(Données4[DATE DE NAISSANCE]),""),ROW()-ROW($B$16)),"")} | B28: =IF(A28="","",INDEX(Données4[NOM],A28-2)) | C28: =IF(A28="","",INDEX(Données4[PRENOM],A28-2)) | D28: =IF(A28="","",INDEX(Données4[DATE DE NAISSANCE],A28-2)) | E28: =IF(A28="","",INDEX(Données4[AGE],A28-2)) | F28: =IF(A28="","",INDEX(Données4[SEXE],A28-2)) | G28: =IF(A28="","",INDEX(Données4[ADRESSE MAIL],A28-2))

Sheet Synthèse de l'effectif
B3: Étiquettes de colonnes
B4: 1er COLLEGE | F4: Nombre de NOM 1er COLLEGE | G4: Nombre de NOM2 1er COLLEGE | H4: 2eme COLLEGE | L4: Nombre de NOM 2eme COLLEGE | M4: Nombre de NOM2 2eme COLLEGE | N4: (vide) | P4: Nombre de NOM (vide) | Q4: Nombre de NOM2 (vide) | R4: Total Nombre de NOM | S4: Total Nombre de NOM2
B5: Nombre de NOM | D5: Nombre de NOM2 | H5: Nombre de NOM | J5: Nombre de NOM2 | N5: Nombre de NOM | O5: Nombre de NOM2
A6: Étiquettes de lignes | B6: F | C6: M | D6: F | E6: M | H6: F | I6: M | J6: F | K6: M | N6: F | O6: F
A7: ADMINISTRATIF | B7: 1 | C7: 1 | D7: 0.11111111 | E7: 0.11111111 | F7: 2 | G7: 0.22222222 | J7: 0 | K7: 0 | M7: 0 | O7: 0 | Q7: 0 | R7: 2 | S7: 0.22222222
A8: CHAUFFEUR | C8: 1 | D8: 0 | E8: 0.11111111 | F8: 1 | G8: 0.11111111 | J8: 0 | K8: 0 | M8: 0 | O8: 0 | Q8: 0 | R8: 1 | S8: 0.11111111
A9: DIRECTEUR | D9: 0 | E9: 0 | G9: 0 | H9: 1 | I9: 1 | J9: 0.11111111 | K9: 0.11111111 | L9: 2 | M9: 0.22222222 | O9: 0 | Q9: 0 | R9: 2 | S9: 0.22222222
A10: GARAGE | B10: 1 | D10: 0.11111111 | E10: 0 | F10: 1 | G10: 0.11111111 | I10: 1 | J10: 0 | K10: 0.11111111 | L10: 1 | M10: 0.11111111 | O10: 0 | Q10: 0 | R10: 2 | S10: 0.22222222
A11: QUAI | D11: 0 | E11: 0 | G11: 0 | H11: 1 | I11: 1 | J11: 0.11111111 | K11: 0.11111111 | L11: 2 | M11: 0.22222222 | O11: 0 | Q11: 0 | R11: 2 | S11: 0.22222222
A12: (vide) | D12: 0 | E12: 0 | G12: 0 | J12: 0 | K12: 0 | M12: 0 | O12: 0 | Q12: 0 | S12: 0
A13: Total général | B13: 2 | C13: 2 | D13: 0.22222222 | E13: 0.22222222 | F13: 4 | G13: 0.44444444 | H13: 2 | I13: 3 | J13: 0.22222222 | K13: 0.33333333 | L13: 5 | M13: 0.55555556 | O13: 0 | Q13: 0 | R13: 9 | S13: 1

Sheet synthése de l' effectif 2 
B2: SYNTHESE DE L EFFECTIF
C5: TOTAL
B6: EFFECTIF TOTAL | C6: =GETPIVOTDATA("Nombre de NOM",'Synthèse de l''effectif'!$A$3) -> 9
B8: PAR SEXE | E8: PART DE L'EFFECTIF
B9: FEMMES | C9: =GETPIVOTDATA("Nombre de NOM",'Synthèse de l''effectif'!$A$3,"SEXE","F","STATUT","1er COLLEGE")+GETPIVOTDATA("Nombre de NOM",'Synthèse de l''effectif'!$A$3,"SEXE","F","STATUT","2eme COLLEGE") -> 4 | E9: FEMMES | F9: =SUM(C9/$C$6) -> 0.44444444
B10: HOMMES | C10: =GETPIVOTDATA("Nombre de NOM",'Synthèse de l''effectif'!$A$3,"SEXE","M","STATUT","1er COLLEGE")+GETPIVOTDATA("Nombre de NOM",'Synthèse de l''effectif'!$A$3,"SEXE","M","STATUT","2eme COLLEGE") -> 5 | E10: HOMMES | F10: =SUM(C10/$C$6) -> 0.55555556
B12: PAR STATUT
B13: 2eme COLLEGE | C13: =GETPIVOTDATA("Nombre de NOM",'Synthèse de l''effectif'!$A$3,"STATUT","2eme COLLEGE") -> 5 | E13: 2eme COLLEGE | F13: =SUM(C13/$C$6) -> 0.55555556
B14: Femmes | C14: =GETPIVOTDATA("Nombre de NOM",'Synthèse de l''effectif'!$A$3,"SEXE","F","STATUT","2eme COLLEGE") -> 2 | E14: Femmes | F14: =SUM(C14/$C$6) -> 0.22222222
B15: Hommes | C15: =GETPIVOTDATA("Nombre de NOM",'Synthèse de l''effectif'!$A$3,"SEXE","M","STATUT","2eme COLLEGE") -> 3 | E15: Hommes | F15: =SUM(C15/$C$6) -> 0.33333333
B16: 1er COLLEGE | C16: =GETPIVOTDATA("Nombre de NOM",'Synthèse de l''effectif'!$A$3,"STATUT","1er COLLEGE") -> 4 | E16: 1er COLLEGE | F16: =SUM(C16/$C$6) -> 0.44444444
B17: Femmes | C17: =GETPIVOTDATA("Nombre de NOM",'Synthèse de l''effectif'!$A$3,"SEXE","F","STATUT","1er COLLEGE") -> 2 | E17: Femmes | F17: =SUM(C17/$C$6) -> 0.22222222
B18: Hommes | C18: =GETPIVOTDATA("Nombre de NOM",'Synthèse de l''effectif'!$A$3,"SEXE","M","STATUT","1er COLLEGE") -> 2 | E18: Hommes | F18: =SUM(C18/$C$6) -> 0.22222222
B20: PAR FONCTION ET SEXE
B21: ADMINISTRATIF | C21: =COUNTIF('base de données'!J:J,'synthése de l'' effectif 2 '!B21) -> 2 | E21: ADMINISTRATIF | F21: =C21/$C$6 -> 0.22222222
B22: Femmes | C22: =COUNTIFS('base de données'!J:J,'synthése de l'' effectif 2 '!$B$21,'base de données'!G:G,"F") -> 1 | E22: Femmes | F22: =C22/$C$6 -> 0.11111111
B23: Hommes | C23: =COUNTIFS('base de données'!J:J,'synthése de l'' effectif 2 '!$B$21,'base de données'!G:G,"M") -> 1 | E23: Hommes | F23: =C23/$C$6 -> 0.11111111
B24: QUAI | C24: =COUNTIF('base de données'!J:J,'synthése de l'' effectif 2 '!B24) -> 2 | E24: QUAI | F24: =C24/$C$6 -> 0.22222222
B25: Femmes | C25: =COUNTIFS('base de données'!J:J,'synthése de l'' effectif 2 '!$B$24,'base de données'!G:G,"F") -> 1 | E25: Femmes | F25: =C25/$C$6 -> 0.11111111
B26: Hommes | C26: =COUNTIFS('base de données'!J:J,'synthése de l'' effectif 2 '!$B$24,'base de données'!G:G,"M") -> 1 | E26: Hommes | F26: =C26/$C$6 -> 0.11111111
B27: GARAGE | C27: =COUNTIF('base de données'!J:J,'synthése de l'' effectif 2 '!B27) -> 2 | E27: GARAGE | F27: =C27/$C$6 -> 0.22222222
B28: Femmes | C28: =COUNTIFS('base de données'!J:J,'synthése de l'' effectif 2 '!$B$27,'base de données'!G:G,"F") -> 1 | E28: Femmes | F28: =C28/$C$6 -> 0.11111111
B29: Hommes | C29: =COUNTIFS('base de données'!J:J,'synthése de l'' effectif 2 '!$B$27,'base de données'!G:G,"M") -> 1 | E29: Hommes | F29: =C29/$C$6 -> 0.11111111
B30: CHAUFFEUR | C30: =COUNTIF('base de données'!J:J,'synthése de l'' effectif 2 '!B30) -> 1 | E30: CHAUFFEUR | F30: =C30/$C$6 -> 0.11111111
B31: Femmes | C31: =COUNTIFS('base de données'!J:J,'synthése de l'' effectif 2 '!$B$30,'base de données'!G:G,"F") -> 0 | E31: Femmes | F31: =C31/$C$6 -> 0
B32: Hommes | C32: =COUNTIFS('base de données'!J:J,'synthése de l'' effectif 2 '!$B$30,'base de données'!G:G,"M") -> 1 | E32: Hommes | F32: =C32/$C$6 -> 0.11111111
B33: DIRECTEUR | C33: =COUNTIF('base de données'!J:J,'synthése de l'' effectif 2 '!B33) -> 2 | E33: DIR | F33: =C33/$C$6 -> 0.22222222
B34: Femmes | C34: =COUNTIFS('base de données'!J:J,'synthése de l'' effectif 2 '!$B$33,'base de données'!G:G,"F") -> 1 | E34: Femmes | F34: =C34/$C$6 -> 0.11111111
B35: Hommes | C35: =COUNTIFS('base de données'!J:J,'synthése de l'' effectif 2 '!$B$33,'base de données'!G:G,"M") -> 1 | E35: Hommes | F35: =C35/$C$6 -> 0.11111111

Sheet graphique 
B85: LA PYRAMIDE DES ÂGES
C87: Homme | D87: Femme
B88: 20 | C88: =SUMPRODUCT((Données4[SEXE]="M")*(Données4[AGE]<'graphique '!B88)*(Données4[AGE]>='graphique '!B87)) -> 2 | D88: =SUMPRODUCT((Données4[SEXE]="F")*(Données4[AGE]<'graphique '!B88)*(Données4[AGE]>='graphique '!B87))*-1 -> -1
B89: 25 | C89: =SUMPRODUCT((Données4[SEXE]="M")*(Données4[AGE]<'graphique '!B89)*(Données4[AGE]>='graphique '!B88)) -> 2 | D89: =SUMPRODUCT((Données4[SEXE]="F")*(Données4[AGE]<'graphique '!B89)*(Données4[AGE]>='graphique '!B88))*-1 -> -2
B90: 30 | C90: =SUMPRODUCT((Données4[SEXE]="M")*(Données4[AGE]<'graphique '!B90)*(Données4[AGE]>='graphique '!B89)) -> 0 | D90: =SUMPRODUCT((Données4[SEXE]="F")*(Données4[AGE]<'graphique '!B90)*(Données4[AGE]>='graphique '!B89))*-1 -> 0
B91: 35 | C91: =SUMPRODUCT((Données4[SEXE]="M")*(Données4[AGE]<'graphique '!B91)*(Données4[AGE]>='graphique '!B90)) -> 0 | D91: =SUMPRODUCT((Données4[SEXE]="F")*(Données4[AGE]<'graphique '!B91)*(Données4[AGE]>='graphique '!B90))*-1 -> 0
B92: 40 | C92: =SUMPRODUCT((Données4[SEXE]="M")*(Données4[AGE]<'graphique '!B92)*(Données4[AGE]>='graphique '!B91)) -> 0 | D92: =SUMPRODUCT((Données4[SEXE]="F")*(Données4[AGE]<'graphique '!B92)*(Données4[AGE]>='graphique '!B91))*-1 -> 0
B93: 45 | C93: =SUMPRODUCT((Données4[SEXE]="M")*(Données4[AGE]<'graphique '!B93)*(Données4[AGE]>='graphique '!B92)) -> 0 | D93: =SUMPRODUCT((Données4[SEXE]="F")*(Données4[AGE]<'graphique '!B93)*(Données4[AGE]>='graphique '!B92))*-1 -> 0
B94: 50 | C94: =SUMPRODUCT((Données4[SEXE]="M")*(Données4[AGE]<'graphique '!B94)*(Données4[AGE]>='graphique '!B93)) -> 0 | D94: =SUMPRODUCT((Données4[SEXE]="F")*(Données4[AGE]<'graphique '!B94)*(Données4[AGE]>='graphique '!B93))*-1 -> -1
B95: 55 | C95: =SUMPRODUCT((Données4[SEXE]="M")*(Données4[AGE]<'graphique '!B95)*(Données4[AGE]>='graphique '!B94)) -> 1 | D95: =SUMPRODUCT((Données4[SEXE]="F")*(Données4[AGE]<'graphique '!B95)*(Données4[AGE]>='graphique '!B94))*-1 -> -1
B96: 60 | C96: =SUMPRODUCT((Données4[SEXE]="M")*(Données4[AGE]<'graphique '!B96)*(Données4[AGE]>='graphique '!B95)) -> 0 | D96: =SUMPRODUCT((Données4[SEXE]="F")*(Données4[AGE]<'graphique '!B96)*(Données4[AGE]>='graphique '!B95))*-1 -> 0
B97: 65 | C97: =SUMPRODUCT((Données4[SEXE]="M")*(Données4[AGE]<'graphique '!B97)*(Données4[AGE]>='graphique '!B96)) -> 0 | D97: =SUMPRODUCT((Données4[SEXE]="F")*(Données4[AGE]<'graphique '!B97)*(Données4[AGE]>='graphique '!B96))*-1 -> 0
B98: 70 | C98: =SUMPRODUCT((Données4[SEXE]="M")*(Données4[AGE]<'graphique '!B98)*(Données4[AGE]>='graphique '!B97)) -> 0 | D98: =SUMPRODUCT((Données4[SEXE]="F")*(Données4[AGE]<'graphique '!B98)*(Données4[AGE]>='graphique '!B97))*-1 -> 0
B99: AGE MOYEN | C99: =AVERAGEIF('base de données'!$G:$G,"M",'base de données'!$F:$F) -> 26.4 | D99: =AVERAGEIF('base de données'!$G:$G,"F",'base de données'!$F:$F) -> 30.2
B101: LA PYRAMIDE ANCIENNETEE
C103: Homme | D103: Femme
B104: 5 | C104: =SUMPRODUCT((Données4[SEXE]="M")*(Données4[ANCIENNETEE]<'graphique '!B104)*(Données4[ANCIENNETEE]>='graphique '!B103)) -> 2 | D104: =SUMPRODUCT((Données4[SEXE]="F")*(Données4[ANCIENNETEE]<'graphique '!B104)*(Données4[ANCIENNETEE]>='graphique '!B103))*-1 -> -1
B105: 10 | C105: =SUMPRODUCT((Données4[SEXE]="M")*(Données4[ANCIENNETEE]<'graphique '!B105)*(Données4[ANCIENNETEE]>='graphique '!B104)) -> 0 | D105: =SUMPRODUCT((Données4[SEXE]="F")*(Données4[ANCIENNETEE]<'graphique '!B105)*(Données4[ANCIENNETEE]>='graphique '!B104))*-1 -> 0
B106: 15 | C106: =SUMPRODUCT((Données4[SEXE]="M")*(Données4[ANCIENNETEE]<'graphique '!B106)*(Données4[ANCIENNETEE]>='graphique '!B105)) -> 1 | D106: =SUMPRODUCT((Données4[SEXE]="F")*(Données4[ANCIENNETEE]<'graphique '!B106)*(Données4[ANCIENNETEE]>='graphique '!B105))*-1 -> 0
B107: 20 | C107: =SUMPRODUCT((Données4[SEXE]="M")*(Données4[ANCIENNETEE]<'graphique '!B107)*(Données4[ANCIENNETEE]>='graphique '!B106)) -> 2 | D107: =SUMPRODUCT((Données4[SEXE]="F")*(Données4[ANCIENNETEE]<'graphique '!B107)*(Données4[ANCIENNETEE]>='graphique '!B106))*-1 -> -2
B108: 25 | C108: =SUMPRODUCT((Données4[SEXE]="M")*(Données4[ANCIENNETEE]<'graphique '!B108)*(Données4[ANCIENNETEE]>='graphique '!B107)) -> 0 | D108: =SUMPRODUCT((Données4[SEXE]="F")*(Données4[ANCIENNETEE]<'graphique '!B108)*(Données4[ANCIENNETEE]>='graphique '!B107))*-1 -> 0
B109: 30 | C109: =SUMPRODUCT((Données4[SEXE]="M")*(Données4[ANCIENNETEE]<'graphique '!B109)*(Données4[ANCIENNETEE]>='graphique '!B108)) -> 0 | D109: =SUMPRODUCT((Données4[SEXE]="F")*(Données4[ANCIENNETEE]<'graphique '!B109)*(Données4[ANCIENNETEE]>='graphique '!B108))*-1 -> -1
B110: 35 | C110: =SUMPRODUCT((Données4[SEXE]="M")*(Données4[ANCIENNETEE]<'graphique '!B110)*(Données4[ANCIENNETEE]>='graphique '!B109)) -> 0 | D110: =SUMPRODUCT((Données4[SEXE]="F")*(Données4[ANCIENNETEE]<'graphique '!B110)*(Données4[ANCIENNETEE]>='graphique '!B109))*-1 -> -1
B111: 40 | C111: =SUMPRODUCT((Données4[SEXE]="M")*(Données4[ANCIENNETEE]<'graphique '!B111)*(Données4[ANCIENNETEE]>='graphique '!B110)) -> 0 | D111: =SUMPRODUCT((Données4[SEXE]="F")*(Données4[ANCIENNETEE]<'graphique '!B111)*(Données4[ANCIENNETEE]>='graphique '!B110))*-1 -> 0
B112: 45 | C112: =SUMPRODUCT((Données4[SEXE]="M")*(Données4[ANCIENNETEE]<'graphique '!B112)*(Données4[ANCIENNETEE]>='graphique '!B111)) -> 0 | D112: =SUMPRODUCT((Données4[SEXE]="F")*(Données4[ANCIENNETEE]<'graphique '!B112)*(Données4[ANCIENNETEE]>='graphique '!B111))*-1 -> 0
B113: 50 | C113: =SUMPRODUCT((Données4[SEXE]="M")*(Données4[ANCIENNETEE]<'graphique '!B113)*(Données4[ANCIENNETEE]>='graphique '!B112)) -> 0 | D113: =SUMPRODUCT((Données4[SEXE]="F")*(Données4[ANCIENNETEE]<'graphique '!B113)*(Données4[ANCIENNETEE]>='graphique '!B112))*-1 -> 0
B115: moyenne anciennete | C115: =AVERAGEIF('base de données'!$G:$G,"M",'base de données'!$I:$I) -> 10.6 | D115: =AVERAGEIF('base de données'!$G:$G,"F",'base de données'!$I:$I) -> 19.8

Sheet fiche individuelle par personne
B1: nom | G1: prénom
B6: date de naissance | G6: adresse postale
B9: date d'embauche | G9: n°portable
B12: nombre d'enfants | G12: enfants 1
B15: enfants 2 | G15: enfants 3
B18: enfants 4 | G18: enfants 5
B21: LOISIRS BRICOLAGE HABILLEMENT
B23: sports pratiquer | G23: magasin de sport habituel
B26: magazin de bricolage habituel | G26: magazin vestimentaire habituel
B29: souhait que vous aimeriez voir fait par vos représentant du personnel
B32: commentaire

Sheet fiche individuelle vierge a rem
B1: nom | G1: prénom
B6: date de naissance | G6: adresse postale
B9: date d'embauche | G9: n°portable
B12: nombre d'enfants | G12: enfants 1
B15: enfants 2 | G15: enfants 3
B18: enfants 4 | G18: enfants 5
B21: LOISIRS BRICOLAGE HABILLEMENT
B23: sports pratiquer | G23: magasin de sport habituel
B26: magazin de bricolage habituel | G26: magazin vestimentaire habituel
B29: souhait que vous aimeriez voir fait par vos représentant du personnel
B32: commentaire

Sheet sommaire
