Workbook
Name liste_1: ' horaire et frais avant nao '!$A$4:$A$81
Name TRACTEUR: 'matrice vehicule'!$B$3:$B$44

Sheet matrice vehicule
B1: TRACTEUR
B2: N° DE PARC | C2: IMATRICULATION | D2: TYPE DE VEHICULE
B3: E32288 | D3: porteur
B4: p19043 | C4: EA-911-TF | D4: scania
B5: P19044 | C5: EA-004-PW | D5: scania
B6: P19045 | C6: EA-067-TG | D6: scania
B7: p19045
B8: P19046 | C8: EA-135-PW | D8: scania
B9: p19047 | C9: EA-231-QE | D9: scania
B10: P19048 | C10: EA-092-RT | D10: scania
B11: P19049 | C11: EB-377-JP | D11: scania
B12: P19050 | C12: EB-279-JP | D12: scania
B13: P19051 | D13: scania
B14: P19052 | C14: EA-381-TG | D14: scania
B15: P19053 | C15: EA-340-RT | D15: scania
B16: p19054 | C16: EB-514-JP | D16: scania
B17: p19138 | C17: EC-998-NJ | D17: scania
B18: p19139 | C18: EC-918-ME | D18: scania
B19: p19140 | C19: EC-147-MF | D19: scania
B20: p19141
B21: p19142
B22: p19143
B23: p19144 | C23: EF-012-XP | D23: scania
B24: p19149 | C24: EG-670-HW | D24: scania
B25: p19151
D26: porteur

Sheet horaire et frais apres nao
A1: TABLEAU DES FRAIS DE ROUTE PAR TOURNEE
A3: code tournée | B3: heure d'embauche | C3: repas soir non soumis | D3: Repas midi non soumis | E3: casse croute soumis | F3: demi prime | G3: prime entiere | H3: tichet | I3: repas unique | J3: casse croute non soumis
A4: ? | B4: 0 | C4: 0 | D4: 0 | E4: 0 | F4: 0 | G4: 0 | H4: 0 | I4: 0 | J4: 0
A5: caen | B5: 0.66666667 | C5: =SUM($B$70) -> 13.56 | E5: =SUM($B$71) -> 7.35
A6: CONGES | B6: 0.66666667 | E6: =SUM($B$71) -> 7.35
A7: FCOS | B7: 0.33333333
A8: FERIEE | B8: 0.5
A9: FONTENAY SAMEDI | B9: 0.5 | C9: =SUM($B$70) -> 13.56 | E9: =SUM($B$71) -> 7.35
A10: LE MANS A/A SAMEDI | B10: 0.64583333 | C10: =SUM($B$70) -> 13.56 | E10: =SUM($B$71) -> 7.35 | F10: =SUM($B$72) -> 41.06
A11: MAGNY/VIRE | B11: 0.6875 | C11: =SUM($B$70) -> 13.56 | E11: =SUM($B$71) -> 7.35
A12: MALADIE
A13: NAV CHÂTEAUB | B13: 0.63541667 | C13: =SUM($B$70) -> 13.56 | E13: =SUM($B$71) -> 7.35
A14: NAV ATHIS 2 | B14: 0.86458333 | H14: 1 | I14: =SUM($B$76) -> 1
A15: NAV CHAULNES | B15: 0.77083333 | C15: =SUM($B$70) -> 13.56 | E15: =SUM($B$71) -> 7.35
A16: NAV CLERMONTS | B16: 0.73958333 | C16: =SUM($B$70) -> 13.56 | E16: =SUM($B$71) -> 7.35
A17: NAV DIJON | B17: 0.61458333 | C17: =SUM($B$70) -> 13.56 | E17: =SUM($B$71) -> 7.35
A18: NAV LANGRES | B18: 0.70833333 | C18: =SUM($B$70) -> 13.56 | E18: =SUM($B$71) -> 7.35
A19: NAV LILLE | B19: 0.75 | C19: =SUM($B$70) -> 13.56 | E19: =SUM($B$71) -> 7.35
A20: NAV NIORT | B20: 0.72916667 | C20: =SUM($B$70) -> 13.56 | E20: =SUM($B$71) -> 7.35
A21: NAV NIORT 21H15 | B21: 0.88541667 | H21: 1 | I21: =SUM($B$76) -> 1
A22: NAV SAVIGNY | B22: 0.79166667 | E22: =SUM($B$71) -> 7.35
A23: NAV ST SEVER SAMEDI | B23: 0.72916667 | C23: =SUM($B$70) -> 13.56 | E23: =SUM($B$71) -> 7.35 | G23: =SUM($B$73) -> 82.12
A24: nav sup | B24: 0.6875 | C24: =SUM($B$70) -> 13.56 | E24: =SUM($B$71) -> 7.35
A25: NAV TOURS SAMEDI | B25: 0.66666667 | C25: =SUM($B$70) -> 13.56 | E25: =SUM($B$71) -> 7.35
A26: NAV VELAINES | B26: 0.75 | C26: =SUM($B$70) -> 13.56 | E26: =SUM($B$71) -> 7.35
A27: RAM 14H +CTB | B27: 0.58333333 | C27: =SUM($B$70) -> 13.56 | E27: =SUM($B$71) -> 7.35
A28: RAM 9H N°2 | B28: 0.375 | D28: =SUM($B$69) -> 13.56 | E28: =SUM($B$71) -> 7.35
A29: RAM 9H N°3 | B29: 0.375 | D29: =SUM($B$69) -> 13.56 | E29: =SUM($B$71) -> 7.35
A30: RAM + 21H30 TOURS | B30: 0.71875 | C30: =SUM($B$70) -> 13.56 | E30: =SUM($B$71) -> 7.35
A31: RAM + ANGERS 21H30 | B31: 0.61458333 | C31: =SUM($B$70) -> 13.56 | E31: =SUM($B$71) -> 7.35
A32: RAM + LOG 18H +21H | B32: 0.58333333 | C32: =SUM($B$70) -> 13.56 | E32: =SUM($B$71) -> 7.35
A33: RAM + NANTES 1 | B33: 0.625 | C33: =SUM($B$70) -> 13.56 | E33: =SUM($B$71) -> 7.35
A34: RAM + NANTES 21H | B34: 0.64583333 | C34: =SUM($B$70) -> 13.56 | E34: =SUM($B$71) -> 7.35
A35: RAM + ORLEANS 21H | B35: 0.70833333 | C35: =SUM($B$70) -> 13.56 | E35: =SUM($B$71) -> 7.35
A36: RAM + ROUEN 20H15 | B36: 0.625 | C36: =SUM($B$70) -> 13.56 | E36: =SUM($B$71) -> 7.35
A37: RAM + TOURS 20H | B37: 0.72916667 | C37: =SUM($B$70) -> 13.56 | E37: =SUM($B$71) -> 7.35
A38: RAM 10H N°1 | B38: 0.41666667 | D38: =SUM($B$69) -> 13.56 | E38: =SUM($B$71) -> 7.35
A39: RAM 10H N°2 | B39: 0.41666667 | D39: =SUM($B$69) -> 13.56 | E39: =SUM($B$71) -> 7.35
A40: RAM 10H N°3 | B40: 0.41666667 | D40: =SUM($B$69) -> 13.56 | E40: =SUM($B$71) -> 7.35
A41: RAM 10H N°4 | B41: 0.41666667 | D41: =SUM($B$69) -> 13.56 | E41: =SUM($B$71) -> 7.35
A42: RAM 11H 15 | B42: 0.46875 | D42: =SUM($B$69) -> 13.56 | E42: =SUM($B$71) -> 7.35
A43: RAM 11H 45 | B43: 0.48958333 | D43: =SUM($B$69) -> 13.56 | E43: =SUM($B$71) -> 7.35
A44: RAM 12H | B44: 0.5 | H44: 1 | I44: =SUM($B$76) -> 1
A45: RAM 12H15 | B45: 0.51041667 | H45: 1 | I45: =SUM($B$76) -> 1
A46: RAM 13H N°1 | B46: 0.54166667 | H46: 1 | I46: =SUM($B$76) -> 1
A47: RAM 13H N°2 | B47: 0.54166667 | H47: 1 | I47: =SUM($B$76) -> 1
A48: RAM 13H >21h15 | B48: 0.54166667 | C48: =SUM(B70) -> 13.56 | E48: =SUM(B71) -> 7.35
A49: RAM 14H >21H15 | B49: 0.58333333 | C49: =SUM($B$71) -> 7.35 | E49: =SUM($B$72) -> 41.06
A50: RAM 14H<21H15 | B50: 0.58333333 | H50: 1 | I50: =SUM($B$76) -> 1
A51: RAM 9H LUNDI | B51: 0.375 | D51: =SUM($B$69) -> 13.56 | E51: =SUM($B$71) -> 7.35
A52: RAM 9H N°1 | B52: 0.375 | D52: =SUM($B$69) -> 13.56 | E52: =SUM($B$71) -> 7.35
A53: RAM 9H N°2 | B53: 0.375 | D53: =SUM($B$69) -> 13.56 | E53: =SUM($B$71) -> 7.35
A54: RAM 9H N°3 | B54: 0.375 | D54: =SUM($B$69) -> 13.56 | E54: =SUM($B$71) -> 7.35
A55: RAM MALO + LAVAL | B55: 0.70833333 | C55: =SUM($B$70) -> 13.56 | E55: =SUM($B$71) -> 7.35
A56: RAM/MAGNY/VIRE dimanche | B56: 0.66666667 | C56: =SUM($B$70) -> 13.56 | E56: =SUM($B$71) -> 7.35
A57: RAM+ ATHIS 1 | B57: 0.66666667 | C57: =SUM($B$70) -> 13.56 | E57: =SUM($B$71) -> 7.35
A58: RAM+CAEN 21H15 | B58: 0.88541667 | H58: 1 | I58: =SUM($B$76) -> 1
A59: repos | B59: 0
A60: SU FONTENAY | B60: 0.5 | E60: =SUM($B$71) -> 7.35
A61: SU IFFS + BASES | B61: 0.83333333 | H61: 1 | I61: =SUM($B$76) -> 1
A62: vendée rapide | B62: 0.65625 | C62: =SUM($B$70) -> 13.56 | E62: =SUM($B$71) -> 7.35
A63: week | B63: 0 | C63: 0 | E63: 0
A64: DELEGATION | B64: 0.875 | C64: 13.56 | E64: 7.35
B65: 0
A66: DELEGATION
A68: APRES LES NAO
A69: repas midi | B69: 13.56
A70: repas soir | B70: 13.56
A71: casse croute | B71: 7.35
A72: demi prime | B72: 41.06
A73: prime entiere | B73: 82.12
A74: frais complementaire | B74: 1
A75: déduction tickets restaurant | B75: 1
A76: repas unique | B76: 1

Sheet  horaire et frais avant nao 
A1: TABLEAU DES FRAIS DE ROUTE PAR TOURNEE
A3: code tournée | B3: heure d'embauche | C3: repas soir non soumis | D3: Repas midi non soumis | E3: casse croute soumis | F3: demi prime | G3: prime entiere | H3: tichet | I3: repas unique | J3: casse croute non soumis
A4: ? | B4: 0
A5: caen | B5: 0.66666667 | C5: =SUM($B$71) -> 13.56 | E5: =SUM($B$72) -> 7.35
A6: CONGES | B6: 0.66666667 | E6: =SUM($B$72) -> 7.35
A7: FCOS | B7: 0.33333333
A8: FERIEE | B8: 0.5
A9: FONTENAY SAMEDI | B9: 0.5 | C9: =SUM($B$71) -> 13.56 | E9: =SUM($B$72) -> 7.35
A10: LE MANS A/A SAMEDI | B10: 0.64583333 | C10: =SUM($B$71) -> 13.56 | E10: =SUM($B$72) -> 7.35 | F10: =SUM($B$73) -> 41.06
A11: NAV ATHIS 1 | B11: 0.85416667 | H11: 1 | I11: 1
A12: MALADIE
A13: NAV CHÂTEAUB | B13: 0.63541667 | C13: =SUM($B$71) -> 13.56 | E13: =SUM($B$72) -> 7.35
A14: NAV ATHIS 2 | B14: 0.86458333 | H14: 1 | I14: =SUM($B$77) -> 8.13
A15: NAV CHAULNES | B15: 0.77083333 | C15: =SUM($B$71) -> 13.56 | E15: =SUM($B$72) -> 7.35
A16: NAV CLERMONTS | B16: 0.73958333 | C16: =SUM($B$71) -> 13.56 | E16: =SUM($B$72) -> 7.35
A17: NAV DIJON | B17: 0.61458333 | C17: =SUM($B$71) -> 13.56 | E17: =SUM($B$72) -> 7.35
A18: NAV LANGRES | B18: 0.70833333 | C18: =SUM($B$71) -> 13.56 | E18: =SUM($B$72) -> 7.35
A19: NAV LILLE | B19: 0.75 | C19: =SUM($B$71) -> 13.56 | E19: =SUM($B$72) -> 7.35
A20: NAV NIORT | B20: 0.72916667 | C20: =SUM($B$71) -> 13.56 | E20: =SUM($B$72) -> 7.35
A21: NAV NIORT 21H15 | B21: 0.88541667 | H21: 1 | I21: =SUM($B$77) -> 8.13
B22: 0.79166667 | E22: =SUM($B$72) -> 7.35
A23: NAV ST SEVER | B23: 0.72916667 | C23: =SUM($B$71) -> 13.56 | E23: =SUM($B$72) -> 7.35
A24: RAM+nav sup | B24: 0.6875 | C24: =SUM($B$71) -> 13.56 | E24: =SUM($B$72) -> 7.35
A25: NAV TOURS SAMEDI | B25: 0.66666667 | C25: =SUM($B$71) -> 13.56 | E25: =SUM($B$72) -> 7.35
A26: NAV VELAINES | B26: 0.75 | C26: =SUM($B$71) -> 13.56 | E26: =SUM($B$72) -> 7.35
A27: RAM 14H +CTB | B27: 0.58333333 | C27: =SUM($B$71) -> 13.56 | E27: =SUM($B$72) -> 7.35
A28: RAM 9H N°2 | B28: 0.375 | D28: =SUM($B$70) -> 13.56 | E28: =SUM($B$72) -> 7.35
A29: RAM 9H N°3 | B29: 0.375 | D29: =SUM($B$70) -> 13.56 | E29: =SUM($B$72) -> 7.35
A30: RAM + 21H30 TOURS | B30: 0.71875 | C30: =SUM($B$71) -> 13.56 | E30: =SUM($B$72) -> 7.35
A31: RAM + ANGERS 21H30 | B31: 0.61458333 | C31: =SUM($B$71) -> 13.56 | E31: =SUM($B$72) -> 7.35
A32: RAM + LOG 18H +21H | B32: 0.58333333 | C32: =SUM($B$71) -> 13.56 | E32: =SUM($B$72) -> 7.35
A33: RAM + NANTES 1 | B33: 0.625 | C33: =SUM($B$71) -> 13.56 | E33: =SUM($B$72) -> 7.35
A34: RAM + NANTES 21H | B34: 0.64583333 | C34: =SUM($B$71) -> 13.56 | E34: =SUM($B$72) -> 7.35
A35: RAM + ORLEANS 21H | B35: 0.70833333 | C35: =SUM($B$71) -> 13.56 | E35: =SUM($B$72) -> 7.35
A36: RAM + ROUEN 20H15 | B36: 0.625 | C36: =SUM($B$71) -> 13.56 | E36: =SUM($B$72) -> 7.35
A37: RAM + TOURS 20H | B37: 0.72916667 | C37: =SUM($B$71) -> 13.56 | E37: =SUM($B$72) -> 7.35
A38: RAM 10H N°1 | B38: 0.41666667 | D38: =SUM($B$70) -> 13.56 | E38: =SUM($B$72) -> 7.35
A39: RAM 10H N°2 | B39: 0.41666667 | D39: =SUM($B$70) -> 13.56 | E39: =SUM($B$72) -> 7.35
A40: RAM 10H N°3 | B40: 0.41666667 | D40: =SUM($B$70) -> 13.56 | E40: =SUM($B$72) -> 7.35
A41: RAM 10H N°4 | B41: 0.41666667 | D41: =SUM($B$70) -> 13.56 | E41: =SUM($B$72) -> 7.35
A42: RAM 11H 15 | B42: 0.46875 | D42: =SUM($B$70) -> 13.56 | E42: =SUM($B$72) -> 7.35
A43: RAM 11H 45 | B43: 0.48958333 | D43: =SUM($B$70) -> 13.56 | E43: =SUM($B$72) -> 7.35
A44: RAM 12H | B44: 0.5 | H44: 1 | I44: =SUM($B$77) -> 8.13
A45: RAM 12H15 | B45: 0.51041667 | H45: 1 | I45: =SUM($B$77) -> 8.13
A46: RAM 13H N°1 | B46: 0.54166667 | H46: 1 | I46: =SUM($B$77) -> 8.13
A47: RAM 13H N°2 | B47: 0.54166667 | H47: 1 | I47: =SUM($B$77) -> 8.13
A48: RAM 13H >21h15 | B48: 0.54166667 | C48: =SUM(B71) -> 13.56 | E48: =SUM(B72) -> 7.35
A49: RAM 14H >21H15 | B49: 0.58333333 | C49: =SUM(B71) -> 13.56 | E49: =SUM(B72) -> 7.35
A50: RAM 14H<21H15 | B50: 0.58333333 | H50: 1 | I50: =SUM($B$77) -> 8.13
A51: RAM 9H LUNDI | B51: 0.375 | D51: =SUM($B$70) -> 13.56 | E51: =SUM($B$72) -> 7.35
A52: RAM 9H N°1 | B52: 0.375 | D52: =SUM($B$70) -> 13.56 | E52: =SUM($B$72) -> 7.35
A53: RAM 9H N°2 | B53: 0.375 | D53: =SUM($B$70) -> 13.56 | E53: =SUM($B$72) -> 7.35
A54: RAM 9H N°3 | B54: 0.375 | D54: =SUM($B$70) -> 13.56 | E54: =SUM($B$72) -> 7.35
A55: RAM MALO + LAVAL | B55: 0.70833333 | C55: =SUM($B$71) -> 13.56 | E55: =SUM($B$72) -> 7.35
A56: RAM/MAGNY/VIRE dimanche | B56: 0.66666667 | C56: =SUM($B$71) -> 13.56 | E56: =SUM($B$72) -> 7.35
A57: RAM+ ATHIS 1 | B57: 0.66666667 | C57: =SUM($B$71) -> 13.56 | E57: =SUM($B$72) -> 7.35
A58: RAM+CAEN 21H15 | B58: 0.88541667 | H58: 1 | I58: =SUM($B$77) -> 8.13
A59: repos | B59: 0
A60: SU FONTENAY | B60: 0.5 | E60: =SUM($B$72) -> 7.35
A61: SU IFFS + BASES | B61: 0.83333333 | H61: 1 | I61: =SUM($B$77) -> 8.13
A62: nantes ferie | B62: 0.79166667 | H62: 1 | I62: 8
A63: vendée rapide | B63: 0.65625 | C63: =SUM($B$71) -> 13.56 | E63: =SUM($B$72) -> 7.35
A64: week | B64: 0
A65: DELEGATION | B65: 0.875 | C65: 13.56 | E65: 7.35
B66: 0
A69: AVANT LES NAO
A70: repas midi | B70: 13.56
A71: repas soir | B71: 13.56
A72: casse croute | B72: 7.35
A73: demi prime | B73: 41.06
A74: prime entiere | B74: 82.12
A75: frais complementaire | B75: 10.7
A76: déduction tickets restaurant | B76: 3.68
A77: repas unique | B77: 8.13

Sheet sommaire
A1: 42385

Sheet periode 1  fr01 versé 28  02 16
H1: PRIME DE DIMANCHE
A2: SEMAINE | B2: TOURNEE | C2: JOUR | D2: DATE | E2: repas soir non soumis | F2: Repas midi non soumis | G2: casse-croute soumis | H2: demi prime | I2: prime entière | J2: ticket | K2: repas unique | M2: PERIODE 13
A3: 1 | B3: ? | C3: mercredi | D3: 42004 | E3: =VLOOKUP(B3,' horaire et frais avant nao '!$A$4:$I$81,3,FALSE) -> 0 | F3: =VLOOKUP(B3,' horaire et frais avant nao '!$A$4:$I$81,4,FALSE) -> 0 | G3: =VLOOKUP(B3,' horaire et frais avant nao '!$A$4:$I$81,5,FALSE) -> 0 | H3: =VLOOKUP(B3,' horaire et frais avant nao '!$A$4:$I$81,6,FALSE) -> 0 | I3: =VLOOKUP(B3,' horaire et frais avant nao '!$A$4:$I$81,7,FALSE) -> 0 | J3: =VLOOKUP(B3,' horaire et frais avant nao '!$A$4:$I$81,8,FALSE) -> 0 | K3: =VLOOKUP(B3,' horaire et frais avant nao '!$A$4:$I$81,9,FALSE) -> 0 | M3: PERIODE 13
B4: ? | C4: jeudi | D4: 42005 | E4: =VLOOKUP(B4,' horaire et frais avant nao '!$A$4:$I$81,3,FALSE) -> 0 | F4: =VLOOKUP(B4,' horaire et frais avant nao '!$A$4:$I$81,4,FALSE) -> 0 | G4: =VLOOKUP(B4,' horaire et frais avant nao '!$A$4:$I$81,5,FALSE) -> 0 | H4: =VLOOKUP(B4,' horaire et frais avant nao '!$A$4:$I$81,6,FALSE) -> 0 | I4: =VLOOKUP(B4,' horaire et frais avant nao '!$A$4:$I$81,7,FALSE) -> 0 | J4: =VLOOKUP(B4,' horaire et frais avant nao '!$A$4:$I$81,8,FALSE) -> 0 | K4: =VLOOKUP(B4,' horaire et frais avant nao '!$A$4:$I$81,9,FALSE) -> 0
B5: ? | C5: vendredi | D5: 42006 | E5: =VLOOKUP(B5,' horaire et frais avant nao '!$A$4:$I$81,3,FALSE) -> 0 | F5: =VLOOKUP(B5,' horaire et frais avant nao '!$A$4:$I$81,4,FALSE) -> 0 | G5: =VLOOKUP(B5,' horaire et frais avant nao '!$A$4:$I$81,5,FALSE) -> 0 | H5: =VLOOKUP(B5,' horaire et frais avant nao '!$A$4:$I$81,6,FALSE) -> 0 | I5: =VLOOKUP(B5,' horaire et frais avant nao '!$A$4:$I$81,7,FALSE) -> 0 | J5: =VLOOKUP(B5,' horaire et frais avant nao '!$A$4:$I$81,8,FALSE) -> 0 | K5: =VLOOKUP(B5,' horaire et frais avant nao '!$A$4:$I$81,9,FALSE) -> 0
B6: week | C6: samedi | D6: 42007 | E6: =VLOOKUP(B6,' horaire et frais avant nao '!$A$4:$I$81,3,FALSE) -> 0 | F6: =VLOOKUP(B6,' horaire et frais avant nao '!$A$4:$I$81,4,FALSE) -> 0 | G6: =VLOOKUP(B6,' horaire et frais avant nao '!$A$4:$I$81,5,FALSE) -> 0 | H6: =VLOOKUP(B6,' horaire et frais avant nao '!$A$4:$I$81,6,FALSE) -> 0 | I6: =VLOOKUP(B6,' horaire et frais avant nao '!$A$4:$I$81,7,FALSE) -> 0 | J6: =VLOOKUP(B6,' horaire et frais avant nao '!$A$4:$I$81,8,FALSE) -> 0 | K6: =VLOOKUP(B6,' horaire et frais avant nao '!$A$4:$I$81,9,FALSE) -> 0
B7: week | C7: dimanche | D7: 42008 | E7: =VLOOKUP(B7,' horaire et frais avant nao '!$A$4:$I$81,3,FALSE) -> 0 | F7: =VLOOKUP(B7,' horaire et frais avant nao '!$A$4:$I$81,4,FALSE) -> 0 | G7: =VLOOKUP(B7,' horaire et frais avant nao '!$A$4:$I$81,5,FALSE) -> 0 | H7: =VLOOKUP(B7,' horaire et frais avant nao '!$A$4:$I$81,6,FALSE) -> 0 | I7: =VLOOKUP(B7,' horaire et frais avant nao '!$A$4:$I$81,7,FALSE) -> 0 | J7: =VLOOKUP(B7,' horaire et frais avant nao '!$A$4:$I$81,8,FALSE) -> 0 | K7: =VLOOKUP(B7,' horaire et frais avant nao '!$A$4:$I$81,9,FALSE) -> 0
A8: 2 | B8: ? | C8: lundi | D8: 42009 | E8: =VLOOKUP(B8,' horaire et frais avant nao '!$A$4:$I$81,3,FALSE) -> 0 | F8: =VLOOKUP(B8,' horaire et frais avant nao '!$A$4:$I$81,4,FALSE) -> 0 | G8: =VLOOKUP(B8,' horaire et frais avant nao '!$A$4:$I$81,5,FALSE) -> 0 | H8: =VLOOKUP(B8,' horaire et frais avant nao '!$A$4:$I$81,6,FALSE) -> 0 | I8: =VLOOKUP(B8,' horaire et frais avant nao '!$A$4:$I$81,7,FALSE) -> 0 | J8: =VLOOKUP(B8,' horaire et frais avant nao '!$A$4:$I$81,8,FALSE) -> 0 | K8: =VLOOKUP(B8,' horaire et frais avant nao '!$A$4:$I$81,9,FALSE) -> 0
B9: ? | C9: mardi | D9: 42010 | E9: =VLOOKUP(B9,' horaire et frais avant nao '!$A$4:$I$81,3,FALSE) -> 0 | F9: =VLOOKUP(B9,' horaire et frais avant nao '!$A$4:$I$81,4,FALSE) -> 0 | G9: =VLOOKUP(B9,' horaire et frais avant nao '!$A$4:$I$81,5,FALSE) -> 0 | H9: =VLOOKUP(B9,' horaire et frais avant nao '!$A$4:$I$81,6,FALSE) -> 0 | I9: =VLOOKUP(B9,' horaire et frais avant nao '!$A$4:$I$81,7,FALSE) -> 0 | J9: =VLOOKUP(B9,' horaire et frais avant nao '!$A$4:$I$81,8,FALSE) -> 0 | K9: =VLOOKUP(B9,' horaire et frais avant nao '!$A$4:$I$81,9,FALSE) -> 0
B10: ? | C10: mercredi | D10: 42011 | E10: =VLOOKUP(B10,' horaire et frais avant nao '!$A$4:$I$81,3,FALSE) -> 0 | F10: =VLOOKUP(B10,' horaire et frais avant nao '!$A$4:$I$81,4,FALSE) -> 0 | G10: =VLOOKUP(B10,' horaire et frais avant nao '!$A$4:$I$81,5,FALSE) -> 0 | H10: =VLOOKUP(B10,' horaire et frais avant nao '!$A$4:$I$81,6,FALSE) -> 0 | I10: =VLOOKUP(B10,' horaire et frais avant nao '!$A$4:$I$81,7,FALSE) -> 0 | J10: =VLOOKUP(B10,' horaire et frais avant nao '!$A$4:$I$81,8,FALSE) -> 0 | K10: =VLOOKUP(B10,' horaire et frais avant nao '!$A$4:$I$81,9,FALSE) -> 0
B11: ? | C11: jeudi | D11: 42012 | E11: =VLOOKUP(B11,' horaire et frais avant nao '!$A$4:$I$81,3,FALSE) -> 0 | F11: =VLOOKUP(B11,' horaire et frais avant nao '!$A$4:$I$81,4,FALSE) -> 0 | G11: =VLOOKUP(B11,' horaire et frais avant nao '!$A$4:$I$81,5,FALSE) -> 0 | H11: =VLOOKUP(B11,' horaire et frais avant nao '!$A$4:$I$81,6,FALSE) -> 0 | I11: =VLOOKUP(B11,' horaire et frais avant nao '!$A$4:$I$81,7,FALSE) -> 0 | J11: =VLOOKUP(B11,' horaire et frais avant nao '!$A$4:$I$81,8,FALSE) -> 0 | K11: =VLOOKUP(B11,' horaire et frais avant nao '!$A$4:$I$81,9,FALSE) -> 0
B12: ? | C12: vendredi | D12: 42013 | E12: =VLOOKUP(B12,' horaire et frais avant nao '!$A$4:$I$81,3,FALSE) -> 0 | F12: =VLOOKUP(B12,' horaire et frais avant nao '!$A$4:$I$81,4,FALSE) -> 0 | G12: =VLOOKUP(B12,' horaire et frais avant nao '!$A$4:$I$81,5,FALSE) -> 0 | H12: =VLOOKUP(B12,' horaire et frais avant nao '!$A$4:$I$81,6,FALSE) -> 0 | I12: =VLOOKUP(B12,' horaire et frais avant nao '!$A$4:$I$81,7,FALSE) -> 0 | J12: =VLOOKUP(B12,' horaire et frais avant nao '!$A$4:$I$81,8,FALSE) -> 0 | K12: =VLOOKUP(B12,' horaire et frais avant nao '!$A$4:$I$81,9,FALSE) -> 0
B13: week | C13: samedi | D13: 42014 | E13: =VLOOKUP(B13,' horaire et frais avant nao '!$A$4:$I$81,3,FALSE) -> 0 | F13: =VLOOKUP(B13,' horaire et frais avant nao '!$A$4:$I$81,4,FALSE) -> 0 | G13: =VLOOKUP(B13,' horaire et frais avant nao '!$A$4:$I$81,5,FALSE) -> 0 | H13: =VLOOKUP(B13,' horaire et frais avant nao '!$A$4:$I$81,6,FALSE) -> 0 | I13: =VLOOKUP(B13,' horaire et frais avant nao '!$A$4:$I$81,7,FALSE) -> 0 | J13: =VLOOKUP(B13,' horaire et frais avant nao '!$A$4:$I$81,8,FALSE) -> 0 | K13: =VLOOKUP(B13,' horaire et frais avant nao '!$A$4:$I$81,9,FALSE) -> 0
B14: week | C14: dimanche | D14: 42015 | E14: =VLOOKUP(B14,' horaire et frais avant nao '!$A$4:$I$81,3,FALSE) -> 0 | F14: =VLOOKUP(B14,' horaire et frais avant nao '!$A$4:$I$81,4,FALSE) -> 0 | G14: =VLOOKUP(B14,' horaire et frais avant nao '!$A$4:$I$81,5,FALSE) -> 0 | H14: =VLOOKUP(B14,' horaire et frais avant nao '!$A$4:$I$81,6,FALSE) -> 0 | I14: =VLOOKUP(B14,' horaire et frais avant nao '!$A$4:$I$81,7,FALSE) -> 0 | J14: =VLOOKUP(B14,' horaire et frais avant nao '!$A$4:$I$81,8,FALSE) -> 0 | K14: =VLOOKUP(B14,' horaire et frais avant nao '!$A$4:$I$81,9,FALSE) -> 0
A15: 3 | B15: week | C15: lundi | D15: 42016 | E15: =VLOOKUP(B15,' horaire et frais avant nao '!$A$4:$I$81,3,FALSE) -> 0 | F15: =VLOOKUP(B15,' horaire et frais avant nao '!$A$4:$I$81,4,FALSE) -> 0 | G15: =VLOOKUP(B15,' horaire et frais avant nao '!$A$4:$I$81,5,FALSE) -> 0 | H15: =VLOOKUP(B15,' horaire et frais avant nao '!$A$4:$I$81,6,FALSE) -> 0 | I15: =VLOOKUP(B15,' horaire et frais avant nao '!$A$4:$I$81,7,FALSE) -> 0 | J15: =VLOOKUP(B15,' horaire et frais avant nao '!$A$4:$I$81,8,FALSE) -> 0 | K15: =VLOOKUP(B15,' horaire et frais avant nao '!$A$4:$I$81,9,FALSE) -> 0
B16: ? | C16: mardi | D16: 42017 | E16: =VLOOKUP(B16,' horaire et frais avant nao '!$A$4:$I$81,3,FALSE) -> 0 | F16: =VLOOKUP(B16,' horaire et frais avant nao '!$A$4:$I$81,4,FALSE) -> 0 | G16: =VLOOKUP(B16,' horaire et frais avant nao '!$A$4:$I$81,5,FALSE) -> 0 | H16: =VLOOKUP(B16,' horaire et frais avant nao '!$A$4:$I$81,6,FALSE) -> 0 | I16: =VLOOKUP(B16,' horaire et frais avant nao '!$A$4:$I$81,7,FALSE) -> 0 | J16: =VLOOKUP(B16,' horaire et frais avant nao '!$A$4:$I$81,8,FALSE) -> 0 | K16: =VLOOKUP(B16,' horaire et frais avant nao '!$A$4:$I$81,9,FALSE) -> 0
B17: ? | C17: mercredi | D17: 42018 | E17: =VLOOKUP(B17,' horaire et frais avant nao '!$A$4:$I$81,3,FALSE) -> 0 | F17: =VLOOKUP(B17,' horaire et frais avant nao '!$A$4:$I$81,4,FALSE) -> 0 | G17: =VLOOKUP(B17,' horaire et frais avant nao '!$A$4:$I$81,5,FALSE) -> 0 | H17: =VLOOKUP(B17,' horaire et frais avant nao '!$A$4:$I$81,6,FALSE) -> 0 | I17: =VLOOKUP(B17,' horaire et frais avant nao '!$A$4:$I$81,7,FALSE) -> 0 | J17: =VLOOKUP(B17,' horaire et frais avant nao '!$A$4:$I$81,8,FALSE) -> 0 | K17: =VLOOKUP(B17,' horaire et frais avant nao '!$A$4:$I$81,9,FALSE) -> 0
B18: ? | C18: jeudi | D18: 42019 | E18: =VLOOKUP(B18,' horaire et frais avant nao '!$A$4:$I$81,3,FALSE) -> 0 | F18: =VLOOKUP(B18,' horaire et frais avant nao '!$A$4:$I$81,4,FALSE) -> 0 | G18: =VLOOKUP(B18,' horaire et frais avant nao '!$A$4:$I$81,5,FALSE) -> 0 | H18: =VLOOKUP(B18,' horaire et frais avant nao '!$A$4:$I$81,6,FALSE) -> 0 | I18: =VLOOKUP(B18,' horaire et frais avant nao '!$A$4:$I$81,7,FALSE) -> 0 | J18: =VLOOKUP(B18,' horaire et frais avant nao '!$A$4:$I$81,8,FALSE) -> 0 | K18: =VLOOKUP(B18,' horaire et frais avant nao '!$A$4:$I$81,9,FALSE) -> 0
B19: ? | C19: vendredi | D19: 42020 | E19: =VLOOKUP(B19,' horaire et frais avant nao '!$A$4:$I$81,3,FALSE) -> 0 | F19: =VLOOKUP(B19,' horaire et frais avant nao '!$A$4:$I$81,4,FALSE) -> 0 | G19: =VLOOKUP(B19,' horaire et frais avant nao '!$A$4:$I$81,5,FALSE) -> 0 | H19: =VLOOKUP(B19,' horaire et frais avant nao '!$A$4:$I$81,6,FALSE) -> 0 | I19: =VLOOKUP(B19,' horaire et frais avant nao '!$A$4:$I$81,7,FALSE) -> 0 | J19: =VLOOKUP(B19,' horaire et frais avant nao '!$A$4:$I$81,8,FALSE) -> 0 | K19: =VLOOKUP(B19,' horaire et frais avant nao '!$A$4:$I$81,9,FALSE) -> 0
B20: week | C20: samedi | D20: 42021 | E20: =VLOOKUP(B20,' horaire et frais avant nao '!$A$4:$I$81,3,FALSE) -> 0 | F20: =VLOOKUP(B20,' horaire et frais avant nao '!$A$4:$I$81,4,FALSE) -> 0 | G20: =VLOOKUP(B20,' horaire et frais avant nao '!$A$4:$I$81,5,FALSE) -> 0 | H20: =VLOOKUP(B20,' horaire et frais avant nao '!$A$4:$I$81,6,FALSE) -> 0 | I20: =VLOOKUP(B20,' horaire et frais avant nao '!$A$4:$I$81,7,FALSE) -> 0 | J20: =VLOOKUP(B20,' horaire et frais avant nao '!$A$4:$I$81,8,FALSE) -> 0 | K20: =VLOOKUP(B20,' horaire et frais avant nao '!$A$4:$I$81,9,FALSE) -> 0
B21: week | C21: dimanche | D21: 42022 | E21: =VLOOKUP(B21,' horaire et frais avant nao '!$A$4:$I$81,3,FALSE) -> 0 | F21: =VLOOKUP(B21,' horaire et frais avant nao '!$A$4:$I$81,4,FALSE) -> 0 | G21: =VLOOKUP(B21,' horaire et frais avant nao '!$A$4:$I$81,5,FALSE) -> 0 | H21: =VLOOKUP(B21,' horaire et frais avant nao '!$A$4:$I$81,6,FALSE) -> 0 | I21: =VLOOKUP(B21,' horaire et frais avant nao '!$A$4:$I$81,7,FALSE) -> 0 | J21: =VLOOKUP(B21,' horaire et frais avant nao '!$A$4:$I$81,8,FALSE) -> 0 | K21: =VLOOKUP(B21,' horaire et frais avant nao '!$A$4:$I$81,9,FALSE) -> 0
A22: 4 | B22: ? | C22: lundi | D22: 42023 | E22: =VLOOKUP(B22,' horaire et frais avant nao '!$A$4:$I$81,3,FALSE) -> 0 | F22: =VLOOKUP(B22,' horaire et frais avant nao '!$A$4:$I$81,4,FALSE) -> 0 | G22: =VLOOKUP(B22,' horaire et frais avant nao '!$A$4:$I$81,5,FALSE) -> 0 | H22: =VLOOKUP(B22,' horaire et frais avant nao '!$A$4:$I$81,6,FALSE) -> 0 | I22: =VLOOKUP(B22,' horaire et frais avant nao '!$A$4:$I$81,7,FALSE) -> 0 | J22: =VLOOKUP(B22,' horaire et frais avant nao '!$A$4:$I$81,8,FALSE) -> 0 | K22: =VLOOKUP(B22,' horaire et frais avant nao '!$A$4:$I$81,9,FALSE) -> 0
B23: ? | C23: mardi | D23: 42024 | E23: =VLOOKUP(B23,' horaire et frais avant nao '!$A$4:$I$81,3,FALSE) -> 0 | F23: =VLOOKUP(B23,' horaire et frais avant nao '!$A$4:$I$81,4,FALSE) -> 0 | G23: =VLOOKUP(B23,' horaire et frais avant nao '!$A$4:$I$81,5,FALSE) -> 0 | H23: =VLOOKUP(B23,' horaire et frais avant nao '!$A$4:$I$81,6,FALSE) -> 0 | I23: =VLOOKUP(B23,' horaire et frais avant nao '!$A$4:$I$81,7,FALSE) -> 0 | J23: =VLOOKUP(B23,' horaire et frais avant nao '!$A$4:$I$81,8,FALSE) -> 0 | K23: =VLOOKUP(B23,' horaire et frais avant nao '!$A$4:$I$81,9,FALSE) -> 0
B24: ? | C24: mercredi | D24: 42025 | E24: =VLOOKUP(B24,' horaire et frais avant nao '!$A$4:$I$81,3,FALSE) -> 0 | F24: =VLOOKUP(B24,' horaire et frais avant nao '!$A$4:$I$81,4,FALSE) -> 0 | G24: =VLOOKUP(B24,' horaire et frais avant nao '!$A$4:$I$81,5,FALSE) -> 0 | H24: =VLOOKUP(B24,' horaire et frais avant nao '!$A$4:$I$81,6,FALSE) -> 0 | I24: =VLOOKUP(B24,' horaire et frais avant nao '!$A$4:$I$81,7,FALSE) -> 0 | J24: =VLOOKUP(B24,' horaire et frais avant nao '!$A$4:$I$81,8,FALSE) -> 0 | K24: =VLOOKUP(B24,' horaire et frais avant nao '!$A$4:$I$81,9,FALSE) -> 0
B25: ? | C25: jeudi | D25: 42026 | E25: =VLOOKUP(B25,' horaire et frais avant nao '!$A$4:$I$81,3,FALSE) -> 0 | F25: =VLOOKUP(B25,' horaire et frais avant nao '!$A$4:$I$81,4,FALSE) -> 0 | G25: =VLOOKUP(B25,' horaire et frais avant nao '!$A$4:$I$81,5,FALSE) -> 0 | H25: =VLOOKUP(B25,' horaire et frais avant nao '!$A$4:$I$81,6,FALSE) -> 0 | I25: =VLOOKUP(B25,' horaire et frais avant nao '!$A$4:$I$81,7,FALSE) -> 0 | J25: =VLOOKUP(B25,' horaire et frais avant nao '!$A$4:$I$81,8,FALSE) -> 0 | K25: =VLOOKUP(B25,' horaire et frais avant nao '!$A$4:$I$81,9,FALSE) -> 0
B26: ? | C26: vendredi | D26: 42027 | E26: =VLOOKUP(B26,' horaire et frais avant nao '!$A$4:$I$81,3,FALSE) -> 0 | F26: =VLOOKUP(B26,' horaire et frais avant nao '!$A$4:$I$81,4,FALSE) -> 0 | G26: =VLOOKUP(B26,' horaire et frais avant nao '!$A$4:$I$81,5,FALSE) -> 0 | H26: =VLOOKUP(B26,' horaire et frais avant nao '!$A$4:$I$81,6,FALSE) -> 0 | I26: =VLOOKUP(B26,' horaire et frais avant nao '!$A$4:$I$81,7,FALSE) -> 0 | J26: =VLOOKUP(B26,' horaire et frais avant nao '!$A$4:$I$81,8,FALSE) -> 0 | K26: =VLOOKUP(B26,' horaire et frais avant nao '!$A$4:$I$81,9,FALSE) -> 0
B27: week | C27: samedi | D27: 42028 | E27: =VLOOKUP(B27,' horaire et frais avant nao '!$A$4:$I$81,3,FALSE) -> 0 | F27: =VLOOKUP(B27,' horaire et frais avant nao '!$A$4:$I$81,4,FALSE) -> 0 | G27: =VLOOKUP(B27,' horaire et frais avant nao '!$A$4:$I$81,5,FALSE) -> 0 | H27: =VLOOKUP(B27,' horaire et frais avant nao '!$A$4:$I$81,6,FALSE) -> 0 | I27: =VLOOKUP(B27,' horaire et frais avant nao '!$A$4:$I$81,7,FALSE) -> 0 | J27: =VLOOKUP(B27,' horaire et frais avant nao '!$A$4:$I$81,8,FALSE) -> 0 | K27: =VLOOKUP(B27,' horaire et frais avant nao '!$A$4:$I$81,9,FALSE) -> 0
B28: week | C28: dimanche | D28: 42029 | E28: =VLOOKUP(B28,' horaire et frais avant nao '!$A$4:$I$81,3,FALSE) -> 0 | F28: =VLOOKUP(B28,' horaire et frais avant nao '!$A$4:$I$81,4,FALSE) -> 0 | G28: =VLOOKUP(B28,' horaire et frais avant nao '!$A$4:$I$81,5,FALSE) -> 0 | H28: =VLOOKUP(B28,' horaire et frais avant nao '!$A$4:$I$81,6,FALSE) -> 0 | I28: =VLOOKUP(B28,' horaire et frais avant nao '!$A$4:$I$81,7,FALSE) -> 0 | J28: =VLOOKUP(B28,' horaire et frais avant nao '!$A$4:$I$81,8,FALSE) -> 0 | K28: =VLOOKUP(B28,' horaire et frais avant nao '!$A$4:$I$81,9,FALSE) -> 0
A29: 5 | B29: ? | C29: lundi | D29: 42030 | E29: =VLOOKUP(B29,' horaire et frais avant nao '!$A$4:$I$81,3,FALSE) -> 0 | F29: =VLOOKUP(B29,' horaire et frais avant nao '!$A$4:$I$81,4,FALSE) -> 0 | G29: =VLOOKUP(B29,' horaire et frais avant nao '!$A$4:$I$81,5,FALSE) -> 0 | H29: =VLOOKUP(B29,' horaire et frais avant nao '!$A$4:$I$81,6,FALSE) -> 0 | I29: =VLOOKUP(B29,' horaire et frais avant nao '!$A$4:$I$81,7,FALSE) -> 0 | J29: =VLOOKUP(B29,' horaire et frais avant nao '!$A$4:$I$81,8,FALSE) -> 0 | K29: =VLOOKUP(B29,' horaire et frais avant nao '!$A$4:$I$81,9,FALSE) -> 0
B30: ? | C30: mardi | D30: 42031 | E30: =VLOOKUP(B30,' horaire et frais avant nao '!$A$4:$I$81,3,FALSE) -> 0 | F30: =VLOOKUP(B30,' horaire et frais avant nao '!$A$4:$I$81,4,FALSE) -> 0 | G30: =VLOOKUP(B30,' horaire et frais avant nao '!$A$4:$I$81,5,FALSE) -> 0 | H30: =VLOOKUP(B30,' horaire et frais avant nao '!$A$4:$I$81,6,FALSE) -> 0 | I30: =VLOOKUP(B30,' horaire et frais avant nao '!$A$4:$I$81,7,FALSE) -> 0 | J30: =VLOOKUP(B30,' horaire et frais avant nao '!$A$4:$I$81,8,FALSE) -> 0 | K30: =VLOOKUP(B30,' horaire et frais avant nao '!$A$4:$I$81,9,FALSE) -> 0
B31: ? | C31: mercredi | D31: 42032 | E31: =VLOOKUP(B31,' horaire et frais avant nao '!$A$4:$I$81,3,FALSE) -> 0 | F31: =VLOOKUP(B31,' horaire et frais avant nao '!$A$4:$I$81,4,FALSE) -> 0 | G31: =VLOOKUP(B31,' horaire et frais avant nao '!$A$4:$I$81,5,FALSE) -> 0 | H31: =VLOOKUP(B31,' horaire et frais avant nao '!$A$4:$I$81,6,FALSE) -> 0 | I31: =VLOOKUP(B31,' horaire et frais avant nao '!$A$4:$I$81,7,FALSE) -> 0 | J31: =VLOOKUP(B31,' horaire et frais avant nao '!$A$4:$I$81,8,FALSE) -> 0 | K31: =VLOOKUP(B31,' horaire et frais avant nao '!$A$4:$I$81,9,FALSE) -> 0
B32: ? | C32: jeudi | D32: 42033 | E32: =VLOOKUP(B32,' horaire et frais avant nao '!$A$4:$I$81,3,FALSE) -> 0 | F32: =VLOOKUP(B32,' horaire et frais avant nao '!$A$4:$I$81,4,FALSE) -> 0 | G32: =VLOOKUP(B32,' horaire et frais avant nao '!$A$4:$I$81,5,FALSE) -> 0 | H32: =VLOOKUP(B32,' horaire et frais avant nao '!$A$4:$I$81,6,FALSE) -> 0 | I32: =VLOOKUP(B32,' horaire et frais avant nao '!$A$4:$I$81,7,FALSE) -> 0 | J32: =VLOOKUP(B32,' horaire et frais avant nao '!$A$4:$I$81,8,FALSE) -> 0 | K32: =VLOOKUP(B32,' horaire et frais avant nao '!$A$4:$I$81,9,FALSE) -> 0
B33: ? | C33: vendredi | D33: 42034 | E33: =VLOOKUP(B33,' horaire et frais avant nao '!$A$4:$I$81,3,FALSE) -> 0 | F33: =VLOOKUP(B33,' horaire et frais avant nao '!$A$4:$I$81,4,FALSE) -> 0 | G33: =VLOOKUP(B33,' horaire et frais avant nao '!$A$4:$I$81,5,FALSE) -> 0 | H33: =VLOOKUP(B33,' horaire et frais avant nao '!$A$4:$I$81,6,FALSE) -> 0 | I33: =VLOOKUP(B33,' horaire et frais avant nao '!$A$4:$I$81,7,FALSE) -> 0 | J33: =VLOOKUP(B33,' horaire et frais avant nao '!$A$4:$I$81,8,FALSE) -> 0 | K33: =VLOOKUP(B33,' horaire et frais avant nao '!$A$4:$I$81,9,FALSE) -> 0
B34: TOTAL | E34: =SUM(E3:E33) -> 0 | F34: =SUM(F3:F33) -> 0 | G34: =SUM(G3:G33) -> 0 | H34: =SUM(H3:H33) -> 0 | I34: =SUM(I3:I33) -> 0 | J34: =SUM(J3:J33) -> 0 | K34: =SUM(K3:K33) -> 0
A35: SEMAINE | B35: TOURNEE | C35: JOUR | D35: DATE | E35: repas soir non soumis | F35: Repas midi non soumis | G35: casse-croute soumis | H35: demi prime | I35: prime entière | J35: ticket | K35: repas unique
B43: SEMAINE 1 DU 30/12/2020 AU 05/01/2020
A45: conso l /100 | B45: n°de parc | C45: Tournée | D45: Jour | E45: Début de poste | F45: Fin de poste | G45: TEMPS DE SERVICE | H45: Pause de jour | I45: Pause de nuit | J45: Heures de nuit | K45: Heures réunion formation
C46: ? | D46: lundi | E46: =VLOOKUP(C46,' horaire et frais avant nao '!$A$4:I81,2,FALSE) -> 0 | F46: 0 | G46: =MOD(F46-E46,1)-I46-H46+K46 -> 0 | H46: 0 | I46: 0 | J46: =(IF(((E46*24)>=21)*AND((F46*24)>6)*AND((F46*24)<21),30-(E46*24),0)+IF(((F46*24)>=21)*AND((E46*24)>6)*AND((E46*24)<21),MIN((F46*24)-(E46*24),(F46*24)-21),0)+IF(((E46*24)>6)*AND((E46*24)<21)*AND((F46*24)<=6),3+(F46*24),0)+IF(((E46*24)<=6)*AND((F46*24)>6)*AND((F46*24)<21),6-(E46*24),0)+IF(((E46*24)<=6)*AND((F46*24)<=6),(F46*24)-(E46*24),0)+IF(((E46*24)>=21)*AND((F46*24)<=6),24-(E46*24)+(F46*24),0)+IF(((E46*24)>=21)*AND((F46*24)>=21),(F46*24)-(E46*24),0)+IF(((E46*24)<=6)*AND((F46*24)>=21),6-(E46*24)+(F46*24)-21,0)+IF(((E46*24)>6)*AND((E46*24)<21)*AND((F46*24)>6)*AND((F46*24)<21)*AND((E46*24)>(F46*24)),9,0))/24-I46 -> 0 | K46: 0
C47: ? | D47: mardi | E47: =VLOOKUP(C47,' horaire et frais avant nao '!$A$4:I82,2,FALSE) -> 0 | F47: 0 | G47: =MOD(F47-E47,1)-I47-H47+K47 -> 0 | H47: 0 | I47: 0 | J47: =(IF(((E47*24)>=21)*AND((F47*24)>6)*AND((F47*24)<21),30-(E47*24),0)+IF(((F47*24)>=21)*AND((E47*24)>6)*AND((E47*24)<21),MIN((F47*24)-(E47*24),(F47*24)-21),0)+IF(((E47*24)>6)*AND((E47*24)<21)*AND((F47*24)<=6),3+(F47*24),0)+IF(((E47*24)<=6)*AND((F47*24)>6)*AND((F47*24)<21),6-(E47*24),0)+IF(((E47*24)<=6)*AND((F47*24)<=6),(F47*24)-(E47*24),0)+IF(((E47*24)>=21)*AND((F47*24)<=6),24-(E47*24)+(F47*24),0)+IF(((E47*24)>=21)*AND((F47*24)>=21),(F47*24)-(E47*24),0)+IF(((E47*24)<=6)*AND((F47*24)>=21),6-(E47*24)+(F47*24)-21,0)+IF(((E47*24)>6)*AND((E47*24)<21)*AND((F47*24)>6)*AND((F47*24)<21)*AND((E47*24)>(F47*24)),9,0))/24-I47 -> 0 | K47: 0
C48: ? | D48: mercredi | E48: =VLOOKUP(C48,' horaire et frais avant nao '!$A$4:I83,2,FALSE) -> 0 | F48: 0 | G48: =MOD(F48-E48,1)-I48-H48+K48 -> 0 | H48: 0 | I48: 0 | J48: =(IF(((E48*24)>=21)*AND((F48*24)>6)*AND((F48*24)<21),30-(E48*24),0)+IF(((F48*24)>=21)*AND((E48*24)>6)*AND((E48*24)<21),MIN((F48*24)-(E48*24),(F48*24)-21),0)+IF(((E48*24)>6)*AND((E48*24)<21)*AND((F48*24)<=6),3+(F48*24),0)+IF(((E48*24)<=6)*AND((F48*24)>6)*AND((F48*24)<21),6-(E48*24),0)+IF(((E48*24)<=6)*AND((F48*24)<=6),(F48*24)-(E48*24),0)+IF(((E48*24)>=21)*AND((F48*24)<=6),24-(E48*24)+(F48*24),0)+IF(((E48*24)>=21)*AND((F48*24)>=21),(F48*24)-(E48*24),0)+IF(((E48*24)<=6)*AND((F48*24)>=21),6-(E48*24)+(F48*24)-21,0)+IF(((E48*24)>6)*AND((E48*24)<21)*AND((F48*24)>6)*AND((F48*24)<21)*AND((E48*24)>(F48*24)),9,0))/24-I48 -> 0 | K48: 0
C49: ? | D49: jeudi | E49: =VLOOKUP(C49,' horaire et frais avant nao '!$A$4:I84,2,FALSE) -> 0 | F49: 0 | G49: =MOD(F49-E49,1)-I49-H49+K49 -> 0 | H49: 0 | I49: 0 | J49: =(IF(((E49*24)>=21)*AND((F49*24)>6)*AND((F49*24)<21),30-(E49*24),0)+IF(((F49*24)>=21)*AND((E49*24)>6)*AND((E49*24)<21),MIN((F49*24)-(E49*24),(F49*24)-21),0)+IF(((E49*24)>6)*AND((E49*24)<21)*AND((F49*24)<=6),3+(F49*24),0)+IF(((E49*24)<=6)*AND((F49*24)>6)*AND((F49*24)<21),6-(E49*24),0)+IF(((E49*24)<=6)*AND((F49*24)<=6),(F49*24)-(E49*24),0)+IF(((E49*24)>=21)*AND((F49*24)<=6),24-(E49*24)+(F49*24),0)+IF(((E49*24)>=21)*AND((F49*24)>=21),(F49*24)-(E49*24),0)+IF(((E49*24)<=6)*AND((F49*24)>=21),6-(E49*24)+(F49*24)-21,0)+IF(((E49*24)>6)*AND((E49*24)<21)*AND((F49*24)>6)*AND((F49*24)<21)*AND((E49*24)>(F49*24)),9,0))/24-I49 -> 0 | K49: 0
C50: ? | D50: vendredi | E50: =VLOOKUP(C50,' horaire et frais avant nao '!$A$4:I85,2,FALSE) -> 0 | F50: 0 | G50: =MOD(F50-E50,1)-I50-H50+K50 -> 0 | H50: 0 | I50: 0 | J50: =(IF(((E50*24)>=21)*AND((F50*24)>6)*AND((F50*24)<21),30-(E50*24),0)+IF(((F50*24)>=21)*AND((E50*24)>6)*AND((E50*24)<21),MIN((F50*24)-(E50*24),(F50*24)-21),0)+IF(((E50*24)>6)*AND((E50*24)<21)*AND((F50*24)<=6),3+(F50*24),0)+IF(((E50*24)<=6)*AND((F50*24)>6)*AND((F50*24)<21),6-(E50*24),0)+IF(((E50*24)<=6)*AND((F50*24)<=6),(F50*24)-(E50*24),0)+IF(((E50*24)>=21)*AND((F50*24)<=6),24-(E50*24)+(F50*24),0)+IF(((E50*24)>=21)*AND((F50*24)>=21),(F50*24)-(E50*24),0)+IF(((E50*24)<=6)*AND((F50*24)>=21),6-(E50*24)+(F50*24)-21,0)+IF(((E50*24)>6)*AND((E50*24)<21)*AND((F50*24)>6)*AND((F50*24)<21)*AND((E50*24)>(F50*24)),9,0))/24-I50 -> 0 | K50: 0
C51: week | D51: samedi | E51: =VLOOKUP(C51,' horaire et frais avant nao '!$A$4:I86,2,FALSE) -> 0 | F51: 0 | G51: =MOD(F51-E51,1)-I51-H51+K51 -> 0 | H51: 0 | I51: 0 | J51: =(IF(((E51*24)>=21)*AND((F51*24)>6)*AND((F51*24)<21),30-(E51*24),0)+IF(((F51*24)>=21)*AND((E51*24)>6)*AND((E51*24)<21),MIN((F51*24)-(E51*24),(F51*24)-21),0)+IF(((E51*24)>6)*AND((E51*24)<21)*AND((F51*24)<=6),3+(F51*24),0)+IF(((E51*24)<=6)*AND((F51*24)>6)*AND((F51*24)<21),6-(E51*24),0)+IF(((E51*24)<=6)*AND((F51*24)<=6),(F51*24)-(E51*24),0)+IF(((E51*24)>=21)*AND((F51*24)<=6),24-(E51*24)+(F51*24),0)+IF(((E51*24)>=21)*AND((F51*24)>=21),(F51*24)-(E51*24),0)+IF(((E51*24)<=6)*AND((F51*24)>=21),6-(E51*24)+(F51*24)-21,0)+IF(((E51*24)>6)*AND((E51*24)<21)*AND((F51*24)>6)*AND((F51*24)<21)*AND((E51*24)>(F51*24)),9,0))/24-I51 -> 0 | K51: 0
C52: week | D52: dimanche | E52: =VLOOKUP(C52,' horaire et frais avant nao '!$A$4:I87,2,FALSE) -> 0 | F52: 0 | G52: =MOD(F52-E52,1)-I52-H52+K52 -> 0 | H52: 0 | I52: 0 | J52: =(IF(((E52*24)>=21)*AND((F52*24)>6)*AND((F52*24)<21),30-(E52*24),0)+IF(((F52*24)>=21)*AND((E52*24)>6)*AND((E52*24)<21),MIN((F52*24)-(E52*24),(F52*24)-21),0)+IF(((E52*24)>6)*AND((E52*24)<21)*AND((F52*24)<=6),3+(F52*24),0)+IF(((E52*24)<=6)*AND((F52*24)>6)*AND((F52*24)<21),6-(E52*24),0)+IF(((E52*24)<=6)*AND((F52*24)<=6),(F52*24)-(E52*24),0)+IF(((E52*24)>=21)*AND((F52*24)<=6),24-(E52*24)+(F52*24),0)+IF(((E52*24)>=21)*AND((F52*24)>=21),(F52*24)-(E52*24),0)+IF(((E52*24)<=6)*AND((F52*24)>=21),6-(E52*24)+(F52*24)-21,0)+IF(((E52*24)>6)*AND((E52*24)<21)*AND((F52*24)>6)*AND((F52*24)<21)*AND((E52*24)>(F52*24)),9,0))/24-I52 -> 0 | K52: 0
G53: =SUM(G46:G52) -> 0 | J53: =SUM(J46:J52) -> 0
D54: BASE HEURE PAR JOUR | I54: 0.33333333
D55: HEURES SEMAINE A EFFECTUER | I55: 1.6666667 | K55: salaire net fin de mois
D56: HEURES SEMAINE EFFECTUER | I56: =SUM(G53) -> 0
D57: INFRACTION DES 10 HEURES | I57: 0.41666667 | K57: =SUM(G153) -> 0
D58: HEURES SUPLEMENTAIRE SEMAINE | I58: =SUM(I56-I55) -> -1.6666667 | K58: 1802
D59: MOYENNE HEURES DE NUIT/SEMAINE | I59: 0.83333333
D60: CUMUL DES HEURES PAR PERIODE | H60: 1.6666667 | I60: =SUM(I56) -> 0
H61: =SUM(I60-H60) -> -1.6666667
B65: SEMAINE 2 DU 06/01/2020 AU 12/01/2020
A67: conso l /100 | B67: n°de parc | C67: Tournée | D67: Jour | E67: Début de poste | F67: Fin de poste | G67: TEMPS DE SERVICE | H67: Pause de jour | I67: Pause de nuit | J67: Heures de nuit | K67: Heures réunion formation
C68: ? | D68: lundi | E68: =VLOOKUP(C68,' horaire et frais avant nao '!$A$4:I81,2,FALSE) -> 0 | F68: 0 | G68: =MOD(F68-E68,1)-I68-H68+K68 -> 0 | H68: 0 | I68: 0 | J68: =(IF(((E68*24)>=21)*AND((F68*24)>6)*AND((F68*24)<21),30-(E68*24),0)+IF(((F68*24)>=21)*AND((E68*24)>6)*AND((E68*24)<21),MIN((F68*24)-(E68*24),(F68*24)-21),0)+IF(((E68*24)>6)*AND((E68*24)<21)*AND((F68*24)<=6),3+(F68*24),0)+IF(((E68*24)<=6)*AND((F68*24)>6)*AND((F68*24)<21),6-(E68*24),0)+IF(((E68*24)<=6)*AND((F68*24)<=6),(F68*24)-(E68*24),0)+IF(((E68*24)>=21)*AND((F68*24)<=6),24-(E68*24)+(F68*24),0)+IF(((E68*24)>=21)*AND((F68*24)>=21),(F68*24)-(E68*24),0)+IF(((E68*24)<=6)*AND((F68*24)>=21),6-(E68*24)+(F68*24)-21,0)+IF(((E68*24)>6)*AND((E68*24)<21)*AND((F68*24)>6)*AND((F68*24)<21)*AND((E68*24)>(F68*24)),9,0))/24-I68 -> 0 | K68: 0
C69: ? | D69: mardi | E69: =VLOOKUP(C69,' horaire et frais avant nao '!$A$4:I82,2,FALSE) -> 0 | F69: 0 | G69: =MOD(F69-E69,1)-I69-H69+K69 -> 0 | H69: 0 | I69: 0 | J69: =(IF(((E69*24)>=21)*AND((F69*24)>6)*AND((F69*24)<21),30-(E69*24),0)+IF(((F69*24)>=21)*AND((E69*24)>6)*AND((E69*24)<21),MIN((F69*24)-(E69*24),(F69*24)-21),0)+IF(((E69*24)>6)*AND((E69*24)<21)*AND((F69*24)<=6),3+(F69*24),0)+IF(((E69*24)<=6)*AND((F69*24)>6)*AND((F69*24)<21),6-(E69*24),0)+IF(((E69*24)<=6)*AND((F69*24)<=6),(F69*24)-(E69*24),0)+IF(((E69*24)>=21)*AND((F69*24)<=6),24-(E69*24)+(F69*24),0)+IF(((E69*24)>=21)*AND((F69*24)>=21),(F69*24)-(E69*24),0)+IF(((E69*24)<=6)*AND((F69*24)>=21),6-(E69*24)+(F69*24)-21,0)+IF(((E69*24)>6)*AND((E69*24)<21)*AND((F69*24)>6)*AND((F69*24)<21)*AND((E69*24)>(F69*24)),9,0))/24-I69 -> 0 | K69: 0
C70: ? | D70: mercredi | E70: =VLOOKUP(C70,' horaire et frais avant nao '!$A$4:I83,2,FALSE) -> 0 | F70: 0 | G70: =MOD(F70-E70,1)-I70-H70+K70 -> 0 | H70: 0 | I70: 0 | J70: =(IF(((E70*24)>=21)*AND((F70*24)>6)*AND((F70*24)<21),30-(E70*24),0)+IF(((F70*24)>=21)*AND((E70*24)>6)*AND((E70*24)<21),MIN((F70*24)-(E70*24),(F70*24)-21),0)+IF(((E70*24)>6)*AND((E70*24)<21)*AND((F70*24)<=6),3+(F70*24),0)+IF(((E70*24)<=6)*AND((F70*24)>6)*AND((F70*24)<21),6-(E70*24),0)+IF(((E70*24)<=6)*AND((F70*24)<=6),(F70*24)-(E70*24),0)+IF(((E70*24)>=21)*AND((F70*24)<=6),24-(E70*24)+(F70*24),0)+IF(((E70*24)>=21)*AND((F70*24)>=21),(F70*24)-(E70*24),0)+IF(((E70*24)<=6)*AND((F70*24)>=21),6-(E70*24)+(F70*24)-21,0)+IF(((E70*24)>6)*AND((E70*24)<21)*AND((F70*24)>6)*AND((F70*24)<21)*AND((E70*24)>(F70*24)),9,0))/24-I70 -> 0 | K70: 0
C71: ? | D71: jeudi | E71: =VLOOKUP(C71,' horaire et frais avant nao '!$A$4:I84,2,FALSE) -> 0 | F71: 0 | G71: =MOD(F71-E71,1)-I71-H71+K71 -> 0 | H71: 0 | I71: 0 | J71: =(IF(((E71*24)>=21)*AND((F71*24)>6)*AND((F71*24)<21),30-(E71*24),0)+IF(((F71*24)>=21)*AND((E71*24)>6)*AND((E71*24)<21),MIN((F71*24)-(E71*24),(F71*24)-21),0)+IF(((E71*24)>6)*AND((E71*24)<21)*AND((F71*24)<=6),3+(F71*24),0)+IF(((E71*24)<=6)*AND((F71*24)>6)*AND((F71*24)<21),6-(E71*24),0)+IF(((E71*24)<=6)*AND((F71*24)<=6),(F71*24)-(E71*24),0)+IF(((E71*24)>=21)*AND((F71*24)<=6),24-(E71*24)+(F71*24),0)+IF(((E71*24)>=21)*AND((F71*24)>=21),(F71*24)-(E71*24),0)+IF(((E71*24)<=6)*AND((F71*24)>=21),6-(E71*24)+(F71*24)-21,0)+IF(((E71*24)>6)*AND((E71*24)<21)*AND((F71*24)>6)*AND((F71*24)<21)*AND((E71*24)>(F71*24)),9,0))/24-I71 -> 0 | K71: 0
C72: ? | D72: vendredi | E72: =VLOOKUP(C72,' horaire et frais avant nao '!$A$4:I85,2,FALSE) -> 0 | F72: 0 | G72: =MOD(F72-E72,1)-I72-H72+K72 -> 0 | H72: 0 | I72: 0 | J72: =(IF(((E72*24)>=21)*AND((F72*24)>6)*AND((F72*24)<21),30-(E72*24),0)+IF(((F72*24)>=21)*AND((E72*24)>6)*AND((E72*24)<21),MIN((F72*24)-(E72*24),(F72*24)-21),0)+IF(((E72*24)>6)*AND((E72*24)<21)*AND((F72*24)<=6),3+(F72*24),0)+IF(((E72*24)<=6)*AND((F72*24)>6)*AND((F72*24)<21),6-(E72*24),0)+IF(((E72*24)<=6)*AND((F72*24)<=6),(F72*24)-(E72*24),0)+IF(((E72*24)>=21)*AND((F72*24)<=6),24-(E72*24)+(F72*24),0)+IF(((E72*24)>=21)*AND((F72*24)>=21),(F72*24)-(E72*24),0)+IF(((E72*24)<=6)*AND((F72*24)>=21),6-(E72*24)+(F72*24)-21,0)+IF(((E72*24)>6)*AND((E72*24)<21)*AND((F72*24)>6)*AND((F72*24)<21)*AND((E72*24)>(F72*24)),9,0))/24-I72 -> 0 | K72: 0
C73: week | D73: samedi | E73: =VLOOKUP(C73,' horaire et frais avant nao '!$A$4:I86,2,FALSE) -> 0 | F73: 0 | G73: =MOD(F73-E73,1)-I73-H73+K73 -> 0 | H73: 0 | I73: 0 | J73: =(IF(((E73*24)>=21)*AND((F73*24)>6)*AND((F73*24)<21),30-(E73*24),0)+IF(((F73*24)>=21)*AND((E73*24)>6)*AND((E73*24)<21),MIN((F73*24)-(E73*24),(F73*24)-21),0)+IF(((E73*24)>6)*AND((E73*24)<21)*AND((F73*24)<=6),3+(F73*24),0)+IF(((E73*24)<=6)*AND((F73*24)>6)*AND((F73*24)<21),6-(E73*24),0)+IF(((E73*24)<=6)*AND((F73*24)<=6),(F73*24)-(E73*24),0)+IF(((E73*24)>=21)*AND((F73*24)<=6),24-(E73*24)+(F73*24),0)+IF(((E73*24)>=21)*AND((F73*24)>=21),(F73*24)-(E73*24),0)+IF(((E73*24)<=6)*AND((F73*24)>=21),6-(E73*24)+(F73*24)-21,0)+IF(((E73*24)>6)*AND((E73*24)<21)*AND((F73*24)>6)*AND((F73*24)<21)*AND((E73*24)>(F73*24)),9,0))/24-I73 -> 0 | K73: 0
C74: week | D74: dimanche | E74: =VLOOKUP(C74,' horaire et frais avant nao '!$A$4:I87,2,FALSE) -> 0 | F74: 0 | G74: =MOD(F74-E74,1)-I74-H74+K74 -> 0 | H74: 0 | I74: 0 | J74: =(IF(((E74*24)>=21)*AND((F74*24)>6)*AND((F74*24)<21),30-(E74*24),0)+IF(((F74*24)>=21)*AND((E74*24)>6)*AND((E74*24)<21),MIN((F74*24)-(E74*24),(F74*24)-21),0)+IF(((E74*24)>6)*AND((E74*24)<21)*AND((F74*24)<=6),3+(F74*24),0)+IF(((E74*24)<=6)*AND((F74*24)>6)*AND((F74*24)<21),6-(E74*24),0)+IF(((E74*24)<=6)*AND((F74*24)<=6),(F74*24)-(E74*24),0)+IF(((E74*24)>=21)*AND((F74*24)<=6),24-(E74*24)+(F74*24),0)+IF(((E74*24)>=21)*AND((F74*24)>=21),(F74*24)-(E74*24),0)+IF(((E74*24)<=6)*AND((F74*24)>=21),6-(E74*24)+(F74*24)-21,0)+IF(((E74*24)>6)*AND((E74*24)<21)*AND((F74*24)>6)*AND((F74*24)<21)*AND((E74*24)>(F74*24)),9,0))/24-I74 -> 0 | K74: 0
G75: =SUM(G68:G74) -> 0 | J75: =SUM(J68:J74) -> 0
D76: BASE HEURE PAR JOUR | I76: 0.33333333
D77: HEURES SEMAINE A EFFECTUER | I77: 1.6666667
D78: HEURES SEMAINE EFFECTUER | I78: =SUM(G75) -> 0 | K78: salaire net fin de mois
D79: INFRACTION DES 10 HEURES | I79: 0.41666667
D80: HEURES SUPLEMENTAIRE SEMAINE | I80: =SUM(I78-I77) -> -1.6666667 | K80: =SUM(G153) -> 0
D81: MOYENNE HEURES DE NUIT/SEMAINE | I81: 0.83333333 | K81: 1967
D82: CUMUL DES HEURES PAR PERIODE | H82: 3.3333333 | I82: =SUM(I60+I78) -> 0
H83: =SUM(I82-H82) -> -3.3333333
B88: SEMAINE 3 DU 13/01/2020 AU 19/01/2020
A90: conso l /100 | B90: n°de parc | C90: Tournée | D90: Jour | E90: Début de poste | F90: Fin de poste | G90: TEMPS DE SERVICE | H90: Pause de jour | I90: Pause de nuit | J90: Heures de nuit | K90: Heures réunion formation
C91: ? | D91: lundi | E91: =VLOOKUP(C91,' horaire et frais avant nao '!$A$4:I81,2,FALSE) -> 0 | F91: 0 | G91: =MOD(F91-E91,1)-I91-H91+K91 -> 0 | H91: 0 | I91: 0 | J91: =(IF(((E91*24)>=21)*AND((F91*24)>6)*AND((F91*24)<21),30-(E91*24),0)+IF(((F91*24)>=21)*AND((E91*24)>6)*AND((E91*24)<21),MIN((F91*24)-(E91*24),(F91*24)-21),0)+IF(((E91*24)>6)*AND((E91*24)<21)*AND((F91*24)<=6),3+(F91*24),0)+IF(((E91*24)<=6)*AND((F91*24)>6)*AND((F91*24)<21),6-(E91*24),0)+IF(((E91*24)<=6)*AND((F91*24)<=6),(F91*24)-(E91*24),0)+IF(((E91*24)>=21)*AND((F91*24)<=6),24-(E91*24)+(F91*24),0)+IF(((E91*24)>=21)*AND((F91*24)>=21),(F91*24)-(E91*24),0)+IF(((E91*24)<=6)*AND((F91*24)>=21),6-(E91*24)+(F91*24)-21,0)+IF(((E91*24)>6)*AND((E91*24)<21)*AND((F91*24)>6)*AND((F91*24)<21)*AND((E91*24)>(F91*24)),9,0))/24-I91 -> 0 | K91: 0
C92: ? | D92: mardi | E92: =VLOOKUP(C92,' horaire et frais avant nao '!$A$4:I82,2,FALSE) -> 0 | F92: 0 | G92: =MOD(F92-E92,1)-I92-H92+K92 -> 0 | H92: 0 | I92: 0 | J92: =(IF(((E92*24)>=21)*AND((F92*24)>6)*AND((F92*24)<21),30-(E92*24),0)+IF(((F92*24)>=21)*AND((E92*24)>6)*AND((E92*24)<21),MIN((F92*24)-(E92*24),(F92*24)-21),0)+IF(((E92*24)>6)*AND((E92*24)<21)*AND((F92*24)<=6),3+(F92*24),0)+IF(((E92*24)<=6)*AND((F92*24)>6)*AND((F92*24)<21),6-(E92*24),0)+IF(((E92*24)<=6)*AND((F92*24)<=6),(F92*24)-(E92*24),0)+IF(((E92*24)>=21)*AND((F92*24)<=6),24-(E92*24)+(F92*24),0)+IF(((E92*24)>=21)*AND((F92*24)>=21),(F92*24)-(E92*24),0)+IF(((E92*24)<=6)*AND((F92*24)>=21),6-(E92*24)+(F92*24)-21,0)+IF(((E92*24)>6)*AND((E92*24)<21)*AND((F92*24)>6)*AND((F92*24)<21)*AND((E92*24)>(F92*24)),9,0))/24-I92 -> 0 | K92: 0
C93: ? | D93: mercredi | E93: =VLOOKUP(C93,' horaire et frais avant nao '!$A$4:I83,2,FALSE) -> 0 | F93: 0 | G93: =MOD(F93-E93,1)-I93-H93+K93 -> 0 | H93: 0 | I93: 0 | J93: =(IF(((E93*24)>=21)*AND((F93*24)>6)*AND((F93*24)<21),30-(E93*24),0)+IF(((F93*24)>=21)*AND((E93*24)>6)*AND((E93*24)<21),MIN((F93*24)-(E93*24),(F93*24)-21),0)+IF(((E93*24)>6)*AND((E93*24)<21)*AND((F93*24)<=6),3+(F93*24),0)+IF(((E93*24)<=6)*AND((F93*24)>6)*AND((F93*24)<21),6-(E93*24),0)+IF(((E93*24)<=6)*AND((F93*24)<=6),(F93*24)-(E93*24),0)+IF(((E93*24)>=21)*AND((F93*24)<=6),24-(E93*24)+(F93*24),0)+IF(((E93*24)>=21)*AND((F93*24)>=21),(F93*24)-(E93*24),0)+IF(((E93*24)<=6)*AND((F93*24)>=21),6-(E93*24)+(F93*24)-21,0)+IF(((E93*24)>6)*AND((E93*24)<21)*AND((F93*24)>6)*AND((F93*24)<21)*AND((E93*24)>(F93*24)),9,0))/24-I93 -> 0 | K93: 0
C94: ? | D94: jeudi | E94: =VLOOKUP(C94,' horaire et frais avant nao '!$A$4:I84,2,FALSE) -> 0 | F94: 0 | G94: =MOD(F94-E94,1)-I94-H94+K94 -> 0 | H94: 0 | I94: 0 | J94: =(IF(((E94*24)>=21)*AND((F94*24)>6)*AND((F94*24)<21),30-(E94*24),0)+IF(((F94*24)>=21)*AND((E94*24)>6)*AND((E94*24)<21),MIN((F94*24)-(E94*24),(F94*24)-21),0)+IF(((E94*24)>6)*AND((E94*24)<21)*AND((F94*24)<=6),3+(F94*24),0)+IF(((E94*24)<=6)*AND((F94*24)>6)*AND((F94*24)<21),6-(E94*24),0)+IF(((E94*24)<=6)*AND((F94*24)<=6),(F94*24)-(E94*24),0)+IF(((E94*24)>=21)*AND((F94*24)<=6),24-(E94*24)+(F94*24),0)+IF(((E94*24)>=21)*AND((F94*24)>=21),(F94*24)-(E94*24),0)+IF(((E94*24)<=6)*AND((F94*24)>=21),6-(E94*24)+(F94*24)-21,0)+IF(((E94*24)>6)*AND((E94*24)<21)*AND((F94*24)>6)*AND((F94*24)<21)*AND((E94*24)>(F94*24)),9,0))/24-I94 -> 0 | K94: 0
C95: ? | D95: vendredi | E95: =VLOOKUP(C95,' horaire et frais avant nao '!$A$4:I85,2,FALSE) -> 0 | F95: 0 | G95: =MOD(F95-E95,1)-I95-H95+K95 -> 0 | H95: 0 | I95: 0 | J95: =(IF(((E95*24)>=21)*AND((F95*24)>6)*AND((F95*24)<21),30-(E95*24),0)+IF(((F95*24)>=21)*AND((E95*24)>6)*AND((E95*24)<21),MIN((F95*24)-(E95*24),(F95*24)-21),0)+IF(((E95*24)>6)*AND((E95*24)<21)*AND((F95*24)<=6),3+(F95*24),0)+IF(((E95*24)<=6)*AND((F95*24)>6)*AND((F95*24)<21),6-(E95*24),0)+IF(((E95*24)<=6)*AND((F95*24)<=6),(F95*24)-(E95*24),0)+IF(((E95*24)>=21)*AND((F95*24)<=6),24-(E95*24)+(F95*24),0)+IF(((E95*24)>=21)*AND((F95*24)>=21),(F95*24)-(E95*24),0)+IF(((E95*24)<=6)*AND((F95*24)>=21),6-(E95*24)+(F95*24)-21,0)+IF(((E95*24)>6)*AND((E95*24)<21)*AND((F95*24)>6)*AND((F95*24)<21)*AND((E95*24)>(F95*24)),9,0))/24-I95 -> 0 | K95: 0
C96: week | D96: samedi | E96: =VLOOKUP(C96,' horaire et frais avant nao '!$A$4:I86,2,FALSE) -> 0 | F96: 0 | G96: =MOD(F96-E96,1)-I96-H96+K96 -> 0 | H96: 0 | I96: 0 | J96: =(IF(((E96*24)>=21)*AND((F96*24)>6)*AND((F96*24)<21),30-(E96*24),0)+IF(((F96*24)>=21)*AND((E96*24)>6)*AND((E96*24)<21),MIN((F96*24)-(E96*24),(F96*24)-21),0)+IF(((E96*24)>6)*AND((E96*24)<21)*AND((F96*24)<=6),3+(F96*24),0)+IF(((E96*24)<=6)*AND((F96*24)>6)*AND((F96*24)<21),6-(E96*24),0)+IF(((E96*24)<=6)*AND((F96*24)<=6),(F96*24)-(E96*24),0)+IF(((E96*24)>=21)*AND((F96*24)<=6),24-(E96*24)+(F96*24),0)+IF(((E96*24)>=21)*AND((F96*24)>=21),(F96*24)-(E96*24),0)+IF(((E96*24)<=6)*AND((F96*24)>=21),6-(E96*24)+(F96*24)-21,0)+IF(((E96*24)>6)*AND((E96*24)<21)*AND((F96*24)>6)*AND((F96*24)<21)*AND((E96*24)>(F96*24)),9,0))/24-I96 -> 0 | K96: 0
C97: week | D97: dimanche | E97: =VLOOKUP(C97,' horaire et frais avant nao '!$A$4:I87,2,FALSE) -> 0 | F97: 0 | G97: =MOD(F97-E97,1)-I97-H97+K97 -> 0 | H97: 0 | I97: 0 | J97: =(IF(((E97*24)>=21)*AND((F97*24)>6)*AND((F97*24)<21),30-(E97*24),0)+IF(((F97*24)>=21)*AND((E97*24)>6)*AND((E97*24)<21),MIN((F97*24)-(E97*24),(F97*24)-21),0)+IF(((E97*24)>6)*AND((E97*24)<21)*AND((F97*24)<=6),3+(F97*24),0)+IF(((E97*24)<=6)*AND((F97*24)>6)*AND((F97*24)<21),6-(E97*24),0)+IF(((E97*24)<=6)*AND((F97*24)<=6),(F97*24)-(E97*24),0)+IF(((E97*24)>=21)*AND((F97*24)<=6),24-(E97*24)+(F97*24),0)+IF(((E97*24)>=21)*AND((F97*24)>=21),(F97*24)-(E97*24),0)+IF(((E97*24)<=6)*AND((F97*24)>=21),6-(E97*24)+(F97*24)-21,0)+IF(((E97*24)>6)*AND((E97*24)<21)*AND((F97*24)>6)*AND((F97*24)<21)*AND((E97*24)>(F97*24)),9,0))/24-I97 -> 0 | K97: 0
G98: =SUM(G91:G97) -> 0 | J98: =SUM(J91:J97) -> 0
D99: BASE HEURE PAR JOUR | I99: 0.33333333
D100: HEURES SEMAINE A EFFECTUER | I100: 1.6666667
D101: HEURES SEMAINE EFFECTUER | I101: =SUM(G98) -> 0 | K101: salaire net fin de mois
D102: INFRACTION DES 10 HEURES | I102: 0.41666667
D103: HEURES SUPLEMENTAIRE SEMAINE | I103: =SUM(I101-I100) -> -1.6666667 | K103: =SUM(G153) -> 0
D104: MOYENNE HEURES DE NUIT/SEMAINE | I104: 0.83333333 | K104: 2132
D105: CUMUL DES HEURES PAR PERIODE | H105: 5 | I105: =SUM(G53+G75+G98) -> 0
H106: =SUM(I105-H105) -> -5
B110: SEMAINE 4 DU 20/01/2020 AU 26/01/2020
A112: conso l /100 | B112: n°de parc | C112: Tournée | D112: Jour | E112: Début de poste | F112: Fin de poste | G112: TEMPS DE SERVICE | H112: Pause de jour | I112: Pause de nuit | J112: Heures de nuit | K112: Heures réunion formation
C113: ? | D113: lundi | E113: =VLOOKUP(C113,' horaire et frais avant nao '!$A$4:I81,2,FALSE) -> 0 | F113: 0 | G113: =MOD(F113-E113,1)-I113-H113+K113 -> 0 | H113: 0 | I113: 0 | J113: =(IF(((E113*24)>=21)*AND((F113*24)>6)*AND((F113*24)<21),30-(E113*24),0)+IF(((F113*24)>=21)*AND((E113*24)>6)*AND((E113*24)<21),MIN((F113*24)-(E113*24),(F113*24)-21),0)+IF(((E113*24)>6)*AND((E113*24)<21)*AND((F113*24)<=6),3+(F113*24),0)+IF(((E68*24)<=6)*AND((F113*24)>6)*AND((F113*24)<21),6-(E113*24),0)+IF(((E113*24)<=6)*AND((F113*24)<=6),(F113*24)-(E113*24),0)+IF(((E113*24)>=21)*AND((F113*24)<=6),24-(E113*24)+(F113*24),0)+IF(((E113*24)>=21)*AND((F113*24)>=21),(F113*24)-(E113*24),0)+IF(((E113*24)<=6)*AND((F113*24)>=21),6-(E113*24)+(F113*24)-21,0)+IF(((E113*24)>6)*AND((E113*24)<21)*AND((F113*24)>6)*AND((F113*24)<21)*AND((E113*24)>(F113*24)),9,0))/24-I113 -> 0 | K113: 0
C114: ? | D114: mardi | E114: =VLOOKUP(C114,' horaire et frais avant nao '!$A$4:I82,2,FALSE) -> 0 | F114: 0 | G114: =MOD(F114-E114,1)-I114-H114+K114 -> 0 | H114: 0 | I114: 0 | J114: =(IF(((E114*24)>=21)*AND((F114*24)>6)*AND((F114*24)<21),30-(E114*24),0)+IF(((F114*24)>=21)*AND((E114*24)>6)*AND((E114*24)<21),MIN((F114*24)-(E114*24),(F114*24)-21),0)+IF(((E114*24)>6)*AND((E114*24)<21)*AND((F114*24)<=6),3+(F114*24),0)+IF(((E69*24)<=6)*AND((F114*24)>6)*AND((F114*24)<21),6-(E114*24),0)+IF(((E114*24)<=6)*AND((F114*24)<=6),(F114*24)-(E114*24),0)+IF(((E114*24)>=21)*AND((F114*24)<=6),24-(E114*24)+(F114*24),0)+IF(((E114*24)>=21)*AND((F114*24)>=21),(F114*24)-(E114*24),0)+IF(((E114*24)<=6)*AND((F114*24)>=21),6-(E114*24)+(F114*24)-21,0)+IF(((E114*24)>6)*AND((E114*24)<21)*AND((F114*24)>6)*AND((F114*24)<21)*AND((E114*24)>(F114*24)),9,0))/24-I114 -> 0 | K114: 0
C115: ? | D115: mercredi | E115: =VLOOKUP(C115,' horaire et frais avant nao '!$A$4:I83,2,FALSE) -> 0 | F115: 0 | G115: =MOD(F115-E115,1)-I115-H115+K115 -> 0 | H115: 0 | I115: 0 | J115: =(IF(((E115*24)>=21)*AND((F115*24)>6)*AND((F115*24)<21),30-(E115*24),0)+IF(((F115*24)>=21)*AND((E115*24)>6)*AND((E115*24)<21),MIN((F115*24)-(E115*24),(F115*24)-21),0)+IF(((E115*24)>6)*AND((E115*24)<21)*AND((F115*24)<=6),3+(F115*24),0)+IF(((E70*24)<=6)*AND((F115*24)>6)*AND((F115*24)<21),6-(E115*24),0)+IF(((E115*24)<=6)*AND((F115*24)<=6),(F115*24)-(E115*24),0)+IF(((E115*24)>=21)*AND((F115*24)<=6),24-(E115*24)+(F115*24),0)+IF(((E115*24)>=21)*AND((F115*24)>=21),(F115*24)-(E115*24),0)+IF(((E115*24)<=6)*AND((F115*24)>=21),6-(E115*24)+(F115*24)-21,0)+IF(((E115*24)>6)*AND((E115*24)<21)*AND((F115*24)>6)*AND((F115*24)<21)*AND((E115*24)>(F115*24)),9,0))/24-I115 -> 0 | K115: 0
C116: ? | D116: jeudi | E116: =VLOOKUP(C116,' horaire et frais avant nao '!$A$4:I84,2,FALSE) -> 0 | F116: 0 | G116: =MOD(F116-E116,1)-I116-H116+K116 -> 0 | H116: 0 | I116: 0 | J116: =(IF(((E116*24)>=21)*AND((F116*24)>6)*AND((F116*24)<21),30-(E116*24),0)+IF(((F116*24)>=21)*AND((E116*24)>6)*AND((E116*24)<21),MIN((F116*24)-(E116*24),(F116*24)-21),0)+IF(((E116*24)>6)*AND((E116*24)<21)*AND((F116*24)<=6),3+(F116*24),0)+IF(((E71*24)<=6)*AND((F116*24)>6)*AND((F116*24)<21),6-(E116*24),0)+IF(((E116*24)<=6)*AND((F116*24)<=6),(F116*24)-(E116*24),0)+IF(((E116*24)>=21)*AND((F116*24)<=6),24-(E116*24)+(F116*24),0)+IF(((E116*24)>=21)*AND((F116*24)>=21),(F116*24)-(E116*24),0)+IF(((E116*24)<=6)*AND((F116*24)>=21),6-(E116*24)+(F116*24)-21,0)+IF(((E116*24)>6)*AND((E116*24)<21)*AND((F116*24)>6)*AND((F116*24)<21)*AND((E116*24)>(F116*24)),9,0))/24-I116 -> 0 | K116: 0
C117: ? | D117: vendredi | E117: =VLOOKUP(C117,' horaire et frais avant nao '!$A$4:I85,2,FALSE) -> 0 | F117: 0 | G117: =MOD(F117-E117,1)-I117-H117+K117 -> 0 | H117: 0 | I117: 0 | J117: =(IF(((E117*24)>=21)*AND((F117*24)>6)*AND((F117*24)<21),30-(E117*24),0)+IF(((F117*24)>=21)*AND((E117*24)>6)*AND((E117*24)<21),MIN((F117*24)-(E117*24),(F117*24)-21),0)+IF(((E117*24)>6)*AND((E117*24)<21)*AND((F117*24)<=6),3+(F117*24),0)+IF(((E72*24)<=6)*AND((F117*24)>6)*AND((F117*24)<21),6-(E117*24),0)+IF(((E117*24)<=6)*AND((F117*24)<=6),(F117*24)-(E117*24),0)+IF(((E117*24)>=21)*AND((F117*24)<=6),24-(E117*24)+(F117*24),0)+IF(((E117*24)>=21)*AND((F117*24)>=21),(F117*24)-(E117*24),0)+IF(((E117*24)<=6)*AND((F117*24)>=21),6-(E117*24)+(F117*24)-21,0)+IF(((E117*24)>6)*AND((E117*24)<21)*AND((F117*24)>6)*AND((F117*24)<21)*AND((E117*24)>(F117*24)),9,0))/24-I117 -> 0 | K117: 0
C118: week | D118: samedi | E118: =VLOOKUP(C118,' horaire et frais avant nao '!$A$4:I86,2,FALSE) -> 0 | F118: 0 | G118: =MOD(F118-E118,1)-I118-H118+K118 -> 0 | H118: 0 | I118: 0 | J118: =(IF(((E118*24)>=21)*AND((F118*24)>6)*AND((F118*24)<21),30-(E118*24),0)+IF(((F118*24)>=21)*AND((E118*24)>6)*AND((E118*24)<21),MIN((F118*24)-(E118*24),(F118*24)-21),0)+IF(((E118*24)>6)*AND((E118*24)<21)*AND((F118*24)<=6),3+(F118*24),0)+IF(((E73*24)<=6)*AND((F118*24)>6)*AND((F118*24)<21),6-(E118*24),0)+IF(((E118*24)<=6)*AND((F118*24)<=6),(F118*24)-(E118*24),0)+IF(((E118*24)>=21)*AND((F118*24)<=6),24-(E118*24)+(F118*24),0)+IF(((E118*24)>=21)*AND((F118*24)>=21),(F118*24)-(E118*24),0)+IF(((E118*24)<=6)*AND((F118*24)>=21),6-(E118*24)+(F118*24)-21,0)+IF(((E118*24)>6)*AND((E118*24)<21)*AND((F118*24)>6)*AND((F118*24)<21)*AND((E118*24)>(F118*24)),9,0))/24-I118 -> 0 | K118: 0
C119: week | D119: dimanche | E119: =VLOOKUP(C119,' horaire et frais avant nao '!$A$4:I87,2,FALSE) -> 0 | F119: 0 | G119: =MOD(F119-E119,1)-I119-H119+K119 -> 0 | H119: 0 | I119: 0 | J119: =(IF(((E119*24)>=21)*AND((F119*24)>6)*AND((F119*24)<21),30-(E119*24),0)+IF(((F119*24)>=21)*AND((E119*24)>6)*AND((E119*24)<21),MIN((F119*24)-(E119*24),(F119*24)-21),0)+IF(((E119*24)>6)*AND((E119*24)<21)*AND((F119*24)<=6),3+(F119*24),0)+IF(((E74*24)<=6)*AND((F119*24)>6)*AND((F119*24)<21),6-(E119*24),0)+IF(((E119*24)<=6)*AND((F119*24)<=6),(F119*24)-(E119*24),0)+IF(((E119*24)>=21)*AND((F119*24)<=6),24-(E119*24)+(F119*24),0)+IF(((E119*24)>=21)*AND((F119*24)>=21),(F119*24)-(E119*24),0)+IF(((E119*24)<=6)*AND((F119*24)>=21),6-(E119*24)+(F119*24)-21,0)+IF(((E119*24)>6)*AND((E119*24)<21)*AND((F119*24)>6)*AND((F119*24)<21)*AND((E119*24)>(F119*24)),9,0))/24-I119 -> 0 | K119: 0
G120: =SUM(G113:G119) -> 0 | J120: =SUM(J113:J119) -> 0
D121: BASE HEURE PAR JOUR | I121: 0.33333333
...

Sheet periode 2  fr02 versé 28  03 16
H1: PRIME DE DIMANCHE
A2: SEMAINE | B2: TOURNEE | C2: JOUR | D2: DATE | E2: repas soir non soumis | F2: Repas midi non soumis | G2: casse-croute soumis | H2: demi prime | I2: prime entière | J2: ticket | K2: repas unique
A3: 5 | B3: ? | C3: vendredi | D3: 42035 | E3: =VLOOKUP(B3,' horaire et frais avant nao '!$A$4:$I$81,3,FALSE) -> 0 | F3: =VLOOKUP(B3,' horaire et frais avant nao '!$A$4:$I$81,4,FALSE) -> 0 | G3: =VLOOKUP(B3,' horaire et frais avant nao '!$A$4:$I$81,5,FALSE) -> 0 | H3: =VLOOKUP(B3,' horaire et frais avant nao '!$A$4:$I$81,6,FALSE) -> 0 | I3: =VLOOKUP(B3,' horaire et frais avant nao '!$A$4:$I$81,7,FALSE) -> 0 | J3: =VLOOKUP(B3,' horaire et frais avant nao '!$A$4:$I$81,8,FALSE) -> 0 | K3: =VLOOKUP(B3,' horaire et frais avant nao '!$A$4:$I$81,9,FALSE) -> 0
B4: WEEK | C4: samedi | D4: 42036 | E4: =VLOOKUP(B4,' horaire et frais avant nao '!$A$4:$I$81,3,FALSE) -> 0 | F4: =VLOOKUP(B4,' horaire et frais avant nao '!$A$4:$I$81,4,FALSE) -> 0 | G4: =VLOOKUP(B4,' horaire et frais avant nao '!$A$4:$I$81,5,FALSE) -> 0 | H4: =VLOOKUP(B4,' horaire et frais avant nao '!$A$4:$I$81,6,FALSE) -> 0 | I4: =VLOOKUP(B4,' horaire et frais avant nao '!$A$4:$I$81,7,FALSE) -> 0 | J4: =VLOOKUP(B4,' horaire et frais avant nao '!$A$4:$I$81,8,FALSE) -> 0 | K4: =VLOOKUP(B4,' horaire et frais avant nao '!$A$4:$I$81,9,FALSE) -> 0
B5: WEEK | C5: dimanche | D5: 42037 | E5: =VLOOKUP(B5,' horaire et frais avant nao '!$A$4:$I$81,3,FALSE) -> 0 | F5: =VLOOKUP(B5,' horaire et frais avant nao '!$A$4:$I$81,4,FALSE) -> 0 | G5: =VLOOKUP(B5,' horaire et frais avant nao '!$A$4:$I$81,5,FALSE) -> 0 | H5: =VLOOKUP(B5,' horaire et frais avant nao '!$A$4:$I$81,6,FALSE) -> 0 | I5: =VLOOKUP(B5,' horaire et frais avant nao '!$A$4:$I$81,7,FALSE) -> 0 | J5: =VLOOKUP(B5,' horaire et frais avant nao '!$A$4:$I$81,8,FALSE) -> 0 | K5: =VLOOKUP(B5,' horaire et frais avant nao '!$A$4:$I$81,9,FALSE) -> 0
A6: 6 | B6: ? | C6: lundi | D6: 42038 | E6: =VLOOKUP(B6,' horaire et frais avant nao '!$A$4:$I$81,3,FALSE) -> 0 | F6: =VLOOKUP(B6,' horaire et frais avant nao '!$A$4:$I$81,4,FALSE) -> 0 | G6: =VLOOKUP(B6,' horaire et frais avant nao '!$A$4:$I$81,5,FALSE) -> 0 | H6: =VLOOKUP(B6,' horaire et frais avant nao '!$A$4:$I$81,6,FALSE) -> 0 | I6: =VLOOKUP(B6,' horaire et frais avant nao '!$A$4:$I$81,7,FALSE) -> 0 | J6: =VLOOKUP(B6,' horaire et frais avant nao '!$A$4:$I$81,8,FALSE) -> 0 | K6: =VLOOKUP(B6,' horaire et frais avant nao '!$A$4:$I$81,9,FALSE) -> 0
B7: ? | C7: mardi | D7: 42039 | E7: =VLOOKUP(B7,' horaire et frais avant nao '!$A$4:$I$81,3,FALSE) -> 0 | F7: =VLOOKUP(B7,' horaire et frais avant nao '!$A$4:$I$81,4,FALSE) -> 0 | G7: =VLOOKUP(B7,' horaire et frais avant nao '!$A$4:$I$81,5,FALSE) -> 0 | H7: =VLOOKUP(B7,' horaire et frais avant nao '!$A$4:$I$81,6,FALSE) -> 0 | I7: =VLOOKUP(B7,' horaire et frais avant nao '!$A$4:$I$81,7,FALSE) -> 0 | J7: =VLOOKUP(B7,' horaire et frais avant nao '!$A$4:$I$81,8,FALSE) -> 0 | K7: =VLOOKUP(B7,' horaire et frais avant nao '!$A$4:$I$81,9,FALSE) -> 0
B8: ? | C8: mercredi | D8: 42040 | E8: =VLOOKUP(B8,' horaire et frais avant nao '!$A$4:$I$81,3,FALSE) -> 0 | F8: =VLOOKUP(B8,' horaire et frais avant nao '!$A$4:$I$81,4,FALSE) -> 0 | G8: =VLOOKUP(B8,' horaire et frais avant nao '!$A$4:$I$81,5,FALSE) -> 0 | H8: =VLOOKUP(B8,' horaire et frais avant nao '!$A$4:$I$81,6,FALSE) -> 0 | I8: =VLOOKUP(B8,' horaire et frais avant nao '!$A$4:$I$81,7,FALSE) -> 0 | J8: =VLOOKUP(B8,' horaire et frais avant nao '!$A$4:$I$81,8,FALSE) -> 0 | K8: =VLOOKUP(B8,' horaire et frais avant nao '!$A$4:$I$81,9,FALSE) -> 0
B9: ? | C9: jeudi | D9: 42041 | E9: =VLOOKUP(B9,' horaire et frais avant nao '!$A$4:$I$81,3,FALSE) -> 0 | F9: =VLOOKUP(B9,' horaire et frais avant nao '!$A$4:$I$81,4,FALSE) -> 0 | G9: =VLOOKUP(B9,' horaire et frais avant nao '!$A$4:$I$81,5,FALSE) -> 0 | H9: =VLOOKUP(B9,' horaire et frais avant nao '!$A$4:$I$81,6,FALSE) -> 0 | I9: =VLOOKUP(B9,' horaire et frais avant nao '!$A$4:$I$81,7,FALSE) -> 0 | J9: =VLOOKUP(B9,' horaire et frais avant nao '!$A$4:$I$81,8,FALSE) -> 0 | K9: =VLOOKUP(B9,' horaire et frais avant nao '!$A$4:$I$81,9,FALSE) -> 0
B10: ? | C10: vendredi | D10: 42042 | E10: =VLOOKUP(B10,' horaire et frais avant nao '!$A$4:$I$81,3,FALSE) -> 0 | F10: =VLOOKUP(B10,' horaire et frais avant nao '!$A$4:$I$81,4,FALSE) -> 0 | G10: =VLOOKUP(B10,' horaire et frais avant nao '!$A$4:$I$81,5,FALSE) -> 0 | H10: =VLOOKUP(B10,' horaire et frais avant nao '!$A$4:$I$81,6,FALSE) -> 0 | I10: =VLOOKUP(B10,' horaire et frais avant nao '!$A$4:$I$81,7,FALSE) -> 0 | J10: =VLOOKUP(B10,' horaire et frais avant nao '!$A$4:$I$81,8,FALSE) -> 0 | K10: =VLOOKUP(B10,' horaire et frais avant nao '!$A$4:$I$81,9,FALSE) -> 0
B11: WEEK | C11: samedi | D11: 42043 | E11: =VLOOKUP(B11,' horaire et frais avant nao '!$A$4:$I$81,3,FALSE) -> 0 | F11: =VLOOKUP(B11,' horaire et frais avant nao '!$A$4:$I$81,4,FALSE) -> 0 | G11: =VLOOKUP(B11,' horaire et frais avant nao '!$A$4:$I$81,5,FALSE) -> 0 | H11: =VLOOKUP(B11,' horaire et frais avant nao '!$A$4:$I$81,6,FALSE) -> 0 | I11: =VLOOKUP(B11,' horaire et frais avant nao '!$A$4:$I$81,7,FALSE) -> 0 | J11: =VLOOKUP(B11,' horaire et frais avant nao '!$A$4:$I$81,8,FALSE) -> 0 | K11: =VLOOKUP(B11,' horaire et frais avant nao '!$A$4:$I$81,9,FALSE) -> 0
B12: WEEK | C12: dimanche | D12: 42044 | E12: =VLOOKUP(B12,' horaire et frais avant nao '!$A$4:$I$81,3,FALSE) -> 0 | F12: =VLOOKUP(B12,' horaire et frais avant nao '!$A$4:$I$81,4,FALSE) -> 0 | G12: =VLOOKUP(B12,' horaire et frais avant nao '!$A$4:$I$81,5,FALSE) -> 0 | H12: =VLOOKUP(B12,' horaire et frais avant nao '!$A$4:$I$81,6,FALSE) -> 0 | I12: =VLOOKUP(B12,' horaire et frais avant nao '!$A$4:$I$81,7,FALSE) -> 0 | J12: =VLOOKUP(B12,' horaire et frais avant nao '!$A$4:$I$81,8,FALSE) -> 0 | K12: =VLOOKUP(B12,' horaire et frais avant nao '!$A$4:$I$81,9,FALSE) -> 0
A13: 7 | B13: ? | C13: lundi | D13: 42045 | E13: =VLOOKUP(B13,' horaire et frais avant nao '!$A$4:$I$81,3,FALSE) -> 0 | F13: =VLOOKUP(B13,' horaire et frais avant nao '!$A$4:$I$81,4,FALSE) -> 0 | G13: =VLOOKUP(B13,' horaire et frais avant nao '!$A$4:$I$81,5,FALSE) -> 0 | H13: =VLOOKUP(B13,' horaire et frais avant nao '!$A$4:$I$81,6,FALSE) -> 0 | I13: =VLOOKUP(B13,' horaire et frais avant nao '!$A$4:$I$81,7,FALSE) -> 0 | J13: =VLOOKUP(B13,' horaire et frais avant nao '!$A$4:$I$81,8,FALSE) -> 0 | K13: =VLOOKUP(B13,' horaire et frais avant nao '!$A$4:$I$81,9,FALSE) -> 0
B14: ? | C14: mardi | D14: 42046 | E14: =VLOOKUP(B14,' horaire et frais avant nao '!$A$4:$I$81,3,FALSE) -> 0 | F14: =VLOOKUP(B14,' horaire et frais avant nao '!$A$4:$I$81,4,FALSE) -> 0 | G14: =VLOOKUP(B14,' horaire et frais avant nao '!$A$4:$I$81,5,FALSE) -> 0 | H14: =VLOOKUP(B14,' horaire et frais avant nao '!$A$4:$I$81,6,FALSE) -> 0 | I14: =VLOOKUP(B14,' horaire et frais avant nao '!$A$4:$I$81,7,FALSE) -> 0 | J14: =VLOOKUP(B14,' horaire et frais avant nao '!$A$4:$I$81,8,FALSE) -> 0 | K14: =VLOOKUP(B14,' horaire et frais avant nao '!$A$4:$I$81,9,FALSE) -> 0
B15: ? | C15: mercredi | D15: 42047 | E15: =VLOOKUP(B15,' horaire et frais avant nao '!$A$4:$I$81,3,FALSE) -> 0 | F15: =VLOOKUP(B15,' horaire et frais avant nao '!$A$4:$I$81,4,FALSE) -> 0 | G15: =VLOOKUP(B15,' horaire et frais avant nao '!$A$4:$I$81,5,FALSE) -> 0 | H15: =VLOOKUP(B15,' horaire et frais avant nao '!$A$4:$I$81,6,FALSE) -> 0 | I15: =VLOOKUP(B15,' horaire et frais avant nao '!$A$4:$I$81,7,FALSE) -> 0 | J15: =VLOOKUP(B15,' horaire et frais avant nao '!$A$4:$I$81,8,FALSE) -> 0 | K15: =VLOOKUP(B15,' horaire et frais avant nao '!$A$4:$I$81,9,FALSE) -> 0
B16: ? | C16: jeudi | D16: 42048 | E16: =VLOOKUP(B16,' horaire et frais avant nao '!$A$4:$I$81,3,FALSE) -> 0 | F16: =VLOOKUP(B16,' horaire et frais avant nao '!$A$4:$I$81,4,FALSE) -> 0 | G16: =VLOOKUP(B16,' horaire et frais avant nao '!$A$4:$I$81,5,FALSE) -> 0 | H16: =VLOOKUP(B16,' horaire et frais avant nao '!$A$4:$I$81,6,FALSE) -> 0 | I16: =VLOOKUP(B16,' horaire et frais avant nao '!$A$4:$I$81,7,FALSE) -> 0 | J16: =VLOOKUP(B16,' horaire et frais avant nao '!$A$4:$I$81,8,FALSE) -> 0 | K16: =VLOOKUP(B16,' horaire et frais avant nao '!$A$4:$I$81,9,FALSE) -> 0
B17: ? | C17: vendredi | D17: 42049 | E17: =VLOOKUP(B17,' horaire et frais avant nao '!$A$4:$I$81,3,FALSE) -> 0 | F17: =VLOOKUP(B17,' horaire et frais avant nao '!$A$4:$I$81,4,FALSE) -> 0 | G17: =VLOOKUP(B17,' horaire et frais avant nao '!$A$4:$I$81,5,FALSE) -> 0 | H17: =VLOOKUP(B17,' horaire et frais avant nao '!$A$4:$I$81,6,FALSE) -> 0 | I17: =VLOOKUP(B17,' horaire et frais avant nao '!$A$4:$I$81,7,FALSE) -> 0 | J17: =VLOOKUP(B17,' horaire et frais avant nao '!$A$4:$I$81,8,FALSE) -> 0 | K17: =VLOOKUP(B17,' horaire et frais avant nao '!$A$4:$I$81,9,FALSE) -> 0
B18: WEEK | C18: samedi | D18: 42050 | E18: =VLOOKUP(B18,' horaire et frais avant nao '!$A$4:$I$81,3,FALSE) -> 0 | F18: =VLOOKUP(B18,' horaire et frais avant nao '!$A$4:$I$81,4,FALSE) -> 0 | G18: =VLOOKUP(B18,' horaire et frais avant nao '!$A$4:$I$81,5,FALSE) -> 0 | H18: =VLOOKUP(B18,' horaire et frais avant nao '!$A$4:$I$81,6,FALSE) -> 0 | I18: =VLOOKUP(B18,' horaire et frais avant nao '!$A$4:$I$81,7,FALSE) -> 0 | J18: =VLOOKUP(B18,' horaire et frais avant nao '!$A$4:$I$81,8,FALSE) -> 0 | K18: =VLOOKUP(B18,' horaire et frais avant nao '!$A$4:$I$81,9,FALSE) -> 0
B19: WEEK | C19: dimanche | D19: 42051 | E19: =VLOOKUP(B19,' horaire et frais avant nao '!$A$4:$I$81,3,FALSE) -> 0 | F19: =VLOOKUP(B19,' horaire et frais avant nao '!$A$4:$I$81,4,FALSE) -> 0 | G19: =VLOOKUP(B19,' horaire et frais avant nao '!$A$4:$I$81,5,FALSE) -> 0 | H19: =VLOOKUP(B19,' horaire et frais avant nao '!$A$4:$I$81,6,FALSE) -> 0 | I19: =VLOOKUP(B19,' horaire et frais avant nao '!$A$4:$I$81,7,FALSE) -> 0 | J19: =VLOOKUP(B19,' horaire et frais avant nao '!$A$4:$I$81,8,FALSE) -> 0 | K19: =VLOOKUP(B19,' horaire et frais avant nao '!$A$4:$I$81,9,FALSE) -> 0
A20: 8 | B20: ? | C20: lundi | D20: 42052 | E20: =VLOOKUP(B20,' horaire et frais avant nao '!$A$4:$I$81,3,FALSE) -> 0 | F20: =VLOOKUP(B20,' horaire et frais avant nao '!$A$4:$I$81,4,FALSE) -> 0 | G20: =VLOOKUP(B20,' horaire et frais avant nao '!$A$4:$I$81,5,FALSE) -> 0 | H20: =VLOOKUP(B20,' horaire et frais avant nao '!$A$4:$I$81,6,FALSE) -> 0 | I20: =VLOOKUP(B20,' horaire et frais avant nao '!$A$4:$I$81,7,FALSE) -> 0 | J20: =VLOOKUP(B20,' horaire et frais avant nao '!$A$4:$I$81,8,FALSE) -> 0 | K20: =VLOOKUP(B20,' horaire et frais avant nao '!$A$4:$I$81,9,FALSE) -> 0
B21: ? | C21: mardi | D21: 42053 | E21: =VLOOKUP(B21,' horaire et frais avant nao '!$A$4:$I$81,3,FALSE) -> 0 | F21: =VLOOKUP(B21,' horaire et frais avant nao '!$A$4:$I$81,4,FALSE) -> 0 | G21: =VLOOKUP(B21,' horaire et frais avant nao '!$A$4:$I$81,5,FALSE) -> 0 | H21: =VLOOKUP(B21,' horaire et frais avant nao '!$A$4:$I$81,6,FALSE) -> 0 | I21: =VLOOKUP(B21,' horaire et frais avant nao '!$A$4:$I$81,7,FALSE) -> 0 | J21: =VLOOKUP(B21,' horaire et frais avant nao '!$A$4:$I$81,8,FALSE) -> 0 | K21: =VLOOKUP(B21,' horaire et frais avant nao '!$A$4:$I$81,9,FALSE) -> 0
B22: ? | C22: mercredi | D22: 42054 | E22: =VLOOKUP(B22,' horaire et frais avant nao '!$A$4:$I$81,3,FALSE) -> 0 | F22: =VLOOKUP(B22,' horaire et frais avant nao '!$A$4:$I$81,4,FALSE) -> 0 | G22: =VLOOKUP(B22,' horaire et frais avant nao '!$A$4:$I$81,5,FALSE) -> 0 | H22: =VLOOKUP(B22,' horaire et frais avant nao '!$A$4:$I$81,6,FALSE) -> 0 | I22: =VLOOKUP(B22,' horaire et frais avant nao '!$A$4:$I$81,7,FALSE) -> 0 | J22: =VLOOKUP(B22,' horaire et frais avant nao '!$A$4:$I$81,8,FALSE) -> 0 | K22: =VLOOKUP(B22,' horaire et frais avant nao '!$A$4:$I$81,9,FALSE) -> 0
B23: ? | C23: jeudi | D23: 42055 | E23: =VLOOKUP(B23,' horaire et frais avant nao '!$A$4:$I$81,3,FALSE) -> 0 | F23: =VLOOKUP(B23,' horaire et frais avant nao '!$A$4:$I$81,4,FALSE) -> 0 | G23: =VLOOKUP(B23,' horaire et frais avant nao '!$A$4:$I$81,5,FALSE) -> 0 | H23: =VLOOKUP(B23,' horaire et frais avant nao '!$A$4:$I$81,6,FALSE) -> 0 | I23: =VLOOKUP(B23,' horaire et frais avant nao '!$A$4:$I$81,7,FALSE) -> 0 | J23: =VLOOKUP(B23,' horaire et frais avant nao '!$A$4:$I$81,8,FALSE) -> 0 | K23: =VLOOKUP(B23,' horaire et frais avant nao '!$A$4:$I$81,9,FALSE) -> 0
B24: ? | C24: vendredi | D24: 42056 | E24: =VLOOKUP(B24,' horaire et frais avant nao '!$A$4:$I$81,3,FALSE) -> 0 | F24: =VLOOKUP(B24,' horaire et frais avant nao '!$A$4:$I$81,4,FALSE) -> 0 | G24: =VLOOKUP(B24,' horaire et frais avant nao '!$A$4:$I$81,5,FALSE) -> 0 | H24: =VLOOKUP(B24,' horaire et frais avant nao '!$A$4:$I$81,6,FALSE) -> 0 | I24: =VLOOKUP(B24,' horaire et frais avant nao '!$A$4:$I$81,7,FALSE) -> 0 | J24: =VLOOKUP(B24,' horaire et frais avant nao '!$A$4:$I$81,8,FALSE) -> 0 | K24: =VLOOKUP(B24,' horaire et frais avant nao '!$A$4:$I$81,9,FALSE) -> 0
B25: WEEK | C25: samedi | D25: 42057 | E25: =VLOOKUP(B25,' horaire et frais avant nao '!$A$4:$I$81,3,FALSE) -> 0 | F25: =VLOOKUP(B25,' horaire et frais avant nao '!$A$4:$I$81,4,FALSE) -> 0 | G25: =VLOOKUP(B25,' horaire et frais avant nao '!$A$4:$I$81,5,FALSE) -> 0 | H25: =VLOOKUP(B25,' horaire et frais avant nao '!$A$4:$I$81,6,FALSE) -> 0 | I25: =VLOOKUP(B25,' horaire et frais avant nao '!$A$4:$I$81,7,FALSE) -> 0 | J25: =VLOOKUP(B25,' horaire et frais avant nao '!$A$4:$I$81,8,FALSE) -> 0 | K25: =VLOOKUP(B25,' horaire et frais avant nao '!$A$4:$I$81,9,FALSE) -> 0
B26: WEEK | C26: dimanche | D26: 42058 | E26: =VLOOKUP(B26,' horaire et frais avant nao '!$A$4:$I$81,3,FALSE) -> 0 | F26: =VLOOKUP(B26,' horaire et frais avant nao '!$A$4:$I$81,4,FALSE) -> 0 | G26: =VLOOKUP(B26,' horaire et frais avant nao '!$A$4:$I$81,5,FALSE) -> 0 | H26: =VLOOKUP(B26,' horaire et frais avant nao '!$A$4:$I$81,6,FALSE) -> 0 | I26: =VLOOKUP(B26,' horaire et frais avant nao '!$A$4:$I$81,7,FALSE) -> 0 | J26: =VLOOKUP(B26,' horaire et frais avant nao '!$A$4:$I$81,8,FALSE) -> 0 | K26: =VLOOKUP(B26,' horaire et frais avant nao '!$A$4:$I$81,9,FALSE) -> 0
A27: 9 | B27: ? | C27: lundi | D27: 42059 | E27: =VLOOKUP(B27,' horaire et frais avant nao '!$A$4:$I$81,3,FALSE) -> 0 | F27: =VLOOKUP(B27,' horaire et frais avant nao '!$A$4:$I$81,4,FALSE) -> 0 | G27: =VLOOKUP(B27,' horaire et frais avant nao '!$A$4:$I$81,5,FALSE) -> 0 | H27: =VLOOKUP(B27,' horaire et frais avant nao '!$A$4:$I$81,6,FALSE) -> 0 | I27: =VLOOKUP(B27,' horaire et frais avant nao '!$A$4:$I$81,7,FALSE) -> 0 | J27: =VLOOKUP(B27,' horaire et frais avant nao '!$A$4:$I$81,8,FALSE) -> 0 | K27: =VLOOKUP(B27,' horaire et frais avant nao '!$A$4:$I$81,9,FALSE) -> 0
B28: ? | C28: mardi | D28: 42060 | E28: =VLOOKUP(B28,' horaire et frais avant nao '!$A$4:$I$81,3,FALSE) -> 0 | F28: =VLOOKUP(B28,' horaire et frais avant nao '!$A$4:$I$81,4,FALSE) -> 0 | G28: =VLOOKUP(B28,' horaire et frais avant nao '!$A$4:$I$81,5,FALSE) -> 0 | H28: =VLOOKUP(B28,' horaire et frais avant nao '!$A$4:$I$81,6,FALSE) -> 0 | I28: =VLOOKUP(B28,' horaire et frais avant nao '!$A$4:$I$81,7,FALSE) -> 0 | J28: =VLOOKUP(B28,' horaire et frais avant nao '!$A$4:$I$81,8,FALSE) -> 0 | K28: =VLOOKUP(B28,' horaire et frais avant nao '!$A$4:$I$81,9,FALSE) -> 0
B29: ? | C29: mercredi | D29: 42061 | E29: =VLOOKUP(B29,' horaire et frais avant nao '!$A$4:$I$81,3,FALSE) -> 0 | F29: =VLOOKUP(B29,' horaire et frais avant nao '!$A$4:$I$81,4,FALSE) -> 0 | G29: =VLOOKUP(B29,' horaire et frais avant nao '!$A$4:$I$81,5,FALSE) -> 0 | H29: =VLOOKUP(B29,' horaire et frais avant nao '!$A$4:$I$81,6,FALSE) -> 0 | I29: =VLOOKUP(B29,' horaire et frais avant nao '!$A$4:$I$81,7,FALSE) -> 0 | J29: =VLOOKUP(B29,' horaire et frais avant nao '!$A$4:$I$81,8,FALSE) -> 0 | K29: =VLOOKUP(B29,' horaire et frais avant nao '!$A$4:$I$81,9,FALSE) -> 0
B30: ? | C30: jeudi | D30: 42062 | E30: =VLOOKUP(B30,' horaire et frais avant nao '!$A$4:$I$81,3,FALSE) -> 0 | F30: =VLOOKUP(B30,' horaire et frais avant nao '!$A$4:$I$81,4,FALSE) -> 0 | G30: =VLOOKUP(B30,' horaire et frais avant nao '!$A$4:$I$81,5,FALSE) -> 0 | H30: =VLOOKUP(B30,' horaire et frais avant nao '!$A$4:$I$81,6,FALSE) -> 0 | I30: =VLOOKUP(B30,' horaire et frais avant nao '!$A$4:$I$81,7,FALSE) -> 0 | J30: =VLOOKUP(B30,' horaire et frais avant nao '!$A$4:$I$81,8,FALSE) -> 0 | K30: =VLOOKUP(B30,' horaire et frais avant nao '!$A$4:$I$81,9,FALSE) -> 0
B31: ? | E31: =VLOOKUP(B31,' horaire et frais avant nao '!$A$4:$I$81,3,FALSE) -> 0 | F31: =VLOOKUP(B31,' horaire et frais avant nao '!$A$4:$I$81,4,FALSE) -> 0 | G31: =VLOOKUP(B31,' horaire et frais avant nao '!$A$4:$I$81,5,FALSE) -> 0 | H31: =VLOOKUP(B31,' horaire et frais avant nao '!$A$4:$I$81,6,FALSE) -> 0 | I31: =VLOOKUP(B31,' horaire et frais avant nao '!$A$4:$I$81,7,FALSE) -> 0 | J31: =VLOOKUP(B31,' horaire et frais avant nao '!$A$4:$I$81,8,FALSE) -> 0 | K31: =VLOOKUP(B31,' horaire et frais avant nao '!$A$4:$I$81,9,FALSE) -> 0
B32: ? | E32: =VLOOKUP(B32,' horaire et frais avant nao '!$A$4:$I$81,3,FALSE) -> 0 | F32: =VLOOKUP(B32,' horaire et frais avant nao '!$A$4:$I$81,4,FALSE) -> 0 | G32: =VLOOKUP(B32,' horaire et frais avant nao '!$A$4:$I$81,5,FALSE) -> 0 | H32: =VLOOKUP(B32,' horaire et frais avant nao '!$A$4:$I$81,6,FALSE) -> 0 | I32: =VLOOKUP(B32,' horaire et frais avant nao '!$A$4:$I$81,7,FALSE) -> 0 | J32: =VLOOKUP(B32,' horaire et frais avant nao '!$A$4:$I$81,8,FALSE) -> 0 | K32: =VLOOKUP(B32,' horaire et frais avant nao '!$A$4:$I$81,9,FALSE) -> 0
B33: ? | E33: =VLOOKUP(B33,' horaire et frais avant nao '!$A$4:$I$81,3,FALSE) -> 0 | F33: =VLOOKUP(B33,' horaire et frais avant nao '!$A$4:$I$81,4,FALSE) -> 0 | G33: =VLOOKUP(B33,' horaire et frais avant nao '!$A$4:$I$81,5,FALSE) -> 0 | H33: =VLOOKUP(B33,' horaire et frais avant nao '!$A$4:$I$81,6,FALSE) -> 0 | I33: =VLOOKUP(B33,' horaire et frais avant nao '!$A$4:$I$81,7,FALSE) -> 0 | J33: =VLOOKUP(B33,' horaire et frais avant nao '!$A$4:$I$81,8,FALSE) -> 0 | K33: =VLOOKUP(B33,' horaire et frais avant nao '!$A$4:$I$81,9,FALSE) -> 0
B34: TOTAL | E34: =SUM(E3:E33) -> 0 | F34: =SUM(F3:F33) -> 0 | G34: =SUM(G3:G33) -> 0 | H34: =SUM(H3:H33) -> 0 | I34: =SUM(I3:I33) -> 0 | J34: =SUM(J3:J33) -> 0 | K34: =SUM(K3:K33) -> 0
A35: SEMAINE | B35: TOURNEE | C35: JOUR | D35: DATE | E35: repas soir non soumis | F35: Repas midi non soumis | G35: casse-croute soumis | H35: demi prime | I35: prime entière | J35: ticket | K35: repas unique
B43: SEMAINE 1 DU 29/01/2019 AU 04/02/2019
A45: conso l /100 | B45: n°de parc | C45: Tournée | D45: Jour | E45: Début de poste | F45: Fin de poste | G45: TEMPS DE SERVICE | H45: Pause de jour | I45: Pause de nuit | J45: Heures de nuit | K45: Heures réunion formation
C46: ? | D46: lundi | E46: =VLOOKUP(C46,' horaire et frais avant nao '!$A$4:I81,2,FALSE) -> 0 | F46: 0 | G46: =MOD(F46-E46,1)-I46-H46+K46 -> 0 | H46: 0 | I46: 0 | J46: =(IF(((E46*24)>=21)*AND((F46*24)>6)*AND((F46*24)<21),30-(E46*24),0)+IF(((F46*24)>=21)*AND((E46*24)>6)*AND((E46*24)<21),MIN((F46*24)-(E46*24),(F46*24)-21),0)+IF(((E46*24)>6)*AND((E46*24)<21)*AND((F46*24)<=6),3+(F46*24),0)+IF(((E46*24)<=6)*AND((F46*24)>6)*AND((F46*24)<21),6-(E46*24),0)+IF(((E46*24)<=6)*AND((F46*24)<=6),(F46*24)-(E46*24),0)+IF(((E46*24)>=21)*AND((F46*24)<=6),24-(E46*24)+(F46*24),0)+IF(((E46*24)>=21)*AND((F46*24)>=21),(F46*24)-(E46*24),0)+IF(((E46*24)<=6)*AND((F46*24)>=21),6-(E46*24)+(F46*24)-21,0)+IF(((E46*24)>6)*AND((E46*24)<21)*AND((F46*24)>6)*AND((F46*24)<21)*AND((E46*24)>(F46*24)),9,0))/24-I46 -> 0 | K46: 0
C47: ? | D47: mardi | E47: =VLOOKUP(C47,' horaire et frais avant nao '!$A$4:I82,2,FALSE) -> 0 | F47: 0 | G47: =MOD(F47-E47,1)-I47-H47+K47 -> 0 | H47: 0 | I47: 0 | J47: =(IF(((E47*24)>=21)*AND((F47*24)>6)*AND((F47*24)<21),30-(E47*24),0)+IF(((F47*24)>=21)*AND((E47*24)>6)*AND((E47*24)<21),MIN((F47*24)-(E47*24),(F47*24)-21),0)+IF(((E47*24)>6)*AND((E47*24)<21)*AND((F47*24)<=6),3+(F47*24),0)+IF(((E47*24)<=6)*AND((F47*24)>6)*AND((F47*24)<21),6-(E47*24),0)+IF(((E47*24)<=6)*AND((F47*24)<=6),(F47*24)-(E47*24),0)+IF(((E47*24)>=21)*AND((F47*24)<=6),24-(E47*24)+(F47*24),0)+IF(((E47*24)>=21)*AND((F47*24)>=21),(F47*24)-(E47*24),0)+IF(((E47*24)<=6)*AND((F47*24)>=21),6-(E47*24)+(F47*24)-21,0)+IF(((E47*24)>6)*AND((E47*24)<21)*AND((F47*24)>6)*AND((F47*24)<21)*AND((E47*24)>(F47*24)),9,0))/24-I47 -> 0 | K47: 0
C48: ? | D48: mercredi | E48: =VLOOKUP(C48,' horaire et frais avant nao '!$A$4:I83,2,FALSE) -> 0 | F48: 0 | G48: =MOD(F48-E48,1)-I48-H48+K48 -> 0 | H48: 0 | I48: 0 | J48: =(IF(((E48*24)>=21)*AND((F48*24)>6)*AND((F48*24)<21),30-(E48*24),0)+IF(((F48*24)>=21)*AND((E48*24)>6)*AND((E48*24)<21),MIN((F48*24)-(E48*24),(F48*24)-21),0)+IF(((E48*24)>6)*AND((E48*24)<21)*AND((F48*24)<=6),3+(F48*24),0)+IF(((E48*24)<=6)*AND((F48*24)>6)*AND((F48*24)<21),6-(E48*24),0)+IF(((E48*24)<=6)*AND((F48*24)<=6),(F48*24)-(E48*24),0)+IF(((E48*24)>=21)*AND((F48*24)<=6),24-(E48*24)+(F48*24),0)+IF(((E48*24)>=21)*AND((F48*24)>=21),(F48*24)-(E48*24),0)+IF(((E48*24)<=6)*AND((F48*24)>=21),6-(E48*24)+(F48*24)-21,0)+IF(((E48*24)>6)*AND((E48*24)<21)*AND((F48*24)>6)*AND((F48*24)<21)*AND((E48*24)>(F48*24)),9,0))/24-I48 -> 0 | K48: 0
C49: ? | D49: jeudi | E49: =VLOOKUP(C49,' horaire et frais avant nao '!$A$4:I84,2,FALSE) -> 0 | F49: 0 | G49: =MOD(F49-E49,1)-I49-H49+K49 -> 0 | H49: 0 | I49: 0 | J49: =(IF(((E49*24)>=21)*AND((F49*24)>6)*AND((F49*24)<21),30-(E49*24),0)+IF(((F49*24)>=21)*AND((E49*24)>6)*AND((E49*24)<21),MIN((F49*24)-(E49*24),(F49*24)-21),0)+IF(((E49*24)>6)*AND((E49*24)<21)*AND((F49*24)<=6),3+(F49*24),0)+IF(((E49*24)<=6)*AND((F49*24)>6)*AND((F49*24)<21),6-(E49*24),0)+IF(((E49*24)<=6)*AND((F49*24)<=6),(F49*24)-(E49*24),0)+IF(((E49*24)>=21)*AND((F49*24)<=6),24-(E49*24)+(F49*24),0)+IF(((E49*24)>=21)*AND((F49*24)>=21),(F49*24)-(E49*24),0)+IF(((E49*24)<=6)*AND((F49*24)>=21),6-(E49*24)+(F49*24)-21,0)+IF(((E49*24)>6)*AND((E49*24)<21)*AND((F49*24)>6)*AND((F49*24)<21)*AND((E49*24)>(F49*24)),9,0))/24-I49 -> 0 | K49: 0
C50: ? | D50: vendredi | E50: =VLOOKUP(C50,' horaire et frais avant nao '!$A$4:I85,2,FALSE) -> 0 | F50: 0 | G50: =MOD(F50-E50,1)-I50-H50+K50 -> 0 | H50: 0 | I50: 0 | J50: =(IF(((E50*24)>=21)*AND((F50*24)>6)*AND((F50*24)<21),30-(E50*24),0)+IF(((F50*24)>=21)*AND((E50*24)>6)*AND((E50*24)<21),MIN((F50*24)-(E50*24),(F50*24)-21),0)+IF(((E50*24)>6)*AND((E50*24)<21)*AND((F50*24)<=6),3+(F50*24),0)+IF(((E50*24)<=6)*AND((F50*24)>6)*AND((F50*24)<21),6-(E50*24),0)+IF(((E50*24)<=6)*AND((F50*24)<=6),(F50*24)-(E50*24),0)+IF(((E50*24)>=21)*AND((F50*24)<=6),24-(E50*24)+(F50*24),0)+IF(((E50*24)>=21)*AND((F50*24)>=21),(F50*24)-(E50*24),0)+IF(((E50*24)<=6)*AND((F50*24)>=21),6-(E50*24)+(F50*24)-21,0)+IF(((E50*24)>6)*AND((E50*24)<21)*AND((F50*24)>6)*AND((F50*24)<21)*AND((E50*24)>(F50*24)),9,0))/24-I50 -> 0 | K50: 0
C51: week | D51: samedi | E51: =VLOOKUP(C51,' horaire et frais avant nao '!$A$4:I86,2,FALSE) -> 0 | F51: 0 | G51: =MOD(F51-E51,1)-I51-H51+K51 -> 0 | H51: 0 | I51: 0 | J51: =(IF(((E51*24)>=21)*AND((F51*24)>6)*AND((F51*24)<21),30-(E51*24),0)+IF(((F51*24)>=21)*AND((E51*24)>6)*AND((E51*24)<21),MIN((F51*24)-(E51*24),(F51*24)-21),0)+IF(((E51*24)>6)*AND((E51*24)<21)*AND((F51*24)<=6),3+(F51*24),0)+IF(((E51*24)<=6)*AND((F51*24)>6)*AND((F51*24)<21),6-(E51*24),0)+IF(((E51*24)<=6)*AND((F51*24)<=6),(F51*24)-(E51*24),0)+IF(((E51*24)>=21)*AND((F51*24)<=6),24-(E51*24)+(F51*24),0)+IF(((E51*24)>=21)*AND((F51*24)>=21),(F51*24)-(E51*24),0)+IF(((E51*24)<=6)*AND((F51*24)>=21),6-(E51*24)+(F51*24)-21,0)+IF(((E51*24)>6)*AND((E51*24)<21)*AND((F51*24)>6)*AND((F51*24)<21)*AND((E51*24)>(F51*24)),9,0))/24-I51 -> 0 | K51: 0
C52: week | D52: dimanche | E52: =VLOOKUP(C52,' horaire et frais avant nao '!$A$4:I87,2,FALSE) -> 0 | F52: 0 | G52: =MOD(F52-E52,1)-I52-H52+K52 -> 0 | H52: 0 | I52: 0 | J52: =(IF(((E52*24)>=21)*AND((F52*24)>6)*AND((F52*24)<21),30-(E52*24),0)+IF(((F52*24)>=21)*AND((E52*24)>6)*AND((E52*24)<21),MIN((F52*24)-(E52*24),(F52*24)-21),0)+IF(((E52*24)>6)*AND((E52*24)<21)*AND((F52*24)<=6),3+(F52*24),0)+IF(((E52*24)<=6)*AND((F52*24)>6)*AND((F52*24)<21),6-(E52*24),0)+IF(((E52*24)<=6)*AND((F52*24)<=6),(F52*24)-(E52*24),0)+IF(((E52*24)>=21)*AND((F52*24)<=6),24-(E52*24)+(F52*24),0)+IF(((E52*24)>=21)*AND((F52*24)>=21),(F52*24)-(E52*24),0)+IF(((E52*24)<=6)*AND((F52*24)>=21),6-(E52*24)+(F52*24)-21,0)+IF(((E52*24)>6)*AND((E52*24)<21)*AND((F52*24)>6)*AND((F52*24)<21)*AND((E52*24)>(F52*24)),9,0))/24-I52 -> 0 | K52: 0
G53: =SUM(G46:G52) -> 0 | J53: =SUM(J46:J52) -> 0
D54: BASE HEURE PAR JOUR | I54: 0.33333333
D55: HEURES SEMAINE A EFFECTUER | I55: 1.6666667
D56: HEURES SEMAINE EFFECTUER | I56: =SUM(G53) -> 0 | K56: salaire net fin de mois
D57: INFRACTION DES 10 HEURES | I57: 0.41666667
D58: HEURES SUPLEMENTAIRE SEMAINE | I58: =SUM(I56-I55) -> -1.6666667 | K58: =SUM(G153) -> 0
D59: MOYENNE HEURES DE NUIT/SEMAINE | I59: 0.83333333 | K59: 1803
D60: CUMUL DES HEURES PAR PERIODE | H60: 1.6666667 | I60: =SUM(I56) -> 0
H61: =SUM(I60-H60) -> -1.6666667
B65: SEMAINE 2 DU 05/02/2019 AU 11/02/2019
A67: conso l /100 | B67: n°de parc | C67: Tournée | D67: Jour | E67: Début de poste | F67: Fin de poste | G67: TEMPS DE SERVICE | H67: Pause de jour | I67: Pause de nuit | J67: Heures de nuit | K67: Heures réunion formation
C68: ? | D68: lundi | E68: =VLOOKUP(C68,' horaire et frais avant nao '!$A$4:I81,2,FALSE) -> 0 | F68: 0 | G68: =MOD(F68-E68,1)-I68-H68+K68 -> 0 | H68: 0 | I68: 0 | J68: =(IF(((E68*24)>=21)*AND((F68*24)>6)*AND((F68*24)<21),30-(E68*24),0)+IF(((F68*24)>=21)*AND((E68*24)>6)*AND((E68*24)<21),MIN((F68*24)-(E68*24),(F68*24)-21),0)+IF(((E68*24)>6)*AND((E68*24)<21)*AND((F68*24)<=6),3+(F68*24),0)+IF(((E68*24)<=6)*AND((F68*24)>6)*AND((F68*24)<21),6-(E68*24),0)+IF(((E68*24)<=6)*AND((F68*24)<=6),(F68*24)-(E68*24),0)+IF(((E68*24)>=21)*AND((F68*24)<=6),24-(E68*24)+(F68*24),0)+IF(((E68*24)>=21)*AND((F68*24)>=21),(F68*24)-(E68*24),0)+IF(((E68*24)<=6)*AND((F68*24)>=21),6-(E68*24)+(F68*24)-21,0)+IF(((E68*24)>6)*AND((E68*24)<21)*AND((F68*24)>6)*AND((F68*24)<21)*AND((E68*24)>(F68*24)),9,0))/24-I68 -> 0 | K68: 0
C69: ? | D69: mardi | E69: =VLOOKUP(C69,' horaire et frais avant nao '!$A$4:I82,2,FALSE) -> 0 | F69: 0 | G69: =MOD(F69-E69,1)-I69-H69+K69 -> 0 | H69: 0 | I69: 0 | J69: =(IF(((E69*24)>=21)*AND((F69*24)>6)*AND((F69*24)<21),30-(E69*24),0)+IF(((F69*24)>=21)*AND((E69*24)>6)*AND((E69*24)<21),MIN((F69*24)-(E69*24),(F69*24)-21),0)+IF(((E69*24)>6)*AND((E69*24)<21)*AND((F69*24)<=6),3+(F69*24),0)+IF(((E69*24)<=6)*AND((F69*24)>6)*AND((F69*24)<21),6-(E69*24),0)+IF(((E69*24)<=6)*AND((F69*24)<=6),(F69*24)-(E69*24),0)+IF(((E69*24)>=21)*AND((F69*24)<=6),24-(E69*24)+(F69*24),0)+IF(((E69*24)>=21)*AND((F69*24)>=21),(F69*24)-(E69*24),0)+IF(((E69*24)<=6)*AND((F69*24)>=21),6-(E69*24)+(F69*24)-21,0)+IF(((E69*24)>6)*AND((E69*24)<21)*AND((F69*24)>6)*AND((F69*24)<21)*AND((E69*24)>(F69*24)),9,0))/24-I69 -> 0 | K69: 0
C70: ? | D70: mercredi | E70: =VLOOKUP(C70,' horaire et frais avant nao '!$A$4:I83,2,FALSE) -> 0 | F70: 0 | G70: =MOD(F70-E70,1)-I70-H70+K70 -> 0 | H70: 0 | I70: 0 | J70: =(IF(((E70*24)>=21)*AND((F70*24)>6)*AND((F70*24)<21),30-(E70*24),0)+IF(((F70*24)>=21)*AND((E70*24)>6)*AND((E70*24)<21),MIN((F70*24)-(E70*24),(F70*24)-21),0)+IF(((E70*24)>6)*AND((E70*24)<21)*AND((F70*24)<=6),3+(F70*24),0)+IF(((E70*24)<=6)*AND((F70*24)>6)*AND((F70*24)<21),6-(E70*24),0)+IF(((E70*24)<=6)*AND((F70*24)<=6),(F70*24)-(E70*24),0)+IF(((E70*24)>=21)*AND((F70*24)<=6),24-(E70*24)+(F70*24),0)+IF(((E70*24)>=21)*AND((F70*24)>=21),(F70*24)-(E70*24),0)+IF(((E70*24)<=6)*AND((F70*24)>=21),6-(E70*24)+(F70*24)-21,0)+IF(((E70*24)>6)*AND((E70*24)<21)*AND((F70*24)>6)*AND((F70*24)<21)*AND((E70*24)>(F70*24)),9,0))/24-I70 -> 0 | K70: 0
C71: ? | D71: jeudi | E71: =VLOOKUP(C71,' horaire et frais avant nao '!$A$4:I84,2,FALSE) -> 0 | F71: 0 | G71: =MOD(F71-E71,1)-I71-H71+K71 -> 0 | H71: 0 | I71: 0 | J71: =(IF(((E71*24)>=21)*AND((F71*24)>6)*AND((F71*24)<21),30-(E71*24),0)+IF(((F71*24)>=21)*AND((E71*24)>6)*AND((E71*24)<21),MIN((F71*24)-(E71*24),(F71*24)-21),0)+IF(((E71*24)>6)*AND((E71*24)<21)*AND((F71*24)<=6),3+(F71*24),0)+IF(((E71*24)<=6)*AND((F71*24)>6)*AND((F71*24)<21),6-(E71*24),0)+IF(((E71*24)<=6)*AND((F71*24)<=6),(F71*24)-(E71*24),0)+IF(((E71*24)>=21)*AND((F71*24)<=6),24-(E71*24)+(F71*24),0)+IF(((E71*24)>=21)*AND((F71*24)>=21),(F71*24)-(E71*24),0)+IF(((E71*24)<=6)*AND((F71*24)>=21),6-(E71*24)+(F71*24)-21,0)+IF(((E71*24)>6)*AND((E71*24)<21)*AND((F71*24)>6)*AND((F71*24)<21)*AND((E71*24)>(F71*24)),9,0))/24-I71 -> 0 | K71: 0
C72: ? | D72: vendredi | E72: =VLOOKUP(C72,' horaire et frais avant nao '!$A$4:I85,2,FALSE) -> 0 | F72: 0 | G72: =MOD(F72-E72,1)-I72-H72+K72 -> 0 | H72: 0 | I72: 0 | J72: =(IF(((E72*24)>=21)*AND((F72*24)>6)*AND((F72*24)<21),30-(E72*24),0)+IF(((F72*24)>=21)*AND((E72*24)>6)*AND((E72*24)<21),MIN((F72*24)-(E72*24),(F72*24)-21),0)+IF(((E72*24)>6)*AND((E72*24)<21)*AND((F72*24)<=6),3+(F72*24),0)+IF(((E72*24)<=6)*AND((F72*24)>6)*AND((F72*24)<21),6-(E72*24),0)+IF(((E72*24)<=6)*AND((F72*24)<=6),(F72*24)-(E72*24),0)+IF(((E72*24)>=21)*AND((F72*24)<=6),24-(E72*24)+(F72*24),0)+IF(((E72*24)>=21)*AND((F72*24)>=21),(F72*24)-(E72*24),0)+IF(((E72*24)<=6)*AND((F72*24)>=21),6-(E72*24)+(F72*24)-21,0)+IF(((E72*24)>6)*AND((E72*24)<21)*AND((F72*24)>6)*AND((F72*24)<21)*AND((E72*24)>(F72*24)),9,0))/24-I72 -> 0 | K72: 0
C73: week | D73: samedi | E73: =VLOOKUP(C73,' horaire et frais avant nao '!$A$4:I86,2,FALSE) -> 0 | F73: 0 | G73: =MOD(F73-E73,1)-I73-H73+K73 -> 0 | H73: 0 | I73: 0 | J73: =(IF(((E73*24)>=21)*AND((F73*24)>6)*AND((F73*24)<21),30-(E73*24),0)+IF(((F73*24)>=21)*AND((E73*24)>6)*AND((E73*24)<21),MIN((F73*24)-(E73*24),(F73*24)-21),0)+IF(((E73*24)>6)*AND((E73*24)<21)*AND((F73*24)<=6),3+(F73*24),0)+IF(((E73*24)<=6)*AND((F73*24)>6)*AND((F73*24)<21),6-(E73*24),0)+IF(((E73*24)<=6)*AND((F73*24)<=6),(F73*24)-(E73*24),0)+IF(((E73*24)>=21)*AND((F73*24)<=6),24-(E73*24)+(F73*24),0)+IF(((E73*24)>=21)*AND((F73*24)>=21),(F73*24)-(E73*24),0)+IF(((E73*24)<=6)*AND((F73*24)>=21),6-(E73*24)+(F73*24)-21,0)+IF(((E73*24)>6)*AND((E73*24)<21)*AND((F73*24)>6)*AND((F73*24)<21)*AND((E73*24)>(F73*24)),9,0))/24-I73 -> 0 | K73: 0
C74: week | D74: dimanche | E74: =VLOOKUP(C74,' horaire et frais avant nao '!$A$4:I87,2,FALSE) -> 0 | F74: 0 | G74: =MOD(F74-E74,1)-I74-H74+K74 -> 0 | H74: 0 | I74: 0 | J74: =(IF(((E74*24)>=21)*AND((F74*24)>6)*AND((F74*24)<21),30-(E74*24),0)+IF(((F74*24)>=21)*AND((E74*24)>6)*AND((E74*24)<21),MIN((F74*24)-(E74*24),(F74*24)-21),0)+IF(((E74*24)>6)*AND((E74*24)<21)*AND((F74*24)<=6),3+(F74*24),0)+IF(((E74*24)<=6)*AND((F74*24)>6)*AND((F74*24)<21),6-(E74*24),0)+IF(((E74*24)<=6)*AND((F74*24)<=6),(F74*24)-(E74*24),0)+IF(((E74*24)>=21)*AND((F74*24)<=6),24-(E74*24)+(F74*24),0)+IF(((E74*24)>=21)*AND((F74*24)>=21),(F74*24)-(E74*24),0)+IF(((E74*24)<=6)*AND((F74*24)>=21),6-(E74*24)+(F74*24)-21,0)+IF(((E74*24)>6)*AND((E74*24)<21)*AND((F74*24)>6)*AND((F74*24)<21)*AND((E74*24)>(F74*24)),9,0))/24-I74 -> 0 | K74: 0
G75: =SUM(G68:G74) -> 0 | J75: =SUM(J68:J74) -> 0
D76: BASE HEURE PAR JOUR | I76: 0.33333333
D77: HEURES SEMAINE A EFFECTUER | I77: 1.6666667
D78: HEURES SEMAINE EFFECTUER | I78: =SUM(G75) -> 0 | K78: salaire net fin de mois
D79: INFRACTION DES 10 HEURES | I79: 0.41666667
D80: HEURES SUPLEMENTAIRE SEMAINE | I80: =SUM(I78-I77) -> -1.6666667 | K80: =SUM(G153) -> 0
D81: MOYENNE HEURES DE NUIT/SEMAINE | I81: 0.83333333 | K81: 1969
D82: CUMUL DES HEURES PAR PERIODE | H82: 3.3333333 | I82: =SUM(I60+I78) -> 0
H83: =SUM(I82-H82) -> -3.3333333
B88: SEMAINE 3 DU 12/02/2017 AU 18/02/2019
A90: conso l /100 | B90: n°de parc | C90: Tournée | D90: Jour | E90: Début de poste | F90: Fin de poste | G90: TEMPS DE SERVICE | H90: Pause de jour | I90: Pause de nuit | J90: Heures de nuit | K90: Heures réunion formation
C91: ? | D91: lundi | E91: =VLOOKUP(C91,' horaire et frais avant nao '!$A$4:I81,2,FALSE) -> 0 | F91: 0 | G91: =MOD(F91-E91,1)-I91-H91+K91 -> 0 | H91: 0 | I91: 0 | J91: =(IF(((E91*24)>=21)*AND((F91*24)>6)*AND((F91*24)<21),30-(E91*24),0)+IF(((F91*24)>=21)*AND((E91*24)>6)*AND((E91*24)<21),MIN((F91*24)-(E91*24),(F91*24)-21),0)+IF(((E91*24)>6)*AND((E91*24)<21)*AND((F91*24)<=6),3+(F91*24),0)+IF(((E91*24)<=6)*AND((F91*24)>6)*AND((F91*24)<21),6-(E91*24),0)+IF(((E91*24)<=6)*AND((F91*24)<=6),(F91*24)-(E91*24),0)+IF(((E91*24)>=21)*AND((F91*24)<=6),24-(E91*24)+(F91*24),0)+IF(((E91*24)>=21)*AND((F91*24)>=21),(F91*24)-(E91*24),0)+IF(((E91*24)<=6)*AND((F91*24)>=21),6-(E91*24)+(F91*24)-21,0)+IF(((E91*24)>6)*AND((E91*24)<21)*AND((F91*24)>6)*AND((F91*24)<21)*AND((E91*24)>(F91*24)),9,0))/24-I91 -> 0 | K91: 0
C92: ? | D92: mardi | E92: =VLOOKUP(C92,' horaire et frais avant nao '!$A$4:I82,2,FALSE) -> 0 | F92: 0 | G92: =MOD(F92-E92,1)-I92-H92+K92 -> 0 | H92: 0 | I92: 0 | J92: =(IF(((E92*24)>=21)*AND((F92*24)>6)*AND((F92*24)<21),30-(E92*24),0)+IF(((F92*24)>=21)*AND((E92*24)>6)*AND((E92*24)<21),MIN((F92*24)-(E92*24),(F92*24)-21),0)+IF(((E92*24)>6)*AND((E92*24)<21)*AND((F92*24)<=6),3+(F92*24),0)+IF(((E92*24)<=6)*AND((F92*24)>6)*AND((F92*24)<21),6-(E92*24),0)+IF(((E92*24)<=6)*AND((F92*24)<=6),(F92*24)-(E92*24),0)+IF(((E92*24)>=21)*AND((F92*24)<=6),24-(E92*24)+(F92*24),0)+IF(((E92*24)>=21)*AND((F92*24)>=21),(F92*24)-(E92*24),0)+IF(((E92*24)<=6)*AND((F92*24)>=21),6-(E92*24)+(F92*24)-21,0)+IF(((E92*24)>6)*AND((E92*24)<21)*AND((F92*24)>6)*AND((F92*24)<21)*AND((E92*24)>(F92*24)),9,0))/24-I92 -> 0 | K92: 0
C93: ? | D93: mercredi | E93: =VLOOKUP(C93,' horaire et frais avant nao '!$A$4:I83,2,FALSE) -> 0 | F93: 0 | G93: =MOD(F93-E93,1)-I93-H93+K93 -> 0 | H93: 0 | I93: 0 | J93: =(IF(((E93*24)>=21)*AND((F93*24)>6)*AND((F93*24)<21),30-(E93*24),0)+IF(((F93*24)>=21)*AND((E93*24)>6)*AND((E93*24)<21),MIN((F93*24)-(E93*24),(F93*24)-21),0)+IF(((E93*24)>6)*AND((E93*24)<21)*AND((F93*24)<=6),3+(F93*24),0)+IF(((E93*24)<=6)*AND((F93*24)>6)*AND((F93*24)<21),6-(E93*24),0)+IF(((E93*24)<=6)*AND((F93*24)<=6),(F93*24)-(E93*24),0)+IF(((E93*24)>=21)*AND((F93*24)<=6),24-(E93*24)+(F93*24),0)+IF(((E93*24)>=21)*AND((F93*24)>=21),(F93*24)-(E93*24),0)+IF(((E93*24)<=6)*AND((F93*24)>=21),6-(E93*24)+(F93*24)-21,0)+IF(((E93*24)>6)*AND((E93*24)<21)*AND((F93*24)>6)*AND((F93*24)<21)*AND((E93*24)>(F93*24)),9,0))/24-I93 -> 0 | K93: 0
C94: ? | D94: jeudi | E94: =VLOOKUP(C94,' horaire et frais avant nao '!$A$4:I84,2,FALSE) -> 0 | F94: 0 | G94: =MOD(F94-E94,1)-I94-H94+K94 -> 0 | H94: 0 | I94: 0 | J94: =(IF(((E94*24)>=21)*AND((F94*24)>6)*AND((F94*24)<21),30-(E94*24),0)+IF(((F94*24)>=21)*AND((E94*24)>6)*AND((E94*24)<21),MIN((F94*24)-(E94*24),(F94*24)-21),0)+IF(((E94*24)>6)*AND((E94*24)<21)*AND((F94*24)<=6),3+(F94*24),0)+IF(((E94*24)<=6)*AND((F94*24)>6)*AND((F94*24)<21),6-(E94*24),0)+IF(((E94*24)<=6)*AND((F94*24)<=6),(F94*24)-(E94*24),0)+IF(((E94*24)>=21)*AND((F94*24)<=6),24-(E94*24)+(F94*24),0)+IF(((E94*24)>=21)*AND((F94*24)>=21),(F94*24)-(E94*24),0)+IF(((E94*24)<=6)*AND((F94*24)>=21),6-(E94*24)+(F94*24)-21,0)+IF(((E94*24)>6)*AND((E94*24)<21)*AND((F94*24)>6)*AND((F94*24)<21)*AND((E94*24)>(F94*24)),9,0))/24-I94 -> 0 | K94: 0
C95: ? | D95: vendredi | E95: =VLOOKUP(C95,' horaire et frais avant nao '!$A$4:I85,2,FALSE) -> 0 | F95: 0 | G95: =MOD(F95-E95,1)-I95-H95+K95 -> 0 | H95: 0 | I95: 0 | J95: =(IF(((E95*24)>=21)*AND((F95*24)>6)*AND((F95*24)<21),30-(E95*24),0)+IF(((F95*24)>=21)*AND((E95*24)>6)*AND((E95*24)<21),MIN((F95*24)-(E95*24),(F95*24)-21),0)+IF(((E95*24)>6)*AND((E95*24)<21)*AND((F95*24)<=6),3+(F95*24),0)+IF(((E95*24)<=6)*AND((F95*24)>6)*AND((F95*24)<21),6-(E95*24),0)+IF(((E95*24)<=6)*AND((F95*24)<=6),(F95*24)-(E95*24),0)+IF(((E95*24)>=21)*AND((F95*24)<=6),24-(E95*24)+(F95*24),0)+IF(((E95*24)>=21)*AND((F95*24)>=21),(F95*24)-(E95*24),0)+IF(((E95*24)<=6)*AND((F95*24)>=21),6-(E95*24)+(F95*24)-21,0)+IF(((E95*24)>6)*AND((E95*24)<21)*AND((F95*24)>6)*AND((F95*24)<21)*AND((E95*24)>(F95*24)),9,0))/24-I95 -> 0 | K95: 0
C96: week | D96: samedi | E96: =VLOOKUP(C96,' horaire et frais avant nao '!$A$4:I86,2,FALSE) -> 0 | F96: 0 | G96: =MOD(F96-E96,1)-I96-H96+K96 -> 0 | H96: 0 | I96: 0 | J96: =(IF(((E96*24)>=21)*AND((F96*24)>6)*AND((F96*24)<21),30-(E96*24),0)+IF(((F96*24)>=21)*AND((E96*24)>6)*AND((E96*24)<21),MIN((F96*24)-(E96*24),(F96*24)-21),0)+IF(((E96*24)>6)*AND((E96*24)<21)*AND((F96*24)<=6),3+(F96*24),0)+IF(((E96*24)<=6)*AND((F96*24)>6)*AND((F96*24)<21),6-(E96*24),0)+IF(((E96*24)<=6)*AND((F96*24)<=6),(F96*24)-(E96*24),0)+IF(((E96*24)>=21)*AND((F96*24)<=6),24-(E96*24)+(F96*24),0)+IF(((E96*24)>=21)*AND((F96*24)>=21),(F96*24)-(E96*24),0)+IF(((E96*24)<=6)*AND((F96*24)>=21),6-(E96*24)+(F96*24)-21,0)+IF(((E96*24)>6)*AND((E96*24)<21)*AND((F96*24)>6)*AND((F96*24)<21)*AND((E96*24)>(F96*24)),9,0))/24-I96 -> 0 | K96: 0
C97: week | D97: dimanche | E97: =VLOOKUP(C97,' horaire et frais avant nao '!$A$4:I87,2,FALSE) -> 0 | F97: 0 | G97: =MOD(F97-E97,1)-I97-H97+K97 -> 0 | H97: 0 | I97: 0 | J97: =(IF(((E97*24)>=21)*AND((F97*24)>6)*AND((F97*24)<21),30-(E97*24),0)+IF(((F97*24)>=21)*AND((E97*24)>6)*AND((E97*24)<21),MIN((F97*24)-(E97*24),(F97*24)-21),0)+IF(((E97*24)>6)*AND((E97*24)<21)*AND((F97*24)<=6),3+(F97*24),0)+IF(((E97*24)<=6)*AND((F97*24)>6)*AND((F97*24)<21),6-(E97*24),0)+IF(((E97*24)<=6)*AND((F97*24)<=6),(F97*24)-(E97*24),0)+IF(((E97*24)>=21)*AND((F97*24)<=6),24-(E97*24)+(F97*24),0)+IF(((E97*24)>=21)*AND((F97*24)>=21),(F97*24)-(E97*24),0)+IF(((E97*24)<=6)*AND((F97*24)>=21),6-(E97*24)+(F97*24)-21,0)+IF(((E97*24)>6)*AND((E97*24)<21)*AND((F97*24)>6)*AND((F97*24)<21)*AND((E97*24)>(F97*24)),9,0))/24-I97 -> 0 | K97: 0
G98: =SUM(G91:G97) -> 0 | J98: =SUM(J91:J97) -> 0
D99: BASE HEURE PAR JOUR | I99: 0.33333333
D100: HEURES SEMAINE A EFFECTUER | I100: 1.6666667
D101: HEURES SEMAINE EFFECTUER | I101: =SUM(G98) -> 0 | K101: salaire net fin de mois
D102: INFRACTION DES 10 HEURES | I102: 0.41666667
D103: HEURES SUPLEMENTAIRE SEMAINE | I103: =SUM(I101-I100) -> -1.6666667 | K103: =SUM(G153) -> 0
D104: MOYENNE HEURES DE NUIT/SEMAINE | I104: 0.83333333 | K104: 2135
D105: CUMUL DES HEURES PAR PERIODE | H105: 5 | I105: =SUM(G53+G75+G98) -> 0
H106: =SUM(I105-H105) -> -5
B110: SEMAINE 4 DU 19/02/2019 AU 25/02/2019
A112: conso l /100 | B112: n°de parc | C112: Tournée | D112: Jour | E112: Début de poste | F112: Fin de poste | G112: TEMPS DE SERVICE | H112: Pause de jour | I112: Pause de nuit | J112: Heures de nuit | K112: Heures réunion formation
C113: ? | D113: lundi | E113: =VLOOKUP(C113,' horaire et frais avant nao '!$A$4:I81,2,FALSE) -> 0 | F113: 0 | G113: =MOD(F113-E113,1)-I113-H113+K113 -> 0 | H113: 0 | I113: 0 | J113: =(IF(((E113*24)>=21)*AND((F113*24)>6)*AND((F113*24)<21),30-(E113*24),0)+IF(((F113*24)>=21)*AND((E113*24)>6)*AND((E113*24)<21),MIN((F113*24)-(E113*24),(F113*24)-21),0)+IF(((E113*24)>6)*AND((E113*24)<21)*AND((F113*24)<=6),3+(F113*24),0)+IF(((E68*24)<=6)*AND((F113*24)>6)*AND((F113*24)<21),6-(E113*24),0)+IF(((E113*24)<=6)*AND((F113*24)<=6),(F113*24)-(E113*24),0)+IF(((E113*24)>=21)*AND((F113*24)<=6),24-(E113*24)+(F113*24),0)+IF(((E113*24)>=21)*AND((F113*24)>=21),(F113*24)-(E113*24),0)+IF(((E113*24)<=6)*AND((F113*24)>=21),6-(E113*24)+(F113*24)-21,0)+IF(((E113*24)>6)*AND((E113*24)<21)*AND((F113*24)>6)*AND((F113*24)<21)*AND((E113*24)>(F113*24)),9,0))/24-I113 -> 0 | K113: 0
C114: ? | D114: mardi | E114: =VLOOKUP(C114,' horaire et frais avant nao '!$A$4:I82,2,FALSE) -> 0 | F114: 0 | G114: =MOD(F114-E114,1)-I114-H114+K114 -> 0 | H114: 0 | I114: 0 | J114: =(IF(((E114*24)>=21)*AND((F114*24)>6)*AND((F114*24)<21),30-(E114*24),0)+IF(((F114*24)>=21)*AND((E114*24)>6)*AND((E114*24)<21),MIN((F114*24)-(E114*24),(F114*24)-21),0)+IF(((E114*24)>6)*AND((E114*24)<21)*AND((F114*24)<=6),3+(F114*24),0)+IF(((E69*24)<=6)*AND((F114*24)>6)*AND((F114*24)<21),6-(E114*24),0)+IF(((E114*24)<=6)*AND((F114*24)<=6),(F114*24)-(E114*24),0)+IF(((E114*24)>=21)*AND((F114*24)<=6),24-(E114*24)+(F114*24),0)+IF(((E114*24)>=21)*AND((F114*24)>=21),(F114*24)-(E114*24),0)+IF(((E114*24)<=6)*AND((F114*24)>=21),6-(E114*24)+(F114*24)-21,0)+IF(((E114*24)>6)*AND((E114*24)<21)*AND((F114*24)>6)*AND((F114*24)<21)*AND((E114*24)>(F114*24)),9,0))/24-I114 -> 0 | K114: 0
C115: ? | D115: mercredi | E115: =VLOOKUP(C115,' horaire et frais avant nao '!$A$4:I83,2,FALSE) -> 0 | F115: 0 | G115: =MOD(F115-E115,1)-I115-H115+K115 -> 0 | H115: 0 | I115: 0 | J115: =(IF(((E115*24)>=21)*AND((F115*24)>6)*AND((F115*24)<21),30-(E115*24),0)+IF(((F115*24)>=21)*AND((E115*24)>6)*AND((E115*24)<21),MIN((F115*24)-(E115*24),(F115*24)-21),0)+IF(((E115*24)>6)*AND((E115*24)<21)*AND((F115*24)<=6),3+(F115*24),0)+IF(((E70*24)<=6)*AND((F115*24)>6)*AND((F115*24)<21),6-(E115*24),0)+IF(((E115*24)<=6)*AND((F115*24)<=6),(F115*24)-(E115*24),0)+IF(((E115*24)>=21)*AND((F115*24)<=6),24-(E115*24)+(F115*24),0)+IF(((E115*24)>=21)*AND((F115*24)>=21),(F115*24)-(E115*24),0)+IF(((E115*24)<=6)*AND((F115*24)>=21),6-(E115*24)+(F115*24)-21,0)+IF(((E115*24)>6)*AND((E115*24)<21)*AND((F115*24)>6)*AND((F115*24)<21)*AND((E115*24)>(F115*24)),9,0))/24-I115 -> 0 | K115: 0
C116: ? | D116: jeudi | E116: =VLOOKUP(C116,' horaire et frais avant nao '!$A$4:I84,2,FALSE) -> 0 | F116: 0 | G116: =MOD(F116-E116,1)-I116-H116+K116 -> 0 | H116: 0 | I116: 0 | J116: =(IF(((E116*24)>=21)*AND((F116*24)>6)*AND((F116*24)<21),30-(E116*24),0)+IF(((F116*24)>=21)*AND((E116*24)>6)*AND((E116*24)<21),MIN((F116*24)-(E116*24),(F116*24)-21),0)+IF(((E116*24)>6)*AND((E116*24)<21)*AND((F116*24)<=6),3+(F116*24),0)+IF(((E71*24)<=6)*AND((F116*24)>6)*AND((F116*24)<21),6-(E116*24),0)+IF(((E116*24)<=6)*AND((F116*24)<=6),(F116*24)-(E116*24),0)+IF(((E116*24)>=21)*AND((F116*24)<=6),24-(E116*24)+(F116*24),0)+IF(((E116*24)>=21)*AND((F116*24)>=21),(F116*24)-(E116*24),0)+IF(((E116*24)<=6)*AND((F116*24)>=21),6-(E116*24)+(F116*24)-21,0)+IF(((E116*24)>6)*AND((E116*24)<21)*AND((F116*24)>6)*AND((F116*24)<21)*AND((E116*24)>(F116*24)),9,0))/24-I116 -> 0 | K116: 0
C117: ? | D117: vendredi | E117: =VLOOKUP(C117,' horaire et frais avant nao '!$A$4:I85,2,FALSE) -> 0 | F117: 0 | G117: =MOD(F117-E117,1)-I117-H117+K117 -> 0 | H117: 0 | I117: 0 | J117: =(IF(((E117*24)>=21)*AND((F117*24)>6)*AND((F117*24)<21),30-(E117*24),0)+IF(((F117*24)>=21)*AND((E117*24)>6)*AND((E117*24)<21),MIN((F117*24)-(E117*24),(F117*24)-21),0)+IF(((E117*24)>6)*AND((E117*24)<21)*AND((F117*24)<=6),3+(F117*24),0)+IF(((E72*24)<=6)*AND((F117*24)>6)*AND((F117*24)<21),6-(E117*24),0)+IF(((E117*24)<=6)*AND((F117*24)<=6),(F117*24)-(E117*24),0)+IF(((E117*24)>=21)*AND((F117*24)<=6),24-(E117*24)+(F117*24),0)+IF(((E117*24)>=21)*AND((F117*24)>=21),(F117*24)-(E117*24),0)+IF(((E117*24)<=6)*AND((F117*24)>=21),6-(E117*24)+(F117*24)-21,0)+IF(((E117*24)>6)*AND((E117*24)<21)*AND((F117*24)>6)*AND((F117*24)<21)*AND((E117*24)>(F117*24)),9,0))/24-I117 -> 0 | K117: 0
C118: week | D118: samedi | E118: =VLOOKUP(C118,' horaire et frais avant nao '!$A$4:I86,2,FALSE) -> 0 | F118: 0 | G118: =MOD(F118-E118,1)-I118-H118+K118 -> 0 | H118: 0 | I118: 0 | J118: =(IF(((E118*24)>=21)*AND((F118*24)>6)*AND((F118*24)<21),30-(E118*24),0)+IF(((F118*24)>=21)*AND((E118*24)>6)*AND((E118*24)<21),MIN((F118*24)-(E118*24),(F118*24)-21),0)+IF(((E118*24)>6)*AND((E118*24)<21)*AND((F118*24)<=6),3+(F118*24),0)+IF(((E73*24)<=6)*AND((F118*24)>6)*AND((F118*24)<21),6-(E118*24),0)+IF(((E118*24)<=6)*AND((F118*24)<=6),(F118*24)-(E118*24),0)+IF(((E118*24)>=21)*AND((F118*24)<=6),24-(E118*24)+(F118*24),0)+IF(((E118*24)>=21)*AND((F118*24)>=21),(F118*24)-(E118*24),0)+IF(((E118*24)<=6)*AND((F118*24)>=21),6-(E118*24)+(F118*24)-21,0)+IF(((E118*24)>6)*AND((E118*24)<21)*AND((F118*24)>6)*AND((F118*24)<21)*AND((E118*24)>(F118*24)),9,0))/24-I118 -> 0 | K118: 0
C119: week | D119: dimanche | E119: =VLOOKUP(C119,' horaire et frais avant nao '!$A$4:I87,2,FALSE) -> 0 | F119: 0 | G119: =MOD(F119-E119,1)-I119-H119+K119 -> 0 | H119: 0 | I119: 0 | J119: =(IF(((E119*24)>=21)*AND((F119*24)>6)*AND((F119*24)<21),30-(E119*24),0)+IF(((F119*24)>=21)*AND((E119*24)>6)*AND((E119*24)<21),MIN((F119*24)-(E119*24),(F119*24)-21),0)+IF(((E119*24)>6)*AND((E119*24)<21)*AND((F119*24)<=6),3+(F119*24),0)+IF(((E74*24)<=6)*AND((F119*24)>6)*AND((F119*24)<21),6-(E119*24),0)+IF(((E119*24)<=6)*AND((F119*24)<=6),(F119*24)-(E119*24),0)+IF(((E119*24)>=21)*AND((F119*24)<=6),24-(E119*24)+(F119*24),0)+IF(((E119*24)>=21)*AND((F119*24)>=21),(F119*24)-(E119*24),0)+IF(((E119*24)<=6)*AND((F119*24)>=21),6-(E119*24)+(F119*24)-21,0)+IF(((E119*24)>6)*AND((E119*24)<21)*AND((F119*24)>6)*AND((F119*24)<21)*AND((E119*24)>(F119*24)),9,0))/24-I119 -> 0 | K119: 0
G120: =SUM(G113:G119) -> 0 | J120: =SUM(J113:J119) -> 0
D121: BASE HEURE PAR JOUR | I121: 0.33333333
...

Sheet periode 3  fr03 versé 28  04 16
H1: PRIME DE DIMANCHE
A2: SEMAINE | B2: TOURNEE | C2: JOUR | D2: DATE | E2: repas soir non soumis | F2: Repas midi non soumis | G2: cassecroute soumis | H2: demi prime | I2: prime entiere | J2: tichet | K2: repas unique
A3: 9 | B3: ? | C3: vendredi | D3: 42063 | E3: =VLOOKUP(B3,' horaire et frais avant nao '!$A$4:$I$81,3,FALSE) -> 0 | F3: =VLOOKUP(B3,' horaire et frais avant nao '!$A$4:$I$81,4,FALSE) -> 0 | G3: =VLOOKUP(B3,' horaire et frais avant nao '!$A$4:$I$81,5,FALSE) -> 0 | H3: =VLOOKUP(B3,' horaire et frais avant nao '!$A$4:$I$81,6,FALSE) -> 0 | I3: =VLOOKUP(B3,' horaire et frais avant nao '!$A$4:$I$81,7,FALSE) -> 0 | J3: =VLOOKUP(B3,' horaire et frais avant nao '!$A$4:$I$81,8,FALSE) -> 0 | K3: =VLOOKUP(B3,' horaire et frais avant nao '!$A$4:$I$81,9,FALSE) -> 0
B4: WEEK | C4: samedi | D4: 42064 | E4: =VLOOKUP(B4,' horaire et frais avant nao '!$A$4:$I$81,3,FALSE) -> 0 | F4: =VLOOKUP(B4,' horaire et frais avant nao '!$A$4:$I$81,4,FALSE) -> 0 | G4: =VLOOKUP(B4,' horaire et frais avant nao '!$A$4:$I$81,5,FALSE) -> 0 | H4: =VLOOKUP(B4,' horaire et frais avant nao '!$A$4:$I$81,6,FALSE) -> 0 | I4: =VLOOKUP(B4,' horaire et frais avant nao '!$A$4:$I$81,7,FALSE) -> 0 | J4: =VLOOKUP(B4,' horaire et frais avant nao '!$A$4:$I$81,8,FALSE) -> 0 | K4: =VLOOKUP(B4,' horaire et frais avant nao '!$A$4:$I$81,9,FALSE) -> 0
B5: WEEK | C5: dimanche | D5: 42065 | E5: =VLOOKUP(B5,' horaire et frais avant nao '!$A$4:$I$81,3,FALSE) -> 0 | F5: =VLOOKUP(B5,' horaire et frais avant nao '!$A$4:$I$81,4,FALSE) -> 0 | G5: =VLOOKUP(B5,' horaire et frais avant nao '!$A$4:$I$81,5,FALSE) -> 0 | H5: =VLOOKUP(B5,' horaire et frais avant nao '!$A$4:$I$81,6,FALSE) -> 0 | I5: =VLOOKUP(B5,' horaire et frais avant nao '!$A$4:$I$81,7,FALSE) -> 0 | J5: =VLOOKUP(B5,' horaire et frais avant nao '!$A$4:$I$81,8,FALSE) -> 0 | K5: =VLOOKUP(B5,' horaire et frais avant nao '!$A$4:$I$81,9,FALSE) -> 0
A6: 10 | B6: ? | C6: lundi | D6: 42066 | E6: =VLOOKUP(B6,' horaire et frais avant nao '!$A$4:$I$81,3,FALSE) -> 0 | F6: =VLOOKUP(B6,' horaire et frais avant nao '!$A$4:$I$81,4,FALSE) -> 0 | G6: =VLOOKUP(B6,' horaire et frais avant nao '!$A$4:$I$81,5,FALSE) -> 0 | H6: =VLOOKUP(B6,' horaire et frais avant nao '!$A$4:$I$81,6,FALSE) -> 0 | I6: =VLOOKUP(B6,' horaire et frais avant nao '!$A$4:$I$81,7,FALSE) -> 0 | J6: =VLOOKUP(B6,' horaire et frais avant nao '!$A$4:$I$81,8,FALSE) -> 0 | K6: =VLOOKUP(B6,' horaire et frais avant nao '!$A$4:$I$81,9,FALSE) -> 0
B7: ? | C7: mardi | D7: 42067 | E7: =VLOOKUP(B7,' horaire et frais avant nao '!$A$4:$I$81,3,FALSE) -> 0 | F7: =VLOOKUP(B7,' horaire et frais avant nao '!$A$4:$I$81,4,FALSE) -> 0 | G7: =VLOOKUP(B7,' horaire et frais avant nao '!$A$4:$I$81,5,FALSE) -> 0 | H7: =VLOOKUP(B7,' horaire et frais avant nao '!$A$4:$I$81,6,FALSE) -> 0 | I7: =VLOOKUP(B7,' horaire et frais avant nao '!$A$4:$I$81,7,FALSE) -> 0 | J7: =VLOOKUP(B7,' horaire et frais avant nao '!$A$4:$I$81,8,FALSE) -> 0 | K7: =VLOOKUP(B7,' horaire et frais avant nao '!$A$4:$I$81,9,FALSE) -> 0
B8: ? | C8: mercredi | D8: 42068 | E8: =VLOOKUP(B8,' horaire et frais avant nao '!$A$4:$I$81,3,FALSE) -> 0 | F8: =VLOOKUP(B8,' horaire et frais avant nao '!$A$4:$I$81,4,FALSE) -> 0 | G8: =VLOOKUP(B8,' horaire et frais avant nao '!$A$4:$I$81,5,FALSE) -> 0 | H8: =VLOOKUP(B8,' horaire et frais avant nao '!$A$4:$I$81,6,FALSE) -> 0 | I8: =VLOOKUP(B8,' horaire et frais avant nao '!$A$4:$I$81,7,FALSE) -> 0 | J8: =VLOOKUP(B8,' horaire et frais avant nao '!$A$4:$I$81,8,FALSE) -> 0 | K8: =VLOOKUP(B8,' horaire et frais avant nao '!$A$4:$I$81,9,FALSE) -> 0
B9: ? | C9: jeudi | D9: 42069 | E9: =VLOOKUP(B9,' horaire et frais avant nao '!$A$4:$I$81,3,FALSE) -> 0 | F9: =VLOOKUP(B9,' horaire et frais avant nao '!$A$4:$I$81,4,FALSE) -> 0 | G9: =VLOOKUP(B9,' horaire et frais avant nao '!$A$4:$I$81,5,FALSE) -> 0 | H9: =VLOOKUP(B9,' horaire et frais avant nao '!$A$4:$I$81,6,FALSE) -> 0 | I9: =VLOOKUP(B9,' horaire et frais avant nao '!$A$4:$I$81,7,FALSE) -> 0 | J9: =VLOOKUP(B9,' horaire et frais avant nao '!$A$4:$I$81,8,FALSE) -> 0 | K9: =VLOOKUP(B9,' horaire et frais avant nao '!$A$4:$I$81,9,FALSE) -> 0
B10: ? | C10: vendredi | D10: 42070 | E10: =VLOOKUP(B10,' horaire et frais avant nao '!$A$4:$I$81,3,FALSE) -> 0 | F10: =VLOOKUP(B10,' horaire et frais avant nao '!$A$4:$I$81,4,FALSE) -> 0 | G10: =VLOOKUP(B10,' horaire et frais avant nao '!$A$4:$I$81,5,FALSE) -> 0 | H10: =VLOOKUP(B10,' horaire et frais avant nao '!$A$4:$I$81,6,FALSE) -> 0 | I10: =VLOOKUP(B10,' horaire et frais avant nao '!$A$4:$I$81,7,FALSE) -> 0 | J10: =VLOOKUP(B10,' horaire et frais avant nao '!$A$4:$I$81,8,FALSE) -> 0 | K10: =VLOOKUP(B10,' horaire et frais avant nao '!$A$4:$I$81,9,FALSE) -> 0
B11: WEEK | C11: samedi | D11: 42071 | E11: =VLOOKUP(B11,' horaire et frais avant nao '!$A$4:$I$81,3,FALSE) -> 0 | F11: =VLOOKUP(B11,' horaire et frais avant nao '!$A$4:$I$81,4,FALSE) -> 0 | G11: =VLOOKUP(B11,' horaire et frais avant nao '!$A$4:$I$81,5,FALSE) -> 0 | H11: =VLOOKUP(B11,' horaire et frais avant nao '!$A$4:$I$81,6,FALSE) -> 0 | I11: =VLOOKUP(B11,' horaire et frais avant nao '!$A$4:$I$81,7,FALSE) -> 0 | J11: =VLOOKUP(B11,' horaire et frais avant nao '!$A$4:$I$81,8,FALSE) -> 0 | K11: =VLOOKUP(B11,' horaire et frais avant nao '!$A$4:$I$81,9,FALSE) -> 0
B12: WEEK | C12: dimanche | D12: 42072 | E12: =VLOOKUP(B12,' horaire et frais avant nao '!$A$4:$I$81,3,FALSE) -> 0 | F12: =VLOOKUP(B12,' horaire et frais avant nao '!$A$4:$I$81,4,FALSE) -> 0 | G12: =VLOOKUP(B12,' horaire et frais avant nao '!$A$4:$I$81,5,FALSE) -> 0 | H12: =VLOOKUP(B12,' horaire et frais avant nao '!$A$4:$I$81,6,FALSE) -> 0 | I12: =VLOOKUP(B12,' horaire et frais avant nao '!$A$4:$I$81,7,FALSE) -> 0 | J12: =VLOOKUP(B12,' horaire et frais avant nao '!$A$4:$I$81,8,FALSE) -> 0 | K12: =VLOOKUP(B12,' horaire et frais avant nao '!$A$4:$I$81,9,FALSE) -> 0
A13: 11 | B13: ? | C13: lundi | D13: 42073 | E13: =VLOOKUP(B13,' horaire et frais avant nao '!$A$4:$I$81,3,FALSE) -> 0 | F13: =VLOOKUP(B13,' horaire et frais avant nao '!$A$4:$I$81,4,FALSE) -> 0 | G13: =VLOOKUP(B13,' horaire et frais avant nao '!$A$4:$I$81,5,FALSE) -> 0 | H13: =VLOOKUP(B13,' horaire et frais avant nao '!$A$4:$I$81,6,FALSE) -> 0 | I13: =VLOOKUP(B13,' horaire et frais avant nao '!$A$4:$I$81,7,FALSE) -> 0 | J13: =VLOOKUP(B13,' horaire et frais avant nao '!$A$4:$I$81,8,FALSE) -> 0 | K13: =VLOOKUP(B13,' horaire et frais avant nao '!$A$4:$I$81,9,FALSE) -> 0
B14: ? | C14: mardi | D14: 42074 | E14: =VLOOKUP(B14,' horaire et frais avant nao '!$A$4:$I$81,3,FALSE) -> 0 | F14: =VLOOKUP(B14,' horaire et frais avant nao '!$A$4:$I$81,4,FALSE) -> 0 | G14: =VLOOKUP(B14,' horaire et frais avant nao '!$A$4:$I$81,5,FALSE) -> 0 | H14: =VLOOKUP(B14,' horaire et frais avant nao '!$A$4:$I$81,6,FALSE) -> 0 | I14: =VLOOKUP(B14,' horaire et frais avant nao '!$A$4:$I$81,7,FALSE) -> 0 | J14: =VLOOKUP(B14,' horaire et frais avant nao '!$A$4:$I$81,8,FALSE) -> 0 | K14: =VLOOKUP(B14,' horaire et frais avant nao '!$A$4:$I$81,9,FALSE) -> 0
B15: ? | C15: mercredi | D15: 42075 | E15: =VLOOKUP(B15,' horaire et frais avant nao '!$A$4:$I$81,3,FALSE) -> 0 | F15: =VLOOKUP(B15,' horaire et frais avant nao '!$A$4:$I$81,4,FALSE) -> 0 | G15: =VLOOKUP(B15,' horaire et frais avant nao '!$A$4:$I$81,5,FALSE) -> 0 | H15: =VLOOKUP(B15,' horaire et frais avant nao '!$A$4:$I$81,6,FALSE) -> 0 | I15: =VLOOKUP(B15,' horaire et frais avant nao '!$A$4:$I$81,7,FALSE) -> 0 | J15: =VLOOKUP(B15,' horaire et frais avant nao '!$A$4:$I$81,8,FALSE) -> 0 | K15: =VLOOKUP(B15,' horaire et frais avant nao '!$A$4:$I$81,9,FALSE) -> 0
B16: ? | C16: jeudi | D16: 42076 | E16: =VLOOKUP(B16,' horaire et frais avant nao '!$A$4:$I$81,3,FALSE) -> 0 | F16: =VLOOKUP(B16,' horaire et frais avant nao '!$A$4:$I$81,4,FALSE) -> 0 | G16: =VLOOKUP(B16,' horaire et frais avant nao '!$A$4:$I$81,5,FALSE) -> 0 | H16: =VLOOKUP(B16,' horaire et frais avant nao '!$A$4:$I$81,6,FALSE) -> 0 | I16: =VLOOKUP(B16,' horaire et frais avant nao '!$A$4:$I$81,7,FALSE) -> 0 | J16: =VLOOKUP(B16,' horaire et frais avant nao '!$A$4:$I$81,8,FALSE) -> 0 | K16: =VLOOKUP(B16,' horaire et frais avant nao '!$A$4:$I$81,9,FALSE) -> 0
B17: ? | C17: vendredi | D17: 42077 | E17: =VLOOKUP(B17,' horaire et frais avant nao '!$A$4:$I$81,3,FALSE) -> 0 | F17: =VLOOKUP(B17,' horaire et frais avant nao '!$A$4:$I$81,4,FALSE) -> 0 | G17: =VLOOKUP(B17,' horaire et frais avant nao '!$A$4:$I$81,5,FALSE) -> 0 | H17: =VLOOKUP(B17,' horaire et frais avant nao '!$A$4:$I$81,6,FALSE) -> 0 | I17: =VLOOKUP(B17,' horaire et frais avant nao '!$A$4:$I$81,7,FALSE) -> 0 | J17: =VLOOKUP(B17,' horaire et frais avant nao '!$A$4:$I$81,8,FALSE) -> 0 | K17: =VLOOKUP(B17,' horaire et frais avant nao '!$A$4:$I$81,9,FALSE) -> 0
B18: WEEK | C18: samedi | D18: 42078 | E18: =VLOOKUP(B18,' horaire et frais avant nao '!$A$4:$I$81,3,FALSE) -> 0 | F18: =VLOOKUP(B18,' horaire et frais avant nao '!$A$4:$I$81,4,FALSE) -> 0 | G18: =VLOOKUP(B18,' horaire et frais avant nao '!$A$4:$I$81,5,FALSE) -> 0 | H18: =VLOOKUP(B18,' horaire et frais avant nao '!$A$4:$I$81,6,FALSE) -> 0 | I18: =VLOOKUP(B18,' horaire et frais avant nao '!$A$4:$I$81,7,FALSE) -> 0 | J18: =VLOOKUP(B18,' horaire et frais avant nao '!$A$4:$I$81,8,FALSE) -> 0 | K18: =VLOOKUP(B18,' horaire et frais avant nao '!$A$4:$I$81,9,FALSE) -> 0
B19: WEEK | C19: dimanche | D19: 42079 | E19: =VLOOKUP(B19,' horaire et frais avant nao '!$A$4:$I$81,3,FALSE) -> 0 | F19: =VLOOKUP(B19,' horaire et frais avant nao '!$A$4:$I$81,4,FALSE) -> 0 | G19: =VLOOKUP(B19,' horaire et frais avant nao '!$A$4:$I$81,5,FALSE) -> 0 | H19: =VLOOKUP(B19,' horaire et frais avant nao '!$A$4:$I$81,6,FALSE) -> 0 | I19: =VLOOKUP(B19,' horaire et frais avant nao '!$A$4:$I$81,7,FALSE) -> 0 | J19: =VLOOKUP(B19,' horaire et frais avant nao '!$A$4:$I$81,8,FALSE) -> 0 | K19: =VLOOKUP(B19,' horaire et frais avant nao '!$A$4:$I$81,9,FALSE) -> 0
A20: 12 | B20: ? | C20: lundi | D20: 42080 | E20: =VLOOKUP(B20,' horaire et frais avant nao '!$A$4:$I$81,3,FALSE) -> 0 | F20: =VLOOKUP(B20,' horaire et frais avant nao '!$A$4:$I$81,4,FALSE) -> 0 | G20: =VLOOKUP(B20,' horaire et frais avant nao '!$A$4:$I$81,5,FALSE) -> 0 | H20: =VLOOKUP(B20,' horaire et frais avant nao '!$A$4:$I$81,6,FALSE) -> 0 | I20: =VLOOKUP(B20,' horaire et frais avant nao '!$A$4:$I$81,7,FALSE) -> 0 | J20: =VLOOKUP(B20,' horaire et frais avant nao '!$A$4:$I$81,8,FALSE) -> 0 | K20: =VLOOKUP(B20,' horaire et frais avant nao '!$A$4:$I$81,9,FALSE) -> 0
B21: ? | C21: mardi | D21: 42081 | E21: =VLOOKUP(B21,' horaire et frais avant nao '!$A$4:$I$81,3,FALSE) -> 0 | F21: =VLOOKUP(B21,' horaire et frais avant nao '!$A$4:$I$81,4,FALSE) -> 0 | G21: =VLOOKUP(B21,' horaire et frais avant nao '!$A$4:$I$81,5,FALSE) -> 0 | H21: =VLOOKUP(B21,' horaire et frais avant nao '!$A$4:$I$81,6,FALSE) -> 0 | I21: =VLOOKUP(B21,' horaire et frais avant nao '!$A$4:$I$81,7,FALSE) -> 0 | J21: =VLOOKUP(B21,' horaire et frais avant nao '!$A$4:$I$81,8,FALSE) -> 0 | K21: =VLOOKUP(B21,' horaire et frais avant nao '!$A$4:$I$81,9,FALSE) -> 0
B22: ? | C22: mercredi | D22: 42082 | E22: =VLOOKUP(B22,' horaire et frais avant nao '!$A$4:$I$81,3,FALSE) -> 0 | F22: =VLOOKUP(B22,' horaire et frais avant nao '!$A$4:$I$81,4,FALSE) -> 0 | G22: =VLOOKUP(B22,' horaire et frais avant nao '!$A$4:$I$81,5,FALSE) -> 0 | H22: =VLOOKUP(B22,' horaire et frais avant nao '!$A$4:$I$81,6,FALSE) -> 0 | I22: =VLOOKUP(B22,' horaire et frais avant nao '!$A$4:$I$81,7,FALSE) -> 0 | J22: =VLOOKUP(B22,' horaire et frais avant nao '!$A$4:$I$81,8,FALSE) -> 0 | K22: =VLOOKUP(B22,' horaire et frais avant nao '!$A$4:$I$81,9,FALSE) -> 0
B23: ? | C23: jeudi | D23: 42083 | E23: =VLOOKUP(B23,' horaire et frais avant nao '!$A$4:$I$81,3,FALSE) -> 0 | F23: =VLOOKUP(B23,' horaire et frais avant nao '!$A$4:$I$81,4,FALSE) -> 0 | G23: =VLOOKUP(B23,' horaire et frais avant nao '!$A$4:$I$81,5,FALSE) -> 0 | H23: =VLOOKUP(B23,' horaire et frais avant nao '!$A$4:$I$81,6,FALSE) -> 0 | I23: =VLOOKUP(B23,' horaire et frais avant nao '!$A$4:$I$81,7,FALSE) -> 0 | J23: =VLOOKUP(B23,' horaire et frais avant nao '!$A$4:$I$81,8,FALSE) -> 0 | K23: =VLOOKUP(B23,' horaire et frais avant nao '!$A$4:$I$81,9,FALSE) -> 0
B24: ? | C24: vendredi | D24: 42084 | E24: =VLOOKUP(B24,' horaire et frais avant nao '!$A$4:$I$81,3,FALSE) -> 0 | F24: =VLOOKUP(B24,' horaire et frais avant nao '!$A$4:$I$81,4,FALSE) -> 0 | G24: =VLOOKUP(B24,' horaire et frais avant nao '!$A$4:$I$81,5,FALSE) -> 0 | H24: =VLOOKUP(B24,' horaire et frais avant nao '!$A$4:$I$81,6,FALSE) -> 0 | I24: =VLOOKUP(B24,' horaire et frais avant nao '!$A$4:$I$81,7,FALSE) -> 0 | J24: =VLOOKUP(B24,' horaire et frais avant nao '!$A$4:$I$81,8,FALSE) -> 0 | K24: =VLOOKUP(B24,' horaire et frais avant nao '!$A$4:$I$81,9,FALSE) -> 0
B25: WEEK | C25: samedi | D25: 42085 | E25: =VLOOKUP(B25,' horaire et frais avant nao '!$A$4:$I$81,3,FALSE) -> 0 | F25: =VLOOKUP(B25,' horaire et frais avant nao '!$A$4:$I$81,4,FALSE) -> 0 | G25: =VLOOKUP(B25,' horaire et frais avant nao '!$A$4:$I$81,5,FALSE) -> 0 | H25: =VLOOKUP(B25,' horaire et frais avant nao '!$A$4:$I$81,6,FALSE) -> 0 | I25: =VLOOKUP(B25,' horaire et frais avant nao '!$A$4:$I$81,7,FALSE) -> 0 | J25: =VLOOKUP(B25,' horaire et frais avant nao '!$A$4:$I$81,8,FALSE) -> 0 | K25: =VLOOKUP(B25,' horaire et frais avant nao '!$A$4:$I$81,9,FALSE) -> 0
B26: WEEK | C26: dimanche | D26: 42086 | E26: =VLOOKUP(B26,' horaire et frais avant nao '!$A$4:$I$81,3,FALSE) -> 0 | F26: =VLOOKUP(B26,' horaire et frais avant nao '!$A$4:$I$81,4,FALSE) -> 0 | G26: =VLOOKUP(B26,' horaire et frais avant nao '!$A$4:$I$81,5,FALSE) -> 0 | H26: =VLOOKUP(B26,' horaire et frais avant nao '!$A$4:$I$81,6,FALSE) -> 0 | I26: =VLOOKUP(B26,' horaire et frais avant nao '!$A$4:$I$81,7,FALSE) -> 0 | J26: =VLOOKUP(B26,' horaire et frais avant nao '!$A$4:$I$81,8,FALSE) -> 0 | K26: =VLOOKUP(B26,' horaire et frais avant nao '!$A$4:$I$81,9,FALSE) -> 0
A27: 13 | B27: ? | C27: lundi | D27: 42087 | E27: =VLOOKUP(B27,' horaire et frais avant nao '!$A$4:$I$81,3,FALSE) -> 0 | F27: =VLOOKUP(B27,' horaire et frais avant nao '!$A$4:$I$81,4,FALSE) -> 0 | G27: =VLOOKUP(B27,' horaire et frais avant nao '!$A$4:$I$81,5,FALSE) -> 0 | H27: =VLOOKUP(B27,' horaire et frais avant nao '!$A$4:$I$81,6,FALSE) -> 0 | I27: =VLOOKUP(B27,' horaire et frais avant nao '!$A$4:$I$81,7,FALSE) -> 0 | J27: =VLOOKUP(B27,' horaire et frais avant nao '!$A$4:$I$81,8,FALSE) -> 0 | K27: =VLOOKUP(B27,' horaire et frais avant nao '!$A$4:$I$81,9,FALSE) -> 0
B28: ? | C28: mardi | D28: 42088 | E28: =VLOOKUP(B28,' horaire et frais avant nao '!$A$4:$I$81,3,FALSE) -> 0 | F28: =VLOOKUP(B28,' horaire et frais avant nao '!$A$4:$I$81,4,FALSE) -> 0 | G28: =VLOOKUP(B28,' horaire et frais avant nao '!$A$4:$I$81,5,FALSE) -> 0 | H28: =VLOOKUP(B28,' horaire et frais avant nao '!$A$4:$I$81,6,FALSE) -> 0 | I28: =VLOOKUP(B28,' horaire et frais avant nao '!$A$4:$I$81,7,FALSE) -> 0 | J28: =VLOOKUP(B28,' horaire et frais avant nao '!$A$4:$I$81,8,FALSE) -> 0 | K28: =VLOOKUP(B28,' horaire et frais avant nao '!$A$4:$I$81,9,FALSE) -> 0
B29: ? | C29: mercredi | D29: 42089 | E29: =VLOOKUP(B29,' horaire et frais avant nao '!$A$4:$I$81,3,FALSE) -> 0 | F29: =VLOOKUP(B29,' horaire et frais avant nao '!$A$4:$I$81,4,FALSE) -> 0 | G29: =VLOOKUP(B29,' horaire et frais avant nao '!$A$4:$I$81,5,FALSE) -> 0 | H29: =VLOOKUP(B29,' horaire et frais avant nao '!$A$4:$I$81,6,FALSE) -> 0 | I29: =VLOOKUP(B29,' horaire et frais avant nao '!$A$4:$I$81,7,FALSE) -> 0 | J29: =VLOOKUP(B29,' horaire et frais avant nao '!$A$4:$I$81,8,FALSE) -> 0 | K29: =VLOOKUP(B29,' horaire et frais avant nao '!$A$4:$I$81,9,FALSE) -> 0
B30: ? | C30: jeudi | D30: 42090 | E30: =VLOOKUP(B30,' horaire et frais avant nao '!$A$4:$I$81,3,FALSE) -> 0 | F30: =VLOOKUP(B30,' horaire et frais avant nao '!$A$4:$I$81,4,FALSE) -> 0 | G30: =VLOOKUP(B30,' horaire et frais avant nao '!$A$4:$I$81,5,FALSE) -> 0 | H30: =VLOOKUP(B30,' horaire et frais avant nao '!$A$4:$I$81,6,FALSE) -> 0 | I30: =VLOOKUP(B30,' horaire et frais avant nao '!$A$4:$I$81,7,FALSE) -> 0 | J30: =VLOOKUP(B30,' horaire et frais avant nao '!$A$4:$I$81,8,FALSE) -> 0 | K30: =VLOOKUP(B30,' horaire et frais avant nao '!$A$4:$I$81,9,FALSE) -> 0
B31: ? | C31: vendredi | D31: 42091 | E31: =VLOOKUP(B31,' horaire et frais avant nao '!$A$4:$I$81,3,FALSE) -> 0 | F31: =VLOOKUP(B31,' horaire et frais avant nao '!$A$4:$I$81,4,FALSE) -> 0 | G31: =VLOOKUP(B31,' horaire et frais avant nao '!$A$4:$I$81,5,FALSE) -> 0 | H31: =VLOOKUP(B31,' horaire et frais avant nao '!$A$4:$I$81,6,FALSE) -> 0 | I31: =VLOOKUP(B31,' horaire et frais avant nao '!$A$4:$I$81,7,FALSE) -> 0 | J31: =VLOOKUP(B31,' horaire et frais avant nao '!$A$4:$I$81,8,FALSE) -> 0 | K31: =VLOOKUP(B31,' horaire et frais avant nao '!$A$4:$I$81,9,FALSE) -> 0
B32: WEEK | C32: samedi | D32: 42092 | E32: =VLOOKUP(B32,' horaire et frais avant nao '!$A$4:$I$81,3,FALSE) -> 0 | F32: =VLOOKUP(B32,' horaire et frais avant nao '!$A$4:$I$81,4,FALSE) -> 0 | G32: =VLOOKUP(B32,' horaire et frais avant nao '!$A$4:$I$81,5,FALSE) -> 0 | H32: =VLOOKUP(B32,' horaire et frais avant nao '!$A$4:$I$81,6,FALSE) -> 0 | I32: =VLOOKUP(B32,' horaire et frais avant nao '!$A$4:$I$81,7,FALSE) -> 0 | J32: =VLOOKUP(B32,' horaire et frais avant nao '!$A$4:$I$81,8,FALSE) -> 0 | K32: =VLOOKUP(B32,' horaire et frais avant nao '!$A$4:$I$81,9,FALSE) -> 0
B33: WEEK | C33: dimanche | D33: 42093 | E33: =VLOOKUP(B33,' horaire et frais avant nao '!$A$4:$I$81,3,FALSE) -> 0 | F33: =VLOOKUP(B33,' horaire et frais avant nao '!$A$4:$I$81,4,FALSE) -> 0 | G33: =VLOOKUP(B33,' horaire et frais avant nao '!$A$4:$I$81,5,FALSE) -> 0 | H33: =VLOOKUP(B33,' horaire et frais avant nao '!$A$4:$I$81,6,FALSE) -> 0 | I33: =VLOOKUP(B33,' horaire et frais avant nao '!$A$4:$I$81,7,FALSE) -> 0 | J33: =VLOOKUP(B33,' horaire et frais avant nao '!$A$4:$I$81,8,FALSE) -> 0 | K33: =VLOOKUP(B33,' horaire et frais avant nao '!$A$4:$I$81,9,FALSE) -> 0
B34: TOTAL | E34: =SUM(E3:E33) -> 0 | F34: =SUM(F3:F33) -> 0 | G34: =SUM(G3:G33) -> 0 | H34: =SUM(H3:H33) -> 0 | I34: =SUM(I3:I33) -> 0 | J34: =SUM(J3:J33) -> 0 | K34: =SUM(K3:K33) -> 0
A35: SEMAINE | B35: TOURNEE | C35: JOUR | D35: DATE | E35: repas soir non soumis | F35: Repas midi non soumis | G35: cassecroute soumis | H35: demi prime | I35: prime entiere | J35: tichet | K35: repas unique
B43: SEMAINE 1 DU 25/02/2019 AU 03/03/2019
A45: conso l /100 | B45: n°de parc | C45: Tournée | D45: Jour | E45: Début de poste | F45: Fin de poste | G45: TEMPS DE SERVICE | H45: Pause de jour | I45: Pause de nuit | J45: Heures de nuit | K45: Heures reunion formation
C46: ? | D46: lundi | E46: =VLOOKUP(C46,' horaire et frais avant nao '!$A$4:I81,2,FALSE) -> 0 | F46: 0 | G46: =MOD(F46-E46,1)-I46-H46+K46 -> 0 | H46: 0 | I46: 0 | J46: =(IF(((E46*24)>=21)*AND((F46*24)>6)*AND((F46*24)<21),30-(E46*24),0)+IF(((F46*24)>=21)*AND((E46*24)>6)*AND((E46*24)<21),MIN((F46*24)-(E46*24),(F46*24)-21),0)+IF(((E46*24)>6)*AND((E46*24)<21)*AND((F46*24)<=6),3+(F46*24),0)+IF(((E46*24)<=6)*AND((F46*24)>6)*AND((F46*24)<21),6-(E46*24),0)+IF(((E46*24)<=6)*AND((F46*24)<=6),(F46*24)-(E46*24),0)+IF(((E46*24)>=21)*AND((F46*24)<=6),24-(E46*24)+(F46*24),0)+IF(((E46*24)>=21)*AND((F46*24)>=21),(F46*24)-(E46*24),0)+IF(((E46*24)<=6)*AND((F46*24)>=21),6-(E46*24)+(F46*24)-21,0)+IF(((E46*24)>6)*AND((E46*24)<21)*AND((F46*24)>6)*AND((F46*24)<21)*AND((E46*24)>(F46*24)),9,0))/24-I46 -> 0 | K46: 0
C47: ? | D47: mardi | E47: =VLOOKUP(C47,' horaire et frais avant nao '!$A$4:I82,2,FALSE) -> 0 | F47: 0 | G47: =MOD(F47-E47,1)-I47-H47+K47 -> 0 | H47: 0 | I47: 0 | J47: =(IF(((E47*24)>=21)*AND((F47*24)>6)*AND((F47*24)<21),30-(E47*24),0)+IF(((F47*24)>=21)*AND((E47*24)>6)*AND((E47*24)<21),MIN((F47*24)-(E47*24),(F47*24)-21),0)+IF(((E47*24)>6)*AND((E47*24)<21)*AND((F47*24)<=6),3+(F47*24),0)+IF(((E47*24)<=6)*AND((F47*24)>6)*AND((F47*24)<21),6-(E47*24),0)+IF(((E47*24)<=6)*AND((F47*24)<=6),(F47*24)-(E47*24),0)+IF(((E47*24)>=21)*AND((F47*24)<=6),24-(E47*24)+(F47*24),0)+IF(((E47*24)>=21)*AND((F47*24)>=21),(F47*24)-(E47*24),0)+IF(((E47*24)<=6)*AND((F47*24)>=21),6-(E47*24)+(F47*24)-21,0)+IF(((E47*24)>6)*AND((E47*24)<21)*AND((F47*24)>6)*AND((F47*24)<21)*AND((E47*24)>(F47*24)),9,0))/24-I47 -> 0 | K47: 0
C48: ? | D48: mercredi | E48: =VLOOKUP(C48,' horaire et frais avant nao '!$A$4:I83,2,FALSE) -> 0 | F48: 0 | G48: =MOD(F48-E48,1)-I48-H48+K48 -> 0 | H48: 0 | I48: 0 | J48: =(IF(((E48*24)>=21)*AND((F48*24)>6)*AND((F48*24)<21),30-(E48*24),0)+IF(((F48*24)>=21)*AND((E48*24)>6)*AND((E48*24)<21),MIN((F48*24)-(E48*24),(F48*24)-21),0)+IF(((E48*24)>6)*AND((E48*24)<21)*AND((F48*24)<=6),3+(F48*24),0)+IF(((E48*24)<=6)*AND((F48*24)>6)*AND((F48*24)<21),6-(E48*24),0)+IF(((E48*24)<=6)*AND((F48*24)<=6),(F48*24)-(E48*24),0)+IF(((E48*24)>=21)*AND((F48*24)<=6),24-(E48*24)+(F48*24),0)+IF(((E48*24)>=21)*AND((F48*24)>=21),(F48*24)-(E48*24),0)+IF(((E48*24)<=6)*AND((F48*24)>=21),6-(E48*24)+(F48*24)-21,0)+IF(((E48*24)>6)*AND((E48*24)<21)*AND((F48*24)>6)*AND((F48*24)<21)*AND((E48*24)>(F48*24)),9,0))/24-I48 -> 0 | K48: 0
C49: ? | D49: jeudi | E49: =VLOOKUP(C49,' horaire et frais avant nao '!$A$4:I84,2,FALSE) -> 0 | F49: 0 | G49: =MOD(F49-E49,1)-I49-H49+K49 -> 0 | H49: 0 | I49: 0 | J49: =(IF(((E49*24)>=21)*AND((F49*24)>6)*AND((F49*24)<21),30-(E49*24),0)+IF(((F49*24)>=21)*AND((E49*24)>6)*AND((E49*24)<21),MIN((F49*24)-(E49*24),(F49*24)-21),0)+IF(((E49*24)>6)*AND((E49*24)<21)*AND((F49*24)<=6),3+(F49*24),0)+IF(((E49*24)<=6)*AND((F49*24)>6)*AND((F49*24)<21),6-(E49*24),0)+IF(((E49*24)<=6)*AND((F49*24)<=6),(F49*24)-(E49*24),0)+IF(((E49*24)>=21)*AND((F49*24)<=6),24-(E49*24)+(F49*24),0)+IF(((E49*24)>=21)*AND((F49*24)>=21),(F49*24)-(E49*24),0)+IF(((E49*24)<=6)*AND((F49*24)>=21),6-(E49*24)+(F49*24)-21,0)+IF(((E49*24)>6)*AND((E49*24)<21)*AND((F49*24)>6)*AND((F49*24)<21)*AND((E49*24)>(F49*24)),9,0))/24-I49 -> 0 | K49: 0
C50: ? | D50: vendredi | E50: =VLOOKUP(C50,' horaire et frais avant nao '!$A$4:I85,2,FALSE) -> 0 | F50: 0 | G50: =MOD(F50-E50,1)-I50-H50+K50 -> 0 | H50: 0 | I50: 0 | J50: =(IF(((E50*24)>=21)*AND((F50*24)>6)*AND((F50*24)<21),30-(E50*24),0)+IF(((F50*24)>=21)*AND((E50*24)>6)*AND((E50*24)<21),MIN((F50*24)-(E50*24),(F50*24)-21),0)+IF(((E50*24)>6)*AND((E50*24)<21)*AND((F50*24)<=6),3+(F50*24),0)+IF(((E50*24)<=6)*AND((F50*24)>6)*AND((F50*24)<21),6-(E50*24),0)+IF(((E50*24)<=6)*AND((F50*24)<=6),(F50*24)-(E50*24),0)+IF(((E50*24)>=21)*AND((F50*24)<=6),24-(E50*24)+(F50*24),0)+IF(((E50*24)>=21)*AND((F50*24)>=21),(F50*24)-(E50*24),0)+IF(((E50*24)<=6)*AND((F50*24)>=21),6-(E50*24)+(F50*24)-21,0)+IF(((E50*24)>6)*AND((E50*24)<21)*AND((F50*24)>6)*AND((F50*24)<21)*AND((E50*24)>(F50*24)),9,0))/24-I50 -> 0 | K50: 0
C51: week | D51: samedi | E51: =VLOOKUP(C51,' horaire et frais avant nao '!$A$4:I86,2,FALSE) -> 0 | F51: 0 | G51: =MOD(F51-E51,1)-I51-H51+K51 -> 0 | H51: 0 | I51: 0 | J51: =(IF(((E51*24)>=21)*AND((F51*24)>6)*AND((F51*24)<21),30-(E51*24),0)+IF(((F51*24)>=21)*AND((E51*24)>6)*AND((E51*24)<21),MIN((F51*24)-(E51*24),(F51*24)-21),0)+IF(((E51*24)>6)*AND((E51*24)<21)*AND((F51*24)<=6),3+(F51*24),0)+IF(((E51*24)<=6)*AND((F51*24)>6)*AND((F51*24)<21),6-(E51*24),0)+IF(((E51*24)<=6)*AND((F51*24)<=6),(F51*24)-(E51*24),0)+IF(((E51*24)>=21)*AND((F51*24)<=6),24-(E51*24)+(F51*24),0)+IF(((E51*24)>=21)*AND((F51*24)>=21),(F51*24)-(E51*24),0)+IF(((E51*24)<=6)*AND((F51*24)>=21),6-(E51*24)+(F51*24)-21,0)+IF(((E51*24)>6)*AND((E51*24)<21)*AND((F51*24)>6)*AND((F51*24)<21)*AND((E51*24)>(F51*24)),9,0))/24-I51 -> 0 | K51: 0
C52: week | D52: dimanche | E52: =VLOOKUP(C52,' horaire et frais avant nao '!$A$4:I87,2,FALSE) -> 0 | F52: 0 | G52: =MOD(F52-E52,1)-I52-H52+K52 -> 0 | H52: 0 | I52: 0 | J52: =(IF(((E52*24)>=21)*AND((F52*24)>6)*AND((F52*24)<21),30-(E52*24),0)+IF(((F52*24)>=21)*AND((E52*24)>6)*AND((E52*24)<21),MIN((F52*24)-(E52*24),(F52*24)-21),0)+IF(((E52*24)>6)*AND((E52*24)<21)*AND((F52*24)<=6),3+(F52*24),0)+IF(((E52*24)<=6)*AND((F52*24)>6)*AND((F52*24)<21),6-(E52*24),0)+IF(((E52*24)<=6)*AND((F52*24)<=6),(F52*24)-(E52*24),0)+IF(((E52*24)>=21)*AND((F52*24)<=6),24-(E52*24)+(F52*24),0)+IF(((E52*24)>=21)*AND((F52*24)>=21),(F52*24)-(E52*24),0)+IF(((E52*24)<=6)*AND((F52*24)>=21),6-(E52*24)+(F52*24)-21,0)+IF(((E52*24)>6)*AND((E52*24)<21)*AND((F52*24)>6)*AND((F52*24)<21)*AND((E52*24)>(F52*24)),9,0))/24-I52 -> 0 | K52: 0
G53: =SUM(G46:G52) -> 0 | J53: =SUM(J46:J52) -> 0
D54: BASE HEURE PAR JOUR | I54: 0.33333333
D55: HEURES SEMAINE A EFFECTUER | I55: 1.6666667
D56: HEURES SEMAINE EFFECTUER | I56: =SUM(G53) -> 0 | K56: salaire net fin de mois
D57: INFRACTION DES 10 HEURES | I57: 0.41666667
D58: HEURES SUPLEMENTAIRE SEMAINE | I58: =SUM(I56-I55) -> -1.6666667 | K58: =SUM(G153) -> 0
D59: MOYENNE HEURES DE NUIT/SEMAINE | I59: 0.83333333 | K59: 1803
D60: CUMUL DES HEURES PAR PERIODE | H60: 1.6666667 | I60: =SUM(I56) -> 0
H61: =SUM(I60-H60) -> -1.6666667
B65: SEMAINE 2 DU 04/03/2019 AU 10/03/2019
A67: conso l /100 | B67: n°de parc | C67: Tournée | D67: Jour | E67: Début de poste | F67: Fin de poste | G67: TEMPS DE SERVICE | H67: Pause de jour | I67: Pause de nuit | J67: Heures de nuit | K67: Heures reunion formation
C68: ? | D68: lundi | E68: =VLOOKUP(C68,' horaire et frais avant nao '!$A$4:I81,2,FALSE) -> 0 | F68: 0 | G68: =MOD(F68-E68,1)-I68-H68+K68 -> 0 | H68: 0 | I68: 0 | J68: =(IF(((E68*24)>=21)*AND((F68*24)>6)*AND((F68*24)<21),30-(E68*24),0)+IF(((F68*24)>=21)*AND((E68*24)>6)*AND((E68*24)<21),MIN((F68*24)-(E68*24),(F68*24)-21),0)+IF(((E68*24)>6)*AND((E68*24)<21)*AND((F68*24)<=6),3+(F68*24),0)+IF(((E68*24)<=6)*AND((F68*24)>6)*AND((F68*24)<21),6-(E68*24),0)+IF(((E68*24)<=6)*AND((F68*24)<=6),(F68*24)-(E68*24),0)+IF(((E68*24)>=21)*AND((F68*24)<=6),24-(E68*24)+(F68*24),0)+IF(((E68*24)>=21)*AND((F68*24)>=21),(F68*24)-(E68*24),0)+IF(((E68*24)<=6)*AND((F68*24)>=21),6-(E68*24)+(F68*24)-21,0)+IF(((E68*24)>6)*AND((E68*24)<21)*AND((F68*24)>6)*AND((F68*24)<21)*AND((E68*24)>(F68*24)),9,0))/24-I68 -> 0 | K68: 0
C69: ? | D69: mardi | E69: =VLOOKUP(C69,' horaire et frais avant nao '!$A$4:I82,2,FALSE) -> 0 | F69: 0 | G69: =MOD(F69-E69,1)-I69-H69+K69 -> 0 | H69: 0 | I69: 0 | J69: =(IF(((E69*24)>=21)*AND((F69*24)>6)*AND((F69*24)<21),30-(E69*24),0)+IF(((F69*24)>=21)*AND((E69*24)>6)*AND((E69*24)<21),MIN((F69*24)-(E69*24),(F69*24)-21),0)+IF(((E69*24)>6)*AND((E69*24)<21)*AND((F69*24)<=6),3+(F69*24),0)+IF(((E69*24)<=6)*AND((F69*24)>6)*AND((F69*24)<21),6-(E69*24),0)+IF(((E69*24)<=6)*AND((F69*24)<=6),(F69*24)-(E69*24),0)+IF(((E69*24)>=21)*AND((F69*24)<=6),24-(E69*24)+(F69*24),0)+IF(((E69*24)>=21)*AND((F69*24)>=21),(F69*24)-(E69*24),0)+IF(((E69*24)<=6)*AND((F69*24)>=21),6-(E69*24)+(F69*24)-21,0)+IF(((E69*24)>6)*AND((E69*24)<21)*AND((F69*24)>6)*AND((F69*24)<21)*AND((E69*24)>(F69*24)),9,0))/24-I69 -> 0 | K69: 0
C70: ? | D70: mercredi | E70: =VLOOKUP(C70,' horaire et frais avant nao '!$A$4:I83,2,FALSE) -> 0 | F70: 0 | G70: =MOD(F70-E70,1)-I70-H70+K70 -> 0 | H70: 0 | I70: 0 | J70: =(IF(((E70*24)>=21)*AND((F70*24)>6)*AND((F70*24)<21),30-(E70*24),0)+IF(((F70*24)>=21)*AND((E70*24)>6)*AND((E70*24)<21),MIN((F70*24)-(E70*24),(F70*24)-21),0)+IF(((E70*24)>6)*AND((E70*24)<21)*AND((F70*24)<=6),3+(F70*24),0)+IF(((E70*24)<=6)*AND((F70*24)>6)*AND((F70*24)<21),6-(E70*24),0)+IF(((E70*24)<=6)*AND((F70*24)<=6),(F70*24)-(E70*24),0)+IF(((E70*24)>=21)*AND((F70*24)<=6),24-(E70*24)+(F70*24),0)+IF(((E70*24)>=21)*AND((F70*24)>=21),(F70*24)-(E70*24),0)+IF(((E70*24)<=6)*AND((F70*24)>=21),6-(E70*24)+(F70*24)-21,0)+IF(((E70*24)>6)*AND((E70*24)<21)*AND((F70*24)>6)*AND((F70*24)<21)*AND((E70*24)>(F70*24)),9,0))/24-I70 -> 0 | K70: 0
C71: ? | D71: jeudi | E71: =VLOOKUP(C71,' horaire et frais avant nao '!$A$4:I84,2,FALSE) -> 0 | F71: 0 | G71: =MOD(F71-E71,1)-I71-H71+K71 -> 0 | H71: 0 | I71: 0 | J71: =(IF(((E71*24)>=21)*AND((F71*24)>6)*AND((F71*24)<21),30-(E71*24),0)+IF(((F71*24)>=21)*AND((E71*24)>6)*AND((E71*24)<21),MIN((F71*24)-(E71*24),(F71*24)-21),0)+IF(((E71*24)>6)*AND((E71*24)<21)*AND((F71*24)<=6),3+(F71*24),0)+IF(((E71*24)<=6)*AND((F71*24)>6)*AND((F71*24)<21),6-(E71*24),0)+IF(((E71*24)<=6)*AND((F71*24)<=6),(F71*24)-(E71*24),0)+IF(((E71*24)>=21)*AND((F71*24)<=6),24-(E71*24)+(F71*24),0)+IF(((E71*24)>=21)*AND((F71*24)>=21),(F71*24)-(E71*24),0)+IF(((E71*24)<=6)*AND((F71*24)>=21),6-(E71*24)+(F71*24)-21,0)+IF(((E71*24)>6)*AND((E71*24)<21)*AND((F71*24)>6)*AND((F71*24)<21)*AND((E71*24)>(F71*24)),9,0))/24-I71 -> 0 | K71: 0
C72: ? | D72: vendredi | E72: =VLOOKUP(C72,' horaire et frais avant nao '!$A$4:I85,2,FALSE) -> 0 | F72: 0 | G72: =MOD(F72-E72,1)-I72-H72+K72 -> 0 | H72: 0 | I72: 0 | J72: =(IF(((E72*24)>=21)*AND((F72*24)>6)*AND((F72*24)<21),30-(E72*24),0)+IF(((F72*24)>=21)*AND((E72*24)>6)*AND((E72*24)<21),MIN((F72*24)-(E72*24),(F72*24)-21),0)+IF(((E72*24)>6)*AND((E72*24)<21)*AND((F72*24)<=6),3+(F72*24),0)+IF(((E72*24)<=6)*AND((F72*24)>6)*AND((F72*24)<21),6-(E72*24),0)+IF(((E72*24)<=6)*AND((F72*24)<=6),(F72*24)-(E72*24),0)+IF(((E72*24)>=21)*AND((F72*24)<=6),24-(E72*24)+(F72*24),0)+IF(((E72*24)>=21)*AND((F72*24)>=21),(F72*24)-(E72*24),0)+IF(((E72*24)<=6)*AND((F72*24)>=21),6-(E72*24)+(F72*24)-21,0)+IF(((E72*24)>6)*AND((E72*24)<21)*AND((F72*24)>6)*AND((F72*24)<21)*AND((E72*24)>(F72*24)),9,0))/24-I72 -> 0 | K72: 0
C73: week | D73: samedi | E73: =VLOOKUP(C73,' horaire et frais avant nao '!$A$4:I86,2,FALSE) -> 0 | F73: 0 | G73: =MOD(F73-E73,1)-I73-H73+K73 -> 0 | H73: 0 | I73: 0 | J73: =(IF(((E73*24)>=21)*AND((F73*24)>6)*AND((F73*24)<21),30-(E73*24),0)+IF(((F73*24)>=21)*AND((E73*24)>6)*AND((E73*24)<21),MIN((F73*24)-(E73*24),(F73*24)-21),0)+IF(((E73*24)>6)*AND((E73*24)<21)*AND((F73*24)<=6),3+(F73*24),0)+IF(((E73*24)<=6)*AND((F73*24)>6)*AND((F73*24)<21),6-(E73*24),0)+IF(((E73*24)<=6)*AND((F73*24)<=6),(F73*24)-(E73*24),0)+IF(((E73*24)>=21)*AND((F73*24)<=6),24-(E73*24)+(F73*24),0)+IF(((E73*24)>=21)*AND((F73*24)>=21),(F73*24)-(E73*24),0)+IF(((E73*24)<=6)*AND((F73*24)>=21),6-(E73*24)+(F73*24)-21,0)+IF(((E73*24)>6)*AND((E73*24)<21)*AND((F73*24)>6)*AND((F73*24)<21)*AND((E73*24)>(F73*24)),9,0))/24-I73 -> 0 | K73: 0
C74: week | D74: dimanche | E74: =VLOOKUP(C74,' horaire et frais avant nao '!$A$4:I87,2,FALSE) -> 0 | F74: 0 | G74: =MOD(F74-E74,1)-I74-H74+K74 -> 0 | H74: 0 | I74: 0 | J74: =(IF(((E74*24)>=21)*AND((F74*24)>6)*AND((F74*24)<21),30-(E74*24),0)+IF(((F74*24)>=21)*AND((E74*24)>6)*AND((E74*24)<21),MIN((F74*24)-(E74*24),(F74*24)-21),0)+IF(((E74*24)>6)*AND((E74*24)<21)*AND((F74*24)<=6),3+(F74*24),0)+IF(((E74*24)<=6)*AND((F74*24)>6)*AND((F74*24)<21),6-(E74*24),0)+IF(((E74*24)<=6)*AND((F74*24)<=6),(F74*24)-(E74*24),0)+IF(((E74*24)>=21)*AND((F74*24)<=6),24-(E74*24)+(F74*24),0)+IF(((E74*24)>=21)*AND((F74*24)>=21),(F74*24)-(E74*24),0)+IF(((E74*24)<=6)*AND((F74*24)>=21),6-(E74*24)+(F74*24)-21,0)+IF(((E74*24)>6)*AND((E74*24)<21)*AND((F74*24)>6)*AND((F74*24)<21)*AND((E74*24)>(F74*24)),9,0))/24-I74 -> 0 | K74: 0
G75: =SUM(G68:G74) -> 0 | J75: =SUM(J68:J74) -> 0
D76: BASE HEURE PAR JOUR | I76: 0.33333333
D77: HEURES SEMAINE A EFFECTUER | I77: 1.6666667
D78: HEURES SEMAINE EFFECTUER | I78: =SUM(G75) -> 0 | K78: salaire net fin de mois
D79: INFRACTION DES 10 HEURES | I79: 0.41666667
D80: HEURES SUPLEMENTAIRE SEMAINE | I80: =SUM(I78-I77) -> -1.6666667 | K80: =SUM(G153) -> 0
D81: MOYENNE HEURES DE NUIT/SEMAINE | I81: 0.83333333 | K81: 1967
D82: CUMUL DES HEURES PAR PERIODE | H82: 3.3333333 | I82: =SUM(I60+I78) -> 0
H83: =SUM(I82-H82) -> -3.3333333
B88: SEMAINE 3 DU 11/03/2019 AU 17/03/2019
A90: conso l /100 | B90: n°de parc | C90: Tournée | D90: Jour | E90: Début de poste | F90: Fin de poste | G90: TEMPS DE SERVICE | H90: Pause de jour | I90: Pause de nuit | J90: Heures de nuit | K90: Heures reunion formation
C91: ? | D91: lundi | E91: =VLOOKUP(C91,' horaire et frais avant nao '!$A$4:I81,2,FALSE) -> 0 | F91: 0 | G91: =MOD(F91-E91,1)-I91-H91+K91 -> 0 | H91: 0 | I91: 0 | J91: =(IF(((E91*24)>=21)*AND((F91*24)>6)*AND((F91*24)<21),30-(E91*24),0)+IF(((F91*24)>=21)*AND((E91*24)>6)*AND((E91*24)<21),MIN((F91*24)-(E91*24),(F91*24)-21),0)+IF(((E91*24)>6)*AND((E91*24)<21)*AND((F91*24)<=6),3+(F91*24),0)+IF(((E91*24)<=6)*AND((F91*24)>6)*AND((F91*24)<21),6-(E91*24),0)+IF(((E91*24)<=6)*AND((F91*24)<=6),(F91*24)-(E91*24),0)+IF(((E91*24)>=21)*AND((F91*24)<=6),24-(E91*24)+(F91*24),0)+IF(((E91*24)>=21)*AND((F91*24)>=21),(F91*24)-(E91*24),0)+IF(((E91*24)<=6)*AND((F91*24)>=21),6-(E91*24)+(F91*24)-21,0)+IF(((E91*24)>6)*AND((E91*24)<21)*AND((F91*24)>6)*AND((F91*24)<21)*AND((E91*24)>(F91*24)),9,0))/24-I91 -> 0 | K91: 0
C92: ? | D92: mardi | E92: =VLOOKUP(C92,' horaire et frais avant nao '!$A$4:I82,2,FALSE) -> 0 | F92: 0 | G92: =MOD(F92-E92,1)-I92-H92+K92 -> 0 | H92: 0 | I92: 0 | J92: =(IF(((E92*24)>=21)*AND((F92*24)>6)*AND((F92*24)<21),30-(E92*24),0)+IF(((F92*24)>=21)*AND((E92*24)>6)*AND((E92*24)<21),MIN((F92*24)-(E92*24),(F92*24)-21),0)+IF(((E92*24)>6)*AND((E92*24)<21)*AND((F92*24)<=6),3+(F92*24),0)+IF(((E92*24)<=6)*AND((F92*24)>6)*AND((F92*24)<21),6-(E92*24),0)+IF(((E92*24)<=6)*AND((F92*24)<=6),(F92*24)-(E92*24),0)+IF(((E92*24)>=21)*AND((F92*24)<=6),24-(E92*24)+(F92*24),0)+IF(((E92*24)>=21)*AND((F92*24)>=21),(F92*24)-(E92*24),0)+IF(((E92*24)<=6)*AND((F92*24)>=21),6-(E92*24)+(F92*24)-21,0)+IF(((E92*24)>6)*AND((E92*24)<21)*AND((F92*24)>6)*AND((F92*24)<21)*AND((E92*24)>(F92*24)),9,0))/24-I92 -> 0 | K92: 0
C93: ? | D93: mercredi | E93: =VLOOKUP(C93,' horaire et frais avant nao '!$A$4:I83,2,FALSE) -> 0 | F93: 0 | G93: =MOD(F93-E93,1)-I93-H93+K93 -> 0 | H93: 0 | I93: 0 | J93: =(IF(((E93*24)>=21)*AND((F93*24)>6)*AND((F93*24)<21),30-(E93*24),0)+IF(((F93*24)>=21)*AND((E93*24)>6)*AND((E93*24)<21),MIN((F93*24)-(E93*24),(F93*24)-21),0)+IF(((E93*24)>6)*AND((E93*24)<21)*AND((F93*24)<=6),3+(F93*24),0)+IF(((E93*24)<=6)*AND((F93*24)>6)*AND((F93*24)<21),6-(E93*24),0)+IF(((E93*24)<=6)*AND((F93*24)<=6),(F93*24)-(E93*24),0)+IF(((E93*24)>=21)*AND((F93*24)<=6),24-(E93*24)+(F93*24),0)+IF(((E93*24)>=21)*AND((F93*24)>=21),(F93*24)-(E93*24),0)+IF(((E93*24)<=6)*AND((F93*24)>=21),6-(E93*24)+(F93*24)-21,0)+IF(((E93*24)>6)*AND((E93*24)<21)*AND((F93*24)>6)*AND((F93*24)<21)*AND((E93*24)>(F93*24)),9,0))/24-I93 -> 0 | K93: 0
C94: ? | D94: jeudi | E94: =VLOOKUP(C94,' horaire et frais avant nao '!$A$4:I84,2,FALSE) -> 0 | F94: 0 | G94: =MOD(F94-E94,1)-I94-H94+K94 -> 0 | H94: 0 | I94: 0 | J94: =(IF(((E94*24)>=21)*AND((F94*24)>6)*AND((F94*24)<21),30-(E94*24),0)+IF(((F94*24)>=21)*AND((E94*24)>6)*AND((E94*24)<21),MIN((F94*24)-(E94*24),(F94*24)-21),0)+IF(((E94*24)>6)*AND((E94*24)<21)*AND((F94*24)<=6),3+(F94*24),0)+IF(((E94*24)<=6)*AND((F94*24)>6)*AND((F94*24)<21),6-(E94*24),0)+IF(((E94*24)<=6)*AND((F94*24)<=6),(F94*24)-(E94*24),0)+IF(((E94*24)>=21)*AND((F94*24)<=6),24-(E94*24)+(F94*24),0)+IF(((E94*24)>=21)*AND((F94*24)>=21),(F94*24)-(E94*24),0)+IF(((E94*24)<=6)*AND((F94*24)>=21),6-(E94*24)+(F94*24)-21,0)+IF(((E94*24)>6)*AND((E94*24)<21)*AND((F94*24)>6)*AND((F94*24)<21)*AND((E94*24)>(F94*24)),9,0))/24-I94 -> 0 | K94: 0
C95: ? | D95: vendredi | E95: =VLOOKUP(C95,' horaire et frais avant nao '!$A$4:I85,2,FALSE) -> 0 | F95: 0 | G95: =MOD(F95-E95,1)-I95-H95+K95 -> 0 | H95: 0 | I95: 0 | J95: =(IF(((E95*24)>=21)*AND((F95*24)>6)*AND((F95*24)<21),30-(E95*24),0)+IF(((F95*24)>=21)*AND((E95*24)>6)*AND((E95*24)<21),MIN((F95*24)-(E95*24),(F95*24)-21),0)+IF(((E95*24)>6)*AND((E95*24)<21)*AND((F95*24)<=6),3+(F95*24),0)+IF(((E95*24)<=6)*AND((F95*24)>6)*AND((F95*24)<21),6-(E95*24),0)+IF(((E95*24)<=6)*AND((F95*24)<=6),(F95*24)-(E95*24),0)+IF(((E95*24)>=21)*AND((F95*24)<=6),24-(E95*24)+(F95*24),0)+IF(((E95*24)>=21)*AND((F95*24)>=21),(F95*24)-(E95*24),0)+IF(((E95*24)<=6)*AND((F95*24)>=21),6-(E95*24)+(F95*24)-21,0)+IF(((E95*24)>6)*AND((E95*24)<21)*AND((F95*24)>6)*AND((F95*24)<21)*AND((E95*24)>(F95*24)),9,0))/24-I95 -> 0 | K95: 0
C96: week | D96: samedi | E96: =VLOOKUP(C96,' horaire et frais avant nao '!$A$4:I86,2,FALSE) -> 0 | F96: 0 | G96: =MOD(F96-E96,1)-I96-H96+K96 -> 0 | H96: 0 | I96: 0 | J96: =(IF(((E96*24)>=21)*AND((F96*24)>6)*AND((F96*24)<21),30-(E96*24),0)+IF(((F96*24)>=21)*AND((E96*24)>6)*AND((E96*24)<21),MIN((F96*24)-(E96*24),(F96*24)-21),0)+IF(((E96*24)>6)*AND((E96*24)<21)*AND((F96*24)<=6),3+(F96*24),0)+IF(((E96*24)<=6)*AND((F96*24)>6)*AND((F96*24)<21),6-(E96*24),0)+IF(((E96*24)<=6)*AND((F96*24)<=6),(F96*24)-(E96*24),0)+IF(((E96*24)>=21)*AND((F96*24)<=6),24-(E96*24)+(F96*24),0)+IF(((E96*24)>=21)*AND((F96*24)>=21),(F96*24)-(E96*24),0)+IF(((E96*24)<=6)*AND((F96*24)>=21),6-(E96*24)+(F96*24)-21,0)+IF(((E96*24)>6)*AND((E96*24)<21)*AND((F96*24)>6)*AND((F96*24)<21)*AND((E96*24)>(F96*24)),9,0))/24-I96 -> 0 | K96: 0
C97: week | D97: dimanche | E97: =VLOOKUP(C97,' horaire et frais avant nao '!$A$4:I87,2,FALSE) -> 0 | F97: 0 | G97: =MOD(F97-E97,1)-I97-H97+K97 -> 0 | H97: 0 | I97: 0 | J97: =(IF(((E97*24)>=21)*AND((F97*24)>6)*AND((F97*24)<21),30-(E97*24),0)+IF(((F97*24)>=21)*AND((E97*24)>6)*AND((E97*24)<21),MIN((F97*24)-(E97*24),(F97*24)-21),0)+IF(((E97*24)>6)*AND((E97*24)<21)*AND((F97*24)<=6),3+(F97*24),0)+IF(((E97*24)<=6)*AND((F97*24)>6)*AND((F97*24)<21),6-(E97*24),0)+IF(((E97*24)<=6)*AND((F97*24)<=6),(F97*24)-(E97*24),0)+IF(((E97*24)>=21)*AND((F97*24)<=6),24-(E97*24)+(F97*24),0)+IF(((E97*24)>=21)*AND((F97*24)>=21),(F97*24)-(E97*24),0)+IF(((E97*24)<=6)*AND((F97*24)>=21),6-(E97*24)+(F97*24)-21,0)+IF(((E97*24)>6)*AND((E97*24)<21)*AND((F97*24)>6)*AND((F97*24)<21)*AND((E97*24)>(F97*24)),9,0))/24-I97 -> 0 | K97: 0
G98: =SUM(G91:G97) -> 0 | J98: =SUM(J91:J97) -> 0
D99: BASE HEURE PAR JOUR | I99: 0.33333333
D100: HEURES SEMAINE A EFFECTUER | I100: 1.6666667
D101: HEURES SEMAINE EFFECTUER | I101: =SUM(G98) -> 0 | K101: salaire net fin de mois
D102: INFRACTION DES 10 HEURES | I102: 0.41666667
D103: HEURES SUPLEMENTAIRE SEMAINE | I103: =SUM(I101-I100) -> -1.6666667 | K103: =SUM(G153) -> 0
D104: MOYENNE HEURES DE NUIT/SEMAINE | I104: 0.83333333 | K104: 2132
D105: CUMUL DES HEURES PAR PERIODE | H105: 5 | I105: =SUM(G53+G75+G98) -> 0
H106: =SUM(I105-H105) -> -5
B110: SEMAINE 4 DU 18/03/2019 AU 24/03/2019
A112: conso l /100 | B112: n°de parc | C112: Tournée | D112: Jour | E112: Début de poste | F112: Fin de poste | G112: TEMPS DE SERVICE | H112: Pause de jour | I112: Pause de nuit | J112: Heures de nuit | K112: Heures reunion formation
C113: ? | D113: lundi | E113: =VLOOKUP(C113,' horaire et frais avant nao '!$A$4:I81,2,FALSE) -> 0 | F113: 0 | G113: =MOD(F113-E113,1)-I113-H113+K113 -> 0 | H113: 0 | I113: 0 | J113: =(IF(((E113*24)>=21)*AND((F113*24)>6)*AND((F113*24)<21),30-(E113*24),0)+IF(((F113*24)>=21)*AND((E113*24)>6)*AND((E113*24)<21),MIN((F113*24)-(E113*24),(F113*24)-21),0)+IF(((E113*24)>6)*AND((E113*24)<21)*AND((F113*24)<=6),3+(F113*24),0)+IF(((E68*24)<=6)*AND((F113*24)>6)*AND((F113*24)<21),6-(E113*24),0)+IF(((E113*24)<=6)*AND((F113*24)<=6),(F113*24)-(E113*24),0)+IF(((E113*24)>=21)*AND((F113*24)<=6),24-(E113*24)+(F113*24),0)+IF(((E113*24)>=21)*AND((F113*24)>=21),(F113*24)-(E113*24),0)+IF(((E113*24)<=6)*AND((F113*24)>=21),6-(E113*24)+(F113*24)-21,0)+IF(((E113*24)>6)*AND((E113*24)<21)*AND((F113*24)>6)*AND((F113*24)<21)*AND((E113*24)>(F113*24)),9,0))/24-I113 -> 0 | K113: 0
C114: ? | D114: mardi | E114: =VLOOKUP(C114,' horaire et frais avant nao '!$A$4:I82,2,FALSE) -> 0 | F114: 0 | G114: =MOD(F114-E114,1)-I114-H114+K114 -> 0 | H114: 0 | I114: 0 | J114: =(IF(((E114*24)>=21)*AND((F114*24)>6)*AND((F114*24)<21),30-(E114*24),0)+IF(((F114*24)>=21)*AND((E114*24)>6)*AND((E114*24)<21),MIN((F114*24)-(E114*24),(F114*24)-21),0)+IF(((E114*24)>6)*AND((E114*24)<21)*AND((F114*24)<=6),3+(F114*24),0)+IF(((E69*24)<=6)*AND((F114*24)>6)*AND((F114*24)<21),6-(E114*24),0)+IF(((E114*24)<=6)*AND((F114*24)<=6),(F114*24)-(E114*24),0)+IF(((E114*24)>=21)*AND((F114*24)<=6),24-(E114*24)+(F114*24),0)+IF(((E114*24)>=21)*AND((F114*24)>=21),(F114*24)-(E114*24),0)+IF(((E114*24)<=6)*AND((F114*24)>=21),6-(E114*24)+(F114*24)-21,0)+IF(((E114*24)>6)*AND((E114*24)<21)*AND((F114*24)>6)*AND((F114*24)<21)*AND((E114*24)>(F114*24)),9,0))/24-I114 -> 0 | K114: 0
C115: ? | D115: mercredi | E115: =VLOOKUP(C115,' horaire et frais avant nao '!$A$4:I83,2,FALSE) -> 0 | F115: 0 | G115: =MOD(F115-E115,1)-I115-H115+K115 -> 0 | H115: 0 | I115: 0 | J115: =(IF(((E115*24)>=21)*AND((F115*24)>6)*AND((F115*24)<21),30-(E115*24),0)+IF(((F115*24)>=21)*AND((E115*24)>6)*AND((E115*24)<21),MIN((F115*24)-(E115*24),(F115*24)-21),0)+IF(((E115*24)>6)*AND((E115*24)<21)*AND((F115*24)<=6),3+(F115*24),0)+IF(((E70*24)<=6)*AND((F115*24)>6)*AND((F115*24)<21),6-(E115*24),0)+IF(((E115*24)<=6)*AND((F115*24)<=6),(F115*24)-(E115*24),0)+IF(((E115*24)>=21)*AND((F115*24)<=6),24-(E115*24)+(F115*24),0)+IF(((E115*24)>=21)*AND((F115*24)>=21),(F115*24)-(E115*24),0)+IF(((E115*24)<=6)*AND((F115*24)>=21),6-(E115*24)+(F115*24)-21,0)+IF(((E115*24)>6)*AND((E115*24)<21)*AND((F115*24)>6)*AND((F115*24)<21)*AND((E115*24)>(F115*24)),9,0))/24-I115 -> 0 | K115: 0
C116: ? | D116: jeudi | E116: =VLOOKUP(C116,' horaire et frais avant nao '!$A$4:I84,2,FALSE) -> 0 | F116: 0 | G116: =MOD(F116-E116,1)-I116-H116+K116 -> 0 | H116: 0 | I116: 0 | J116: =(IF(((E116*24)>=21)*AND((F116*24)>6)*AND((F116*24)<21),30-(E116*24),0)+IF(((F116*24)>=21)*AND((E116*24)>6)*AND((E116*24)<21),MIN((F116*24)-(E116*24),(F116*24)-21),0)+IF(((E116*24)>6)*AND((E116*24)<21)*AND((F116*24)<=6),3+(F116*24),0)+IF(((E71*24)<=6)*AND((F116*24)>6)*AND((F116*24)<21),6-(E116*24),0)+IF(((E116*24)<=6)*AND((F116*24)<=6),(F116*24)-(E116*24),0)+IF(((E116*24)>=21)*AND((F116*24)<=6),24-(E116*24)+(F116*24),0)+IF(((E116*24)>=21)*AND((F116*24)>=21),(F116*24)-(E116*24),0)+IF(((E116*24)<=6)*AND((F116*24)>=21),6-(E116*24)+(F116*24)-21,0)+IF(((E116*24)>6)*AND((E116*24)<21)*AND((F116*24)>6)*AND((F116*24)<21)*AND((E116*24)>(F116*24)),9,0))/24-I116 -> 0 | K116: 0
C117: ? | D117: vendredi | E117: =VLOOKUP(C117,' horaire et frais avant nao '!$A$4:I85,2,FALSE) -> 0 | F117: 0 | G117: =MOD(F117-E117,1)-I117-H117+K117 -> 0 | H117: 0 | I117: 0 | J117: =(IF(((E117*24)>=21)*AND((F117*24)>6)*AND((F117*24)<21),30-(E117*24),0)+IF(((F117*24)>=21)*AND((E117*24)>6)*AND((E117*24)<21),MIN((F117*24)-(E117*24),(F117*24)-21),0)+IF(((E117*24)>6)*AND((E117*24)<21)*AND((F117*24)<=6),3+(F117*24),0)+IF(((E72*24)<=6)*AND((F117*24)>6)*AND((F117*24)<21),6-(E117*24),0)+IF(((E117*24)<=6)*AND((F117*24)<=6),(F117*24)-(E117*24),0)+IF(((E117*24)>=21)*AND((F117*24)<=6),24-(E117*24)+(F117*24),0)+IF(((E117*24)>=21)*AND((F117*24)>=21),(F117*24)-(E117*24),0)+IF(((E117*24)<=6)*AND((F117*24)>=21),6-(E117*24)+(F117*24)-21,0)+IF(((E117*24)>6)*AND((E117*24)<21)*AND((F117*24)>6)*AND((F117*24)<21)*AND((E117*24)>(F117*24)),9,0))/24-I117 -> 0 | K117: 0
C118: week | D118: samedi | E118: =VLOOKUP(C118,' horaire et frais avant nao '!$A$4:I86,2,FALSE) -> 0 | F118: 0 | G118: =MOD(F118-E118,1)-I118-H118+K118 -> 0 | H118: 0 | I118: 0 | J118: =(IF(((E118*24)>=21)*AND((F118*24)>6)*AND((F118*24)<21),30-(E118*24),0)+IF(((F118*24)>=21)*AND((E118*24)>6)*AND((E118*24)<21),MIN((F118*24)-(E118*24),(F118*24)-21),0)+IF(((E118*24)>6)*AND((E118*24)<21)*AND((F118*24)<=6),3+(F118*24),0)+IF(((E73*24)<=6)*AND((F118*24)>6)*AND((F118*24)<21),6-(E118*24),0)+IF(((E118*24)<=6)*AND((F118*24)<=6),(F118*24)-(E118*24),0)+IF(((E118*24)>=21)*AND((F118*24)<=6),24-(E118*24)+(F118*24),0)+IF(((E118*24)>=21)*AND((F118*24)>=21),(F118*24)-(E118*24),0)+IF(((E118*24)<=6)*AND((F118*24)>=21),6-(E118*24)+(F118*24)-21,0)+IF(((E118*24)>6)*AND((E118*24)<21)*AND((F118*24)>6)*AND((F118*24)<21)*AND((E118*24)>(F118*24)),9,0))/24-I118 -> 0 | K118: 0
C119: week | D119: dimanche | E119: =VLOOKUP(C119,' horaire et frais avant nao '!$A$4:I87,2,FALSE) -> 0 | F119: 0 | G119: =MOD(F119-E119,1)-I119-H119+K119 -> 0 | H119: 0 | I119: 0 | J119: =(IF(((E119*24)>=21)*AND((F119*24)>6)*AND((F119*24)<21),30-(E119*24),0)+IF(((F119*24)>=21)*AND((E119*24)>6)*AND((E119*24)<21),MIN((F119*24)-(E119*24),(F119*24)-21),0)+IF(((E119*24)>6)*AND((E119*24)<21)*AND((F119*24)<=6),3+(F119*24),0)+IF(((E74*24)<=6)*AND((F119*24)>6)*AND((F119*24)<21),6-(E119*24),0)+IF(((E119*24)<=6)*AND((F119*24)<=6),(F119*24)-(E119*24),0)+IF(((E119*24)>=21)*AND((F119*24)<=6),24-(E119*24)+(F119*24),0)+IF(((E119*24)>=21)*AND((F119*24)>=21),(F119*24)-(E119*24),0)+IF(((E119*24)<=6)*AND((F119*24)>=21),6-(E119*24)+(F119*24)-21,0)+IF(((E119*24)>6)*AND((E119*24)<21)*AND((F119*24)>6)*AND((F119*24)<21)*AND((E119*24)>(F119*24)),9,0))/24-I119 -> 0 | K119: 0
G120: =SUM(G113:G119) -> 0 | J120: =SUM(J113:J119) -> 0
D121: BASE HEURE PAR JOUR | I121: 0.33333333
...

Sheet periode 4 fr04 versé 28  05 16
H1: PRIME DE DIMANCHE
A2: SEMAINE | B2: TOURNEE | C2: JOUR | D2: DATE | E2: repas soir non soumis | F2: Repas midi non soumis | G2: cassecroute soumis | H2: demi prime | I2: prime entiere | J2: tichet | K2: repas unique
A3: 14 | B3: ? | C3: lundi | D3: 42094 | E3: =VLOOKUP(B3,' horaire et frais avant nao '!$A$4:$I$81,3,FALSE) -> 0 | F3: =VLOOKUP(B3,' horaire et frais avant nao '!$A$4:$I$81,4,FALSE) -> 0 | G3: =VLOOKUP(B3,' horaire et frais avant nao '!$A$4:$I$81,5,FALSE) -> 0 | H3: =VLOOKUP(B3,' horaire et frais avant nao '!$A$4:$I$81,6,FALSE) -> 0 | I3: =VLOOKUP(B3,' horaire et frais avant nao '!$A$4:$I$81,7,FALSE) -> 0 | J3: =VLOOKUP(B3,' horaire et frais avant nao '!$A$4:$I$81,8,FALSE) -> 0 | K3: =VLOOKUP(B3,' horaire et frais avant nao '!$A$4:$I$81,9,FALSE) -> 0
B4: ? | C4: mardi | D4: 42095 | E4: =VLOOKUP(B4,' horaire et frais avant nao '!$A$4:$I$81,3,FALSE) -> 0 | F4: =VLOOKUP(B4,' horaire et frais avant nao '!$A$4:$I$81,4,FALSE) -> 0 | G4: =VLOOKUP(B4,' horaire et frais avant nao '!$A$4:$I$81,5,FALSE) -> 0 | H4: =VLOOKUP(B4,' horaire et frais avant nao '!$A$4:$I$81,6,FALSE) -> 0 | I4: =VLOOKUP(B4,' horaire et frais avant nao '!$A$4:$I$81,7,FALSE) -> 0 | J4: =VLOOKUP(B4,' horaire et frais avant nao '!$A$4:$I$81,8,FALSE) -> 0 | K4: =VLOOKUP(B4,' horaire et frais avant nao '!$A$4:$I$81,9,FALSE) -> 0
B5: ? | C5: mercredi | D5: 42096 | E5: =VLOOKUP(B5,' horaire et frais avant nao '!$A$4:$I$81,3,FALSE) -> 0 | F5: =VLOOKUP(B5,' horaire et frais avant nao '!$A$4:$I$81,4,FALSE) -> 0 | G5: =VLOOKUP(B5,' horaire et frais avant nao '!$A$4:$I$81,5,FALSE) -> 0 | H5: =VLOOKUP(B5,' horaire et frais avant nao '!$A$4:$I$81,6,FALSE) -> 0 | I5: =VLOOKUP(B5,' horaire et frais avant nao '!$A$4:$I$81,7,FALSE) -> 0 | J5: =VLOOKUP(B5,' horaire et frais avant nao '!$A$4:$I$81,8,FALSE) -> 0 | K5: =VLOOKUP(B5,' horaire et frais avant nao '!$A$4:$I$81,9,FALSE) -> 0
B6: ? | C6: jeudi | D6: 42097 | E6: =VLOOKUP(B6,' horaire et frais avant nao '!$A$4:$I$81,3,FALSE) -> 0 | F6: =VLOOKUP(B6,' horaire et frais avant nao '!$A$4:$I$81,4,FALSE) -> 0 | G6: =VLOOKUP(B6,' horaire et frais avant nao '!$A$4:$I$81,5,FALSE) -> 0 | H6: =VLOOKUP(B6,' horaire et frais avant nao '!$A$4:$I$81,6,FALSE) -> 0 | I6: =VLOOKUP(B6,' horaire et frais avant nao '!$A$4:$I$81,7,FALSE) -> 0 | J6: =VLOOKUP(B6,' horaire et frais avant nao '!$A$4:$I$81,8,FALSE) -> 0 | K6: =VLOOKUP(B6,' horaire et frais avant nao '!$A$4:$I$81,9,FALSE) -> 0
B7: ? | C7: vendredi | D7: 42098 | E7: =VLOOKUP(B7,' horaire et frais avant nao '!$A$4:$I$81,3,FALSE) -> 0 | F7: =VLOOKUP(B7,' horaire et frais avant nao '!$A$4:$I$81,4,FALSE) -> 0 | G7: =VLOOKUP(B7,' horaire et frais avant nao '!$A$4:$I$81,5,FALSE) -> 0 | H7: =VLOOKUP(B7,' horaire et frais avant nao '!$A$4:$I$81,6,FALSE) -> 0 | I7: =VLOOKUP(B7,' horaire et frais avant nao '!$A$4:$I$81,7,FALSE) -> 0 | J7: =VLOOKUP(B7,' horaire et frais avant nao '!$A$4:$I$81,8,FALSE) -> 0 | K7: =VLOOKUP(B7,' horaire et frais avant nao '!$A$4:$I$81,9,FALSE) -> 0
B8: WEEK | C8: samedi | D8: 42099 | E8: =VLOOKUP(B8,' horaire et frais avant nao '!$A$4:$I$81,3,FALSE) -> 0 | F8: =VLOOKUP(B8,' horaire et frais avant nao '!$A$4:$I$81,4,FALSE) -> 0 | G8: =VLOOKUP(B8,' horaire et frais avant nao '!$A$4:$I$81,5,FALSE) -> 0 | H8: =VLOOKUP(B8,' horaire et frais avant nao '!$A$4:$I$81,6,FALSE) -> 0 | I8: =VLOOKUP(B8,' horaire et frais avant nao '!$A$4:$I$81,7,FALSE) -> 0 | J8: =VLOOKUP(B8,' horaire et frais avant nao '!$A$4:$I$81,8,FALSE) -> 0 | K8: =VLOOKUP(B8,' horaire et frais avant nao '!$A$4:$I$81,9,FALSE) -> 0
B9: WEEK | C9: dimanche | D9: 42100 | E9: =VLOOKUP(B9,' horaire et frais avant nao '!$A$4:$I$81,3,FALSE) -> 0 | F9: =VLOOKUP(B9,' horaire et frais avant nao '!$A$4:$I$81,4,FALSE) -> 0 | G9: =VLOOKUP(B9,' horaire et frais avant nao '!$A$4:$I$81,5,FALSE) -> 0 | H9: =VLOOKUP(B9,' horaire et frais avant nao '!$A$4:$I$81,6,FALSE) -> 0 | I9: =VLOOKUP(B9,' horaire et frais avant nao '!$A$4:$I$81,7,FALSE) -> 0 | J9: =VLOOKUP(B9,' horaire et frais avant nao '!$A$4:$I$81,8,FALSE) -> 0 | K9: =VLOOKUP(B9,' horaire et frais avant nao '!$A$4:$I$81,9,FALSE) -> 0
A10: 15 | B10: ? | C10: lundi | D10: 42101 | E10: =VLOOKUP(B10,' horaire et frais avant nao '!$A$4:$I$81,3,FALSE) -> 0 | F10: =VLOOKUP(B10,' horaire et frais avant nao '!$A$4:$I$81,4,FALSE) -> 0 | G10: =VLOOKUP(B10,' horaire et frais avant nao '!$A$4:$I$81,5,FALSE) -> 0 | H10: =VLOOKUP(B10,' horaire et frais avant nao '!$A$4:$I$81,6,FALSE) -> 0 | I10: =VLOOKUP(B10,' horaire et frais avant nao '!$A$4:$I$81,7,FALSE) -> 0 | J10: =VLOOKUP(B10,' horaire et frais avant nao '!$A$4:$I$81,8,FALSE) -> 0 | K10: =VLOOKUP(B10,' horaire et frais avant nao '!$A$4:$I$81,9,FALSE) -> 0
B11: ? | C11: mardi | D11: 42102 | E11: =VLOOKUP(B11,' horaire et frais avant nao '!$A$4:$I$81,3,FALSE) -> 0 | F11: =VLOOKUP(B11,' horaire et frais avant nao '!$A$4:$I$81,4,FALSE) -> 0 | G11: =VLOOKUP(B11,' horaire et frais avant nao '!$A$4:$I$81,5,FALSE) -> 0 | H11: =VLOOKUP(B11,' horaire et frais avant nao '!$A$4:$I$81,6,FALSE) -> 0 | I11: =VLOOKUP(B11,' horaire et frais avant nao '!$A$4:$I$81,7,FALSE) -> 0 | J11: =VLOOKUP(B11,' horaire et frais avant nao '!$A$4:$I$81,8,FALSE) -> 0 | K11: =VLOOKUP(B11,' horaire et frais avant nao '!$A$4:$I$81,9,FALSE) -> 0
B12: ? | C12: mercredi | D12: 42103 | E12: =VLOOKUP(B12,' horaire et frais avant nao '!$A$4:$I$81,3,FALSE) -> 0 | F12: =VLOOKUP(B12,' horaire et frais avant nao '!$A$4:$I$81,4,FALSE) -> 0 | G12: =VLOOKUP(B12,' horaire et frais avant nao '!$A$4:$I$81,5,FALSE) -> 0 | H12: =VLOOKUP(B12,' horaire et frais avant nao '!$A$4:$I$81,6,FALSE) -> 0 | I12: =VLOOKUP(B12,' horaire et frais avant nao '!$A$4:$I$81,7,FALSE) -> 0 | J12: =VLOOKUP(B12,' horaire et frais avant nao '!$A$4:$I$81,8,FALSE) -> 0 | K12: =VLOOKUP(B12,' horaire et frais avant nao '!$A$4:$I$81,9,FALSE) -> 0
B13: ? | C13: jeudi | D13: 42104 | E13: =VLOOKUP(B13,' horaire et frais avant nao '!$A$4:$I$81,3,FALSE) -> 0 | F13: =VLOOKUP(B13,' horaire et frais avant nao '!$A$4:$I$81,4,FALSE) -> 0 | G13: =VLOOKUP(B13,' horaire et frais avant nao '!$A$4:$I$81,5,FALSE) -> 0 | H13: =VLOOKUP(B13,' horaire et frais avant nao '!$A$4:$I$81,6,FALSE) -> 0 | I13: =VLOOKUP(B13,' horaire et frais avant nao '!$A$4:$I$81,7,FALSE) -> 0 | J13: =VLOOKUP(B13,' horaire et frais avant nao '!$A$4:$I$81,8,FALSE) -> 0 | K13: =VLOOKUP(B13,' horaire et frais avant nao '!$A$4:$I$81,9,FALSE) -> 0
B14: ? | C14: vendredi | D14: 42105 | E14: =VLOOKUP(B14,' horaire et frais avant nao '!$A$4:$I$81,3,FALSE) -> 0 | F14: =VLOOKUP(B14,' horaire et frais avant nao '!$A$4:$I$81,4,FALSE) -> 0 | G14: =VLOOKUP(B14,' horaire et frais avant nao '!$A$4:$I$81,5,FALSE) -> 0 | H14: =VLOOKUP(B14,' horaire et frais avant nao '!$A$4:$I$81,6,FALSE) -> 0 | I14: =VLOOKUP(B14,' horaire et frais avant nao '!$A$4:$I$81,7,FALSE) -> 0 | J14: =VLOOKUP(B14,' horaire et frais avant nao '!$A$4:$I$81,8,FALSE) -> 0 | K14: =VLOOKUP(B14,' horaire et frais avant nao '!$A$4:$I$81,9,FALSE) -> 0
B15: WEEK | C15: samedi | D15: 42106 | E15: =VLOOKUP(B15,' horaire et frais avant nao '!$A$4:$I$81,3,FALSE) -> 0 | F15: =VLOOKUP(B15,' horaire et frais avant nao '!$A$4:$I$81,4,FALSE) -> 0 | G15: =VLOOKUP(B15,' horaire et frais avant nao '!$A$4:$I$81,5,FALSE) -> 0 | H15: =VLOOKUP(B15,' horaire et frais avant nao '!$A$4:$I$81,6,FALSE) -> 0 | I15: =VLOOKUP(B15,' horaire et frais avant nao '!$A$4:$I$81,7,FALSE) -> 0 | J15: =VLOOKUP(B15,' horaire et frais avant nao '!$A$4:$I$81,8,FALSE) -> 0 | K15: =VLOOKUP(B15,' horaire et frais avant nao '!$A$4:$I$81,9,FALSE) -> 0
B16: WEEK | C16: dimanche | D16: 42107 | E16: =VLOOKUP(B16,' horaire et frais avant nao '!$A$4:$I$81,3,FALSE) -> 0 | F16: =VLOOKUP(B16,' horaire et frais avant nao '!$A$4:$I$81,4,FALSE) -> 0 | G16: =VLOOKUP(B16,' horaire et frais avant nao '!$A$4:$I$81,5,FALSE) -> 0 | H16: =VLOOKUP(B16,' horaire et frais avant nao '!$A$4:$I$81,6,FALSE) -> 0 | I16: =VLOOKUP(B16,' horaire et frais avant nao '!$A$4:$I$81,7,FALSE) -> 0 | J16: =VLOOKUP(B16,' horaire et frais avant nao '!$A$4:$I$81,8,FALSE) -> 0 | K16: =VLOOKUP(B16,' horaire et frais avant nao '!$A$4:$I$81,9,FALSE) -> 0
A17: 16 | B17: ? | C17: lundi | D17: 42108 | E17: =VLOOKUP(B17,' horaire et frais avant nao '!$A$4:$I$81,3,FALSE) -> 0 | F17: =VLOOKUP(B17,' horaire et frais avant nao '!$A$4:$I$81,4,FALSE) -> 0 | G17: =VLOOKUP(B17,' horaire et frais avant nao '!$A$4:$I$81,5,FALSE) -> 0 | H17: =VLOOKUP(B17,' horaire et frais avant nao '!$A$4:$I$81,6,FALSE) -> 0 | I17: =VLOOKUP(B17,' horaire et frais avant nao '!$A$4:$I$81,7,FALSE) -> 0 | J17: =VLOOKUP(B17,' horaire et frais avant nao '!$A$4:$I$81,8,FALSE) -> 0 | K17: =VLOOKUP(B17,' horaire et frais avant nao '!$A$4:$I$81,9,FALSE) -> 0
B18: ? | C18: mardi | D18: 42109 | E18: =VLOOKUP(B18,' horaire et frais avant nao '!$A$4:$I$81,3,FALSE) -> 0 | F18: =VLOOKUP(B18,' horaire et frais avant nao '!$A$4:$I$81,4,FALSE) -> 0 | G18: =VLOOKUP(B18,' horaire et frais avant nao '!$A$4:$I$81,5,FALSE) -> 0 | H18: =VLOOKUP(B18,' horaire et frais avant nao '!$A$4:$I$81,6,FALSE) -> 0 | I18: =VLOOKUP(B18,' horaire et frais avant nao '!$A$4:$I$81,7,FALSE) -> 0 | J18: =VLOOKUP(B18,' horaire et frais avant nao '!$A$4:$I$81,8,FALSE) -> 0 | K18: =VLOOKUP(B18,' horaire et frais avant nao '!$A$4:$I$81,9,FALSE) -> 0
B19: ? | C19: mercredi | D19: 42110 | E19: =VLOOKUP(B19,' horaire et frais avant nao '!$A$4:$I$81,3,FALSE) -> 0 | F19: =VLOOKUP(B19,' horaire et frais avant nao '!$A$4:$I$81,4,FALSE) -> 0 | G19: =VLOOKUP(B19,' horaire et frais avant nao '!$A$4:$I$81,5,FALSE) -> 0 | H19: =VLOOKUP(B19,' horaire et frais avant nao '!$A$4:$I$81,6,FALSE) -> 0 | I19: =VLOOKUP(B19,' horaire et frais avant nao '!$A$4:$I$81,7,FALSE) -> 0 | J19: =VLOOKUP(B19,' horaire et frais avant nao '!$A$4:$I$81,8,FALSE) -> 0 | K19: =VLOOKUP(B19,' horaire et frais avant nao '!$A$4:$I$81,9,FALSE) -> 0
B20: ? | C20: jeudi | D20: 42111 | E20: =VLOOKUP(B20,' horaire et frais avant nao '!$A$4:$I$81,3,FALSE) -> 0 | F20: =VLOOKUP(B20,' horaire et frais avant nao '!$A$4:$I$81,4,FALSE) -> 0 | G20: =VLOOKUP(B20,' horaire et frais avant nao '!$A$4:$I$81,5,FALSE) -> 0 | H20: =VLOOKUP(B20,' horaire et frais avant nao '!$A$4:$I$81,6,FALSE) -> 0 | I20: =VLOOKUP(B20,' horaire et frais avant nao '!$A$4:$I$81,7,FALSE) -> 0 | J20: =VLOOKUP(B20,' horaire et frais avant nao '!$A$4:$I$81,8,FALSE) -> 0 | K20: =VLOOKUP(B20,' horaire et frais avant nao '!$A$4:$I$81,9,FALSE) -> 0
B21: ? | C21: vendredi | D21: 42112 | E21: =VLOOKUP(B21,' horaire et frais avant nao '!$A$4:$I$81,3,FALSE) -> 0 | F21: =VLOOKUP(B21,' horaire et frais avant nao '!$A$4:$I$81,4,FALSE) -> 0 | G21: =VLOOKUP(B21,' horaire et frais avant nao '!$A$4:$I$81,5,FALSE) -> 0 | H21: =VLOOKUP(B21,' horaire et frais avant nao '!$A$4:$I$81,6,FALSE) -> 0 | I21: =VLOOKUP(B21,' horaire et frais avant nao '!$A$4:$I$81,7,FALSE) -> 0 | J21: =VLOOKUP(B21,' horaire et frais avant nao '!$A$4:$I$81,8,FALSE) -> 0 | K21: =VLOOKUP(B21,' horaire et frais avant nao '!$A$4:$I$81,9,FALSE) -> 0
B22: WEEK | C22: samedi | D22: 42113 | E22: =VLOOKUP(B22,' horaire et frais avant nao '!$A$4:$I$81,3,FALSE) -> 0 | F22: =VLOOKUP(B22,' horaire et frais avant nao '!$A$4:$I$81,4,FALSE) -> 0 | G22: =VLOOKUP(B22,' horaire et frais avant nao '!$A$4:$I$81,5,FALSE) -> 0 | H22: =VLOOKUP(B22,' horaire et frais avant nao '!$A$4:$I$81,6,FALSE) -> 0 | I22: =VLOOKUP(B22,' horaire et frais avant nao '!$A$4:$I$81,7,FALSE) -> 0 | J22: =VLOOKUP(B22,' horaire et frais avant nao '!$A$4:$I$81,8,FALSE) -> 0 | K22: =VLOOKUP(B22,' horaire et frais avant nao '!$A$4:$I$81,9,FALSE) -> 0
B23: WEEK | C23: dimanche | D23: 42114 | E23: =VLOOKUP(B23,' horaire et frais avant nao '!$A$4:$I$81,3,FALSE) -> 0 | F23: =VLOOKUP(B23,' horaire et frais avant nao '!$A$4:$I$81,4,FALSE) -> 0 | G23: =VLOOKUP(B23,' horaire et frais avant nao '!$A$4:$I$81,5,FALSE) -> 0 | H23: =VLOOKUP(B23,' horaire et frais avant nao '!$A$4:$I$81,6,FALSE) -> 0 | I23: =VLOOKUP(B23,' horaire et frais avant nao '!$A$4:$I$81,7,FALSE) -> 0 | J23: =VLOOKUP(B23,' horaire et frais avant nao '!$A$4:$I$81,8,FALSE) -> 0 | K23: =VLOOKUP(B23,' horaire et frais avant nao '!$A$4:$I$81,9,FALSE) -> 0
A24: 17 | B24: ? | C24: lundi | D24: 42115 | E24: =VLOOKUP(B24,' horaire et frais avant nao '!$A$4:$I$81,3,FALSE) -> 0 | F24: =VLOOKUP(B24,' horaire et frais avant nao '!$A$4:$I$81,4,FALSE) -> 0 | G24: =VLOOKUP(B24,' horaire et frais avant nao '!$A$4:$I$81,5,FALSE) -> 0 | H24: =VLOOKUP(B24,' horaire et frais avant nao '!$A$4:$I$81,6,FALSE) -> 0 | I24: =VLOOKUP(B24,' horaire et frais avant nao '!$A$4:$I$81,7,FALSE) -> 0 | J24: =VLOOKUP(B24,' horaire et frais avant nao '!$A$4:$I$81,8,FALSE) -> 0 | K24: =VLOOKUP(B24,' horaire et frais avant nao '!$A$4:$I$81,9,FALSE) -> 0
B25: ? | C25: mardi | D25: 42116 | E25: =VLOOKUP(B25,' horaire et frais avant nao '!$A$4:$I$81,3,FALSE) -> 0 | F25: =VLOOKUP(B25,' horaire et frais avant nao '!$A$4:$I$81,4,FALSE) -> 0 | G25: =VLOOKUP(B25,' horaire et frais avant nao '!$A$4:$I$81,5,FALSE) -> 0 | H25: =VLOOKUP(B25,' horaire et frais avant nao '!$A$4:$I$81,6,FALSE) -> 0 | I25: =VLOOKUP(B25,' horaire et frais avant nao '!$A$4:$I$81,7,FALSE) -> 0 | J25: =VLOOKUP(B25,' horaire et frais avant nao '!$A$4:$I$81,8,FALSE) -> 0 | K25: =VLOOKUP(B25,' horaire et frais avant nao '!$A$4:$I$81,9,FALSE) -> 0
B26: ? | C26: mercredi | D26: 42117 | E26: =VLOOKUP(B26,' horaire et frais avant nao '!$A$4:$I$81,3,FALSE) -> 0 | F26: =VLOOKUP(B26,' horaire et frais avant nao '!$A$4:$I$81,4,FALSE) -> 0 | G26: =VLOOKUP(B26,' horaire et frais avant nao '!$A$4:$I$81,5,FALSE) -> 0 | H26: =VLOOKUP(B26,' horaire et frais avant nao '!$A$4:$I$81,6,FALSE) -> 0 | I26: =VLOOKUP(B26,' horaire et frais avant nao '!$A$4:$I$81,7,FALSE) -> 0 | J26: =VLOOKUP(B26,' horaire et frais avant nao '!$A$4:$I$81,8,FALSE) -> 0 | K26: =VLOOKUP(B26,' horaire et frais avant nao '!$A$4:$I$81,9,FALSE) -> 0
B27: ? | C27: jeudi | D27: 42118 | E27: =VLOOKUP(B27,' horaire et frais avant nao '!$A$4:$I$81,3,FALSE) -> 0 | F27: =VLOOKUP(B27,' horaire et frais avant nao '!$A$4:$I$81,4,FALSE) -> 0 | G27: =VLOOKUP(B27,' horaire et frais avant nao '!$A$4:$I$81,5,FALSE) -> 0 | H27: =VLOOKUP(B27,' horaire et frais avant nao '!$A$4:$I$81,6,FALSE) -> 0 | I27: =VLOOKUP(B27,' horaire et frais avant nao '!$A$4:$I$81,7,FALSE) -> 0 | J27: =VLOOKUP(B27,' horaire et frais avant nao '!$A$4:$I$81,8,FALSE) -> 0 | K27: =VLOOKUP(B27,' horaire et frais avant nao '!$A$4:$I$81,9,FALSE) -> 0
B28: ? | C28: vendredi | D28: 42119 | E28: =VLOOKUP(B28,' horaire et frais avant nao '!$A$4:$I$81,3,FALSE) -> 0 | F28: =VLOOKUP(B28,' horaire et frais avant nao '!$A$4:$I$81,4,FALSE) -> 0 | G28: =VLOOKUP(B28,' horaire et frais avant nao '!$A$4:$I$81,5,FALSE) -> 0 | H28: =VLOOKUP(B28,' horaire et frais avant nao '!$A$4:$I$81,6,FALSE) -> 0 | I28: =VLOOKUP(B28,' horaire et frais avant nao '!$A$4:$I$81,7,FALSE) -> 0 | J28: =VLOOKUP(B28,' horaire et frais avant nao '!$A$4:$I$81,8,FALSE) -> 0 | K28: =VLOOKUP(B28,' horaire et frais avant nao '!$A$4:$I$81,9,FALSE) -> 0
B29: WEEK | C29: samedi | D29: 42120 | E29: =VLOOKUP(B29,' horaire et frais avant nao '!$A$4:$I$81,3,FALSE) -> 0 | F29: =VLOOKUP(B29,' horaire et frais avant nao '!$A$4:$I$81,4,FALSE) -> 0 | G29: =VLOOKUP(B29,' horaire et frais avant nao '!$A$4:$I$81,5,FALSE) -> 0 | H29: =VLOOKUP(B29,' horaire et frais avant nao '!$A$4:$I$81,6,FALSE) -> 0 | I29: =VLOOKUP(B29,' horaire et frais avant nao '!$A$4:$I$81,7,FALSE) -> 0 | J29: =VLOOKUP(B29,' horaire et frais avant nao '!$A$4:$I$81,8,FALSE) -> 0 | K29: =VLOOKUP(B29,' horaire et frais avant nao '!$A$4:$I$81,9,FALSE) -> 0
B30: WEEK | C30: dimanche | D30: 42121 | E30: =VLOOKUP(B30,' horaire et frais avant nao '!$A$4:$I$81,3,FALSE) -> 0 | F30: =VLOOKUP(B30,' horaire et frais avant nao '!$A$4:$I$81,4,FALSE) -> 0 | G30: =VLOOKUP(B30,' horaire et frais avant nao '!$A$4:$I$81,5,FALSE) -> 0 | H30: =VLOOKUP(B30,' horaire et frais avant nao '!$A$4:$I$81,6,FALSE) -> 0 | I30: =VLOOKUP(B30,' horaire et frais avant nao '!$A$4:$I$81,7,FALSE) -> 0 | J30: =VLOOKUP(B30,' horaire et frais avant nao '!$A$4:$I$81,8,FALSE) -> 0 | K30: =VLOOKUP(B30,' horaire et frais avant nao '!$A$4:$I$81,9,FALSE) -> 0
A31: 18 | B31: ? | C31: lundi | D31: 42122 | E31: =VLOOKUP(B31,' horaire et frais avant nao '!$A$4:$I$81,3,FALSE) -> 0 | F31: =VLOOKUP(B31,' horaire et frais avant nao '!$A$4:$I$81,4,FALSE) -> 0 | G31: =VLOOKUP(B31,' horaire et frais avant nao '!$A$4:$I$81,5,FALSE) -> 0 | H31: =VLOOKUP(B31,' horaire et frais avant nao '!$A$4:$I$81,6,FALSE) -> 0 | I31: =VLOOKUP(B31,' horaire et frais avant nao '!$A$4:$I$81,7,FALSE) -> 0 | J31: =VLOOKUP(B31,' horaire et frais avant nao '!$A$4:$I$81,8,FALSE) -> 0 | K31: =VLOOKUP(B31,' horaire et frais avant nao '!$A$4:$I$81,9,FALSE) -> 0
B32: ? | C32: mardi | D32: 42123 | E32: =VLOOKUP(B32,' horaire et frais avant nao '!$A$4:$I$81,3,FALSE) -> 0 | F32: =VLOOKUP(B32,' horaire et frais avant nao '!$A$4:$I$81,4,FALSE) -> 0 | G32: =VLOOKUP(B32,' horaire et frais avant nao '!$A$4:$I$81,5,FALSE) -> 0 | H32: =VLOOKUP(B32,' horaire et frais avant nao '!$A$4:$I$81,6,FALSE) -> 0 | I32: =VLOOKUP(B32,' horaire et frais avant nao '!$A$4:$I$81,7,FALSE) -> 0 | J32: =VLOOKUP(B32,' horaire et frais avant nao '!$A$4:$I$81,8,FALSE) -> 0 | K32: =VLOOKUP(B32,' horaire et frais avant nao '!$A$4:$I$81,9,FALSE) -> 0
B33: ? | E33: =VLOOKUP(B33,' horaire et frais avant nao '!$A$4:$I$81,3,FALSE) -> 0 | F33: =VLOOKUP(B33,' horaire et frais avant nao '!$A$4:$I$81,4,FALSE) -> 0 | G33: =VLOOKUP(B33,' horaire et frais avant nao '!$A$4:$I$81,5,FALSE) -> 0 | H33: =VLOOKUP(B33,' horaire et frais avant nao '!$A$4:$I$81,6,FALSE) -> 0 | I33: =VLOOKUP(B33,' horaire et frais avant nao '!$A$4:$I$81,7,FALSE) -> 0 | J33: =VLOOKUP(B33,' horaire et frais avant nao '!$A$4:$I$81,8,FALSE) -> 0 | K33: =VLOOKUP(B33,' horaire et frais avant nao '!$A$4:$I$81,9,FALSE) -> 0
B34: TOTAL | E34: =SUM(E3:E33) -> 0 | F34: =SUM(F3:F33) -> 0 | G34: =SUM(G3:G33) -> 0 | H34: =SUM(H3:H33) -> 0 | I34: =SUM(I3:I33) -> 0 | J34: =SUM(J3:J33) -> 0 | K34: =SUM(K3:K33) -> 0
A35: SEMAINE | B35: TOURNEE | C35: JOUR | D35: DATE | E35: repas soir non soumis | F35: Repas midi non soumis | G35: cassecroute soumis | H35: demi prime | I35: prime entiere | J35: tichet | K35: repas unique
B43: SEMAINE 1 DU 25/03/2019 AU 31/03/2019
A45: conso l /100 | B45: n°de parc | C45: Tournée | D45: Jour | E45: Début de poste | F45: Fin de poste | G45: TEMPS DE SERVICE | H45: Pause de jour | I45: Pause de nuit | J45: Heures de nuit | K45: Heures reunion formation
C46: ? | D46: lundi | E46: =VLOOKUP(C46,' horaire et frais avant nao '!$A$4:I81,2,FALSE) -> 0 | F46: 0 | G46: =MOD(F46-E46,1)-I46-H46+K46 -> 0 | H46: 0 | I46: 0 | J46: =(IF(((E46*24)>=21)*AND((F46*24)>6)*AND((F46*24)<21),30-(E46*24),0)+IF(((F46*24)>=21)*AND((E46*24)>6)*AND((E46*24)<21),MIN((F46*24)-(E46*24),(F46*24)-21),0)+IF(((E46*24)>6)*AND((E46*24)<21)*AND((F46*24)<=6),3+(F46*24),0)+IF(((E46*24)<=6)*AND((F46*24)>6)*AND((F46*24)<21),6-(E46*24),0)+IF(((E46*24)<=6)*AND((F46*24)<=6),(F46*24)-(E46*24),0)+IF(((E46*24)>=21)*AND((F46*24)<=6),24-(E46*24)+(F46*24),0)+IF(((E46*24)>=21)*AND((F46*24)>=21),(F46*24)-(E46*24),0)+IF(((E46*24)<=6)*AND((F46*24)>=21),6-(E46*24)+(F46*24)-21,0)+IF(((E46*24)>6)*AND((E46*24)<21)*AND((F46*24)>6)*AND((F46*24)<21)*AND((E46*24)>(F46*24)),9,0))/24-I46 -> 0 | K46: 0
C47: ? | D47: mardi | E47: =VLOOKUP(C47,' horaire et frais avant nao '!$A$4:I82,2,FALSE) -> 0 | F47: 0 | G47: =MOD(F47-E47,1)-I47-H47+K47 -> 0 | H47: 0 | I47: 0 | J47: =(IF(((E47*24)>=21)*AND((F47*24)>6)*AND((F47*24)<21),30-(E47*24),0)+IF(((F47*24)>=21)*AND((E47*24)>6)*AND((E47*24)<21),MIN((F47*24)-(E47*24),(F47*24)-21),0)+IF(((E47*24)>6)*AND((E47*24)<21)*AND((F47*24)<=6),3+(F47*24),0)+IF(((E47*24)<=6)*AND((F47*24)>6)*AND((F47*24)<21),6-(E47*24),0)+IF(((E47*24)<=6)*AND((F47*24)<=6),(F47*24)-(E47*24),0)+IF(((E47*24)>=21)*AND((F47*24)<=6),24-(E47*24)+(F47*24),0)+IF(((E47*24)>=21)*AND((F47*24)>=21),(F47*24)-(E47*24),0)+IF(((E47*24)<=6)*AND((F47*24)>=21),6-(E47*24)+(F47*24)-21,0)+IF(((E47*24)>6)*AND((E47*24)<21)*AND((F47*24)>6)*AND((F47*24)<21)*AND((E47*24)>(F47*24)),9,0))/24-I47 -> 0 | K47: 0
C48: ? | D48: mercredi | E48: =VLOOKUP(C48,' horaire et frais avant nao '!$A$4:I83,2,FALSE) -> 0 | F48: 0 | G48: =MOD(F48-E48,1)-I48-H48+K48 -> 0 | H48: 0 | I48: 0 | J48: =(IF(((E48*24)>=21)*AND((F48*24)>6)*AND((F48*24)<21),30-(E48*24),0)+IF(((F48*24)>=21)*AND((E48*24)>6)*AND((E48*24)<21),MIN((F48*24)-(E48*24),(F48*24)-21),0)+IF(((E48*24)>6)*AND((E48*24)<21)*AND((F48*24)<=6),3+(F48*24),0)+IF(((E48*24)<=6)*AND((F48*24)>6)*AND((F48*24)<21),6-(E48*24),0)+IF(((E48*24)<=6)*AND((F48*24)<=6),(F48*24)-(E48*24),0)+IF(((E48*24)>=21)*AND((F48*24)<=6),24-(E48*24)+(F48*24),0)+IF(((E48*24)>=21)*AND((F48*24)>=21),(F48*24)-(E48*24),0)+IF(((E48*24)<=6)*AND((F48*24)>=21),6-(E48*24)+(F48*24)-21,0)+IF(((E48*24)>6)*AND((E48*24)<21)*AND((F48*24)>6)*AND((F48*24)<21)*AND((E48*24)>(F48*24)),9,0))/24-I48 -> 0 | K48: 0
C49: ? | D49: jeudi | E49: =VLOOKUP(C49,' horaire et frais avant nao '!$A$4:I84,2,FALSE) -> 0 | F49: 0 | G49: =MOD(F49-E49,1)-I49-H49+K49 -> 0 | H49: 0 | I49: 0 | J49: =(IF(((E49*24)>=21)*AND((F49*24)>6)*AND((F49*24)<21),30-(E49*24),0)+IF(((F49*24)>=21)*AND((E49*24)>6)*AND((E49*24)<21),MIN((F49*24)-(E49*24),(F49*24)-21),0)+IF(((E49*24)>6)*AND((E49*24)<21)*AND((F49*24)<=6),3+(F49*24),0)+IF(((E49*24)<=6)*AND((F49*24)>6)*AND((F49*24)<21),6-(E49*24),0)+IF(((E49*24)<=6)*AND((F49*24)<=6),(F49*24)-(E49*24),0)+IF(((E49*24)>=21)*AND((F49*24)<=6),24-(E49*24)+(F49*24),0)+IF(((E49*24)>=21)*AND((F49*24)>=21),(F49*24)-(E49*24),0)+IF(((E49*24)<=6)*AND((F49*24)>=21),6-(E49*24)+(F49*24)-21,0)+IF(((E49*24)>6)*AND((E49*24)<21)*AND((F49*24)>6)*AND((F49*24)<21)*AND((E49*24)>(F49*24)),9,0))/24-I49 -> 0 | K49: 0
C50: ? | D50: vendredi | E50: =VLOOKUP(C50,' horaire et frais avant nao '!$A$4:I85,2,FALSE) -> 0 | F50: 0 | G50: =MOD(F50-E50,1)-I50-H50+K50 -> 0 | H50: 0 | I50: 0 | J50: =(IF(((E50*24)>=21)*AND((F50*24)>6)*AND((F50*24)<21),30-(E50*24),0)+IF(((F50*24)>=21)*AND((E50*24)>6)*AND((E50*24)<21),MIN((F50*24)-(E50*24),(F50*24)-21),0)+IF(((E50*24)>6)*AND((E50*24)<21)*AND((F50*24)<=6),3+(F50*24),0)+IF(((E50*24)<=6)*AND((F50*24)>6)*AND((F50*24)<21),6-(E50*24),0)+IF(((E50*24)<=6)*AND((F50*24)<=6),(F50*24)-(E50*24),0)+IF(((E50*24)>=21)*AND((F50*24)<=6),24-(E50*24)+(F50*24),0)+IF(((E50*24)>=21)*AND((F50*24)>=21),(F50*24)-(E50*24),0)+IF(((E50*24)<=6)*AND((F50*24)>=21),6-(E50*24)+(F50*24)-21,0)+IF(((E50*24)>6)*AND((E50*24)<21)*AND((F50*24)>6)*AND((F50*24)<21)*AND((E50*24)>(F50*24)),9,0))/24-I50 -> 0 | K50: 0
C51: week | D51: samedi | E51: =VLOOKUP(C51,' horaire et frais avant nao '!$A$4:I86,2,FALSE) -> 0 | F51: 0 | G51: =MOD(F51-E51,1)-I51-H51+K51 -> 0 | H51: 0 | I51: 0 | J51: =(IF(((E51*24)>=21)*AND((F51*24)>6)*AND((F51*24)<21),30-(E51*24),0)+IF(((F51*24)>=21)*AND((E51*24)>6)*AND((E51*24)<21),MIN((F51*24)-(E51*24),(F51*24)-21),0)+IF(((E51*24)>6)*AND((E51*24)<21)*AND((F51*24)<=6),3+(F51*24),0)+IF(((E51*24)<=6)*AND((F51*24)>6)*AND((F51*24)<21),6-(E51*24),0)+IF(((E51*24)<=6)*AND((F51*24)<=6),(F51*24)-(E51*24),0)+IF(((E51*24)>=21)*AND((F51*24)<=6),24-(E51*24)+(F51*24),0)+IF(((E51*24)>=21)*AND((F51*24)>=21),(F51*24)-(E51*24),0)+IF(((E51*24)<=6)*AND((F51*24)>=21),6-(E51*24)+(F51*24)-21,0)+IF(((E51*24)>6)*AND((E51*24)<21)*AND((F51*24)>6)*AND((F51*24)<21)*AND((E51*24)>(F51*24)),9,0))/24-I51 -> 0 | K51: 0
C52: week | D52: dimanche | E52: =VLOOKUP(C52,' horaire et frais avant nao '!$A$4:I87,2,FALSE) -> 0 | F52: 0 | G52: =MOD(F52-E52,1)-I52-H52+K52 -> 0 | H52: 0 | I52: 0 | J52: =(IF(((E52*24)>=21)*AND((F52*24)>6)*AND((F52*24)<21),30-(E52*24),0)+IF(((F52*24)>=21)*AND((E52*24)>6)*AND((E52*24)<21),MIN((F52*24)-(E52*24),(F52*24)-21),0)+IF(((E52*24)>6)*AND((E52*24)<21)*AND((F52*24)<=6),3+(F52*24),0)+IF(((E52*24)<=6)*AND((F52*24)>6)*AND((F52*24)<21),6-(E52*24),0)+IF(((E52*24)<=6)*AND((F52*24)<=6),(F52*24)-(E52*24),0)+IF(((E52*24)>=21)*AND((F52*24)<=6),24-(E52*24)+(F52*24),0)+IF(((E52*24)>=21)*AND((F52*24)>=21),(F52*24)-(E52*24),0)+IF(((E52*24)<=6)*AND((F52*24)>=21),6-(E52*24)+(F52*24)-21,0)+IF(((E52*24)>6)*AND((E52*24)<21)*AND((F52*24)>6)*AND((F52*24)<21)*AND((E52*24)>(F52*24)),9,0))/24-I52 -> 0 | K52: 0
G53: =SUM(G46:G52) -> 0 | J53: =SUM(J46:J52) -> 0
D54: BASE HEURE PAR JOUR | I54: 0.33333333
D55: HEURES SEMAINE A EFFECTUER | I55: 1.6666667
D56: HEURES SEMAINE EFFECTUER | I56: =SUM(G53) -> 0 | K56: salaire net fin de mois
D57: INFRACTION DES 10 HEURES | I57: 0.41666667
D58: HEURES SUPLEMENTAIRE SEMAINE | I58: =SUM(I56-I55) -> -1.6666667 | K58: =SUM(G153) -> 0
D59: MOYENNE HEURES DE NUIT/SEMAINE | I59: 0.83333333
D60: CUMUL DES HEURES PAR PERIODE | H60: 1.6666667 | I60: =SUM(I56) -> 0
H61: =SUM(I60-H60) -> -1.6666667
B65: SEMAINE 2 DU 01/04/2019 AU 07/04/2019
A67: conso l /100 | B67: n°de parc | C67: Tournée | D67: Jour | E67: Début de poste | F67: Fin de poste | G67: TEMPS DE SERVICE | H67: Pause de jour | I67: Pause de nuit | J67: Heures de nuit | K67: Heures reunion formation
C68: ? | D68: lundi | E68: =VLOOKUP(C68,' horaire et frais avant nao '!$A$4:I81,2,FALSE) -> 0 | F68: 0 | G68: =MOD(F68-E68,1)-I68-H68+K68 -> 0 | H68: 0 | I68: 0 | J68: =(IF(((E68*24)>=21)*AND((F68*24)>6)*AND((F68*24)<21),30-(E68*24),0)+IF(((F68*24)>=21)*AND((E68*24)>6)*AND((E68*24)<21),MIN((F68*24)-(E68*24),(F68*24)-21),0)+IF(((E68*24)>6)*AND((E68*24)<21)*AND((F68*24)<=6),3+(F68*24),0)+IF(((E68*24)<=6)*AND((F68*24)>6)*AND((F68*24)<21),6-(E68*24),0)+IF(((E68*24)<=6)*AND((F68*24)<=6),(F68*24)-(E68*24),0)+IF(((E68*24)>=21)*AND((F68*24)<=6),24-(E68*24)+(F68*24),0)+IF(((E68*24)>=21)*AND((F68*24)>=21),(F68*24)-(E68*24),0)+IF(((E68*24)<=6)*AND((F68*24)>=21),6-(E68*24)+(F68*24)-21,0)+IF(((E68*24)>6)*AND((E68*24)<21)*AND((F68*24)>6)*AND((F68*24)<21)*AND((E68*24)>(F68*24)),9,0))/24-I68 -> 0 | K68: 0
C69: ? | D69: mardi | E69: =VLOOKUP(C69,' horaire et frais avant nao '!$A$4:I82,2,FALSE) -> 0 | F69: 0 | G69: =MOD(F69-E69,1)-I69-H69+K69 -> 0 | H69: 0 | I69: 0 | J69: =(IF(((E69*24)>=21)*AND((F69*24)>6)*AND((F69*24)<21),30-(E69*24),0)+IF(((F69*24)>=21)*AND((E69*24)>6)*AND((E69*24)<21),MIN((F69*24)-(E69*24),(F69*24)-21),0)+IF(((E69*24)>6)*AND((E69*24)<21)*AND((F69*24)<=6),3+(F69*24),0)+IF(((E69*24)<=6)*AND((F69*24)>6)*AND((F69*24)<21),6-(E69*24),0)+IF(((E69*24)<=6)*AND((F69*24)<=6),(F69*24)-(E69*24),0)+IF(((E69*24)>=21)*AND((F69*24)<=6),24-(E69*24)+(F69*24),0)+IF(((E69*24)>=21)*AND((F69*24)>=21),(F69*24)-(E69*24),0)+IF(((E69*24)<=6)*AND((F69*24)>=21),6-(E69*24)+(F69*24)-21,0)+IF(((E69*24)>6)*AND((E69*24)<21)*AND((F69*24)>6)*AND((F69*24)<21)*AND((E69*24)>(F69*24)),9,0))/24-I69 -> 0 | K69: 0
C70: ? | D70: mercredi | E70: =VLOOKUP(C70,' horaire et frais avant nao '!$A$4:I83,2,FALSE) -> 0 | F70: 0 | G70: =MOD(F70-E70,1)-I70-H70+K70 -> 0 | H70: 0 | I70: 0 | J70: =(IF(((E70*24)>=21)*AND((F70*24)>6)*AND((F70*24)<21),30-(E70*24),0)+IF(((F70*24)>=21)*AND((E70*24)>6)*AND((E70*24)<21),MIN((F70*24)-(E70*24),(F70*24)-21),0)+IF(((E70*24)>6)*AND((E70*24)<21)*AND((F70*24)<=6),3+(F70*24),0)+IF(((E70*24)<=6)*AND((F70*24)>6)*AND((F70*24)<21),6-(E70*24),0)+IF(((E70*24)<=6)*AND((F70*24)<=6),(F70*24)-(E70*24),0)+IF(((E70*24)>=21)*AND((F70*24)<=6),24-(E70*24)+(F70*24),0)+IF(((E70*24)>=21)*AND((F70*24)>=21),(F70*24)-(E70*24),0)+IF(((E70*24)<=6)*AND((F70*24)>=21),6-(E70*24)+(F70*24)-21,0)+IF(((E70*24)>6)*AND((E70*24)<21)*AND((F70*24)>6)*AND((F70*24)<21)*AND((E70*24)>(F70*24)),9,0))/24-I70 -> 0 | K70: 0
C71: ? | D71: jeudi | E71: =VLOOKUP(C71,' horaire et frais avant nao '!$A$4:I84,2,FALSE) -> 0 | F71: 0 | G71: =MOD(F71-E71,1)-I71-H71+K71 -> 0 | H71: 0 | I71: 0 | J71: =(IF(((E71*24)>=21)*AND((F71*24)>6)*AND((F71*24)<21),30-(E71*24),0)+IF(((F71*24)>=21)*AND((E71*24)>6)*AND((E71*24)<21),MIN((F71*24)-(E71*24),(F71*24)-21),0)+IF(((E71*24)>6)*AND((E71*24)<21)*AND((F71*24)<=6),3+(F71*24),0)+IF(((E71*24)<=6)*AND((F71*24)>6)*AND((F71*24)<21),6-(E71*24),0)+IF(((E71*24)<=6)*AND((F71*24)<=6),(F71*24)-(E71*24),0)+IF(((E71*24)>=21)*AND((F71*24)<=6),24-(E71*24)+(F71*24),0)+IF(((E71*24)>=21)*AND((F71*24)>=21),(F71*24)-(E71*24),0)+IF(((E71*24)<=6)*AND((F71*24)>=21),6-(E71*24)+(F71*24)-21,0)+IF(((E71*24)>6)*AND((E71*24)<21)*AND((F71*24)>6)*AND((F71*24)<21)*AND((E71*24)>(F71*24)),9,0))/24-I71 -> 0 | K71: 0
C72: ? | D72: vendredi | E72: =VLOOKUP(C72,' horaire et frais avant nao '!$A$4:I85,2,FALSE) -> 0 | F72: 0 | G72: =MOD(F72-E72,1)-I72-H72+K72 -> 0 | H72: 0 | I72: 0 | J72: =(IF(((E72*24)>=21)*AND((F72*24)>6)*AND((F72*24)<21),30-(E72*24),0)+IF(((F72*24)>=21)*AND((E72*24)>6)*AND((E72*24)<21),MIN((F72*24)-(E72*24),(F72*24)-21),0)+IF(((E72*24)>6)*AND((E72*24)<21)*AND((F72*24)<=6),3+(F72*24),0)+IF(((E72*24)<=6)*AND((F72*24)>6)*AND((F72*24)<21),6-(E72*24),0)+IF(((E72*24)<=6)*AND((F72*24)<=6),(F72*24)-(E72*24),0)+IF(((E72*24)>=21)*AND((F72*24)<=6),24-(E72*24)+(F72*24),0)+IF(((E72*24)>=21)*AND((F72*24)>=21),(F72*24)-(E72*24),0)+IF(((E72*24)<=6)*AND((F72*24)>=21),6-(E72*24)+(F72*24)-21,0)+IF(((E72*24)>6)*AND((E72*24)<21)*AND((F72*24)>6)*AND((F72*24)<21)*AND((E72*24)>(F72*24)),9,0))/24-I72 -> 0 | K72: 0
C73: week | D73: samedi | E73: =VLOOKUP(C73,' horaire et frais avant nao '!$A$4:I86,2,FALSE) -> 0 | F73: 0 | G73: =MOD(F73-E73,1)-I73-H73+K73 -> 0 | H73: 0 | I73: 0 | J73: =(IF(((E73*24)>=21)*AND((F73*24)>6)*AND((F73*24)<21),30-(E73*24),0)+IF(((F73*24)>=21)*AND((E73*24)>6)*AND((E73*24)<21),MIN((F73*24)-(E73*24),(F73*24)-21),0)+IF(((E73*24)>6)*AND((E73*24)<21)*AND((F73*24)<=6),3+(F73*24),0)+IF(((E73*24)<=6)*AND((F73*24)>6)*AND((F73*24)<21),6-(E73*24),0)+IF(((E73*24)<=6)*AND((F73*24)<=6),(F73*24)-(E73*24),0)+IF(((E73*24)>=21)*AND((F73*24)<=6),24-(E73*24)+(F73*24),0)+IF(((E73*24)>=21)*AND((F73*24)>=21),(F73*24)-(E73*24),0)+IF(((E73*24)<=6)*AND((F73*24)>=21),6-(E73*24)+(F73*24)-21,0)+IF(((E73*24)>6)*AND((E73*24)<21)*AND((F73*24)>6)*AND((F73*24)<21)*AND((E73*24)>(F73*24)),9,0))/24-I73 -> 0 | K73: 0
C74: week | D74: dimanche | E74: =VLOOKUP(C74,' horaire et frais avant nao '!$A$4:I87,2,FALSE) -> 0 | F74: 0 | G74: =MOD(F74-E74,1)-I74-H74+K74 -> 0 | H74: 0 | I74: 0 | J74: =(IF(((E74*24)>=21)*AND((F74*24)>6)*AND((F74*24)<21),30-(E74*24),0)+IF(((F74*24)>=21)*AND((E74*24)>6)*AND((E74*24)<21),MIN((F74*24)-(E74*24),(F74*24)-21),0)+IF(((E74*24)>6)*AND((E74*24)<21)*AND((F74*24)<=6),3+(F74*24),0)+IF(((E74*24)<=6)*AND((F74*24)>6)*AND((F74*24)<21),6-(E74*24),0)+IF(((E74*24)<=6)*AND((F74*24)<=6),(F74*24)-(E74*24),0)+IF(((E74*24)>=21)*AND((F74*24)<=6),24-(E74*24)+(F74*24),0)+IF(((E74*24)>=21)*AND((F74*24)>=21),(F74*24)-(E74*24),0)+IF(((E74*24)<=6)*AND((F74*24)>=21),6-(E74*24)+(F74*24)-21,0)+IF(((E74*24)>6)*AND((E74*24)<21)*AND((F74*24)>6)*AND((F74*24)<21)*AND((E74*24)>(F74*24)),9,0))/24-I74 -> 0 | K74: 0
G75: =SUM(G68:G74) -> 0 | J75: =SUM(J68:J74) -> 0
D76: BASE HEURE PAR JOUR | I76: 0.33333333
D77: HEURES SEMAINE A EFFECTUER | I77: 1.6666667
D78: HEURES SEMAINE EFFECTUER | I78: =SUM(G75) -> 0 | K78: salaire net fin de mois
D79: INFRACTION DES 10 HEURES | I79: 0.41666667
D80: HEURES SUPLEMENTAIRE SEMAINE | I80: =SUM(I78-I77) -> -1.6666667 | K80: =SUM(G153) -> 0
D81: MOYENNE HEURES DE NUIT/SEMAINE | I81: 0.83333333
D82: CUMUL DES HEURES PAR PERIODE | H82: 3.3333333 | I82: =SUM(I60+I78) -> 0
H83: =SUM(I82-H82) -> -3.3333333
B88: SEMAINE 3 DU 08/04/2019 AU 14/04/2019
A90: conso l /100 | B90: n°de parc | C90: Tournée | D90: Jour | E90: Début de poste | F90: Fin de poste | G90: TEMPS DE SERVICE | H90: Pause de jour | I90: Pause de nuit | J90: Heures de nuit | K90: Heures reunion formation
C91: ? | D91: lundi | E91: =VLOOKUP(C91,' horaire et frais avant nao '!$A$4:I81,2,FALSE) -> 0 | F91: 0 | G91: =MOD(F91-E91,1)-I91-H91+K91 -> 0 | H91: 0 | I91: 0 | J91: =(IF(((E91*24)>=21)*AND((F91*24)>6)*AND((F91*24)<21),30-(E91*24),0)+IF(((F91*24)>=21)*AND((E91*24)>6)*AND((E91*24)<21),MIN((F91*24)-(E91*24),(F91*24)-21),0)+IF(((E91*24)>6)*AND((E91*24)<21)*AND((F91*24)<=6),3+(F91*24),0)+IF(((E91*24)<=6)*AND((F91*24)>6)*AND((F91*24)<21),6-(E91*24),0)+IF(((E91*24)<=6)*AND((F91*24)<=6),(F91*24)-(E91*24),0)+IF(((E91*24)>=21)*AND((F91*24)<=6),24-(E91*24)+(F91*24),0)+IF(((E91*24)>=21)*AND((F91*24)>=21),(F91*24)-(E91*24),0)+IF(((E91*24)<=6)*AND((F91*24)>=21),6-(E91*24)+(F91*24)-21,0)+IF(((E91*24)>6)*AND((E91*24)<21)*AND((F91*24)>6)*AND((F91*24)<21)*AND((E91*24)>(F91*24)),9,0))/24-I91 -> 0 | K91: 0
C92: ? | D92: mardi | E92: =VLOOKUP(C92,' horaire et frais avant nao '!$A$4:I82,2,FALSE) -> 0 | F92: 0 | G92: =MOD(F92-E92,1)-I92-H92+K92 -> 0 | H92: 0 | I92: 0 | J92: =(IF(((E92*24)>=21)*AND((F92*24)>6)*AND((F92*24)<21),30-(E92*24),0)+IF(((F92*24)>=21)*AND((E92*24)>6)*AND((E92*24)<21),MIN((F92*24)-(E92*24),(F92*24)-21),0)+IF(((E92*24)>6)*AND((E92*24)<21)*AND((F92*24)<=6),3+(F92*24),0)+IF(((E92*24)<=6)*AND((F92*24)>6)*AND((F92*24)<21),6-(E92*24),0)+IF(((E92*24)<=6)*AND((F92*24)<=6),(F92*24)-(E92*24),0)+IF(((E92*24)>=21)*AND((F92*24)<=6),24-(E92*24)+(F92*24),0)+IF(((E92*24)>=21)*AND((F92*24)>=21),(F92*24)-(E92*24),0)+IF(((E92*24)<=6)*AND((F92*24)>=21),6-(E92*24)+(F92*24)-21,0)+IF(((E92*24)>6)*AND((E92*24)<21)*AND((F92*24)>6)*AND((F92*24)<21)*AND((E92*24)>(F92*24)),9,0))/24-I92 -> 0 | K92: 0
C93: ? | D93: mercredi | E93: =VLOOKUP(C93,' horaire et frais avant nao '!$A$4:I83,2,FALSE) -> 0 | F93: 0 | G93: =MOD(F93-E93,1)-I93-H93+K93 -> 0 | H93: 0 | I93: 0 | J93: =(IF(((E93*24)>=21)*AND((F93*24)>6)*AND((F93*24)<21),30-(E93*24),0)+IF(((F93*24)>=21)*AND((E93*24)>6)*AND((E93*24)<21),MIN((F93*24)-(E93*24),(F93*24)-21),0)+IF(((E93*24)>6)*AND((E93*24)<21)*AND((F93*24)<=6),3+(F93*24),0)+IF(((E93*24)<=6)*AND((F93*24)>6)*AND((F93*24)<21),6-(E93*24),0)+IF(((E93*24)<=6)*AND((F93*24)<=6),(F93*24)-(E93*24),0)+IF(((E93*24)>=21)*AND((F93*24)<=6),24-(E93*24)+(F93*24),0)+IF(((E93*24)>=21)*AND((F93*24)>=21),(F93*24)-(E93*24),0)+IF(((E93*24)<=6)*AND((F93*24)>=21),6-(E93*24)+(F93*24)-21,0)+IF(((E93*24)>6)*AND((E93*24)<21)*AND((F93*24)>6)*AND((F93*24)<21)*AND((E93*24)>(F93*24)),9,0))/24-I93 -> 0 | K93: 0
C94: ? | D94: jeudi | E94: =VLOOKUP(C94,' horaire et frais avant nao '!$A$4:I84,2,FALSE) -> 0 | F94: 0 | G94: =MOD(F94-E94,1)-I94-H94+K94 -> 0 | H94: 0 | I94: 0 | J94: =(IF(((E94*24)>=21)*AND((F94*24)>6)*AND((F94*24)<21),30-(E94*24),0)+IF(((F94*24)>=21)*AND((E94*24)>6)*AND((E94*24)<21),MIN((F94*24)-(E94*24),(F94*24)-21),0)+IF(((E94*24)>6)*AND((E94*24)<21)*AND((F94*24)<=6),3+(F94*24),0)+IF(((E94*24)<=6)*AND((F94*24)>6)*AND((F94*24)<21),6-(E94*24),0)+IF(((E94*24)<=6)*AND((F94*24)<=6),(F94*24)-(E94*24),0)+IF(((E94*24)>=21)*AND((F94*24)<=6),24-(E94*24)+(F94*24),0)+IF(((E94*24)>=21)*AND((F94*24)>=21),(F94*24)-(E94*24),0)+IF(((E94*24)<=6)*AND((F94*24)>=21),6-(E94*24)+(F94*24)-21,0)+IF(((E94*24)>6)*AND((E94*24)<21)*AND((F94*24)>6)*AND((F94*24)<21)*AND((E94*24)>(F94*24)),9,0))/24-I94 -> 0 | K94: 0
C95: ? | D95: vendredi | E95: =VLOOKUP(C95,' horaire et frais avant nao '!$A$4:I85,2,FALSE) -> 0 | F95: 0 | G95: =MOD(F95-E95,1)-I95-H95+K95 -> 0 | H95: 0 | I95: 0 | J95: =(IF(((E95*24)>=21)*AND((F95*24)>6)*AND((F95*24)<21),30-(E95*24),0)+IF(((F95*24)>=21)*AND((E95*24)>6)*AND((E95*24)<21),MIN((F95*24)-(E95*24),(F95*24)-21),0)+IF(((E95*24)>6)*AND((E95*24)<21)*AND((F95*24)<=6),3+(F95*24),0)+IF(((E95*24)<=6)*AND((F95*24)>6)*AND((F95*24)<21),6-(E95*24),0)+IF(((E95*24)<=6)*AND((F95*24)<=6),(F95*24)-(E95*24),0)+IF(((E95*24)>=21)*AND((F95*24)<=6),24-(E95*24)+(F95*24),0)+IF(((E95*24)>=21)*AND((F95*24)>=21),(F95*24)-(E95*24),0)+IF(((E95*24)<=6)*AND((F95*24)>=21),6-(E95*24)+(F95*24)-21,0)+IF(((E95*24)>6)*AND((E95*24)<21)*AND((F95*24)>6)*AND((F95*24)<21)*AND((E95*24)>(F95*24)),9,0))/24-I95 -> 0 | K95: 0
C96: week | D96: samedi | E96: =VLOOKUP(C96,' horaire et frais avant nao '!$A$4:I86,2,FALSE) -> 0 | F96: 0 | G96: =MOD(F96-E96,1)-I96-H96+K96 -> 0 | H96: 0 | I96: 0 | J96: =(IF(((E96*24)>=21)*AND((F96*24)>6)*AND((F96*24)<21),30-(E96*24),0)+IF(((F96*24)>=21)*AND((E96*24)>6)*AND((E96*24)<21),MIN((F96*24)-(E96*24),(F96*24)-21),0)+IF(((E96*24)>6)*AND((E96*24)<21)*AND((F96*24)<=6),3+(F96*24),0)+IF(((E96*24)<=6)*AND((F96*24)>6)*AND((F96*24)<21),6-(E96*24),0)+IF(((E96*24)<=6)*AND((F96*24)<=6),(F96*24)-(E96*24),0)+IF(((E96*24)>=21)*AND((F96*24)<=6),24-(E96*24)+(F96*24),0)+IF(((E96*24)>=21)*AND((F96*24)>=21),(F96*24)-(E96*24),0)+IF(((E96*24)<=6)*AND((F96*24)>=21),6-(E96*24)+(F96*24)-21,0)+IF(((E96*24)>6)*AND((E96*24)<21)*AND((F96*24)>6)*AND((F96*24)<21)*AND((E96*24)>(F96*24)),9,0))/24-I96 -> 0 | K96: 0
C97: week | D97: dimanche | E97: =VLOOKUP(C97,' horaire et frais avant nao '!$A$4:I87,2,FALSE) -> 0 | F97: 0 | G97: =MOD(F97-E97,1)-I97-H97+K97 -> 0 | H97: 0 | I97: 0 | J97: =(IF(((E97*24)>=21)*AND((F97*24)>6)*AND((F97*24)<21),30-(E97*24),0)+IF(((F97*24)>=21)*AND((E97*24)>6)*AND((E97*24)<21),MIN((F97*24)-(E97*24),(F97*24)-21),0)+IF(((E97*24)>6)*AND((E97*24)<21)*AND((F97*24)<=6),3+(F97*24),0)+IF(((E97*24)<=6)*AND((F97*24)>6)*AND((F97*24)<21),6-(E97*24),0)+IF(((E97*24)<=6)*AND((F97*24)<=6),(F97*24)-(E97*24),0)+IF(((E97*24)>=21)*AND((F97*24)<=6),24-(E97*24)+(F97*24),0)+IF(((E97*24)>=21)*AND((F97*24)>=21),(F97*24)-(E97*24),0)+IF(((E97*24)<=6)*AND((F97*24)>=21),6-(E97*24)+(F97*24)-21,0)+IF(((E97*24)>6)*AND((E97*24)<21)*AND((F97*24)>6)*AND((F97*24)<21)*AND((E97*24)>(F97*24)),9,0))/24-I97 -> 0 | K97: 0
G98: =SUM(G91:G97) -> 0 | J98: =SUM(J91:J97) -> 0
D99: BASE HEURE PAR JOUR | I99: 0.33333333
D100: HEURES SEMAINE A EFFECTUER | I100: 1.6666667
D101: HEURES SEMAINE EFFECTUER | I101: =SUM(G98) -> 0 | K101: salaire net fin de mois
D102: INFRACTION DES 10 HEURES | I102: 0.41666667
D103: HEURES SUPLEMENTAIRE SEMAINE | I103: =SUM(I101-I100) -> -1.6666667 | K103: =SUM(G153) -> 0
D104: MOYENNE HEURES DE NUIT/SEMAINE | I104: 0.83333333
D105: CUMUL DES HEURES PAR PERIODE | H105: 5 | I105: =SUM(G53+G75+G98) -> 0
H106: =SUM(I105-H105) -> -5
B110: SEMAINE 4 DU 15/04/2019 AU 21/04/2019
A112: conso l /100 | B112: n°de parc | C112: Tournée | D112: Jour | E112: Début de poste | F112: Fin de poste | G112: TEMPS DE SERVICE | H112: Pause de jour | I112: Pause de nuit | J112: Heures de nuit | K112: Heures reunion formation
C113: ? | D113: lundi | E113: =VLOOKUP(C113,' horaire et frais avant nao '!$A$4:I81,2,FALSE) -> 0 | F113: 0 | G113: =MOD(F113-E113,1)-I113-H113+K113 -> 0 | H113: 0 | I113: 0 | J113: =(IF(((E113*24)>=21)*AND((F113*24)>6)*AND((F113*24)<21),30-(E113*24),0)+IF(((F113*24)>=21)*AND((E113*24)>6)*AND((E113*24)<21),MIN((F113*24)-(E113*24),(F113*24)-21),0)+IF(((E113*24)>6)*AND((E113*24)<21)*AND((F113*24)<=6),3+(F113*24),0)+IF(((E68*24)<=6)*AND((F113*24)>6)*AND((F113*24)<21),6-(E113*24),0)+IF(((E113*24)<=6)*AND((F113*24)<=6),(F113*24)-(E113*24),0)+IF(((E113*24)>=21)*AND((F113*24)<=6),24-(E113*24)+(F113*24),0)+IF(((E113*24)>=21)*AND((F113*24)>=21),(F113*24)-(E113*24),0)+IF(((E113*24)<=6)*AND((F113*24)>=21),6-(E113*24)+(F113*24)-21,0)+IF(((E113*24)>6)*AND((E113*24)<21)*AND((F113*24)>6)*AND((F113*24)<21)*AND((E113*24)>(F113*24)),9,0))/24-I113 -> 0 | K113: 0
C114: ? | D114: mardi | E114: =VLOOKUP(C114,' horaire et frais avant nao '!$A$4:I82,2,FALSE) -> 0 | F114: 0 | G114: =MOD(F114-E114,1)-I114-H114+K114 -> 0 | H114: 0 | I114: 0 | J114: =(IF(((E114*24)>=21)*AND((F114*24)>6)*AND((F114*24)<21),30-(E114*24),0)+IF(((F114*24)>=21)*AND((E114*24)>6)*AND((E114*24)<21),MIN((F114*24)-(E114*24),(F114*24)-21),0)+IF(((E114*24)>6)*AND((E114*24)<21)*AND((F114*24)<=6),3+(F114*24),0)+IF(((E69*24)<=6)*AND((F114*24)>6)*AND((F114*24)<21),6-(E114*24),0)+IF(((E114*24)<=6)*AND((F114*24)<=6),(F114*24)-(E114*24),0)+IF(((E114*24)>=21)*AND((F114*24)<=6),24-(E114*24)+(F114*24),0)+IF(((E114*24)>=21)*AND((F114*24)>=21),(F114*24)-(E114*24),0)+IF(((E114*24)<=6)*AND((F114*24)>=21),6-(E114*24)+(F114*24)-21,0)+IF(((E114*24)>6)*AND((E114*24)<21)*AND((F114*24)>6)*AND((F114*24)<21)*AND((E114*24)>(F114*24)),9,0))/24-I114 -> 0 | K114: 0
C115: ? | D115: mercredi | E115: =VLOOKUP(C115,' horaire et frais avant nao '!$A$4:I83,2,FALSE) -> 0 | F115: 0 | G115: =MOD(F115-E115,1)-I115-H115+K115 -> 0 | H115: 0 | I115: 0 | J115: =(IF(((E115*24)>=21)*AND((F115*24)>6)*AND((F115*24)<21),30-(E115*24),0)+IF(((F115*24)>=21)*AND((E115*24)>6)*AND((E115*24)<21),MIN((F115*24)-(E115*24),(F115*24)-21),0)+IF(((E115*24)>6)*AND((E115*24)<21)*AND((F115*24)<=6),3+(F115*24),0)+IF(((E70*24)<=6)*AND((F115*24)>6)*AND((F115*24)<21),6-(E115*24),0)+IF(((E115*24)<=6)*AND((F115*24)<=6),(F115*24)-(E115*24),0)+IF(((E115*24)>=21)*AND((F115*24)<=6),24-(E115*24)+(F115*24),0)+IF(((E115*24)>=21)*AND((F115*24)>=21),(F115*24)-(E115*24),0)+IF(((E115*24)<=6)*AND((F115*24)>=21),6-(E115*24)+(F115*24)-21,0)+IF(((E115*24)>6)*AND((E115*24)<21)*AND((F115*24)>6)*AND((F115*24)<21)*AND((E115*24)>(F115*24)),9,0))/24-I115 -> 0 | K115: 0
C116: ? | D116: jeudi | E116: =VLOOKUP(C116,' horaire et frais avant nao '!$A$4:I84,2,FALSE) -> 0 | F116: 0 | G116: =MOD(F116-E116,1)-I116-H116+K116 -> 0 | H116: 0 | I116: 0 | J116: =(IF(((E116*24)>=21)*AND((F116*24)>6)*AND((F116*24)<21),30-(E116*24),0)+IF(((F116*24)>=21)*AND((E116*24)>6)*AND((E116*24)<21),MIN((F116*24)-(E116*24),(F116*24)-21),0)+IF(((E116*24)>6)*AND((E116*24)<21)*AND((F116*24)<=6),3+(F116*24),0)+IF(((E71*24)<=6)*AND((F116*24)>6)*AND((F116*24)<21),6-(E116*24),0)+IF(((E116*24)<=6)*AND((F116*24)<=6),(F116*24)-(E116*24),0)+IF(((E116*24)>=21)*AND((F116*24)<=6),24-(E116*24)+(F116*24),0)+IF(((E116*24)>=21)*AND((F116*24)>=21),(F116*24)-(E116*24),0)+IF(((E116*24)<=6)*AND((F116*24)>=21),6-(E116*24)+(F116*24)-21,0)+IF(((E116*24)>6)*AND((E116*24)<21)*AND((F116*24)>6)*AND((F116*24)<21)*AND((E116*24)>(F116*24)),9,0))/24-I116 -> 0 | K116: 0
C117: ? | D117: vendredi | E117: =VLOOKUP(C117,' horaire et frais avant nao '!$A$4:I85,2,FALSE) -> 0 | F117: 0 | G117: =MOD(F117-E117,1)-I117-H117+K117 -> 0 | H117: 0 | I117: 0 | J117: =(IF(((E117*24)>=21)*AND((F117*24)>6)*AND((F117*24)<21),30-(E117*24),0)+IF(((F117*24)>=21)*AND((E117*24)>6)*AND((E117*24)<21),MIN((F117*24)-(E117*24),(F117*24)-21),0)+IF(((E117*24)>6)*AND((E117*24)<21)*AND((F117*24)<=6),3+(F117*24),0)+IF(((E72*24)<=6)*AND((F117*24)>6)*AND((F117*24)<21),6-(E117*24),0)+IF(((E117*24)<=6)*AND((F117*24)<=6),(F117*24)-(E117*24),0)+IF(((E117*24)>=21)*AND((F117*24)<=6),24-(E117*24)+(F117*24),0)+IF(((E117*24)>=21)*AND((F117*24)>=21),(F117*24)-(E117*24),0)+IF(((E117*24)<=6)*AND((F117*24)>=21),6-(E117*24)+(F117*24)-21,0)+IF(((E117*24)>6)*AND((E117*24)<21)*AND((F117*24)>6)*AND((F117*24)<21)*AND((E117*24)>(F117*24)),9,0))/24-I117 -> 0 | K117: 0
C118: week | D118: samedi | E118: =VLOOKUP(C118,' horaire et frais avant nao '!$A$4:I86,2,FALSE) -> 0 | F118: 0 | G118: =MOD(F118-E118,1)-I118-H118+K118 -> 0 | H118: 0 | I118: 0 | J118: =(IF(((E118*24)>=21)*AND((F118*24)>6)*AND((F118*24)<21),30-(E118*24),0)+IF(((F118*24)>=21)*AND((E118*24)>6)*AND((E118*24)<21),MIN((F118*24)-(E118*24),(F118*24)-21),0)+IF(((E118*24)>6)*AND((E118*24)<21)*AND((F118*24)<=6),3+(F118*24),0)+IF(((E73*24)<=6)*AND((F118*24)>6)*AND((F118*24)<21),6-(E118*24),0)+IF(((E118*24)<=6)*AND((F118*24)<=6),(F118*24)-(E118*24),0)+IF(((E118*24)>=21)*AND((F118*24)<=6),24-(E118*24)+(F118*24),0)+IF(((E118*24)>=21)*AND((F118*24)>=21),(F118*24)-(E118*24),0)+IF(((E118*24)<=6)*AND((F118*24)>=21),6-(E118*24)+(F118*24)-21,0)+IF(((E118*24)>6)*AND((E118*24)<21)*AND((F118*24)>6)*AND((F118*24)<21)*AND((E118*24)>(F118*24)),9,0))/24-I118 -> 0 | K118: 0
C119: week | D119: dimanche | E119: =VLOOKUP(C119,' horaire et frais avant nao '!$A$4:I87,2,FALSE) -> 0 | F119: 0 | G119: =MOD(F119-E119,1)-I119-H119+K119 -> 0 | H119: 0 | I119: 0 | J119: =(IF(((E119*24)>=21)*AND((F119*24)>6)*AND((F119*24)<21),30-(E119*24),0)+IF(((F119*24)>=21)*AND((E119*24)>6)*AND((E119*24)<21),MIN((F119*24)-(E119*24),(F119*24)-21),0)+IF(((E119*24)>6)*AND((E119*24)<21)*AND((F119*24)<=6),3+(F119*24),0)+IF(((E74*24)<=6)*AND((F119*24)>6)*AND((F119*24)<21),6-(E119*24),0)+IF(((E119*24)<=6)*AND((F119*24)<=6),(F119*24)-(E119*24),0)+IF(((E119*24)>=21)*AND((F119*24)<=6),24-(E119*24)+(F119*24),0)+IF(((E119*24)>=21)*AND((F119*24)>=21),(F119*24)-(E119*24),0)+IF(((E119*24)<=6)*AND((F119*24)>=21),6-(E119*24)+(F119*24)-21,0)+IF(((E119*24)>6)*AND((E119*24)<21)*AND((F119*24)>6)*AND((F119*24)<21)*AND((E119*24)>(F119*24)),9,0))/24-I119 -> 0 | K119: 0
G120: =SUM(G113:G119) -> 0 | J120: =SUM(J113:J119) -> 0
D121: BASE HEURE PAR JOUR | I121: 0.33333333
...

Sheet periode 5  fr05 versé 28  06 16
H1: PRIME DE DIMANCHE
A2: SEMAINE | B2: TOURNEE | C2: JOUR | D2: DATE | E2: repas soir non soumis | F2: Repas midi non soumis | G2: cassecroute soumis | H2: demi prime | I2: prime entiere | J2: tichet | K2: repas unique
A3: 18 | B3: ? | C3: mercredi | D3: 42124 | E3: =VLOOKUP(B3,' horaire et frais avant nao '!$A$4:$I$81,3,FALSE) -> 0 | F3: =VLOOKUP(B3,' horaire et frais avant nao '!$A$4:$I$81,4,FALSE) -> 0 | G3: =VLOOKUP(B3,' horaire et frais avant nao '!$A$4:$I$81,5,FALSE) -> 0 | H3: =VLOOKUP(B3,' horaire et frais avant nao '!$A$4:$I$81,6,FALSE) -> 0 | I3: =VLOOKUP(B3,' horaire et frais avant nao '!$A$4:$I$81,7,FALSE) -> 0 | J3: =VLOOKUP(B3,' horaire et frais avant nao '!$A$4:$I$81,8,FALSE) -> 0 | K3: =VLOOKUP(B3,' horaire et frais avant nao '!$A$4:$I$81,9,FALSE) -> 0
B4: ? | C4: jeudi | D4: 42125 | E4: =VLOOKUP(B4,' horaire et frais avant nao '!$A$4:$I$81,3,FALSE) -> 0 | F4: =VLOOKUP(B4,' horaire et frais avant nao '!$A$4:$I$81,4,FALSE) -> 0 | G4: =VLOOKUP(B4,' horaire et frais avant nao '!$A$4:$I$81,5,FALSE) -> 0 | H4: =VLOOKUP(B4,' horaire et frais avant nao '!$A$4:$I$81,6,FALSE) -> 0 | I4: =VLOOKUP(B4,' horaire et frais avant nao '!$A$4:$I$81,7,FALSE) -> 0 | J4: =VLOOKUP(B4,' horaire et frais avant nao '!$A$4:$I$81,8,FALSE) -> 0 | K4: =VLOOKUP(B4,' horaire et frais avant nao '!$A$4:$I$81,9,FALSE) -> 0
B5: ? | C5: vendredi | D5: 42126 | E5: =VLOOKUP(B5,' horaire et frais avant nao '!$A$4:$I$81,3,FALSE) -> 0 | F5: =VLOOKUP(B5,' horaire et frais avant nao '!$A$4:$I$81,4,FALSE) -> 0 | G5: =VLOOKUP(B5,' horaire et frais avant nao '!$A$4:$I$81,5,FALSE) -> 0 | H5: =VLOOKUP(B5,' horaire et frais avant nao '!$A$4:$I$81,6,FALSE) -> 0 | I5: =VLOOKUP(B5,' horaire et frais avant nao '!$A$4:$I$81,7,FALSE) -> 0 | J5: =VLOOKUP(B5,' horaire et frais avant nao '!$A$4:$I$81,8,FALSE) -> 0 | K5: =VLOOKUP(B5,' horaire et frais avant nao '!$A$4:$I$81,9,FALSE) -> 0
B6: WEEK | C6: samedi | D6: 42127 | E6: =VLOOKUP(B6,' horaire et frais avant nao '!$A$4:$I$81,3,FALSE) -> 0 | F6: =VLOOKUP(B6,' horaire et frais avant nao '!$A$4:$I$81,4,FALSE) -> 0 | G6: =VLOOKUP(B6,' horaire et frais avant nao '!$A$4:$I$81,5,FALSE) -> 0 | H6: =VLOOKUP(B6,' horaire et frais avant nao '!$A$4:$I$81,6,FALSE) -> 0 | I6: =VLOOKUP(B6,' horaire et frais avant nao '!$A$4:$I$81,7,FALSE) -> 0 | J6: =VLOOKUP(B6,' horaire et frais avant nao '!$A$4:$I$81,8,FALSE) -> 0 | K6: =VLOOKUP(B6,' horaire et frais avant nao '!$A$4:$I$81,9,FALSE) -> 0
B7: WEEK | C7: dimanche | D7: 42128 | E7: =VLOOKUP(B7,' horaire et frais avant nao '!$A$4:$I$81,3,FALSE) -> 0 | F7: =VLOOKUP(B7,' horaire et frais avant nao '!$A$4:$I$81,4,FALSE) -> 0 | G7: =VLOOKUP(B7,' horaire et frais avant nao '!$A$4:$I$81,5,FALSE) -> 0 | H7: =VLOOKUP(B7,' horaire et frais avant nao '!$A$4:$I$81,6,FALSE) -> 0 | I7: =VLOOKUP(B7,' horaire et frais avant nao '!$A$4:$I$81,7,FALSE) -> 0 | J7: =VLOOKUP(B7,' horaire et frais avant nao '!$A$4:$I$81,8,FALSE) -> 0 | K7: =VLOOKUP(B7,' horaire et frais avant nao '!$A$4:$I$81,9,FALSE) -> 0
A8: 19 | B8: ? | C8: lundi | D8: 42129 | E8: =VLOOKUP(B8,' horaire et frais avant nao '!$A$4:$I$81,3,FALSE) -> 0 | F8: =VLOOKUP(B8,' horaire et frais avant nao '!$A$4:$I$81,4,FALSE) -> 0 | G8: =VLOOKUP(B8,' horaire et frais avant nao '!$A$4:$I$81,5,FALSE) -> 0 | H8: =VLOOKUP(B8,' horaire et frais avant nao '!$A$4:$I$81,6,FALSE) -> 0 | I8: =VLOOKUP(B8,' horaire et frais avant nao '!$A$4:$I$81,7,FALSE) -> 0 | J8: =VLOOKUP(B8,' horaire et frais avant nao '!$A$4:$I$81,8,FALSE) -> 0 | K8: =VLOOKUP(B8,' horaire et frais avant nao '!$A$4:$I$81,9,FALSE) -> 0
B9: ? | C9: mardi | D9: 42130 | E9: =VLOOKUP(B9,' horaire et frais avant nao '!$A$4:$I$81,3,FALSE) -> 0 | F9: =VLOOKUP(B9,' horaire et frais avant nao '!$A$4:$I$81,4,FALSE) -> 0 | G9: =VLOOKUP(B9,' horaire et frais avant nao '!$A$4:$I$81,5,FALSE) -> 0 | H9: =VLOOKUP(B9,' horaire et frais avant nao '!$A$4:$I$81,6,FALSE) -> 0 | I9: =VLOOKUP(B9,' horaire et frais avant nao '!$A$4:$I$81,7,FALSE) -> 0 | J9: =VLOOKUP(B9,' horaire et frais avant nao '!$A$4:$I$81,8,FALSE) -> 0 | K9: =VLOOKUP(B9,' horaire et frais avant nao '!$A$4:$I$81,9,FALSE) -> 0
B10: ? | C10: mercredi | D10: 42131 | E10: =VLOOKUP(B10,' horaire et frais avant nao '!$A$4:$I$81,3,FALSE) -> 0 | F10: =VLOOKUP(B10,' horaire et frais avant nao '!$A$4:$I$81,4,FALSE) -> 0 | G10: =VLOOKUP(B10,' horaire et frais avant nao '!$A$4:$I$81,5,FALSE) -> 0 | H10: =VLOOKUP(B10,' horaire et frais avant nao '!$A$4:$I$81,6,FALSE) -> 0 | I10: =VLOOKUP(B10,' horaire et frais avant nao '!$A$4:$I$81,7,FALSE) -> 0 | J10: =VLOOKUP(B10,' horaire et frais avant nao '!$A$4:$I$81,8,FALSE) -> 0 | K10: =VLOOKUP(B10,' horaire et frais avant nao '!$A$4:$I$81,9,FALSE) -> 0
B11: ? | C11: jeudi | D11: 42132 | E11: =VLOOKUP(B11,' horaire et frais avant nao '!$A$4:$I$81,3,FALSE) -> 0 | F11: =VLOOKUP(B11,' horaire et frais avant nao '!$A$4:$I$81,4,FALSE) -> 0 | G11: =VLOOKUP(B11,' horaire et frais avant nao '!$A$4:$I$81,5,FALSE) -> 0 | H11: =VLOOKUP(B11,' horaire et frais avant nao '!$A$4:$I$81,6,FALSE) -> 0 | I11: =VLOOKUP(B11,' horaire et frais avant nao '!$A$4:$I$81,7,FALSE) -> 0 | J11: =VLOOKUP(B11,' horaire et frais avant nao '!$A$4:$I$81,8,FALSE) -> 0 | K11: =VLOOKUP(B11,' horaire et frais avant nao '!$A$4:$I$81,9,FALSE) -> 0
B12: ? | C12: vendredi | D12: 42133 | E12: =VLOOKUP(B12,' horaire et frais avant nao '!$A$4:$I$81,3,FALSE) -> 0 | F12: =VLOOKUP(B12,' horaire et frais avant nao '!$A$4:$I$81,4,FALSE) -> 0 | G12: =VLOOKUP(B12,' horaire et frais avant nao '!$A$4:$I$81,5,FALSE) -> 0 | H12: =VLOOKUP(B12,' horaire et frais avant nao '!$A$4:$I$81,6,FALSE) -> 0 | I12: =VLOOKUP(B12,' horaire et frais avant nao '!$A$4:$I$81,7,FALSE) -> 0 | J12: =VLOOKUP(B12,' horaire et frais avant nao '!$A$4:$I$81,8,FALSE) -> 0 | K12: =VLOOKUP(B12,' horaire et frais avant nao '!$A$4:$I$81,9,FALSE) -> 0
B13: WEEK | C13: samedi | D13: 42134 | E13: =VLOOKUP(B13,' horaire et frais avant nao '!$A$4:$I$81,3,FALSE) -> 0 | F13: =VLOOKUP(B13,' horaire et frais avant nao '!$A$4:$I$81,4,FALSE) -> 0 | G13: =VLOOKUP(B13,' horaire et frais avant nao '!$A$4:$I$81,5,FALSE) -> 0 | H13: =VLOOKUP(B13,' horaire et frais avant nao '!$A$4:$I$81,6,FALSE) -> 0 | I13: =VLOOKUP(B13,' horaire et frais avant nao '!$A$4:$I$81,7,FALSE) -> 0 | J13: =VLOOKUP(B13,' horaire et frais avant nao '!$A$4:$I$81,8,FALSE) -> 0 | K13: =VLOOKUP(B13,' horaire et frais avant nao '!$A$4:$I$81,9,FALSE) -> 0
B14: WEEK | C14: dimanche | D14: 42135 | E14: =VLOOKUP(B14,' horaire et frais avant nao '!$A$4:$I$81,3,FALSE) -> 0 | F14: =VLOOKUP(B14,' horaire et frais avant nao '!$A$4:$I$81,4,FALSE) -> 0 | G14: =VLOOKUP(B14,' horaire et frais avant nao '!$A$4:$I$81,5,FALSE) -> 0 | H14: =VLOOKUP(B14,' horaire et frais avant nao '!$A$4:$I$81,6,FALSE) -> 0 | I14: =VLOOKUP(B14,' horaire et frais avant nao '!$A$4:$I$81,7,FALSE) -> 0 | J14: =VLOOKUP(B14,' horaire et frais avant nao '!$A$4:$I$81,8,FALSE) -> 0 | K14: =VLOOKUP(B14,' horaire et frais avant nao '!$A$4:$I$81,9,FALSE) -> 0
A15: 20 | B15: ? | C15: lundi | D15: 42136 | E15: =VLOOKUP(B15,' horaire et frais avant nao '!$A$4:$I$81,3,FALSE) -> 0 | F15: =VLOOKUP(B15,' horaire et frais avant nao '!$A$4:$I$81,4,FALSE) -> 0 | G15: =VLOOKUP(B15,' horaire et frais avant nao '!$A$4:$I$81,5,FALSE) -> 0 | H15: =VLOOKUP(B15,' horaire et frais avant nao '!$A$4:$I$81,6,FALSE) -> 0 | I15: =VLOOKUP(B15,' horaire et frais avant nao '!$A$4:$I$81,7,FALSE) -> 0 | J15: =VLOOKUP(B15,' horaire et frais avant nao '!$A$4:$I$81,8,FALSE) -> 0 | K15: =VLOOKUP(B15,' horaire et frais avant nao '!$A$4:$I$81,9,FALSE) -> 0
B16: ? | C16: mardi | D16: 42137 | E16: =VLOOKUP(B16,' horaire et frais avant nao '!$A$4:$I$81,3,FALSE) -> 0 | F16: =VLOOKUP(B16,' horaire et frais avant nao '!$A$4:$I$81,4,FALSE) -> 0 | G16: =VLOOKUP(B16,' horaire et frais avant nao '!$A$4:$I$81,5,FALSE) -> 0 | H16: =VLOOKUP(B16,' horaire et frais avant nao '!$A$4:$I$81,6,FALSE) -> 0 | I16: =VLOOKUP(B16,' horaire et frais avant nao '!$A$4:$I$81,7,FALSE) -> 0 | J16: =VLOOKUP(B16,' horaire et frais avant nao '!$A$4:$I$81,8,FALSE) -> 0 | K16: =VLOOKUP(B16,' horaire et frais avant nao '!$A$4:$I$81,9,FALSE) -> 0
B17: ? | C17: mercredi | D17: 42138 | E17: =VLOOKUP(B17,' horaire et frais avant nao '!$A$4:$I$81,3,FALSE) -> 0 | F17: =VLOOKUP(B17,' horaire et frais avant nao '!$A$4:$I$81,4,FALSE) -> 0 | G17: =VLOOKUP(B17,' horaire et frais avant nao '!$A$4:$I$81,5,FALSE) -> 0 | H17: =VLOOKUP(B17,' horaire et frais avant nao '!$A$4:$I$81,6,FALSE) -> 0 | I17: =VLOOKUP(B17,' horaire et frais avant nao '!$A$4:$I$81,7,FALSE) -> 0 | J17: =VLOOKUP(B17,' horaire et frais avant nao '!$A$4:$I$81,8,FALSE) -> 0 | K17: =VLOOKUP(B17,' horaire et frais avant nao '!$A$4:$I$81,9,FALSE) -> 0
B18: ? | C18: jeudi | D18: 42139 | E18: =VLOOKUP(B18,' horaire et frais avant nao '!$A$4:$I$81,3,FALSE) -> 0 | F18: =VLOOKUP(B18,' horaire et frais avant nao '!$A$4:$I$81,4,FALSE) -> 0 | G18: =VLOOKUP(B18,' horaire et frais avant nao '!$A$4:$I$81,5,FALSE) -> 0 | H18: =VLOOKUP(B18,' horaire et frais avant nao '!$A$4:$I$81,6,FALSE) -> 0 | I18: =VLOOKUP(B18,' horaire et frais avant nao '!$A$4:$I$81,7,FALSE) -> 0 | J18: =VLOOKUP(B18,' horaire et frais avant nao '!$A$4:$I$81,8,FALSE) -> 0 | K18: =VLOOKUP(B18,' horaire et frais avant nao '!$A$4:$I$81,9,FALSE) -> 0
B19: ? | C19: vendredi | D19: 42140 | E19: =VLOOKUP(B19,' horaire et frais avant nao '!$A$4:$I$81,3,FALSE) -> 0 | F19: =VLOOKUP(B19,' horaire et frais avant nao '!$A$4:$I$81,4,FALSE) -> 0 | G19: =VLOOKUP(B19,' horaire et frais avant nao '!$A$4:$I$81,5,FALSE) -> 0 | H19: =VLOOKUP(B19,' horaire et frais avant nao '!$A$4:$I$81,6,FALSE) -> 0 | I19: =VLOOKUP(B19,' horaire et frais avant nao '!$A$4:$I$81,7,FALSE) -> 0 | J19: =VLOOKUP(B19,' horaire et frais avant nao '!$A$4:$I$81,8,FALSE) -> 0 | K19: =VLOOKUP(B19,' horaire et frais avant nao '!$A$4:$I$81,9,FALSE) -> 0
B20: WEEK | C20: samedi | D20: 42141 | E20: =VLOOKUP(B20,' horaire et frais avant nao '!$A$4:$I$81,3,FALSE) -> 0 | F20: =VLOOKUP(B20,' horaire et frais avant nao '!$A$4:$I$81,4,FALSE) -> 0 | G20: =VLOOKUP(B20,' horaire et frais avant nao '!$A$4:$I$81,5,FALSE) -> 0 | H20: =VLOOKUP(B20,' horaire et frais avant nao '!$A$4:$I$81,6,FALSE) -> 0 | I20: =VLOOKUP(B20,' horaire et frais avant nao '!$A$4:$I$81,7,FALSE) -> 0 | J20: =VLOOKUP(B20,' horaire et frais avant nao '!$A$4:$I$81,8,FALSE) -> 0 | K20: =VLOOKUP(B20,' horaire et frais avant nao '!$A$4:$I$81,9,FALSE) -> 0
B21: WEEK | C21: dimanche | D21: 42142 | E21: =VLOOKUP(B21,' horaire et frais avant nao '!$A$4:$I$81,3,FALSE) -> 0 | F21: =VLOOKUP(B21,' horaire et frais avant nao '!$A$4:$I$81,4,FALSE) -> 0 | G21: =VLOOKUP(B21,' horaire et frais avant nao '!$A$4:$I$81,5,FALSE) -> 0 | H21: =VLOOKUP(B21,' horaire et frais avant nao '!$A$4:$I$81,6,FALSE) -> 0 | I21: =VLOOKUP(B21,' horaire et frais avant nao '!$A$4:$I$81,7,FALSE) -> 0 | J21: =VLOOKUP(B21,' horaire et frais avant nao '!$A$4:$I$81,8,FALSE) -> 0 | K21: =VLOOKUP(B21,' horaire et frais avant nao '!$A$4:$I$81,9,FALSE) -> 0
A22: 21 | B22: ? | C22: lundi | D22: 42143 | E22: =VLOOKUP(B22,' horaire et frais avant nao '!$A$4:$I$81,3,FALSE) -> 0 | F22: =VLOOKUP(B22,' horaire et frais avant nao '!$A$4:$I$81,4,FALSE) -> 0 | G22: =VLOOKUP(B22,' horaire et frais avant nao '!$A$4:$I$81,5,FALSE) -> 0 | H22: =VLOOKUP(B22,' horaire et frais avant nao '!$A$4:$I$81,6,FALSE) -> 0 | I22: =VLOOKUP(B22,' horaire et frais avant nao '!$A$4:$I$81,7,FALSE) -> 0 | J22: =VLOOKUP(B22,' horaire et frais avant nao '!$A$4:$I$81,8,FALSE) -> 0 | K22: =VLOOKUP(B22,' horaire et frais avant nao '!$A$4:$I$81,9,FALSE) -> 0
B23: ? | C23: mardi | D23: 42144 | E23: =VLOOKUP(B23,' horaire et frais avant nao '!$A$4:$I$81,3,FALSE) -> 0 | F23: =VLOOKUP(B23,' horaire et frais avant nao '!$A$4:$I$81,4,FALSE) -> 0 | G23: =VLOOKUP(B23,' horaire et frais avant nao '!$A$4:$I$81,5,FALSE) -> 0 | H23: =VLOOKUP(B23,' horaire et frais avant nao '!$A$4:$I$81,6,FALSE) -> 0 | I23: =VLOOKUP(B23,' horaire et frais avant nao '!$A$4:$I$81,7,FALSE) -> 0 | J23: =VLOOKUP(B23,' horaire et frais avant nao '!$A$4:$I$81,8,FALSE) -> 0 | K23: =VLOOKUP(B23,' horaire et frais avant nao '!$A$4:$I$81,9,FALSE) -> 0
B24: ? | C24: mercredi | D24: 42145 | E24: =VLOOKUP(B24,' horaire et frais avant nao '!$A$4:$I$81,3,FALSE) -> 0 | F24: =VLOOKUP(B24,' horaire et frais avant nao '!$A$4:$I$81,4,FALSE) -> 0 | G24: =VLOOKUP(B24,' horaire et frais avant nao '!$A$4:$I$81,5,FALSE) -> 0 | H24: =VLOOKUP(B24,' horaire et frais avant nao '!$A$4:$I$81,6,FALSE) -> 0 | I24: =VLOOKUP(B24,' horaire et frais avant nao '!$A$4:$I$81,7,FALSE) -> 0 | J24: =VLOOKUP(B24,' horaire et frais avant nao '!$A$4:$I$81,8,FALSE) -> 0 | K24: =VLOOKUP(B24,' horaire et frais avant nao '!$A$4:$I$81,9,FALSE) -> 0
