Workbook
Name liste_1: ' horaire et frais avant nao '!$A$4:$A$81
Name TRACTEUR: 'matrice vehicule'!$B$3:$B$44

Sheet matrice vehicule
B1: TRACTEUR
B2: N° DE PARC | C2: IMATRICULATION | D2: TYPE DE VEHICULE
B3: E32288 | D3: porteur
B4: p19043 | C4: EA-911-TF | D4: scania
B5: P19044 | C5: EA-004-PW | D5: scania
B6: P19045 | C6: EA-067-TG | D6: scania
B7: p19045
B8: P19046 | C8: EA-135-PW | D8: scania
B9: p19047 | C9: EA-231-QE | D9: scania
B10: P19048 | C10: EA-092-RT | D10: scania
B11: P19049 | C11: EB-377-JP | D11: scania
B12: P19050 | C12: EB-279-JP | D12: scania
B13: P19051 | D13: scania
B14: P19052 | C14: EA-381-TG | D14: scania
B15: P19053 | C15: EA-340-RT | D15: scania
B16: p19054 | C16: EB-514-JP | D16: scania
B17: p19138 | C17: EC-998-NJ | D17: scania
B18: p19139 | C18: EC-918-ME | D18: scania
B19: p19140 | C19: EC-147-MF | D19: scania
B20: p19141
B21: p19142
B22: p19143
B23: p19144 | C23: EF-012-XP | D23: scania
B24: p19149 | C24: EG-670-HW | D24: scania
B25: p19151
D26: porteur

Sheet horaire et frais apres nao
A1: TABLEAU DES FRAIS DE ROUTE PAR TOURNEE
A3: code tournée | B3: heure d'embauche | C3: repas soir non soumis | D3: Repas midi non soumis | E3: casse croute soumis | F3: demi prime | G3: prime entiere | H3: tichet | I3: repas unique | J3: casse croute non soumis
A4: ? | B4: 0 | C4: 0 | D4: 0 | E4: 0 | F4: 0 | G4: 0 | H4: 0 | I4: 0 | J4: 0
A5: caen | B5: 0.66666667 | C5: =SUM($B$70) -> 13.56 | E5: =SUM($B$71) -> 7.35
A6: CONGES | B6: 0.66666667 | E6: =SUM($B$71) -> 7.35
A7: FCOS | B7: 0.33333333
A8: FERIEE | B8: 0.5
A9: FONTENAY SAMEDI | B9: 0.5 | C9: =SUM($B$70) -> 13.56 | E9: =SUM($B$71) -> 7.35
A10: LE MANS A/A SAMEDI | B10: 0.64583333 | C10: =SUM($B$70) -> 13.56 | E10: =SUM($B$71) -> 7.35 | F10: =SUM($B$72) -> 41.06
A11: MAGNY/VIRE | B11: 0.6875 | C11: =SUM($B$70) -> 13.56 | E11: =SUM($B$71) -> 7.35
A12: MALADIE
A13: NAV CHÂTEAUB | B13: 0.63541667 | C13: =SUM($B$70) -> 13.56 | E13: =SUM($B$71) -> 7.35
A14: NAV ATHIS 2 | B14: 0.86458333 | H14: 1 | I14: =SUM($B$76) -> 1
A15: NAV CHAULNES | B15: 0.77083333 | C15: =SUM($B$70) -> 13.56 | E15: =SUM($B$71) -> 7.35
A16: NAV CLERMONTS | B16: 0.73958333 | C16: =SUM($B$70) -> 13.56 | E16: =SUM($B$71) -> 7.35
A17: NAV DIJON | B17: 0.61458333 | C17: =SUM($B$70) -> 13.56 | E17: =SUM($B$71) -> 7.35
A18: NAV LANGRES | B18: 0.70833333 | C18: =SUM($B$70) -> 13.56 | E18: =SUM($B$71) -> 7.35
A19: NAV LILLE | B19: 0.75 | C19: =SUM($B$70) -> 13.56 | E19: =SUM($B$71) -> 7.35
A20: NAV NIORT | B20: 0.72916667 | C20: =SUM($B$70) -> 13.56 | E20: =SUM($B$71) -> 7.35
A21: NAV NIORT 21H15 | B21: 0.88541667 | H21: 1 | I21: =SUM($B$76) -> 1
A22: NAV SAVIGNY | B22: 0.79166667 | E22: =SUM($B$71) -> 7.35
A23: NAV ST SEVER SAMEDI | B23: 0.72916667 | C23: =SUM($B$70) -> 13.56 | E23: =SUM($B$71) -> 7.35 | G23: =SUM($B$73) -> 82.12
A24: nav sup | B24: 0.6875 | C24: =SUM($B$70) -> 13.56 | E24: =SUM($B$71) -> 7.35
A25: NAV TOURS SAMEDI | B25: 0.66666667 | C25: =SUM($B$70) -> 13.56 | E25: =SUM($B$71) -> 7.35
A26: NAV VELAINES | B26: 0.75 | C26: =SUM($B$70) -> 13.56 | E26: =SUM($B$71) -> 7.35
A27: RAM 14H +CTB | B27: 0.58333333 | C27: =SUM($B$70) -> 13.56 | E27: =SUM($B$71) -> 7.35
A28: RAM 9H N°2 | B28: 0.375 | D28: =SUM($B$69) -> 13.56 | E28: =SUM($B$71) -> 7.35
A29: RAM 9H N°3 | B29: 0.375 | D29: =SUM($B$69) -> 13.56 | E29: =SUM($B$71) -> 7.35
A30: RAM + 21H30 TOURS | B30: 0.71875 | C30: =SUM($B$70) -> 13.56 | E30: =SUM($B$71) -> 7.35
A31: RAM + ANGERS 21H30 | B31: 0.61458333 | C31: =SUM($B$70) -> 13.56 | E31: =SUM($B$71) -> 7.35
A32: RAM + LOG 18H +21H | B32: 0.58333333 | C32: =SUM($B$70) -> 13.56 | E32: =SUM($B$71) -> 7.35
A33: RAM + NANTES 1 | B33: 0.625 | C33: =SUM($B$70) -> 13.56 | E33: =SUM($B$71) -> 7.35
A34: RAM + NANTES 21H | B34: 0.64583333 | C34: =SUM($B$70) -> 13.56 | E34: =SUM($B$71) -> 7.35
A35: RAM + ORLEANS 21H | B35: 0.70833333 | C35: =SUM($B$70) -> 13.56 | E35: =SUM($B$71) -> 7.35
A36: RAM + ROUEN 20H15 | B36: 0.625 | C36: =SUM($B$70) -> 13.56 | E36: =SUM($B$71) -> 7.35
A37: RAM + TOURS 20H | B37: 0.72916667 | C37: =SUM($B$70) -> 13.56 | E37: =SUM($B$71) -> 7.35
A38: RAM 10H N°1 | B38: 0.41666667 | D38: =SUM($B$69) -> 13.56 | E38: =SUM($B$71) -> 7.35
A39: RAM 10H N°2 | B39: 0.41666667 | D39: =SUM($B$69) -> 13.56 | E39: =SUM($B$71) -> 7.35
A40: RAM 10H N°3 | B40: 0.41666667 | D40: =SUM($B$69) -> 13.56 | E40: =SUM($B$71) -> 7.35
A41: RAM 10H N°4 | B41: 0.41666667 | D41: =SUM($B$69) -> 13.56 | E41: =SUM($B$71) -> 7.35
...

Sheet  horaire et frais avant nao 
A1: TABLEAU DES FRAIS DE ROUTE PAR TOURNEE
A3: code tournée | B3: heure d'embauche | C3: repas soir non soumis | D3: Repas midi non soumis | E3: casse croute soumis | F3: demi prime | G3: prime entiere | H3: tichet | I3: repas unique | J3: casse croute non soumis
A4: ? | B4: 0
A5: caen | B5: 0.66666667 | C5: =SUM($B$71) -> 13.56 | E5: =SUM($B$72) -> 7.35
A6: CONGES | B6: 0.66666667 | E6: =SUM($B$72) -> 7.35
A7: FCOS | B7: 0.33333333
A8: FERIEE | B8: 0.5
A9: FONTENAY SAMEDI | B9: 0.5 | C9: =SUM($B$71) -> 13.56 | E9: =SUM($B$72) -> 7.35
A10: LE MANS A/A SAMEDI | B10: 0.64583333 | C10: =SUM($B$71) -> 13.56 | E10: =SUM($B$72) -> 7.35 | F10: =SUM($B$73) -> 41.06
A11: NAV ATHIS 1 | B11: 0.85416667 | H11: 1 | I11: 1
A12: MALADIE
A13: NAV CHÂTEAUB | B13: 0.63541667 | C13: =SUM($B$71) -> 13.56 | E13: =SUM($B$72) -> 7.35
A14: NAV ATHIS 2 | B14: 0.86458333 | H14: 1 | I14: =SUM($B$77) -> 8.13
A15: NAV CHAULNES | B15: 0.77083333 | C15: =SUM($B$71) -> 13.56 | E15: =SUM($B$72) -> 7.35
A16: NAV CLERMONTS | B16: 0.73958333 | C16: =SUM($B$71) -> 13.56 | E16: =SUM($B$72) -> 7.35
A17: NAV DIJON | B17: 0.61458333 | C17: =SUM($B$71) -> 13.56 | E17: =SUM($B$72) -> 7.35
A18: NAV LANGRES | B18: 0.70833333 | C18: =SUM($B$71) -> 13.56 | E18: =SUM($B$72) -> 7.35
A19: NAV LILLE | B19: 0.75 | C19: =SUM($B$71) -> 13.56 | E19: =SUM($B$72) -> 7.35
A20: NAV NIORT | B20: 0.72916667 | C20: =SUM($B$71) -> 13.56 | E20: =SUM($B$72) -> 7.35
A21: NAV NIORT 21H15 | B21: 0.88541667 | H21: 1 | I21: =SUM($B$77) -> 8.13
B22: 0.79166667 | E22: =SUM($B$72) -> 7.35
A23: NAV ST SEVER | B23: 0.72916667 | C23: =SUM($B$71) -> 13.56 | E23: =SUM($B$72) -> 7.35
A24: RAM+nav sup | B24: 0.6875 | C24: =SUM($B$71) -> 13.56 | E24: =SUM($B$72) -> 7.35
A25: NAV TOURS SAMEDI | B25: 0.66666667 | C25: =SUM($B$71) -> 13.56 | E25: =SUM($B$72) -> 7.35
A26: NAV VELAINES | B26: 0.75 | C26: =SUM($B$71) -> 13.56 | E26: =SUM($B$72) -> 7.35
A27: RAM 14H +CTB | B27: 0.58333333 | C27: =SUM($B$71) -> 13.56 | E27: =SUM($B$72) -> 7.35
A28: RAM 9H N°2 | B28: 0.375 | D28: =SUM($B$70) -> 13.56 | E28: =SUM($B$72) -> 7.35
A29: RAM 9H N°3 | B29: 0.375 | D29: =SUM($B$70) -> 13.56 | E29: =SUM($B$72) -> 7.35
A30: RAM + 21H30 TOURS | B30: 0.71875 | C30: =SUM($B$71) -> 13.56 | E30: =SUM($B$72) -> 7.35
A31: RAM + ANGERS 21H30 | B31: 0.61458333 | C31: =SUM($B$71) -> 13.56 | E31: =SUM($B$72) -> 7.35
A32: RAM + LOG 18H +21H | B32: 0.58333333 | C32: =SUM($B$71) -> 13.56 | E32: =SUM($B$72) -> 7.35
A33: RAM + NANTES 1 | B33: 0.625 | C33: =SUM($B$71) -> 13.56 | E33: =SUM($B$72) -> 7.35
A34: RAM + NANTES 21H | B34: 0.64583333 | C34: =SUM($B$71) -> 13.56 | E34: =SUM($B$72) -> 7.35
A35: RAM + ORLEANS 21H | B35: 0.70833333 | C35: =SUM($B$71) -> 13.56 | E35: =SUM($B$72) -> 7.35
A36: RAM + ROUEN 20H15 | B36: 0.625 | C36: =SUM($B$71) -> 13.56 | E36: =SUM($B$72) -> 7.35
A37: RAM + TOURS 20H | B37: 0.72916667 | C37: =SUM($B$71) -> 13.56 | E37: =SUM($B$72) -> 7.35
A38: RAM 10H N°1 | B38: 0.41666667 | D38: =SUM($B$70) -> 13.56 | E38: =SUM($B$72) -> 7.35
A39: RAM 10H N°2 | B39: 0.41666667 | D39: =SUM($B$70) -> 13.56 | E39: =SUM($B$72) -> 7.35
A40: RAM 10H N°3 | B40: 0.41666667 | D40: =SUM($B$70) -> 13.56 | E40: =SUM($B$72) -> 7.35
A41: RAM 10H N°4 | B41: 0.41666667 | D41: =SUM($B$70) -> 13.56 | E41: =SUM($B$72) -> 7.35
...

Sheet sommaire
A1: 42385

Sheet periode 1  fr01 versé 28  02 16
H1: PRIME DE DIMANCHE
A2: SEMAINE | B2: TOURNEE | C2: JOUR | D2: DATE | E2: repas soir non soumis | F2: Repas midi non soumis | G2: casse-croute soumis | H2: demi prime | I2: prime entière | J2: ticket | K2: repas unique | M2: PERIODE 13
A3: 1 | B3: ? | C3: mercredi | D3: 42004 | E3: =VLOOKUP(B3,' horaire et frais avant nao '!$A$4:$I$81,3,FALSE) -> 0 | F3: =VLOOKUP(B3,' horaire et frais avant nao '!$A$4:$I$81,4,FALSE) -> 0 | G3: =VLOOKUP(B3,' horaire et frais avant nao '!$A$4:$I$81,5,FALSE) -> 0 | H3: =VLOOKUP(B3,' horaire et frais avant nao '!$A$4:$I$81,6,FALSE) -> 0 | I3: =VLOOKUP(B3,' horaire et frais avant nao '!$A$4:$I$81,7,FALSE) -> 0 | J3: =VLOOKUP(B3,' horaire et frais avant nao '!$A$4:$I$81,8,FALSE) -> 0 | K3: =VLOOKUP(B3,' horaire et frais avant nao '!$A$4:$I$81,9,FALSE) -> 0 | M3: PERIODE 13
B4: ? | C4: jeudi | D4: 42005 | E4: =VLOOKUP(B4,' horaire et frais avant nao '!$A$4:$I$81,3,FALSE) -> 0 | F4: =VLOOKUP(B4,' horaire et frais avant nao '!$A$4:$I$81,4,FALSE) -> 0 | G4: =VLOOKUP(B4,' horaire et frais avant nao '!$A$4:$I$81,5,FALSE) -> 0 | H4: =VLOOKUP(B4,' horaire et frais avant nao '!$A$4:$I$81,6,FALSE) -> 0 | I4: =VLOOKUP(B4,' horaire et frais avant nao '!$A$4:$I$81,7,FALSE) -> 0 | J4: =VLOOKUP(B4,' horaire et frais avant nao '!$A$4:$I$81,8,FALSE) -> 0 | K4: =VLOOKUP(B4,' horaire et frais avant nao '!$A$4:$I$81,9,FALSE) -> 0
B5: ? | C5: vendredi | D5: 42006 | E5: =VLOOKUP(B5,' horaire et frais avant nao '!$A$4:$I$81,3,FALSE) -> 0 | F5: =VLOOKUP(B5,' horaire et frais avant nao '!$A$4:$I$81,4,FALSE) -> 0 | G5: =VLOOKUP(B5,' horaire et frais avant nao '!$A$4:$I$81,5,FALSE) -> 0 | H5: =VLOOKUP(B5,' horaire et frais avant nao '!$A$4:$I$81,6,FALSE) -> 0 | I5: =VLOOKUP(B5,' horaire et frais avant nao '!$A$4:$I$81,7,FALSE) -> 0 | J5: =VLOOKUP(B5,' horaire et frais avant nao '!$A$4:$I$81,8,FALSE) -> 0 | K5: =VLOOKUP(B5,' horaire et frais avant nao '!$A$4:$I$81,9,FALSE) -> 0
B6: week | C6: samedi | D6: 42007 | E6: =VLOOKUP(B6,' horaire et frais avant nao '!$A$4:$I$81,3,FALSE) -> 0 | F6: =VLOOKUP(B6,' horaire et frais avant nao '!$A$4:$I$81,4,FALSE) -> 0 | G6: =VLOOKUP(B6,' horaire et frais avant nao '!$A$4:$I$81,5,FALSE) -> 0 | H6: =VLOOKUP(B6,' horaire et frais avant nao '!$A$4:$I$81,6,FALSE) -> 0 | I6: =VLOOKUP(B6,' horaire et frais avant nao '!$A$4:$I$81,7,FALSE) -> 0 | J6: =VLOOKUP(B6,' horaire et frais avant nao '!$A$4:$I$81,8,FALSE) -> 0 | K6: =VLOOKUP(B6,' horaire et frais avant nao '!$A$4:$I$81,9,FALSE) -> 0
B7: week | C7: dimanche | D7: 42008 | E7: =VLOOKUP(B7,' horaire et frais avant nao '!$A$4:$I$81,3,FALSE) -> 0 | F7: =VLOOKUP(B7,' horaire et frais avant nao '!$A$4:$I$81,4,FALSE) -> 0 | G7: =VLOOKUP(B7,' horaire et frais avant nao '!$A$4:$I$81,5,FALSE) -> 0 | H7: =VLOOKUP(B7,' horaire et frais avant nao '!$A$4:$I$81,6,FALSE) -> 0 | I7: =VLOOKUP(B7,' horaire et frais avant nao '!$A$4:$I$81,7,FALSE) -> 0 | J7: =VLOOKUP(B7,' horaire et frais avant nao '!$A$4:$I$81,8,FALSE) -> 0 | K7: =VLOOKUP(B7,' horaire et frais avant nao '!$A$4:$I$81,9,FALSE) -> 0
A8: 2 | B8: ? | C8: lundi | D8: 42009 | E8: =VLOOKUP(B8,' horaire et frais avant nao '!$A$4:$I$81,3,FALSE) -> 0 | F8: =VLOOKUP(B8,' horaire et frais avant nao '!$A$4:$I$81,4,FALSE) -> 0 | G8: =VLOOKUP(B8,' horaire et frais avant nao '!$A$4:$I$81,5,FALSE) -> 0 | H8: =VLOOKUP(B8,' horaire et frais avant nao '!$A$4:$I$81,6,FALSE) -> 0 | I8: =VLOOKUP(B8,' horaire et frais avant nao '!$A$4:$I$81,7,FALSE) -> 0 | J8: =VLOOKUP(B8,' horaire et frais avant nao '!$A$4:$I$81,8,FALSE) -> 0 | K8: =VLOOKUP(B8,' horaire et frais avant nao '!$A$4:$I$81,9,FALSE) -> 0
B9: ? | C9: mardi | D9: 42010 | E9: =VLOOKUP(B9,' horaire et frais avant nao '!$A$4:$I$81,3,FALSE) -> 0 | F9: =VLOOKUP(B9,' horaire et frais avant nao '!$A$4:$I$81,4,FALSE) -> 0 | G9: =VLOOKUP(B9,' horaire et frais avant nao '!$A$4:$I$81,5,FALSE) -> 0 | H9: =VLOOKUP(B9,' horaire et frais avant nao '!$A$4:$I$81,6,FALSE) -> 0 | I9: =VLOOKUP(B9,' horaire et frais avant nao '!$A$4:$I$81,7,FALSE) -> 0 | J9: =VLOOKUP(B9,' horaire et frais avant nao '!$A$4:$I$81,8,FALSE) -> 0 | K9: =VLOOKUP(B9,' horaire et frais avant nao '!$A$4:$I$81,9,FALSE) -> 0
B10: ? | C10: mercredi | D10: 42011 | E10: =VLOOKUP(B10,' horaire et frais avant nao '!$A$4:$I$81,3,FALSE) -> 0 | F10: =VLOOKUP(B10,' horaire et frais avant nao '!$A$4:$I$81,4,FALSE) -> 0 | G10: =VLOOKUP(B10,' horaire et frais avant nao '!$A$4:$I$81,5,FALSE) -> 0 | H10: =VLOOKUP(B10,' horaire et frais avant nao '!$A$4:$I$81,6,FALSE) -> 0 | I10: =VLOOKUP(B10,' horaire et frais avant nao '!$A$4:$I$81,7,FALSE) -> 0 | J10: =VLOOKUP(B10,' horaire et frais avant nao '!$A$4:$I$81,8,FALSE) -> 0 | K10: =VLOOKUP(B10,' horaire et frais avant nao '!$A$4:$I$81,9,FALSE) -> 0
B11: ? | C11: jeudi | D11: 42012 | E11: =VLOOKUP(B11,' horaire et frais avant nao '!$A$4:$I$81,3,FALSE) -> 0 | F11: =VLOOKUP(B11,' horaire et frais avant nao '!$A$4:$I$81,4,FALSE) -> 0 | G11: =VLOOKUP(B11,' horaire et frais avant nao '!$A$4:$I$81,5,FALSE) -> 0 | H11: =VLOOKUP(B11,' horaire et frais avant nao '!$A$4:$I$81,6,FALSE) -> 0 | I11: =VLOOKUP(B11,' horaire et frais avant nao '!$A$4:$I$81,7,FALSE) -> 0 | J11: =VLOOKUP(B11,' horaire et frais avant nao '!$A$4:$I$81,8,FALSE) -> 0 | K11: =VLOOKUP(B11,' horaire et frais avant nao '!$A$4:$I$81,9,FALSE) -> 0
B12: ? | C12: vendredi | D12: 42013 | E12: =VLOOKUP(B12,' horaire et frais avant nao '!$A$4:$I$81,3,FALSE) -> 0 | F12: =VLOOKUP(B12,' horaire et frais avant nao '!$A$4:$I$81,4,FALSE) -> 0 | G12: =VLOOKUP(B12,' horaire et frais avant nao '!$A$4:$I$81,5,FALSE) -> 0 | H12: =VLOOKUP(B12,' horaire et frais avant nao '!$A$4:$I$81,6,FALSE) -> 0 | I12: =VLOOKUP(B12,' horaire et frais avant nao '!$A$4:$I$81,7,FALSE) -> 0 | J12: =VLOOKUP(B12,' horaire et frais avant nao '!$A$4:$I$81,8,FALSE) -> 0 | K12: =VLOOKUP(B12,' horaire et frais avant nao '!$A$4:$I$81,9,FALSE) -> 0
B13: week | C13: samedi | D13: 42014 | E13: =VLOOKUP(B13,' horaire et frais avant nao '!$A$4:$I$81,3,FALSE) -> 0 | F13: =VLOOKUP(B13,' horaire et frais avant nao '!$A$4:$I$81,4,FALSE) -> 0 | G13: =VLOOKUP(B13,' horaire et frais avant nao '!$A$4:$I$81,5,FALSE) -> 0 | H13: =VLOOKUP(B13,' horaire et frais avant nao '!$A$4:$I$81,6,FALSE) -> 0 | I13: =VLOOKUP(B13,' horaire et frais avant nao '!$A$4:$I$81,7,FALSE) -> 0 | J13: =VLOOKUP(B13,' horaire et frais avant nao '!$A$4:$I$81,8,FALSE) -> 0 | K13: =VLOOKUP(B13,' horaire et frais avant nao '!$A$4:$I$81,9,FALSE) -> 0
B14: week | C14: dimanche | D14: 42015 | E14: =VLOOKUP(B14,' horaire et frais avant nao '!$A$4:$I$81,3,FALSE) -> 0 | F14: =VLOOKUP(B14,' horaire et frais avant nao '!$A$4:$I$81,4,FALSE) -> 0 | G14: =VLOOKUP(B14,' horaire et frais avant nao '!$A$4:$I$81,5,FALSE) -> 0 | H14: =VLOOKUP(B14,' horaire et frais avant nao '!$A$4:$I$81,6,FALSE) -> 0 | I14: =VLOOKUP(B14,' horaire et frais avant nao '!$A$4:$I$81,7,FALSE) -> 0 | J14: =VLOOKUP(B14,' horaire et frais avant nao '!$A$4:$I$81,8,FALSE) -> 0 | K14: =VLOOKUP(B14,' horaire et frais avant nao '!$A$4:$I$81,9,FALSE) -> 0
A15: 3 | B15: week | C15: lundi | D15: 42016 | E15: =VLOOKUP(B15,' horaire et frais avant nao '!$A$4:$I$81,3,FALSE) -> 0 | F15: =VLOOKUP(B15,' horaire et frais avant nao '!$A$4:$I$81,4,FALSE) -> 0 | G15: =VLOOKUP(B15,' horaire et frais avant nao '!$A$4:$I$81,5,FALSE) -> 0 | H15: =VLOOKUP(B15,' horaire et frais avant nao '!$A$4:$I$81,6,FALSE) -> 0 | I15: =VLOOKUP(B15,' horaire et frais avant nao '!$A$4:$I$81,7,FALSE) -> 0 | J15: =VLOOKUP(B15,' horaire et frais avant nao '!$A$4:$I$81,8,FALSE) -> 0 | K15: =VLOOKUP(B15,' horaire et frais avant nao '!$A$4:$I$81,9,FALSE) -> 0
B16: ? | C16: mardi | D16: 42017 | E16: =VLOOKUP(B16,' horaire et frais avant nao '!$A$4:$I$81,3,FALSE) -> 0 | F16: =VLOOKUP(B16,' horaire et frais avant nao '!$A$4:$I$81,4,FALSE) -> 0 | G16: =VLOOKUP(B16,' horaire et frais avant nao '!$A$4:$I$81,5,FALSE) -> 0 | H16: =VLOOKUP(B16,' horaire et frais avant nao '!$A$4:$I$81,6,FALSE) -> 0 | I16: =VLOOKUP(B16,' horaire et frais avant nao '!$A$4:$I$81,7,FALSE) -> 0 | J16: =VLOOKUP(B16,' horaire et frais avant nao '!$A$4:$I$81,8,FALSE) -> 0 | K16: =VLOOKUP(B16,' horaire et frais avant nao '!$A$4:$I$81,9,FALSE) -> 0
B17: ? | C17: mercredi | D17: 42018 | E17: =VLOOKUP(B17,' horaire et frais avant nao '!$A$4:$I$81,3,FALSE) -> 0 | F17: =VLOOKUP(B17,' horaire et frais avant nao '!$A$4:$I$81,4,FALSE) -> 0 | G17: =VLOOKUP(B17,' horaire et frais avant nao '!$A$4:$I$81,5,FALSE) -> 0 | H17: =VLOOKUP(B17,' horaire et frais avant nao '!$A$4:$I$81,6,FALSE) -> 0 | I17: =VLOOKUP(B17,' horaire et frais avant nao '!$A$4:$I$81,7,FALSE) -> 0 | J17: =VLOOKUP(B17,' horaire et frais avant nao '!$A$4:$I$81,8,FALSE) -> 0 | K17: =VLOOKUP(B17,' horaire et frais avant nao '!$A$4:$I$81,9,FALSE) -> 0
B18: ? | C18: jeudi | D18: 42019 | E18: =VLOOKUP(B18,' horaire et frais avant nao '!$A$4:$I$81,3,FALSE) -> 0 | F18: =VLOOKUP(B18,' horaire et frais avant nao '!$A$4:$I$81,4,FALSE) -> 0 | G18: =VLOOKUP(B18,' horaire et frais avant nao '!$A$4:$I$81,5,FALSE) -> 0 | H18: =VLOOKUP(B18,' horaire et frais avant nao '!$A$4:$I$81,6,FALSE) -> 0 | I18: =VLOOKUP(B18,' horaire et frais avant nao '!$A$4:$I$81,7,FALSE) -> 0 | J18: =VLOOKUP(B18,' horaire et frais avant nao '!$A$4:$I$81,8,FALSE) -> 0 | K18: =VLOOKUP(B18,' horaire et frais avant nao '!$A$4:$I$81,9,FALSE) -> 0
B19: ? | C19: vendredi | D19: 42020 | E19: =VLOOKUP(B19,' horaire et frais avant nao '!$A$4:$I$81,3,FALSE) -> 0 | F19: =VLOOKUP(B19,' horaire et frais avant nao '!$A$4:$I$81,4,FALSE) -> 0 | G19: =VLOOKUP(B19,' horaire et frais avant nao '!$A$4:$I$81,5,FALSE) -> 0 | H19: =VLOOKUP(B19,' horaire et frais avant nao '!$A$4:$I$81,6,FALSE) -> 0 | I19: =VLOOKUP(B19,' horaire et frais avant nao '!$A$4:$I$81,7,FALSE) -> 0 | J19: =VLOOKUP(B19,' horaire et frais avant nao '!$A$4:$I$81,8,FALSE) -> 0 | K19: =VLOOKUP(B19,' horaire et frais avant nao '!$A$4:$I$81,9,FALSE) -> 0
B20: week | C20: samedi | D20: 42021 | E20: =VLOOKUP(B20,' horaire et frais avant nao '!$A$4:$I$81,3,FALSE) -> 0 | F20: =VLOOKUP(B20,' horaire et frais avant nao '!$A$4:$I$81,4,FALSE) -> 0 | G20: =VLOOKUP(B20,' horaire et frais avant nao '!$A$4:$I$81,5,FALSE) -> 0 | H20: =VLOOKUP(B20,' horaire et frais avant nao '!$A$4:$I$81,6,FALSE) -> 0 | I20: =VLOOKUP(B20,' horaire et frais avant nao '!$A$4:$I$81,7,FALSE) -> 0 | J20: =VLOOKUP(B20,' horaire et frais avant nao '!$A$4:$I$81,8,FALSE) -> 0 | K20: =VLOOKUP(B20,' horaire et frais avant nao '!$A$4:$I$81,9,FALSE) -> 0
B21: week | C21: dimanche | D21: 42022 | E21: =VLOOKUP(B21,' horaire et frais avant nao '!$A$4:$I$81,3,FALSE) -> 0 | F21: =VLOOKUP(B21,' horaire et frais avant nao '!$A$4:$I$81,4,FALSE) -> 0 | G21: =VLOOKUP(B21,' horaire et frais avant nao '!$A$4:$I$81,5,FALSE) -> 0 | H21: =VLOOKUP(B21,' horaire et frais avant nao '!$A$4:$I$81,6,FALSE) -> 0 | I21: =VLOOKUP(B21,' horaire et frais avant nao '!$A$4:$I$81,7,FALSE) -> 0 | J21: =VLOOKUP(B21,' horaire et frais avant nao '!$A$4:$I$81,8,FALSE) -> 0 | K21: =VLOOKUP(B21,' horaire et frais avant nao '!$A$4:$I$81,9,FALSE) -> 0
A22: 4 | B22: ? | C22: lundi | D22: 42023 | E22: =VLOOKUP(B22,' horaire et frais avant nao '!$A$4:$I$81,3,FALSE) -> 0 | F22: =VLOOKUP(B22,' horaire et frais avant nao '!$A$4:$I$81,4,FALSE) -> 0 | G22: =VLOOKUP(B22,' horaire et frais avant nao '!$A$4:$I$81,5,FALSE) -> 0 | H22: =VLOOKUP(B22,' horaire et frais avant nao '!$A$4:$I$81,6,FALSE) -> 0 | I22: =VLOOKUP(B22,' horaire et frais avant nao '!$A$4:$I$81,7,FALSE) -> 0 | J22: =VLOOKUP(B22,' horaire et frais avant nao '!$A$4:$I$81,8,FALSE) -> 0 | K22: =VLOOKUP(B22,' horaire et frais avant nao '!$A$4:$I$81,9,FALSE) -> 0
B23: ? | C23: mardi | D23: 42024 | E23: =VLOOKUP(B23,' horaire et frais avant nao '!$A$4:$I$81,3,FALSE) -> 0 | F23: =VLOOKUP(B23,' horaire et frais avant nao '!$A$4:$I$81,4,FALSE) -> 0 | G23: =VLOOKUP(B23,' horaire et frais avant nao '!$A$4:$I$81,5,FALSE) -> 0 | H23: =VLOOKUP(B23,' horaire et frais avant nao '!$A$4:$I$81,6,FALSE) -> 0 | I23: =VLOOKUP(B23,' horaire et frais avant nao '!$A$4:$I$81,7,FALSE) -> 0 | J23: =VLOOKUP(B23,' horaire et frais avant nao '!$A$4:$I$81,8,FALSE) -> 0 | K23: =VLOOKUP(B23,' horaire et frais avant nao '!$A$4:$I$81,9,FALSE) -> 0
B24: ? | C24: mercredi | D24: 42025 | E24: =VLOOKUP(B24,' horaire et frais avant nao '!$A$4:$I$81,3,FALSE) -> 0 | F24: =VLOOKUP(B24,' horaire et frais avant nao '!$A$4:$I$81,4,FALSE) -> 0 | G24: =VLOOKUP(B24,' horaire et frais avant nao '!$A$4:$I$81,5,FALSE) -> 0 | H24: =VLOOKUP(B24,' horaire et frais avant nao '!$A$4:$I$81,6,FALSE) -> 0 | I24: =VLOOKUP(B24,' horaire et frais avant nao '!$A$4:$I$81,7,FALSE) -> 0 | J24: =VLOOKUP(B24,' horaire et frais avant nao '!$A$4:$I$81,8,FALSE) -> 0 | K24: =VLOOKUP(B24,' horaire et frais avant nao '!$A$4:$I$81,9,FALSE) -> 0
B25: ? | C25: jeudi | D25: 42026 | E25: =VLOOKUP(B25,' horaire et frais avant nao '!$A$4:$I$81,3,FALSE) -> 0 | F25: =VLOOKUP(B25,' horaire et frais avant nao '!$A$4:$I$81,4,FALSE) -> 0 | G25: =VLOOKUP(B25,' horaire et frais avant nao '!$A$4:$I$81,5,FALSE) -> 0 | H25: =VLOOKUP(B25,' horaire et frais avant nao '!$A$4:$I$81,6,FALSE) -> 0 | I25: =VLOOKUP(B25,' horaire et frais avant nao '!$A$4:$I$81,7,FALSE) -> 0 | J25: =VLOOKUP(B25,' horaire et frais avant nao '!$A$4:$I$81,8,FALSE) -> 0 | K25: =VLOOKUP(B25,' horaire et frais avant nao '!$A$4:$I$81,9,FALSE) -> 0
B26: ? | C26: vendredi | D26: 42027 | E26: =VLOOKUP(B26,' horaire et frais avant nao '!$A$4:$I$81,3,FALSE) -> 0 | F26: =VLOOKUP(B26,' horaire et frais avant nao '!$A$4:$I$81,4,FALSE) -> 0 | G26: =VLOOKUP(B26,' horaire et frais avant nao '!$A$4:$I$81,5,FALSE) -> 0 | H26: =VLOOKUP(B26,' horaire et frais avant nao '!$A$4:$I$81,6,FALSE) -> 0 | I26: =VLOOKUP(B26,' horaire et frais avant nao '!$A$4:$I$81,7,FALSE) -> 0 | J26: =VLOOKUP(B26,' horaire et frais avant nao '!$A$4:$I$81,8,FALSE) -> 0 | K26: =VLOOKUP(B26,' horaire et frais avant nao '!$A$4:$I$81,9,FALSE) -> 0
B27: week | C27: samedi | D27: 42028 | E27: =VLOOKUP(B27,' horaire et frais avant nao '!$A$4:$I$81,3,FALSE) -> 0 | F27: =VLOOKUP(B27,' horaire et frais avant nao '!$A$4:$I$81,4,FALSE) -> 0 | G27: =VLOOKUP(B27,' horaire et frais avant nao '!$A$4:$I$81,5,FALSE) -> 0 | H27: =VLOOKUP(B27,' horaire et frais avant nao '!$A$4:$I$81,6,FALSE) -> 0 | I27: =VLOOKUP(B27,' horaire et frais avant nao '!$A$4:$I$81,7,FALSE) -> 0 | J27: =VLOOKUP(B27,' horaire et frais avant nao '!$A$4:$I$81,8,FALSE) -> 0 | K27: =VLOOKUP(B27,' horaire et frais avant nao '!$A$4:$I$81,9,FALSE) -> 0
B28: week | C28: dimanche | D28: 42029 | E28: =VLOOKUP(B28,' horaire et frais avant nao '!$A$4:$I$81,3,FALSE) -> 0 | F28: =VLOOKUP(B28,' horaire et frais avant nao '!$A$4:$I$81,4,FALSE) -> 0 | G28: =VLOOKUP(B28,' horaire et frais avant nao '!$A$4:$I$81,5,FALSE) -> 0 | H28: =VLOOKUP(B28,' horaire et frais avant nao '!$A$4:$I$81,6,FALSE) -> 0 | I28: =VLOOKUP(B28,' horaire et frais avant nao '!$A$4:$I$81,7,FALSE) -> 0 | J28: =VLOOKUP(B28,' horaire et frais avant nao '!$A$4:$I$81,8,FALSE) -> 0 | K28: =VLOOKUP(B28,' horaire et frais avant nao '!$A$4:$I$81,9,FALSE) -> 0
A29: 5 | B29: ? | C29: lundi | D29: 42030 | E29: =VLOOKUP(B29,' horaire et frais avant nao '!$A$4:$I$81,3,FALSE) -> 0 | F29: =VLOOKUP(B29,' horaire et frais avant nao '!$A$4:$I$81,4,FALSE) -> 0 | G29: =VLOOKUP(B29,' horaire et frais avant nao '!$A$4:$I$81,5,FALSE) -> 0 | H29: =VLOOKUP(B29,' horaire et frais avant nao '!$A$4:$I$81,6,FALSE) -> 0 | I29: =VLOOKUP(B29,' horaire et frais avant nao '!$A$4:$I$81,7,FALSE) -> 0 | J29: =VLOOKUP(B29,' horaire et frais avant nao '!$A$4:$I$81,8,FALSE) -> 0 | K29: =VLOOKUP(B29,' horaire et frais avant nao '!$A$4:$I$81,9,FALSE) -> 0
B30: ? | C30: mardi | D30: 42031 | E30: =VLOOKUP(B30,' horaire et frais avant nao '!$A$4:$I$81,3,FALSE) -> 0 | F30: =VLOOKUP(B30,' horaire et frais avant nao '!$A$4:$I$81,4,FALSE) -> 0 | G30: =VLOOKUP(B30,' horaire et frais avant nao '!$A$4:$I$81,5,FALSE) -> 0 | H30: =VLOOKUP(B30,' horaire et frais avant nao '!$A$4:$I$81,6,FALSE) -> 0 | I30: =VLOOKUP(B30,' horaire et frais avant nao '!$A$4:$I$81,7,FALSE) -> 0 | J30: =VLOOKUP(B30,' horaire et frais avant nao '!$A$4:$I$81,8,FALSE) -> 0 | K30: =VLOOKUP(B30,' horaire et frais avant nao '!$A$4:$I$81,9,FALSE) -> 0
B31: ? | C31: mercredi | D31: 42032 | E31: =VLOOKUP(B31,' horaire et frais avant nao '!$A$4:$I$81,3,FALSE) -> 0 | F31: =VLOOKUP(B31,' horaire et frais avant nao '!$A$4:$I$81,4,FALSE) -> 0 | G31: =VLOOKUP(B31,' horaire et frais avant nao '!$A$4:$I$81,5,FALSE) -> 0 | H31: =VLOOKUP(B31,' horaire et frais avant nao '!$A$4:$I$81,6,FALSE) -> 0 | I31: =VLOOKUP(B31,' horaire et frais avant nao '!$A$4:$I$81,7,FALSE) -> 0 | J31: =VLOOKUP(B31,' horaire et frais avant nao '!$A$4:$I$81,8,FALSE) -> 0 | K31: =VLOOKUP(B31,' horaire et frais avant nao '!$A$4:$I$81,9,FALSE) -> 0
B32: ? | C32: jeudi | D32: 42033 | E32: =VLOOKUP(B32,' horaire et frais avant nao '!$A$4:$I$81,3,FALSE) -> 0 | F32: =VLOOKUP(B32,' horaire et frais avant nao '!$A$4:$I$81,4,FALSE) -> 0 | G32: =VLOOKUP(B32,' horaire et frais avant nao '!$A$4:$I$81,5,FALSE) -> 0 | H32: =VLOOKUP(B32,' horaire et frais avant nao '!$A$4:$I$81,6,FALSE) -> 0 | I32: =VLOOKUP(B32,' horaire et frais avant nao '!$A$4:$I$81,7,FALSE) -> 0 | J32: =VLOOKUP(B32,' horaire et frais avant nao '!$A$4:$I$81,8,FALSE) -> 0 | K32: =VLOOKUP(B32,' horaire et frais avant nao '!$A$4:$I$81,9,FALSE) -> 0
B33: ? | C33: vendredi | D33: 42034 | E33: =VLOOKUP(B33,' horaire et frais avant nao '!$A$4:$I$81,3,FALSE) -> 0 | F33: =VLOOKUP(B33,' horaire et frais avant nao '!$A$4:$I$81,4,FALSE) -> 0 | G33: =VLOOKUP(B33,' horaire et frais avant nao '!$A$4:$I$81,5,FALSE) -> 0 | H33: =VLOOKUP(B33,' horaire et frais avant nao '!$A$4:$I$81,6,FALSE) -> 0 | I33: =VLOOKUP(B33,' horaire et frais avant nao '!$A$4:$I$81,7,FALSE) -> 0 | J33: =VLOOKUP(B33,' horaire et frais avant nao '!$A$4:$I$81,8,FALSE) -> 0 | K33: =VLOOKUP(B33,' horaire et frais avant nao '!$A$4:$I$81,9,FALSE) -> 0
B34: TOTAL | E34: =SUM(E3:E33) -> 0 | F34: =SUM(F3:F33) -> 0 | G34: =SUM(G3:G33) -> 0 | H34: =SUM(H3:H33) -> 0 | I34: =SUM(I3:I33) -> 0 | J34: =SUM(J3:J33) -> 0 | K34: =SUM(K3:K33) -> 0
A35: SEMAINE | B35: TOURNEE | C35: JOUR | D35: DATE | E35: repas soir non soumis | F35: Repas midi non soumis | G35: casse-croute soumis | H35: demi prime | I35: prime entière | J35: ticket | K35: repas unique
B43: SEMAINE 1 DU 30/12/2020 AU 05/01/2020
A45: conso l /100 | B45: n°de parc | C45: Tournée | D45: Jour | E45: Début de poste | F45: Fin de poste | G45: TEMPS DE SERVICE | H45: Pause de jour | I45: Pause de nuit | J45: Heures de nuit | K45: Heures réunion formation
C46: ? | D46: lundi | E46: =VLOOKUP(C46,' horaire et frais avant nao '!$A$4:I81,2,FALSE) -> 0 | F46: 0 | G46: =MOD(F46-E46,1)-I46-H46+K46 -> 0 | H46: 0 | I46: 0 | J46: =(IF(((E46*24)>=21)*AND((F46*24)>6)*AND((F46*24)<21),30-(E46*24),0)+IF(((F46*24)>=21)*AND((E46*24)>6)*AND((E46*24)<21),MIN((F46*24)-(E46*24),(F46*24)-21),0)+IF(((E46*24)>6)*AND((E46*24)<21)*AND((F46*24)<=6),3+(F46*24),0)+IF(((E46*24)<=6)*AND((F46*24)>6)*AND((F46*24)<21),6-(E46*24),0)+IF(((E46*24)<=6)*AND((F46*24)<=6),(F46*24)-(E46*24),0)+IF(((E46*24)>=21)*AND((F46*24)<=6),24-(E46*24)+(F46*24),0)+IF(((E46*24)>=21)*AND((F46*24)>=21),(F46*24)-(E46*24),0)+IF(((E46*24)<=6)*AND((F46*24)>=21),6-(E46*24)+(F46*24)-21,0)+IF(((E46*24)>6)*AND((E46*24)<21)*AND((F46*24)>6)*AND((F46*24)<21)*AND((E46*24)>(F46*24)),9,0))/24-I46 -> 0 | K46: 0
C47: ? | D47: mardi | E47: =VLOOKUP(C47,' horaire et frais avant nao '!$A$4:I82,2,FALSE) -> 0 | F47: 0 | G47: =MOD(F47-E47,1)-I47-H47+K47 -> 0 | H47: 0 | I47: 0 | J47: =(IF(((E47*24)>=21)*AND((F47*24)>6)*AND((F47*24)<21),30-(E47*24),0)+IF(((F47*24)>=21)*AND((E47*24)>6)*AND((E47*24)<21),MIN((F47*24)-(E47*24),(F47*24)-21),0)+IF(((E47*24)>6)*AND((E47*24)<21)*AND((F47*24)<=6),3+(F47*24),0)+IF(((E47*24)<=6)*AND((F47*24)>6)*AND((F47*24)<21),6-(E47*24),0)+IF(((E47*24)<=6)*AND((F47*24)<=6),(F47*24)-(E47*24),0)+IF(((E47*24)>=21)*AND((F47*24)<=6),24-(E47*24)+(F47*24),0)+IF(((E47*24)>=21)*AND((F47*24)>=21),(F47*24)-(E47*24),0)+IF(((E47*24)<=6)*AND((F47*24)>=21),6-(E47*24)+(F47*24)-21,0)+IF(((E47*24)>6)*AND((E47*24)<21)*AND((F47*24)>6)*AND((F47*24)<21)*AND((E47*24)>(F47*24)),9,0))/24-I47 -> 0 | K47: 0
C48: ? | D48: mercredi | E48: =VLOOKUP(C48,' horaire et frais avant nao '!$A$4:I83,2,FALSE) -> 0 | F48: 0 | G48: =MOD(F48-E48,1)-I48-H48+K48 -> 0 | H48: 0 | I48: 0 | J48: =(IF(((E48*24)>=21)*AND((F48*24)>6)*AND((F48*24)<21),30-(E48*24),0)+IF(((F48*24)>=21)*AND((E48*24)>6)*AND((E48*24)<21),MIN((F48*24)-(E48*24),(F48*24)-21),0)+IF(((E48*24)>6)*AND((E48*24)<21)*AND((F48*24)<=6),3+(F48*24),0)+IF(((E48*24)<=6)*AND((F48*24)>6)*AND((F48*24)<21),6-(E48*24),0)+IF(((E48*24)<=6)*AND((F48*24)<=6),(F48*24)-(E48*24),0)+IF(((E48*24)>=21)*AND((F48*24)<=6),24-(E48*24)+(F48*24),0)+IF(((E48*24)>=21)*AND((F48*24)>=21),(F48*24)-(E48*24),0)+IF(((E48*24)<=6)*AND((F48*24)>=21),6-(E48*24)+(F48*24)-21,0)+IF(((E48*24)>6)*AND((E48*24)<21)*AND((F48*24)>6)*AND((F48*24)<21)*AND((E48*24)>(F48*24)),9,0))/24-I48 -> 0 | K48: 0
...

Sheet periode 2  fr02 versé 28  03 16
H1: PRIME DE DIMANCHE
A2: SEMAINE | B2: TOURNEE | C2: JOUR | D2: DATE | E2: repas soir non soumis | F2: Repas midi non soumis | G2: casse-croute soumis | H2: demi prime | I2: prime entière | J2: ticket | K2: repas unique
A3: 5 | B3: ? | C3: vendredi | D3: 42035 | E3: =VLOOKUP(B3,' horaire et frais avant nao '!$A$4:$I$81,3,FALSE) -> 0 | F3: =VLOOKUP(B3,' horaire et frais avant nao '!$A$4:$I$81,4,FALSE) -> 0 | G3: =VLOOKUP(B3,' horaire et frais avant nao '!$A$4:$I$81,5,FALSE) -> 0 | H3: =VLOOKUP(B3,' horaire et frais avant nao '!$A$4:$I$81,6,FALSE) -> 0 | I3: =VLOOKUP(B3,' horaire et frais avant nao '!$A$4:$I$81,7,FALSE) -> 0 | J3: =VLOOKUP(B3,' horaire et frais avant nao '!$A$4:$I$81,8,FALSE) -> 0 | K3: =VLOOKUP(B3,' horaire et frais avant nao '!$A$4:$I$81,9,FALSE) -> 0
B4: WEEK | C4: samedi | D4: 42036 | E4: =VLOOKUP(B4,' horaire et frais avant nao '!$A$4:$I$81,3,FALSE) -> 0 | F4: =VLOOKUP(B4,' horaire et frais avant nao '!$A$4:$I$81,4,FALSE) -> 0 | G4: =VLOOKUP(B4,' horaire et frais avant nao '!$A$4:$I$81,5,FALSE) -> 0 | H4: =VLOOKUP(B4,' horaire et frais avant nao '!$A$4:$I$81,6,FALSE) -> 0 | I4: =VLOOKUP(B4,' horaire et frais avant nao '!$A$4:$I$81,7,FALSE) -> 0 | J4: =VLOOKUP(B4,' horaire et frais avant nao '!$A$4:$I$81,8,FALSE) -> 0 | K4: =VLOOKUP(B4,' horaire et frais avant nao '!$A$4:$I$81,9,FALSE) -> 0
B5: WEEK | C5: dimanche | D5: 42037 | E5: =VLOOKUP(B5,' horaire et frais avant nao '!$A$4:$I$81,3,FALSE) -> 0 | F5: =VLOOKUP(B5,' horaire et frais avant nao '!$A$4:$I$81,4,FALSE) -> 0 | G5: =VLOOKUP(B5,' horaire et frais avant nao '!$A$4:$I$81,5,FALSE) -> 0 | H5: =VLOOKUP(B5,' horaire et frais avant nao '!$A$4:$I$81,6,FALSE) -> 0 | I5: =VLOOKUP(B5,' horaire et frais avant nao '!$A$4:$I$81,7,FALSE) -> 0 | J5: =VLOOKUP(B5,' horaire et frais avant nao '!$A$4:$I$81,8,FALSE) -> 0 | K5: =VLOOKUP(B5,' horaire et frais avant nao '!$A$4:$I$81,9,FALSE) -> 0
A6: 6 | B6: ? | C6: lundi | D6: 42038 | E6: =VLOOKUP(B6,' horaire et frais avant nao '!$A$4:$I$81,3,FALSE) -> 0 | F6: =VLOOKUP(B6,' horaire et frais avant nao '!$A$4:$I$81,4,FALSE) -> 0 | G6: =VLOOKUP(B6,' horaire et frais avant nao '!$A$4:$I$81,5,FALSE) -> 0 | H6: =VLOOKUP(B6,' horaire et frais avant nao '!$A$4:$I$81,6,FALSE) -> 0 | I6: =VLOOKUP(B6,' horaire et frais avant nao '!$A$4:$I$81,7,FALSE) -> 0 | J6: =VLOOKUP(B6,' horaire et frais avant nao '!$A$4:$I$81,8,FALSE) -> 0 | K6: =VLOOKUP(B6,' horaire et frais avant nao '!$A$4:$I$81,9,FALSE) -> 0
B7: ? | C7: mardi | D7: 42039 | E7: =VLOOKUP(B7,' horaire et frais avant nao '!$A$4:$I$81,3,FALSE) -> 0 | F7: =VLOOKUP(B7,' horaire et frais avant nao '!$A$4:$I$81,4,FALSE) -> 0 | G7: =VLOOKUP(B7,' horaire et frais avant nao '!$A$4:$I$81,5,FALSE) -> 0 | H7: =VLOOKUP(B7,' horaire et frais avant nao '!$A$4:$I$81,6,FALSE) -> 0 | I7: =VLOOKUP(B7,' horaire et frais avant nao '!$A$4:$I$81,7,FALSE) -> 0 | J7: =VLOOKUP(B7,' horaire et frais avant nao '!$A$4:$I$81,8,FALSE) -> 0 | K7: =VLOOKUP(B7,' horaire et frais avant nao '!$A$4:$I$81,9,FALSE) -> 0
B8: ? | C8: mercredi | D8: 42040 | E8: =VLOOKUP(B8,' horaire et frais avant nao '!$A$4:$I$81,3,FALSE) -> 0 | F8: =VLOOKUP(B8,' horaire et frais avant nao '!$A$4:$I$81,4,FALSE) -> 0 | G8: =VLOOKUP(B8,' horaire et frais avant nao '!$A$4:$I$81,5,FALSE) -> 0 | H8: =VLOOKUP(B8,' horaire et frais avant nao '!$A$4:$I$81,6,FALSE) -> 0 | I8: =VLOOKUP(B8,' horaire et frais avant nao '!$A$4:$I$81,7,FALSE) -> 0 | J8: =VLOOKUP(B8,' horaire et frais avant nao '!$A$4:$I$81,8,FALSE) -> 0 | K8: =VLOOKUP(B8,' horaire et frais avant nao '!$A$4:$I$81,9,FALSE) -> 0
B9: ? | C9: jeudi | D9: 42041 | E9: =VLOOKUP(B9,' horaire et frais avant nao '!$A$4:$I$81,3,FALSE) -> 0 | F9: =VLOOKUP(B9,' horaire et frais avant nao '!$A$4:$I$81,4,FALSE) -> 0 | G9: =VLOOKUP(B9,' horaire et frais avant nao '!$A$4:$I$81,5,FALSE) -> 0 | H9: =VLOOKUP(B9,' horaire et frais avant nao '!$A$4:$I$81,6,FALSE) -> 0 | I9: =VLOOKUP(B9,' horaire et frais avant nao '!$A$4:$I$81,7,FALSE) -> 0 | J9: =VLOOKUP(B9,' horaire et frais avant nao '!$A$4:$I$81,8,FALSE) -> 0 | K9: =VLOOKUP(B9,' horaire et frais avant nao '!$A$4:$I$81,9,FALSE) -> 0
B10: ? | C10: vendredi | D10: 42042 | E10: =VLOOKUP(B10,' horaire et frais avant nao '!$A$4:$I$81,3,FALSE) -> 0 | F10: =VLOOKUP(B10,' horaire et frais avant nao '!$A$4:$I$81,4,FALSE) -> 0 | G10: =VLOOKUP(B10,' horaire et frais avant nao '!$A$4:$I$81,5,FALSE) -> 0 | H10: =VLOOKUP(B10,' horaire et frais avant nao '!$A$4:$I$81,6,FALSE) -> 0 | I10: =VLOOKUP(B10,' horaire et frais avant nao '!$A$4:$I$81,7,FALSE) -> 0 | J10: =VLOOKUP(B10,' horaire et frais avant nao '!$A$4:$I$81,8,FALSE) -> 0 | K10: =VLOOKUP(B10,' horaire et frais avant nao '!$A$4:$I$81,9,FALSE) -> 0
B11: WEEK | C11: samedi | D11: 42043 | E11: =VLOOKUP(B11,' horaire et frais avant nao '!$A$4:$I$81,3,FALSE) -> 0 | F11: =VLOOKUP(B11,' horaire et frais avant nao '!$A$4:$I$81,4,FALSE) -> 0 | G11: =VLOOKUP(B11,' horaire et frais avant nao '!$A$4:$I$81,5,FALSE) -> 0 | H11: =VLOOKUP(B11,' horaire et frais avant nao '!$A$4:$I$81,6,FALSE) -> 0 | I11: =VLOOKUP(B11,' horaire et frais avant nao '!$A$4:$I$81,7,FALSE) -> 0 | J11: =VLOOKUP(B11,' horaire et frais avant nao '!$A$4:$I$81,8,FALSE) -> 0 | K11: =VLOOKUP(B11,' horaire et frais avant nao '!$A$4:$I$81,9,FALSE) -> 0
B12: WEEK | C12: dimanche | D12: 42044 | E12: =VLOOKUP(B12,' horaire et frais avant nao '!$A$4:$I$81,3,FALSE) -> 0 | F12: =VLOOKUP(B12,' horaire et frais avant nao '!$A$4:$I$81,4,FALSE) -> 0 | G12: =VLOOKUP(B12,' horaire et frais avant nao '!$A$4:$I$81,5,FALSE) -> 0 | H12: =VLOOKUP(B12,' horaire et frais avant nao '!$A$4:$I$81,6,FALSE) -> 0 | I12: =VLOOKUP(B12,' horaire et frais avant nao '!$A$4:$I$81,7,FALSE) -> 0 | J12: =VLOOKUP(B12,' horaire et frais avant nao '!$A$4:$I$81,8,FALSE) -> 0 | K12: =VLOOKUP(B12,' horaire et frais avant nao '!$A$4:$I$81,9,FALSE) -> 0
A13: 7 | B13: ? | C13: lundi | D13: 42045 | E13: =VLOOKUP(B13,' horaire et frais avant nao '!$A$4:$I$81,3,FALSE) -> 0 | F13: =VLOOKUP(B13,' horaire et frais avant nao '!$A$4:$I$81,4,FALSE) -> 0 | G13: =VLOOKUP(B13,' horaire et frais avant nao '!$A$4:$I$81,5,FALSE) -> 0 | H13: =VLOOKUP(B13,' horaire et frais avant nao '!$A$4:$I$81,6,FALSE) -> 0 | I13: =VLOOKUP(B13,' horaire et frais avant nao '!$A$4:$I$81,7,FALSE) -> 0 | J13: =VLOOKUP(B13,' horaire et frais avant nao '!$A$4:$I$81,8,FALSE) -> 0 | K13: =VLOOKUP(B13,' horaire et frais avant nao '!$A$4:$I$81,9,FALSE) -> 0
B14: ? | C14: mardi | D14: 42046 | E14: =VLOOKUP(B14,' horaire et frais avant nao '!$A$4:$I$81,3,FALSE) -> 0 | F14: =VLOOKUP(B14,' horaire et frais avant nao '!$A$4:$I$81,4,FALSE) -> 0 | G14: =VLOOKUP(B14,' horaire et frais avant nao '!$A$4:$I$81,5,FALSE) -> 0 | H14: =VLOOKUP(B14,' horaire et frais avant nao '!$A$4:$I$81,6,FALSE) -> 0 | I14: =VLOOKUP(B14,' horaire et frais avant nao '!$A$4:$I$81,7,FALSE) -> 0 | J14: =VLOOKUP(B14,' horaire et frais avant nao '!$A$4:$I$81,8,FALSE) -> 0 | K14: =VLOOKUP(B14,' horaire et frais avant nao '!$A$4:$I$81,9,FALSE) -> 0
B15: ? | C15: mercredi | D15: 42047 | E15: =VLOOKUP(B15,' horaire et frais avant nao '!$A$4:$I$81,3,FALSE) -> 0 | F15: =VLOOKUP(B15,' horaire et frais avant nao '!$A$4:$I$81,4,FALSE) -> 0 | G15: =VLOOKUP(B15,' horaire et frais avant nao '!$A$4:$I$81,5,FALSE) -> 0 | H15: =VLOOKUP(B15,' horaire et frais avant nao '!$A$4:$I$81,6,FALSE) -> 0 | I15: =VLOOKUP(B15,' horaire et frais avant nao '!$A$4:$I$81,7,FALSE) -> 0 | J15: =VLOOKUP(B15,' horaire et frais avant nao '!$A$4:$I$81,8,FALSE) -> 0 | K15: =VLOOKUP(B15,' horaire et frais avant nao '!$A$4:$I$81,9,FALSE) -> 0
B16: ? | C16: jeudi | D16: 42048 | E16: =VLOOKUP(B16,' horaire et frais avant nao '!$A$4:$I$81,3,FALSE) -> 0 | F16: =VLOOKUP(B16,' horaire et frais avant nao '!$A$4:$I$81,4,FALSE) -> 0 | G16: =VLOOKUP(B16,' horaire et frais avant nao '!$A$4:$I$81,5,FALSE) -> 0 | H16: =VLOOKUP(B16,' horaire et frais avant nao '!$A$4:$I$81,6,FALSE) -> 0 | I16: =VLOOKUP(B16,' horaire et frais avant nao '!$A$4:$I$81,7,FALSE) -> 0 | J16: =VLOOKUP(B16,' horaire et frais avant nao '!$A$4:$I$81,8,FALSE) -> 0 | K16: =VLOOKUP(B16,' horaire et frais avant nao '!$A$4:$I$81,9,FALSE) -> 0
B17: ? | C17: vendredi | D17: 42049 | E17: =VLOOKUP(B17,' horaire et frais avant nao '!$A$4:$I$81,3,FALSE) -> 0 | F17: =VLOOKUP(B17,' horaire et frais avant nao '!$A$4:$I$81,4,FALSE) -> 0 | G17: =VLOOKUP(B17,' horaire et frais avant nao '!$A$4:$I$81,5,FALSE) -> 0 | H17: =VLOOKUP(B17,' horaire et frais avant nao '!$A$4:$I$81,6,FALSE) -> 0 | I17: =VLOOKUP(B17,' horaire et frais avant nao '!$A$4:$I$81,7,FALSE) -> 0 | J17: =VLOOKUP(B17,' horaire et frais avant nao '!$A$4:$I$81,8,FALSE) -> 0 | K17: =VLOOKUP(B17,' horaire et frais avant nao '!$A$4:$I$81,9,FALSE) -> 0
B18: WEEK | C18: samedi | D18: 42050 | E18: =VLOOKUP(B18,' horaire et frais avant nao '!$A$4:$I$81,3,FALSE) -> 0 | F18: =VLOOKUP(B18,' horaire et frais avant nao '!$A$4:$I$81,4,FALSE) -> 0 | G18: =VLOOKUP(B18,' horaire et frais avant nao '!$A$4:$I$81,5,FALSE) -> 0 | H18: =VLOOKUP(B18,' horaire et frais avant nao '!$A$4:$I$81,6,FALSE) -> 0 | I18: =VLOOKUP(B18,' horaire et frais avant nao '!$A$4:$I$81,7,FALSE) -> 0 | J18: =VLOOKUP(B18,' horaire et frais avant nao '!$A$4:$I$81,8,FALSE) -> 0 | K18: =VLOOKUP(B18,' horaire et frais avant nao '!$A$4:$I$81,9,FALSE) -> 0
B19: WEEK | C19: dimanche | D19: 42051 | E19: =VLOOKUP(B19,' horaire et frais avant nao '!$A$4:$I$81,3,FALSE) -> 0 | F19: =VLOOKUP(B19,' horaire et frais avant nao '!$A$4:$I$81,4,FALSE) -> 0 | G19: =VLOOKUP(B19,' horaire et frais avant nao '!$A$4:$I$81,5,FALSE) -> 0 | H19: =VLOOKUP(B19,' horaire et frais avant nao '!$A$4:$I$81,6,FALSE) -> 0 | I19: =VLOOKUP(B19,' horaire et frais avant nao '!$A$4:$I$81,7,FALSE) -> 0 | J19: =VLOOKUP(B19,' horaire et frais avant nao '!$A$4:$I$81,8,FALSE) -> 0 | K19: =VLOOKUP(B19,' horaire et frais avant nao '!$A$4:$I$81,9,FALSE) -> 0
A20: 8 | B20: ? | C20: lundi | D20: 42052 | E20: =VLOOKUP(B20,' horaire et frais avant nao '!$A$4:$I$81,3,FALSE) -> 0 | F20: =VLOOKUP(B20,' horaire et frais avant nao '!$A$4:$I$81,4,FALSE) -> 0 | G20: =VLOOKUP(B20,' horaire et frais avant nao '!$A$4:$I$81,5,FALSE) -> 0 | H20: =VLOOKUP(B20,' horaire et frais avant nao '!$A$4:$I$81,6,FALSE) -> 0 | I20: =VLOOKUP(B20,' horaire et frais avant nao '!$A$4:$I$81,7,FALSE) -> 0 | J20: =VLOOKUP(B20,' horaire et frais avant nao '!$A$4:$I$81,8,FALSE) -> 0 | K20: =VLOOKUP(B20,' horaire et frais avant nao '!$A$4:$I$81,9,FALSE) -> 0
B21: ? | C21: mardi | D21: 42053 | E21: =VLOOKUP(B21,' horaire et frais avant nao '!$A$4:$I$81,3,FALSE) -> 0 | F21: =VLOOKUP(B21,' horaire et frais avant nao '!$A$4:$I$81,4,FALSE) -> 0 | G21: =VLOOKUP(B21,' horaire et frais avant nao '!$A$4:$I$81,5,FALSE) -> 0 | H21: =VLOOKUP(B21,' horaire et frais avant nao '!$A$4:$I$81,6,FALSE) -> 0 | I21: =VLOOKUP(B21,' horaire et frais avant nao '!$A$4:$I$81,7,FALSE) -> 0 | J21: =VLOOKUP(B21,' horaire et frais avant nao '!$A$4:$I$81,8,FALSE) -> 0 | K21: =VLOOKUP(B21,' horaire et frais avant nao '!$A$4:$I$81,9,FALSE) -> 0
B22: ? | C22: mercredi | D22: 42054 | E22: =VLOOKUP(B22,' horaire et frais avant nao '!$A$4:$I$81,3,FALSE) -> 0 | F22: =VLOOKUP(B22,' horaire et frais avant nao '!$A$4:$I$81,4,FALSE) -> 0 | G22: =VLOOKUP(B22,' horaire et frais avant nao '!$A$4:$I$81,5,FALSE) -> 0 | H22: =VLOOKUP(B22,' horaire et frais avant nao '!$A$4:$I$81,6,FALSE) -> 0 | I22: =VLOOKUP(B22,' horaire et frais avant nao '!$A$4:$I$81,7,FALSE) -> 0 | J22: =VLOOKUP(B22,' horaire et frais avant nao '!$A$4:$I$81,8,FALSE) -> 0 | K22: =VLOOKUP(B22,' horaire et frais avant nao '!$A$4:$I$81,9,FALSE) -> 0
B23: ? | C23: jeudi | D23: 42055 | E23: =VLOOKUP(B23,' horaire et frais avant nao '!$A$4:$I$81,3,FALSE) -> 0 | F23: =VLOOKUP(B23,' horaire et frais avant nao '!$A$4:$I$81,4,FALSE) -> 0 | G23: =VLOOKUP(B23,' horaire et frais avant nao '!$A$4:$I$81,5,FALSE) -> 0 | H23: =VLOOKUP(B23,' horaire et frais avant nao '!$A$4:$I$81,6,FALSE) -> 0 | I23: =VLOOKUP(B23,' horaire et frais avant nao '!$A$4:$I$81,7,FALSE) -> 0 | J23: =VLOOKUP(B23,' horaire et frais avant nao '!$A$4:$I$81,8,FALSE) -> 0 | K23: =VLOOKUP(B23,' horaire et frais avant nao '!$A$4:$I$81,9,FALSE) -> 0
B24: ? | C24: vendredi | D24: 42056 | E24: =VLOOKUP(B24,' horaire et frais avant nao '!$A$4:$I$81,3,FALSE) -> 0 | F24: =VLOOKUP(B24,' horaire et frais avant nao '!$A$4:$I$81,4,FALSE) -> 0 | G24: =VLOOKUP(B24,' horaire et frais avant nao '!$A$4:$I$81,5,FALSE) -> 0 | H24: =VLOOKUP(B24,' horaire et frais avant nao '!$A$4:$I$81,6,FALSE) -> 0 | I24: =VLOOKUP(B24,' horaire et frais avant nao '!$A$4:$I$81,7,FALSE) -> 0 | J24: =VLOOKUP(B24,' horaire et frais avant nao '!$A$4:$I$81,8,FALSE) -> 0 | K24: =VLOOKUP(B24,' horaire et frais avant nao '!$A$4:$I$81,9,FALSE) -> 0
B25: WEEK | C25: samedi | D25: 42057 | E25: =VLOOKUP(B25,' horaire et frais avant nao '!$A$4:$I$81,3,FALSE) -> 0 | F25: =VLOOKUP(B25,' horaire et frais avant nao '!$A$4:$I$81,4,FALSE) -> 0 | G25: =VLOOKUP(B25,' horaire et frais avant nao '!$A$4:$I$81,5,FALSE) -> 0 | H25: =VLOOKUP(B25,' horaire et frais avant nao '!$A$4:$I$81,6,FALSE) -> 0 | I25: =VLOOKUP(B25,' horaire et frais avant nao '!$A$4:$I$81,7,FALSE) -> 0 | J25: =VLOOKUP(B25,' horaire et frais avant nao '!$A$4:$I$81,8,FALSE) -> 0 | K25: =VLOOKUP(B25,' horaire et frais avant nao '!$A$4:$I$81,9,FALSE) -> 0
B26: WEEK | C26: dimanche | D26: 42058 | E26: =VLOOKUP(B26,' horaire et frais avant nao '!$A$4:$I$81,3,FALSE) -> 0 | F26: =VLOOKUP(B26,' horaire et frais avant nao '!$A$4:$I$81,4,FALSE) -> 0 | G26: =VLOOKUP(B26,' horaire et frais avant nao '!$A$4:$I$81,5,FALSE) -> 0 | H26: =VLOOKUP(B26,' horaire et frais avant nao '!$A$4:$I$81,6,FALSE) -> 0 | I26: =VLOOKUP(B26,' horaire et frais avant nao '!$A$4:$I$81,7,FALSE) -> 0 | J26: =VLOOKUP(B26,' horaire et frais avant nao '!$A$4:$I$81,8,FALSE) -> 0 | K26: =VLOOKUP(B26,' horaire et frais avant nao '!$A$4:$I$81,9,FALSE) -> 0
A27: 9 | B27: ? | C27: lundi | D27: 42059 | E27: =VLOOKUP(B27,' horaire et frais avant nao '!$A$4:$I$81,3,FALSE) -> 0 | F27: =VLOOKUP(B27,' horaire et frais avant nao '!$A$4:$I$81,4,FALSE) -> 0 | G27: =VLOOKUP(B27,' horaire et frais avant nao '!$A$4:$I$81,5,FALSE) -> 0 | H27: =VLOOKUP(B27,' horaire et frais avant nao '!$A$4:$I$81,6,FALSE) -> 0 | I27: =VLOOKUP(B27,' horaire et frais avant nao '!$A$4:$I$81,7,FALSE) -> 0 | J27: =VLOOKUP(B27,' horaire et frais avant nao '!$A$4:$I$81,8,FALSE) -> 0 | K27: =VLOOKUP(B27,' horaire et frais avant nao '!$A$4:$I$81,9,FALSE) -> 0
B28: ? | C28: mardi | D28: 42060 | E28: =VLOOKUP(B28,' horaire et frais avant nao '!$A$4:$I$81,3,FALSE) -> 0 | F28: =VLOOKUP(B28,' horaire et frais avant nao '!$A$4:$I$81,4,FALSE) -> 0 | G28: =VLOOKUP(B28,' horaire et frais avant nao '!$A$4:$I$81,5,FALSE) -> 0 | H28: =VLOOKUP(B28,' horaire et frais avant nao '!$A$4:$I$81,6,FALSE) -> 0 | I28: =VLOOKUP(B28,' horaire et frais avant nao '!$A$4:$I$81,7,FALSE) -> 0 | J28: =VLOOKUP(B28,' horaire et frais avant nao '!$A$4:$I$81,8,FALSE) -> 0 | K28: =VLOOKUP(B28,' horaire et frais avant nao '!$A$4:$I$81,9,FALSE) -> 0
B29: ? | C29: mercredi | D29: 42061 | E29: =VLOOKUP(B29,' horaire et frais avant nao '!$A$4:$I$81,3,FALSE) -> 0 | F29: =VLOOKUP(B29,' horaire et frais avant nao '!$A$4:$I$81,4,FALSE) -> 0 | G29: =VLOOKUP(B29,' horaire et frais avant nao '!$A$4:$I$81,5,FALSE) -> 0 | H29: =VLOOKUP(B29,' horaire et frais avant nao '!$A$4:$I$81,6,FALSE) -> 0 | I29: =VLOOKUP(B29,' horaire et frais avant nao '!$A$4:$I$81,7,FALSE) -> 0 | J29: =VLOOKUP(B29,' horaire et frais avant nao '!$A$4:$I$81,8,FALSE) -> 0 | K29: =VLOOKUP(B29,' horaire et frais avant nao '!$A$4:$I$81,9,FALSE) -> 0
B30: ? | C30: jeudi | D30: 42062 | E30: =VLOOKUP(B30,' horaire et frais avant nao '!$A$4:$I$81,3,FALSE) -> 0 | F30: =VLOOKUP(B30,' horaire et frais avant nao '!$A$4:$I$81,4,FALSE) -> 0 | G30: =VLOOKUP(B30,' horaire et frais avant nao '!$A$4:$I$81,5,FALSE) -> 0 | H30: =VLOOKUP(B30,' horaire et frais avant nao '!$A$4:$I$81,6,FALSE) -> 0 | I30: =VLOOKUP(B30,' horaire et frais avant nao '!$A$4:$I$81,7,FALSE) -> 0 | J30: =VLOOKUP(B30,' horaire et frais avant nao '!$A$4:$I$81,8,FALSE) -> 0 | K30: =VLOOKUP(B30,' horaire et frais avant nao '!$A$4:$I$81,9,FALSE) -> 0
B31: ? | E31: =VLOOKUP(B31,' horaire et frais avant nao '!$A$4:$I$81,3,FALSE) -> 0 | F31: =VLOOKUP(B31,' horaire et frais avant nao '!$A$4:$I$81,4,FALSE) -> 0 | G31: =VLOOKUP(B31,' horaire et frais avant nao '!$A$4:$I$81,5,FALSE) -> 0 | H31: =VLOOKUP(B31,' horaire et frais avant nao '!$A$4:$I$81,6,FALSE) -> 0 | I31: =VLOOKUP(B31,' horaire et frais avant nao '!$A$4:$I$81,7,FALSE) -> 0 | J31: =VLOOKUP(B31,' horaire et frais avant nao '!$A$4:$I$81,8,FALSE) -> 0 | K31: =VLOOKUP(B31,' horaire et frais avant nao '!$A$4:$I$81,9,FALSE) -> 0
B32: ? | E32: =VLOOKUP(B32,' horaire et frais avant nao '!$A$4:$I$81,3,FALSE) -> 0 | F32: =VLOOKUP(B32,' horaire et frais avant nao '!$A$4:$I$81,4,FALSE) -> 0 | G32: =VLOOKUP(B32,' horaire et frais avant nao '!$A$4:$I$81,5,FALSE) -> 0 | H32: =VLOOKUP(B32,' horaire et frais avant nao '!$A$4:$I$81,6,FALSE) -> 0 | I32: =VLOOKUP(B32,' horaire et frais avant nao '!$A$4:$I$81,7,FALSE) -> 0 | J32: =VLOOKUP(B32,' horaire et frais avant nao '!$A$4:$I$81,8,FALSE) -> 0 | K32: =VLOOKUP(B32,' horaire et frais avant nao '!$A$4:$I$81,9,FALSE) -> 0
B33: ? | E33: =VLOOKUP(B33,' horaire et frais avant nao '!$A$4:$I$81,3,FALSE) -> 0 | F33: =VLOOKUP(B33,' horaire et frais avant nao '!$A$4:$I$81,4,FALSE) -> 0 | G33: =VLOOKUP(B33,' horaire et frais avant nao '!$A$4:$I$81,5,FALSE) -> 0 | H33: =VLOOKUP(B33,' horaire et frais avant nao '!$A$4:$I$81,6,FALSE) -> 0 | I33: =VLOOKUP(B33,' horaire et frais avant nao '!$A$4:$I$81,7,FALSE) -> 0 | J33: =VLOOKUP(B33,' horaire et frais avant nao '!$A$4:$I$81,8,FALSE) -> 0 | K33: =VLOOKUP(B33,' horaire et frais avant nao '!$A$4:$I$81,9,FALSE) -> 0
B34: TOTAL | E34: =SUM(E3:E33) -> 0 | F34: =SUM(F3:F33) -> 0 | G34: =SUM(G3:G33) -> 0 | H34: =SUM(H3:H33) -> 0 | I34: =SUM(I3:I33) -> 0 | J34: =SUM(J3:J33) -> 0 | K34: =SUM(K3:K33) -> 0
A35: SEMAINE | B35: TOURNEE | C35: JOUR | D35: DATE | E35: repas soir non soumis | F35: Repas midi non soumis | G35: casse-croute soumis | H35: demi prime | I35: prime entière | J35: ticket | K35: repas unique
B43: SEMAINE 1 DU 29/01/2019 AU 04/02/2019
A45: conso l /100 | B45: n°de parc | C45: Tournée | D45: Jour | E45: Début de poste | F45: Fin de poste | G45: TEMPS DE SERVICE | H45: Pause de jour | I45: Pause de nuit | J45: Heures de nuit | K45: Heures réunion formation
C46: ? | D46: lundi | E46: =VLOOKUP(C46,' horaire et frais avant nao '!$A$4:I81,2,FALSE) -> 0 | F46: 0 | G46: =MOD(F46-E46,1)-I46-H46+K46 -> 0 | H46: 0 | I46: 0 | J46: =(IF(((E46*24)>=21)*AND((F46*24)>6)*AND((F46*24)<21),30-(E46*24),0)+IF(((F46*24)>=21)*AND((E46*24)>6)*AND((E46*24)<21),MIN((F46*24)-(E46*24),(F46*24)-21),0)+IF(((E46*24)>6)*AND((E46*24)<21)*AND((F46*24)<=6),3+(F46*24),0)+IF(((E46*24)<=6)*AND((F46*24)>6)*AND((F46*24)<21),6-(E46*24),0)+IF(((E46*24)<=6)*AND((F46*24)<=6),(F46*24)-(E46*24),0)+IF(((E46*24)>=21)*AND((F46*24)<=6),24-(E46*24)+(F46*24),0)+IF(((E46*24)>=21)*AND((F46*24)>=21),(F46*24)-(E46*24),0)+IF(((E46*24)<=6)*AND((F46*24)>=21),6-(E46*24)+(F46*24)-21,0)+IF(((E46*24)>6)*AND((E46*24)<21)*AND((F46*24)>6)*AND((F46*24)<21)*AND((E46*24)>(F46*24)),9,0))/24-I46 -> 0 | K46: 0
C47: ? | D47: mardi | E47: =VLOOKUP(C47,' horaire et frais avant nao '!$A$4:I82,2,FALSE) -> 0 | F47: 0 | G47: =MOD(F47-E47,1)-I47-H47+K47 -> 0 | H47: 0 | I47: 0 | J47: =(IF(((E47*24)>=21)*AND((F47*24)>6)*AND((F47*24)<21),30-(E47*24),0)+IF(((F47*24)>=21)*AND((E47*24)>6)*AND((E47*24)<21),MIN((F47*24)-(E47*24),(F47*24)-21),0)+IF(((E47*24)>6)*AND((E47*24)<21)*AND((F47*24)<=6),3+(F47*24),0)+IF(((E47*24)<=6)*AND((F47*24)>6)*AND((F47*24)<21),6-(E47*24),0)+IF(((E47*24)<=6)*AND((F47*24)<=6),(F47*24)-(E47*24),0)+IF(((E47*24)>=21)*AND((F47*24)<=6),24-(E47*24)+(F47*24),0)+IF(((E47*24)>=21)*AND((F47*24)>=21),(F47*24)-(E47*24),0)+IF(((E47*24)<=6)*AND((F47*24)>=21),6-(E47*24)+(F47*24)-21,0)+IF(((E47*24)>6)*AND((E47*24)<21)*AND((F47*24)>6)*AND((F47*24)<21)*AND((E47*24)>(F47*24)),9,0))/24-I47 -> 0 | K47: 0
C48: ? | D48: mercredi | E48: =VLOOKUP(C48,' horaire et frais avant nao '!$A$4:I83,2,FALSE) -> 0 | F48: 0 | G48: =MOD(F48-E48,1)-I48-H48+K48 -> 0 | H48: 0 | I48: 0 | J48: =(IF(((E48*24)>=21)*AND((F48*24)>6)*AND((F48*24)<21),30-(E48*24),0)+IF(((F48*24)>=21)*AND((E48*24)>6)*AND((E48*24)<21),MIN((F48*24)-(E48*24),(F48*24)-21),0)+IF(((E48*24)>6)*AND((E48*24)<21)*AND((F48*24)<=6),3+(F48*24),0)+IF(((E48*24)<=6)*AND((F48*24)>6)*AND((F48*24)<21),6-(E48*24),0)+IF(((E48*24)<=6)*AND((F48*24)<=6),(F48*24)-(E48*24),0)+IF(((E48*24)>=21)*AND((F48*24)<=6),24-(E48*24)+(F48*24),0)+IF(((E48*24)>=21)*AND((F48*24)>=21),(F48*24)-(E48*24),0)+IF(((E48*24)<=6)*AND((F48*24)>=21),6-(E48*24)+(F48*24)-21,0)+IF(((E48*24)>6)*AND((E48*24)<21)*AND((F48*24)>6)*AND((F48*24)<21)*AND((E48*24)>(F48*24)),9,0))/24-I48 -> 0 | K48: 0
...

Sheet periode 3  fr03 versé 28  04 16
H1: PRIME DE DIMANCHE
A2: SEMAINE | B2: TOURNEE | C2: JOUR | D2: DATE | E2: repas soir non soumis | F2: Repas midi non soumis | G2: cassecroute soumis | H2: demi prime | I2: prime entiere | J2: tichet | K2: repas unique
A3: 9 | B3: ? | C3: vendredi | D3: 42063 | E3: =VLOOKUP(B3,' horaire et frais avant nao '!$A$4:$I$81,3,FALSE) -> 0 | F3: =VLOOKUP(B3,' horaire et frais avant nao '!$A$4:$I$81,4,FALSE) -> 0 | G3: =VLOOKUP(B3,' horaire et frais avant nao '!$A$4:$I$81,5,FALSE) -> 0 | H3: =VLOOKUP(B3,' horaire et frais avant nao '!$A$4:$I$81,6,FALSE) -> 0 | I3: =VLOOKUP(B3,' horaire et frais avant nao '!$A$4:$I$81,7,FALSE) -> 0 | J3: =VLOOKUP(B3,' horaire et frais avant nao '!$A$4:$I$81,8,FALSE) -> 0 | K3: =VLOOKUP(B3,' horaire et frais avant nao '!$A$4:$I$81,9,FALSE) -> 0
B4: WEEK | C4: samedi | D4: 42064 | E4: =VLOOKUP(B4,' horaire et frais avant nao '!$A$4:$I$81,3,FALSE) -> 0 | F4: =VLOOKUP(B4,' horaire et frais avant nao '!$A$4:$I$81,4,FALSE) -> 0 | G4: =VLOOKUP(B4,' horaire et frais avant nao '!$A$4:$I$81,5,FALSE) -> 0 | H4: =VLOOKUP(B4,' horaire et frais avant nao '!$A$4:$I$81,6,FALSE) -> 0 | I4: =VLOOKUP(B4,' horaire et frais avant nao '!$A$4:$I$81,7,FALSE) -> 0 | J4: =VLOOKUP(B4,' horaire et frais avant nao '!$A$4:$I$81,8,FALSE) -> 0 | K4: =VLOOKUP(B4,' horaire et frais avant nao '!$A$4:$I$81,9,FALSE) -> 0
B5: WEEK | C5: dimanche | D5: 42065 | E5: =VLOOKUP(B5,' horaire et frais avant nao '!$A$4:$I$81,3,FALSE) -> 0 | F5: =VLOOKUP(B5,' horaire et frais avant nao '!$A$4:$I$81,4,FALSE) -> 0 | G5: =VLOOKUP(B5,' horaire et frais avant nao '!$A$4:$I$81,5,FALSE) -> 0 | H5: =VLOOKUP(B5,' horaire et frais avant nao '!$A$4:$I$81,6,FALSE) -> 0 | I5: =VLOOKUP(B5,' horaire et frais avant nao '!$A$4:$I$81,7,FALSE) -> 0 | J5: =VLOOKUP(B5,' horaire et frais avant nao '!$A$4:$I$81,8,FALSE) -> 0 | K5: =VLOOKUP(B5,' horaire et frais avant nao '!$A$4:$I$81,9,FALSE) -> 0
A6: 10 | B6: ? | C6: lundi | D6: 42066 | E6: =VLOOKUP(B6,' horaire et frais avant nao '!$A$4:$I$81,3,FALSE) -> 0 | F6: =VLOOKUP(B6,' horaire et frais avant nao '!$A$4:$I$81,4,FALSE) -> 0 | G6: =VLOOKUP(B6,' horaire et frais avant nao '!$A$4:$I$81,5,FALSE) -> 0 | H6: =VLOOKUP(B6,' horaire et frais avant nao '!$A$4:$I$81,6,FALSE) -> 0 | I6: =VLOOKUP(B6,' horaire et frais avant nao '!$A$4:$I$81,7,FALSE) -> 0 | J6: =VLOOKUP(B6,' horaire et frais avant nao '!$A$4:$I$81,8,FALSE) -> 0 | K6: =VLOOKUP(B6,' horaire et frais avant nao '!$A$4:$I$81,9,FALSE) -> 0
B7: ? | C7: mardi | D7: 42067 | E7: =VLOOKUP(B7,' horaire et frais avant nao '!$A$4:$I$81,3,FALSE) -> 0 | F7: =VLOOKUP(B7,' horaire et frais avant nao '!$A$4:$I$81,4,FALSE) -> 0 | G7: =VLOOKUP(B7,' horaire et frais avant nao '!$A$4:$I$81,5,FALSE) -> 0 | H7: =VLOOKUP(B7,' horaire et frais avant nao '!$A$4:$I$81,6,FALSE) -> 0 | I7: =VLOOKUP(B7,' horaire et frais avant nao '!$A$4:$I$81,7,FALSE) -> 0 | J7: =VLOOKUP(B7,' horaire et frais avant nao '!$A$4:$I$81,8,FALSE) -> 0 | K7: =VLOOKUP(B7,' horaire et frais avant nao '!$A$4:$I$81,9,FALSE) -> 0
B8: ? | C8: mercredi | D8: 42068 | E8: =VLOOKUP(B8,' horaire et frais avant nao '!$A$4:$I$81,3,FALSE) -> 0 | F8: =VLOOKUP(B8,' horaire et frais avant nao '!$A$4:$I$81,4,FALSE) -> 0 | G8: =VLOOKUP(B8,' horaire et frais avant nao '!$A$4:$I$81,5,FALSE) -> 0 | H8: =VLOOKUP(B8,' horaire et frais avant nao '!$A$4:$I$81,6,FALSE) -> 0 | I8: =VLOOKUP(B8,' horaire et frais avant nao '!$A$4:$I$81,7,FALSE) -> 0 | J8: =VLOOKUP(B8,' horaire et frais avant nao '!$A$4:$I$81,8,FALSE) -> 0 | K8: =VLOOKUP(B8,' horaire et frais avant nao '!$A$4:$I$81,9,FALSE) -> 0
B9: ? | C9: jeudi | D9: 42069 | E9: =VLOOKUP(B9,' horaire et frais avant nao '!$A$4:$I$81,3,FALSE) -> 0 | F9: =VLOOKUP(B9,' horaire et frais avant nao '!$A$4:$I$81,4,FALSE) -> 0 | G9: =VLOOKUP(B9,' horaire et frais avant nao '!$A$4:$I$81,5,FALSE) -> 0 | H9: =VLOOKUP(B9,' horaire et frais avant nao '!$A$4:$I$81,6,FALSE) -> 0 | I9: =VLOOKUP(B9,' horaire et frais avant nao '!$A$4:$I$81,7,FALSE) -> 0 | J9: =VLOOKUP(B9,' horaire et frais avant nao '!$A$4:$I$81,8,FALSE) -> 0 | K9: =VLOOKUP(B9,' horaire et frais avant nao '!$A$4:$I$81,9,FALSE) -> 0
B10: ? | C10: vendredi | D10: 42070 | E10: =VLOOKUP(B10,' horaire et frais avant nao '!$A$4:$I$81,3,FALSE) -> 0 | F10: =VLOOKUP(B10,' horaire et frais avant nao '!$A$4:$I$81,4,FALSE) -> 0 | G10: =VLOOKUP(B10,' horaire et frais avant nao '!$A$4:$I$81,5,FALSE) -> 0 | H10: =VLOOKUP(B10,' horaire et frais avant nao '!$A$4:$I$81,6,FALSE) -> 0 | I10: =VLOOKUP(B10,' horaire et frais avant nao '!$A$4:$I$81,7,FALSE) -> 0 | J10: =VLOOKUP(B10,' horaire et frais avant nao '!$A$4:$I$81,8,FALSE) -> 0 | K10: =VLOOKUP(B10,' horaire et frais avant nao '!$A$4:$I$81,9,FALSE) -> 0
B11: WEEK | C11: samedi | D11: 42071 | E11: =VLOOKUP(B11,' horaire et frais avant nao '!$A$4:$I$81,3,FALSE) -> 0 | F11: =VLOOKUP(B11,' horaire et frais avant nao '!$A$4:$I$81,4,FALSE) -> 0 | G11: =VLOOKUP(B11,' horaire et frais avant nao '!$A$4:$I$81,5,FALSE) -> 0 | H11: =VLOOKUP(B11,' horaire et frais avant nao '!$A$4:$I$81,6,FALSE) -> 0 | I11: =VLOOKUP(B11,' horaire et frais avant nao '!$A$4:$I$81,7,FALSE) -> 0 | J11: =VLOOKUP(B11,' horaire et frais avant nao '!$A$4:$I$81,8,FALSE) -> 0 | K11: =VLOOKUP(B11,' horaire et frais avant nao '!$A$4:$I$81,9,FALSE) -> 0
B12: WEEK | C12: dimanche | D12: 42072 | E12: =VLOOKUP(B12,' horaire et frais avant nao '!$A$4:$I$81,3,FALSE) -> 0 | F12: =VLOOKUP(B12,' horaire et frais avant nao '!$A$4:$I$81,4,FALSE) -> 0 | G12: =VLOOKUP(B12,' horaire et frais avant nao '!$A$4:$I$81,5,FALSE) -> 0 | H12: =VLOOKUP(B12,' horaire et frais avant nao '!$A$4:$I$81,6,FALSE) -> 0 | I12: =VLOOKUP(B12,' horaire et frais avant nao '!$A$4:$I$81,7,FALSE) -> 0 | J12: =VLOOKUP(B12,' horaire et frais avant nao '!$A$4:$I$81,8,FALSE) -> 0 | K12: =VLOOKUP(B12,' horaire et frais avant nao '!$A$4:$I$81,9,FALSE) -> 0
A13: 11 | B13: ? | C13: lundi | D13: 42073 | E13: =VLOOKUP(B13,' horaire et frais avant nao '!$A$4:$I$81,3,FALSE) -> 0 | F13: =VLOOKUP(B13,' horaire et frais avant nao '!$A$4:$I$81,4,FALSE) -> 0 | G13: =VLOOKUP(B13,' horaire et frais avant nao '!$A$4:$I$81,5,FALSE) -> 0 | H13: =VLOOKUP(B13,' horaire et frais avant nao '!$A$4:$I$81,6,FALSE) -> 0 | I13: =VLOOKUP(B13,' horaire et frais avant nao '!$A$4:$I$81,7,FALSE) -> 0 | J13: =VLOOKUP(B13,' horaire et frais avant nao '!$A$4:$I$81,8,FALSE) -> 0 | K13: =VLOOKUP(B13,' horaire et frais avant nao '!$A$4:$I$81,9,FALSE) -> 0
B14: ? | C14: mardi | D14: 42074 | E14: =VLOOKUP(B14,' horaire et frais avant nao '!$A$4:$I$81,3,FALSE) -> 0 | F14: =VLOOKUP(B14,' horaire et frais avant nao '!$A$4:$I$81,4,FALSE) -> 0 | G14: =VLOOKUP(B14,' horaire et frais avant nao '!$A$4:$I$81,5,FALSE) -> 0 | H14: =VLOOKUP(B14,' horaire et frais avant nao '!$A$4:$I$81,6,FALSE) -> 0 | I14: =VLOOKUP(B14,' horaire et frais avant nao '!$A$4:$I$81,7,FALSE) -> 0 | J14: =VLOOKUP(B14,' horaire et frais avant nao '!$A$4:$I$81,8,FALSE) -> 0 | K14: =VLOOKUP(B14,' horaire et frais avant nao '!$A$4:$I$81,9,FALSE) -> 0
B15: ? | C15: mercredi | D15: 42075 | E15: =VLOOKUP(B15,' horaire et frais avant nao '!$A$4:$I$81,3,FALSE) -> 0 | F15: =VLOOKUP(B15,' horaire et frais avant nao '!$A$4:$I$81,4,FALSE) -> 0 | G15: =VLOOKUP(B15,' horaire et frais avant nao '!$A$4:$I$81,5,FALSE) -> 0 | H15: =VLOOKUP(B15,' horaire et frais avant nao '!$A$4:$I$81,6,FALSE) -> 0 | I15: =VLOOKUP(B15,' horaire et frais avant nao '!$A$4:$I$81,7,FALSE) -> 0 | J15: =VLOOKUP(B15,' horaire et frais avant nao '!$A$4:$I$81,8,FALSE) -> 0 | K15: =VLOOKUP(B15,' horaire et frais avant nao '!$A$4:$I$81,9,FALSE) -> 0
B16: ? | C16: jeudi | D16: 42076 | E16: =VLOOKUP(B16,' horaire et frais avant nao '!$A$4:$I$81,3,FALSE) -> 0 | F16: =VLOOKUP(B16,' horaire et frais avant nao '!$A$4:$I$81,4,FALSE) -> 0 | G16: =VLOOKUP(B16,' horaire et frais avant nao '!$A$4:$I$81,5,FALSE) -> 0 | H16: =VLOOKUP(B16,' horaire et frais avant nao '!$A$4:$I$81,6,FALSE) -> 0 | I16: =VLOOKUP(B16,' horaire et frais avant nao '!$A$4:$I$81,7,FALSE) -> 0 | J16: =VLOOKUP(B16,' horaire et frais avant nao '!$A$4:$I$81,8,FALSE) -> 0 | K16: =VLOOKUP(B16,' horaire et frais avant nao '!$A$4:$I$81,9,FALSE) -> 0
B17: ? | C17: vendredi | D17: 42077 | E17: =VLOOKUP(B17,' horaire et frais avant nao '!$A$4:$I$81,3,FALSE) -> 0 | F17: =VLOOKUP(B17,' horaire et frais avant nao '!$A$4:$I$81,4,FALSE) -> 0 | G17: =VLOOKUP(B17,' horaire et frais avant nao '!$A$4:$I$81,5,FALSE) -> 0 | H17: =VLOOKUP(B17,' horaire et frais avant nao '!$A$4:$I$81,6,FALSE) -> 0 | I17: =VLOOKUP(B17,' horaire et frais avant nao '!$A$4:$I$81,7,FALSE) -> 0 | J17: =VLOOKUP(B17,' horaire et frais avant nao '!$A$4:$I$81,8,FALSE) -> 0 | K17: =VLOOKUP(B17,' horaire et frais avant nao '!$A$4:$I$81,9,FALSE) -> 0
B18: WEEK | C18: samedi | D18: 42078 | E18: =VLOOKUP(B18,' horaire et frais avant nao '!$A$4:$I$81,3,FALSE) -> 0 | F18: =VLOOKUP(B18,' horaire et frais avant nao '!$A$4:$I$81,4,FALSE) -> 0 | G18: =VLOOKUP(B18,' horaire et frais avant nao '!$A$4:$I$81,5,FALSE) -> 0 | H18: =VLOOKUP(B18,' horaire et frais avant nao '!$A$4:$I$81,6,FALSE) -> 0 | I18: =VLOOKUP(B18,' horaire et frais avant nao '!$A$4:$I$81,7,FALSE) -> 0 | J18: =VLOOKUP(B18,' horaire et frais avant nao '!$A$4:$I$81,8,FALSE) -> 0 | K18: =VLOOKUP(B18,' horaire et frais avant nao '!$A$4:$I$81,9,FALSE) -> 0
B19: WEEK | C19: dimanche | D19: 42079 | E19: =VLOOKUP(B19,' horaire et frais avant nao '!$A$4:$I$81,3,FALSE) -> 0 | F19: =VLOOKUP(B19,' horaire et frais avant nao '!$A$4:$I$81,4,FALSE) -> 0 | G19: =VLOOKUP(B19,' horaire et frais avant nao '!$A$4:$I$81,5,FALSE) -> 0 | H19: =VLOOKUP(B19,' horaire et frais avant nao '!$A$4:$I$81,6,FALSE) -> 0 | I19: =VLOOKUP(B19,' horaire et frais avant nao '!$A$4:$I$81,7,FALSE) -> 0 | J19: =VLOOKUP(B19,' horaire et frais avant nao '!$A$4:$I$81,8,FALSE) -> 0 | K19: =VLOOKUP(B19,' horaire et frais avant nao '!$A$4:$I$81,9,FALSE) -> 0
A20: 12 | B20: ? | C20: lundi | D20: 42080 | E20: =VLOOKUP(B20,' horaire et frais avant nao '!$A$4:$I$81,3,FALSE) -> 0 | F20: =VLOOKUP(B20,' horaire et frais avant nao '!$A$4:$I$81,4,FALSE) -> 0 | G20: =VLOOKUP(B20,' horaire et frais avant nao '!$A$4:$I$81,5,FALSE) -> 0 | H20: =VLOOKUP(B20,' horaire et frais avant nao '!$A$4:$I$81,6,FALSE) -> 0 | I20: =VLOOKUP(B20,' horaire et frais avant nao '!$A$4:$I$81,7,FALSE) -> 0 | J20: =VLOOKUP(B20,' horaire et frais avant nao '!$A$4:$I$81,8,FALSE) -> 0 | K20: =VLOOKUP(B20,' horaire et frais avant nao '!$A$4:$I$81,9,FALSE) -> 0
