Workbook

Sheet saisie
A5: Nom | B5: Adresse | C5: ZIP Code | D5: Town | E5: Date Début | F5: Date Fin | G5: Mail
H6: =DATE(2017,1,1) -> 42736 | I6: =SUM(H6+1) -> 42737 | J6: =SUM(I6+1) -> 42738 | K6: =SUM(J6+1) -> 42739 | L6: =SUM(K6+1) -> 42740 | M6: =SUM(L6+1) -> 42741 | N6: =SUM(M6+1) -> 42742 | O6: =SUM(N6+1) -> 42743 | P6: =SUM(O6+1) -> 42744 | ... NH6: =SUM(NG6+1) -> 43100 | NI6: Cumul
A7: Abonné 1 | E7: 42736 | F7: 42766 | G7: xyz@abc.fr | H7: 1 | I7: 1 | J7: 1 | K7: 1 | L7: 1 | M7: 1 | N7: 1 | O7: 1 | P7: 1 | Q7: 1 | R7: 1 | S7: 1 | T7: 1 | U7: 1 | V7: 1 | W7: 1 | X7: 1 | Y7: 1 | Z7: 1 | AA7: 1 | AB7: 1 | AC7: 1 | AD7: 1 | AE7: 1 | AF7: 1 | AG7: 1 | AH7: 1 | AI7: 1 | AJ7: 1 | AK7: 1 | AL7: 1
A8: Abonné 2 | E8: 42741 | F8: 42830 | M8: 3 | N8: 3 | O8: 3 | P8: 3 | Q8: 3 | R8: 3 | S8: 3 | T8: 3 | U8: 3 | V8: 3 | W8: 3 | X8: 3 | Y8: 3 | Z8: 3 | AA8: 3 | AB8: 3 | AC8: 3 | AD8: 3 | AE8: 3 | AF8: 3 | AG8: 3 | AH8: 3 | AI8: 3 | AJ8: 3 | AK8: 3 | AL8: 3 | AM8: 3 | AN8: 3 | AO8: 3 | AP8: 3 | AQ8: 3 | AR8: 3 | AS8: 3 | AT8: 3 | AU8: 3 | AV8: 3 | AW8: 3 | AX8: 3 | AY8: 3 | AZ8: 3 | BA8: 3 | BB8: 3 | BC8: 3 | BD8: 3 | BE8: 3 | BF8: 3 | BG8: 3 | BH8: 3 | BI8: 3 | BJ8: 3 | BK8: 3 | BL8: 3 | BM8: 3 | BN8: 3 | BO8: 3 | BP8: 3 | BQ8: 3 | BR8: 3 | BS8: 3 | BT8: 3 | BU8: 3 | BV8: 3 | BW8: 3 | BX8: 3 | BY8: 3 | BZ8: 3 | CA8: 3 | CB8: 3 | CC8: 3 | CD8: 3 | CE8: 3 | CF8: 3 | CG8: 3 | CH8: 3 | CI8: 3 | CJ8: 3 | CK8: 3 | CL8: 3 | CM8: 3 | CN8: 3 | CO8: 3 | CP8: 3 | CQ8: 3 | CR8: 3 | CS8: 3 | CT8: 3 | CU8: 3 | CV8: 3 | CW8: 3 | CX8: 3
A10: Cumul/jour | H10: =COUNTA(H7:H9) -> 1 | I10: =COUNTA(I7:I9) -> 1 | J10: =COUNTA(J7:J9) -> 1 | K10: =COUNTA(K7:K9) -> 1 | L10: =COUNTA(L7:L9) -> 1 | M10: =COUNTA(M7:M9) -> 2 | N10: =COUNTA(N7:N9) -> 2 | O10: =COUNTA(O7:O9) -> 2 | ... NH10: =COUNTA(NH7:NH9) -> 0 | NI10: =SUM(H10:NH10) -> 121
H12: Légende
H13: 1 | I13: 1 mois
H14: 2 | I14: 2 mois
H15: 3 | I15: 3 mois
H16: 6 | I16: 6 mois
H17: 12 | I17: 12 mois
H18: 13 | I18: ponctuel

Sheet cumul
B1: Janvier | D1: Février | F1: Mars | H1: Avril | J1: Mai | L1: Juin | N1: Juillet | P1: Août | R1: Septembre | T1: Octobre | V1: Novembre | X1: Décembre
B2: =DATE(2017,1,1) -> 42736 | C2: =saisie!H10 -> 1 | D2: 42767 | E2: =saisie!AM10 -> 1 | F2: 42795 | G2: =saisie!BO10 -> 1 | H2: 42826 | I2: =saisie!CT10 -> 1 | J2: 42856 | K2: =saisie!DX10 -> 0 | L2: 42887 | M2: =saisie!FC10 -> 0 | N2: 42917 | O2: =saisie!GG10 -> 0 | P2: 42948 | Q2: =saisie!HL10 -> 0 | R2: 42979 | S2: =saisie!IQ10 -> 0 | T2: 43009 | U2: =saisie!JU10 -> 0 | V2: 43040 | W2: =saisie!KZ10 -> 0 | X2: 43070 | Y2: =saisie!MD10 -> 0
B3: =SUM(B2+1) -> 42737 | C3: =saisie!I10 -> 1 | D3: 42768 | E3: =saisie!AN10 -> 1 | F3: 42796 | G3: =saisie!BP10 -> 1 | H3: 42827 | I3: =saisie!CU10 -> 1 | J3: 42857 | K3: =saisie!DY10 -> 0 | L3: 42888 | M3: =saisie!FD10 -> 0 | N3: 42918 | O3: =saisie!GH10 -> 0 | P3: 42949 | Q3: =saisie!HM10 -> 0 | R3: 42980 | S3: =saisie!IR10 -> 0 | T3: 43010 | U3: =saisie!JV10 -> 0 | V3: 43041 | W3: =saisie!LA10 -> 0 | X3: 43071 | Y3: =saisie!ME10 -> 0
B4: =SUM(B3+1) -> 42738 | C4: =saisie!J10 -> 1 | D4: 42769 | E4: =saisie!AO10 -> 1 | F4: 42797 | G4: =saisie!BQ10 -> 1 | H4: 42828 | I4: =saisie!CV10 -> 1 | J4: 42858 | K4: =saisie!DZ10 -> 0 | L4: 42889 | M4: =saisie!FE10 -> 0 | N4: 42919 | O4: =saisie!GI10 -> 0 | P4: 42950 | Q4: =saisie!HN10 -> 0 | R4: 42981 | S4: =saisie!IS10 -> 0 | T4: 43011 | U4: =saisie!JW10 -> 0 | V4: 43042 | W4: =saisie!LB10 -> 0 | X4: 43072 | Y4: =saisie!MF10 -> 0
B5: =SUM(B4+1) -> 42739 | C5: =saisie!K10 -> 1 | D5: 42770 | E5: =saisie!AP10 -> 1 | F5: 42798 | G5: =saisie!BR10 -> 1 | H5: 42829 | I5: =saisie!CW10 -> 1 | J5: 42859 | K5: =saisie!EA10 -> 0 | L5: 42890 | M5: =saisie!FF10 -> 0 | N5: 42920 | O5: =saisie!GJ10 -> 0 | P5: 42951 | Q5: =saisie!HO10 -> 0 | R5: 42982 | S5: =saisie!IT10 -> 0 | T5: 43012 | U5: =saisie!JX10 -> 0 | V5: 43043 | W5: =saisie!LC10 -> 0 | X5: 43073 | Y5: =saisie!MG10 -> 0
B6: =SUM(B5+1) -> 42740 | C6: =saisie!L10 -> 1 | D6: 42771 | E6: =saisie!AQ10 -> 1 | F6: 42799 | G6: =saisie!BS10 -> 1 | H6: 42830 | I6: =saisie!CX10 -> 1 | J6: 42860 | K6: =saisie!EB10 -> 0 | L6: 42891 | M6: =saisie!FG10 -> 0 | N6: 42921 | O6: =saisie!GK10 -> 0 | P6: 42952 | Q6: =saisie!HP10 -> 0 | R6: 42983 | S6: =saisie!IU10 -> 0 | T6: 43013 | U6: =saisie!JY10 -> 0 | V6: 43044 | W6: =saisie!LD10 -> 0 | X6: 43074 | Y6: =saisie!MH10 -> 0
B7: =SUM(B6+1) -> 42741 | C7: =saisie!M10 -> 2 | D7: 42772 | E7: =saisie!AR10 -> 1 | F7: 42800 | G7: =saisie!BT10 -> 1 | H7: 42831 | I7: =saisie!CY10 -> 0 | J7: 42861 | K7: =saisie!EC10 -> 0 | L7: 42892 | M7: =saisie!FH10 -> 0 | N7: 42922 | O7: =saisie!GL10 -> 0 | P7: 42953 | Q7: =saisie!HQ10 -> 0 | R7: 42984 | S7: =saisie!IV10 -> 0 | T7: 43014 | U7: =saisie!JZ10 -> 0 | V7: 43045 | W7: =saisie!LE10 -> 0 | X7: 43075 | Y7: =saisie!MI10 -> 0
B8: =SUM(B7+1) -> 42742 | C8: =saisie!N10 -> 2 | D8: 42773 | E8: =saisie!AS10 -> 1 | F8: 42801 | G8: =saisie!BU10 -> 1 | H8: 42832 | I8: =saisie!CZ10 -> 0 | J8: 42862 | K8: =saisie!ED10 -> 0 | L8: 42893 | M8: =saisie!FI10 -> 0 | N8: 42923 | O8: =saisie!GM10 -> 0 | P8: 42954 | Q8: =saisie!HR10 -> 0 | R8: 42985 | S8: =saisie!IW10 -> 0 | T8: 43015 | U8: =saisie!KA10 -> 0 | V8: 43046 | W8: =saisie!LF10 -> 0 | X8: 43076 | Y8: =saisie!MJ10 -> 0
B9: =SUM(B8+1) -> 42743 | C9: =saisie!O10 -> 2 | D9: 42774 | E9: =saisie!AT10 -> 1 | F9: 42802 | G9: =saisie!BV10 -> 1 | H9: 42833 | I9: =saisie!DA10 -> 0 | J9: 42863 | K9: =saisie!EE10 -> 0 | L9: 42894 | M9: =saisie!FJ10 -> 0 | N9: 42924 | O9: =saisie!GN10 -> 0 | P9: 42955 | Q9: =saisie!HS10 -> 0 | R9: 42986 | S9: =saisie!IX10 -> 0 | T9: 43016 | U9: =saisie!KB10 -> 0 | V9: 43047 | W9: =saisie!LG10 -> 0 | X9: 43077 | Y9: =saisie!MK10 -> 0
B10: =SUM(B9+1) -> 42744 | C10: =saisie!P10 -> 2 | D10: 42775 | E10: =saisie!AU10 -> 1 | F10: 42803 | G10: =saisie!BW10 -> 1 | H10: 42834 | I10: =saisie!DB10 -> 0 | J10: 42864 | K10: =saisie!EF10 -> 0 | L10: 42895 | M10: =saisie!FK10 -> 0 | N10: 42925 | O10: =saisie!GO10 -> 0 | P10: 42956 | Q10: =saisie!HT10 -> 0 | R10: 42987 | S10: =saisie!IY10 -> 0 | T10: 43017 | U10: =saisie!KC10 -> 0 | V10: 43048 | W10: =saisie!LH10 -> 0 | X10: 43078 | Y10: =saisie!ML10 -> 0
B11: =SUM(B10+1) -> 42745 | C11: =saisie!Q10 -> 2 | D11: 42776 | E11: =saisie!AV10 -> 1 | F11: 42804 | G11: =saisie!BX10 -> 1 | H11: 42835 | I11: =saisie!DC10 -> 0 | J11: 42865 | K11: =saisie!EG10 -> 0 | L11: 42896 | M11: =saisie!FL10 -> 0 | N11: 42926 | O11: =saisie!GP10 -> 0 | P11: 42957 | Q11: =saisie!HU10 -> 0 | R11: 42988 | S11: =saisie!IZ10 -> 0 | T11: 43018 | U11: =saisie!KD10 -> 0 | V11: 43049 | W11: =saisie!LI10 -> 0 | X11: 43079 | Y11: =saisie!MM10 -> 0
B12: =SUM(B11+1) -> 42746 | C12: =saisie!R10 -> 2 | D12: 42777 | E12: =saisie!AW10 -> 1 | F12: 42805 | G12: =saisie!BY10 -> 1 | H12: 42836 | I12: =saisie!DD10 -> 0 | J12: 42866 | K12: =saisie!EH10 -> 0 | L12: 42897 | M12: =saisie!FM10 -> 0 | N12: 42927 | O12: =saisie!GQ10 -> 0 | P12: 42958 | Q12: =saisie!HV10 -> 0 | R12: 42989 | S12: =saisie!JA10 -> 0 | T12: 43019 | U12: =saisie!KE10 -> 0 | V12: 43050 | W12: =saisie!LJ10 -> 0 | X12: 43080 | Y12: =saisie!MN10 -> 0
B13: =SUM(B12+1) -> 42747 | C13: =saisie!S10 -> 2 | D13: 42778 | E13: =saisie!AX10 -> 1 | F13: 42806 | G13: =saisie!BZ10 -> 1 | H13: 42837 | I13: =saisie!DE10 -> 0 | J13: 42867 | K13: =saisie!EI10 -> 0 | L13: 42898 | M13: =saisie!FN10 -> 0 | N13: 42928 | O13: =saisie!GR10 -> 0 | P13: 42959 | Q13: =saisie!HW10 -> 0 | R13: 42990 | S13: =saisie!JB10 -> 0 | T13: 43020 | U13: =saisie!KF10 -> 0 | V13: 43051 | W13: =saisie!LK10 -> 0 | X13: 43081 | Y13: =saisie!MO10 -> 0
B14: =SUM(B13+1) -> 42748 | C14: =saisie!T10 -> 2 | D14: 42779 | E14: =saisie!AY10 -> 1 | F14: 42807 | G14: =saisie!CA10 -> 1 | H14: 42838 | I14: =saisie!DF10 -> 0 | J14: 42868 | K14: =saisie!EJ10 -> 0 | L14: 42899 | M14: =saisie!FO10 -> 0 | N14: 42929 | O14: =saisie!GS10 -> 0 | P14: 42960 | Q14: =saisie!HX10 -> 0 | R14: 42991 | S14: =saisie!JC10 -> 0 | T14: 43021 | U14: =saisie!KG10 -> 0 | V14: 43052 | W14: =saisie!LL10 -> 0 | X14: 43082 | Y14: =saisie!MP10 -> 0
B15: =SUM(B14+1) -> 42749 | C15: =saisie!U10 -> 2 | D15: 42780 | E15: =saisie!AZ10 -> 1 | F15: 42808 | G15: =saisie!CB10 -> 1 | H15: 42839 | I15: =saisie!DG10 -> 0 | J15: 42869 | K15: =saisie!EK10 -> 0 | L15: 42900 | M15: =saisie!FP10 -> 0 | N15: 42930 | O15: =saisie!GT10 -> 0 | P15: 42961 | Q15: =saisie!HY10 -> 0 | R15: 42992 | S15: =saisie!JD10 -> 0 | T15: 43022 | U15: =saisie!KH10 -> 0 | V15: 43053 | W15: =saisie!LM10 -> 0 | X15: 43083 | Y15: =saisie!MQ10 -> 0
B16: =SUM(B15+1) -> 42750 | C16: =saisie!V10 -> 2 | D16: 42781 | E16: =saisie!BA10 -> 1 | F16: 42809 | G16: =saisie!CC10 -> 1 | H16: 42840 | I16: =saisie!DH10 -> 0 | J16: 42870 | K16: =saisie!EL10 -> 0 | L16: 42901 | M16: =saisie!FQ10 -> 0 | N16: 42931 | O16: =saisie!GU10 -> 0 | P16: 42962 | Q16: =saisie!HZ10 -> 0 | R16: 42993 | S16: =saisie!JE10 -> 0 | T16: 43023 | U16: =saisie!KI10 -> 0 | V16: 43054 | W16: =saisie!LN10 -> 0 | X16: 43084 | Y16: =saisie!MR10 -> 0
B17: =SUM(B16+1) -> 42751 | C17: =saisie!W10 -> 2 | D17: 42782 | E17: =saisie!BB10 -> 1 | F17: 42810 | G17: =saisie!CD10 -> 1 | H17: 42841 | I17: =saisie!DI10 -> 0 | J17: 42871 | K17: =saisie!EM10 -> 0 | L17: 42902 | M17: =saisie!FR10 -> 0 | N17: 42932 | O17: =saisie!GV10 -> 0 | P17: 42963 | Q17: =saisie!IA10 -> 0 | R17: 42994 | S17: =saisie!JF10 -> 0 | T17: 43024 | U17: =saisie!KJ10 -> 0 | V17: 43055 | W17: =saisie!LO10 -> 0 | X17: 43085 | Y17: =saisie!MS10 -> 0
B18: =SUM(B17+1) -> 42752 | C18: =saisie!X10 -> 2 | D18: 42783 | E18: =saisie!BC10 -> 1 | F18: 42811 | G18: =saisie!CE10 -> 1 | H18: 42842 | I18: =saisie!DJ10 -> 0 | J18: 42872 | K18: =saisie!EN10 -> 0 | L18: 42903 | M18: =saisie!FS10 -> 0 | N18: 42933 | O18: =saisie!GW10 -> 0 | P18: 42964 | Q18: =saisie!IB10 -> 0 | R18: 42995 | S18: =saisie!JG10 -> 0 | T18: 43025 | U18: =saisie!KK10 -> 0 | V18: 43056 | W18: =saisie!LP10 -> 0 | X18: 43086 | Y18: =saisie!MT10 -> 0
B19: =SUM(B18+1) -> 42753 | C19: =saisie!Y10 -> 2 | D19: 42784 | E19: =saisie!BD10 -> 1 | F19: 42812 | G19: =saisie!CF10 -> 1 | H19: 42843 | I19: =saisie!DK10 -> 0 | J19: 42873 | K19: =saisie!EO10 -> 0 | L19: 42904 | M19: =saisie!FT10 -> 0 | N19: 42934 | O19: =saisie!GX10 -> 0 | P19: 42965 | Q19: =saisie!IC10 -> 0 | R19: 42996 | S19: =saisie!JH10 -> 0 | T19: 43026 | U19: =saisie!KL10 -> 0 | V19: 43057 | W19: =saisie!LQ10 -> 0 | X19: 43087 | Y19: =saisie!MU10 -> 0
B20: =SUM(B19+1) -> 42754 | C20: =saisie!Z10 -> 2 | D20: 42785 | E20: =saisie!BE10 -> 1 | F20: 42813 | G20: =saisie!CG10 -> 1 | H20: 42844 | I20: =saisie!DL10 -> 0 | J20: 42874 | K20: =saisie!EP10 -> 0 | L20: 42905 | M20: =saisie!FU10 -> 0 | N20: 42935 | O20: =saisie!GY10 -> 0 | P20: 42966 | Q20: =saisie!ID10 -> 0 | R20: 42997 | S20: =saisie!JI10 -> 0 | T20: 43027 | U20: =saisie!KM10 -> 0 | V20: 43058 | W20: =saisie!LR10 -> 0 | X20: 43088 | Y20: =saisie!MV10 -> 0
B21: =SUM(B20+1) -> 42755 | C21: =saisie!AA10 -> 2 | D21: 42786 | E21: =saisie!BF10 -> 1 | F21: 42814 | G21: =saisie!CH10 -> 1 | H21: 42845 | I21: =saisie!DM10 -> 0 | J21: 42875 | K21: =saisie!EQ10 -> 0 | L21: 42906 | M21: =saisie!FV10 -> 0 | N21: 42936 | O21: =saisie!GZ10 -> 0 | P21: 42967 | Q21: =saisie!IE10 -> 0 | R21: 42998 | S21: =saisie!JJ10 -> 0 | T21: 43028 | U21: =saisie!KN10 -> 0 | V21: 43059 | W21: =saisie!LS10 -> 0 | X21: 43089 | Y21: =saisie!MW10 -> 0
B22: =SUM(B21+1) -> 42756 | C22: =saisie!AB10 -> 2 | D22: 42787 | E22: =saisie!BG10 -> 1 | F22: 42815 | G22: =saisie!CI10 -> 1 | H22: 42846 | I22: =saisie!DN10 -> 0 | J22: 42876 | K22: =saisie!ER10 -> 0 | L22: 42907 | M22: =saisie!FW10 -> 0 | N22: 42937 | O22: =saisie!HA10 -> 0 | P22: 42968 | Q22: =saisie!IF10 -> 0 | R22: 42999 | S22: =saisie!JK10 -> 0 | T22: 43029 | U22: =saisie!KO10 -> 0 | V22: 43060 | W22: =saisie!LT10 -> 0 | X22: 43090 | Y22: =saisie!MX10 -> 0
B23: =SUM(B22+1) -> 42757 | C23: =saisie!AC10 -> 2 | D23: 42788 | E23: =saisie!BH10 -> 1 | F23: 42816 | G23: =saisie!CJ10 -> 1 | H23: 42847 | I23: =saisie!DO10 -> 0 | J23: 42877 | K23: =saisie!ES10 -> 0 | L23: 42908 | M23: =saisie!FX10 -> 0 | N23: 42938 | O23: =saisie!HB10 -> 0 | P23: 42969 | Q23: =saisie!IG10 -> 0 | R23: 43000 | S23: =saisie!JL10 -> 0 | T23: 43030 | U23: =saisie!KP10 -> 0 | V23: 43061 | W23: =saisie!LU10 -> 0 | X23: 43091 | Y23: =saisie!MY10 -> 0
B24: =SUM(B23+1) -> 42758 | C24: =saisie!AD10 -> 2 | D24: 42789 | E24: =saisie!BI10 -> 1 | F24: 42817 | G24: =saisie!CK10 -> 1 | H24: 42848 | I24: =saisie!DP10 -> 0 | J24: 42878 | K24: =saisie!ET10 -> 0 | L24: 42909 | M24: =saisie!FY10 -> 0 | N24: 42939 | O24: =saisie!HC10 -> 0 | P24: 42970 | Q24: =saisie!IH10 -> 0 | R24: 43001 | S24: =saisie!JM10 -> 0 | T24: 43031 | U24: =saisie!KQ10 -> 0 | V24: 43062 | W24: =saisie!LV10 -> 0 | X24: 43092 | Y24: =saisie!MZ10 -> 0
B25: =SUM(B24+1) -> 42759 | C25: =saisie!AE10 -> 2 | D25: 42790 | E25: =saisie!BJ10 -> 1 | F25: 42818 | G25: =saisie!CL10 -> 1 | H25: 42849 | I25: =saisie!DQ10 -> 0 | J25: 42879 | K25: =saisie!EU10 -> 0 | L25: 42910 | M25: =saisie!FZ10 -> 0 | N25: 42940 | O25: =saisie!HD10 -> 0 | P25: 42971 | Q25: =saisie!II10 -> 0 | R25: 43002 | S25: =saisie!JN10 -> 0 | T25: 43032 | U25: =saisie!KR10 -> 0 | V25: 43063 | W25: =saisie!LW10 -> 0 | X25: 43093 | Y25: =saisie!NA10 -> 0
B26: =SUM(B25+1) -> 42760 | C26: =saisie!AF10 -> 2 | D26: 42791 | E26: =saisie!BK10 -> 1 | F26: 42819 | G26: =saisie!CM10 -> 1 | H26: 42850 | I26: =saisie!DR10 -> 0 | J26: 42880 | K26: =saisie!EV10 -> 0 | L26: 42911 | M26: =saisie!GA10 -> 0 | N26: 42941 | O26: =saisie!HE10 -> 0 | P26: 42972 | Q26: =saisie!IJ10 -> 0 | R26: 43003 | S26: =saisie!JO10 -> 0 | T26: 43033 | U26: =saisie!KS10 -> 0 | V26: 43064 | W26: =saisie!LX10 -> 0 | X26: 43094 | Y26: =saisie!NB10 -> 0
B27: =SUM(B26+1) -> 42761 | C27: =saisie!AG10 -> 2 | D27: 42792 | E27: =saisie!BL10 -> 1 | F27: 42820 | G27: =saisie!CN10 -> 1 | H27: 42851 | I27: =saisie!DS10 -> 0 | J27: 42881 | K27: =saisie!EW10 -> 0 | L27: 42912 | M27: =saisie!GB10 -> 0 | N27: 42942 | O27: =saisie!HF10 -> 0 | P27: 42973 | Q27: =saisie!IK10 -> 0 | R27: 43004 | S27: =saisie!JP10 -> 0 | T27: 43034 | U27: =saisie!KT10 -> 0 | V27: 43065 | W27: =saisie!LY10 -> 0 | X27: 43095 | Y27: =saisie!NC10 -> 0
B28: =SUM(B27+1) -> 42762 | C28: =saisie!AH10 -> 2 | D28: 42793 | E28: =saisie!BM10 -> 1 | F28: 42821 | G28: =saisie!CO10 -> 1 | H28: 42852 | I28: =saisie!DT10 -> 0 | J28: 42882 | K28: =saisie!EX10 -> 0 | L28: 42913 | M28: =saisie!GC10 -> 0 | N28: 42943 | O28: =saisie!HG10 -> 0 | P28: 42974 | Q28: =saisie!IL10 -> 0 | R28: 43005 | S28: =saisie!JQ10 -> 0 | T28: 43035 | U28: =saisie!KU10 -> 0 | V28: 43066 | W28: =saisie!LZ10 -> 0 | X28: 43096 | Y28: =saisie!ND10 -> 0
B29: =SUM(B28+1) -> 42763 | C29: =saisie!AI10 -> 2 | D29: 42794 | E29: =saisie!BN10 -> 1 | F29: 42822 | G29: =saisie!CP10 -> 1 | H29: 42853 | I29: =saisie!DU10 -> 0 | J29: 42883 | K29: =saisie!EY10 -> 0 | L29: 42914 | M29: =saisie!GD10 -> 0 | N29: 42944 | O29: =saisie!HH10 -> 0 | P29: 42975 | Q29: =saisie!IM10 -> 0 | R29: 43006 | S29: =saisie!JR10 -> 0 | T29: 43036 | U29: =saisie!KV10 -> 0 | V29: 43067 | W29: =saisie!MA10 -> 0 | X29: 43097 | Y29: =saisie!NE10 -> 0
B30: =SUM(B29+1) -> 42764 | C30: =saisie!AJ10 -> 2 | F30: 42823 | G30: =saisie!CQ10 -> 1 | H30: 42854 | I30: =saisie!DV10 -> 0 | J30: 42884 | K30: =saisie!EZ10 -> 0 | L30: 42915 | M30: =saisie!GE10 -> 0 | N30: 42945 | O30: =saisie!HI10 -> 0 | P30: 42976 | Q30: =saisie!IN10 -> 0 | R30: 43007 | S30: =saisie!JS10 -> 0 | T30: 43037 | U30: =saisie!KW10 -> 0 | V30: 43068 | W30: =saisie!MB10 -> 0 | X30: 43098 | Y30: =saisie!NF10 -> 0
B31: =SUM(B30+1) -> 42765 | C31: =saisie!AK10 -> 2 | F31: 42824 | G31: =saisie!CR10 -> 1 | H31: 42855 | I31: =saisie!DW10 -> 0 | J31: 42885 | K31: =saisie!FA10 -> 0 | L31: 42916 | M31: =saisie!GF10 -> 0 | N31: 42946 | O31: =saisie!HJ10 -> 0 | P31: 42977 | Q31: =saisie!IO10 -> 0 | R31: 43008 | S31: =saisie!JT10 -> 0 | T31: 43038 | U31: =saisie!KX10 -> 0 | V31: 43069 | W31: =saisie!MC10 -> 0 | X31: 43099 | Y31: =saisie!NG10 -> 0
B32: =SUM(B31+1) -> 42766 | C32: =saisie!AL10 -> 2 | F32: 42825 | G32: =saisie!CS10 -> 1 | J32: 42886 | K32: =saisie!FB10 -> 0 | M32: =saisie!FD10 -> 0 | N32: 42947 | O32: =saisie!HK10 -> 0 | P32: 42978 | Q32: =saisie!IP10 -> 0 | T32: 43039 | U32: =saisie!KY10 -> 0 | X32: 43100 | Y32: =saisie!NH10 -> 0
A33: Nbjournal/mois | C33: =SUM(C2:C32) -> 57 | E33: =SUM(E2:E32) -> 28 | G33: =SUM(G2:G32) -> 31 | I33: =SUM(I2:I32) -> 5 | K33: =SUM(K2:K32) -> 0 | M33: =SUM(M2:M32) -> 0 | O33: =SUM(O2:O32) -> 0 | Q33: =SUM(Q2:Q32) -> 0 | S33: =SUM(S2:S32) -> 0 | U33: =SUM(U2:U32) -> 0 | W33: =saisie!MC12 -> 0 | Y33: =saisie!ME12 -> 0
A34: CA/mois | B34: 0.9 | C34: =C33*B34 -> 51.3 | E34: =E33*D34 -> 0 | G34: =G33*F34 -> 0 | I34: =I33*H34 -> 0 | K34: =K33*J34 -> 0 | M34: =M33*L34 -> 0 | O34: =O33*N34 -> 0 | Q34: =Q33*P34 -> 0 | S34: =S33*R34 -> 0 | U34: =U33*T34 -> 0 | W34: =W33*V34 -> 0 | Y34: =Y33*X34 -> 0
A35: Cumul annuel | Y35: =SUM(C34:Y34) -> 51.3
