Workbook

Sheet BASE
B1: CHRONO | C1: 1 | D1: CODE | E1: CPTES CLIENTS | F1: N° Fact | G1: LIBELLES | H1: Débit | I1: Crédit | K1: CHRONO | L1: 2 | M1: CODE | N1: CPTES CLIENTS | O1: N° Fact | P1: LIBELLES | Q1: Débit | R1: Crédit | T1: CHRONO | U1: 3 | V1: CODE | W1: Frais Techniques | X1: N° Fact | Y1: LIBELLES | Z1: Débit | AA1: Crédit | AC1: CHRONO | AD1: 4 | AE1: CODE | AF1: Revenus Annexes | AG1: N° Fact | AH1: LIBELLES | AI1: Débit | AJ1: Crédit | AL1: CHRONO | AM1: 5 | AN1: CODE | AO1: TVA | AP1: N° Fact | AQ1: LIBELLES | AR1: Débit | AS1: Crédit
B2: 1 | C2: 42705 | D2: VE | E2: CSAVENCIA | F2: 2016/00755 | G2: SAVENCIA FROMAGE & DAIRY FOOD SERVICE - A0 | H2: 0 | I2: 2400 | K2: 1 | L2: 42705 | M2: VE | N2: 706200000 | O2: 2016/00755 | P2: SAVENCIA FROMAGE & DAIRY FOOD SERVICE - A0 | Q2: 0 | R2: 0 | T2: 1 | U2: 42705 | V2: VE | W2: 706210000 | X2: 2016/00755 | Y2: SAVENCIA FROMAGE & DAIRY FOOD SERVICE - A0 | Z2: 0 | AA2: 0 | AC2: 1 | AD2: 42705 | AE2: VE | AF2: 706200000 | AG2: 2016/00755 | AH2: SAVENCIA FROMAGE & DAIRY FOOD SERVICE - A0 | AI2: 2000 | AJ2: 0 | AL2: 1 | AM2: 42705 | AN2: VE | AO2: 44571000 | AP2: 2016/00755 | AQ2: SAVENCIA FROMAGE & DAIRY FOOD SERVICE - A0 | AR2: 400 | AS2: 0
B3: 2 | C3: 42705 | D3: VE | E3: CSAVENCIA | F3: 2016/00756 | G3: SAVENCIA FROMAGE & DAIRY FOOD SERVICE - A0 | H3: 2400 | I3: 0 | K3: 2 | L3: 42705 | M3: VE | N3: 706200000 | O3: 2016/00756 | P3: SAVENCIA FROMAGE & DAIRY FOOD SERVICE - A0 | Q3: 0 | R3: 0 | T3: 2 | U3: 42705 | V3: VE | W3: 706210000 | X3: 2016/00756 | Y3: SAVENCIA FROMAGE & DAIRY FOOD SERVICE - A0 | Z3: 0 | AA3: 0 | AC3: 2 | AD3: 42705 | AE3: VE | AF3: 706200000 | AG3: 2016/00756 | AH3: SAVENCIA FROMAGE & DAIRY FOOD SERVICE - A0 | AI3: 0 | AJ3: 2000 | AL3: 2 | AM3: 42705 | AN3: VE | AO3: 44571000 | AP3: 2016/00756 | AQ3: SAVENCIA FROMAGE & DAIRY FOOD SERVICE - A0 | AR3: 0 | AS3: 400
B4: 3 | C4: 42705 | D4: VE | E4: CSAVENCIA | F4: 2016/00757 | G4: SAVENCIA FROMAGE & DAIRY FOOD SERVICE - A0 | H4: 240 | I4: 0 | K4: 3 | L4: 42705 | M4: VE | N4: 706200000 | O4: 2016/00757 | P4: SAVENCIA FROMAGE & DAIRY FOOD SERVICE - A0 | Q4: 0 | R4: 0 | T4: 3 | U4: 42705 | V4: VE | W4: 706210000 | X4: 2016/00757 | Y4: SAVENCIA FROMAGE & DAIRY FOOD SERVICE - A0 | Z4: 0 | AA4: 0 | AC4: 3 | AD4: 42705 | AE4: VE | AF4: 706200000 | AG4: 2016/00757 | AH4: SAVENCIA FROMAGE & DAIRY FOOD SERVICE - A0 | AI4: 0 | AJ4: 200 | AL4: 3 | AM4: 42705 | AN4: VE | AO4: 44571000 | AP4: 2016/00757 | AQ4: SAVENCIA FROMAGE & DAIRY FOOD SERVICE - A0 | AR4: 0 | AS4: 40
B5: 4 | C5: 42705 | D5: VE | E5: C00000000 | F5: 2016/00758 | G5: ELVIR - A0 | H5: 0 | I5: 240 | K5: 4 | L5: 42705 | M5: VE | N5: 706200000 | O5: 2016/00758 | P5: ELVIR - A0 | Q5: 0 | R5: 0 | T5: 4 | U5: 42705 | V5: VE | W5: 706210000 | X5: 2016/00758 | Y5: ELVIR - A0 | Z5: 0 | AA5: 0 | AC5: 4 | AD5: 42705 | AE5: VE | AF5: 706200000 | AG5: 2016/00758 | AH5: ELVIR - A0 | AI5: 200 | AJ5: 0 | AL5: 4 | AM5: 42705 | AN5: VE | AO5: 44571000 | AP5: 2016/00758 | AQ5: ELVIR - A0 | AR5: 40 | AS5: 0
B6: 5 | C6: 42705 | D6: VE | E6: CSAVENCIA | F6: 2016/00759 | G6: SAVENCIA FROMAGE & DAIRY FOOD SERVICE - A0 | H6: 1800 | I6: 0 | K6: 5 | L6: 42705 | M6: VE | N6: 706200000 | O6: 2016/00759 | P6: SAVENCIA FROMAGE & DAIRY FOOD SERVICE - A0 | Q6: 0 | R6: 0 | T6: 5 | U6: 42705 | V6: VE | W6: 706210000 | X6: 2016/00759 | Y6: SAVENCIA FROMAGE & DAIRY FOOD SERVICE - A0 | Z6: 0 | AA6: 0 | AC6: 5 | AD6: 42705 | AE6: VE | AF6: 706200000 | AG6: 2016/00759 | AH6: SAVENCIA FROMAGE & DAIRY FOOD SERVICE - A0 | AI6: 0 | AJ6: 1500 | AL6: 5 | AM6: 42705 | AN6: VE | AO6: 44571000 | AP6: 2016/00759 | AQ6: SAVENCIA FROMAGE & DAIRY FOOD SERVICE - A0 | AR6: 0 | AS6: 300
B7: 6 | C7: 42705 | D7: VE | E7: CDMEA | F7: 2016/00760 | G7: ADMEA - A0 | H7: 0 | I7: 366 | K7: 6 | L7: 42705 | M7: VE | N7: 706200000 | O7: 2016/00760 | P7: ADMEA - A0 | Q7: 0 | R7: 0 | T7: 6 | U7: 42705 | V7: VE | W7: 706210000 | X7: 2016/00760 | Y7: ADMEA - A0 | Z7: 0 | AA7: 0 | AC7: 6 | AD7: 42705 | AE7: VE | AF7: 706200000 | AG7: 2016/00760 | AH7: ADMEA - A0 | AI7: 305 | AJ7: 0 | AL7: 6 | AM7: 42705 | AN7: VE | AO7: 44571000 | AP7: 2016/00760 | AQ7: ADMEA - A0 | AR7: 61 | AS7: 0
B8: 7 | C8: 42705 | D8: VE | E8: CDMEA | F8: 2016/00761 | G8: ADMEA - A0 | H8: 0 | I8: 3426 | K8: 7 | L8: 42705 | M8: VE | N8: 706200000 | O8: 2016/00761 | P8: ADMEA - A0 | Q8: 0 | R8: 0 | T8: 7 | U8: 42705 | V8: VE | W8: 706210000 | X8: 2016/00761 | Y8: ADMEA - A0 | Z8: 0 | AA8: 0 | AC8: 7 | AD8: 42705 | AE8: VE | AF8: 706200000 | AG8: 2016/00761 | AH8: ADMEA - A0 | AI8: 2855 | AJ8: 0 | AL8: 7 | AM8: 42705 | AN8: VE | AO8: 44571000 | AP8: 2016/00761 | AQ8: ADMEA - A0 | AR8: 571 | AS8: 0
B9: 8 | C9: 42706 | D9: VE | E9: CLECHIC | F9: 2016/00762 | G9: LE CHIC - A1 | H9: 993.6 | I9: 0 | K9: 8 | L9: 42706 | M9: VE | N9: 706000000 | O9: 2016/00762 | P9: LE CHIC - A1 | Q9: 0 | R9: 828 | T9: 8 | U9: 42706 | V9: VE | W9: 706210000 | X9: 2016/00762 | Y9: LE CHIC - A1 | Z9: 0 | AA9: 0 | AC9: 8 | AD9: 42706 | AE9: VE | AF9: 706200000 | AG9: 2016/00762 | AH9: LE CHIC - A1 | AI9: 0 | AJ9: 0 | AL9: 8 | AM9: 42706 | AN9: VE | AO9: 44571000 | AP9: 2016/00762 | AQ9: LE CHIC - A1 | AR9: 0 | AS9: 165.6
B10: 9 | C10: 42706 | D10: VE | E10: CLALISTE | F10: 2016/00763 | G10: La Liste - A0 | H10: 1200 | I10: 0 | K10: 9 | L10: 42706 | M10: VE | N10: 706200000 | O10: 2016/00763 | P10: La Liste - A0 | Q10: 0 | R10: 0 | T10: 9 | U10: 42706 | V10: VE | W10: 706210000 | X10: 2016/00763 | Y10: La Liste - A0 | Z10: 0 | AA10: 0 | AC10: 9 | AD10: 42706 | AE10: VE | AF10: 706200000 | AG10: 2016/00763 | AH10: La Liste - A0 | AI10: 0 | AJ10: 1000 | AL10: 9 | AM10: 42706 | AN10: VE | AO10: 44571000 | AP10: 2016/00763 | AQ10: La Liste - A0 | AR10: 0 | AS10: 200
B11: 10 | C11: 42706 | D11: VE | E11: CLALISTE | F11: 2016/00764 | G11: La Liste - A0 | H11: 360 | I11: 0 | K11: 10 | L11: 42706 | M11: VE | N11: 706200000 | O11: 2016/00764 | P11: La Liste - A0 | Q11: 0 | R11: 0 | T11: 10 | U11: 42706 | V11: VE | W11: 706210000 | X11: 2016/00764 | Y11: La Liste - A0 | Z11: 0 | AA11: 0 | AC11: 10 | AD11: 42706 | AE11: VE | AF11: 706200000 | AG11: 2016/00764 | AH11: La Liste - A0 | AI11: 0 | AJ11: 300 | AL11: 10 | AM11: 42706 | AN11: VE | AO11: 44571000 | AP11: 2016/00764 | AQ11: La Liste - A0 | AR11: 0 | AS11: 60
B12: 11 | C12: 42710 | D12: VE | E12: CDEFTA | F12: 2016/00765 | G12: DEFTA SERVICES - A0 | H12: 2160 | I12: 0 | K12: 11 | L12: 42710 | M12: VE | N12: 706200000 | O12: 2016/00765 | P12: DEFTA SERVICES - A0 | Q12: 0 | R12: 0 | T12: 11 | U12: 42710 | V12: VE | W12: 706210000 | X12: 2016/00765 | Y12: DEFTA SERVICES - A0 | Z12: 0 | AA12: 0 | AC12: 11 | AD12: 42710 | AE12: VE | AF12: 706200000 | AG12: 2016/00765 | AH12: DEFTA SERVICES - A0 | AI12: 0 | AJ12: 1800 | AL12: 11 | AM12: 42710 | AN12: VE | AO12: 44571000 | AP12: 2016/00765 | AQ12: DEFTA SERVICES - A0 | AR12: 0 | AS12: 360
B13: 12 | C13: 42710 | D13: VE | E13: C70092100 | F13: 2016/00766 | G13: Gault Millau - A0 | H13: 1680 | I13: 0 | K13: 12 | L13: 42710 | M13: VE | N13: 706200000 | O13: 2016/00766 | P13: Gault Millau - A0 | Q13: 0 | R13: 0 | T13: 12 | U13: 42710 | V13: VE | W13: 706210000 | X13: 2016/00766 | Y13: Gault Millau - A0 | Z13: 0 | AA13: 0 | AC13: 12 | AD13: 42710 | AE13: VE | AF13: 706200000 | AG13: 2016/00766 | AH13: Gault Millau - A0 | AI13: 0 | AJ13: 1400 | AL13: 12 | AM13: 42710 | AN13: VE | AO13: 44571000 | AP13: 2016/00766 | AQ13: Gault Millau - A0 | AR13: 0 | AS13: 280
... B90: 89 | C90: 42734 | D90: VE | E90: C50018000 | F90: 2016/00843 | G90: Pomona SA - A0 | H90: 720 | I90: 0 | K90: 89 | L90: 42734 | M90: VE | N90: 706200000 | O90: 2016/00843 | P90: Pomona SA - A0 | Q90: 0 | R90: 0 | T90: 89 | U90: 42734 | V90: VE | W90: 706210000 | X90: 2016/00843 | Y90: Pomona SA - A0 | Z90: 0 | AA90: 0 | AC90: 89 | AD90: 42734 | AE90: VE | AF90: 706200000 | AG90: 2016/00843 | AH90: Pomona SA - A0 | AI90: 0 | AJ90: 600 | AL90: 89 | AM90: 42734 | AN90: VE | AO90: 44571000 | AP90: 2016/00843 | AQ90: Pomona SA - A0 | AR90: 0 | AS90: 120
B91: 90 | C91: 0 | D91: VE | E91: #N/A | F91: 0 | G91: - A | H91: 0 | I91: 0 | K91: 90 | L91: 0 | M91: VE | N91: 706200000 | O91: 0 | P91: - A | Q91: 0 | R91: 0 | T91: 90 | U91: 0 | V91: VE | W91: 706210000 | X91: 0 | Y91: - A | Z91: 0 | AA91: 0 | AC91: 90 | AD91: 0 | AE91: VE | AF91: 706200000 | AG91: 0 | AH91: - A | AI91: 0 | AJ91: 0 | AL91: 90 | AM91: 0 | AN91: VE | AO91: 44571000 | AP91: 0 | AQ91: - A | AR91: 0 | AS91: 0
B92: 91 | C92: 0 | D92: VE | E92: #N/A | F92: 0 | G92: - A | H92: 0 | I92: 0 | K92: 91 | L92: 0 | M92: VE | N92: 706200000 | O92: 0 | P92: - A | Q92: 0 | R92: 0 | T92: 91 | U92: 0 | V92: VE | W92: 706210000 | X92: 0 | Y92: - A | Z92: 0 | AA92: 0 | AC92: 91 | AD92: 0 | AE92: VE | AF92: 706200000 | AG92: 0 | AH92: - A | AI92: 0 | AJ92: 0 | AL92: 91 | AM92: 0 | AN92: VE | AO92: 44571000 | AP92: 0 | AQ92: - A | AR92: 0 | AS92: 0
B93: 92 | C93: 0 | D93: VE | E93: #N/A | F93: 0 | G93: - A | H93: 0 | I93: 0 | K93: 92 | L93: 0 | M93: VE | N93: 706200000 | O93: 0 | P93: - A | Q93: 0 | R93: 0 | T93: 92 | U93: 0 | V93: VE | W93: 706210000 | X93: 0 | Y93: - A | Z93: 0 | AA93: 0 | AC93: 92 | AD93: 0 | AE93: VE | AF93: 706200000 | AG93: 0 | AH93: - A | AI93: 0 | AJ93: 0 | AL93: 92 | AM93: 0 | AN93: VE | AO93: 44571000 | AP93: 0 | AQ93: - A | AR93: 0 | AS93: 0
B94: 93 | C94: 0 | D94: VE | E94: #N/A | F94: 0 | G94: - A | H94: 0 | I94: 0 | K94: 93 | L94: 0 | M94: VE | N94: 706200000 | O94: 0 | P94: - A | Q94: 0 | R94: 0 | T94: 93 | U94: 0 | V94: VE | W94: 706210000 | X94: 0 | Y94: - A | Z94: 0 | AA94: 0 | AC94: 93 | AD94: 0 | AE94: VE | AF94: 706200000 | AG94: 0 | AH94: - A | AI94: 0 | AJ94: 0 | AL94: 93 | AM94: 0 | AN94: VE | AO94: 44571000 | AP94: 0 | AQ94: - A | AR94: 0 | AS94: 0
B95: 94 | C95: 0 | D95: VE | E95: #N/A | F95: 0 | G95: - A | H95: 0 | I95: 0 | K95: 94 | L95: 0 | M95: VE | N95: 706200000 | O95: 0 | P95: - A | Q95: 0 | R95: 0 | T95: 94 | U95: 0 | V95: VE | W95: 706210000 | X95: 0 | Y95: - A | Z95: 0 | AA95: 0 | AC95: 94 | AD95: 0 | AE95: VE | AF95: 706200000 | AG95: 0 | AH95: - A | AI95: 0 | AJ95: 0 | AL95: 94 | AM95: 0 | AN95: VE | AO95: 44571000 | AP95: 0 | AQ95: - A | AR95: 0 | AS95: 0
B96: 95 | C96: 0 | D96: VE | E96: #N/A | F96: 0 | G96: - A | H96: 0 | I96: 0 | K96: 95 | L96: 0 | M96: VE | N96: 706200000 | O96: 0 | P96: - A | Q96: 0 | R96: 0 | T96: 95 | U96: 0 | V96: VE | W96: 706210000 | X96: 0 | Y96: - A | Z96: 0 | AA96: 0 | AC96: 95 | AD96: 0 | AE96: VE | AF96: 706200000 | AG96: 0 | AH96: - A | AI96: 0 | AJ96: 0 | AL96: 95 | AM96: 0 | AN96: VE | AO96: 44571000 | AP96: 0 | AQ96: - A | AR96: 0 | AS96: 0
B97: 96 | C97: 0 | D97: VE | E97: #N/A | F97: 0 | G97: - A | H97: 0 | I97: 0 | K97: 96 | L97: 0 | M97: VE | N97: 706200000 | O97: 0 | P97: - A | Q97: 0 | R97: 0 | T97: 96 | U97: 0 | V97: VE | W97: 706210000 | X97: 0 | Y97: - A | Z97: 0 | AA97: 0 | AC97: 96 | AD97: 0 | AE97: VE | AF97: 706200000 | AG97: 0 | AH97: - A | AI97: 0 | AJ97: 0 | AL97: 96 | AM97: 0 | AN97: VE | AO97: 44571000 | AP97: 0 | AQ97: - A | AR97: 0 | AS97: 0
B98: 97 | C98: 0 | D98: VE | E98: #N/A | F98: 0 | G98: - A | H98: 0 | I98: 0 | K98: 97 | L98: 0 | M98: VE | N98: 706200000 | O98: 0 | P98: - A | Q98: 0 | R98: 0 | T98: 97 | U98: 0 | V98: VE | W98: 706210000 | X98: 0 | Y98: - A | Z98: 0 | AA98: 0 | AC98: 97 | AD98: 0 | AE98: VE | AF98: 706200000 | AG98: 0 | AH98: - A | AI98: 0 | AJ98: 0 | AL98: 97 | AM98: 0 | AN98: VE | AO98: 44571000 | AP98: 0 | AQ98: - A | AR98: 0 | AS98: 0
B99: 98 | C99: 0 | D99: VE | E99: #N/A | F99: 0 | G99: - A | H99: 0 | I99: 0 | K99: 98 | L99: 0 | M99: VE | N99: 706200000 | O99: 0 | P99: - A | Q99: 0 | R99: 0 | T99: 98 | U99: 0 | V99: VE | W99: 706210000 | X99: 0 | Y99: - A | Z99: 0 | AA99: 0 | AC99: 98 | AD99: 0 | AE99: VE | AF99: 706200000 | AG99: 0 | AH99: - A | AI99: 0 | AJ99: 0 | AL99: 98 | AM99: 0 | AN99: VE | AO99: 44571000 | AP99: 0 | AQ99: - A | AR99: 0 | AS99: 0
B100: 99 | C100: 0 | D100: VE | E100: #N/A | F100: 0 | G100: - A | H100: 0 | I100: 0 | K100: 99 | L100: 0 | M100: VE | N100: 706200000 | O100: 0 | P100: - A | Q100: 0 | R100: 0 | T100: 99 | U100: 0 | V100: VE | W100: 706210000 | X100: 0 | Y100: - A | Z100: 0 | AA100: 0 | AC100: 99 | AD100: 0 | AE100: VE | AF100: 706200000 | AG100: 0 | AH100: - A | AI100: 0 | AJ100: 0 | AL100: 99 | AM100: 0 | AN100: VE | AO100: 44571000 | AP100: 0 | AQ100: - A | AR100: 0 | AS100: 0
B101: 100 | C101: 0 | D101: VE | E101: #N/A | F101: 0 | G101: - A | H101: 0 | I101: 0 | K101: 100 | L101: 0 | M101: VE | N101: 706200000 | O101: 0 | P101: - A | Q101: 0 | R101: 0 | T101: 100 | U101: 0 | V101: VE | W101: 706210000 | X101: 0 | Y101: - A | Z101: 0 | AA101: 0 | AC101: 100 | AD101: 0 | AE101: VE | AF101: 706200000 | AG101: 0 | AH101: - A | AI101: 0 | AJ101: 0 | AL101: 100 | AM101: 0 | AN101: VE | AO101: 44571000 | AP101: 0 | AQ101: - A | AR101: 0 | AS101: 0

Sheet OBJECTIF souhaité
A1: CHRONO | B1: DATE | C1: CODE | D1: CPTES CLIENTS | E1: N° Fact | F1: LIBELLES | G1: Débit | H1: Crédit
A2: =+BASE!B2 -> 1 | B2: =+BASE!C2 -> 42705 | C2: =+BASE!D2 -> VE | D2: =+BASE!E2 -> CSAVENCIA | E2: =+BASE!F2 -> 2016/00755 | F2: =+BASE!G2 -> SAVENCIA FROMAGE & DAIRY FOOD SERVICE - A0 | G2: =+BASE!H2 -> 0 | H2: =+BASE!I2 -> 2400
A3: =+BASE!K2 -> 1 | B3: =+BASE!L2 -> 42705 | C3: =+BASE!M2 -> VE | D3: =+BASE!N2 -> 706200000 | E3: =+BASE!O2 -> 2016/00755 | F3: =+BASE!P2 -> SAVENCIA FROMAGE & DAIRY FOOD SERVICE - A0 | G3: =+BASE!Q2 -> 0 | H3: =+BASE!R2 -> 0
A4: =+BASE!K2 -> 1 | B4: =+BASE!L2 -> 42705 | C4: =+BASE!M2 -> VE | D4: =+BASE!N2 -> 706200000 | E4: =+BASE!O2 -> 2016/00755 | F4: =+BASE!P2 -> SAVENCIA FROMAGE & DAIRY FOOD SERVICE - A0 | G4: =+BASE!Q2 -> 0 | H4: =+BASE!R2 -> 0
A5: =+BASE!AC2 -> 1 | B5: =+BASE!AD2 -> 42705 | C5: =+BASE!AE2 -> VE | D5: =+BASE!AF2 -> 706200000 | E5: =+BASE!AG2 -> 2016/00755 | F5: =+BASE!AH2 -> SAVENCIA FROMAGE & DAIRY FOOD SERVICE - A0 | G5: =+BASE!AI2 -> 2000 | H5: =+BASE!AJ2 -> 0
A6: =+BASE!AL2 -> 1 | B6: =+BASE!AM2 -> 42705 | C6: =+BASE!AN2 -> VE | D6: =+BASE!AO2 -> 44571000 | E6: =+BASE!AP2 -> 2016/00755 | F6: =+BASE!AQ2 -> SAVENCIA FROMAGE & DAIRY FOOD SERVICE - A0 | G6: =+BASE!AR2 -> 400 | H6: =+BASE!AS2 -> 0
A7: =+BASE!B7 -> 6 | B7: =+BASE!C7 -> 42705 | C7: =+BASE!D7 -> VE | D7: =+BASE!E7 -> CDMEA | E7: =+BASE!F7 -> 2016/00760 | F7: =+BASE!G7 -> ADMEA - A0 | G7: =+BASE!H7 -> 0 | H7: =+BASE!I7 -> 366 | I7: Quand je decends la formule, il passe de chrono 1 à chrono 6 directement, je voudrais avoir chrono 2, 3, 4 dans lordre…
A8: =+BASE!K7 -> 6 | B8: =+BASE!L7 -> 42705 | C8: =+BASE!M7 -> VE | D8: =+BASE!N7 -> 706200000 | E8: =+BASE!O7 -> 2016/00760 | F8: =+BASE!P7 -> ADMEA - A0 | G8: =+BASE!Q7 -> 0 | H8: =+BASE!R7 -> 0 | I8: * il y a toujours 5 lignes par bloc chronologique.
A9: =+BASE!K7 -> 6 | B9: =+BASE!L7 -> 42705 | C9: =+BASE!M7 -> VE | D9: =+BASE!N7 -> 706200000 | E9: =+BASE!O7 -> 2016/00760 | F9: =+BASE!P7 -> ADMEA - A0 | G9: =+BASE!Q7 -> 0 | H9: =+BASE!R7 -> 0
A10: =+BASE!AC7 -> 6 | B10: =+BASE!AD7 -> 42705 | C10: =+BASE!AE7 -> VE | D10: =+BASE!AF7 -> 706200000 | E10: =+BASE!AG7 -> 2016/00760 | F10: =+BASE!AH7 -> ADMEA - A0 | G10: =+BASE!AI7 -> 305 | H10: =+BASE!AJ7 -> 0
A11: =+BASE!AL7 -> 6 | B11: =+BASE!AM7 -> 42705 | C11: =+BASE!AN7 -> VE | D11: =+BASE!AO7 -> 44571000 | E11: =+BASE!AP7 -> 2016/00760 | F11: =+BASE!AQ7 -> ADMEA - A0 | G11: =+BASE!AR7 -> 61 | H11: =+BASE!AS7 -> 0
A12: =+BASE!B12 -> 11 | B12: =+BASE!C12 -> 42710 | C12: =+BASE!D12 -> VE | D12: =+BASE!E12 -> CDEFTA | E12: =+BASE!F12 -> 2016/00765 | F12: =+BASE!G12 -> DEFTA SERVICES - A0 | G12: =+BASE!H12 -> 2160 | H12: =+BASE!I12 -> 0
A13: =+BASE!K12 -> 11 | B13: =+BASE!L12 -> 42710 | C13: =+BASE!M12 -> VE | D13: =+BASE!N12 -> 706200000 | E13: =+BASE!O12 -> 2016/00765 | F13: =+BASE!P12 -> DEFTA SERVICES - A0 | G13: =+BASE!Q12 -> 0 | H13: =+BASE!R12 -> 0
A14: =+BASE!K12 -> 11 | B14: =+BASE!L12 -> 42710 | C14: =+BASE!M12 -> VE | D14: =+BASE!N12 -> 706200000 | E14: =+BASE!O12 -> 2016/00765 | F14: =+BASE!P12 -> DEFTA SERVICES - A0 | G14: =+BASE!Q12 -> 0 | H14: =+BASE!R12 -> 0
A15: =+BASE!AC12 -> 11 | B15: =+BASE!AD12 -> 42710 | C15: =+BASE!AE12 -> VE | D15: =+BASE!AF12 -> 706200000 | E15: =+BASE!AG12 -> 2016/00765 | F15: =+BASE!AH12 -> DEFTA SERVICES - A0 | G15: =+BASE!AI12 -> 0 | H15: =+BASE!AJ12 -> 1800
A16: =+BASE!AL12 -> 11 | B16: =+BASE!AM12 -> 42710 | C16: =+BASE!AN12 -> VE | D16: =+BASE!AO12 -> 44571000 | E16: =+BASE!AP12 -> 2016/00765 | F16: =+BASE!AQ12 -> DEFTA SERVICES - A0 | G16: =+BASE!AR12 -> 0 | H16: =+BASE!AS12 -> 360
A17: =+BASE!B17 -> 16 | B17: =+BASE!C17 -> 42712 | C17: =+BASE!D17 -> VE | D17: =+BASE!E17 -> CLAROTON | E17: =+BASE!F17 -> 2016/00770 | F17: =+BASE!G17 -> La Rotonde de la Muette - A1 | G17: =+BASE!H17 -> 1236 | H17: =+BASE!I17 -> 0
A18: =+BASE!K17 -> 16 | B18: =+BASE!L17 -> 42712 | C18: =+BASE!M17 -> VE | D18: =+BASE!N17 -> 706000000 | E18: =+BASE!O17 -> 2016/00770 | F18: =+BASE!P17 -> La Rotonde de la Muette - A1 | G18: =+BASE!Q17 -> 0 | H18: =+BASE!R17 -> 240
A19: =+BASE!K17 -> 16 | B19: =+BASE!L17 -> 42712 | C19: =+BASE!M17 -> VE | D19: =+BASE!N17 -> 706000000 | E19: =+BASE!O17 -> 2016/00770 | F19: =+BASE!P17 -> La Rotonde de la Muette - A1 | G19: =+BASE!Q17 -> 0 | H19: =+BASE!R17 -> 240
A20: =+BASE!AC17 -> 16 | B20: =+BASE!AD17 -> 42712 | C20: =+BASE!AE17 -> VE | D20: =+BASE!AF17 -> 706200000 | E20: =+BASE!AG17 -> 2016/00770 | F20: =+BASE!AH17 -> La Rotonde de la Muette - A1 | G20: =+BASE!AI17 -> 0 | H20: =+BASE!AJ17 -> 0
A21: =+BASE!AL17 -> 16 | B21: =+BASE!AM17 -> 42712 | C21: =+BASE!AN17 -> VE | D21: =+BASE!AO17 -> 44571000 | E21: =+BASE!AP17 -> 2016/00770 | F21: =+BASE!AQ17 -> La Rotonde de la Muette - A1 | G21: =+BASE!AR17 -> 0 | H21: =+BASE!AS17 -> 206
A22: =+BASE!B22 -> 21 | B22: =+BASE!C22 -> 42717 | C22: =+BASE!D22 -> VE | D22: =+BASE!E22 -> C10017900 | E22: =+BASE!F22 -> 2016/00775 | F22: =+BASE!G22 -> Le Colombier - A5 | G22: =+BASE!H22 -> 960 | H22: =+BASE!I22 -> 0
A23: =+BASE!K22 -> 21 | B23: =+BASE!L22 -> 42717 | C23: =+BASE!M22 -> VE | D23: =+BASE!N22 -> 706111100 | E23: =+BASE!O22 -> 2016/00775 | F23: =+BASE!P22 -> Le Colombier - A5 | G23: =+BASE!Q22 -> 0 | H23: =+BASE!R22 -> 800
A24: =+BASE!K22 -> 21 | B24: =+BASE!L22 -> 42717 | C24: =+BASE!M22 -> VE | D24: =+BASE!N22 -> 706111100 | E24: =+BASE!O22 -> 2016/00775 | F24: =+BASE!P22 -> Le Colombier - A5 | G24: =+BASE!Q22 -> 0 | H24: =+BASE!R22 -> 800
A25: =+BASE!AC22 -> 21 | B25: =+BASE!AD22 -> 42717 | C25: =+BASE!AE22 -> VE | D25: =+BASE!AF22 -> 706200000 | E25: =+BASE!AG22 -> 2016/00775 | F25: =+BASE!AH22 -> Le Colombier - A5 | G25: =+BASE!AI22 -> 0 | H25: =+BASE!AJ22 -> 0
A26: =+BASE!AL22 -> 21 | B26: =+BASE!AM22 -> 42717 | C26: =+BASE!AN22 -> VE | D26: =+BASE!AO22 -> 44571000 | E26: =+BASE!AP22 -> 2016/00775 | F26: =+BASE!AQ22 -> Le Colombier - A5 | G26: =+BASE!AR22 -> 0 | H26: =+BASE!AS22 -> 160
A27: =+BASE!B27 -> 26 | B27: =+BASE!C27 -> 42717 | C27: =+BASE!D27 -> VE | D27: =+BASE!E27 -> CLEMOULI | E27: =+BASE!F27 -> 2016/00780 | F27: =+BASE!G27 -> sarl REXPLOITATION (Le moulin du Roy + Atlantique) - A2 | G27: =+BASE!H27 -> 1987.2 | H27: =+BASE!I27 -> 0
A28: =+BASE!K27 -> 26 | B28: =+BASE!L27 -> 42717 | C28: =+BASE!M27 -> VE | D28: =+BASE!N27 -> 706100000 | E28: =+BASE!O27 -> 2016/00780 | F28: =+BASE!P27 -> sarl REXPLOITATION (Le moulin du Roy + Atlantique) - A2 | G28: =+BASE!Q27 -> 0 | H28: =+BASE!R27 -> 1656
A29: =+BASE!K27 -> 26 | B29: =+BASE!L27 -> 42717 | C29: =+BASE!M27 -> VE | D29: =+BASE!N27 -> 706100000 | E29: =+BASE!O27 -> 2016/00780 | F29: =+BASE!P27 -> sarl REXPLOITATION (Le moulin du Roy + Atlantique) - A2 | G29: =+BASE!Q27 -> 0 | H29: =+BASE!R27 -> 1656
A30: =+BASE!AC27 -> 26 | B30: =+BASE!AD27 -> 42717 | C30: =+BASE!AE27 -> VE | D30: =+BASE!AF27 -> 706200000 | E30: =+BASE!AG27 -> 2016/00780 | F30: =+BASE!AH27 -> sarl REXPLOITATION (Le moulin du Roy + Atlantique) - A2 | G30: =+BASE!AI27 -> 0 | H30: =+BASE!AJ27 -> 0
A31: =+BASE!AL27 -> 26 | B31: =+BASE!AM27 -> 42717 | C31: =+BASE!AN27 -> VE | D31: =+BASE!AO27 -> 44571000 | E31: =+BASE!AP27 -> 2016/00780 | F31: =+BASE!AQ27 -> sarl REXPLOITATION (Le moulin du Roy + Atlantique) - A2 | G31: =+BASE!AR27 -> 0 | H31: =+BASE!AS27 -> 331.2
A32: =+BASE!B32 -> 31 | B32: =+BASE!C32 -> 42719 | C32: =+BASE!D32 -> VE | D32: =+BASE!E32 -> C30029100 | E32: =+BASE!F32 -> 2016/00785 | F32: =+BASE!G32 -> Le Chiberta - A6 | G32: =+BASE!H32 -> 792 | H32: =+BASE!I32 -> 0
A33: =+BASE!K32 -> 31 | B33: =+BASE!L32 -> 42719 | C33: =+BASE!M32 -> VE | D33: =+BASE!N32 -> 706111110 | E33: =+BASE!O32 -> 2016/00785 | F33: =+BASE!P32 -> Le Chiberta - A6 | G33: =+BASE!Q32 -> 0 | H33: =+BASE!R32 -> 660
A34: =+BASE!K32 -> 31 | B34: =+BASE!L32 -> 42719 | C34: =+BASE!M32 -> VE | D34: =+BASE!N32 -> 706111110 | E34: =+BASE!O32 -> 2016/00785 | F34: =+BASE!P32 -> Le Chiberta - A6 | G34: =+BASE!Q32 -> 0 | H34: =+BASE!R32 -> 660
A35: =+BASE!AC32 -> 31 | B35: =+BASE!AD32 -> 42719 | C35: =+BASE!AE32 -> VE | D35: =+BASE!AF32 -> 706200000 | E35: =+BASE!AG32 -> 2016/00785 | F35: =+BASE!AH32 -> Le Chiberta - A6 | G35: =+BASE!AI32 -> 0 | H35: =+BASE!AJ32 -> 0
A36: =+BASE!AL32 -> 31 | B36: =+BASE!AM32 -> 42719 | C36: =+BASE!AN32 -> VE | D36: =+BASE!AO32 -> 44571000 | E36: =+BASE!AP32 -> 2016/00785 | F36: =+BASE!AQ32 -> Le Chiberta - A6 | G36: =+BASE!AR32 -> 0 | H36: =+BASE!AS32 -> 132
A37: =+BASE!B37 -> 36 | B37: =+BASE!C37 -> 42719 | C37: =+BASE!D37 -> VE | D37: =+BASE!E37 -> C20014100 | E37: =+BASE!F37 -> 2016/00790 | F37: =+BASE!G37 -> LABEL COTE - A4 | G37: =+BASE!H37 -> 993.6 | H37: =+BASE!I37 -> 0
A38: =+BASE!K37 -> 36 | B38: =+BASE!L37 -> 42719 | C38: =+BASE!M37 -> VE | D38: =+BASE!N37 -> 706111000 | E38: =+BASE!O37 -> 2016/00790 | F38: =+BASE!P37 -> LABEL COTE - A4 | G38: =+BASE!Q37 -> 0 | H38: =+BASE!R37 -> 828
A39: =+BASE!K37 -> 36 | B39: =+BASE!L37 -> 42719 | C39: =+BASE!M37 -> VE | D39: =+BASE!N37 -> 706111000 | E39: =+BASE!O37 -> 2016/00790 | F39: =+BASE!P37 -> LABEL COTE - A4 | G39: =+BASE!Q37 -> 0 | H39: =+BASE!R37 -> 828
A40: =+BASE!AC37 -> 36 | B40: =+BASE!AD37 -> 42719 | C40: =+BASE!AE37 -> VE | D40: =+BASE!AF37 -> 706200000 | E40: =+BASE!AG37 -> 2016/00790 | F40: =+BASE!AH37 -> LABEL COTE - A4 | G40: =+BASE!AI37 -> 0 | H40: =+BASE!AJ37 -> 0
A41: =+BASE!AL37 -> 36 | B41: =+BASE!AM37 -> 42719 | C41: =+BASE!AN37 -> VE | D41: =+BASE!AO37 -> 44571000 | E41: =+BASE!AP37 -> 2016/00790 | F41: =+BASE!AQ37 -> LABEL COTE - A4 | G41: =+BASE!AR37 -> 0 | H41: =+BASE!AS37 -> 165.6
A42: =+BASE!B42 -> 41 | B42: =+BASE!C42 -> 42719 | C42: =+BASE!D42 -> VE | D42: =+BASE!E42 -> CLINATTE | E42: =+BASE!F42 -> 2016/00795 | F42: =+BASE!G42 -> L'INATTENDU - A2 | G42: =+BASE!H42 -> 993.6 | H42: =+BASE!I42 -> 0
A43: =+BASE!K42 -> 41 | B43: =+BASE!L42 -> 42719 | C43: =+BASE!M42 -> VE | D43: =+BASE!N42 -> 706100000 | E43: =+BASE!O42 -> 2016/00795 | F43: =+BASE!P42 -> L'INATTENDU - A2 | G43: =+BASE!Q42 -> 0 | H43: =+BASE!R42 -> 828
A44: =+BASE!K42 -> 41 | B44: =+BASE!L42 -> 42719 | C44: =+BASE!M42 -> VE | D44: =+BASE!N42 -> 706100000 | E44: =+BASE!O42 -> 2016/00795 | F44: =+BASE!P42 -> L'INATTENDU - A2 | G44: =+BASE!Q42 -> 0 | H44: =+BASE!R42 -> 828
A45: =+BASE!AC42 -> 41 | B45: =+BASE!AD42 -> 42719 | C45: =+BASE!AE42 -> VE | D45: =+BASE!AF42 -> 706200000 | E45: =+BASE!AG42 -> 2016/00795 | F45: =+BASE!AH42 -> L'INATTENDU - A2 | G45: =+BASE!AI42 -> 0 | H45: =+BASE!AJ42 -> 0
A46: =+BASE!AL42 -> 41 | B46: =+BASE!AM42 -> 42719 | C46: =+BASE!AN42 -> VE | D46: =+BASE!AO42 -> 44571000 | E46: =+BASE!AP42 -> 2016/00795 | F46: =+BASE!AQ42 -> L'INATTENDU - A2 | G46: =+BASE!AR42 -> 0 | H46: =+BASE!AS42 -> 165.6
A47: =+BASE!B47 -> 46 | B47: =+BASE!C47 -> 42720 | C47: =+BASE!D47 -> VE | D47: =+BASE!E47 -> C24053000 | E47: =+BASE!F47 -> 2016/00800 | F47: =+BASE!G47 -> Nestlé Waters (Le Brasserie Cabries) - A1 | G47: =+BASE!H47 -> 984 | H47: =+BASE!I47 -> 0
A48: =+BASE!K47 -> 46 | B48: =+BASE!L47 -> 42720 | C48: =+BASE!M47 -> VE | D48: =+BASE!N47 -> 706000000 | E48: =+BASE!O47 -> 2016/00800 | F48: =+BASE!P47 -> Nestlé Waters (Le Brasserie Cabries) - A1 | G48: =+BASE!Q47 -> 0 | H48: =+BASE!R47 -> 820
A49: =+BASE!K47 -> 46 | B49: =+BASE!L47 -> 42720 | C49: =+BASE!M47 -> VE | D49: =+BASE!N47 -> 706000000 | E49: =+BASE!O47 -> 2016/00800 | F49: =+BASE!P47 -> Nestlé Waters (Le Brasserie Cabries) - A1 | G49: =+BASE!Q47 -> 0 | H49: =+BASE!R47 -> 820
A50: =+BASE!AC47 -> 46 | B50: =+BASE!AD47 -> 42720 | C50: =+BASE!AE47 -> VE | D50: =+BASE!AF47 -> 706200000 | E50: =+BASE!AG47 -> 2016/00800 | F50: =+BASE!AH47 -> Nestlé Waters (Le Brasserie Cabries) - A1 | G50: =+BASE!AI47 -> 0 | H50: =+BASE!AJ47 -> 0
A51: =+BASE!AL47 -> 46 | B51: =+BASE!AM47 -> 42720 | C51: =+BASE!AN47 -> VE | D51: =+BASE!AO47 -> 44571000 | E51: =+BASE!AP47 -> 2016/00800 | F51: =+BASE!AQ47 -> Nestlé Waters (Le Brasserie Cabries) - A1 | G51: =+BASE!AR47 -> 0 | H51: =+BASE!AS47 -> 164
A52: =+BASE!B52 -> 51 | B52: =+BASE!C52 -> 42720 | C52: =+BASE!D52 -> VE | D52: =+BASE!E52 -> C50050000 | E52: =+BASE!F52 -> 2016/00805 | F52: =+BASE!G52 -> L'Empire du 8ème - A7 | G52: =+BASE!H52 -> 993.6 | H52: =+BASE!I52 -> 0
A53: =+BASE!K52 -> 51 | B53: =+BASE!L52 -> 42720 | C53: =+BASE!M52 -> VE | D53: =+BASE!N52 -> 706111120 | E53: =+BASE!O52 -> 2016/00805 | F53: =+BASE!P52 -> L'Empire du 8ème - A7 | G53: =+BASE!Q52 -> 0 | H53: =+BASE!R52 -> 828
A54: =+BASE!K52 -> 51 | B54: =+BASE!L52 -> 42720 | C54: =+BASE!M52 -> VE | D54: =+BASE!N52 -> 706111120 | E54: =+BASE!O52 -> 2016/00805 | F54: =+BASE!P52 -> L'Empire du 8ème - A7 | G54: =+BASE!Q52 -> 0 | H54: =+BASE!R52 -> 828
A55: =+BASE!AC52 -> 51 | B55: =+BASE!AD52 -> 42720 | C55: =+BASE!AE52 -> VE | D55: =+BASE!AF52 -> 706200000 | E55: =+BASE!AG52 -> 2016/00805 | F55: =+BASE!AH52 -> L'Empire du 8ème - A7 | G55: =+BASE!AI52 -> 0 | H55: =+BASE!AJ52 -> 0
A56: =+BASE!AL52 -> 51 | B56: =+BASE!AM52 -> 42720 | C56: =+BASE!AN52 -> VE | D56: =+BASE!AO52 -> 44571000 | E56: =+BASE!AP52 -> 2016/00805 | F56: =+BASE!AQ52 -> L'Empire du 8ème - A7 | G56: =+BASE!AR52 -> 0 | H56: =+BASE!AS52 -> 165.6
A57: =+BASE!B57 -> 56 | B57: =+BASE!C57 -> 42720 | C57: =+BASE!D57 -> VE | D57: =+BASE!E57 -> C70092100 | E57: =+BASE!F57 -> 2016/00810 | F57: =+BASE!G57 -> Gault Millau - A0 | G57: =+BASE!H57 -> 1428 | H57: =+BASE!I57 -> 0
A58: =+BASE!K57 -> 56 | B58: =+BASE!L57 -> 42720 | C58: =+BASE!M57 -> VE | D58: =+BASE!N57 -> 706200000 | E58: =+BASE!O57 -> 2016/00810 | F58: =+BASE!P57 -> Gault Millau - A0 | G58: =+BASE!Q57 -> 0 | H58: =+BASE!R57 -> 0
A59: =+BASE!K57 -> 56 | B59: =+BASE!L57 -> 42720 | C59: =+BASE!M57 -> VE | D59: =+BASE!N57 -> 706200000 | E59: =+BASE!O57 -> 2016/00810 | F59: =+BASE!P57 -> Gault Millau - A0 | G59: =+BASE!Q57 -> 0 | H59: =+BASE!R57 -> 0
A60: =+BASE!AC57 -> 56 | B60: =+BASE!AD57 -> 42720 | C60: =+BASE!AE57 -> VE | D60: =+BASE!AF57 -> 706200000 | E60: =+BASE!AG57 -> 2016/00810 | F60: =+BASE!AH57 -> Gault Millau - A0 | G60: =+BASE!AI57 -> 0 | H60: =+BASE!AJ57 -> 1190
A61: =+BASE!AL57 -> 56 | B61: =+BASE!AM57 -> 42720 | C61: =+BASE!AN57 -> VE | D61: =+BASE!AO57 -> 44571000 | E61: =+BASE!AP57 -> 2016/00810 | F61: =+BASE!AQ57 -> Gault Millau - A0 | G61: =+BASE!AR57 -> 0 | H61: =+BASE!AS57 -> 238
