Workbook

Sheet Feuil1
A3: Nombre de Nom du Visiteur | B3: Date
A4: Heure | B4: 43313 | C4: 43314 | D4: Total général
A5: (vide)
A6: 08 | B6: 1 | C6: 1 | D6: 2
A7: 09 | B7: 1 | C7: 1 | D7: 2
A8: Total général | B8: 2 | C8: 2 | D8: 4

Sheet visiteurs
A1: Date | B1: Heure | C1: Nom du Visiteur | D1: Société visitée | E1: Personne visitée | F1: Remarques
A2: 43313
A3: 43313 | B3: 0.37222222 | C3: M A | D3: STE B | E3: MME C
A4: 43313 | B4: 0.39097222 | C4: M D | D4: STE E | E4: M F
A5: 43314
A6: 43314 | B6: 0.36458333 | C6: M S | D6: STE H | E6: MME K
A7: 43314 | B7: 0.39722222 | C7: M F | D7: STE G | E7: MME N

Sheet STATS
A1: 43313 | B1: =A1 -> 43313 | C1: =IF(MONTH(B1+1)=MONTH($A$1),B1+1,"") -> 43314 | D1: =IF(MONTH(C1+1)=MONTH($A$1),C1+1,"") -> 43315 | E1: =IF(MONTH(D1+1)=MONTH($A$1),D1+1,"") -> 43316 | F1: =IF(MONTH(E1+1)=MONTH($A$1),E1+1,"") -> 43317 | G1: =IF(MONTH(F1+1)=MONTH($A$1),F1+1,"") -> 43318 | H1: =IF(MONTH(G1+1)=MONTH($A$1),G1+1,"") -> 43319 | I1: =IF(MONTH(H1+1)=MONTH($A$1),H1+1,"") -> 43320 | J1: =IF(MONTH(I1+1)=MONTH($A$1),I1+1,"") -> 43321 | ... AF1: =IF(MONTH(AE1+1)=MONTH($A$1),AE1+1,"") -> 43343 | AG1: TOTAL
A2: 8 | B2: =IF(OR(WEEKDAY(B$1,2)=6,WEEKDAY(B$1,2)=7),"WE",COUNTIFS(visiteurs!$A$2:$A$10000,STATS!B$1,visiteurs!$B$2:$B$10000,">="&STATS!$A2/24,visiteurs!$B$2:$B$10000,"<"&(STATS!$A2+1)/24)) -> 1 | C2: =IF(OR(WEEKDAY(C$1,2)=6,WEEKDAY(C$1,2)=7),"WE",COUNTIFS(visiteurs!$A$2:$A$10000,STATS!C$1,visiteurs!$B$2:$B$10000,">="&STATS!$A2/24,visiteurs!$B$2:$B$10000,"<"&(STATS!$A2+1)/24)) -> 1 | D2: =IF(OR(WEEKDAY(D$1,2)=6,WEEKDAY(D$1,2)=7),"WE",COUNTIFS(visiteurs!$A$2:$A$10000,STATS!D$1,visiteurs!$B$2:$B$10000,">="&STATS!$A2/24,visiteurs!$B$2:$B$10000,"<"&(STATS!$A2+1)/24)) -> 0 | E2: =IF(OR(WEEKDAY(E$1,2)=6,WEEKDAY(E$1,2)=7),"WE",COUNTIFS(visiteurs!$A$2:$A$10000,STATS!E$1,visiteurs!$B$2:$B$10000,">="&STATS!$A2/24,visiteurs!$B$2:$B$10000,"<"&(STATS!$A2+1)/24)) -> WE | F2: =IF(OR(WEEKDAY(F$1,2)=6,WEEKDAY(F$1,2)=7),"WE",COUNTIFS(visiteurs!$A$2:$A$10000,STATS!F$1,visiteurs!$B$2:$B$10000,">="&STATS!$A2/24,visiteurs!$B$2:$B$10000,"<"&(STATS!$A2+1)/24)) -> WE | G2: =IF(OR(WEEKDAY(G$1,2)=6,WEEKDAY(G$1,2)=7),"WE",COUNTIFS(visiteurs!$A$2:$A$10000,STATS!G$1,visiteurs!$B$2:$B$10000,">="&STATS!$A2/24,visiteurs!$B$2:$B$10000,"<"&(STATS!$A2+1)/24)) -> 0 | H2: =IF(OR(WEEKDAY(H$1,2)=6,WEEKDAY(H$1,2)=7),"WE",COUNTIFS(visiteurs!$A$2:$A$10000,STATS!H$1,visiteurs!$B$2:$B$10000,">="&STATS!$A2/24,visiteurs!$B$2:$B$10000,"<"&(STATS!$A2+1)/24)) -> 0 | I2: =IF(OR(WEEKDAY(I$1,2)=6,WEEKDAY(I$1,2)=7),"WE",COUNTIFS(visiteurs!$A$2:$A$10000,STATS!I$1,visiteurs!$B$2:$B$10000,">="&STATS!$A2/24,visiteurs!$B$2:$B$10000,"<"&(STATS!$A2+1)/24)) -> 0 | ... AF2: =IF(OR(WEEKDAY(AF$1,2)=6,WEEKDAY(AF$1,2)=7),"WE",COUNTIFS(visiteurs!$A$2:$A$10000,STATS!AF$1,visiteurs!$B$2:$B$10000,">="&STATS!$A2/24,visiteurs!$B$2:$B$10000,"<"&(STATS!$A2+1)/24)) -> 0 | AG2: =SUM(B2:AF2) -> 2
A3: 9 | B3: =IF(OR(WEEKDAY(B$1,2)=6,WEEKDAY(B$1,2)=7),"WE",COUNTIFS(visiteurs!$A$2:$A$10000,STATS!B$1,visiteurs!$B$2:$B$10000,">="&STATS!$A3/24,visiteurs!$B$2:$B$10000,"<"&(STATS!$A3+1)/24)) -> 1 | C3: =IF(OR(WEEKDAY(C$1,2)=6,WEEKDAY(C$1,2)=7),"WE",COUNTIFS(visiteurs!$A$2:$A$10000,STATS!C$1,visiteurs!$B$2:$B$10000,">="&STATS!$A3/24,visiteurs!$B$2:$B$10000,"<"&(STATS!$A3+1)/24)) -> 1 | D3: =IF(OR(WEEKDAY(D$1,2)=6,WEEKDAY(D$1,2)=7),"WE",COUNTIFS(visiteurs!$A$2:$A$10000,STATS!D$1,visiteurs!$B$2:$B$10000,">="&STATS!$A3/24,visiteurs!$B$2:$B$10000,"<"&(STATS!$A3+1)/24)) -> 0 | E3: =IF(OR(WEEKDAY(E$1,2)=6,WEEKDAY(E$1,2)=7),"WE",COUNTIFS(visiteurs!$A$2:$A$10000,STATS!E$1,visiteurs!$B$2:$B$10000,">="&STATS!$A3/24,visiteurs!$B$2:$B$10000,"<"&(STATS!$A3+1)/24)) -> WE | F3: =IF(OR(WEEKDAY(F$1,2)=6,WEEKDAY(F$1,2)=7),"WE",COUNTIFS(visiteurs!$A$2:$A$10000,STATS!F$1,visiteurs!$B$2:$B$10000,">="&STATS!$A3/24,visiteurs!$B$2:$B$10000,"<"&(STATS!$A3+1)/24)) -> WE | G3: =IF(OR(WEEKDAY(G$1,2)=6,WEEKDAY(G$1,2)=7),"WE",COUNTIFS(visiteurs!$A$2:$A$10000,STATS!G$1,visiteurs!$B$2:$B$10000,">="&STATS!$A3/24,visiteurs!$B$2:$B$10000,"<"&(STATS!$A3+1)/24)) -> 0 | H3: =IF(OR(WEEKDAY(H$1,2)=6,WEEKDAY(H$1,2)=7),"WE",COUNTIFS(visiteurs!$A$2:$A$10000,STATS!H$1,visiteurs!$B$2:$B$10000,">="&STATS!$A3/24,visiteurs!$B$2:$B$10000,"<"&(STATS!$A3+1)/24)) -> 0 | I3: =IF(OR(WEEKDAY(I$1,2)=6,WEEKDAY(I$1,2)=7),"WE",COUNTIFS(visiteurs!$A$2:$A$10000,STATS!I$1,visiteurs!$B$2:$B$10000,">="&STATS!$A3/24,visiteurs!$B$2:$B$10000,"<"&(STATS!$A3+1)/24)) -> 0 | ... AF3: =IF(OR(WEEKDAY(AF$1,2)=6,WEEKDAY(AF$1,2)=7),"WE",COUNTIFS(visiteurs!$A$2:$A$10000,STATS!AF$1,visiteurs!$B$2:$B$10000,">="&STATS!$A3/24,visiteurs!$B$2:$B$10000,"<"&(STATS!$A3+1)/24)) -> 0 | AG3: =SUM(B3:AF3) -> 2
A4: 10 | B4: =IF(OR(WEEKDAY(B$1,2)=6,WEEKDAY(B$1,2)=7),"WE",COUNTIFS(visiteurs!$A$2:$A$10000,STATS!B$1,visiteurs!$B$2:$B$10000,">="&STATS!$A4/24,visiteurs!$B$2:$B$10000,"<"&(STATS!$A4+1)/24)) -> 0 | C4: =IF(OR(WEEKDAY(C$1,2)=6,WEEKDAY(C$1,2)=7),"WE",COUNTIFS(visiteurs!$A$2:$A$10000,STATS!C$1,visiteurs!$B$2:$B$10000,">="&STATS!$A4/24,visiteurs!$B$2:$B$10000,"<"&(STATS!$A4+1)/24)) -> 0 | D4: =IF(OR(WEEKDAY(D$1,2)=6,WEEKDAY(D$1,2)=7),"WE",COUNTIFS(visiteurs!$A$2:$A$10000,STATS!D$1,visiteurs!$B$2:$B$10000,">="&STATS!$A4/24,visiteurs!$B$2:$B$10000,"<"&(STATS!$A4+1)/24)) -> 0 | E4: =IF(OR(WEEKDAY(E$1,2)=6,WEEKDAY(E$1,2)=7),"WE",COUNTIFS(visiteurs!$A$2:$A$10000,STATS!E$1,visiteurs!$B$2:$B$10000,">="&STATS!$A4/24,visiteurs!$B$2:$B$10000,"<"&(STATS!$A4+1)/24)) -> WE | F4: =IF(OR(WEEKDAY(F$1,2)=6,WEEKDAY(F$1,2)=7),"WE",COUNTIFS(visiteurs!$A$2:$A$10000,STATS!F$1,visiteurs!$B$2:$B$10000,">="&STATS!$A4/24,visiteurs!$B$2:$B$10000,"<"&(STATS!$A4+1)/24)) -> WE | G4: =IF(OR(WEEKDAY(G$1,2)=6,WEEKDAY(G$1,2)=7),"WE",COUNTIFS(visiteurs!$A$2:$A$10000,STATS!G$1,visiteurs!$B$2:$B$10000,">="&STATS!$A4/24,visiteurs!$B$2:$B$10000,"<"&(STATS!$A4+1)/24)) -> 0 | H4: =IF(OR(WEEKDAY(H$1,2)=6,WEEKDAY(H$1,2)=7),"WE",COUNTIFS(visiteurs!$A$2:$A$10000,STATS!H$1,visiteurs!$B$2:$B$10000,">="&STATS!$A4/24,visiteurs!$B$2:$B$10000,"<"&(STATS!$A4+1)/24)) -> 0 | I4: =IF(OR(WEEKDAY(I$1,2)=6,WEEKDAY(I$1,2)=7),"WE",COUNTIFS(visiteurs!$A$2:$A$10000,STATS!I$1,visiteurs!$B$2:$B$10000,">="&STATS!$A4/24,visiteurs!$B$2:$B$10000,"<"&(STATS!$A4+1)/24)) -> 0 | ... AF4: =IF(OR(WEEKDAY(AF$1,2)=6,WEEKDAY(AF$1,2)=7),"WE",COUNTIFS(visiteurs!$A$2:$A$10000,STATS!AF$1,visiteurs!$B$2:$B$10000,">="&STATS!$A4/24,visiteurs!$B$2:$B$10000,"<"&(STATS!$A4+1)/24)) -> 0 | AG4: =SUM(B4:AF4) -> 0
A5: 11 | B5: =IF(OR(WEEKDAY(B$1,2)=6,WEEKDAY(B$1,2)=7),"WE",COUNTIFS(visiteurs!$A$2:$A$10000,STATS!B$1,visiteurs!$B$2:$B$10000,">="&STATS!$A5/24,visiteurs!$B$2:$B$10000,"<"&(STATS!$A5+1)/24)) -> 0 | C5: =IF(OR(WEEKDAY(C$1,2)=6,WEEKDAY(C$1,2)=7),"WE",COUNTIFS(visiteurs!$A$2:$A$10000,STATS!C$1,visiteurs!$B$2:$B$10000,">="&STATS!$A5/24,visiteurs!$B$2:$B$10000,"<"&(STATS!$A5+1)/24)) -> 0 | D5: =IF(OR(WEEKDAY(D$1,2)=6,WEEKDAY(D$1,2)=7),"WE",COUNTIFS(visiteurs!$A$2:$A$10000,STATS!D$1,visiteurs!$B$2:$B$10000,">="&STATS!$A5/24,visiteurs!$B$2:$B$10000,"<"&(STATS!$A5+1)/24)) -> 0 | E5: =IF(OR(WEEKDAY(E$1,2)=6,WEEKDAY(E$1,2)=7),"WE",COUNTIFS(visiteurs!$A$2:$A$10000,STATS!E$1,visiteurs!$B$2:$B$10000,">="&STATS!$A5/24,visiteurs!$B$2:$B$10000,"<"&(STATS!$A5+1)/24)) -> WE | F5: =IF(OR(WEEKDAY(F$1,2)=6,WEEKDAY(F$1,2)=7),"WE",COUNTIFS(visiteurs!$A$2:$A$10000,STATS!F$1,visiteurs!$B$2:$B$10000,">="&STATS!$A5/24,visiteurs!$B$2:$B$10000,"<"&(STATS!$A5+1)/24)) -> WE | G5: =IF(OR(WEEKDAY(G$1,2)=6,WEEKDAY(G$1,2)=7),"WE",COUNTIFS(visiteurs!$A$2:$A$10000,STATS!G$1,visiteurs!$B$2:$B$10000,">="&STATS!$A5/24,visiteurs!$B$2:$B$10000,"<"&(STATS!$A5+1)/24)) -> 0 | H5: =IF(OR(WEEKDAY(H$1,2)=6,WEEKDAY(H$1,2)=7),"WE",COUNTIFS(visiteurs!$A$2:$A$10000,STATS!H$1,visiteurs!$B$2:$B$10000,">="&STATS!$A5/24,visiteurs!$B$2:$B$10000,"<"&(STATS!$A5+1)/24)) -> 0 | I5: =IF(OR(WEEKDAY(I$1,2)=6,WEEKDAY(I$1,2)=7),"WE",COUNTIFS(visiteurs!$A$2:$A$10000,STATS!I$1,visiteurs!$B$2:$B$10000,">="&STATS!$A5/24,visiteurs!$B$2:$B$10000,"<"&(STATS!$A5+1)/24)) -> 0 | ... AF5: =IF(OR(WEEKDAY(AF$1,2)=6,WEEKDAY(AF$1,2)=7),"WE",COUNTIFS(visiteurs!$A$2:$A$10000,STATS!AF$1,visiteurs!$B$2:$B$10000,">="&STATS!$A5/24,visiteurs!$B$2:$B$10000,"<"&(STATS!$A5+1)/24)) -> 0 | AG5: =SUM(B5:AF5) -> 0
A6: 12 | B6: =IF(OR(WEEKDAY(B$1,2)=6,WEEKDAY(B$1,2)=7),"WE",COUNTIFS(visiteurs!$A$2:$A$10000,STATS!B$1,visiteurs!$B$2:$B$10000,">="&STATS!$A6/24,visiteurs!$B$2:$B$10000,"<"&(STATS!$A6+1)/24)) -> 0 | C6: =IF(OR(WEEKDAY(C$1,2)=6,WEEKDAY(C$1,2)=7),"WE",COUNTIFS(visiteurs!$A$2:$A$10000,STATS!C$1,visiteurs!$B$2:$B$10000,">="&STATS!$A6/24,visiteurs!$B$2:$B$10000,"<"&(STATS!$A6+1)/24)) -> 0 | D6: =IF(OR(WEEKDAY(D$1,2)=6,WEEKDAY(D$1,2)=7),"WE",COUNTIFS(visiteurs!$A$2:$A$10000,STATS!D$1,visiteurs!$B$2:$B$10000,">="&STATS!$A6/24,visiteurs!$B$2:$B$10000,"<"&(STATS!$A6+1)/24)) -> 0 | E6: =IF(OR(WEEKDAY(E$1,2)=6,WEEKDAY(E$1,2)=7),"WE",COUNTIFS(visiteurs!$A$2:$A$10000,STATS!E$1,visiteurs!$B$2:$B$10000,">="&STATS!$A6/24,visiteurs!$B$2:$B$10000,"<"&(STATS!$A6+1)/24)) -> WE | F6: =IF(OR(WEEKDAY(F$1,2)=6,WEEKDAY(F$1,2)=7),"WE",COUNTIFS(visiteurs!$A$2:$A$10000,STATS!F$1,visiteurs!$B$2:$B$10000,">="&STATS!$A6/24,visiteurs!$B$2:$B$10000,"<"&(STATS!$A6+1)/24)) -> WE | G6: =IF(OR(WEEKDAY(G$1,2)=6,WEEKDAY(G$1,2)=7),"WE",COUNTIFS(visiteurs!$A$2:$A$10000,STATS!G$1,visiteurs!$B$2:$B$10000,">="&STATS!$A6/24,visiteurs!$B$2:$B$10000,"<"&(STATS!$A6+1)/24)) -> 0 | H6: =IF(OR(WEEKDAY(H$1,2)=6,WEEKDAY(H$1,2)=7),"WE",COUNTIFS(visiteurs!$A$2:$A$10000,STATS!H$1,visiteurs!$B$2:$B$10000,">="&STATS!$A6/24,visiteurs!$B$2:$B$10000,"<"&(STATS!$A6+1)/24)) -> 0 | I6: =IF(OR(WEEKDAY(I$1,2)=6,WEEKDAY(I$1,2)=7),"WE",COUNTIFS(visiteurs!$A$2:$A$10000,STATS!I$1,visiteurs!$B$2:$B$10000,">="&STATS!$A6/24,visiteurs!$B$2:$B$10000,"<"&(STATS!$A6+1)/24)) -> 0 | ... AF6: =IF(OR(WEEKDAY(AF$1,2)=6,WEEKDAY(AF$1,2)=7),"WE",COUNTIFS(visiteurs!$A$2:$A$10000,STATS!AF$1,visiteurs!$B$2:$B$10000,">="&STATS!$A6/24,visiteurs!$B$2:$B$10000,"<"&(STATS!$A6+1)/24)) -> 0 | AG6: =SUM(B6:AF6) -> 0
A7: 13 | B7: =IF(OR(WEEKDAY(B$1,2)=6,WEEKDAY(B$1,2)=7),"WE",COUNTIFS(visiteurs!$A$2:$A$10000,STATS!B$1,visiteurs!$B$2:$B$10000,">="&STATS!$A7/24,visiteurs!$B$2:$B$10000,"<"&(STATS!$A7+1)/24)) -> 0 | C7: =IF(OR(WEEKDAY(C$1,2)=6,WEEKDAY(C$1,2)=7),"WE",COUNTIFS(visiteurs!$A$2:$A$10000,STATS!C$1,visiteurs!$B$2:$B$10000,">="&STATS!$A7/24,visiteurs!$B$2:$B$10000,"<"&(STATS!$A7+1)/24)) -> 0 | D7: =IF(OR(WEEKDAY(D$1,2)=6,WEEKDAY(D$1,2)=7),"WE",COUNTIFS(visiteurs!$A$2:$A$10000,STATS!D$1,visiteurs!$B$2:$B$10000,">="&STATS!$A7/24,visiteurs!$B$2:$B$10000,"<"&(STATS!$A7+1)/24)) -> 0 | E7: =IF(OR(WEEKDAY(E$1,2)=6,WEEKDAY(E$1,2)=7),"WE",COUNTIFS(visiteurs!$A$2:$A$10000,STATS!E$1,visiteurs!$B$2:$B$10000,">="&STATS!$A7/24,visiteurs!$B$2:$B$10000,"<"&(STATS!$A7+1)/24)) -> WE | F7: =IF(OR(WEEKDAY(F$1,2)=6,WEEKDAY(F$1,2)=7),"WE",COUNTIFS(visiteurs!$A$2:$A$10000,STATS!F$1,visiteurs!$B$2:$B$10000,">="&STATS!$A7/24,visiteurs!$B$2:$B$10000,"<"&(STATS!$A7+1)/24)) -> WE | G7: =IF(OR(WEEKDAY(G$1,2)=6,WEEKDAY(G$1,2)=7),"WE",COUNTIFS(visiteurs!$A$2:$A$10000,STATS!G$1,visiteurs!$B$2:$B$10000,">="&STATS!$A7/24,visiteurs!$B$2:$B$10000,"<"&(STATS!$A7+1)/24)) -> 0 | H7: =IF(OR(WEEKDAY(H$1,2)=6,WEEKDAY(H$1,2)=7),"WE",COUNTIFS(visiteurs!$A$2:$A$10000,STATS!H$1,visiteurs!$B$2:$B$10000,">="&STATS!$A7/24,visiteurs!$B$2:$B$10000,"<"&(STATS!$A7+1)/24)) -> 0 | I7: =IF(OR(WEEKDAY(I$1,2)=6,WEEKDAY(I$1,2)=7),"WE",COUNTIFS(visiteurs!$A$2:$A$10000,STATS!I$1,visiteurs!$B$2:$B$10000,">="&STATS!$A7/24,visiteurs!$B$2:$B$10000,"<"&(STATS!$A7+1)/24)) -> 0 | ... AF7: =IF(OR(WEEKDAY(AF$1,2)=6,WEEKDAY(AF$1,2)=7),"WE",COUNTIFS(visiteurs!$A$2:$A$10000,STATS!AF$1,visiteurs!$B$2:$B$10000,">="&STATS!$A7/24,visiteurs!$B$2:$B$10000,"<"&(STATS!$A7+1)/24)) -> 0 | AG7: =SUM(B7:AF7) -> 0
A8: 14 | B8: =IF(OR(WEEKDAY(B$1,2)=6,WEEKDAY(B$1,2)=7),"WE",COUNTIFS(visiteurs!$A$2:$A$10000,STATS!B$1,visiteurs!$B$2:$B$10000,">="&STATS!$A8/24,visiteurs!$B$2:$B$10000,"<"&(STATS!$A8+1)/24)) -> 0 | C8: =IF(OR(WEEKDAY(C$1,2)=6,WEEKDAY(C$1,2)=7),"WE",COUNTIFS(visiteurs!$A$2:$A$10000,STATS!C$1,visiteurs!$B$2:$B$10000,">="&STATS!$A8/24,visiteurs!$B$2:$B$10000,"<"&(STATS!$A8+1)/24)) -> 0 | D8: =IF(OR(WEEKDAY(D$1,2)=6,WEEKDAY(D$1,2)=7),"WE",COUNTIFS(visiteurs!$A$2:$A$10000,STATS!D$1,visiteurs!$B$2:$B$10000,">="&STATS!$A8/24,visiteurs!$B$2:$B$10000,"<"&(STATS!$A8+1)/24)) -> 0 | E8: =IF(OR(WEEKDAY(E$1,2)=6,WEEKDAY(E$1,2)=7),"WE",COUNTIFS(visiteurs!$A$2:$A$10000,STATS!E$1,visiteurs!$B$2:$B$10000,">="&STATS!$A8/24,visiteurs!$B$2:$B$10000,"<"&(STATS!$A8+1)/24)) -> WE | F8: =IF(OR(WEEKDAY(F$1,2)=6,WEEKDAY(F$1,2)=7),"WE",COUNTIFS(visiteurs!$A$2:$A$10000,STATS!F$1,visiteurs!$B$2:$B$10000,">="&STATS!$A8/24,visiteurs!$B$2:$B$10000,"<"&(STATS!$A8+1)/24)) -> WE | G8: =IF(OR(WEEKDAY(G$1,2)=6,WEEKDAY(G$1,2)=7),"WE",COUNTIFS(visiteurs!$A$2:$A$10000,STATS!G$1,visiteurs!$B$2:$B$10000,">="&STATS!$A8/24,visiteurs!$B$2:$B$10000,"<"&(STATS!$A8+1)/24)) -> 0 | H8: =IF(OR(WEEKDAY(H$1,2)=6,WEEKDAY(H$1,2)=7),"WE",COUNTIFS(visiteurs!$A$2:$A$10000,STATS!H$1,visiteurs!$B$2:$B$10000,">="&STATS!$A8/24,visiteurs!$B$2:$B$10000,"<"&(STATS!$A8+1)/24)) -> 0 | I8: =IF(OR(WEEKDAY(I$1,2)=6,WEEKDAY(I$1,2)=7),"WE",COUNTIFS(visiteurs!$A$2:$A$10000,STATS!I$1,visiteurs!$B$2:$B$10000,">="&STATS!$A8/24,visiteurs!$B$2:$B$10000,"<"&(STATS!$A8+1)/24)) -> 0 | ... AF8: =IF(OR(WEEKDAY(AF$1,2)=6,WEEKDAY(AF$1,2)=7),"WE",COUNTIFS(visiteurs!$A$2:$A$10000,STATS!AF$1,visiteurs!$B$2:$B$10000,">="&STATS!$A8/24,visiteurs!$B$2:$B$10000,"<"&(STATS!$A8+1)/24)) -> 0 | AG8: =SUM(B8:AF8) -> 0
A9: 15 | B9: =IF(OR(WEEKDAY(B$1,2)=6,WEEKDAY(B$1,2)=7),"WE",COUNTIFS(visiteurs!$A$2:$A$10000,STATS!B$1,visiteurs!$B$2:$B$10000,">="&STATS!$A9/24,visiteurs!$B$2:$B$10000,"<"&(STATS!$A9+1)/24)) -> 0 | C9: =IF(OR(WEEKDAY(C$1,2)=6,WEEKDAY(C$1,2)=7),"WE",COUNTIFS(visiteurs!$A$2:$A$10000,STATS!C$1,visiteurs!$B$2:$B$10000,">="&STATS!$A9/24,visiteurs!$B$2:$B$10000,"<"&(STATS!$A9+1)/24)) -> 0 | D9: =IF(OR(WEEKDAY(D$1,2)=6,WEEKDAY(D$1,2)=7),"WE",COUNTIFS(visiteurs!$A$2:$A$10000,STATS!D$1,visiteurs!$B$2:$B$10000,">="&STATS!$A9/24,visiteurs!$B$2:$B$10000,"<"&(STATS!$A9+1)/24)) -> 0 | E9: =IF(OR(WEEKDAY(E$1,2)=6,WEEKDAY(E$1,2)=7),"WE",COUNTIFS(visiteurs!$A$2:$A$10000,STATS!E$1,visiteurs!$B$2:$B$10000,">="&STATS!$A9/24,visiteurs!$B$2:$B$10000,"<"&(STATS!$A9+1)/24)) -> WE | F9: =IF(OR(WEEKDAY(F$1,2)=6,WEEKDAY(F$1,2)=7),"WE",COUNTIFS(visiteurs!$A$2:$A$10000,STATS!F$1,visiteurs!$B$2:$B$10000,">="&STATS!$A9/24,visiteurs!$B$2:$B$10000,"<"&(STATS!$A9+1)/24)) -> WE | G9: =IF(OR(WEEKDAY(G$1,2)=6,WEEKDAY(G$1,2)=7),"WE",COUNTIFS(visiteurs!$A$2:$A$10000,STATS!G$1,visiteurs!$B$2:$B$10000,">="&STATS!$A9/24,visiteurs!$B$2:$B$10000,"<"&(STATS!$A9+1)/24)) -> 0 | H9: =IF(OR(WEEKDAY(H$1,2)=6,WEEKDAY(H$1,2)=7),"WE",COUNTIFS(visiteurs!$A$2:$A$10000,STATS!H$1,visiteurs!$B$2:$B$10000,">="&STATS!$A9/24,visiteurs!$B$2:$B$10000,"<"&(STATS!$A9+1)/24)) -> 0 | I9: =IF(OR(WEEKDAY(I$1,2)=6,WEEKDAY(I$1,2)=7),"WE",COUNTIFS(visiteurs!$A$2:$A$10000,STATS!I$1,visiteurs!$B$2:$B$10000,">="&STATS!$A9/24,visiteurs!$B$2:$B$10000,"<"&(STATS!$A9+1)/24)) -> 0 | ... AF9: =IF(OR(WEEKDAY(AF$1,2)=6,WEEKDAY(AF$1,2)=7),"WE",COUNTIFS(visiteurs!$A$2:$A$10000,STATS!AF$1,visiteurs!$B$2:$B$10000,">="&STATS!$A9/24,visiteurs!$B$2:$B$10000,"<"&(STATS!$A9+1)/24)) -> 0 | AG9: =SUM(B9:AF9) -> 0
A10: 16 | B10: =IF(OR(WEEKDAY(B$1,2)=6,WEEKDAY(B$1,2)=7),"WE",COUNTIFS(visiteurs!$A$2:$A$10000,STATS!B$1,visiteurs!$B$2:$B$10000,">="&STATS!$A10/24,visiteurs!$B$2:$B$10000,"<"&(STATS!$A10+1)/24)) -> 0 | C10: =IF(OR(WEEKDAY(C$1,2)=6,WEEKDAY(C$1,2)=7),"WE",COUNTIFS(visiteurs!$A$2:$A$10000,STATS!C$1,visiteurs!$B$2:$B$10000,">="&STATS!$A10/24,visiteurs!$B$2:$B$10000,"<"&(STATS!$A10+1)/24)) -> 0 | D10: =IF(OR(WEEKDAY(D$1,2)=6,WEEKDAY(D$1,2)=7),"WE",COUNTIFS(visiteurs!$A$2:$A$10000,STATS!D$1,visiteurs!$B$2:$B$10000,">="&STATS!$A10/24,visiteurs!$B$2:$B$10000,"<"&(STATS!$A10+1)/24)) -> 0 | E10: =IF(OR(WEEKDAY(E$1,2)=6,WEEKDAY(E$1,2)=7),"WE",COUNTIFS(visiteurs!$A$2:$A$10000,STATS!E$1,visiteurs!$B$2:$B$10000,">="&STATS!$A10/24,visiteurs!$B$2:$B$10000,"<"&(STATS!$A10+1)/24)) -> WE | F10: =IF(OR(WEEKDAY(F$1,2)=6,WEEKDAY(F$1,2)=7),"WE",COUNTIFS(visiteurs!$A$2:$A$10000,STATS!F$1,visiteurs!$B$2:$B$10000,">="&STATS!$A10/24,visiteurs!$B$2:$B$10000,"<"&(STATS!$A10+1)/24)) -> WE | G10: =IF(OR(WEEKDAY(G$1,2)=6,WEEKDAY(G$1,2)=7),"WE",COUNTIFS(visiteurs!$A$2:$A$10000,STATS!G$1,visiteurs!$B$2:$B$10000,">="&STATS!$A10/24,visiteurs!$B$2:$B$10000,"<"&(STATS!$A10+1)/24)) -> 0 | H10: =IF(OR(WEEKDAY(H$1,2)=6,WEEKDAY(H$1,2)=7),"WE",COUNTIFS(visiteurs!$A$2:$A$10000,STATS!H$1,visiteurs!$B$2:$B$10000,">="&STATS!$A10/24,visiteurs!$B$2:$B$10000,"<"&(STATS!$A10+1)/24)) -> 0 | I10: =IF(OR(WEEKDAY(I$1,2)=6,WEEKDAY(I$1,2)=7),"WE",COUNTIFS(visiteurs!$A$2:$A$10000,STATS!I$1,visiteurs!$B$2:$B$10000,">="&STATS!$A10/24,visiteurs!$B$2:$B$10000,"<"&(STATS!$A10+1)/24)) -> 0 | ... AF10: =IF(OR(WEEKDAY(AF$1,2)=6,WEEKDAY(AF$1,2)=7),"WE",COUNTIFS(visiteurs!$A$2:$A$10000,STATS!AF$1,visiteurs!$B$2:$B$10000,">="&STATS!$A10/24,visiteurs!$B$2:$B$10000,"<"&(STATS!$A10+1)/24)) -> 0 | AG10: =SUM(B10:AF10) -> 0
A11: 17 | B11: =IF(OR(WEEKDAY(B$1,2)=6,WEEKDAY(B$1,2)=7),"WE",COUNTIFS(visiteurs!$A$2:$A$10000,STATS!B$1,visiteurs!$B$2:$B$10000,">="&STATS!$A11/24,visiteurs!$B$2:$B$10000,"<"&(STATS!$A11+1)/24)) -> 0 | C11: =IF(OR(WEEKDAY(C$1,2)=6,WEEKDAY(C$1,2)=7),"WE",COUNTIFS(visiteurs!$A$2:$A$10000,STATS!C$1,visiteurs!$B$2:$B$10000,">="&STATS!$A11/24,visiteurs!$B$2:$B$10000,"<"&(STATS!$A11+1)/24)) -> 0 | D11: =IF(OR(WEEKDAY(D$1,2)=6,WEEKDAY(D$1,2)=7),"WE",COUNTIFS(visiteurs!$A$2:$A$10000,STATS!D$1,visiteurs!$B$2:$B$10000,">="&STATS!$A11/24,visiteurs!$B$2:$B$10000,"<"&(STATS!$A11+1)/24)) -> 0 | E11: =IF(OR(WEEKDAY(E$1,2)=6,WEEKDAY(E$1,2)=7),"WE",COUNTIFS(visiteurs!$A$2:$A$10000,STATS!E$1,visiteurs!$B$2:$B$10000,">="&STATS!$A11/24,visiteurs!$B$2:$B$10000,"<"&(STATS!$A11+1)/24)) -> WE | F11: =IF(OR(WEEKDAY(F$1,2)=6,WEEKDAY(F$1,2)=7),"WE",COUNTIFS(visiteurs!$A$2:$A$10000,STATS!F$1,visiteurs!$B$2:$B$10000,">="&STATS!$A11/24,visiteurs!$B$2:$B$10000,"<"&(STATS!$A11+1)/24)) -> WE | G11: =IF(OR(WEEKDAY(G$1,2)=6,WEEKDAY(G$1,2)=7),"WE",COUNTIFS(visiteurs!$A$2:$A$10000,STATS!G$1,visiteurs!$B$2:$B$10000,">="&STATS!$A11/24,visiteurs!$B$2:$B$10000,"<"&(STATS!$A11+1)/24)) -> 0 | H11: =IF(OR(WEEKDAY(H$1,2)=6,WEEKDAY(H$1,2)=7),"WE",COUNTIFS(visiteurs!$A$2:$A$10000,STATS!H$1,visiteurs!$B$2:$B$10000,">="&STATS!$A11/24,visiteurs!$B$2:$B$10000,"<"&(STATS!$A11+1)/24)) -> 0 | I11: =IF(OR(WEEKDAY(I$1,2)=6,WEEKDAY(I$1,2)=7),"WE",COUNTIFS(visiteurs!$A$2:$A$10000,STATS!I$1,visiteurs!$B$2:$B$10000,">="&STATS!$A11/24,visiteurs!$B$2:$B$10000,"<"&(STATS!$A11+1)/24)) -> 0 | ... AF11: =IF(OR(WEEKDAY(AF$1,2)=6,WEEKDAY(AF$1,2)=7),"WE",COUNTIFS(visiteurs!$A$2:$A$10000,STATS!AF$1,visiteurs!$B$2:$B$10000,">="&STATS!$A11/24,visiteurs!$B$2:$B$10000,"<"&(STATS!$A11+1)/24)) -> 0 | AG11: =SUM(B11:AF11) -> 0
A12: TOTAL | B12: =SUM(B2:B11) -> 2 | C12: =SUM(C2:C11) -> 2 | D12: =SUM(D2:D11) -> 0 | G12: =SUM(G2:G11) -> 0 | H12: =SUM(H2:H11) -> 0 | I12: =SUM(I2:I11) -> 0 | J12: =SUM(J2:J11) -> 0 | K12: =SUM(K2:K11) -> 0 | N12: =SUM(N2:N11) -> 0 | O12: =SUM(O2:O11) -> 0 | P12: =SUM(P2:P11) -> 0 | Q12: =SUM(Q2:Q11) -> 0 | R12: =SUM(R2:R11) -> 0 | U12: =SUM(U2:U11) -> 0 | V12: =SUM(V2:V11) -> 0 | W12: =SUM(W2:W11) -> 0 | X12: =SUM(X2:X11) -> 0 | Y12: =SUM(Y2:Y11) -> 0 | AB12: =SUM(AB2:AB11) -> 0 | AC12: =SUM(AC2:AC11) -> 0 | AD12: =SUM(AD2:AD11) -> 0 | AE12: =SUM(AE2:AE11) -> 0 | AF12: =SUM(AF2:AF11) -> 0 | AG12: =SUM(AG2:AG11) -> 4
