Workbook

Sheet tableau1
A1: NOM | B1: ARGENT | C1: LIEU | D1: PrésentTabl2?
A2: Nom1 | B2: 100 | C2: Lieu1 | D2: =COUNTIFS(tableau2!A:A,tableau1!A2,tableau2!B:B,tableau1!B2,tableau2!C:C,tableau1!C2) -> 1
A3: Nom2 | B3: 101 | C3: Lieu2 | D3: =COUNTIFS(tableau2!A:A,tableau1!A3,tableau2!B:B,tableau1!B3,tableau2!C:C,tableau1!C3) -> 1
A4: Nom3 | B4: 102 | C4: Lieu3 | D4: =COUNTIFS(tableau2!A:A,tableau1!A4,tableau2!B:B,tableau1!B4,tableau2!C:C,tableau1!C4) -> 0
A5: Nom4 | B5: 103 | C5: Lieu4 | D5: =COUNTIFS(tableau2!A:A,tableau1!A5,tableau2!B:B,tableau1!B5,tableau2!C:C,tableau1!C5) -> 0
A6: Nom5 | B6: 104 | C6: Lieu5 | D6: =COUNTIFS(tableau2!A:A,tableau1!A6,tableau2!B:B,tableau1!B6,tableau2!C:C,tableau1!C6) -> 0
A7: Nom6 | B7: 105 | C7: Lieu6 | D7: =COUNTIFS(tableau2!A:A,tableau1!A7,tableau2!B:B,tableau1!B7,tableau2!C:C,tableau1!C7) -> 0
A8: Nom7 | B8: 106 | C8: Lieu7 | D8: =COUNTIFS(tableau2!A:A,tableau1!A8,tableau2!B:B,tableau1!B8,tableau2!C:C,tableau1!C8) -> 0
A9: Nom8 | B9: 107 | C9: Lieu8 | D9: =COUNTIFS(tableau2!A:A,tableau1!A9,tableau2!B:B,tableau1!B9,tableau2!C:C,tableau1!C9) -> 0
A10: Nom9 | B10: 108 | C10: Lieu9 | D10: =COUNTIFS(tableau2!A:A,tableau1!A10,tableau2!B:B,tableau1!B10,tableau2!C:C,tableau1!C10) -> 0
A11: Nom10 | B11: 109 | C11: Lieu10 | D11: =COUNTIFS(tableau2!A:A,tableau1!A11,tableau2!B:B,tableau1!B11,tableau2!C:C,tableau1!C11) -> 1
A12: Nom11 | B12: 110 | C12: Lieu11 | D12: =COUNTIFS(tableau2!A:A,tableau1!A12,tableau2!B:B,tableau1!B12,tableau2!C:C,tableau1!C12) -> 1
A13: Nom12 | B13: 111 | C13: Lieu12 | D13: =COUNTIFS(tableau2!A:A,tableau1!A13,tableau2!B:B,tableau1!B13,tableau2!C:C,tableau1!C13) -> 1
... A26: Nom25 | B26: 124 | C26: Lieu25 | D26: =COUNTIFS(tableau2!A:A,tableau1!A26,tableau2!B:B,tableau1!B26,tableau2!C:C,tableau1!C26) -> 1

Sheet tableau2
A1: NOM | B1: ARGENT | C1: LIEU
A2: Nom1 | B2: 100 | C2: Lieu1
A3: Nom2 | B3: 101 | C3: Lieu2
A4: Nom10 | B4: 109 | C4: Lieu10
A5: Nom11 | B5: 110 | C5: Lieu11
A6: Nom12 | B6: 111 | C6: Lieu12
A7: Nom13 | B7: 112 | C7: Lieu13
A8: Nom14 | B8: 113 | C8: Lieu14
A9: Nom15 | B9: 114 | C9: Lieu15
A10: Nom16 | B10: 115 | C10: Lieu16
A11: Nom17 | B11: 116 | C11: Lieu17
A12: Nom18 | B12: 117 | C12: Lieu18
A13: Nom23 | B13: 122 | C13: Lieu23
... A15: Nom25 | B15: 124 | C15: Lieu25
