Workbook
Name choix_binaire: [1]Données!$A$30:$A$31
Name Depenses: [1]Données!$A$38:$A$56
Name Devise: [1]Données!$A$33:$A$36
Name Moyen_paiement: [1]Données!$A$70:$A$75

Sheet BDD
A1: MON BESOIN EST D'AVOIR LES SOMMES DES DÉPENSES, PAR DEVISE, UNIQUEMENT LORSQUE CELA EST PAYÉ PAR "Espèce" ou "CB Perso"
A2: Nom
A3: TYPE DE DEPENSE | B3: RAISON | C3: FOURNISSEUR | D3: N° FACTURE | E3: DATE FACTURE | F3: RECU | G3: DATE D'ACQUITTEMENT | H3: MONTANT HT | I3: TVA | J3: MONTANT TTC | K3: DEVISE | L3: TTC EUR | M3: MOYEN
L4: =IFERROR(VLOOKUP(Tableau1[[#This Row],[DEVISE]],Listes!$A$1:$B$100,2,0)*Tableau1[[#This Row],[MONTANT TTC ]],"")
L5: =IFERROR(VLOOKUP(Tableau1[[#This Row],[DEVISE]],Listes!$A$1:$B$100,2,0)*Tableau1[[#This Row],[MONTANT TTC ]],"")
L6: =IFERROR(VLOOKUP(Tableau1[[#This Row],[DEVISE]],Listes!$A$1:$B$100,2,0)*Tableau1[[#This Row],[MONTANT TTC ]],"")
J7: 23 | K7: EUR | L7: =IFERROR(VLOOKUP(Tableau1[[#This Row],[DEVISE]],Listes!$A$1:$B$100,2,0)*Tableau1[[#This Row],[MONTANT TTC ]],"") -> 23 | M7: Espèce
J8: 42 | K8: USD | L8: =IFERROR(VLOOKUP(Tableau1[[#This Row],[DEVISE]],Listes!$A$1:$B$100,2,0)*Tableau1[[#This Row],[MONTANT TTC ]],"") -> 37.611 | M8: CB Perso
J9: 54 | K9: EUR | L9: =IFERROR(VLOOKUP(Tableau1[[#This Row],[DEVISE]],Listes!$A$1:$B$100,2,0)*Tableau1[[#This Row],[MONTANT TTC ]],"") -> 54 | M9: CB Perso
J10: 12 | K10: USD | L10: =IFERROR(VLOOKUP(Tableau1[[#This Row],[DEVISE]],Listes!$A$1:$B$100,2,0)*Tableau1[[#This Row],[MONTANT TTC ]],"") -> 10.746 | M10: CB Pro
J11: 8 | K11: USD | L11: =IFERROR(VLOOKUP(Tableau1[[#This Row],[DEVISE]],Listes!$A$1:$B$100,2,0)*Tableau1[[#This Row],[MONTANT TTC ]],"") -> 7.164 | M11: Caisse
J12: 34 | K12: EUR | L12: =IFERROR(VLOOKUP(Tableau1[[#This Row],[DEVISE]],Listes!$A$1:$B$100,2,0)*Tableau1[[#This Row],[MONTANT TTC ]],"") -> 34 | M12: Carte carburant
J13: 18 | K13: EUR | L13: =IFERROR(VLOOKUP(Tableau1[[#This Row],[DEVISE]],Listes!$A$1:$B$100,2,0)*Tableau1[[#This Row],[MONTANT TTC ]],"") -> 18 | M13: CB Pro
J14: 65 | K14: USD | L14: =IFERROR(VLOOKUP(Tableau1[[#This Row],[DEVISE]],Listes!$A$1:$B$100,2,0)*Tableau1[[#This Row],[MONTANT TTC ]],"") -> 58.2075 | M14: Espèce
L15: =IFERROR(VLOOKUP(Tableau1[[#This Row],[DEVISE]],Listes!$A$1:$B$100,2,0)*Tableau1[[#This Row],[MONTANT TTC ]],"")
L16: =IFERROR(VLOOKUP(Tableau1[[#This Row],[DEVISE]],Listes!$A$1:$B$100,2,0)*Tableau1[[#This Row],[MONTANT TTC ]],"")
L17: =IFERROR(VLOOKUP(Tableau1[[#This Row],[DEVISE]],Listes!$A$1:$B$100,2,0)*Tableau1[[#This Row],[MONTANT TTC ]],"")
L18: =IFERROR(VLOOKUP(Tableau1[[#This Row],[DEVISE]],Listes!$A$1:$B$100,2,0)*Tableau1[[#This Row],[MONTANT TTC ]],"")
L19: =IFERROR(VLOOKUP(Tableau1[[#This Row],[DEVISE]],Listes!$A$1:$B$100,2,0)*Tableau1[[#This Row],[MONTANT TTC ]],"")
L20: =IFERROR(VLOOKUP(Tableau1[[#This Row],[DEVISE]],Listes!$A$1:$B$100,2,0)*Tableau1[[#This Row],[MONTANT TTC ]],"")
L21: =IFERROR(VLOOKUP(Tableau1[[#This Row],[DEVISE]],Listes!$A$1:$B$100,2,0)*Tableau1[[#This Row],[MONTANT TTC ]],"")
L22: =IFERROR(VLOOKUP(Tableau1[[#This Row],[DEVISE]],Listes!$A$1:$B$100,2,0)*Tableau1[[#This Row],[MONTANT TTC ]],"")
L23: =IFERROR(VLOOKUP(Tableau1[[#This Row],[DEVISE]],Listes!$A$1:$B$100,2,0)*Tableau1[[#This Row],[MONTANT TTC ]],"")
L24: =IFERROR(VLOOKUP(Tableau1[[#This Row],[DEVISE]],Listes!$A$1:$B$100,2,0)*Tableau1[[#This Row],[MONTANT TTC ]],"")
L25: =IFERROR(VLOOKUP(Tableau1[[#This Row],[DEVISE]],Listes!$A$1:$B$100,2,0)*Tableau1[[#This Row],[MONTANT TTC ]],"")
L26: =IFERROR(VLOOKUP(Tableau1[[#This Row],[DEVISE]],Listes!$A$1:$B$100,2,0)*Tableau1[[#This Row],[MONTANT TTC ]],"")
... L36: =IFERROR(VLOOKUP(Tableau1[[#This Row],[DEVISE]],Listes!$A$1:$B$100,2,0)*Tableau1[[#This Row],[MONTANT TTC ]],"")
L39: DEPENSES PERSO
L40: =SUMIF(Tableau1[MOYEN],"Espèce",Tableau1[TTC EUR])+SUMIF(Tableau1[MOYEN],"CB Perso",Tableau1[TTC EUR]) -> 172.8185 | M40: EUR

Sheet Listes
A1: USD | B1: 0.8955 | C1: Espèce
A2: EUR | B2: 1 | C2: CB Perso
C3: CB Pro
C4: Carte carburant
C5: Caisse

Sheet TCD
A1: MOYEN | B1: (Plusieurs éléments)
A3: Étiquettes de lignes | B3: Somme de MONTANT TTC | C3: Somme de TTC EUR
A4: EUR | B4: 77 | C4: 77
A5: USD | B5: 107 | C5: 95.8185
A6: Total général | B6: 184 | C6: 172.8185
