Workbook

Sheet Feuil1
B6: TAPER LE NOM D'UNE VILLE : | E6: Ambérieux-en-Dombes | G6: si quand on commence à taper ca peut proposer les villes correspondantes ca serait top
B7: NUMERO INSEE CORRESPONDANT : | E7: =IFERROR(INDEX('DONNEES INSEE'!$A$2:$A$10000,MATCH($E$6,'DONNEES INSEE'!$B$2:$B$10000,0)),"") -> 01005
A40: Code | B40: Communes | C40: population des 0-14 ans - 2012 | D40: population des 15-29 ans - 2012 | E40: population des 30-44 ans - 2012 | F40: population des 45-59 ans - 2012 | G40: population des 60-74 ans - 2012 | H40: population des 75 ans ou plus - 2012 | I40: population scolarisée 2-5 ans - 2012 | J40: population scolarisée 6-14 ans - 2012 | K40: population scolarisée 15-17 ans - 2012 | L40: population scolarisée 18-24 ans - 2012 | M40: population scolarisée 25-29 ans - 2012 | N40: taux de chômage des 15-64 ans - 2012 | O40: nb de ménages avec famille(s) - 2012 | P40: nb de femmes - 2012 | Q40: part des artisans com. chefs d'entr. - 2012 | R40: part des cadres et prof. intel. sup. - 2012 | S40: part des ouvriers - 2012 | T40: part des professions intermédiaires - 2012 | U40: part des retraités - 2012 | V40: part des autres - 2012 | W40: population, 2013 | X40: retraités pré-retraités 15-64 ans - 2012 | Y40: NB LICENCIES
A41: =E7 -> 01005 | B41: =IFERROR(VLOOKUP($A41,'DONNEES INSEE'!$A$2:$X$10000,COLUMN(),0),"") -> Ambérieux-en-Dombes | C41: =IFERROR(VLOOKUP($A41,'DONNEES INSEE'!$A$2:$X$10000,COLUMN(),0),"") -> 338 | D41: =IFERROR(VLOOKUP($A41,'DONNEES INSEE'!$A$2:$X$10000,COLUMN(),0),"") -> 301 | E41: =IFERROR(VLOOKUP($A41,'DONNEES INSEE'!$A$2:$X$10000,COLUMN(),0),"") -> 348 | F41: =IFERROR(VLOOKUP($A41,'DONNEES INSEE'!$A$2:$X$10000,COLUMN(),0),"") -> 359 | G41: =IFERROR(VLOOKUP($A41,'DONNEES INSEE'!$A$2:$X$10000,COLUMN(),0),"") -> 203 | H41: =IFERROR(VLOOKUP($A41,'DONNEES INSEE'!$A$2:$X$10000,COLUMN(),0),"") -> 93 | I41: =IFERROR(VLOOKUP($A41,'DONNEES INSEE'!$A$2:$X$10000,COLUMN(),0),"") -> 64.013611 | ... X41: =IFERROR(VLOOKUP($A41,'DONNEES INSEE'!$A$2:$X$10000,COLUMN(),0),"") -> 100.59282

Sheet DONNEES INSEE
A1: Code | B1: Communes | C1: population des 0-14 ans - 2012 | D1: population des 15-29 ans - 2012 | E1: population des 30-44 ans - 2012 | F1: population des 45-59 ans - 2012 | G1: population des 60-74 ans - 2012 | H1: population des 75 ans ou plus - 2012 | I1: population scolarisée 2-5 ans - 2012 | J1: population scolarisée 6-14 ans - 2012 | K1: population scolarisée 15-17 ans - 2012 | L1: population scolarisée 18-24 ans - 2012 | M1: population scolarisée 25-29 ans - 2012 | N1: taux de chômage des 15-64 ans - 2012 | O1: nb de ménages avec famille(s) - 2012 | P1: nb de femmes - 2012 | Q1: part des artisans com. chefs d'entr. - 2012 | R1: part des cadres et prof. intel. sup. - 2012 | S1: part des ouvriers - 2012 | T1: part des professions intermédiaires - 2012 | U1: part des retraités - 2012 | V1: part des autres - 2012 | W1: population, 2013 | X1: retraités pré-retraités 15-64 ans - 2012
A2: 01001 | B2: L'Abergement-Clémenciat | C2: 178 | D2: 97 | E2: 165 | F2: 151 | G2: 128 | H2: 58 | I2: 35.861542 | J2: 106.58846 | K2: 29.884621 | L2: 16.93462 | M2: 0 | N2: 8.5 | O2: 227.12308 | P2: 378.5382 | Q2: 0.6 | R2: 12.9 | S2: 11.7 | T2: 14.2 | U2: 27 | V2: =100-SUM(Q2:U2) -> 33.6 | W2: 767 | X2: 59.76923
A3: 01002 | B3: L'Abergement-de-Varey | C3: 44 | D3: 35 | E3: 60 | F3: 38 | G3: 36 | H3: 21 | I3: 10.04274 | J3: 28.119651 | K3: 4.0170898 | L3: 4.0170898 | M3: 0 | N3: 7.7 | O3: 72.307693 | P3: 104.4446 | Q3: 2.1 | R3: 10.6 | S3: 16.9 | T3: 27.5 | U3: 33.9 | V3: =100-SUM(Q3:U3) -> 9 | W3: 236 | X3: 16.06838
A4: 01004 | B4: Ambérieu-en-Bugey | C4: 3038 | D4: 2904 | E4: 2722 | F4: 2655 | G4: 1737 | H4: 1176 | I4: 565.49438 | J4: 1687.0222 | K4: 488.92334 | L4: 441.9292 | M4: 57.918289 | N4: 14.2 | O4: 3841.6526 | P4: 7379.7172 | Q4: 2.8 | R4: 6.5 | S4: 17.2 | T4: 15.6 | U4: 25.6 | V4: =100-SUM(Q4:U4) -> 32.3 | W4: 14359 | X4: 726.37445
A5: 01005 | B5: Ambérieux-en-Dombes | C5: 338 | D5: 301 | E5: 348 | F5: 359 | G5: 203 | H5: 93 | I5: 64.013611 | J5: 207.28218 | K5: 75.19059 | L5: 44.70792 | M5: 2.0321801 | N5: 6.1 | O5: 491.78714 | P5: 829.12862 | Q5: 5.6 | R5: 8.1 | S5: 14.7 | T5: 17.5 | U5: 25.3 | V5: =100-SUM(Q5:U5) -> 28.8 | W5: 1635 | X5: 100.59282
A6: 01006 | B6: Ambléon | C6: 12 | D6: 18 | E6: 24 | F6: 27 | G6: 20 | H6: 11 | I6: 1.96429 | J6: 6.875 | K6: 5.8928599 | L6: 1.96429 | M6: 0 | N6: 3.6 | O6: 35.35714 | P6: 51.0714 | Q6: 0 | R6: 4.7 | S6: 9.3 | T6: 18.6 | U6: 40.7 | V6: =100-SUM(Q6:U6) -> 26.7 | W6: 108 | X6: 9.8214302
A7: 01007 | B7: Ambronay | C7: 547 | D7: 350 | E7: 565 | F7: 468 | G7: 348 | H7: 159 | I7: 118.51849 | J7: 316.68138 | K7: 82.488869 | L7: 34.13332 | M7: 3.7925899 | N7: 8.5 | O7: 696.88867 | P7: 1264.8292 | Q7: 3.3 | R7: 9.7 | S7: 15.4 | T7: 17.9 | U7: 23.5 | V7: =100-SUM(Q7:U7) -> 30.2 | W7: 2503 | X7: 133.68884
A8: 01008 | B8: Ambutrix | C8: 156 | D8: 127 | E8: 165 | F8: 168 | G8: 89 | H8: 34 | I8: 32.778229 | J8: 89.395161 | K8: 22.84543 | L8: 12.91263 | M8: 0.99327999 | N8: 7.5 | O8: 214.54839 | P8: 341.688 | Q8: 2.7 | R8: 12.2 | S8: 18.1 | T8: 18.8 | U8: 21.5 | V8: =100-SUM(Q8:U8) -> 26.7 | W8: 744 | X8: 43.7043
