Workbook

Sheet Feuil1
B2: Objet | C2: Date | D2: Résultat | E2: Positif
B3: A | C3: 43900 | D3: 20 | E3: =(D3>0)*1 -> 1
B4: B | C4: 43932 | D4: 150 | E4: =(D4>0)*1 -> 1
B5: C | C5: 43966 | D5: 10 | E5: =(D5>0)*1 -> 1
B6: D | C6: 43968 | D6: -50 | E6: =(D6>0)*1 -> 0
B7: E | C7: 43969 | D7: -10 | E7: =(D7>0)*1 -> 0
B8: F | C8: 44014 | D8: 20 | E8: =(D8>0)*1 -> 1
B9: G | C9: 44124 | D9: 30 | E9: =(D9>0)*1 -> 1
B10: H | C10: 44126 | D10: -120 | E10: =(D10>0)*1 -> 0
B11: I | C11: 44160 | D11: 10 | E11: =(D11>0)*1 -> 1
B12: J | C12: 44176 | D12: 30 | E12: =(D12>0)*1 -> 1

Sheet Feuil2
B2: Mois | C2: Nombre d'opérations | D2: Taux de réussite
B3: 43831 | C3: =COUNTIFS(Feuil1!$C$3:$C$12,">="&$B3,Feuil1!$C$3:$C$12,"<"&EDATE($B3,1)) -> 0 | D3: =IFERROR(COUNTIFS(Feuil1!$C$3:$C$12,">="&$B3,Feuil1!$C$3:$C$12,"<"&EDATE($B3,1),Feuil1!$D$3:$D$12,">0")/$C3,"")
B4: =EDATE(B3,1) -> 43862 | C4: =COUNTIFS(Feuil1!$C$3:$C$12,">="&$B4,Feuil1!$C$3:$C$12,"<"&EDATE($B4,1)) -> 0 | D4: =IFERROR(COUNTIFS(Feuil1!$C$3:$C$12,">="&$B4,Feuil1!$C$3:$C$12,"<"&EDATE($B4,1),Feuil1!$D$3:$D$12,">0")/$C4,"")
B5: =EDATE(B4,1) -> 43891 | C5: =COUNTIFS(Feuil1!$C$3:$C$12,">="&$B5,Feuil1!$C$3:$C$12,"<"&EDATE($B5,1)) -> 1 | D5: =IFERROR(COUNTIFS(Feuil1!$C$3:$C$12,">="&$B5,Feuil1!$C$3:$C$12,"<"&EDATE($B5,1),Feuil1!$D$3:$D$12,">0")/$C5,"") -> 1
B6: =EDATE(B5,1) -> 43922 | C6: =COUNTIFS(Feuil1!$C$3:$C$12,">="&$B6,Feuil1!$C$3:$C$12,"<"&EDATE($B6,1)) -> 1 | D6: =IFERROR(COUNTIFS(Feuil1!$C$3:$C$12,">="&$B6,Feuil1!$C$3:$C$12,"<"&EDATE($B6,1),Feuil1!$D$3:$D$12,">0")/$C6,"") -> 1
B7: =EDATE(B6,1) -> 43952 | C7: =COUNTIFS(Feuil1!$C$3:$C$12,">="&$B7,Feuil1!$C$3:$C$12,"<"&EDATE($B7,1)) -> 3 | D7: =IFERROR(COUNTIFS(Feuil1!$C$3:$C$12,">="&$B7,Feuil1!$C$3:$C$12,"<"&EDATE($B7,1),Feuil1!$D$3:$D$12,">0")/$C7,"") -> 0.33333333
B8: =EDATE(B7,1) -> 43983 | C8: =COUNTIFS(Feuil1!$C$3:$C$12,">="&$B8,Feuil1!$C$3:$C$12,"<"&EDATE($B8,1)) -> 0 | D8: =IFERROR(COUNTIFS(Feuil1!$C$3:$C$12,">="&$B8,Feuil1!$C$3:$C$12,"<"&EDATE($B8,1),Feuil1!$D$3:$D$12,">0")/$C8,"")
B9: =EDATE(B8,1) -> 44013 | C9: =COUNTIFS(Feuil1!$C$3:$C$12,">="&$B9,Feuil1!$C$3:$C$12,"<"&EDATE($B9,1)) -> 1 | D9: =IFERROR(COUNTIFS(Feuil1!$C$3:$C$12,">="&$B9,Feuil1!$C$3:$C$12,"<"&EDATE($B9,1),Feuil1!$D$3:$D$12,">0")/$C9,"") -> 1
B10: =EDATE(B9,1) -> 44044 | C10: =COUNTIFS(Feuil1!$C$3:$C$12,">="&$B10,Feuil1!$C$3:$C$12,"<"&EDATE($B10,1)) -> 0 | D10: =IFERROR(COUNTIFS(Feuil1!$C$3:$C$12,">="&$B10,Feuil1!$C$3:$C$12,"<"&EDATE($B10,1),Feuil1!$D$3:$D$12,">0")/$C10,"")
B11: =EDATE(B10,1) -> 44075 | C11: =COUNTIFS(Feuil1!$C$3:$C$12,">="&$B11,Feuil1!$C$3:$C$12,"<"&EDATE($B11,1)) -> 0 | D11: =IFERROR(COUNTIFS(Feuil1!$C$3:$C$12,">="&$B11,Feuil1!$C$3:$C$12,"<"&EDATE($B11,1),Feuil1!$D$3:$D$12,">0")/$C11,"")
B12: =EDATE(B11,1) -> 44105 | C12: =COUNTIFS(Feuil1!$C$3:$C$12,">="&$B12,Feuil1!$C$3:$C$12,"<"&EDATE($B12,1)) -> 2 | D12: =IFERROR(COUNTIFS(Feuil1!$C$3:$C$12,">="&$B12,Feuil1!$C$3:$C$12,"<"&EDATE($B12,1),Feuil1!$D$3:$D$12,">0")/$C12,"") -> 0.5
B13: =EDATE(B12,1) -> 44136 | C13: =COUNTIFS(Feuil1!$C$3:$C$12,">="&$B13,Feuil1!$C$3:$C$12,"<"&EDATE($B13,1)) -> 1 | D13: =IFERROR(COUNTIFS(Feuil1!$C$3:$C$12,">="&$B13,Feuil1!$C$3:$C$12,"<"&EDATE($B13,1),Feuil1!$D$3:$D$12,">0")/$C13,"") -> 1
B14: =EDATE(B13,1) -> 44166 | C14: =COUNTIFS(Feuil1!$C$3:$C$12,">="&$B14,Feuil1!$C$3:$C$12,"<"&EDATE($B14,1)) -> 1 | D14: =IFERROR(COUNTIFS(Feuil1!$C$3:$C$12,">="&$B14,Feuil1!$C$3:$C$12,"<"&EDATE($B14,1),Feuil1!$D$3:$D$12,">0")/$C14,"") -> 1
C15: =SUM(C3:C14) -> 10

Sheet TCD
A3: Étiquettes de lignes | B3: Nombre d'opérations | C3: Taux réussite
A4: 2020
A5: mars | B5: 1 | C5: 1
A6: avr | B6: 1 | C6: 1
A7: mai | B7: 3 | C7: 0.33333333
A8: juil | B8: 1 | C8: 1
A9: oct | B9: 2 | C9: 0.5
A10: nov | B10: 1 | C10: 1
A11: déc | B11: 1 | C11: 1
A12: Total général | B12: 10 | C12: 0.7
