Workbook

Sheet Feuil1
D1: 2017 | E1: 2018 | F1: 2019 | G1: 2020 | H1: 2021 | I1: 2022 | J1: 2023 | K1: 2024 | L1: 2025 | O1: Cas 1 :
A2: CHIFFRE D'AFFAIRES | D2: =HLOOKUP(D$1,Références!$B$1:$J$2,2,0)*$O$2 -> 9.6 | E2: =HLOOKUP(E$1,Références!$B$1:$J$2,2,0)*$O$2 -> 10.4 | F2: =HLOOKUP(F$1,Références!$B$1:$J$2,2,0)*$O$2 -> 11.2 | G2: =HLOOKUP(G$1,Références!$B$1:$J$2,2,0)*$O$2 -> 12 | H2: =HLOOKUP(H$1,Références!$B$1:$J$2,2,0)*$O$2 -> 12.8 | I2: =HLOOKUP(I$1,Références!$B$1:$J$2,2,0)*$O$2 -> 13.6 | J2: =HLOOKUP(J$1,Références!$B$1:$J$2,2,0)*$O$2 -> 14.4 | K2: =HLOOKUP(K$1,Références!$B$1:$J$2,2,0)*$O$2 -> 15.2 | L2: =HLOOKUP(L$1,Références!$B$1:$J$2,2,0)*$O$2 -> 16 | N2: Conjonture économique défavorable. % du CA normal | O2: 0.8
B3: % Croissance | E3: =(E2/D2)-1 -> 0.083333333 | F3: =(F2/E2)-1 -> 0.076923077 | G3: =(G2/F2)-1 -> 0.071428571 | H3: =(H2/G2)-1 -> 0.066666667 | I3: =(I2/H2)-1 -> 0.0625 | J3: =(J2/I2)-1 -> 0.058823529 | K3: =(K2/J2)-1 -> 0.055555556 | L3: =(L2/K2)-1 -> 0.052631579 | N3: Revalorisation des subventions d'exploitation
A4: 74 | B4: SUBVENTIONS D'EXPLOITATION | D4: 3 | E4: 3 | F4: 3 | G4: 3 | H4: 3 | I4: 3 | J4: 3 | K4: 3 | L4: 3
A5: 72 | B5: PRODUCTION IMMOBILISEE | D5: 1 | E5: 1 | F5: 1 | G5: 1 | H5: 1 | I5: 1 | J5: 1 | K5: 1 | L5: 1
A6: PRODUCTION ELARGIE | D6: =D2+D4+D5 -> 13.6 | E6: =E2+E4+E5 -> 14.4 | F6: =F2+F4+F5 -> 15.2 | G6: =G2+G4+G5 -> 16 | H6: =H2+H4+H5 -> 16.8 | I6: =I2+I4+I5 -> 17.6 | J6: =J2+J4+J5 -> 18.4 | K6: =K2+K4+K5 -> 19.2 | L6: =L2+L4+L5 -> 20
B7: % Croissance | E7: =(E6/D6)-1 -> 0.058823529 | F7: =(F6/E6)-1 -> 0.055555556 | G7: =(G6/F6)-1 -> 0.052631579 | H7: =(H6/G6)-1 -> 0.05 | I7: =(I6/H6)-1 -> 0.047619048 | J7: =(J6/I6)-1 -> 0.045454545 | K7: =(K6/J6)-1 -> 0.043478261 | L7: =(L6/K6)-1 -> 0.041666667
A8: 60-61-62 | B8: CONSOMMATIONS EXTERNES | D8: 9 | E8: 9 | F8: 9 | G8: 9 | H8: 9 | I8: 9 | J8: 9 | K8: 9 | L8: 9
A9: VALEUR AJOUTEE | D9: =+D6-D8 -> 4.6 | E9: =+E6-E8 -> 5.4 | F9: =+F6-F8 -> 6.2 | G9: =+G6-G8 -> 7 | H9: =+H6-H8 -> 7.8 | I9: =+I6-I8 -> 8.6 | J9: =+J6-J8 -> 9.4 | K9: =+K6-K8 -> 10.2 | L9: =+L6-L8 -> 11
D13: 2017 | E13: 2018 | F13: 2019 | G13: 2020 | H13: 2021 | I13: 2022 | J13: 2023 | K13: 2024 | L13: 2025 | O13: Cas 2 :
A14: CHIFFRE D'AFFAIRES | D14: =HLOOKUP(D$13,Références!$B$1:$J$3,IF($O$14="OUI",3,2),0) -> 9.6 | E14: =HLOOKUP(E$13,Références!$B$1:$J$3,IF($O$14="OUI",3,2),0) -> 10.4 | F14: =HLOOKUP(F$13,Références!$B$1:$J$3,IF($O$14="OUI",3,2),0) -> 11.2 | G14: =HLOOKUP(G$13,Références!$B$1:$J$3,IF($O$14="OUI",3,2),0) -> 12 | H14: =HLOOKUP(H$13,Références!$B$1:$J$3,IF($O$14="OUI",3,2),0) -> 12.8 | I14: =HLOOKUP(I$13,Références!$B$1:$J$3,IF($O$14="OUI",3,2),0) -> 13.6 | J14: =HLOOKUP(J$13,Références!$B$1:$J$3,IF($O$14="OUI",3,2),0) -> 14.4 | K14: =HLOOKUP(K$13,Références!$B$1:$J$3,IF($O$14="OUI",3,2),0) -> 15.2 | L14: =HLOOKUP(L$13,Références!$B$1:$J$3,IF($O$14="OUI",3,2),0) -> 16 | N14: Conjonture économique défavorable. % du CA normal | O14: OUI
B15: % Croissance | E15: =(E14/D14)-1 -> 0.083333333 | F15: =(F14/E14)-1 -> 0.076923077 | G15: =(G14/F14)-1 -> 0.071428571 | H15: =(H14/G14)-1 -> 0.066666667 | I15: =(I14/H14)-1 -> 0.0625 | J15: =(J14/I14)-1 -> 0.058823529 | K15: =(K14/J14)-1 -> 0.055555556 | L15: =(L14/K14)-1 -> 0.052631579 | N15: Revalorisation des subventions d'exploitation
A16: 74 | B16: SUBVENTIONS D'EXPLOITATION | D16: 3 | E16: 3 | F16: 3 | G16: 3 | H16: 3 | I16: 3 | J16: 3 | K16: 3 | L16: 3
A17: 72 | B17: PRODUCTION IMMOBILISEE | D17: 1 | E17: 1 | F17: 1 | G17: 1 | H17: 1 | I17: 1 | J17: 1 | K17: 1 | L17: 1
A18: PRODUCTION ELARGIE | D18: =D14+D16+D17 -> 13.6 | E18: =E14+E16+E17 -> 14.4 | F18: =F14+F16+F17 -> 15.2 | G18: =G14+G16+G17 -> 16 | H18: =H14+H16+H17 -> 16.8 | I18: =I14+I16+I17 -> 17.6 | J18: =J14+J16+J17 -> 18.4 | K18: =K14+K16+K17 -> 19.2 | L18: =L14+L16+L17 -> 20
B19: % Croissance | E19: =(E18/D18)-1 -> 0.058823529 | F19: =(F18/E18)-1 -> 0.055555556 | G19: =(G18/F18)-1 -> 0.052631579 | H19: =(H18/G18)-1 -> 0.05 | I19: =(I18/H18)-1 -> 0.047619048 | J19: =(J18/I18)-1 -> 0.045454545 | K19: =(K18/J18)-1 -> 0.043478261 | L19: =(L18/K18)-1 -> 0.041666667
A20: 60-61-62 | B20: CONSOMMATIONS EXTERNES | D20: 9 | E20: 9 | F20: 9 | G20: 9 | H20: 9 | I20: 9 | J20: 9 | K20: 9 | L20: 9
A21: VALEUR AJOUTEE | D21: =+D18-D20 -> 4.6 | E21: =+E18-E20 -> 5.4 | F21: =+F18-F20 -> 6.2 | G21: =+G18-G20 -> 7 | H21: =+H18-H20 -> 7.8 | I21: =+I18-I20 -> 8.6 | J21: =+J18-J20 -> 9.4 | K21: =+K18-K20 -> 10.2 | L21: =+L18-L20 -> 11

Sheet Références
B1: 2017 | C1: 2018 | D1: 2019 | E1: 2020 | F1: 2021 | G1: 2022 | H1: 2023 | I1: 2024 | J1: 2025
A2: CHIFFRE D'AFFAIRES NORMAL | B2: 12 | C2: 13 | D2: 14 | E2: 15 | F2: 16 | G2: 17 | H2: 18 | I2: 19 | J2: 20
A3: CHIFFRE D'AFFAIRES DEGRADE | B3: 9.6 | C3: 10.4 | D3: 11.2 | E3: 12 | F3: 12.8 | G3: 13.6 | H3: 14.4 | I3: 15.2 | J3: 16
